{"text_format":"3","workbook":"xlsx","n_sheets":6,"sheets":["Comentarios","Campos_Ingreso_Datos","Desarrollador"," ","Resumen","Listas"],"not_rendered":{"charts":4,"images":85,"macros":1,"defined_names":36,"pivot_tables":1},"read":"whole","date_system":"1900"}

{"sheet":"Comentarios","index":0,"n_rows":175,"n_cols":5,"rows_kept":175,"hidden":true}
["RUTA","Formulada","Comentario","Segmento","Color"]
[{"$f":"SUBSTITUTE(SUBSTITUTE(FORMULATEXTO_Act(Comentarios[[#This Row],[Formulada]]),\"=\",\"\"),\"'\",\"\")","v":" !$B$136"},{"$f":"' '!$B$136","v":"Actividad principal del contribuyente "},"Debe tenerse en cuenta que la actividad principal debe corresponder con aquella que mayores ingresos le haya generado al contribuyente, de acuerdo con la clasificación de actividades económicas establecida en la Resolución DIAN 000114 de 2020.","Datos Contribuyente","Azul"]
[{"$f":"SUBSTITUTE(SUBSTITUTE(FORMULATEXTO_Act(Comentarios[[#This Row],[Formulada]]),\"=\",\"\"),\"'\",\"\")","v":" !$B$148"},{"$f":"' '!$B$148","v":"Ingreso promedio mensual de los últimos seis meses de vinculación laboral"},"A través del Concepto 1302 de 2019, la DIAN precisó que el ingreso mensual promedio mencionado en el numeral 4 del artículo 206 del ET, corresponde a las sumas que habitual y periódicamente recibe el trabajador en dinero o en especie como contraprestación directa de los servicios que presta, pues lo que se busca establecer es el salario mensual promedio; por esto, se deben considerar los valores que constituyan salario o pago recurrente, y no todos los conceptos señalados en el artículo 103 del ET.\nAdicionalmente, este concepto aclara el término que se debe tener en cuenta para determinar el periodo de los seis meses para el cálculo del ingreso mensual promedio indicando que, cuando el empleado se haya retirado de su trabajo, los seis meses a tener en cuenta son los últimos seis meses de vinculación laboral; en caso de que el empleado continue en su trabajo, se deberán considerar los seis meses del año inmediatamente anterior a aquel en que las cesantías se consignen o se consoliden y queden disponibles en las cuentas individuales, o sean efectivamente pagadas al trabajador. ","Datos Contribuyente","Azul"]
[{"$f":"SUBSTITUTE(SUBSTITUTE(FORMULATEXTO_Act(Comentarios[[#This Row],[Formulada]]),\"=\",\"\"),\"'\",\"\")","v":" !$B$159"},{"$f":"' '!$B$159","v":"Pérdidas fiscales de rentas de trabajo por honorarios y comp. servicios personales generadas en el año gravable 2019 y/o \nsiguientes, sin compensar"},"El artículo 1.2.1.20.6 del Decreto 1625 de 2016 indica que, a partir del año gravable 2019, las pérdidas fiscales generadas por una renta, pueden ser compensadas contra la misma renta. Así, las personas naturales que tengan pérdidas fiscales que se hayan generado en los años gravables 2019, 2020 y/o 2021, relacionadas con rentas de trabajo por honorarios y compensación de servicios personales, pueden compensarlas con la renta líquida ordinaria de estas mismas rentas. ","Datos Contribuyente","Azul"]
[{"$f":"SUBSTITUTE(SUBSTITUTE(FORMULATEXTO_Act(Comentarios[[#This Row],[Formulada]]),\"=\",\"\"),\"'\",\"\")","v":" !$B$161"},{"$f":"' '!$B$161","v":"Pérdidas fiscales de rentas de capital generadas en el año gravable 2019 y/o siguientes, sin compensar"},"El artículo 1.2.1.20.6 del Decreto 1625 de 2016 señala que, a partir del año gravable 2019, las pérdidas fiscales generadas por una renta, pueden ser compensadas contra la misma renta. Así, las personas naturales que tengan pérdidas fiscales que se hayan generado en los años gravables 2019, 2020 y/o 2021 relacionadas con rentas de capital, pueden compensarlas con la renta líquida ordinaria de estas mismas rentas. \n","Datos Contribuyente","Azul"]
[{"$f":"SUBSTITUTE(SUBSTITUTE(FORMULATEXTO_Act(Comentarios[[#This Row],[Formulada]]),\"=\",\"\"),\"'\",\"\")","v":" !$B$163"},{"$f":"' '!$B$163","v":"Pérdidas fiscales de rentas no laborales generadas en el año gravable 2019 y/o siguientes, sin compensar"},"El artículo 1.2.1.20.6 del Decreto 1625 de 2016 establece que, a partir del año gravable 2019, las pérdidas fiscales generadas por una renta, pueden ser compensadas contra la misma renta. Así, las personas naturales que tengan pérdidas fiscales que se hayan generado en los años gravables 2019, 2020 y/o 2021 relacionadas con rentas no laborales, pueden compensarlas con la renta líquida ordinaria de estas mismas rentas. ","Datos Contribuyente","Azul"]
[{"$f":"SUBSTITUTE(SUBSTITUTE(FORMULATEXTO_Act(Comentarios[[#This Row],[Formulada]]),\"=\",\"\"),\"'\",\"\")","v":" !$B$165"},{"$f":"' '!$B$165","v":"Pérdidas fiscales acumuladas correspondientes al año gravable 2018 y anteriores, sin compensar"},"El artículo 1.2.1.20.6 del Decreto 1625 de 2016 indica que, las pérdidas declaradas en los periodos gravables 2018 y anteriores pueden ser compensadas con la renta líquida de la cédula general, sin afectar las rentas de trabajo.\n","Datos Contribuyente","Azul"]
[{"$f":"SUBSTITUTE(SUBSTITUTE(FORMULATEXTO_Act(Comentarios[[#This Row],[Formulada]]),\"=\",\"\"),\"'\",\"\")","v":" !$B$167"},{"$f":"' '!$B$167","v":"Excesos de renta presuntiva, sin compensar"},"El artículo 1.2.1.19.16 del Decreto 1625 de 2016 indica que las personas naturales residentes contribuyentes del impuesto de renta, pueden compensar los excesos de renta presuntiva, hasta el valor de la renta líquida gravable de la cédula general del período fiscal correspondiente, en los términos previstos en el artículo 189 del ET, es decir, dentro de los cinco (5) años siguientes.","Datos Contribuyente","Azul"]
[{"$f":"SUBSTITUTE(SUBSTITUTE(FORMULATEXTO_Act(Comentarios[[#This Row],[Formulada]]),\"=\",\"\"),\"'\",\"\")","v":" !$B$203"},{"$f":"' '!$B$203","v":"Saldo acumulado en el fondo de cesantía a 31 de diciembre de 2022"},"Debe tenerse en cuenta que, los valores que se deben incluir en el patrimonio son aquellos que fueron consignados a partir del 1 de enero de 2017 y que permanecían en el fondo a 31 de diciembre de 2022.","Activos","Azul"]
[{"$f":"SUBSTITUTE(SUBSTITUTE(FORMULATEXTO_Act(Comentarios[[#This Row],[Formulada]]),\"=\",\"\"),\"'\",\"\")","v":" !$K$217"},{"$f":"' '!$K$217","v":"Costo \nfiscal ajustado con factor (artículo 73 del ET)"},"El ajuste contemplado en el artículo 73 del ET puede aplicarse de forma voluntaria por el contribuyente para efectos de determinar la renta o ganancia ocasional que se genere en la venta de acciones y/o aportes.\nLos factores  a aplicar se encuentran establecidos en el artículo 1.2.1.17.21 del Decreto 1625 de 2016.\nCabe señalar que, a través el Concepto 520 (914975) del 6 de diciembre 2021, la DIAN indicó que, \"el artículo 73 del Estatuto Tributario establece expresamente como requisito para su aplicación, incluir como valor patrimonial en las declaraciones de renta el costo fiscal determinado según lo establecido en dicha disposición\".\nAsí, en caso de que el contribuyente planee vender acciones y/o aportes durante el 2023, lo correspondiente es que, si desea aplicar este ajuste al valor de la acciones y/o aportes, el costo ajustado se vea reflejado dentro del patrimonio reportado en la declaración de renta del año gravable 2022. \nDe acuerdo con el artículo 280 del ET, los ajustes señalados en el artículo 70 y 73 del ET, son excluyentes entre sí, es decir que, no se pueden aplicar de manera simultánea.","Reajuste fiscal de los activos","Azul"]
[{"$f":"SUBSTITUTE(SUBSTITUTE(FORMULATEXTO_Act(Comentarios[[#This Row],[Formulada]]),\"=\",\"\"),\"'\",\"\")","v":" !$I$217"},{"$f":"' '!$I$217","v":"Costo \nfiscal reajustado a 31 de diciembre de 2022 (artículo 70 del ET)"},"El ajuste del costo fiscal de los bienes muebles e inmuebles, es optativo para el contribuyente. Para el año gravable 2022, el porcentaje de ajuste corresponde al 4.67%, de acuerdo con el artículo 1.2.1.17.20 del Decreto 1625 de 2016.\nDe acuerdo con el artículo 280 del ET, los ajustes señalados en el artículo 70 y 73 del ET, son excluyentes entre sí, es decir que, no se pueden aplicar de manera simultánea. ","Reajuste fiscal de los activos","Azul"]
[{"$f":"SUBSTITUTE(SUBSTITUTE(FORMULATEXTO_Act(Comentarios[[#This Row],[Formulada]]),\"=\",\"\"),\"'\",\"\")","v":" !$G$217"},{"$f":"' '!$G$217","v":"Valor declarado el año anterior"},"Si el contribuyente adquirió las acciones y/o aportes durante el 2022, diligencie la celda con un cero ($0). Si fueron adquiridas antes del 2022, es necesario registrar el valor por el cual se reportaron en la declaración de renta del año anterior; si es la primera vez que el contribuyente declara, incluya en esta celda el costo de adquisición de las acciones y/o aportes. \nSi las acciones y/o aportes corresponden a un activo omitido que no se acogió a normalización tributaria, tenga en cuenta que el valor de estas deberá ser reportada como renta líquida gravable en los términos del artículo 239-1 del ET. ","Reajuste fiscal de los activos","Azul"]
[{"$f":"SUBSTITUTE(SUBSTITUTE(FORMULATEXTO_Act(Comentarios[[#This Row],[Formulada]]),\"=\",\"\"),\"'\",\"\")","v":" !$C$223"},{"$f":"' '!$C$223","v":{"v":0,"d":"$ 0"}},"El contribuyente debe diligenciar la información solicitada en la tabla \"Acciones y/o aportes poseídos a 31 de diciembre de 2022\", de la hoja \"Reajuste fiscal de los activos\".","Activos","Azul"]
[{"$f":"SUBSTITUTE(SUBSTITUTE(FORMULATEXTO_Act(Comentarios[[#This Row],[Formulada]]),\"=\",\"\"),\"'\",\"\")","v":" !$D$223"},{"$f":"' '!$D$223","v":{"v":0,"d":"$ 0"}},"El contribuyente debe diligenciar la información solicitada en la tabla \"Acciones y/o aportes poseídos a 31 de diciembre de 2022\", de la hoja \"Reajuste fiscal de los activos\".","Activos","Azul"]
[{"$f":"SUBSTITUTE(SUBSTITUTE(FORMULATEXTO_Act(Comentarios[[#This Row],[Formulada]]),\"=\",\"\"),\"'\",\"\")","v":" !$D$251"},{"$f":"' '!$D$251","v":"Fecha de\n inicio del préstamo\n(dd/mm/aaaa) "},"Diligencie la fecha del 2022 en la cual el contribuyente realizó el préstamo; por ejemplo, 04/05/2022. En caso de que el préstamo se haya otorgado con anterioridad al 2022, deberá registrar como fecha de inicio del préstamo el 01/01/2022. ","Intereses Presuntivos","Azul"]
[{"$f":"SUBSTITUTE(SUBSTITUTE(FORMULATEXTO_Act(Comentarios[[#This Row],[Formulada]]),\"=\",\"\"),\"'\",\"\")","v":" !$E$251"},{"$f":"' '!$E$251","v":"Fecha de finalización del préstamo\n(dd/mm/aaaa)"},"Diligencie la fecha del 2022 en la cual finalizó el préstamo o fue pagado en su totalidad, por ejemplo,12/10/2022. En caso de que al finalizar el 2022, el préstamo aún tuviera saldo pendiente de pago, registre como fecha de finalización del préstamo 31/12/2022.","Intereses Presuntivos","Azul"]
[{"$f":"SUBSTITUTE(SUBSTITUTE(FORMULATEXTO_Act(Comentarios[[#This Row],[Formulada]]),\"=\",\"\"),\"'\",\"\")","v":" !$F$251"},{"$f":"' '!$F$251","v":"Monto \ndel préstamo pendiente de cobro a 1 de enero de 2022"},"En caso de que el préstamo se haya otorgado con anterioridad al 2022, se deberá ingresas el monto del préstamo pendiente de pago a 1 de enero de 2022.","Intereses Presuntivos","Azul"]
[{"$f":"SUBSTITUTE(SUBSTITUTE(FORMULATEXTO_Act(Comentarios[[#This Row],[Formulada]]),\"=\",\"\"),\"'\",\"\")","v":" !$C$279"},{"$f":"' '!$C$279","v":{"v":0,"d":"$ 0"}},"El contribuyente debe diligenciar la información solicitada en la hoja \"Intereses Presuntivos\".","Activos","Azul"]
[{"$f":"SUBSTITUTE(SUBSTITUTE(FORMULATEXTO_Act(Comentarios[[#This Row],[Formulada]]),\"=\",\"\"),\"'\",\"\")","v":" !$D$279"},{"$f":"' '!$D$279","v":{"v":0,"d":"$ 0"}},"El contribuyente debe diligenciar la información solicitada en la hoja \"Intereses Presuntivos\".","Activos","Azul"]
[{"$f":"SUBSTITUTE(SUBSTITUTE(FORMULATEXTO_Act(Comentarios[[#This Row],[Formulada]]),\"=\",\"\"),\"'\",\"\")","v":" !$I$309"},{"$f":"' '!$I$309","v":"Costo \nfiscal reajustado a 31 de diciembre de 2022"},"El ajuste del costo fiscal  señalado en el artículo 70 del ET, es optativo para el contribuyente. \nPor lo anterior, el contribuyente, si así lo desea, puede ajuste el valor bienes muebles tales como vehículos, con el porcentaje indicado en la norma; sin embargo, por la naturaleza misma de este tipo de bienes, dicho ajuste no es recomendado pues, por lo general, pierden valor en el tiempo. \n","Reajuste fiscal de los activos","Azul"]
[{"$f":"SUBSTITUTE(SUBSTITUTE(FORMULATEXTO_Act(Comentarios[[#This Row],[Formulada]]),\"=\",\"\"),\"'\",\"\")","v":" !$G$309"},{"$f":"' '!$G$309","v":"Valor \ndeclarado el año anterior"},"Si el contribuyente adquirió el vehículo durante el 2022, diligencie la celda con un cero ($0). Si fue adquirido antes del 2022, es necesario registrar el valor por el cual se reportó el vehículo en la declaración de renta del año anterior; si es la primera vez que el contribuyente declara, incluya en esta celda el costo de adquisición del vehículo. \nTenga en cuenta que, si el vehículo se adquirió antes del 2022 y no se registra el valor por el cual se reportó el bien en la declaración de renta del año anterior, se tomará el costo de adquisición como valor patrimonial.\nEn caso de que el vehículo corresponda a un activo omitido que no se acogió al beneficio de normalización tributaria, deberá reportar el valor de este bien como renta líquida gravable en la casilla 96 (se sugiere revisar el artículo 239-1 del ET).","Reajuste fiscal de los activos","Azul"]
[{"$f":"SUBSTITUTE(SUBSTITUTE(FORMULATEXTO_Act(Comentarios[[#This Row],[Formulada]]),\"=\",\"\"),\"'\",\"\")","v":" !$C$313"},{"$f":"' '!$C$313","v":{"v":56000000,"d":"$ 56,000,000"}},"El contribuyente debe diligenciar la información solicitada en la tabla \"Vehículos (carros, motocicletas, camionetas, etc.) poseídos a 31 de diciembre de 2022\", de la hoja \"Reajuste fiscal de los activos\".","Activos","Azul"]
[{"$f":"SUBSTITUTE(SUBSTITUTE(FORMULATEXTO_Act(Comentarios[[#This Row],[Formulada]]),\"=\",\"\"),\"'\",\"\")","v":" !$D$313"},{"$f":"' '!$D$313","v":{"v":0,"d":"$ 0"}},"El contribuyente debe diligenciar la información solicitada en la tabla \"Vehículos (carros, motocicletas, camionetas, etc.) poseídos a 31 de diciembre de 2022\", de la hoja \"Reajuste fiscal de los activos\".","Activos","Azul"]
[{"$f":"SUBSTITUTE(SUBSTITUTE(FORMULATEXTO_Act(Comentarios[[#This Row],[Formulada]]),\"=\",\"\"),\"'\",\"\")","v":" !$N$316"},{"$f":"' '!$N$316","v":"Valor \npatrimonial a reportar "},"Debe tenerse en cuenta que, de acuerdo con el artículo 277 del ET, los contribuyentes no obligados a llevar contabilidad deben declarar los inmuebles por el mayor valor entre el costo de adquisición, el costo fiscal, el autoavalúo o el avalúo catastral actualizado al final del ejercicio.","Reajuste fiscal de los activos","Azul"]
[{"$f":"SUBSTITUTE(SUBSTITUTE(FORMULATEXTO_Act(Comentarios[[#This Row],[Formulada]]),\"=\",\"\"),\"'\",\"\")","v":" !$M$316"},{"$f":"' '!$M$316","v":"Costo \nfiscal ajustado con factor (artículo 73 del ET)"},"El ajuste contemplado en el artículo 73 del ET puede aplicarse de forma voluntaria por el contribuyente para efectos de determinar la renta o ganancia ocasional que se genere en la venta de bienes inmuebles.\nLos factores  a aplicar se encuentran establecidos en el artículo 1.2.1.17.21 del Decreto 1625 de 2016.\nCabe señalar que, a través el Concepto 520 (914975) del 6 de diciembre 2021, la DIAN indicó que, \"el artículo 73 del Estatuto Tributario establece expresamente como requisito para su aplicación, incluir como valor patrimonial en las declaraciones de renta el costo fiscal determinado según lo establecido en dicha disposición\".\nAsí, en caso de que el contribuyente planee vender bienes inmuebles durante el 2023, lo correspondiente es que, si desea aplicar este ajuste al valor de los bienes inmuebles, el costo ajustado se vea reflejado dentro del patrimonio reportado en la declaración de renta del año gravable 2022. \nDe acuerdo con el artículo 280 del ET, los ajustes señalados en el artículo 70 y 73 del ET, son excluyentes entre sí, es decir que, no se pueden aplicar de manera simultánea.","Reajuste fiscal de los activos","Azul"]
[{"$f":"SUBSTITUTE(SUBSTITUTE(FORMULATEXTO_Act(Comentarios[[#This Row],[Formulada]]),\"=\",\"\"),\"'\",\"\")","v":" !$K$316"},{"$f":"' '!$K$316","v":"Costo \nfiscal reajustado a 31 de diciembre de 2022"},"El ajuste del costo fiscal de los bienes muebles e inmuebles, es optativo para el contribuyente. Para el año gravable 2022, el porcentaje de ajuste corresponde al 4.67%, de acuerdo con el artículo 1.2.1.17.20 del Decreto 1625 de 2016.\nDe acuerdo con el artículo 280 del ET, los ajustes señalados en el artículo 70 y 73 del ET, son excluyentes entre sí, es decir que, no se pueden aplicar de manera simultánea. ","Reajuste fiscal de los activos","Azul"]
[{"$f":"SUBSTITUTE(SUBSTITUTE(FORMULATEXTO_Act(Comentarios[[#This Row],[Formulada]]),\"=\",\"\"),\"'\",\"\")","v":" !$G$316"},{"$f":"' '!$G$316","v":"Valor \ndeclarado el año anterior"},"Si el contribuyente adquirió el bien durante el 2022, diligencie la celda con un cero ($0). Si fue adquirido antes del 2022, es necesario registrar el valor por el cual se reportó el bien en la declaración de renta del año anterior; si es la primera vez que el contribuyente declara, incluya en esta celda el costo de adquisición del bien. \nSi el bien corresponde a un activo omitido que no se acogió a normalización tributaria, tenga en cuenta que el valor de este deberá ser reportado como renta líquida gravable en los términos del artículo 239-1 del ET. ","Reajuste fiscal de los activos","Azul"]
[{"$f":"SUBSTITUTE(SUBSTITUTE(FORMULATEXTO_Act(Comentarios[[#This Row],[Formulada]]),\"=\",\"\"),\"'\",\"\")","v":" !$C$389"},{"$f":"' '!$C$389","v":{"v":217424525,"d":"$ 217,424,525"}},"El contribuyente debe diligenciar la información solicitada en la tabla \"Bienes inmuebles poseídos a 31 de diciembre de 2022\", de la hoja \"Reajuste fiscal de los activos\".","Activos","Azul"]
[{"$f":"SUBSTITUTE(SUBSTITUTE(FORMULATEXTO_Act(Comentarios[[#This Row],[Formulada]]),\"=\",\"\"),\"'\",\"\")","v":" !$D$389"},{"$f":"' '!$D$389","v":{"v":0,"d":"$ 0"}},"El contribuyente debe diligenciar la información solicitada en la tabla \"Bienes inmuebles poseídos a 31 de diciembre de 2022\", de la hoja \"Reajuste fiscal de los activos\".","Activos","Azul"]
[{"$f":"SUBSTITUTE(SUBSTITUTE(FORMULATEXTO_Act(Comentarios[[#This Row],[Formulada]]),\"=\",\"\"),\"'\",\"\")","v":" !$D$412"},{"$f":"' '!$D$412","v":{"v":0,"d":"$ 0"}},"De acuerdo con el parágrafo del artículo 607 del ET, los contribuyentes del impuesto de renta, sujetos a este impuesto respecto de sus ingresos de fuente nacional y extranjera, y de su patrimonio poseído dentro y fuera del país, que posean activos en el exterior de cualquier naturaleza, estarán obligados a presentar la declaración anual de activos en el exterior, siempre y cuando el valor patrimonial de los activos del exterior poseídos a 1 de enero de cada año sea superior a 2.000 UVT (para el año gravable 2022 equivale a $84.824.000). \nPor lo anterior, considerando el valor patrimonial de los activos en el exterior del contribuyente a 31 de diciembre de 2022, sugerimos hacer la revisión correspondiente a 1 de enero de 2023 y determinar si debe cumplir con la obligación de presentar la Declaración Anual de Activos en el Exterior por el año gravable 2023. En caso de ser así, esta herramienta le proporciona un borrador del formulario 160 que facilitará el cumplimiento de esta obligación.","Activos","Azul"]
[{"$f":"SUBSTITUTE(SUBSTITUTE(FORMULATEXTO_Act(Comentarios[[#This Row],[Formulada]]),\"=\",\"\"),\"'\",\"\")","v":" !$D$438"},{"$f":"' '!$D$438","v":"Fecha \nde inicio del préstamo\n(dd/mm/aaaa) "},"Diligencie la fecha del 2022 en la cual al contribuyente se le entregó el préstamo; por ejemplo, 20/03/2022. En caso de que el préstamo se haya otorgado con anterioridad al 2022, deberá registrar como fecha de inicio del préstamo el 01/01/2022. ","Subcapitalización","Azul"]
[{"$f":"SUBSTITUTE(SUBSTITUTE(FORMULATEXTO_Act(Comentarios[[#This Row],[Formulada]]),\"=\",\"\"),\"'\",\"\")","v":" !$E$438"},{"$f":"' '!$E$438","v":"Fecha de finalización del préstamo\n(dd/mm/aaaa)"},"Diligencie la fecha del 2022 en la cual finalizó el préstamo o fue pagado en su totalidad, por ejemplo, 29/06/2022. En caso de que al finalizar el 2022, el préstamo aún tuviera saldo pendiente de pago, registre como fecha de finalización del préstamo 31/12/2022.","Subcapitalización","Azul"]
[{"$f":"SUBSTITUTE(SUBSTITUTE(FORMULATEXTO_Act(Comentarios[[#This Row],[Formulada]]),\"=\",\"\"),\"'\",\"\")","v":" !$G$438"},{"$f":"' '!$G$438","v":"Monto del préstamo"},"En caso de que el préstamo haya sido otorgado al contribuyente antes del 2022, se deberá ingresar el monto del préstamo pendiente de pago a 1 de enero de 2022.","Subcapitalización","Azul"]
[{"$f":"SUBSTITUTE(SUBSTITUTE(FORMULATEXTO_Act(Comentarios[[#This Row],[Formulada]]),\"=\",\"\"),\"'\",\"\")","v":" !$B$528"},{"$f":"' '!$B$528","v":"¿El contribuyente desea registrar ingresos por honorarios como rentas de trabajo?  "},"Debe tenerse en cuenta que, de acuerdo con los artículos 335 del ET y 1.2.1.20.2, 1.2.1.20.3 y 1.2.1.20.4 del Decreto 1625 de 2016, y con las instrucciones del Formulario 210 habilitado para la declaración de renta del año gravable 2022, los contribuyentes que hayan percibido ingresos por honorarios, que NO hayan contratado o vinculado para su generación dos o más trabajadores por un término igual o superior a 90 días continuos o discontinuos, a los cuales NO se les vayan a imputar costos y gastos procedentes, bien sea porque no se incurrió en ellos o porque aun teniéndolos el contribuyente opta por la aplicación de la renta exenta del 25% señalada en el numeral 10 del artículo 206 del ET, deben reportarlos como rentas de trabajo (en caso de tener costos y gastos asociados a estos ingresos, se sugiere hacer una valoración y determinar lo más viable para el contribuyente).","Rentas de Trabajo","Azul"]
[{"$f":"SUBSTITUTE(SUBSTITUTE(FORMULATEXTO_Act(Comentarios[[#This Row],[Formulada]]),\"=\",\"\"),\"'\",\"\")","v":" !$B$534"},{"$f":"' '!$B$534","v":"¿El contribuyente desea registrar ingresos por compensación de servicios personales como rentas de trabajo?  "},"Debe tenerse en cuenta que, de acuerdo con los artículos 335 del ET y 1.2.1.20.2, 1.2.1.20.3 y 1.2.1.20.4 del Decreto 1625 de 2016, y con las instrucciones del Formulario 210 habilitado para la declaración de renta del año gravable 2022, los contribuyentes que hayan percibido ingresos por compensación de servicios personales, que NO hayan contratado o vinculado para su generación a dos o más trabajadores por un término igual o superior a 90 días continuos o discontinuos, a los cuales NO se les vayan a imputar costos y gastos procedentes, bien sea porque no se incurrió en ellos o porque aun teniéndolos el contribuyente opta por la aplicación de la renta exenta del 25% señalada en el numeral 10 del artículo 206 del ET, deben reportarlos como rentas de trabajo (en caso de tener costos y gastos asociados a estos ingresos, se sugiere hacer una valoración y determinar lo más viable para el contribuyente).","Rentas de Trabajo","Azul"]
[{"$f":"SUBSTITUTE(SUBSTITUTE(FORMULATEXTO_Act(Comentarios[[#This Row],[Formulada]]),\"=\",\"\"),\"'\",\"\")","v":" !$B$541"},{"$f":"' '!$B$541","v":"¿El contribuyente desea registrar ingresos por comisiones como rentas de trabajo?  "},"Debe tenerse en cuenta que, de acuerdo con los artículos 335 del ET y 1.2.1.20.2, 1.2.1.20.3 y 1.2.1.20.4 del Decreto 1625 de 2016, y con las instrucciones del Formulario 210 habilitado para la declaración de renta del año gravable 2022, los contribuyentes que hayan percibido ingresos por comisiones, que NO hayan contratado o vinculado para su generación a dos o más trabajadores por un término igual o superior a 90 días continuos o discontinuos, a los cuales NO se les vayan a imputar costos y gastos procedentes, bien sea porque no se incurrió en ellos o porque aun teniéndolos el contribuyente opta por la aplicación de la renta exenta del 25% señalada en el numeral 10 del artículo 206 del ET, deben reportarlos como rentas de trabajo (en caso de tener costos y gastos asociados a estos ingresos, se sugiere hacer una valoración y determinar lo más viable para el contribuyente).","Rentas de Trabajo","Azul"]
[{"$f":"SUBSTITUTE(SUBSTITUTE(FORMULATEXTO_Act(Comentarios[[#This Row],[Formulada]]),\"=\",\"\"),\"'\",\"\")","v":" !$B$550"},{"$f":"' '!$B$550","v":"Aportes obligatorios a salud "},"El artículo 56 del ET indica que, los aportes obligatorios al Sistema General de Seguridad Social en Salud que haya hecho el contribuyente durante el respectivo año gravable, se consideran ingresos no constitutivos de renta.","Rentas de Trabajo","Azul"]
[{"$f":"SUBSTITUTE(SUBSTITUTE(FORMULATEXTO_Act(Comentarios[[#This Row],[Formulada]]),\"=\",\"\"),\"'\",\"\")","v":" !$B$551"},{"$f":"' '!$B$551","v":"Aportes obligatorios a fondos de pensiones"},"El artículo 55 del ET indica que, los aportes obligatorios al Sistema General de Seguridad Social en Pensiones que haya hecho el contribuyente durante el respectivo año gravable, se consideran ingresos no constitutivos de renta.","Rentas de Trabajo","Azul"]
[{"$f":"SUBSTITUTE(SUBSTITUTE(FORMULATEXTO_Act(Comentarios[[#This Row],[Formulada]]),\"=\",\"\"),\"'\",\"\")","v":" !$B$552"},{"$f":"' '!$B$552","v":"Aportes a fondo de solidaridad pensional "},"El artículo 55 del ET indica que, los aportes obligatorios al Sistema General de Seguridad Social en Pensiones que haya hecho el contribuyente durante el respectivo año gravable, se consideran ingresos no constitutivos de renta.","Rentas de Trabajo","Azul"]
[{"$f":"SUBSTITUTE(SUBSTITUTE(FORMULATEXTO_Act(Comentarios[[#This Row],[Formulada]]),\"=\",\"\"),\"'\",\"\")","v":" !$B$553"},{"$f":"' '!$B$553","v":"Aportes a ARL "},"El numeral 1.12 del Concepto DIAN 912 de 2018 establece que, el monto total de los aportes que el trabajador independiente realice al Sistema General de Riesgos Laborales, pueden ser tratados como ingreso no constitutivo de renta ni ganancia ocasional.","Rentas de Trabajo","Azul"]
[{"$f":"SUBSTITUTE(SUBSTITUTE(FORMULATEXTO_Act(Comentarios[[#This Row],[Formulada]]),\"=\",\"\"),\"'\",\"\")","v":" !$B$554"},{"$f":"' '!$B$554","v":"Aportes voluntarios a fondos de pensiones obligatorias "},"El artículo 55 del ET señala que, los aportes voluntarias a fondos de pensiones obligatorias (régimen de ahorro individual con solidaridad) que haya hecho el contribuyente durante el respectivo año gravable, pueden ser tratados como ingreso no constitutivo de renta ni de ganancia ocasional, en un porcentaje que no exceda el 25% del ingreso laboral o tributario anual, limitado a 2.500 UVT (para el año gravable 2022 equivale a $95.010.000).","Rentas de Trabajo","Azul"]
[{"$f":"SUBSTITUTE(SUBSTITUTE(FORMULATEXTO_Act(Comentarios[[#This Row],[Formulada]]),\"=\",\"\"),\"'\",\"\")","v":" !$B$555"},{"$f":"' '!$B$555","v":"Apoyos económicos para financiar programas educativos no \nreembolsables o condonados "},"Los artículos 46 y 1.2.1.12.8 del Decreto 1625 de 2016 indican que, los apoyos económicos no reembolsables o condonados entregados por el Estado o financiados con recursos públicos, para financiar programas educativos  al contribuyente, pueden ser tratados como ingreso no constitutivo de renta. En caso de que dichos apoyos económicos hayan sido recibidos por medio de una relación laboral, estos ingresos deberán ser reportados en las rentas de trabajo. ","Rentas de Trabajo","Azul"]
[{"$f":"SUBSTITUTE(SUBSTITUTE(FORMULATEXTO_Act(Comentarios[[#This Row],[Formulada]]),\"=\",\"\"),\"'\",\"\")","v":" !$B$556"},{"$f":"' '!$B$556","v":"Remuneración por participación en proyectos calificados como de \ncarácter científico, tecnológico o de innovación por el Consejo \nNacional de Beneficios Tributarios en Ciencia, Tecnología e Innovación"},"El artículo 57-2 del ET señala que, los pagos que reciba el contribuyente por la ejecución directa de labores de carácter científico, tecnológico o de innovación, realizados con los recursos destinados al respectivo proyecto, según los criterios y las condiciones definidas por el Consejo Nacional de Beneficios Tributarios en Ciencia, Tecnología e Innovación, son un ingreso no constitutivo de renta para quien los percibe.","Rentas de Trabajo","Azul"]
[{"$f":"SUBSTITUTE(SUBSTITUTE(FORMULATEXTO_Act(Comentarios[[#This Row],[Formulada]]),\"=\",\"\"),\"'\",\"\")","v":" !$B$557"},{"$f":"' '!$B$557","v":"Pagos por alimentación "},"De acuerdo con el artículo 387-1 del ET, los pagos que realicen el empleador a favor de terceros, por concepto de alimentación del trabajador o su familia (suministro de alimentación en restaurantes propios o de terceros; pagos para compra de vales o tiquetes para la adquisición de alimentos) no constituyen ingreso para el trabajador, sino para el tercero que suministra los alimentos o presta el servicio de restaurante, siempre que el salario del trabajador beneficiado no exceda de 310 UVT (para el año gravable 2022 equivalen a $11.781.000). En caso de que los pagos por alimentación superen las 41 UVT (para el año gravable 2022 equivalen a $1.558.000), el excedente sí será ingreso gravado para el empleado. \nDebe tenerse en cuenta que, los pagos por alimentación pueden ser tomados como no gravados en la declaración de renta siempre y cuando los mismos hayan sido incluidos como ingreso en el Certiificado de Ingresos y Retenciones (Oficio DIAN 009809 de abril 27 de 2017). ","Rentas de Trabajo","Azul"]
[{"$f":"SUBSTITUTE(SUBSTITUTE(FORMULATEXTO_Act(Comentarios[[#This Row],[Formulada]]),\"=\",\"\"),\"'\",\"\")","v":" !$B$563"},{"$f":"' '!$B$563","v":"Intereses pagados en créditos de vivienda o leasing habitacional "},"De acuerdo con el artículo 119 del ET, los intereses que pague el contribuyente en créditos hipotecarios o leasing habitacional, siempre que el préstamo esté garantizado con hipoteca si el acreedor no está sometido a la vigilancia del Estado, pueden ser tomados como deducción hasta un monto igual o inferior a 1.200 UVT (para el año gravable 2022 equivalen a $45.605.000).\nDebe tenerse en cuenta que, de acuerdo con el Concepto 064444 de 2005, los intereses deducibles son aquellos pagados por la vivienda en la cual vive el contribuyente; en caso de no habite la casa por la cual paga dichos intereses, los mismos no podrán ser tomados como deducción. \nAdicionalmente, en caso de que el crédito hipotecario haya sido tomado por varias personas, los intereses deberán tomados como deducción de manera proporcional. ","Rentas de Trabajo","Azul"]
[{"$f":"SUBSTITUTE(SUBSTITUTE(FORMULATEXTO_Act(Comentarios[[#This Row],[Formulada]]),\"=\",\"\"),\"'\",\"\")","v":" !$B$564"},{"$f":"' '!$B$564","v":"Planes adicionales de salud "},"De acuerdo con el artículo 387 del ET, los pagos que el contribuyente haya realizado a planes adicionales de salud (pólizas de salud, medicina prepagada) para él, su cónyuge, hijos y/o dependientes, puede ser tomado como deducción en el impuesto de renta, hasta una suma que no supere las 16 UVT mensuales (para el año gravable 2022 equivalen a $608.000) ni las 192 UVT anuales (para el año gravable 2022 equivalen a $7.297.000).\nA través del Concepto 000359 de 2020, la DIAN precisó que, atendiendo lo señalado en el artículo 40 de la Ley 1438 de 2011, dicha deducción también procede sobre planes y pólizas odontológicas y servicios prehospitalarios. ","Rentas de Trabajo","Azul"]
[{"$f":"SUBSTITUTE(SUBSTITUTE(FORMULATEXTO_Act(Comentarios[[#This Row],[Formulada]]),\"=\",\"\"),\"'\",\"\")","v":" !$B$565"},{"$f":"' '!$B$565","v":"Intereses pagados en créditos educativos con el ICETEX"},"El artículo 119 del ET también indica que, los intereses que se paguen por préstamos con el ICETEX, para la educación superior del contribuyente, podrán ser tomados como deducción hasta un valor que no supere las 100 UVT (para el año gravable 2022 equivalen a $3.800.000).","Rentas de Trabajo","Azul"]
[{"$f":"SUBSTITUTE(SUBSTITUTE(FORMULATEXTO_Act(Comentarios[[#This Row],[Formulada]]),\"=\",\"\"),\"'\",\"\")","v":" !$B$566"},{"$f":"' '!$B$566","v":"Gravamen a los movimientos financieros (4x1000)"},"De acuerdo con el artículo 119 del ET, el 50% del Gravamen a los Movimientos Financieros que haya sido efectivamente pagado por el contribuyente durante el respectivo año gravable, puede ser tomado como deducción en el impuesto de renta, independientemente de que tenga o no relación de causalidad con la actividad económica que desarrolla. ","Rentas de Trabajo","Azul"]
[{"$f":"SUBSTITUTE(SUBSTITUTE(FORMULATEXTO_Act(Comentarios[[#This Row],[Formulada]]),\"=\",\"\"),\"'\",\"\")","v":" !$B$567"},{"$f":"' '!$B$567","v":"Dependientes económicos"},"De acuerdo con el artículo 387 del ET, los contribuyentes que perciban rentas de trabajo pueden tomar como deducción por dependientes el 10% de sus ingresos brutos anuales, sin que dicho valor exceda las 32 UVT mensuales (para el año gravable 2022 equivalen a $1.216.000) ni las 384 UVT anuales (para el año gravable 2022 equivalen a $14.594.000).\n\nEl parágrafo 2 del artículo 387 del ET señala que, tienen calidad de dependientes: \n\n- Los hijos del contribuyente que tengan hasta 18 años de edad.\n- Los hijos del contribuyente con edad entre 18 y 23 años, cuando el padre o madre contribuyente persona natural se encuentre financiando su educación en instituciones formales de educación superior.\n- Los hijos del contribuyente mayores de 23 años que se encuentren en situación de dependencia originada en factores físicos o psicológicos.\n- El cónyuge o compañero permanente del contribuyente que se encuentre en situación de dependencia sea por ausencia de ingresos o ingresos en el año menores a 260 UVT (para el año gravable 2022 equivalen a $9.881.000).\n- Los padres y los hermanos del contribuyente que se encuentren en situación de dependencia, sea por ausencia de ingresos o ingresos en el año menores a 260 UVT (para el año gravable 2022 equivalen a $9.881.000).","Rentas de Trabajo","Azul"]
[{"$f":"SUBSTITUTE(SUBSTITUTE(FORMULATEXTO_Act(Comentarios[[#This Row],[Formulada]]),\"=\",\"\"),\"'\",\"\")","v":" !$B$568"},{"$f":"' '!$B$568","v":"Aportes a cesantías como partícipes independientes "},"De acuerdo con el artículo 126-1 del ET, los aportes a cesantías que realice el contribuyente como partícipe independiente, pueden ser tomados como deducción hasta una suma de 2.500 UVT (para el año gravable 2022 equivalen a $95.010.000), sin que dicho monto supere un doceavo del ingreso gravable del respectivo año.","Rentas de Trabajo","Azul"]
[{"$f":"SUBSTITUTE(SUBSTITUTE(FORMULATEXTO_Act(Comentarios[[#This Row],[Formulada]]),\"=\",\"\"),\"'\",\"\")","v":" !$B$573"},{"$f":"' '!$B$573","v":"Cesantías retiradas en el año, que estaban el fondo a 31 de diciembre de 2016 "},"De acuerdo con el parágrafo 3 del artículo 1.2.1.20.7 del Decreto 1625 de 2016, los montos de cesantías acumulados a 31 de diciembre del 2016 en los fondos de cesantías o en las cuentas del patrono para aquellos trabajadores cobijados con el régimen tradicional (Capítulo VII, Título VIII parte Primera del Código Sustantivo del Trabajo), mantienen el tratamiento señalado en el numeral 4 del artículo 206 del ET al momento del retiro del fondo de cesantías o pago por parte del empleador, sin que sea aplicable lo dispuesto en el inciso segundo del artículo 336 del ET, es decir que, no se someten al límite general del 40%, sin que exceda del equivalente de 5.040 UVT (para el año gravable 2022 equivalen a $191.540.000).","Rentas de Trabajo","Azul"]
[{"$f":"SUBSTITUTE(SUBSTITUTE(FORMULATEXTO_Act(Comentarios[[#This Row],[Formulada]]),\"=\",\"\"),\"'\",\"\")","v":" !$B$574"},{"$f":"' '!$B$574","v":"El seguro y/o las compensaciones por muerte, y las prestaciones sociales en \nactividad y en retiro de los miembros de las Fuerzas Militares y de la Policía\n Nacional"},"El numeral 6 del artículo 206 del ET indica que, ll seguro por muerte, las compensaciones por muerte y las prestaciones sociales en actividad y en retiro que reciban los miembros de las Fuerzas Militares y de la Policía Nacional, reciben el tratamiento de renta exenta. \nEl parágrafo 4 del mismo artículo indica que, entre otros, el concepto señalado en el numeral 6 del artículo en mención, no se somete a lo consagrado en el numeral 3 del artículo 336 del ET, es decir que, no se somete al límite general del 40%, sin que exceda del equivalente de 5.040 UVT (para el año gravable 2022 equivalen a $191.540.000).","Rentas de Trabajo","Azul"]
[{"$f":"SUBSTITUTE(SUBSTITUTE(FORMULATEXTO_Act(Comentarios[[#This Row],[Formulada]]),\"=\",\"\"),\"'\",\"\")","v":" !$B$575"},{"$f":"' '!$B$575","v":"Gastos de representación de Magistrados de los Tribunales, sus fiscales y \nprocuradores judiciales "},"El numeral 7 del artículo 206 del ET indica que, los Magistrados de los Tribunales, sus Fiscales y Procuradores Judiciales, pueden tomar como renta exenta los pagos que hayan recibido por concepto de gastos de representación hasta un monto equivalente al 50% de su salario. Así, en caso de que en el año el Magistrado, Fiscal o Procurador no haya recibido pagos por este concepto, no hay lugar a tomar esta renta exenta. \nEl parágrafo 4 del mismo artículo indica que, entre otros, el concepto señalado en el numeral 7 del artículo en mención, no se somete a lo consagrado en el numeral 3 del artículo 336 del ET, es decir que, no se somete al límite general del 40%, sin que exceda del equivalente de 5.040 UVT (para el año gravable 2022 equivalen a $191.540.000).","Rentas de Trabajo","Azul"]
[{"$f":"SUBSTITUTE(SUBSTITUTE(FORMULATEXTO_Act(Comentarios[[#This Row],[Formulada]]),\"=\",\"\"),\"'\",\"\")","v":" !$B$576"},{"$f":"' '!$B$576","v":"Gastos de representación de Jueces de la República "},"El numeral 7 del artículo 206 del ET indica que, los Jueces de la República, pueden tomar como renta exenta los pagos que hayan recibido por concepto de gastos de representación hasta un monto equivalente al 25% de su salario. Así, en caso de que en el año el Juez no haya recibido pagos por este concepto, no hay lugar a tomar esta renta exenta. \nEl parágrafo 4 del mismo artículo indica que, entre otros, el concepto señalado en el numeral 7 del artículo en mención, no se somete a lo consagrado en el numeral 3 del artículo 336 del ET, es decir que, no se somete al límite general del 40%, sin que exceda del equivalente de 5.040 UVT (para el año gravable 2022 equivalen a $191.540.000).","Rentas de Trabajo","Azul"]
[{"$f":"SUBSTITUTE(SUBSTITUTE(FORMULATEXTO_Act(Comentarios[[#This Row],[Formulada]]),\"=\",\"\"),\"'\",\"\")","v":" !$B$577"},{"$f":"' '!$B$577","v":"Gastos de representación de los rectores y profesores de universidades públicas"},"El numeral 9 del artículo 206 del ET indica que, los rectores y profesores de universidades públicas pueden tomar como renta exenta los pagos que hayan recibido por concepto de gastos de representación, hasta un monto equivalente al 50% de su salario. Así, en caso de que en el año el rector o profesor no haya recibido pagos por este concepto, no hay lugar a tomar esta renta exenta.\nEl parágrafo 4 del mismo artículo indica que, entre otros, el concepto señalado en el numeral 9 del artículo en mención, no se somete a lo consagrado en el numeral 3 del artículo 336 del ET, es decir que, no se somete al límite general del 40%, sin que exceda del equivalente de 5.040 UVT (para el año gravable 2022 equivalen a $191.540.000).","Rentas de Trabajo","Azul"]
[{"$f":"SUBSTITUTE(SUBSTITUTE(FORMULATEXTO_Act(Comentarios[[#This Row],[Formulada]]),\"=\",\"\"),\"'\",\"\")","v":" !$B$578"},{"$f":"' '!$B$578","v":"Exceso de salario básico de oficiales, suboficiales y soldados profesionales de \nlas Fuerzas Militares y oficiales, suboficiales, nivel ejecutivo, patrulleros y \nagentes de la Policía Nacional"},"El numeral 8 del artículo 206 del ET establece que, el exceso del salario básico percibido por los Oficiales, Suboficiales y Soldados Profesionales de las Fuerzas Militares y Oficiales, Suboficiales, Nivel Ejecutivo, Patrulleros y Agentes de la Policía Nacional, puede ser tratado como renta exenta. El parágrafo 4 del mismo artículo indica que, entre otros, el concepto señalado en el numeral 8 del artículo en mención no se somete a lo consagrado en el numeral 3 del artículo 336 del ET, es decir que, no se somete al límite general del 40%, sin que exceda del equivalente de 5.040 UVT (para el año gravable 2022 equivalen a $191.540.000).","Rentas de Trabajo","Azul"]
[{"$f":"SUBSTITUTE(SUBSTITUTE(FORMULATEXTO_Act(Comentarios[[#This Row],[Formulada]]),\"=\",\"\"),\"'\",\"\")","v":" !$B$579"},{"$f":"' '!$B$579","v":"Prima especial y de costo de vida de diplomáticos, consulares y administrativos \ndel Ministerio de Relaciones Exteriores "},"El artículo 206-1 del ET establece que la prima especial y la prima de costo de vida señalada en el Decreto 3357 de 2009, o las normas que lo modifiquen o sustituyan, están exentas del impuesto de renta. El mismo tratamiento es aplicable respecto a la prima especial y la prima de costo de vida de los servidores públicos de las plantas en el exterior que, aunque presten sus servicios fuera de Colombia.\nDe acuerdo con el mismo artículo, estas primas no se tendrán en cuenta para efectos del cálculo de los límites establecidos en el numeral 3 del artículo 336 del presente Estatuto, es decir que, no les aplica el límite general del 40%, limitado a 5.040 UVT (para el año gravable 2022 equivalen a $191.540.000).","Rentas de Trabajo","Azul"]
[{"$f":"SUBSTITUTE(SUBSTITUTE(FORMULATEXTO_Act(Comentarios[[#This Row],[Formulada]]),\"=\",\"\"),\"'\",\"\")","v":" !$B$580"},{"$f":"' '!$B$580","v":"Ingresos recibidos por funcionarios de la ONU o por vinculados con organismos especializados de la ONU con residencia fiscal en Colombia "},"El artículo V - Sección 17 y 18 de la Ley 62 de 1973 señala que, se encuentran exentos de impuestos los sueldos y emolumentos pagados por la Organización de Naciones Unidas - ONU o por alguno de sus organismos especializados a sus funcionarios. Para que proceda la exención, es necesario que el contribuyente esté en la lista expedida por el Secretario General de la Organización, en la cual se establece los funcionarios que gozan de este beneficio.\nEn referencia a este tema, mediante el Oficio 006443 de marzo 15 de 2018 la DIAN señaló: “... como quiera que mediante Ley 62 de diciembre 31 de 1973, el Congreso de Colombia aprobó las “Convenciones sobre Privilegios e Inmunidades de las Naciones Unidas, de los Organismos Especializados y de la Organización de los Estados Americanos, adoptadas las dos primeras por la Asamblea General de las Naciones Unidas el 13 de febrero de 1946 y el 21 de noviembre de 1947, respectivamente, y la última abierta a la firma en la Unión Panamericana el 15 de mayo de 1949” habrá de estarse a sus disposiciones, sin que sea viable que este instrumento supranacional se modifique o se entienda modificado de manera unilateral por la legislación interna de los Estados adherentes. En este sentido, en la medida en que se den las condiciones fijadas en la Convención, se mantendrán los términos de exención allí señaladas…”. (El subrayado es nuestro).\nDe lo anterior podría entenderse que, estos ingresos pueden ser tratados como renta exenta y no deben someterse al límite general del 40%, que no puede exceder las 5.040 UVT (para el año gravable 2022 equivalen a $191.540.000).","Rentas de Trabajo","Azul"]
[{"$f":"SUBSTITUTE(SUBSTITUTE(FORMULATEXTO_Act(Comentarios[[#This Row],[Formulada]]),\"=\",\"\"),\"'\",\"\")","v":" !$B$581"},{"$f":"' '!$B$581","v":"Ingresos recibidos en países de la CAN "},"En aplicación de lo contenido en la Decisión 578 del 2004 de la Comisión de la Comunidad Andina - CAN, los ingresos recibidos por los contribuyentes en los países miembros de esta -Bolivia, Ecuador y Perú-, sólo serán gravados en el territorio en el cual se realizaron las actividades que dieron origen a estos ingresos. \nLos ingresos serán considerados renta exenta en Colombia y no serán sometidos al límite general del 40% de la renta líquida que no puede exceder las 5.040 UVT (para el año gravable 2022 equivalen a $191.540.000).","Rentas de Trabajo","Azul"]
[{"$f":"SUBSTITUTE(SUBSTITUTE(FORMULATEXTO_Act(Comentarios[[#This Row],[Formulada]]),\"=\",\"\"),\"'\",\"\")","v":" !$B$586"},{"$f":"' '!$B$586","v":"Aportes a fondos de pensiones voluntarias"},"El artículo 126-1 del ET indica que, los aportes voluntarios que haga el contribuyente a los seguros privados de pensiones y a los fondos de pensiones voluntarias, administrados por las entidades vigiladas por la Superintendencia Financiera de Colombia, serán considerados como una renta exenta, hasta una suma que en conjunto con el valor de los aportes a las Cuentas de Ahorro para el Fomento de la Construcción -AFC- señaladas en el artículo 126-4 del ET, no exceda el 30% del ingreso laboral o ingreso tributario del año, y hasta un monto máximo de 3.800 UVT por año (para el año gravable 2022 equivalen a $144.415.000).\nAdicionalmente, estos aportes sí deben someterse al límite general del 40% que no debe exceder las 5.040 UVT (para el año gravable 2022 equivalen a $191.540.000)., pues la norma no menciona ninguna excepción relacionada con estos aportes. ","Rentas de Trabajo","Azul"]
[{"$f":"SUBSTITUTE(SUBSTITUTE(FORMULATEXTO_Act(Comentarios[[#This Row],[Formulada]]),\"=\",\"\"),\"'\",\"\")","v":" !$B$587"},{"$f":"' '!$B$587","v":"Aportes a cuentas AFC y/o cuentas AVC "},"El artículo 126-4 del ET indica que, los aportes que haga el contribuyente a cuentas AFC y/o AVC administradas por entidades vigiladas por la Superintendencia Financiera de Colombia, serán considerados como una renta exenta, hasta una suma que en conjunto con el valor de los aportes a seguros privados de pensiones y a los fondos de pensiones voluntarias señalados en el artículo 126-1 del ET, no exceda el 30% del ingreso laboral o ingreso tributario del año, y hasta un monto máximo de 3.800 UVT por año (para el año gravable 2022 equivalen a $144.415.000).\nAdicionalmente, estos aportes sí deben someterse al límite general del 40% que no debe exceder las 5.040 UVT (para el año gravable 2022 equivalen a $191.540.000), pues la norma no menciona ninguna excepción relacionada con estos aportes.","Rentas de Trabajo","Azul"]
[{"$f":"SUBSTITUTE(SUBSTITUTE(FORMULATEXTO_Act(Comentarios[[#This Row],[Formulada]]),\"=\",\"\"),\"'\",\"\")","v":" !$B$588"},{"$f":"' '!$B$588","v":"Cesantías e intereses efectivamente pagados en el año "},"El numeral 4 del artículo 206 del ET indica que las cesantías y los intereses sobre cesantías recibidos por el trabajador durante el respectivo año gravable, pueden ser tratadas como renta exenta en un 100% siempre y cuando sean recibidos por trabajadores cuyo ingreso mensual promedio en los últimos seis (6) meses de vinculación laboral no exceda de 350 UVT (para el año gravable 2022 equivalen a $13.301.000) (mediante el Concepto 1302 del 2019 la DIAN precisó que, para efectos de determinar el ingreso mensual promedio de los últimos seis meses, se debe tener en cuenta la siguiente: cuando el empleado se haya retirado de su trabajo, los meses a considerar son los últimos seis meses de vinculación laboral; cuando el empleado continue en su trabajo, se deberán considerar los seis meses del año inmediatamente anterior a aquel en que las cesantías se consignen o se consoliden y queden disponibles en las cuentas individuales, o sean efectivamente pagadas al trabajador (es decir los últimos seis meses del año al cual corresponden las cesantías que fueron consignadas en el fondo; por ejemplo, para las cesantías que fueron consignadas en el fondo en febrero de 2021, se deberán tener en cuentas los últimos seis meses del 2020). Cuando el salario promedio de las últimos seis meses exceda las 350 UVT, la parte exenta se determinará así:  \n\nEntre 350 UVT (para el año gravable 2022, $13.301.001) y 410 UVT (para el año gravable 2022, $15.582.000) el 90%\nEntre 410 UVT (para el año gravable 2022, $15.582.001) y 470 UVT (para el año gravable 2022, $17.862.000) el 80%\nEntre 470 UVT (para el año gravable 2022, $17.862.001) y 530 UVT (para el año gravable 2022, $20.142.000) el 60%\nEntre 530 UVT (para el año gravable 2022, $20.142.001) y 590 UVT (para el año gravable 2022, $22.422.000) el 40%\nEntre 590 UVT (para el año gravable 2022, $22.422.001) y 650 UVT (para el año gravable 2022, $24.703.000) el 20%\nDe 650 UVT (para el año gravable 2022, $24.703.001) el 0%\n\nAdicionalmente, las cesantías e intereses exentos sí deben someterse al límite general del 40% que no debe exceder las 5.040 UVT (que para el año gravable 2022 equivalen a $191.540.000), pues la norma no menciona ninguna excepción relacionada con estas cesantías. ","Rentas de Trabajo","Azul"]
[{"$f":"SUBSTITUTE(SUBSTITUTE(FORMULATEXTO_Act(Comentarios[[#This Row],[Formulada]]),\"=\",\"\"),\"'\",\"\")","v":" !$B$589"},{"$f":"' '!$B$589","v":"Cesantías consignadas en el fondo en el año"},"El numeral 4 del artículo 206 del ET indica que las cesantías y los intereses sobre cesantías recibidos por el trabajador durante el respectivo año gravable, pueden ser tratadas como renta exenta en un 100% siempre y cuando sean recibidos por trabajadores cuyo ingreso mensual promedio en los últimos seis (6) meses de vinculación laboral no exceda de 350 UVT (para el año gravable 2022 equivalen a $13.301.000) (mediante el Concepto 1302 del 2019 la DIAN precisó que, para efectos de determinar el ingreso mensual promedio de los últimos seis meses, se debe tener en cuenta la siguiente: cuando el empleado se haya retirado de su trabajo, los meses a considerar son los últimos seis meses de vinculación laboral; cuando el empleado continue en su trabajo, se deberán considerar los seis meses del año inmediatamente anterior a aquel en que las cesantías se consignen o se consoliden y queden disponibles en las cuentas individuales, o sean efectivamente pagadas al trabajador (es decir los últimos seis meses del año al cual corresponden las cesantías que fueron consignadas en el fondo; por ejemplo, para las cesantías que fueron consignadas en el fondo en febrero de 2021, se deberán tener en cuentas los últimos seis meses del 2020). Cuando el salario promedio de las últimos seis meses exceda las 350 UVT, la parte exenta se determinará así:  \n\nEntre 350 UVT (para el año gravable 2022, $13.301.001) y 410 UVT (para el año gravable 2022, $15.582.000) el 90%\nEntre 410 UVT (para el año gravable 2022, $15.582.001) y 470 UVT (para el año gravable 2022, $17.862.000) el 80%\nEntre 470 UVT (para el año gravable 2022, $17.862.001) y 530 UVT (para el año gravable 2022, $20.142.000) el 60%\nEntre 530 UVT (para el año gravable 2022, $20.142.001) y 590 UVT (para el año gravable 2022, $22.422.000) el 40%\nEntre 590 UVT (para el año gravable 2022, $22.422.001) y 650 UVT (para el año gravable 2022, $24.703.000) el 20%\nDe 650 UVT (para el año gravable 2022, $24.703.001) el 0%\n\nAdicionalmente, las cesantías e intereses exentos sí deben someterse al límite general del 40% que no debe exceder las 5.040 UVT (que para el año gravable 2022 equivalen a $191.540.000), pues la norma no menciona ninguna excepción relacionada con estas cesantías. ","Rentas de Trabajo","Azul"]
[{"$f":"SUBSTITUTE(SUBSTITUTE(FORMULATEXTO_Act(Comentarios[[#This Row],[Formulada]]),\"=\",\"\"),\"'\",\"\")","v":" !$B$590"},{"$f":"' '!$B$590","v":"Indemnizaciones por accidente de trabajo o enfermedad "},"El parágrafo 1 del artículo 206 del ET señala que, la exención prevista en el numeral 1 del mismo artículo, referente al tratamiento de renta exenta de las indemnizaciones por accidentes de trabajo o enfermedad, es aplicable únicamente sobre los valores que correspondan al mínimo legal de que tratan las normas laborales. En consecuencia, al aplicar esta exención, se deberán revisar los valores mínimos legales fijados para estas indemnizaciones, que son recibidas por el trabajador cuando hay una pérdida de su capacidad laboral calificada entre el 5% y el 49%, que se encuentran mencionados en el artículo 1 del Decreto 2644 de 1994.\nAdicionalmente, estas indemnizaciones exentas sí deben someterse al límite general del 40% que no debe exceder las 5.040 UVT (para el año gravable 2022 equivalen a $191.540.000), pues la norma no menciona ninguna excepción relacionada con esta indemnización.","Rentas de Trabajo","Azul"]
[{"$f":"SUBSTITUTE(SUBSTITUTE(FORMULATEXTO_Act(Comentarios[[#This Row],[Formulada]]),\"=\",\"\"),\"'\",\"\")","v":" !$B$591"},{"$f":"' '!$B$591","v":"Indemnización por protección a la maternidad "},"El parágrafo 1 del artículo 206 del ET señala que, la exención prevista en el numeral 2 del mismo artículo, referente al tratamiento de renta exenta de las indemnizaciones que impliquen protección a la maternidad, es aplicable únicamente sobre los valores que correspondan al mínimo legal de que tratan las normas laborales. En consecuencia, al aplicar esta exención, se deberán revisar los valores mínimos legales fijados para estas indemnizaciones, esto es, lo consagrado en el artículo 239 del Código Sustantivo del Trabajo que señala que, la indemnización por protección a la maternidad equivale a 60 días de trabajo calculados con el salario de la trabajadora. Así, en caso que de el empleador decida entregar un valor superior al mínimo señalado por la norma, el excedente no podrá ser tratado como renta exenta. \nAdicionalmente, estas indemnizaciones exentas sí deben someterse al límite general del 40% que no debe exceder las 5.040 UVT (para el año gravable 2022 equivalen a $191.540.000), pues la norma no menciona ninguna excepción relacionada con esta indemnización.","Rentas de Trabajo","Azul"]
[{"$f":"SUBSTITUTE(SUBSTITUTE(FORMULATEXTO_Act(Comentarios[[#This Row],[Formulada]]),\"=\",\"\"),\"'\",\"\")","v":" !$B$592"},{"$f":"' '!$B$592","v":"Gastos de entierro del trabajador "},"El parágrafo 1 del artículo 206 del ET señala que, la exención prevista en el numeral 3 del mismo artículo, referente al tratamiento de renta exenta para los dineros recibidos por gastos de entierro del trabajador, es aplicable únicamente sobre los valores que correspondan al mínimo legal de que tratan las normas laborales. En consecuencia, al aplicar esta exención, se deberán revisar los valores mínimos señalados en los artículos 247 del Código Sustantivo del Trabajo, 51 y 86 de la Ley 100 de 1993 que indican que, la persona que demuestre haber pagado por los gastos de entierro de un trabajador, tiene derecho a percibir un auxilio funerario equivalente al último salario base de cotización del empleado, sin que dicho auxilio pueda ser inferior a 5 smmlv, ni superior a 10 smmlv.\nAdicionalmente, estos pagos por gasto de entierro sí deben someterse al límite general del 40% que no debe exceder las 5.040 UVT (para el año gravable 2022 equivalen a $191.540.000)., pues la norma no menciona ninguna excepción relacionada con estos gastos.","Rentas de Trabajo","Azul"]
[{"$f":"SUBSTITUTE(SUBSTITUTE(FORMULATEXTO_Act(Comentarios[[#This Row],[Formulada]]),\"=\",\"\"),\"'\",\"\")","v":" !$B$593"},{"$f":"' '!$B$593","v":"Bonificación y/o indemnización por plan de retiro de una entidad pública del \norden nacional, departamental o municipal "},"El artículo 27 de la Ley 488 de 1998 indica que, los contribuyente que reciban bonificaciones y/o indemnizaciones entregadas por acogerse a planes de retiro de entidades públicas, pueden tratarlas como renta exenta.\nSin embargo, mediante el numeral 1.16 del Concepto 912 del 19 2018 la DIAN precisó que esta renta exenta debe someterse al límite general del 40% que no debe superar las 5.040 UVT (para el año gravable 2022 equivalen a $191.540.000), pues la norma no menciona ninguna excepción relacionada con esta bonificación.","Rentas de Trabajo","Azul"]
[{"$f":"SUBSTITUTE(SUBSTITUTE(FORMULATEXTO_Act(Comentarios[[#This Row],[Formulada]]),\"=\",\"\"),\"'\",\"\")","v":" !$B$594"},{"$f":"' '!$B$594","v":"Bonificación por retiro voluntario para ciudadanos colombianos que integran \nlas reservas oficiales de prima y segunda clase de la Armada Nacional "},"De acuerdo con los artículos 22 de la ey 44 de 1990 y 1.2.1.11.1 del Decreto 1625 de 2016, la bonificación por retiro voluntario que reciben los ciudadanos colombianos que integran las reservas de oficiales de primera y segunda clase de la Armada Nacional y que ejerzan actividades de navegante, oficial o tripulante en empresas marítimas nacionales de transporte público o de trabajos marítimos especiales, pueden ser tratadas como renta exenta.\nEsta renta exenta debe someterse al límite general del 40% que no puede superar las 5.040 UVT (para el año gravable 2022 equivalen a $191.540.000), pues la norma no menciona ninguna excepción relacionada con esta bonificación.","Rentas de Trabajo","Azul"]
[{"$f":"SUBSTITUTE(SUBSTITUTE(FORMULATEXTO_Act(Comentarios[[#This Row],[Formulada]]),\"=\",\"\"),\"'\",\"\")","v":" !$B$595"},{"$f":"' '!$B$595","v":"25% de renta exenta laboral "},"El numeral 10 del artículo 206 del ET establece que, los contribuyentes que reciban ingresos por rentas de trabajo, pueden tomar como renta exenta el 25% del valor total de los pagos laborales, limitada a 240 UVT (para el año gravable 2022 equivalen a $9.121.000) y 2880 UVT anuales (para el año gravable 2022 equivalen a $109.452.000). El cálculo de este 25% se realiza una vez se resten al valor total de los ingresos, los ingresos no constitutivos de renta, las deducciones y las demás rentas exentas.\nDebe tenerse en cuenta que, el parágrafo 2 del artículo 206 del ET indica que, esta exención no es no se otorgará sobre las cesantías, sobre la porción de los ingresos excluida o exonerada del impuesto de renta por otras disposiciones, ni sobre la parte gravable de las pensiones.","Rentas de Trabajo","Azul"]
[{"$f":"SUBSTITUTE(SUBSTITUTE(FORMULATEXTO_Act(Comentarios[[#This Row],[Formulada]]),\"=\",\"\"),\"'\",\"\")","v":" !$B$601"},{"$f":"' '!$B$601","v":"¿El contribuyente desea registrar ingresos por honorarios como rentas de trabajo por honorarios?  "},"Debe tenerse en cuenta que, de acuerdo con los artículos 1.2.1.20.2 y 1.2.1.20.4 del Decreto 1625 de 2016 y con las instrucciones del Formulario 210 habilitado para la declaración de renta del año gravable 2022, los contribuyentes que hayan percibido ingresos por honorarios, que NO hayan contratado o vinculado para su generación a dos o más trabajadores, a los cuales SÍ se les vayan a imputar costos y gastos procedentes, renunciando a la renta exenta del 25% señalada en el numeral 10 del artículo 206 del ET, deben reportarlos como rentas de trabajo por honorarios y compensación de servicios personales (se sugiere hacer una valoración y determinar si es más favorable para el contribuyente tomar los costos y gastos procedentes o aplicar la renta exenta del 25%).","Renta Honorarios y Servicios","Azul"]
[{"$f":"SUBSTITUTE(SUBSTITUTE(FORMULATEXTO_Act(Comentarios[[#This Row],[Formulada]]),\"=\",\"\"),\"'\",\"\")","v":" !$B$607"},{"$f":"' '!$B$607","v":"¿El contribuyente desea registrar ingresos por compensación de servicios personales como rentas de trabajo?  "},"Debe tenerse en cuenta que, de acuerdo con los artículos 1.2.1.20.2 y 1.2.1.20.4 del Decreto 1625 de 2016 y con las instrucciones del Formulario 210 habilitado para la declaración de renta del año gravable 2022, los contribuyentes que hayan percibido ingresos por compensación de servicios personales, que NO hayan contratado o vinculado para su generación a dos o más trabajadores, a los cuales SÍ se les vayan a imputar costos y gastos procedentes, renunciando a la renta exenta del 25% señalada en el numeral 10 del artículo 206 del ET, deben reportarlos como rentas de trabajo por honorarios y compensación de servicios personales (se sugiere hacer una valoración y determinar si es más favorable para el contribuyente tomar los costos y gastos procedentes o aplicar la renta exenta del 25%).","Renta Honorarios y Servicios","Azul"]
[{"$f":"SUBSTITUTE(SUBSTITUTE(FORMULATEXTO_Act(Comentarios[[#This Row],[Formulada]]),\"=\",\"\"),\"'\",\"\")","v":" !$B$613"},{"$f":"' '!$B$613","v":"¿El contribuyente desea registrar ingresos por comisiones como rentas de trabajo?  "},"Debe tenerse en cuenta que, de acuerdo con los artículos 1.2.1.20.2 y 1.2.1.20.4 del Decreto 1625 de 2016, y con las instrucciones del Formulario 210 habilitado para la declaración de renta del año gravable 2022, los contribuyentes que hayan percibido ingresos por comisiones, que NO hayan contratado o vinculado para su generación a dos o más trabajadores, a los cuales SÍ se les vayan a imputar costos y gastos procedentes, renunciando a la renta exenta del 25% señalada en el numeral 10 del artículo 206 del ET, deben reportarlos como rentas de trabajo por honorarios y compensación de servicios personales (se sugiere hacer una valoración y determinar si es más favorable para el contribuyente tomar los costos y gastos procedentes o aplicar la renta exenta del 25%).","Renta Honorarios y Servicios","Azul"]
[{"$f":"SUBSTITUTE(SUBSTITUTE(FORMULATEXTO_Act(Comentarios[[#This Row],[Formulada]]),\"=\",\"\"),\"'\",\"\")","v":" !$B$622"},{"$f":"' '!$B$622","v":"Aportes obligatorios a salud "},"El artículo 56 del ET indica que, los aportes obligatorios al Sistema General de Seguridad Social en Salud que haya hecho el contribuyente durante el respectivo año gravable, se consideran ingresos no constitutivos de renta.","Renta Honorarios y Servicios","Azul"]
[{"$f":"SUBSTITUTE(SUBSTITUTE(FORMULATEXTO_Act(Comentarios[[#This Row],[Formulada]]),\"=\",\"\"),\"'\",\"\")","v":" !$B$623"},{"$f":"' '!$B$623","v":"Aportes obligatorios a fondos de pensiones"},"El artículo 55 del ET indica que, los aportes obligatorios al Sistema General de Seguridad Social en Pensiones que haya hecho el contribuyente durante el respectivo año gravable, se consideran ingresos no constitutivos de renta.","Renta Honorarios y Servicios","Azul"]
[{"$f":"SUBSTITUTE(SUBSTITUTE(FORMULATEXTO_Act(Comentarios[[#This Row],[Formulada]]),\"=\",\"\"),\"'\",\"\")","v":" !$B$624"},{"$f":"' '!$B$624","v":"Aportes a fondo de solidaridad pensional "},"El artículo 55 del ET indica que, los aportes obligatorios al Sistema General de Seguridad Social en Pensiones que haya hecho el contribuyente durante el respectivo año gravable, se consideran ingresos no constitutivos de renta.","Renta Honorarios y Servicios","Azul"]
[{"$f":"SUBSTITUTE(SUBSTITUTE(FORMULATEXTO_Act(Comentarios[[#This Row],[Formulada]]),\"=\",\"\"),\"'\",\"\")","v":" !$B$625"},{"$f":"' '!$B$625","v":"Aportes a ARL "},"El numeral 1.12 del Concepto DIAN 912 de 2018 establece que, el monto total de los aportes que el trabajador independiente realice al Sistema General de Riesgos Laborales, pueden ser tratados como ingreso no constitutivo de renta ni ganancia ocasional.","Renta Honorarios y Servicios","Azul"]
[{"$f":"SUBSTITUTE(SUBSTITUTE(FORMULATEXTO_Act(Comentarios[[#This Row],[Formulada]]),\"=\",\"\"),\"'\",\"\")","v":" !$B$626"},{"$f":"' '!$B$626","v":"Aportes voluntarios a fondos de pensiones obligatorias "},"El artículo 55 del ET señala que, los aportes voluntarias a fondos de pensiones obligatorias (régimen de ahorro individual con solidaridad) que haya hecho el contribuyente durante el respectivo año gravable, pueden ser tratados como ingreso no constitutivo de renta ni de ganancia ocasional, en un porcentaje que no exceda el 25% del ingreso laboral o tributario anual, limitado a 2.500 UVT (para el año gravable 2022 equivale a $95.010.000).","Renta Honorarios y Servicios","Azul"]
[{"$f":"SUBSTITUTE(SUBSTITUTE(FORMULATEXTO_Act(Comentarios[[#This Row],[Formulada]]),\"=\",\"\"),\"'\",\"\")","v":" !$B$627"},{"$f":"' '!$B$627","v":"Remuneración por participación en proyectos calificados como de \ncarácter científico, tecnológico o de innovación por el Consejo \nNacional de Beneficios Tributarios en Ciencia, Tecnología e Innovación"},"El artículo 57-2 del ET señala que, los pagos que reciba el contribuyente por la ejecución directa de labores de carácter científico, tecnológico o de innovación, realizados con los recursos destinados al respectivo proyecto, según los criterios y las condiciones definidas por el Consejo Nacional de Beneficios Tributarios en Ciencia, Tecnología e Innovación, son un ingreso no constitutivo de renta para quien los percibe.","Renta Honorarios y Servicios","Azul"]
[{"$f":"SUBSTITUTE(SUBSTITUTE(FORMULATEXTO_Act(Comentarios[[#This Row],[Formulada]]),\"=\",\"\"),\"'\",\"\")","v":" !$B$630"},{"$f":"' '!$B$630","v":"Costos y gastos procedentes"},"El numeral 4 del artículo 336 del ET indica que, las personas que reciban ingresos por honorarios o compensación de servicios personales considerados como rentas de trabajo, pueden restar los costos y gastos que tengan relación con dichos ingresos, pero, en este caso, no pueden optar por aplicar la renta exenta señalada en el numeral 10 del artículo 206 del ET. \nEn consecuencia, las personas naturales que perciban honorarios, compensación de servicios personales y/o comisiones, podrán imputar costos y gastos a sus ingresos, siempre que los mismos cumplan los requisitos señaladas en el artículo 107 del ET.  ","Renta Honorarios y Servicios","Azul"]
[{"$f":"SUBSTITUTE(SUBSTITUTE(FORMULATEXTO_Act(Comentarios[[#This Row],[Formulada]]),\"=\",\"\"),\"'\",\"\")","v":" !$B$647"},{"$f":"' '!$B$647","v":"Intereses y gastos financieros pagados a vinculados económicos"},"De acuerdo con el artículo 118-1 del ET las intereses que el contribuyente haya pagado en préstamos o deudas son deducible en el respectivo año gravable. Sin embargo, en el caso de los intereses pagados que se hayan generado por deudas contraídas de forma directa o indirecta con vinculados económicos, nacionales o extranjeros (la definición vinculado económico se encuentra contenida en el artículo 260-1 del ET), solo se podrá deducirse cuando el monto total promedio de estas deudas, durante el correspondiente año gravable, no exceda el resultado de multiplicar por dos (2) el patrimonio líquido del contribuyente determinado a 31 de diciembre del año gravable inmediatamente anterior. Los intereses que excedan el resultado de la operación anterior, no podrán ser tomados como deducibles. ","Renta Honorarios y Servicios","Azul"]
[{"$f":"SUBSTITUTE(SUBSTITUTE(FORMULATEXTO_Act(Comentarios[[#This Row],[Formulada]]),\"=\",\"\"),\"'\",\"\")","v":" !$B$653"},{"$f":"' '!$B$653","v":"Intereses pagados en créditos de vivienda o leasing habitacional "},"De acuerdo con el artículo 119 del ET, los intereses que pague el contribuyente en créditos hipotecarios o leasing habitacional, siempre que el préstamo esté garantizado con hipoteca si el acreedor no está sometido a la vigilancia del Estado, pueden ser tomados como deducción hasta un monto igual o inferior a 1.200 UVT (para el año gravable 2022 equivalen a $45.605.000).\nDebe tenerse en cuenta que, de acuerdo con el Concepto 064444 de 2005, los intereses deducibles son aquellos pagados por la vivienda en la cual vive el contribuyente; en caso de no habite la casa por la cual paga dichos intereses, los mismos no podrán ser tomados como deducción. \nAdicionalmente, en caso de que el crédito hipotecario haya sido tomado por varias personas, los intereses deberán tomados como deducción de manera proporcional. ","Renta Honorarios y Servicios","Azul"]
[{"$f":"SUBSTITUTE(SUBSTITUTE(FORMULATEXTO_Act(Comentarios[[#This Row],[Formulada]]),\"=\",\"\"),\"'\",\"\")","v":" !$B$654"},{"$f":"' '!$B$654","v":"Planes adicionales de salud "},"De acuerdo con el artículo 387 del ET, los pagos que el contribuyente haya realizado a planes adicionales de salud (pólizas de salud, medicina prepagada) para él, su cónyuge, hijos y/o dependientes, puede ser tomado como deducción en el impuesto de renta, hasta una suma que no supere las 16 UVT mensuales (para el año gravable 2022 equivalen a $608.000) ni las 192 UVT anuales (para el año gravable 2022 equivalen a $7.297.000).\nA través del Concepto 000359 de 2020, la DIAN precisó que, atendiendo lo señalado en el artículo 40 de la Ley 1438 de 2011, dicha deducción también procede sobre planes y pólizas odontológicas y servicios prehospitalarios. ","Renta Honorarios y Servicios","Azul"]
[{"$f":"SUBSTITUTE(SUBSTITUTE(FORMULATEXTO_Act(Comentarios[[#This Row],[Formulada]]),\"=\",\"\"),\"'\",\"\")","v":" !$B$655"},{"$f":"' '!$B$655","v":"Intereses pagados en créditos educativos con el ICETEX"},"El artículo 119 del ET también indica que, los intereses que se paguen por préstamos con el ICETEX, para la educación superior del contribuyente, podrán ser tomados como deducción hasta un valor que no supere las 100 UVT (para el año gravable 2022 equivalen a $3.800.000).","Renta Honorarios y Servicios","Azul"]
[{"$f":"SUBSTITUTE(SUBSTITUTE(FORMULATEXTO_Act(Comentarios[[#This Row],[Formulada]]),\"=\",\"\"),\"'\",\"\")","v":" !$B$656"},{"$f":"' '!$B$656","v":"Gravamen a los movimientos financieros (4x1000)"},"De acuerdo con el artículo 119 del ET, el 50% del Gravamen a los Movimientos Financieros que haya sido efectivamente pagado por el contribuyente durante el respectivo año gravable, puede ser tomado como deducción en el impuesto de renta, independientemente de que tenga o no relación de causalidad con la actividad económica que desarrolla. ","Renta Honorarios y Servicios","Azul"]
[{"$f":"SUBSTITUTE(SUBSTITUTE(FORMULATEXTO_Act(Comentarios[[#This Row],[Formulada]]),\"=\",\"\"),\"'\",\"\")","v":" !$B$657"},{"$f":"' '!$B$657","v":"Dependientes económicos"},"De acuerdo con el artículo 387 del ET, los contribuyentes que perciban rentas de trabajo pueden tomar como deducción por dependientes el 10% de sus ingresos brutos anuales, sin que dicho valor exceda las 32 UVT mensuales (para el año gravable 2022 equivalen a $1.216.000) ni las 384 UVT anuales (para el año gravable 2022 equivalen a $14.594.000).\n\nEl parágrafo 2 del artículo 387 del ET señala que, tienen calidad de dependientes: \n\n- Los hijos del contribuyente que tengan hasta 18 años de edad.\n- Los hijos del contribuyente con edad entre 18 y 23 años, cuando el padre o madre contribuyente persona natural se encuentre financiando su educación en instituciones formales de educación superior.\n- Los hijos del contribuyente mayores de 23 años que se encuentren en situación de dependencia originada en factores físicos o psicológicos.\n- El cónyuge o compañero permanente del contribuyente que se encuentre en situación de dependencia sea por ausencia de ingresos o ingresos en el año menores a 260 UVT (para el año gravable 2022 equivalen a $9.881.000).\n- Los padres y los hermanos del contribuyente que se encuentren en situación de dependencia, sea por ausencia de ingresos o ingresos en el año menores a 260 UVT (para el año gravable 2022 equivalen a $9.881.000).","Renta Honorarios y Servicios","Azul"]
[{"$f":"SUBSTITUTE(SUBSTITUTE(FORMULATEXTO_Act(Comentarios[[#This Row],[Formulada]]),\"=\",\"\"),\"'\",\"\")","v":" !$B$658"},{"$f":"' '!$B$658","v":"Aportes a cesantías como partícipes independientes "},"De acuerdo con el artículo 126-1 del ET, los aportes a cesantías que realice el contribuyente como partícipe independiente, pueden ser tomados como deducción hasta una suma de 2.500 UVT (para el año gravable 2022 equivalen a $95.010.000), sin que dicho monto supere un doceavo del ingreso gravable del respectivo año.","Renta Honorarios y Servicios","Azul"]
[{"$f":"SUBSTITUTE(SUBSTITUTE(FORMULATEXTO_Act(Comentarios[[#This Row],[Formulada]]),\"=\",\"\"),\"'\",\"\")","v":" !$B$663"},{"$f":"' '!$B$663","v":"Ingresos recibidos por funcionarios de la ONU o por vinculados con organismos especializados de la ONU con residencia fiscal en Colombia "},"El artículo V - Sección 17 y 18 de la Ley 62 de 1973 señala que, se encuentran exentos de impuestos los sueldos y emolumentos pagados por la Organización de Naciones Unidas - ONU o por alguno de sus organismos especializados a sus funcionarios. Para que proceda la exención, es necesario que el contribuyente esté en la lista expedida por el Secretario General de la Organización, en la cual se establece los funcionarios que gozan de este beneficio.\nEn referencia a este tema, mediante el Oficio 006443 de marzo 15 de 2018 la DIAN señaló: “... como quiera que mediante Ley 62 de diciembre 31 de 1973, el Congreso de Colombia aprobó las “Convenciones sobre Privilegios e Inmunidades de las Naciones Unidas, de los Organismos Especializados y de la Organización de los Estados Americanos, adoptadas las dos primeras por la Asamblea General de las Naciones Unidas el 13 de febrero de 1946 y el 21 de noviembre de 1947, respectivamente, y la última abierta a la firma en la Unión Panamericana el 15 de mayo de 1949” habrá de estarse a sus disposiciones, sin que sea viable que este instrumento supranacional se modifique o se entienda modificado de manera unilateral por la legislación interna de los Estados adherentes. En este sentido, en la medida en que se den las condiciones fijadas en la Convención, se mantendrán los términos de exención allí señaladas…”. (El subrayado es nuestro).\nDe lo anterior podría entenderse que, estos ingresos pueden ser tratados como renta exenta y no deben someterse al límite general del 40%, que no puede exceder las 5.040 UVT (para el año gravable 2022 equivalen a $191.540.000).","Renta Honorarios y Servicios","Azul"]
[{"$f":"SUBSTITUTE(SUBSTITUTE(FORMULATEXTO_Act(Comentarios[[#This Row],[Formulada]]),\"=\",\"\"),\"'\",\"\")","v":" !$B$664"},{"$f":"' '!$B$664","v":"Ingresos recibidos en países de la CAN "},"En aplicación de lo contenido en la Decisión 578 del 2004 de la Comisión de la Comunidad Andina - CAN, los ingresos recibidos por los contribuyentes en los países miembros de esta -Bolivia, Ecuador y Perú-, sólo serán gravados en el territorio en el cual se realizaron las actividades que dieron origen a estos ingresos. \nLos ingresos serán considerados renta exenta en Colombia y no serán sometidos al límite general del 40% de la renta líquida que no puede exceder las 5.040 UVT (para el año gravable 2022 equivalen a $191.540.000).","Renta Honorarios y Servicios","Azul"]
[{"$f":"SUBSTITUTE(SUBSTITUTE(FORMULATEXTO_Act(Comentarios[[#This Row],[Formulada]]),\"=\",\"\"),\"'\",\"\")","v":" !$B$669"},{"$f":"' '!$B$669","v":"Aportes a fondos de pensiones voluntarias"},"El artículo 126-1 del ET indica que, los aportes voluntarios que haga el contribuyente a los seguros privados de pensiones y a los fondos de pensiones voluntarias, administrados por las entidades vigiladas por la Superintendencia Financiera de Colombia, serán considerados como una renta exenta, hasta una suma que en conjunto con el valor de los aportes a las Cuentas de Ahorro para el Fomento de la Construcción -AFC- señaladas en el artículo 126-4 del ET, no exceda el 30% del ingreso laboral o ingreso tributario del año, y hasta un monto máximo de 3.800 UVT por año (para el año gravable 2022 equivalen a $144.415.000).\nAdicionalmente, estos aportes sí deben someterse al límite general del 40% que no debe exceder las 5.040 UVT (para el año gravable 2022 equivalen a $191.540.000)., pues la norma no menciona ninguna excepción relacionada con estos aportes. ","Renta Honorarios y Servicios","Azul"]
[{"$f":"SUBSTITUTE(SUBSTITUTE(FORMULATEXTO_Act(Comentarios[[#This Row],[Formulada]]),\"=\",\"\"),\"'\",\"\")","v":" !$B$670"},{"$f":"' '!$B$670","v":"Aportes a cuentas AFC y/o cuentas AVC "},"El artículo 126-4 del ET indica que, los aportes que haga el contribuyente a cuentas AFC y/o AVC administradas por entidades vigiladas por la Superintendencia Financiera de Colombia, serán considerados como una renta exenta, hasta una suma que en conjunto con el valor de los aportes a seguros privados de pensiones y a los fondos de pensiones voluntarias señalados en el artículo 126-1 del ET, no exceda el 30% del ingreso laboral o ingreso tributario del año, y hasta un monto máximo de 3.800 UVT por año (para el año gravable 2022 equivalen a $144.415.000).\nAdicionalmente, estos aportes sí deben someterse al límite general del 40% que no debe exceder las 5.040 UVT (para el año gravable 2022 equivalen a $191.540.000), pues la norma no menciona ninguna excepción relacionada con estos aportes.","Renta Honorarios y Servicios","Azul"]
[{"$f":"SUBSTITUTE(SUBSTITUTE(FORMULATEXTO_Act(Comentarios[[#This Row],[Formulada]]),\"=\",\"\"),\"'\",\"\")","v":" !$B$713"},{"$f":"' '!$B$713","v":"Aportes obligatorios a salud "},"El artículo 56 del ET indica que, los aportes obligatorios al Sistema General de Seguridad Social en Salud que haya hecho el contribuyente durante el respectivo año gravable, se consideran ingresos no constitutivos de renta.","Rentas de Capital","Azul"]
[{"$f":"SUBSTITUTE(SUBSTITUTE(FORMULATEXTO_Act(Comentarios[[#This Row],[Formulada]]),\"=\",\"\"),\"'\",\"\")","v":" !$B$714"},{"$f":"' '!$B$714","v":"Aportes obligatorios a fondos de pensiones"},"El artículo 55 del ET indica que, los aportes obligatorios al Sistema General de Seguridad Social en Pensiones que haya hecho el contribuyente durante el respectivo año gravable, se consideran ingresos no constitutivos de renta.","Rentas de Capital","Azul"]
[{"$f":"SUBSTITUTE(SUBSTITUTE(FORMULATEXTO_Act(Comentarios[[#This Row],[Formulada]]),\"=\",\"\"),\"'\",\"\")","v":" !$B$715"},{"$f":"' '!$B$715","v":"Aportes a fondo de solidaridad pensional "},"El artículo 55 del ET indica que, los aportes obligatorios al Sistema General de Seguridad Social en Pensiones que haya hecho el contribuyente durante el respectivo año gravable, se consideran ingresos no constitutivos de renta.","Rentas de Capital","Azul"]
[{"$f":"SUBSTITUTE(SUBSTITUTE(FORMULATEXTO_Act(Comentarios[[#This Row],[Formulada]]),\"=\",\"\"),\"'\",\"\")","v":" !$B$716"},{"$f":"' '!$B$716","v":"Aportes a ARL "},"El numeral 1.12 del Concepto DIAN 912 de 2018 establece que, el monto total de los aportes que el trabajador independiente realice al Sistema General de Riesgos Laborales, pueden ser tratados como ingreso no constitutivo de renta ni ganancia ocasional.","Rentas de Capital","Azul"]
[{"$f":"SUBSTITUTE(SUBSTITUTE(FORMULATEXTO_Act(Comentarios[[#This Row],[Formulada]]),\"=\",\"\"),\"'\",\"\")","v":" !$B$717"},{"$f":"' '!$B$717","v":"Aportes voluntarios a fondos de pensiones obligatorias "},"El artículo 55 del ET señala que, los aportes voluntarias a fondos de pensiones obligatorias (régimen de ahorro individual con solidaridad) que haya hecho el contribuyente durante el respectivo año gravable, pueden ser tratados como ingreso no constitutivo de renta ni de ganancia ocasional, en un porcentaje que no exceda el 25% del ingreso laboral o tributario anual, limitado a 2.500 UVT (para el año gravable 2022 equivale a $95.010.000).","Rentas de Capital","Azul"]
[{"$f":"SUBSTITUTE(SUBSTITUTE(FORMULATEXTO_Act(Comentarios[[#This Row],[Formulada]]),\"=\",\"\"),\"'\",\"\")","v":" !$B$718"},{"$f":"' '!$B$718","v":"Componente inflacionario de intereses obtenidos en entidades \nfinancieras "},"El artículo 38 del ET indica que, no constituye renta ni ganancia ocasional la parte que corresponda al componente inflacionario de los rendimientos financieros percibidos por personas naturales y sucesiones ilíquidas, que provengan de entidades que estando sometidas a inspección y vigilancia de la Superintendencia Financiera,  tengan por objeto propio intermediar en el mercado de recursos financieros. Para el año gravable 2022, el componente inflacionario es del 100%. ","Rentas de Capital","Azul"]
[{"$f":"SUBSTITUTE(SUBSTITUTE(FORMULATEXTO_Act(Comentarios[[#This Row],[Formulada]]),\"=\",\"\"),\"'\",\"\")","v":" !$B$719"},{"$f":"' '!$B$719","v":"Componente inflacionario de intereses obtenidos e fondos de inversión, \nmutuos de inversión y/o de valores"},"El artículo 39 del ET indica que, las utilidades que los fondos mutuos de inversión, los fondos de inversión y los fondos de valores distribuyan o abonen en cuenta a sus afiliados, no constituyen renta ni ganancia ocasional en la parte que corresponda al componente inflacionario de los rendimientos financieros recibidos por el fondo. Para el  año gravable 2022, el componente inflacionario es del 100%.","Rentas de Capital","Azul"]
[{"$f":"SUBSTITUTE(SUBSTITUTE(FORMULATEXTO_Act(Comentarios[[#This Row],[Formulada]]),\"=\",\"\"),\"'\",\"\")","v":" !$B$739"},{"$f":"' '!$B$739","v":"Intereses y gastos financieros pagados a vinculados económicos"},"De acuerdo con el artículo 118-1 del ET las intereses que el contribuyente haya pagado en préstamos o deudas son deducible en el respectivo año gravable. Sin embargo, en el caso de los intereses pagados que se hayan generado por deudas contraídas de forma directa o indirecta con vinculados económicos, nacionales o extranjeros (la definición vinculado económico se encuentra contenida en el artículo 260-1 del ET), solo se podrá deducirse cuando el monto total promedio de estas deudas, durante el correspondiente año gravable, no exceda el resultado de multiplicar por dos (2) el patrimonio líquido del contribuyente determinado a 31 de diciembre del año gravable inmediatamente anterior. Los intereses que excedan el resultado de la operación anterior, no podrán ser tomados como deducibles. ","Rentas de Capital","Azul"]
[{"$f":"SUBSTITUTE(SUBSTITUTE(FORMULATEXTO_Act(Comentarios[[#This Row],[Formulada]]),\"=\",\"\"),\"'\",\"\")","v":" !$B$745"},{"$f":"' '!$B$745","v":"Intereses pagados en créditos de vivienda o leasing habitacional "},"De acuerdo con el artículo 119 del ET, los intereses que pague el contribuyente en créditos hipotecarios o leasing habitacional, siempre que el préstamo esté garantizado con hipoteca si el acreedor no está sometido a la vigilancia del Estado, pueden ser tomados como deducción hasta un monto igual o inferior a 1.200 UVT (para el año gravable 2022 equivalen a $45.605.000).\nDebe tenerse en cuenta que, de acuerdo con el Concepto 064444 de 2005, los intereses deducibles son aquellos pagados por la vivienda en la cual vive el contribuyente; en caso de no habite la casa por la cual paga dichos intereses, los mismos no podrán ser tomados como deducción. \nAdicionalmente, en caso de que el crédito hipotecario haya sido tomado por varias personas, los intereses deberán tomados como deducción de manera proporcional. ","Rentas de Capital","Azul"]
[{"$f":"SUBSTITUTE(SUBSTITUTE(FORMULATEXTO_Act(Comentarios[[#This Row],[Formulada]]),\"=\",\"\"),\"'\",\"\")","v":" !$B$746"},{"$f":"' '!$B$746","v":"Intereses pagados en créditos educativos con el ICETEX"},"El artículo 119 del ET también indica que, los intereses que se paguen por préstamos con el ICETEX, para la educación superior del contribuyente, podrán ser tomados como deducción hasta un valor que no supere las 100 UVT (para el año gravable 2022 equivalen a $3.800.000).","Rentas de Capital","Azul"]
[{"$f":"SUBSTITUTE(SUBSTITUTE(FORMULATEXTO_Act(Comentarios[[#This Row],[Formulada]]),\"=\",\"\"),\"'\",\"\")","v":" !$B$747"},{"$f":"' '!$B$747","v":"Gravamen a los movimientos financieros (4x1000)"},"De acuerdo con el artículo 119 del ET, el 50% del Gravamen a los Movimientos Financieros que haya sido efectivamente pagado por el contribuyente durante el respectivo año gravable, puede ser tomado como deducción en el impuesto de renta, independientemente de que tenga o no relación de causalidad con la actividad económica que desarrolla. ","Rentas de Capital","Azul"]
[{"$f":"SUBSTITUTE(SUBSTITUTE(FORMULATEXTO_Act(Comentarios[[#This Row],[Formulada]]),\"=\",\"\"),\"'\",\"\")","v":" !$B$748"},{"$f":"' '!$B$748","v":"Aportes a cesantías como partícipes independientes "},"De acuerdo con el artículo 126-1 del ET, los aportes a cesantías que realice el contribuyente como partícipe independiente, pueden ser tomados como deducción hasta una suma de 2.500 UVT (para el año gravable 2022 equivalen a $95.010.000), sin que dicho monto supere un doceavo del ingreso gravable del respectivo año.","Rentas de Capital","Azul"]
[{"$f":"SUBSTITUTE(SUBSTITUTE(FORMULATEXTO_Act(Comentarios[[#This Row],[Formulada]]),\"=\",\"\"),\"'\",\"\")","v":" !$B$753"},{"$f":"' '!$B$753","v":"Ingresos recibidos en países de la CAN "},"En aplicación de lo contenido en la Decisión 578 del 2004 de la Comisión de la Comunidad Andina - CAN, los ingresos recibidos por los contribuyentes en los países miembros de esta -Bolivia, Ecuador y Perú-, sólo serán gravados en el territorio en el cual se realizaron las actividades que dieron origen a estos ingresos. \nLos ingresos serán considerados renta exenta en Colombia y no serán sometidos al límite general del 40% de la renta líquida que no puede exceder las 5.040 UVT (para el año gravable 2022 equivalen a $191.540.000).","Rentas de Capital","Azul"]
[{"$f":"SUBSTITUTE(SUBSTITUTE(FORMULATEXTO_Act(Comentarios[[#This Row],[Formulada]]),\"=\",\"\"),\"'\",\"\")","v":" !$B$758"},{"$f":"' '!$B$758","v":"Aportes a fondos de pensiones voluntarias"},"El artículo 126-1 del ET indica que, los aportes voluntarios que haga el contribuyente a los seguros privados de pensiones y a los fondos de pensiones voluntarias, administrados por las entidades vigiladas por la Superintendencia Financiera de Colombia, serán considerados como una renta exenta, hasta una suma que en conjunto con el valor de los aportes a las Cuentas de Ahorro para el Fomento de la Construcción -AFC- señaladas en el artículo 126-4 del ET, no exceda el 30% del ingreso laboral o ingreso tributario del año, y hasta un monto máximo de 3.800 UVT por año (para el año gravable 2022 equivalen a $144.415.000).\nAdicionalmente, estos aportes sí deben someterse al límite general del 40% que no debe exceder las 5.040 UVT (para el año gravable 2022 equivalen a $191.540.000)., pues la norma no menciona ninguna excepción relacionada con estos aportes. ","Rentas de Capital","Azul"]
[{"$f":"SUBSTITUTE(SUBSTITUTE(FORMULATEXTO_Act(Comentarios[[#This Row],[Formulada]]),\"=\",\"\"),\"'\",\"\")","v":" !$B$759"},{"$f":"' '!$B$759","v":"Aportes a cuentas AFC y/o cuentas AVC "},"El artículo 126-4 del ET indica que, los aportes que haga el contribuyente a cuentas AFC y/o AVC administradas por entidades vigiladas por la Superintendencia Financiera de Colombia, serán considerados como una renta exenta, hasta una suma que en conjunto con el valor de los aportes a seguros privados de pensiones y a los fondos de pensiones voluntarias señalados en el artículo 126-1 del ET, no exceda el 30% del ingreso laboral o ingreso tributario del año, y hasta un monto máximo de 3.800 UVT por año (para el año gravable 2022 equivalen a $144.415.000).\nAdicionalmente, estos aportes sí deben someterse al límite general del 40% que no debe exceder las 5.040 UVT (para el año gravable 2022 equivalen a $191.540.000), pues la norma no menciona ninguna excepción relacionada con estos aportes.","Rentas de Capital","Azul"]
[{"$f":"SUBSTITUTE(SUBSTITUTE(FORMULATEXTO_Act(Comentarios[[#This Row],[Formulada]]),\"=\",\"\"),\"'\",\"\")","v":" !$B$760"},{"$f":"' '!$B$760","v":"Regalías por derechos de autor por libros de carácter científico o \ncultural, editados e impresos en Colombia "},"El artículo 28 de la Ley 98 de 1993 señala que, los ingresos por concepto de derechos de autor que reciban los autores y traductores tanto colombianos como extranjeros residentes en Colombia, por libros de carácter científico o cultural editados e impresos en Colombia, pueden ser tratados como rentas exentas. \nEsta renta exenta debe someterse al límite general del 40% que no puede superar las 5.040 UVT (para el año gravable 2022 equivalen a $191.540.000), pues la norma no menciona ninguna excepción relacionada con esta.","Rentas de Capital","Azul"]
[{"$f":"SUBSTITUTE(SUBSTITUTE(FORMULATEXTO_Act(Comentarios[[#This Row],[Formulada]]),\"=\",\"\"),\"'\",\"\")","v":" !$B$761"},{"$f":"' '!$B$761","v":"Regalías por derechos de autor y traducción provenientes de la \nprimera edición y primer tirada de libros, editados e impresos \nen Colombia"},"El artículo 28 de la Ley 98 de 1993 señala que, también están exentos los ingresos por derechos de autor y traducción de autores nacionales y extranjeros residentes en el exterior, provenientes de la primera edición y primer tirada de libros, editados e impresos en Colombia. \nEsta renta exenta debe someterse al límite general del 40% que no puede superar las 5.040 UVT (para el año gravable 2022 equivalen a $191.540.000), pues la norma no menciona ninguna excepción relacionada con esta.","Rentas de Capital","Azul"]
[{"$f":"SUBSTITUTE(SUBSTITUTE(FORMULATEXTO_Act(Comentarios[[#This Row],[Formulada]]),\"=\",\"\"),\"'\",\"\")","v":" !$B$762"},{"$f":"' '!$B$762","v":"Regalías por derechos de autor y traducción provenientes de las \nediciones o tiradas posteriores a la primera edición del libro"},"El artículo 28 de la Ley 98 de 1993 señala que, para las ediciones o tiradas posteriores del mismo libro estará exento un valor equivalente a 1.200 UVT (para el año gravable 2022 equivalen a $45.605.000).\nEsta renta exenta debe someterse al límite general del 40% que no puede superar las 5.040 UVT (para el año gravable 2022 equivalen a $191.540.000), pues la norma no menciona ninguna excepción relacionada con esta.","Rentas de Capital","Azul"]
[{"$f":"SUBSTITUTE(SUBSTITUTE(FORMULATEXTO_Act(Comentarios[[#This Row],[Formulada]]),\"=\",\"\"),\"'\",\"\")","v":" !$B$784"},{"$f":"' '!$B$784","v":"Retiro de aportes voluntarios a fondos de pensiones obligatorias, sin el \ncumplimiento de los requisitos "},"De acuerdo con los artículos 55 del ET y 1.2.1.12.9 del Decreto 1625 de 2016. Cuando el contribuyente realice retiros de aportes voluntarios a pensiones obligatorias sin el cumplimiento de los requisitos, estos pierden el beneficio de ingreso no constitutivo de renta, por lo que se les practicará una retención en la fuente del 35% y deben ser reportados como ingreso gravado en la declaración de renta del año gravable en el cual se hizo el retiro.","Rentas no laborales","Azul"]
[{"$f":"SUBSTITUTE(SUBSTITUTE(FORMULATEXTO_Act(Comentarios[[#This Row],[Formulada]]),\"=\",\"\"),\"'\",\"\")","v":" !$B$785"},{"$f":"' '!$B$785","v":"Retiro de aportes voluntarios a fondos de pensiones voluntarias, sin el \ncumplimiento de los requisitos "},"Al hacer el reporte del retiro de los aportes voluntarios sin el cumplimiento de los requisitos, es necesario verificar si los aportes retirados fueron realizados sin retención contingente, es decir, si corresponden a cualquier de las siguientes situaciones: \n\n- Retiro de aportes que se sometieron a retención en la fuente por parte de su pagador o empleador porque excedieron el límite del 30% al momento de realizar el aporte. En este caso, este valor fue declarado como ingreso gravado en el año del aporte, por lo tanto, el retiro no constituye ingreso gravado.\n- Retiro de aportes realizados directamente por el contribuyente y sobre los cuales le practicaron retención en la fuente o a pesar que no le practicaron retención en la fuente no fueron tomados como renta exenta en su declaración de renta. En caso de que no hayan sido tomados como renta exenta en el año en el cual se realizaron los aportes, el retiro no constituye ingreso gravado. En caso de que, los aportes si hayan sido tomados como renta exenta en el año en el cual se realizaron, el retiro si deberá ser reportado como ingreso gravado. \n\nSi los aportes retirados se hayan realizado con retención contingente, estos retiros sí deberán ser reportados como ingreso gravado en la declaración de renta.\n\nFuente: www.skandia.com.co","Rentas no laborales","Azul"]
[{"$f":"SUBSTITUTE(SUBSTITUTE(FORMULATEXTO_Act(Comentarios[[#This Row],[Formulada]]),\"=\",\"\"),\"'\",\"\")","v":" !$B$786"},{"$f":"' '!$B$786","v":"Retiro de aportes a cuentas AFC, sin el cumplimiento de los requisitos "},"El parágrafo 2 del artículo 126-4 del ET señala que, si los aportes realizados a cuentas AFC se retiran sin el cumplimiento de los requisitos, pierden su calidad de renta exenta y pasan a ser ingreso gravado en el año en el cual se retiren; adicionalmente, al momento de retiro deberán ser sometidos a una retención en la fuente del 7%.","Rentas no laborales","Azul"]
[{"$f":"SUBSTITUTE(SUBSTITUTE(FORMULATEXTO_Act(Comentarios[[#This Row],[Formulada]]),\"=\",\"\"),\"'\",\"\")","v":" !$B$804"},{"$f":"' '!$B$804","v":"Aportes obligatorios a salud "},"El artículo 56 del ET indica que, los aportes obligatorios al Sistema General de Seguridad Social en Salud que haya hecho el contribuyente durante el respectivo año gravable, se consideran ingresos no constitutivos de renta.","Rentas no laborales","Azul"]
[{"$f":"SUBSTITUTE(SUBSTITUTE(FORMULATEXTO_Act(Comentarios[[#This Row],[Formulada]]),\"=\",\"\"),\"'\",\"\")","v":" !$B$805"},{"$f":"' '!$B$805","v":"Aportes obligatorios a fondos de pensiones"},"El artículo 55 del ET indica que, los aportes obligatorios al Sistema General de Seguridad Social en Pensiones que haya hecho el contribuyente durante el respectivo año gravable, se consideran ingresos no constitutivos de renta.","Rentas no laborales","Azul"]
[{"$f":"SUBSTITUTE(SUBSTITUTE(FORMULATEXTO_Act(Comentarios[[#This Row],[Formulada]]),\"=\",\"\"),\"'\",\"\")","v":" !$B$806"},{"$f":"' '!$B$806","v":"Aportes a fondo de solidaridad pensional "},"El artículo 55 del ET indica que, los aportes obligatorios al Sistema General de Seguridad Social en Pensiones que haya hecho el contribuyente durante el respectivo año gravable, se consideran ingresos no constitutivos de renta.","Rentas no laborales","Azul"]
[{"$f":"SUBSTITUTE(SUBSTITUTE(FORMULATEXTO_Act(Comentarios[[#This Row],[Formulada]]),\"=\",\"\"),\"'\",\"\")","v":" !$B$807"},{"$f":"' '!$B$807","v":"Aportes a ARL "},"El numeral 1.12 del Concepto DIAN 912 de 2018 establece que, el monto total de los aportes que el trabajador independiente realice al Sistema General de Riesgos Laborales, pueden ser tratados como ingreso no constitutivo de renta ni ganancia ocasional.","Rentas no laborales","Azul"]
[{"$f":"SUBSTITUTE(SUBSTITUTE(FORMULATEXTO_Act(Comentarios[[#This Row],[Formulada]]),\"=\",\"\"),\"'\",\"\")","v":" !$B$808"},{"$f":"' '!$B$808","v":"Aportes voluntarios a fondos de pensiones obligatorias "},"El artículo 55 del ET señala que, los aportes voluntarias a fondos de pensiones obligatorias (régimen de ahorro individual con solidaridad) que haya hecho el contribuyente durante el respectivo año gravable, pueden ser tratados como ingreso no constitutivo de renta ni de ganancia ocasional, en un porcentaje que no exceda el 25% del ingreso laboral o tributario anual, limitado a 2.500 UVT (para el año gravable 2022 equivale a $95.010.000).","Rentas no laborales","Azul"]
[{"$f":"SUBSTITUTE(SUBSTITUTE(FORMULATEXTO_Act(Comentarios[[#This Row],[Formulada]]),\"=\",\"\"),\"'\",\"\")","v":" !$B$809"},{"$f":"' '!$B$809","v":"Indemnizaciones por daño emergente "},"El artículo 45 del ET indica que, las indemnizaciones por daño emergente que reciba el contribuyente pueden ser tratadas como ingresos no constitutivos de renta. \nDebe tener en cuenta que, para que proceda este tratamiento, es necesario que el contribuyente invertía la totalidad de la indemnización en la adquisición de bienes iguales o semejantes a los que eran objeto del seguro.","Rentas no laborales","Azul"]
[{"$f":"SUBSTITUTE(SUBSTITUTE(FORMULATEXTO_Act(Comentarios[[#This Row],[Formulada]]),\"=\",\"\"),\"'\",\"\")","v":" !$B$810"},{"$f":"' '!$B$810","v":"Gananciales"},"El artículo 47 del ET señala que los gananciales recibidos por el contribuyente pueden ser tratados como ingreso no constitutivo de renta. ","Rentas no laborales","Azul"]
[{"$f":"SUBSTITUTE(SUBSTITUTE(FORMULATEXTO_Act(Comentarios[[#This Row],[Formulada]]),\"=\",\"\"),\"'\",\"\")","v":" !$B$811"},{"$f":"' '!$B$811","v":"Apoyos económicos no reembolsables o condonados entregados \npor el Estado para financiera programas educativos "},"Los artículos 46 y 1.2.1.12.8 del Decreto 1625 de 2016 indican que, los apoyos económicos no reembolsables o condonados entregados por el Estado o financiados con recursos públicos, para financiar programas educativos  al contribuyente, pueden ser tratados como ingreso no constitutivo de renta. Cuando dichos apoyos económicos NO hayan sido recibidos por medio de una relación laboral, estos ingresos deberán ser reportados en las rentas no laborales. ","Rentas no laborales","Azul"]
[{"$f":"SUBSTITUTE(SUBSTITUTE(FORMULATEXTO_Act(Comentarios[[#This Row],[Formulada]]),\"=\",\"\"),\"'\",\"\")","v":" !$B$812"},{"$f":"' '!$B$812","v":"Donaciones recibidas para partidos, movimientos y/o campañas políticas "},"El artículo 47-1 del ET indica que, los dineros que las personas naturales reciban de terceros, sean estos personas naturales o jurídicas, destinadas en forma exclusiva a financiar el funcionamiento de partidos, movimientos políticos y grupos sociales que postulen candidatos y las que con el mismo fin reciban los candidatos cabezas de listas para la financiación de las campañas políticas para las elecciones populares previstas en la Constitución Nacional, pueden ser tratados como ingreso no constitutivo de renta, si se demuestra que han sido utilizadas en estas actividades.","Rentas no laborales","Azul"]
[{"$f":"SUBSTITUTE(SUBSTITUTE(FORMULATEXTO_Act(Comentarios[[#This Row],[Formulada]]),\"=\",\"\"),\"'\",\"\")","v":" !$B$813"},{"$f":"' '!$B$813","v":"Incentivos para capitalización rural"},"El  artículo 52 del ET señala que, Incentivo a la Capitalización Rural previsto en la Ley 101 de 1993, tiene tratamiento de ingreso no constitutivo de renta. ","Rentas no laborales","Azul"]
[{"$f":"SUBSTITUTE(SUBSTITUTE(FORMULATEXTO_Act(Comentarios[[#This Row],[Formulada]]),\"=\",\"\"),\"'\",\"\")","v":" !$B$814"},{"$f":"' '!$B$814","v":"Utilidad en venta de acciones inscritas en BVC, cuando no superen el 10% \nde las acciones en circulación de la sociedad"},"De acuerdo con el artículo 36-1 del ET, no constituyen renta ni ganancia ocasional las utilidades provenientes de la enajenación de acciones inscritas en una Bolsa de Valores Colombiana, de las cuales sea titular un mismo beneficiario real, cuando dicha enajenación no supere el 10% de las acciones en circulación de la respectiva sociedad, durante un mismo año gravable.","Rentas no laborales","Azul"]
[{"$f":"SUBSTITUTE(SUBSTITUTE(FORMULATEXTO_Act(Comentarios[[#This Row],[Formulada]]),\"=\",\"\"),\"'\",\"\")","v":" !$B$835"},{"$f":"' '!$B$835","v":"Intereses y gastos financieros pagados a vinculados económicos"},"De acuerdo con el artículo 118-1 del ET las intereses que el contribuyente haya pagado en préstamos o deudas son deducible en el respectivo año gravable. Sin embargo, en el caso de los intereses pagados que se hayan generado por deudas contraídas de forma directa o indirecta con vinculados económicos, nacionales o extranjeros (la definición vinculado económico se encuentra contenida en el artículo 260-1 del ET), solo se podrá deducirse cuando el monto total promedio de estas deudas, durante el correspondiente año gravable, no exceda el resultado de multiplicar por dos (2) el patrimonio líquido del contribuyente determinado a 31 de diciembre del año gravable inmediatamente anterior. Los intereses que excedan el resultado de la operación anterior, no podrán ser tomados como deducibles. ","Rentas no laborales","Azul"]
[{"$f":"SUBSTITUTE(SUBSTITUTE(FORMULATEXTO_Act(Comentarios[[#This Row],[Formulada]]),\"=\",\"\"),\"'\",\"\")","v":" !$B$845"},{"$f":"' '!$B$845","v":"Intereses pagados en créditos de vivienda o leasing habitacional "},"De acuerdo con el artículo 119 del ET, los intereses que pague el contribuyente en créditos hipotecarios o leasing habitacional, siempre que el préstamo esté garantizado con hipoteca si el acreedor no está sometido a la vigilancia del Estado, pueden ser tomados como deducción hasta un monto igual o inferior a 1.200 UVT (para el año gravable 2022 equivalen a $45.605.000).\nDebe tenerse en cuenta que, de acuerdo con el Concepto 064444 de 2005, los intereses deducibles son aquellos pagados por la vivienda en la cual vive el contribuyente; en caso de no habite la casa por la cual paga dichos intereses, los mismos no podrán ser tomados como deducción. \nAdicionalmente, en caso de que el crédito hipotecario haya sido tomado por varias personas, los intereses deberán tomados como deducción de manera proporcional. ","Rentas no laborales","Azul"]
[{"$f":"SUBSTITUTE(SUBSTITUTE(FORMULATEXTO_Act(Comentarios[[#This Row],[Formulada]]),\"=\",\"\"),\"'\",\"\")","v":" !$B$846"},{"$f":"' '!$B$846","v":"Intereses pagados en créditos educativos con el ICETEX"},"El artículo 119 del ET también indica que, los intereses que se paguen por préstamos con el ICETEX, para la educación superior del contribuyente, podrán ser tomados como deducción hasta un valor que no supere las 100 UVT (para el año gravable 2022 equivalen a $3.800.000).","Rentas no laborales","Azul"]
[{"$f":"SUBSTITUTE(SUBSTITUTE(FORMULATEXTO_Act(Comentarios[[#This Row],[Formulada]]),\"=\",\"\"),\"'\",\"\")","v":" !$B$847"},{"$f":"' '!$B$847","v":"Gravamen a los movimientos financieros (4x1000)"},"De acuerdo con el artículo 119 del ET, el 50% del Gravamen a los Movimientos Financieros que haya sido efectivamente pagado por el contribuyente durante el respectivo año gravable, puede ser tomado como deducción en el impuesto de renta, independientemente de que tenga o no relación de causalidad con la actividad económica que desarrolla. ","Rentas no laborales","Azul"]
[{"$f":"SUBSTITUTE(SUBSTITUTE(FORMULATEXTO_Act(Comentarios[[#This Row],[Formulada]]),\"=\",\"\"),\"'\",\"\")","v":" !$B$848"},{"$f":"' '!$B$848","v":"Aportes a cesantías como partícipes independientes "},"De acuerdo con el artículo 126-1 del ET, los aportes a cesantías que realice el contribuyente como partícipe independiente, pueden ser tomados como deducción hasta una suma de 2.500 UVT (para el año gravable 2022 equivalen a $95.010.000), sin que dicho monto supere un doceavo del ingreso gravable del respectivo año.","Rentas no laborales","Azul"]
[{"$f":"SUBSTITUTE(SUBSTITUTE(FORMULATEXTO_Act(Comentarios[[#This Row],[Formulada]]),\"=\",\"\"),\"'\",\"\")","v":" !$B$853"},{"$f":"' '!$B$853","v":"Servicios hoteleros prestados en hoteles que se hayan construido en al \nmenos un 61% entre el 1 de enero de 2003 y el 31 de diciembre de 2017"},"El numeral 3 del artículo 207-2 del ET, adicionado por el artículo 18 de la Ley 788 de 2002, y el artículo 1.2.1.22.10 del Decreto 1625 de 2016, indican que los ingresos por servicios hoteleros prestados en hoteles nuevos que iniciaron su construcción antes del 31 de diciembre de 2017, pueden ser tratados como renta exenta durante 30 años contados partir del año gravable en que se inicien las operaciones. Debe tenerse en cuenta que, para este tratamiento, se consideran nuevos hoteles únicamente aquellos construidos o que demuestren un avance de por lo menos el 61% en la construcción de su infraestructura entre el 1 de enero del 2003 y el 31 de diciembre del 2017.\nAdicionalmente, para que proceda esta deducción, es necesario que el contribuyente cumpla las condiciones indicadas en el artículo 1.2.1.22.11 del Decreto 1625 de 2016.\nCabe aclarar que, los contribuyentes que acrediten las condiciones, pueden disfrutar de este beneficio durante la totalidad del término otorgado en la norma y, por considerarse constitucionalmente este derecho como una situación jurídica consolidada, no puede ser afectada por cambios normativos posteriores. ","Rentas no laborales","Azul"]
[{"$f":"SUBSTITUTE(SUBSTITUTE(FORMULATEXTO_Act(Comentarios[[#This Row],[Formulada]]),\"=\",\"\"),\"'\",\"\")","v":" !$B$854"},{"$f":"' '!$B$854","v":"Servicios hoteleros prestados en hoteles que se hayan remodelado y/o ampliado \nen al menos un 61% entre el 1 de enero de 2003 y el 31 de diciembre de 2017"},"El numeral 4 del artículo 207-2 del ET y el artículo 1.2.1.22.12 del Decreto 1625 de 2016 señalan que, los ingresos por servicios hoteleros prestados en hoteles que hayan sido remodelados o ampliados entre el 1 de enero de 2003 y el 31 de diciembre de 2017, pueden ser tratados como renta exenta durante 30 años contados a partir del año gravable en que se inicien las operaciones de prestación de servicios en el área remodelada o ampliada. La exención corresponderá a la proporción que represente el valor de la remodelación o ampliación en el costo fiscal del inmueble remodelado y/o ampliado.\nPara que proceda el tratamiento de renta exenta, el contribuyente debe cumplir las condiciones señaladas en el artículo 1.2.1.22.13 del Decreto 1625 de 2016.\nCabe aclarar que, los contribuyentes que acrediten las condiciones, pueden disfrutar de este beneficio durante la totalidad del término otorgado en la norma y, por considerarse constitucionalmente este derecho como una situación jurídica consolidada, no puede ser afectada por cambios normativos posteriores. ","Rentas no laborales","Azul"]
[{"$f":"SUBSTITUTE(SUBSTITUTE(FORMULATEXTO_Act(Comentarios[[#This Row],[Formulada]]),\"=\",\"\"),\"'\",\"\")","v":" !$B$855"},{"$f":"' '!$B$855","v":"Ingresos recibidos en países de la CAN "},"En aplicación de lo contenido en la Decisión 578 del 2004 de la Comisión de la Comunidad Andina - CAN, los ingresos recibidos por los contribuyentes en los países miembros de esta -Bolivia, Ecuador y Perú-, sólo serán gravados en el territorio en el cual se realizaron las actividades que dieron origen a estos ingresos. \nLos ingresos serán considerados renta exenta en Colombia y no serán sometidos al límite general del 40% de la renta líquida que no puede exceder las 5.040 UVT (para el año gravable 2022 equivalen a $191.540.000).","Rentas no laborales","Azul"]
[{"$f":"SUBSTITUTE(SUBSTITUTE(FORMULATEXTO_Act(Comentarios[[#This Row],[Formulada]]),\"=\",\"\"),\"'\",\"\")","v":" !$B$860"},{"$f":"' '!$B$860","v":"Aportes a fondos de pensiones voluntarias"},"El artículo 126-1 del ET indica que, los aportes voluntarios que haga el contribuyente a los seguros privados de pensiones y a los fondos de pensiones voluntarias, administrados por las entidades vigiladas por la Superintendencia Financiera de Colombia, serán considerados como una renta exenta, hasta una suma que en conjunto con el valor de los aportes a las Cuentas de Ahorro para el Fomento de la Construcción -AFC- señaladas en el artículo 126-4 del ET, no exceda el 30% del ingreso laboral o ingreso tributario del año, y hasta un monto máximo de 3.800 UVT por año (para el año gravable 2022 equivalen a $144.415.000).\nAdicionalmente, estos aportes sí deben someterse al límite general del 40% que no debe exceder las 5.040 UVT (para el año gravable 2022 equivalen a $191.540.000)., pues la norma no menciona ninguna excepción relacionada con estos aportes. ","Rentas no laborales","Azul"]
[{"$f":"SUBSTITUTE(SUBSTITUTE(FORMULATEXTO_Act(Comentarios[[#This Row],[Formulada]]),\"=\",\"\"),\"'\",\"\")","v":" !$B$861"},{"$f":"' '!$B$861","v":"Aportes a cuentas AFC y/o cuentas AVC "},"El artículo 126-4 del ET indica que, los aportes que haga el contribuyente a cuentas AFC y/o AVC administradas por entidades vigiladas por la Superintendencia Financiera de Colombia, serán considerados como una renta exenta, hasta una suma que en conjunto con el valor de los aportes a seguros privados de pensiones y a los fondos de pensiones voluntarias señalados en el artículo 126-1 del ET, no exceda el 30% del ingreso laboral o ingreso tributario del año, y hasta un monto máximo de 3.800 UVT por año (para el año gravable 2022 equivalen a $144.415.000).\nAdicionalmente, estos aportes sí deben someterse al límite general del 40% que no debe exceder las 5.040 UVT (para el año gravable 2022 equivalen a $191.540.000), pues la norma no menciona ninguna excepción relacionada con estos aportes.","Rentas no laborales","Azul"]
[{"$f":"SUBSTITUTE(SUBSTITUTE(FORMULATEXTO_Act(Comentarios[[#This Row],[Formulada]]),\"=\",\"\"),\"'\",\"\")","v":" !$B$876"},{"$f":"' '!$B$876","v":"Rentas exentas y/o deducciones imputables (limitadas)"},"De acuerdo con las indicaciones del formulario 210 habilitado para el año gravable 2022, para calcular las rentas exentas y deducciones imputables limitadas de la cédula general, se deberá hacer la siguiente operación: \n\nSe suman los ingresos brutos de las Rentas de Trabajo (Casilla 32), más los ingresos brutos de las Rentas de Trabajo por honorarios y compensación de servicios personales sujetos a costos y gastos y no a las rentas exentas del numeral 10 del artículo 206 del ET (Casilla 43), más los ingresos brutos de las Rentas de Capital (Casilla 58), más los ingresos brutos de las Rentas no Laborales (casilla 74), y se restan los ingresos no constitutivos de renta de las Renta de Trabajo (Casilla 33), menos los ingresos no constitutivos de renta de las Rentas de Trabajo por honorarios y compensación de servicios personales sujetos a costos y gastos y no a las rentas exentas del numeral 10 del artículo 206 del ET (Casilla 44), menos los ingresos no constitutivos de las Rentas de Capital (Casilla 59), menos los ingresos no constitutivos de renta de las Rentas no Laborales (Casilla 76), menos las Devoluciones, rebajas y descuentos de la Casilla 75). \n\nAl resultado de la operación anterior, se restan las rentas exentas que conforme al numeral 3 del artículo 336 del ET, no les aplica el límite general del 40% ni el de las 5.040 UVT. A este resultado se le aplica el 40%, que en todo caso, no puede superar las 5.040 UVT. Al 40% o a las 5.040 UVT calculado anteriormente, se suman las rentas exentas no sometidas al límite. \n\nUna vez obtenido el valor total de las rentas exentas y deducciones imputables a la renta líquida de la cédula general, se distribuirá en las casillas correspondientes a las Rentas exentas y deducciones imputables (Limitadas), de la siguiente manera: primero a las Rentas de Trabajo, segundo a las rentas de Trabajo por honorarios y compensación de servicios personales sujetos a costos y gastos y no a las rentas exentas del numeral 10 del artículo 206 del ET, después a las Rentas de Capital y por último a las Rentas no laborales, hasta agotar el valor total de las rentas exentas y deducciones. ","Resumen Cédula General","Azul"]
[{"$f":"SUBSTITUTE(SUBSTITUTE(FORMULATEXTO_Act(Comentarios[[#This Row],[Formulada]]),\"=\",\"\"),\"'\",\"\")","v":" !$D$876"},{"$f":"' '!$D$876","v":{"v":0,"d":"$ 0"}},"Este valor corresponde a las rentas exentas y deducciones imputables limitadas a que tiene derecho el contribuyente y que serán registradas en las casillas 37 y 40, controlando que dicho valor no supere el valor de la renta líquida registrada en la casilla 34, ni el valor de la sumatoria de las casilla 37 y 40 de las rentas de trabajo.","Resumen Cédula General","Azul"]
[{"$f":"SUBSTITUTE(SUBSTITUTE(FORMULATEXTO_Act(Comentarios[[#This Row],[Formulada]]),\"=\",\"\"),\"'\",\"\")","v":" !$G$876"},{"$f":"' '!$G$876","v":{"v":0,"d":"$ 0"}},"Este valor corresponde al valor de las rentas exentas y deducciones imputables a las que tiene derecho el contribuyente y que fueron registradas en las casillas 82 y 85, teniendo en cuenta el saldo de las rentas exentas y deducciones imputables, una vez restadas las rentas exentas y deducciones imputables limitadas de las rentas de trabajo (casilla 41), las rentas y deducciones imputables limitadas de las rentas de trabajo por honorarios y compensación de servicios personales (casilla 53), las rentas y deducciones imputables limitadas de las rentas de capital (casilla 69) controlando que dicho valor no supere el valor de la suma de las casilla 78 y 79, ni de la sumatoria de los valores de las casilla 82 y 85.","Resumen Cédula General","Azul"]
[{"$f":"SUBSTITUTE(SUBSTITUTE(FORMULATEXTO_Act(Comentarios[[#This Row],[Formulada]]),\"=\",\"\"),\"'\",\"\")","v":" !$E$876"},{"$f":"' '!$E$876","v":{"v":0,"d":"$ 0"}},"Este valor corresponde al valor de las rentas exentas y deducciones imputables a las que tiene derecho el contribuyente y que serán registradas en las casillas 49 y 52, teniendo en cuenta el saldo de las rentas exentas y deducciones imputables, una vez restadas las rentas exentas y deducciones imputables limitadas de las rentas de trabajo (casilla 41), controlando que dicho valor no supere el valor de la renta líquida registrada en la casilla 46, ni de la sumatoria de los valores de las casilla 49 y 52.","Resumen Cédula General","Azul"]
[{"$f":"SUBSTITUTE(SUBSTITUTE(FORMULATEXTO_Act(Comentarios[[#This Row],[Formulada]]),\"=\",\"\"),\"'\",\"\")","v":" !$F$876"},{"$f":"' '!$F$876","v":{"v":0,"d":"$ 0"}},"Este valor corresponde al valor de las rentas exentas y deducciones imputables a las que tiene derecho el contribuyente y que serán registradas en las casillas 65 y 68, teniendo en cuenta el saldo de las rentas exentas y deducciones imputables, una vez restadas las rentas exentas y deducciones imputables limitadas de las rentas de trabajo (casilla 41), las rentas y deducciones imputables limitadas de las rentas de trabajo por honorarios y compensación de servicios personales (casilla 53), controlando que dicho valor no supere el valor de la suma de las casilla 61 y 62, ni de la sumatoria de los valores de las casilla 65 y 68.","Resumen Cédula General","Azul"]
[{"$f":"SUBSTITUTE(SUBSTITUTE(FORMULATEXTO_Act(Comentarios[[#This Row],[Formulada]]),\"=\",\"\"),\"'\",\"\")","v":" !$B$916"},{"$f":"' '!$B$916","v":"Pensiones netas obtenidas de acuerdo con la legislación colombiana "},"El numeral 5 del artículo 206 del ET señala que, las pensiones de jubilación, invalidez, vejez, de sobrevivientes y sobre Riesgos Profesionales, y las Indemnizaciones Sustitutivas de las Pensiones o las devoluciones de saldos de ahorro pensional, se encuentran exentas en un valor que mensualmente no exceda las 1.000 UVT (para el año gravable 2022 equivalen a $38.004.000).","Cédula Pensiones","Azul"]
[{"$f":"SUBSTITUTE(SUBSTITUTE(FORMULATEXTO_Act(Comentarios[[#This Row],[Formulada]]),\"=\",\"\"),\"'\",\"\")","v":" !$B$917"},{"$f":"' '!$B$917","v":"Ingresos recibidos en países de la CAN "},"En aplicación de lo contenido en la Decisión 578 del 2004 de la Comisión de la Comunidad Andina - CAN, los ingresos recibidos por los contribuyentes en los países miembros de esta -Bolivia, Ecuador y Perú-, sólo serán gravados en el territorio en el cual se realizaron las actividades que dieron origen a estos ingresos. \nLos ingresos serán considerados renta exenta en Colombia y no serán sometidos al límite general del 40% de la renta líquida que no puede exceder las 5.040 UVT (para el año gravable 2022 equivalen a $191.540.000).","Cédula Pensiones","Azul"]
[{"$f":"SUBSTITUTE(SUBSTITUTE(FORMULATEXTO_Act(Comentarios[[#This Row],[Formulada]]),\"=\",\"\"),\"'\",\"\")","v":" !$B$1127"},{"$f":"' '!$B$1127","v":"Recompensas "},"El artículo 42 del ET indica que, toda retribución en dinero recibida de organismos estatales, como recompensa por el suministro de datos e informaciones especiales a las secciones de inteligencia de los organismos de seguridad del Estado, sobre ubicación de antisociales o conocimiento de sus actividades delictivas, en un lugar determinado, es considerar un ingreso no constitutivo de renta ni ganancia ocasional.","G. Ocasionales","Azul"]
[{"$f":"SUBSTITUTE(SUBSTITUTE(FORMULATEXTO_Act(Comentarios[[#This Row],[Formulada]]),\"=\",\"\"),\"'\",\"\")","v":" !$B$1128"},{"$f":"' '!$B$1128","v":"Utilidad en venta de acciones inscritas en BVC, cuando no superen el 10% de las acciones en circulación de la \nsociedad"},"De acuerdo con el artículo 36-1 del ET, no constituyen renta ni ganancia ocasional las utilidades provenientes de la enajenación de acciones inscritas en una Bolsa de Valores Colombiana, de las cuales sea titular un mismo beneficiario real, cuando dicha enajenación no supere el 10% de las acciones en circulación de la respectiva sociedad, durante un mismo año gravable.","G. Ocasionales","Azul"]
[{"$f":"SUBSTITUTE(SUBSTITUTE(FORMULATEXTO_Act(Comentarios[[#This Row],[Formulada]]),\"=\",\"\"),\"'\",\"\")","v":" !$B$1129"},{"$f":"' '!$B$1129","v":"Utilidad en venta de casa o apartamento de habitación adquirido con anterioridad al 1 de enero de 1987"},"De acuerdo con el artículo 44 del ET, cuando la casa o apartamento de habitación del contribuyente se haya adquirido antes del 1 de enero de 1987, no se causará impuesto de renta ni ganancia ocasional por concepto de su enajenación sobre una parte de la ganancia obtenida, en los porcentajes que se indican a continuación:\n\n10% si fue adquirida durante el año 1986\n20% si fue adquirida durante el año 1985\n30% si fue adquirida durante el año 1984\n40% si fue adquirida durante el año 1983\n50% si fue adquirida durante el año 1982\n60% si fue adquirida durante el año 1981\n70% si fue adquirida durante el año 1980\n80% si fue adquirida durante el año 1979\n90% si fue adquirida durante el año 1978\n100% si fue adquirida antes del 1o. de enero de 1978.","G. Ocasionales","Azul"]
[{"$f":"SUBSTITUTE(SUBSTITUTE(FORMULATEXTO_Act(Comentarios[[#This Row],[Formulada]]),\"=\",\"\"),\"'\",\"\")","v":" !$B$1144"},{"$f":"' '!$B$1144","v":"Indemnizaciones por seguros de vida "},"El artículo 303-1 del ET señala que, las indemnizaciones por seguros de vida, están gravadas con la tarifa aplicable a las ganancias ocasionales, en el monto que supere 12.500 UVT (para el año gravable 2022 equivalen a $475.050.000). El monto que no supere las 12.500 UVT será considerado como una ganancia ocasional exenta.","G. Ocasionales","Azul"]
[{"$f":"SUBSTITUTE(SUBSTITUTE(FORMULATEXTO_Act(Comentarios[[#This Row],[Formulada]]),\"=\",\"\"),\"'\",\"\")","v":" !$B$1201"},{"$f":"' '!$B$1201","v":"Límite para compensación de pérdidas fiscales del año gravable 2018 y anteriores (Casilla 93 - Renta \nlíquida ordinaria cédula general menos Casilla 42 - Renta líquida ordinaria rentas de trabajo)"},"El artículo 1.2.1.20.6 del artículo 1625 de 2016 establece que tratamiento de las pérdidas fiscales de las personas naturales, indicando que \"las pérdidas declaradas en los periodos gravables 2018 y anteriores únicamente podrán ser imputadas contra la renta líquida de la cédula general, teniendo en cuenta los límites y porcentajes de compensación establecidos en las normas vigentes, y sin afectar las rentas de trabajo, de conformidad con lo previsto en el artículo 156 y el parágrafo transitorio del artículo 330 del ET\".","Compensaciones","Azul"]
[{"$f":"SUBSTITUTE(SUBSTITUTE(FORMULATEXTO_Act(Comentarios[[#This Row],[Formulada]]),\"=\",\"\"),\"'\",\"\")","v":" !$B$1210"},{"$f":"' '!$B$1210","v":"Límite para compensación por exceso de renta presuntiva"},"Debe tenerse en cuenta que, el exceso de renta presuntiva se puede compensar con las rentas líquidas ordinarias; sin embargo, a este valor debe restarse, si es el caso, el valor correspondiente a la compensación por pérdidas fiscales del año gravable 2018 y anteriores, siendo la diferencia el valor límite para compensar el exceso de renta presuntiva.","Compensaciones","Azul"]
[{"$f":"SUBSTITUTE(SUBSTITUTE(FORMULATEXTO_Act(Comentarios[[#This Row],[Formulada]]),\"=\",\"\"),\"'\",\"\")","v":" !$C$1218"},{"$f":"' '!$C$1218","v":0},"De acuerdo con el artículo 236 del ET, cuando la suma de la renta gravable, las rentas exentas y la ganancia ocasional neta, sea inferior a la diferencia entre el patrimonio líquido del último periodo gravable y el patrimonio líquido del periodo inmediatamente anterior, dicha diferencia se considera renta gravable, a menos que el contribuyente demuestre que el aumento patrimonial obedece a causas justificadas.","Comparación Patrimonial","Azul"]
[{"$f":"SUBSTITUTE(SUBSTITUTE(FORMULATEXTO_Act(Comentarios[[#This Row],[Formulada]]),\"=\",\"\"),\"'\",\"\")","v":" !$D$1229"},{"$f":"' '!$D$1229","v":{"v":0,"d":"$ 0"}},"Si el resultado de esta casilla es cero ($0) o menor a cero ($0), NO existe renta por comparación patrimonial, pues la variación presentada en el patrimonio líquido del año gravable 2022 con respecto al patrimonio líquido del año anterior, se encuentra justificada con las rentas percibidas en el año. \nEn caso de que esta casilla sea mayor a cero ($0), SÍ existe renta por comparación patrimonial, es decir que, la variación presentada en el patrimonio líquido del año gravable 2022 con respecto al patrimonio líquido del año anterior, no se encuentra justificada con las rentas percibidas en el año, y por lo tanto, la variación no justificada debe ser reporta como renta líquida gravable en la casilla 96 del formulario, sin que sea posible disminuirla con deducciones y renta exenta (se sugiere hacer una revisión de los activos, deudas e ingresos registrados para validar que no hay omisión de algún dato o información.","Comparación Patrimonial","Azul"]
[{"$f":"SUBSTITUTE(SUBSTITUTE(FORMULATEXTO_Act(Comentarios[[#This Row],[Formulada]]),\"=\",\"\"),\"'\",\"\")","v":" !$B$1249"},{"$f":"' '!$B$1249","v":"Impuestos pagados en el exterior "},"De acuerdo con el artículo 254 del ET “las personas naturales residentes en el país, que sean contribuyentes del impuesto de renta y que perciban rentas de fuente extranjera sujetas al impuesto de renta en el país de origen, tienen derecho a descontar del monto del impuesto colombiano de renta, el impuesto sobre la renta pagado en el extranjero, cualquiera que sea la denominación, liquidado sobre esas mismas rentas, siempre que el descuento no exceda del monto del impuesto que deba pagar el contribuyente en Colombia por esas mismas rentas\". \nEn consecuencia, en aquellos casos en que el impuesto pagado en el exterior sea superior a aquel que se generaría en Colombia por esas mismas rentas, el excedente no podrás ser aprovechado como descuento tributario; por lo anterior, es necesario hacer el cálculo correspondiente del impuesto de renta que se generaría en Colombia sobre las rentas que dieron origen al impuesto pagado en el exterior, y de esta manera, determinar el valor por descuento tributario que procede.","Descuentos Tributarios","Azul"]
[{"$f":"SUBSTITUTE(SUBSTITUTE(FORMULATEXTO_Act(Comentarios[[#This Row],[Formulada]]),\"=\",\"\"),\"'\",\"\")","v":" !$B$1264"},{"$f":"' '!$B$1264","v":"Donaciones o inversiones realizadas en investigación, desarrollo tecnológico o innovación "},"El artículo 256 del ET señala que, las personas que realicen inversiones en proyectos calificados por el Consejo Nacional de Beneficios Tributarios en Ciencia y Tecnología en Innovación como de investigación, desarrollo tecnológico o innovación, de acuerdo con los criterios y condiciones definidas por dicho Consejo, pueden tomar como descuento tributario en el impuesto de renta el 25% del valor invertido en dichos proyectos en el periodo gravable en que se realizó la donación o inversión. \nDebe tenerse que en cuenta que, el valor de este descuento en conjunto con los otros descuentos señalados en el artículo 256 del ET y aquellos mencionados en el artículo 257 del ET, no pueden exceder el 25% del impuesto de renta a cargo del respectivo año gravable (artículo 258 del ET). El exceso de descuento que se presente podrá ser tomado dentro de los cuatro años gravables siguientes a aquel en el que se realizó la donación o inversión en investigación, desarrollo e innovación. \nAdicionalmente, se deberá considerar el límite general de los descuentos tributarios señalados en el artículo 259 del ET. ","Descuentos Tributarios","Azul"]
[{"$f":"SUBSTITUTE(SUBSTITUTE(FORMULATEXTO_Act(Comentarios[[#This Row],[Formulada]]),\"=\",\"\"),\"'\",\"\")","v":" !$B$1268"},{"$f":"' '!$B$1268","v":"Donaciones hechas a programas creados por las instituciones de educación superior o por el ICETEX "},"El parágrafo 2 del artículo 256 del ET indica que, los contribuyentes que realicen donaciones a programas creados por las instituciones de educación superior o por el Icetex, dirigidas a programas de becas o créditos condonables aprobados por el Ministerio de Educación Nacional y que beneficien a estudiantes de estratos 1, 2 y 3 a través de becas de estudio total o parcial o créditos condonables que incluyan manutención, hospedaje, transporte, matrícula, útiles y/o libros; pueden tomar el 25% del valor donado en el respectivo año gravable.\nDebe tenerse que en cuenta que, el valor a tomar por estas donaciones sumado con los otros descuentos señalados en el artículo 256 del ET y aquellos mencionados en el artículo 257 del ET, no puede exceder el 25% del impuesto de renta a cargo del respectivo año gravable. Sin embargo, el exceso de descuento que se presente podrá ser tomado dentro de los cuatro años gravables siguientes a aquel en el que se realizó la donación. Adicionalmente, se deberá considerar el límite general de los descuentos tributarios señalados en el artículo 259 del ET. \n","Descuentos Tributarios","Azul"]
[{"$f":"SUBSTITUTE(SUBSTITUTE(FORMULATEXTO_Act(Comentarios[[#This Row],[Formulada]]),\"=\",\"\"),\"'\",\"\")","v":" !$B$1272"},{"$f":"' '!$B$1272","v":"Donaciones a entidades sin ánimo de lucro pertenecientes al régimen especial "},"El inciso 1 del artículo 257 del ET indica que los contribuyentes que realicen donaciones a entidades calificadas en el del régimen tributario especial y a las entidades no contribuyentes señaladas en los artículos 22 y 23 del ET, pueden tomar el 25% del valor donado como descuento tributario en el periodo gravable. El artículo 1.2.4.1.3 del Decreto 1625 de 2016, indica que, para que el descuento tributario proceda, las entidades que reciban las donaciones deben cumplir los requisitos señalados en el artículo 125-1 del ET.\nDebe tenerse en cuenta que, el valor a tomar por estas donaciones sumado con los otros descuentos señalados en el artículo 257 del ET y aquellos mencionados en el artículo 256 del ET, no puede exceder el 25% del impuesto de renta a cargo del respectivo año gravable. El exceso de descuento que se presente podrá ser tomado dentro del periodo gravable siguiente a aquel en el que se realice la donación. \nAdicionalmente, se deberá considerar el límite general de los descuentos tributarios señalados en el artículo 259 del ET. ","Descuentos Tributarios","Azul"]
[{"$f":"SUBSTITUTE(SUBSTITUTE(FORMULATEXTO_Act(Comentarios[[#This Row],[Formulada]]),\"=\",\"\"),\"'\",\"\")","v":" !$B$1276"},{"$f":"' '!$B$1276","v":"Becas por impuestos"},"El artícuo 257-1 del ET reglamentado por el artículo 1.6.2.5.5 del Decreto 1625 de 2016 indica que, los contribuyentes que celebren convenios con Coldeportes, hoy Ministerio del Deporte, para asignar becas de estudio y manutención a deportistas talento o reserva deportiva, recibirán a cambio títulos negociables representativos del descuento tributario de becas por impuestos para acreditar en las declaraciones del impuesto sobre la renta y complementarios. Los adquirientes del título negociable representativo del descuento tributario de becas por impuestos, solo podrán tomar como descuento tributario hasta un monto que no exceda del treinta por ciento (30%) del valor total del impuesto sobre la renta a cargo, en el respectivo periodo gravable en que se tome el descuento correspondiente.","Descuentos Tributarios","Azul"]
[{"$f":"SUBSTITUTE(SUBSTITUTE(FORMULATEXTO_Act(Comentarios[[#This Row],[Formulada]]),\"=\",\"\"),\"'\",\"\")","v":" !$B$1280"},{"$f":"' '!$B$1280","v":"Donaciones para el financiamiento y sostenimiento de las Instituciones Públicas de Educación Superior"},"El parágrafo 2 del artículo 257 del ET señala que los contribuyentes que realicen donaciones para el financiamiento y sostenimiento de las instituciones públicas de educación superior a través de los cajeros automáticos, páginas web y plataformas digitales de entidades financieras vigiladas por la Superintendencia Financiera, pueden tomar como descuento tributario el 25% del valor donado. De acuerdo con el artículo 1.2.1.4.9 del Decreto 1625 de 2016 (adicionado mediante el artículo 1 del Decreto 743 de 2020), las personas que realizan estas donaciones deberán entregar la información necesaria a la entidad financiera para que se pueda certificar el valor donado.\nCabe mencionar que, el valor a tomar por estas donaciones sumado con los otros descuentos señalados en el artículo 257 del ET y aquellos mencionados en el artículo 256 del ET, no puede exceder el 25% del impuesto de renta a cargo del respectivo año gravable. El exceso de descuento que se presente podrá ser tomado dentro del periodo gravable siguiente a aquel en el que se realice la donación. Adicionalmente, se deberá considerar el límite general de los descuentos tributarios señalados en el artículo 259 del ET. \n","Descuentos Tributarios","Azul"]
[{"$f":"SUBSTITUTE(SUBSTITUTE(FORMULATEXTO_Act(Comentarios[[#This Row],[Formulada]]),\"=\",\"\"),\"'\",\"\")","v":" !$B$1290"},{"$f":"' '!$B$1290","v":"50% del impuesto de industria y comercio pagado "},"El artículo 115 del ET establece que, el contribuyente puede tomar como descuento tributario en el impuesto de renta, el 50% del impuesto de industria y comercio, avisos y tableros. Para que proceda el descuento, es necesario que el impuesto de industria y comercio, avisos y tableros sea efectivamente pagado durante el año gravable y que tenga relación de causalidad con la actividad económica que desarrolla el contribuyente. Debe tenerse en cuenta que, el impuesto no podrá tomarse como costo o gasto. ","Descuentos Tributarios","Azul"]
[{"$f":"SUBSTITUTE(SUBSTITUTE(FORMULATEXTO_Act(Comentarios[[#This Row],[Formulada]]),\"=\",\"\"),\"'\",\"\")","v":" !$B$1291"},{"$f":"' '!$B$1291","v":"IVA pagado en la importación, formación, construcción o adquisición de activos fijos reales \nproductivos"},"El artículo 258-1 del ET señala que los responsable del IVA podrán descontar del impuesto sobre la renta a cargo, el IVA pagado por la adquisición, construcción o formación e importación de activos fijos reales productivos, incluyendo el asociado a los servicios necesarios para ponerlos en condiciones de utilización, en año gravable en que se realice el pago o en cualquiera de los periodos gravables siguientes. En el caso de los activos fijos reales productivos formados o construidos, el impuesto sobre las ventas podrá descontarse en el año gravable en que dicho activo se active y comience a depreciarse o amortizarse, o en cualquiera de los periodos gravables siguientes.\n\nDebe tenerse en cuenta que, mediante la Sentencia C-379 de 2020, la Corte Constitucional declaró exequible la expresión \"Los responsables del Impuesto sobre las Ventas (IVA)” contenida en el artículo 258-1 del ET, en el entendido de que al beneficio tributario contemplado dicha norma también pueden acceder aquellos sujetos que no son responsables del IVA. En consecuencia, este beneficio también podrá ser tomado por las personas naturales no obligadas a llevar contabilidad. ","Descuentos Tributarios","Azul"]
[{"$f":"SUBSTITUTE(SUBSTITUTE(FORMULATEXTO_Act(Comentarios[[#This Row],[Formulada]]),\"=\",\"\"),\"'\",\"\")","v":" !$B$1292"},{"$f":"' '!$B$1292","v":"50% del valor de las donaciones tendientes a lograr la inmunización de la población colombiana \nfrente al COVID-19 y cualquier otra pandemia "},"El artículo 257-2 del ET (adicionado a través del artículo 3 de la Ley 2064 de 2020) establece que, las donaciones que realicen las personas naturales residentes y las personas jurídicas contribuyentes del Impuesto de renta, a la Subcuenta de Mitigación de Emergencias - COVID19 del Fondo Nacional de Gestión del Riesgo o a cualquier otra subcuenta, destinadas a la adquisición de vacunas, moléculas en experimentación, anticipos reembolsables y no reembolsables para el desarrollo de vacunas, transferencia de ciencia y tecnología, capacidad instalada en el territorio nacional y todas las actividades tendientes a lograr la Inmunización de la población colombiana frente al Covid-19 y cualquier otra pandemia, darán lugar a un descuento del impuesto sobre la renta, equivalente al 50% de la donación realizada en el año o periodo gravable. El año gravable 2022 es el segundo y último en el cual se podrá tomar este descuento. ","Descuentos Tributarios","Azul"]
[{"$f":"SUBSTITUTE(SUBSTITUTE(FORMULATEXTO_Act(Comentarios[[#This Row],[Formulada]]),\"=\",\"\"),\"'\",\"\")","v":" !$B$1300"},{"$f":"' '!$B$1300","v":"Cédula General y de Pensiones"},"La tabla de tarifas del impuesto de renta a aplicar por las persona naturales con rentas en la cédula general y/o de pensiones, se encuentra contenida en el artículo 241 de ET.","Impuesto Rentas Líquidas Gravab","Azul"]
[{"$f":"SUBSTITUTE(SUBSTITUTE(FORMULATEXTO_Act(Comentarios[[#This Row],[Formulada]]),\"=\",\"\"),\"'\",\"\")","v":" !$B$1313"},{"$f":"' '!$B$1313","v":"Dividendos y participaciones de utilidades generadas en 2016 y/o anteriores, distribuidas según el parágrafo 2 del artículo 49 del ET (Gravados)"},"La tabla de tarifas del impuesto de renta a aplicar por las personas naturales que hayan percibido ingresos por dividendos y/o participaciones de utilidades generadas en el año 2016 y/o anteriores, que hayan sido distribuidos como gravados, es la contenida en el artículo 241 del ET antes de ser modificada por la Ley 1819 de 2016.","Impuesto Rentas Líquidas Gravab","Azul"]
[{"$f":"SUBSTITUTE(SUBSTITUTE(FORMULATEXTO_Act(Comentarios[[#This Row],[Formulada]]),\"=\",\"\"),\"'\",\"\")","v":" !$B$1322"},{"$f":"' '!$B$1322","v":"Dividendos y participaciones aciones de utilidades generadas en 2017 y siguientes, distribuidos según el numeral 3 del artículo 49 del ET \n(No gravados)"},"La tabla de tarifas del impuesto de renta a aplicar por las personas naturales que hayan percibido ingresos por dividendos y/o participaciones de utilidades generadas en el año 2017 y/o siguientes, que hayan sido distribuidos como no gravados, es la contenida en el artículo 242 del ET. ","Impuesto Rentas Líquidas Gravab","Azul"]
[{"$f":"SUBSTITUTE(SUBSTITUTE(FORMULATEXTO_Act(Comentarios[[#This Row],[Formulada]]),\"=\",\"\"),\"'\",\"\")","v":" !$B$1329"},{"$f":"' '!$B$1329","v":"Dividendos y participaciones de utilidades generadas en el 2017 y siguientes, distribuidos según el parágrafo 2 del artículo 49 del ET (Gravados)"},"Las tarifas del impuesto de renta a aplicar por las personas naturales que hayan percibido ingresos por dividendos y/o participaciones de utilidades generadas en el año 2017 y/o siguientes, que hayan sido distribuidos como gravados, son las contenidas en el artículo 242 del ET.","Impuesto Rentas Líquidas Gravab","Azul"]
[{"$f":"SUBSTITUTE(SUBSTITUTE(FORMULATEXTO_Act(Comentarios[[#This Row],[Formulada]]),\"=\",\"\"),\"'\",\"\")","v":" !$C$1357"},{"$f":"' '!$C$1357","v":"Seleccione la opción de anticipo de renta que el contribuyente desea reportar en la \ndeclaración de renta"},"Los contribuyente que tengan impuesto neto de renta mayor a cero, deberán hacer el cálculo del anticipo de renta mencionado en el artículo 807 del ET, así: \nAl impuesto neto de renta del año gravable, o al promedio de los dos (2) últimos años (a opción del contribuyente), se aplica el porcentaje de anticipo dependiendo de si la declaración a presentar es la primera (25%), la segunda (50%) o la tercera o más (75%). Del resultado así obtenido se descuenta el valor de la retención en la fuente correspondiente al respectivo ejercicio fiscal, con lo cual se obtiene el anticipo a pagar.","Anticipo Renta","Azul"]
[{"$f":"SUBSTITUTE(SUBSTITUTE(FORMULATEXTO_Act(Comentarios[[#This Row],[Formulada]]),\"=\",\"\"),\"'\",\"\")","v":" !$B$1467"},{"$f":"' '!$B$1467","v":"¿En los dos años anteriores a la generación de esta sanción por extemporaneidad, el \ncontribuyente incurrió en la misma conducta sancionable?"},"Mediante el numeral 1.1 del Concepto 14116 de 2017 (Concepto Unificado sobre Procedimiento Tributario), la DIAN precisa que en lo correspondiente a las sanciones por extemporaneidad (artículos 641, 642 y 645 del ET), por no declarar (artículo 643 del ET) y por corrección (artículos 644, 645 y 647-1 del ET), para efectos de la aplicación del artículo 640 del ET, es necesario verificar si la misma conducta sancionable se cometió en el pasado, independientemente del impuesto sobre el cual versa la declaración tributaria. ","Sanciones","Azul"]
[{"$f":"SUBSTITUTE(SUBSTITUTE(FORMULATEXTO_Act(Comentarios[[#This Row],[Formulada]]),\"=\",\"\"),\"'\",\"\")","v":" !$B$1472"},{"$f":"' '!$B$1472","v":"¿Aplica reducción de la sanción al 50%? "},"De acuerdo con el numeral 1 del artículo 640 del ET, cuando la sanción deba ser liquidada por el contribuyente, podrá ser reducida al 50%, siempre y cuando se cumplan las siguientes condiciones: \n- Que dentro de los dos (2) años anteriores a la fecha de la comisión de la conducta sancionable no se hubiere cometido la misma; y\n- Que la Administración Tributaria no haya proferido pliego de cargos, requerimiento especial o emplazamiento previo por no declarar, según el caso.\nEn caso de que no se cumplan las dos condiciones, el contribuyente no podrá acogerse al beneficio de la reducción de la sanción al 50%. ","Sanciones","Azul"]
[{"$f":"SUBSTITUTE(SUBSTITUTE(FORMULATEXTO_Act(Comentarios[[#This Row],[Formulada]]),\"=\",\"\"),\"'\",\"\")","v":" !$B$1473"},{"$f":"' '!$B$1473","v":"¿Aplica reducción de la sanción al 75%? "},"El numeral 2 del artículo 640 del ET establece que, cuando la sanción deba ser liquidada por el contribuyente, podrá ser reducida al 75%, siempre y cuando se cumplan las siguientes condiciones: \n- Que dentro del año (1) año anterior a la fecha de la comisión de la conducta sancionable no se hubiere cometido la misma; y\n- Que la Administración Tributaria no haya proferido pliego de cargos, requerimiento especial o emplazamiento previo por no declarar, según el caso.\nEn caso de que no se cumplan las dos condiciones, el contribuyente no podrá acogerse al beneficio de la reducción de la sanción al 75%. ","Sanciones","Azul"]
[{"$f":"SUBSTITUTE(SUBSTITUTE(FORMULATEXTO_Act(Comentarios[[#This Row],[Formulada]]),\"=\",\"\"),\"'\",\"\")","v":" !$B$1482"},{"$f":"' '!$B$1482","v":"¿Aplica reducción de la sanción al 50%? "},"De acuerdo con el numeral 3 del artículo 640 del ET, cuando la sanción sea propuesta o determinada por la DIAN, podrá ser reducida al 50%, siempre y cuando se cumplan las siguientes condiciones: \n- Que dentro de los cuatro (4) años anteriores a la fecha de la comisión de la conducta sancionable no se hubiere cometido la misma, y esta se hubiere sancionado mediante acto administrativo en firme; y\n- Que la sanción sea aceptada y la infracción subsanada de conformidad con lo establecido en el tipo sancionatorio correspondiente.\nEn caso de que no se cumplan las dos condiciones, el contribuyente no podrá acogerse al beneficio de la reducción de la sanción al 50%. ","Sanciones","Azul"]
[{"$f":"SUBSTITUTE(SUBSTITUTE(FORMULATEXTO_Act(Comentarios[[#This Row],[Formulada]]),\"=\",\"\"),\"'\",\"\")","v":" !$B$1483"},{"$f":"' '!$B$1483","v":"¿Aplica reducción de la sanción al 75%? "},"El numeral 4 del artículo 640 del ET establece que, cuando la sanción sea propuesta o liquidada por la DIAN, podrá ser reducida al 75%, siempre y cuando se cumplan las siguientes condiciones: \n- Que dentro de los dos (2) años anteriores a la fecha de la comisión de la conducta sancionable no se hubiere cometido la misma, y esta se hubiere sancionado mediante acto administrativo en firme; y\n- Que la sanción sea aceptada y la infracción subsanada de conformidad con lo establecido en el tipo sancionatorio correspondiente.\nEn caso de que no se cumplan las dos condiciones, el contribuyente no podrá acogerse al beneficio de la reducción de la sanción al 75%. ","Sanciones","Azul"]
[{"$f":"SUBSTITUTE(SUBSTITUTE(FORMULATEXTO_Act(Comentarios[[#This Row],[Formulada]]),\"=\",\"\"),\"'\",\"\")","v":" !$AF$1549"},{"$f":"' '!$AF$1549","v":{"v":0,"d":"$ 0"}},"En caso de que haya saldo a pagar, pero la declaración se presente de forma extemporánea, esta casilla se debe diligenciar en cero, pues para realizar el pago se deberá diligenciar el Recibo de pago F490, liquidando además los intereses moratorios correspondientes.","F210","Azul"]
[{"$f":"SUBSTITUTE(SUBSTITUTE(FORMULATEXTO_Act(Comentarios[[#This Row],[Formulada]]),\"=\",\"\"),\"'\",\"\")","v":" !$B$1556"},{"$f":"' '!$B$1556","v":"Costos y gastos procedentes"},"De acuerdo con el artículo 1.21.20.5 del DEcreto 1625 de 2016, los costos y gastos que se pueden detraer para efectos de determinar la base gravable sobre la cual se calcula el impuesto de renta,  corresponden a todas aquellas erogaciones en que se incurra el contribuyente para la obtención del ingreso y que cumplen todos los requisitos y limitaciones para su procedencia de conformidad con lo establecido en el ET. Cuando los costos y gastos procedentes,  asociados a las rentas de trabajo provenientes de honorarios o compensaciones por servicios personales, a rentas de capital o a rentas no laborales, excedan los ingresos por concepto de cada una de dichas rentas, se generará una pérdida fiscal, la cual será declarada cuando el contribuyente perciba ingresos por un solo tipo de renta de la cédula general.\n\nEn el evento en que se perciban ingresos para más de un tipo de renta de la cédula general, los costos y gastos antes mencionados, al momento de ser declarados, no podrán superar el valor resultante de restar, a los ingresos de las rentas de trabajo provenientes de honorarios o compensaciones por servicios personales, de las rentas de capital o de las rentas no laborales, los ingresos no constitutivos de renta. \n\nEl valor que exceda deberá estar registrado en la contabilidad y/o el control de detalle de que trata el artículo 772-1 del ET para que proceda la compensación de la pérdida fiscal contra la renta que dio su origen, en los periodos gravables posteriores en los términos del artículo 147 del ET.","Informe Costos","Azul"]
[{"$f":"SUBSTITUTE(SUBSTITUTE(FORMULATEXTO_Act(Comentarios[[#This Row],[Formulada]]),\"=\",\"\"),\"'\",\"\")","v":" !$B$1594"},{"$f":"' '!$B$1594","v":"¿La declaración de renta del año gravable del 2022 puede quedar en firme dentro de los \n6 meses siguientes a su presentación?"},"De acuerdo con el artículo 689-3 del ET, los contribuyentes del impuesto de renta que incrementen su impuesto neto de renta en por lo menos un porcentaje mínimo del 35% por el año gravable 2022, en relación con el impuesto neto de renta del año inmediatamente anterior, quedará en firme si dentro de los seis (6) meses siguientes a la fecha de su presentación no se hubiere notificado emplazamiento para corregir o requerimiento especial o emplazamiento especial o liquidación provisional, siempre que la declaración sea debidamente presentada en forma oportuna y el pago se realice en los plazos que para tal efecto fije el Gobierno nacional.\nPara que este beneficio proceda, también es necesario que el impuesto neto de renta del año gravable 2021 haya sido igual o superior al equivalente de 71 UVT. ","Beneficio Auditoría","Azul"]
[{"$f":"SUBSTITUTE(SUBSTITUTE(FORMULATEXTO_Act(Comentarios[[#This Row],[Formulada]]),\"=\",\"\"),\"'\",\"\")","v":" !$B$1595"},{"$f":"' '!$B$1595","v":"¿La declaración de renta del año gravable del 2022 puede quedar en firme dentro de los \n12 meses siguientes a su presentación?"},"De acuerdo con el artículo 689-3 del ET, los contribuyentes del impuesto de renta que incrementen su impuesto neto de renta en por lo menos un porcentaje mínimo del 25% por el año gravable 2022, en relación con el impuesto neto de renta del año inmediatamente anterior, quedará en firme si dentro de los doce (12) meses siguientes a la fecha de su presentación no se hubiere notificado emplazamiento para corregir o requerimiento especial o emplazamiento especial o liquidación provisional, siempre que la declaración sea debidamente presentada en forma oportuna y el pago se realice en los plazos que para tal efecto fije el Gobierno nacional.\nPara que este beneficio proceda, también es necesario que el impuesto neto de renta del año gravable 2021 haya sido igual o superior al equivalente de 71 UVT. ","Beneficio Auditoría","Azul"]
[{"$f":"SUBSTITUTE(SUBSTITUTE(FORMULATEXTO_Act(Comentarios[[#This Row],[Formulada]]),\"=\",\"\"),\"'\",\"\")","v":" !$B$1658"},{"$f":"' '!$B$1658","v":"¿En los dos años anteriores a la generación de esta sanción por extemporaneidad, el \ncontribuyente incurrió en la misma conducta sancionable?"},"Mediante el numeral 1.1 del Concepto 14116 de 2017 (Concepto Unificado sobre Procedimiento Tributario), la DIAN precisa que en lo correspondiente a las sanciones por extemporaneidad (artículos 641, 642 y 645 del ET), por no declarar (artículo 643 del ET) y por corrección (artículos 644, 645 y 647-1 del ET), para efectos de la aplicación del artículo 640 del ET, es necesario verificar si la misma conducta sancionable se cometió en el pasado, independientemente del impuesto sobre el cual versa la declaración tributaria. ","Sanciones Act. Ext","Azul"]
[{"$f":"SUBSTITUTE(SUBSTITUTE(FORMULATEXTO_Act(Comentarios[[#This Row],[Formulada]]),\"=\",\"\"),\"'\",\"\")","v":" !$B$1663"},{"$f":"' '!$B$1663","v":"¿Aplica reducción de la sanción al 50%? "},"De acuerdo con el numeral 1 del artículo 640 del ET, cuando la sanción deba ser liquidada por el contribuyente, podrá ser reducida al 50%, siempre y cuando se cumplan las siguientes condiciones: \n- Que dentro de los dos (2) años anteriores a la fecha de la comisión de la conducta sancionable no se hubiere cometido la misma; y\n- Que la Administración Tributaria no haya proferido pliego de cargos, requerimiento especial o emplazamiento previo por no declarar, según el caso.\nEn caso de que no se cumplan las dos condiciones, el contribuyente no podrá acogerse al beneficio de la reducción de la sanción al 50%. ","Sanciones Act. Ext","Azul"]
[{"$f":"SUBSTITUTE(SUBSTITUTE(FORMULATEXTO_Act(Comentarios[[#This Row],[Formulada]]),\"=\",\"\"),\"'\",\"\")","v":" !$B$1664"},{"$f":"' '!$B$1664","v":"¿Aplica reducción de la sanción al 75%? "},"El numeral 2 del artículo 640 del ET establece que, cuando la sanción deba ser liquidada por el contribuyente, podrá ser reducida al 75%, siempre y cuando se cumplan las siguientes condiciones: \n- Que dentro del año (1) año anterior a la fecha de la comisión de la conducta sancionable no se hubiere cometido la misma; y\n- Que la Administración Tributaria no haya proferido pliego de cargos, requerimiento especial o emplazamiento previo por no declarar, según el caso.\nEn caso de que no se cumplan las dos condiciones, el contribuyente no podrá acogerse al beneficio de la reducción de la sanción al 75%. ","Sanciones Act. Ext","Azul"]
[{"$f":"SUBSTITUTE(SUBSTITUTE(FORMULATEXTO_Act(Comentarios[[#This Row],[Formulada]]),\"=\",\"\"),\"'\",\"\")","v":" !$B$1673"},{"$f":"' '!$B$1673","v":"¿Aplica reducción de la sanción al 50%? "},"De acuerdo con el numeral 3 del artículo 640 del ET, cuando la sanción sea propuesta o determinada por la DIAN, podrá ser reducida al 50%, siempre y cuando se cumplan las siguientes condiciones: \n- Que dentro de los cuatro (4) años anteriores a la fecha de la comisión de la conducta sancionable no se hubiere cometido la misma, y esta se hubiere sancionado mediante acto administrativo en firme; y\n- Que la sanción sea aceptada y la infracción subsanada de conformidad con lo establecido en el tipo sancionatorio correspondiente.\nEn caso de que no se cumplan las dos condiciones, el contribuyente no podrá acogerse al beneficio de la reducción de la sanción al 50%. ","Sanciones Act. Ext","Azul"]
[{"$f":"SUBSTITUTE(SUBSTITUTE(FORMULATEXTO_Act(Comentarios[[#This Row],[Formulada]]),\"=\",\"\"),\"'\",\"\")","v":" !$B$1674"},{"$f":"' '!$B$1674","v":"¿Aplica reducción de la sanción al 75%? "},"El numeral 4 del artículo 640 del ET establece que, cuando la sanción sea propuesta o liquidada por la DIAN, podrá ser reducida al 75%, siempre y cuando se cumplan las siguientes condiciones: \n- Que dentro de los dos (2) años anteriores a la fecha de la comisión de la conducta sancionable no se hubiere cometido la misma, y esta se hubiere sancionado mediante acto administrativo en firme; y\n- Que la sanción sea aceptada y la infracción subsanada de conformidad con lo establecido en el tipo sancionatorio correspondiente.\nEn caso de que no se cumplan las dos condiciones, el contribuyente no podrá acogerse al beneficio de la reducción de la sanción al 75%. ","Sanciones Act. Ext","Azul"]

{"sheet":"Campos_Ingreso_Datos","index":1,"n_rows":2085,"n_cols":9,"rows_kept":2085,"hidden":true}
["SEGMENTO","Vinculo","Rango","Formato","Lista","Lista2","Restablacer"]
["Lista de chequeo",{"$f":"' '!$C$46","v":0},{"$f":"IFERROR(FORMULATEXTO_Act(Campos_Ingreso_Datos[[#This Row],[Vinculo]]),\"\")","v":"=' '!$C$46"},"General","=Listas!$B$2:$B$4",""]
["Lista de chequeo",{"$f":"' '!$D$46","v":0},{"$f":"IFERROR(FORMULATEXTO_Act(Campos_Ingreso_Datos[[#This Row],[Vinculo]]),\"\")","v":"=' '!$D$46"},"General","=Listas!$B$2:$B$4",""]
["Lista de chequeo",{"$f":"' '!$C$47","v":0},{"$f":"IFERROR(FORMULATEXTO_Act(Campos_Ingreso_Datos[[#This Row],[Vinculo]]),\"\")","v":"=' '!$C$47"},"General","=Listas!$B$2:$B$4",""]
["Lista de chequeo",{"$f":"' '!$D$47","v":0},{"$f":"IFERROR(FORMULATEXTO_Act(Campos_Ingreso_Datos[[#This Row],[Vinculo]]),\"\")","v":"=' '!$D$47"},"General","=Listas!$B$2:$B$4",""]
["Lista de chequeo",{"$f":"' '!$C$48","v":0},{"$f":"IFERROR(FORMULATEXTO_Act(Campos_Ingreso_Datos[[#This Row],[Vinculo]]),\"\")","v":"=' '!$C$48"},"General","=Listas!$B$2:$B$4",""]
["Lista de chequeo",{"$f":"' '!$D$48","v":0},{"$f":"IFERROR(FORMULATEXTO_Act(Campos_Ingreso_Datos[[#This Row],[Vinculo]]),\"\")","v":"=' '!$D$48"},"General","=Listas!$B$2:$B$4",""]
["Lista de chequeo",{"$f":"' '!$C$51","v":0},{"$f":"IFERROR(FORMULATEXTO_Act(Campos_Ingreso_Datos[[#This Row],[Vinculo]]),\"\")","v":"=' '!$C$51"},"General","=Listas!$B$2:$B$4",""]
["Lista de chequeo",{"$f":"' '!$D$51","v":0},{"$f":"IFERROR(FORMULATEXTO_Act(Campos_Ingreso_Datos[[#This Row],[Vinculo]]),\"\")","v":"=' '!$D$51"},"General","=Listas!$B$2:$B$4",""]
["Lista de chequeo",{"$f":"' '!$C$52","v":0},{"$f":"IFERROR(FORMULATEXTO_Act(Campos_Ingreso_Datos[[#This Row],[Vinculo]]),\"\")","v":"=' '!$C$52"},"General","=Listas!$B$2:$B$4",""]
["Lista de chequeo",{"$f":"' '!$D$52","v":0},{"$f":"IFERROR(FORMULATEXTO_Act(Campos_Ingreso_Datos[[#This Row],[Vinculo]]),\"\")","v":"=' '!$D$52"},"General","=Listas!$B$2:$B$4",""]
["Lista de chequeo",{"$f":"' '!$C$53","v":0},{"$f":"IFERROR(FORMULATEXTO_Act(Campos_Ingreso_Datos[[#This Row],[Vinculo]]),\"\")","v":"=' '!$C$53"},"General","=Listas!$B$2:$B$4",""]
["Lista de chequeo",{"$f":"' '!$D$53","v":0},{"$f":"IFERROR(FORMULATEXTO_Act(Campos_Ingreso_Datos[[#This Row],[Vinculo]]),\"\")","v":"=' '!$D$53"},"General","=Listas!$B$2:$B$4",""]
["Lista de chequeo",{"$f":"' '!$C$54","v":0},{"$f":"IFERROR(FORMULATEXTO_Act(Campos_Ingreso_Datos[[#This Row],[Vinculo]]),\"\")","v":"=' '!$C$54"},"General","=Listas!$B$2:$B$4",""]
["Lista de chequeo",{"$f":"' '!$D$54","v":0},{"$f":"IFERROR(FORMULATEXTO_Act(Campos_Ingreso_Datos[[#This Row],[Vinculo]]),\"\")","v":"=' '!$D$54"},"General","=Listas!$B$2:$B$4",""]
["Lista de chequeo",{"$f":"' '!$C$55","v":0},{"$f":"IFERROR(FORMULATEXTO_Act(Campos_Ingreso_Datos[[#This Row],[Vinculo]]),\"\")","v":"=' '!$C$55"},"General","=Listas!$B$2:$B$4",""]
["Lista de chequeo",{"$f":"' '!$D$55","v":0},{"$f":"IFERROR(FORMULATEXTO_Act(Campos_Ingreso_Datos[[#This Row],[Vinculo]]),\"\")","v":"=' '!$D$55"},"General","=Listas!$B$2:$B$4",""]
["Lista de chequeo",{"$f":"' '!$C$56","v":0},{"$f":"IFERROR(FORMULATEXTO_Act(Campos_Ingreso_Datos[[#This Row],[Vinculo]]),\"\")","v":"=' '!$C$56"},"General","=Listas!$B$2:$B$4",""]
["Lista de chequeo",{"$f":"' '!$D$56","v":0},{"$f":"IFERROR(FORMULATEXTO_Act(Campos_Ingreso_Datos[[#This Row],[Vinculo]]),\"\")","v":"=' '!$D$56"},"General","=Listas!$B$2:$B$4",""]
["Lista de chequeo",{"$f":"' '!$C$57","v":0},{"$f":"IFERROR(FORMULATEXTO_Act(Campos_Ingreso_Datos[[#This Row],[Vinculo]]),\"\")","v":"=' '!$C$57"},"General","=Listas!$B$2:$B$4",""]
["Lista de chequeo",{"$f":"' '!$D$57","v":0},{"$f":"IFERROR(FORMULATEXTO_Act(Campos_Ingreso_Datos[[#This Row],[Vinculo]]),\"\")","v":"=' '!$D$57"},"General","=Listas!$B$2:$B$4",""]
["Lista de chequeo",{"$f":"' '!$C$58","v":0},{"$f":"IFERROR(FORMULATEXTO_Act(Campos_Ingreso_Datos[[#This Row],[Vinculo]]),\"\")","v":"=' '!$C$58"},"General","=Listas!$B$2:$B$4",""]
["Lista de chequeo",{"$f":"' '!$D$58","v":0},{"$f":"IFERROR(FORMULATEXTO_Act(Campos_Ingreso_Datos[[#This Row],[Vinculo]]),\"\")","v":"=' '!$D$58"},"General","=Listas!$B$2:$B$4",""]
["Lista de chequeo",{"$f":"' '!$C$60","v":0},{"$f":"IFERROR(FORMULATEXTO_Act(Campos_Ingreso_Datos[[#This Row],[Vinculo]]),\"\")","v":"=' '!$C$60"},"General","=Listas!$B$2:$B$4",""]
["Lista de chequeo",{"$f":"' '!$D$60","v":0},{"$f":"IFERROR(FORMULATEXTO_Act(Campos_Ingreso_Datos[[#This Row],[Vinculo]]),\"\")","v":"=' '!$D$60"},"General","=Listas!$B$2:$B$4",""]
["Lista de chequeo",{"$f":"' '!$C$61","v":0},{"$f":"IFERROR(FORMULATEXTO_Act(Campos_Ingreso_Datos[[#This Row],[Vinculo]]),\"\")","v":"=' '!$C$61"},"General","=Listas!$B$2:$B$4",""]
["Lista de chequeo",{"$f":"' '!$D$61","v":0},{"$f":"IFERROR(FORMULATEXTO_Act(Campos_Ingreso_Datos[[#This Row],[Vinculo]]),\"\")","v":"=' '!$D$61"},"General","=Listas!$B$2:$B$4",""]
["Lista de chequeo",{"$f":"' '!$C$64","v":0},{"$f":"IFERROR(FORMULATEXTO_Act(Campos_Ingreso_Datos[[#This Row],[Vinculo]]),\"\")","v":"=' '!$C$64"},"General","=Listas!$B$2:$B$4",""]
["Lista de chequeo",{"$f":"' '!$D$64","v":0},{"$f":"IFERROR(FORMULATEXTO_Act(Campos_Ingreso_Datos[[#This Row],[Vinculo]]),\"\")","v":"=' '!$D$64"},"General","=Listas!$B$2:$B$4",""]
["Lista de chequeo",{"$f":"' '!$C$65","v":0},{"$f":"IFERROR(FORMULATEXTO_Act(Campos_Ingreso_Datos[[#This Row],[Vinculo]]),\"\")","v":"=' '!$C$65"},"General","=Listas!$B$2:$B$4",""]
["Lista de chequeo",{"$f":"' '!$D$65","v":0},{"$f":"IFERROR(FORMULATEXTO_Act(Campos_Ingreso_Datos[[#This Row],[Vinculo]]),\"\")","v":"=' '!$D$65"},"General","=Listas!$B$2:$B$4",""]
["Lista de chequeo",{"$f":"' '!$C$66","v":0},{"$f":"IFERROR(FORMULATEXTO_Act(Campos_Ingreso_Datos[[#This Row],[Vinculo]]),\"\")","v":"=' '!$C$66"},"General","=Listas!$B$2:$B$4",""]
["Lista de chequeo",{"$f":"' '!$D$66","v":0},{"$f":"IFERROR(FORMULATEXTO_Act(Campos_Ingreso_Datos[[#This Row],[Vinculo]]),\"\")","v":"=' '!$D$66"},"General","=Listas!$B$2:$B$4",""]
["Lista de chequeo",{"$f":"' '!$C$67","v":0},{"$f":"IFERROR(FORMULATEXTO_Act(Campos_Ingreso_Datos[[#This Row],[Vinculo]]),\"\")","v":"=' '!$C$67"},"General","=Listas!$B$2:$B$4",""]
["Lista de chequeo",{"$f":"' '!$D$67","v":0},{"$f":"IFERROR(FORMULATEXTO_Act(Campos_Ingreso_Datos[[#This Row],[Vinculo]]),\"\")","v":"=' '!$D$67"},"General","=Listas!$B$2:$B$4",""]
["Lista de chequeo",{"$f":"' '!$C$68","v":0},{"$f":"IFERROR(FORMULATEXTO_Act(Campos_Ingreso_Datos[[#This Row],[Vinculo]]),\"\")","v":"=' '!$C$68"},"General","=Listas!$B$2:$B$4",""]
["Lista de chequeo",{"$f":"' '!$D$68","v":0},{"$f":"IFERROR(FORMULATEXTO_Act(Campos_Ingreso_Datos[[#This Row],[Vinculo]]),\"\")","v":"=' '!$D$68"},"General","=Listas!$B$2:$B$4",""]
["Lista de chequeo",{"$f":"' '!$C$69","v":0},{"$f":"IFERROR(FORMULATEXTO_Act(Campos_Ingreso_Datos[[#This Row],[Vinculo]]),\"\")","v":"=' '!$C$69"},"General","=Listas!$B$2:$B$4",""]
["Lista de chequeo",{"$f":"' '!$D$69","v":0},{"$f":"IFERROR(FORMULATEXTO_Act(Campos_Ingreso_Datos[[#This Row],[Vinculo]]),\"\")","v":"=' '!$D$69"},"General","=Listas!$B$2:$B$4",""]
["Lista de chequeo",{"$f":"' '!$C$70","v":0},{"$f":"IFERROR(FORMULATEXTO_Act(Campos_Ingreso_Datos[[#This Row],[Vinculo]]),\"\")","v":"=' '!$C$70"},"General","=Listas!$B$2:$B$4",""]
["Lista de chequeo",{"$f":"' '!$D$70","v":0},{"$f":"IFERROR(FORMULATEXTO_Act(Campos_Ingreso_Datos[[#This Row],[Vinculo]]),\"\")","v":"=' '!$D$70"},"General","=Listas!$B$2:$B$4",""]
["Lista de chequeo",{"$f":"' '!$C$72","v":0},{"$f":"IFERROR(FORMULATEXTO_Act(Campos_Ingreso_Datos[[#This Row],[Vinculo]]),\"\")","v":"=' '!$C$72"},"General","=Listas!$B$2:$B$4",""]
["Lista de chequeo",{"$f":"' '!$D$72","v":0},{"$f":"IFERROR(FORMULATEXTO_Act(Campos_Ingreso_Datos[[#This Row],[Vinculo]]),\"\")","v":"=' '!$D$72"},"General","=Listas!$B$2:$B$4",""]
["Lista de chequeo",{"$f":"' '!$C$73","v":0},{"$f":"IFERROR(FORMULATEXTO_Act(Campos_Ingreso_Datos[[#This Row],[Vinculo]]),\"\")","v":"=' '!$C$73"},"General","=Listas!$B$2:$B$4",""]
["Lista de chequeo",{"$f":"' '!$D$73","v":0},{"$f":"IFERROR(FORMULATEXTO_Act(Campos_Ingreso_Datos[[#This Row],[Vinculo]]),\"\")","v":"=' '!$D$73"},"General","=Listas!$B$2:$B$4",""]
["Lista de chequeo",{"$f":"' '!$C$75","v":0},{"$f":"IFERROR(FORMULATEXTO_Act(Campos_Ingreso_Datos[[#This Row],[Vinculo]]),\"\")","v":"=' '!$C$75"},"General","=Listas!$B$2:$B$4",""]
["Lista de chequeo",{"$f":"' '!$D$75","v":0},{"$f":"IFERROR(FORMULATEXTO_Act(Campos_Ingreso_Datos[[#This Row],[Vinculo]]),\"\")","v":"=' '!$D$75"},"General","=Listas!$B$2:$B$4",""]
["Lista de chequeo",{"$f":"' '!$C$76","v":0},{"$f":"IFERROR(FORMULATEXTO_Act(Campos_Ingreso_Datos[[#This Row],[Vinculo]]),\"\")","v":"=' '!$C$76"},"General","=Listas!$B$2:$B$4",""]
["Lista de chequeo",{"$f":"' '!$D$76","v":0},{"$f":"IFERROR(FORMULATEXTO_Act(Campos_Ingreso_Datos[[#This Row],[Vinculo]]),\"\")","v":"=' '!$D$76"},"General","=Listas!$B$2:$B$4",""]
["Lista de chequeo",{"$f":"' '!$C$78","v":0},{"$f":"IFERROR(FORMULATEXTO_Act(Campos_Ingreso_Datos[[#This Row],[Vinculo]]),\"\")","v":"=' '!$C$78"},"General","=Listas!$B$2:$B$4",""]
["Lista de chequeo",{"$f":"' '!$D$78","v":0},{"$f":"IFERROR(FORMULATEXTO_Act(Campos_Ingreso_Datos[[#This Row],[Vinculo]]),\"\")","v":"=' '!$D$78"},"General","=Listas!$B$2:$B$4",""]
["Lista de chequeo",{"$f":"' '!$C$79","v":0},{"$f":"IFERROR(FORMULATEXTO_Act(Campos_Ingreso_Datos[[#This Row],[Vinculo]]),\"\")","v":"=' '!$C$79"},"General","=Listas!$B$2:$B$4",""]
["Lista de chequeo",{"$f":"' '!$D$79","v":0},{"$f":"IFERROR(FORMULATEXTO_Act(Campos_Ingreso_Datos[[#This Row],[Vinculo]]),\"\")","v":"=' '!$D$79"},"General","=Listas!$B$2:$B$4",""]
["Lista de chequeo",{"$f":"' '!$C$80","v":0},{"$f":"IFERROR(FORMULATEXTO_Act(Campos_Ingreso_Datos[[#This Row],[Vinculo]]),\"\")","v":"=' '!$C$80"},"General","=Listas!$B$2:$B$4",""]
["Lista de chequeo",{"$f":"' '!$D$80","v":0},{"$f":"IFERROR(FORMULATEXTO_Act(Campos_Ingreso_Datos[[#This Row],[Vinculo]]),\"\")","v":"=' '!$D$80"},"General","=Listas!$B$2:$B$4",""]
["Lista de chequeo",{"$f":"' '!$C$81","v":0},{"$f":"IFERROR(FORMULATEXTO_Act(Campos_Ingreso_Datos[[#This Row],[Vinculo]]),\"\")","v":"=' '!$C$81"},"General","=Listas!$B$2:$B$4",""]
["Lista de chequeo",{"$f":"' '!$D$81","v":0},{"$f":"IFERROR(FORMULATEXTO_Act(Campos_Ingreso_Datos[[#This Row],[Vinculo]]),\"\")","v":"=' '!$D$81"},"General","=Listas!$B$2:$B$4",""]
["Lista de chequeo",{"$f":"' '!$C$82","v":0},{"$f":"IFERROR(FORMULATEXTO_Act(Campos_Ingreso_Datos[[#This Row],[Vinculo]]),\"\")","v":"=' '!$C$82"},"General","=Listas!$B$2:$B$4",""]
["Lista de chequeo",{"$f":"' '!$D$82","v":0},{"$f":"IFERROR(FORMULATEXTO_Act(Campos_Ingreso_Datos[[#This Row],[Vinculo]]),\"\")","v":"=' '!$D$82"},"General","=Listas!$B$2:$B$4",""]
["Lista de chequeo",{"$f":"' '!$C$83","v":0},{"$f":"IFERROR(FORMULATEXTO_Act(Campos_Ingreso_Datos[[#This Row],[Vinculo]]),\"\")","v":"=' '!$C$83"},"General","=Listas!$B$2:$B$4",""]
["Lista de chequeo",{"$f":"' '!$D$83","v":0},{"$f":"IFERROR(FORMULATEXTO_Act(Campos_Ingreso_Datos[[#This Row],[Vinculo]]),\"\")","v":"=' '!$D$83"},"General","=Listas!$B$2:$B$4",""]
["Lista de chequeo",{"$f":"' '!$C$84","v":0},{"$f":"IFERROR(FORMULATEXTO_Act(Campos_Ingreso_Datos[[#This Row],[Vinculo]]),\"\")","v":"=' '!$C$84"},"General","=Listas!$B$2:$B$4",""]
["Lista de chequeo",{"$f":"' '!$D$84","v":0},{"$f":"IFERROR(FORMULATEXTO_Act(Campos_Ingreso_Datos[[#This Row],[Vinculo]]),\"\")","v":"=' '!$D$84"},"General","=Listas!$B$2:$B$4",""]
["Lista de chequeo",{"$f":"' '!$C$85","v":0},{"$f":"IFERROR(FORMULATEXTO_Act(Campos_Ingreso_Datos[[#This Row],[Vinculo]]),\"\")","v":"=' '!$C$85"},"General","=Listas!$B$2:$B$4",""]
["Lista de chequeo",{"$f":"' '!$D$85","v":0},{"$f":"IFERROR(FORMULATEXTO_Act(Campos_Ingreso_Datos[[#This Row],[Vinculo]]),\"\")","v":"=' '!$D$85"},"General","=Listas!$B$2:$B$4",""]
["Lista de chequeo",{"$f":"' '!$C$86","v":0},{"$f":"IFERROR(FORMULATEXTO_Act(Campos_Ingreso_Datos[[#This Row],[Vinculo]]),\"\")","v":"=' '!$C$86"},"General","=Listas!$B$2:$B$4",""]
["Lista de chequeo",{"$f":"' '!$D$86","v":0},{"$f":"IFERROR(FORMULATEXTO_Act(Campos_Ingreso_Datos[[#This Row],[Vinculo]]),\"\")","v":"=' '!$D$86"},"General","=Listas!$B$2:$B$4",""]
["Lista de chequeo",{"$f":"' '!$C$87","v":0},{"$f":"IFERROR(FORMULATEXTO_Act(Campos_Ingreso_Datos[[#This Row],[Vinculo]]),\"\")","v":"=' '!$C$87"},"General","=Listas!$B$2:$B$4",""]
["Lista de chequeo",{"$f":"' '!$D$87","v":0},{"$f":"IFERROR(FORMULATEXTO_Act(Campos_Ingreso_Datos[[#This Row],[Vinculo]]),\"\")","v":"=' '!$D$87"},"General","=Listas!$B$2:$B$4",""]
["Lista de chequeo",{"$f":"' '!$C$88","v":0},{"$f":"IFERROR(FORMULATEXTO_Act(Campos_Ingreso_Datos[[#This Row],[Vinculo]]),\"\")","v":"=' '!$C$88"},"General","=Listas!$B$2:$B$4",""]
["Lista de chequeo",{"$f":"' '!$D$88","v":0},{"$f":"IFERROR(FORMULATEXTO_Act(Campos_Ingreso_Datos[[#This Row],[Vinculo]]),\"\")","v":"=' '!$D$88"},"General","=Listas!$B$2:$B$4",""]
["Lista de chequeo",{"$f":"' '!$C$89","v":0},{"$f":"IFERROR(FORMULATEXTO_Act(Campos_Ingreso_Datos[[#This Row],[Vinculo]]),\"\")","v":"=' '!$C$89"},"General","=Listas!$B$2:$B$4",""]
["Lista de chequeo",{"$f":"' '!$D$89","v":0},{"$f":"IFERROR(FORMULATEXTO_Act(Campos_Ingreso_Datos[[#This Row],[Vinculo]]),\"\")","v":"=' '!$D$89"},"General","=Listas!$B$2:$B$4",""]
["Lista de chequeo",{"$f":"' '!$C$90","v":0},{"$f":"IFERROR(FORMULATEXTO_Act(Campos_Ingreso_Datos[[#This Row],[Vinculo]]),\"\")","v":"=' '!$C$90"},"General","=Listas!$B$2:$B$4",""]
["Lista de chequeo",{"$f":"' '!$D$90","v":0},{"$f":"IFERROR(FORMULATEXTO_Act(Campos_Ingreso_Datos[[#This Row],[Vinculo]]),\"\")","v":"=' '!$D$90"},"General","=Listas!$B$2:$B$4",""]
["Lista de chequeo",{"$f":"' '!$C$91","v":0},{"$f":"IFERROR(FORMULATEXTO_Act(Campos_Ingreso_Datos[[#This Row],[Vinculo]]),\"\")","v":"=' '!$C$91"},"General","=Listas!$B$2:$B$4",""]
["Lista de chequeo",{"$f":"' '!$D$91","v":0},{"$f":"IFERROR(FORMULATEXTO_Act(Campos_Ingreso_Datos[[#This Row],[Vinculo]]),\"\")","v":"=' '!$D$91"},"General","=Listas!$B$2:$B$4",""]
["Lista de chequeo",{"$f":"' '!$C$92","v":0},{"$f":"IFERROR(FORMULATEXTO_Act(Campos_Ingreso_Datos[[#This Row],[Vinculo]]),\"\")","v":"=' '!$C$92"},"General","=Listas!$B$2:$B$4",""]
["Lista de chequeo",{"$f":"' '!$D$92","v":0},{"$f":"IFERROR(FORMULATEXTO_Act(Campos_Ingreso_Datos[[#This Row],[Vinculo]]),\"\")","v":"=' '!$D$92"},"General","=Listas!$B$2:$B$4",""]
["Lista de chequeo",{"$f":"' '!$C$93","v":0},{"$f":"IFERROR(FORMULATEXTO_Act(Campos_Ingreso_Datos[[#This Row],[Vinculo]]),\"\")","v":"=' '!$C$93"},"General","=Listas!$B$2:$B$4",""]
["Lista de chequeo",{"$f":"' '!$D$93","v":0},{"$f":"IFERROR(FORMULATEXTO_Act(Campos_Ingreso_Datos[[#This Row],[Vinculo]]),\"\")","v":"=' '!$D$93"},"General","=Listas!$B$2:$B$4",""]
["Lista de chequeo",{"$f":"' '!$C$94","v":0},{"$f":"IFERROR(FORMULATEXTO_Act(Campos_Ingreso_Datos[[#This Row],[Vinculo]]),\"\")","v":"=' '!$C$94"},"General","=Listas!$B$2:$B$4",""]
["Lista de chequeo",{"$f":"' '!$D$94","v":0},{"$f":"IFERROR(FORMULATEXTO_Act(Campos_Ingreso_Datos[[#This Row],[Vinculo]]),\"\")","v":"=' '!$D$94"},"General","=Listas!$B$2:$B$4",""]
["Lista de chequeo",{"$f":"' '!$C$95","v":0},{"$f":"IFERROR(FORMULATEXTO_Act(Campos_Ingreso_Datos[[#This Row],[Vinculo]]),\"\")","v":"=' '!$C$95"},"General","=Listas!$B$2:$B$4",""]
["Lista de chequeo",{"$f":"' '!$D$95","v":0},{"$f":"IFERROR(FORMULATEXTO_Act(Campos_Ingreso_Datos[[#This Row],[Vinculo]]),\"\")","v":"=' '!$D$95"},"General","=Listas!$B$2:$B$4",""]
["Lista de chequeo",{"$f":"' '!$C$96","v":0},{"$f":"IFERROR(FORMULATEXTO_Act(Campos_Ingreso_Datos[[#This Row],[Vinculo]]),\"\")","v":"=' '!$C$96"},"General","=Listas!$B$2:$B$4",""]
["Lista de chequeo",{"$f":"' '!$D$96","v":0},{"$f":"IFERROR(FORMULATEXTO_Act(Campos_Ingreso_Datos[[#This Row],[Vinculo]]),\"\")","v":"=' '!$D$96"},"General","=Listas!$B$2:$B$4",""]
["Lista de chequeo",{"$f":"' '!$C$98","v":0},{"$f":"IFERROR(FORMULATEXTO_Act(Campos_Ingreso_Datos[[#This Row],[Vinculo]]),\"\")","v":"=' '!$C$98"},"General","=Listas!$B$2:$B$4",""]
["Lista de chequeo",{"$f":"' '!$D$98","v":0},{"$f":"IFERROR(FORMULATEXTO_Act(Campos_Ingreso_Datos[[#This Row],[Vinculo]]),\"\")","v":"=' '!$D$98"},"General","=Listas!$B$2:$B$4",""]
["Lista de chequeo",{"$f":"' '!$C$99","v":0},{"$f":"IFERROR(FORMULATEXTO_Act(Campos_Ingreso_Datos[[#This Row],[Vinculo]]),\"\")","v":"=' '!$C$99"},"General","=Listas!$B$2:$B$4",""]
["Lista de chequeo",{"$f":"' '!$D$99","v":0},{"$f":"IFERROR(FORMULATEXTO_Act(Campos_Ingreso_Datos[[#This Row],[Vinculo]]),\"\")","v":"=' '!$D$99"},"General","=Listas!$B$2:$B$4",""]
["Lista de chequeo",{"$f":"' '!$C$101","v":0},{"$f":"IFERROR(FORMULATEXTO_Act(Campos_Ingreso_Datos[[#This Row],[Vinculo]]),\"\")","v":"=' '!$C$101"},"General","=Listas!$B$2:$B$4",""]
["Lista de chequeo",{"$f":"' '!$D$101","v":0},{"$f":"IFERROR(FORMULATEXTO_Act(Campos_Ingreso_Datos[[#This Row],[Vinculo]]),\"\")","v":"=' '!$D$101"},"General","=Listas!$B$2:$B$4",""]
["Lista de chequeo",{"$f":"' '!$C$102","v":0},{"$f":"IFERROR(FORMULATEXTO_Act(Campos_Ingreso_Datos[[#This Row],[Vinculo]]),\"\")","v":"=' '!$C$102"},"General","=Listas!$B$2:$B$4",""]
["Lista de chequeo",{"$f":"' '!$D$102","v":0},{"$f":"IFERROR(FORMULATEXTO_Act(Campos_Ingreso_Datos[[#This Row],[Vinculo]]),\"\")","v":"=' '!$D$102"},"General","=Listas!$B$2:$B$4",""]
["Lista de chequeo",{"$f":"' '!$C$104","v":0},{"$f":"IFERROR(FORMULATEXTO_Act(Campos_Ingreso_Datos[[#This Row],[Vinculo]]),\"\")","v":"=' '!$C$104"},"General","=Listas!$B$2:$B$4",""]
["Lista de chequeo",{"$f":"' '!$D$104","v":0},{"$f":"IFERROR(FORMULATEXTO_Act(Campos_Ingreso_Datos[[#This Row],[Vinculo]]),\"\")","v":"=' '!$D$104"},"General","=Listas!$B$2:$B$4",""]
["Lista de chequeo",{"$f":"' '!$C$105","v":0},{"$f":"IFERROR(FORMULATEXTO_Act(Campos_Ingreso_Datos[[#This Row],[Vinculo]]),\"\")","v":"=' '!$C$105"},"General","=Listas!$B$2:$B$4",""]
["Lista de chequeo",{"$f":"' '!$D$105","v":0},{"$f":"IFERROR(FORMULATEXTO_Act(Campos_Ingreso_Datos[[#This Row],[Vinculo]]),\"\")","v":"=' '!$D$105"},"General","=Listas!$B$2:$B$4",""]
["Lista de chequeo",{"$f":"' '!$C$106","v":0},{"$f":"IFERROR(FORMULATEXTO_Act(Campos_Ingreso_Datos[[#This Row],[Vinculo]]),\"\")","v":"=' '!$C$106"},"General","=Listas!$B$2:$B$4",""]
["Lista de chequeo",{"$f":"' '!$D$106","v":0},{"$f":"IFERROR(FORMULATEXTO_Act(Campos_Ingreso_Datos[[#This Row],[Vinculo]]),\"\")","v":"=' '!$D$106"},"General","=Listas!$B$2:$B$4",""]
["Lista de chequeo",{"$f":"' '!$C$107","v":0},{"$f":"IFERROR(FORMULATEXTO_Act(Campos_Ingreso_Datos[[#This Row],[Vinculo]]),\"\")","v":"=' '!$C$107"},"General","=Listas!$B$2:$B$4",""]
["Lista de chequeo",{"$f":"' '!$D$107","v":0},{"$f":"IFERROR(FORMULATEXTO_Act(Campos_Ingreso_Datos[[#This Row],[Vinculo]]),\"\")","v":"=' '!$D$107"},"General","=Listas!$B$2:$B$4",""]
["Datos Contribuyente",{"$f":"' '!$D$129","v":"Andrés"},{"$f":"IFERROR(FORMULATEXTO_Act(Campos_Ingreso_Datos[[#This Row],[Vinculo]]),\"\")","v":"=' '!$D$129"},"General"]
["Datos Contribuyente",{"$f":"' '!$D$130","v":0},{"$f":"IFERROR(FORMULATEXTO_Act(Campos_Ingreso_Datos[[#This Row],[Vinculo]]),\"\")","v":"=' '!$D$130"},"General"]
["Datos Contribuyente",{"$f":"' '!$D$131","v":"Julián "},{"$f":"IFERROR(FORMULATEXTO_Act(Campos_Ingreso_Datos[[#This Row],[Vinculo]]),\"\")","v":"=' '!$D$131"},"General"]
["Datos Contribuyente",{"$f":"' '!$D$132","v":"Martínez"},{"$f":"IFERROR(FORMULATEXTO_Act(Campos_Ingreso_Datos[[#This Row],[Vinculo]]),\"\")","v":"=' '!$D$132"},"General"]
["Datos Contribuyente",{"$f":"' '!$D$133","v":1112674696},{"$f":"IFERROR(FORMULATEXTO_Act(Campos_Ingreso_Datos[[#This Row],[Vinculo]]),\"\")","v":"=' '!$D$133"},"General"]
["Datos Contribuyente",{"$f":"' '!$D$136","v":"0020"},{"$f":"IFERROR(FORMULATEXTO_Act(Campos_Ingreso_Datos[[#This Row],[Vinculo]]),\"\")","v":"=' '!$D$136"},"@","=Lista_CIIU",""]
["Datos Contribuyente",{"$f":"' '!$D$137","v":"05"},{"$f":"IFERROR(FORMULATEXTO_Act(Campos_Ingreso_Datos[[#This Row],[Vinculo]]),\"\")","v":"=' '!$D$137"},"@","=Lista_Seccionales_DIAN",""]
["Datos Contribuyente",{"$f":"' '!$D$138","v":"No"},{"$f":"IFERROR(FORMULATEXTO_Act(Campos_Ingreso_Datos[[#This Row],[Vinculo]]),\"\")","v":"=' '!$D$138"},"General","=Listas!$B$2:$B$3",""]
["Datos Contribuyente",{"$f":"' '!$D$139","v":0},{"$f":"IFERROR(FORMULATEXTO_Act(Campos_Ingreso_Datos[[#This Row],[Vinculo]]),\"\")","v":"=' '!$D$139"},"General","=Listas!$G$63:$G$67",""]
["Datos Contribuyente",{"$f":"' '!$D$140","v":0},{"$f":"IFERROR(FORMULATEXTO_Act(Campos_Ingreso_Datos[[#This Row],[Vinculo]]),\"\")","v":"=' '!$D$140"},"General"]
["Datos Contribuyente",{"$f":"' '!$D$142","v":0},{"$f":"IFERROR(FORMULATEXTO_Act(Campos_Ingreso_Datos[[#This Row],[Vinculo]]),\"\")","v":"=' '!$D$142"},"General"]
["Datos Contribuyente",{"$f":"' '!$D$143","v":"No"},{"$f":"IFERROR(FORMULATEXTO_Act(Campos_Ingreso_Datos[[#This Row],[Vinculo]]),\"\")","v":"=' '!$D$143"},"General","=Listas!$B$2:$B$3",""]
["Datos Contribuyente",{"$f":"' '!$D$144","v":0},{"$f":"IFERROR(FORMULATEXTO_Act(Campos_Ingreso_Datos[[#This Row],[Vinculo]]),\"\")","v":"=' '!$D$144"},"General","=Listas!$B$2:$B$3",""]
["Datos Contribuyente",{"$f":"' '!$D$145","v":0},{"$f":"IFERROR(FORMULATEXTO_Act(Campos_Ingreso_Datos[[#This Row],[Vinculo]]),\"\")","v":"=' '!$D$145"},"General","=Listas!$B$2:$B$3",""]
["Datos Contribuyente",{"$f":"' '!$D$146","v":"No"},{"$f":"IFERROR(FORMULATEXTO_Act(Campos_Ingreso_Datos[[#This Row],[Vinculo]]),\"\")","v":"=' '!$D$146"},"General","=Listas!$B$2:$B$3",""]
["Datos Contribuyente",{"$f":"' '!$D$147","v":"Esta es la tercera vez o más"},{"$f":"IFERROR(FORMULATEXTO_Act(Campos_Ingreso_Datos[[#This Row],[Vinculo]]),\"\")","v":"=' '!$D$147"},"General","=Listas!$M$7:$M$9",""]
["Datos Contribuyente",{"$f":"' '!$D$148","v":{"v":0,"d":"$ 0"}},{"$f":"IFERROR(FORMULATEXTO_Act(Campos_Ingreso_Datos[[#This Row],[Vinculo]]),\"\")","v":"=' '!$D$148"},"[$$-240A] #,##0"]
["Datos Contribuyente",{"$f":"' '!$D$152","v":{"v":269780000,"d":"$ 269,780,000"}},{"$f":"IFERROR(FORMULATEXTO_Act(Campos_Ingreso_Datos[[#This Row],[Vinculo]]),\"\")","v":"=' '!$D$152"},"[$$-240A] #,##0"]
["Datos Contribuyente",{"$f":"' '!$D$153","v":{"v":241560000,"d":"$ 241,560,000"}},{"$f":"IFERROR(FORMULATEXTO_Act(Campos_Ingreso_Datos[[#This Row],[Vinculo]]),\"\")","v":"=' '!$D$153"},"[$$-240A] #,##0"]
["Datos Contribuyente",{"$f":"' '!$D$154","v":{"v":0,"d":"$ 0"}},{"$f":"IFERROR(FORMULATEXTO_Act(Campos_Ingreso_Datos[[#This Row],[Vinculo]]),\"\")","v":"=' '!$D$154"},"[$$-240A] #,##0"]
["Datos Contribuyente",{"$f":"' '!$D$155","v":{"v":0,"d":"$ 0"}},{"$f":"IFERROR(FORMULATEXTO_Act(Campos_Ingreso_Datos[[#This Row],[Vinculo]]),\"\")","v":"=' '!$D$155"},"[$$-240A] #,##0"]
["Datos Contribuyente",{"$f":"' '!$D$156","v":{"v":0,"d":"$ 0"}},{"$f":"IFERROR(FORMULATEXTO_Act(Campos_Ingreso_Datos[[#This Row],[Vinculo]]),\"\")","v":"=' '!$D$156"},"[$$-240A] #,##0"]
["Datos Contribuyente",{"$f":"' '!$D$157","v":{"v":0,"d":"$ 0"}},{"$f":"IFERROR(FORMULATEXTO_Act(Campos_Ingreso_Datos[[#This Row],[Vinculo]]),\"\")","v":"=' '!$D$157"},"[$$-240A] #,##0"]
["Datos Contribuyente",{"$f":"' '!$D$158","v":{"v":0,"d":"$ 0"}},{"$f":"IFERROR(FORMULATEXTO_Act(Campos_Ingreso_Datos[[#This Row],[Vinculo]]),\"\")","v":"=' '!$D$158"},"[$$-240A] #,##0"]
["Datos Contribuyente",{"$f":"' '!$D$159","v":{"v":0,"d":"$ 0"}},{"$f":"IFERROR(FORMULATEXTO_Act(Campos_Ingreso_Datos[[#This Row],[Vinculo]]),\"\")","v":"=' '!$D$159"},"[$$-240A] #,##0"]
["Datos Contribuyente",{"$f":"' '!$D$160","v":0},{"$f":"IFERROR(FORMULATEXTO_Act(Campos_Ingreso_Datos[[#This Row],[Vinculo]]),\"\")","v":"=' '!$D$160"},"General","=Listas!$B$2:$B$3",""]
["Datos Contribuyente",{"$f":"' '!$D$161","v":{"v":0,"d":"$ 0"}},{"$f":"IFERROR(FORMULATEXTO_Act(Campos_Ingreso_Datos[[#This Row],[Vinculo]]),\"\")","v":"=' '!$D$161"},"[$$-240A] #,##0"]
["Datos Contribuyente",{"$f":"' '!$D$162","v":0},{"$f":"IFERROR(FORMULATEXTO_Act(Campos_Ingreso_Datos[[#This Row],[Vinculo]]),\"\")","v":"=' '!$D$162"},"General","=Listas!$B$2:$B$3",""]
["Datos Contribuyente",{"$f":"' '!$D$163","v":{"v":0,"d":"$ 0"}},{"$f":"IFERROR(FORMULATEXTO_Act(Campos_Ingreso_Datos[[#This Row],[Vinculo]]),\"\")","v":"=' '!$D$163"},"[$$-240A] #,##0"]
["Datos Contribuyente",{"$f":"' '!$D$164","v":0},{"$f":"IFERROR(FORMULATEXTO_Act(Campos_Ingreso_Datos[[#This Row],[Vinculo]]),\"\")","v":"=' '!$D$164"},"General","=Listas!$B$2:$B$3",""]
["Datos Contribuyente",{"$f":"' '!$D$165","v":{"v":0,"d":"$ 0"}},{"$f":"IFERROR(FORMULATEXTO_Act(Campos_Ingreso_Datos[[#This Row],[Vinculo]]),\"\")","v":"=' '!$D$165"},"[$$-240A] #,##0"]
["Datos Contribuyente",{"$f":"' '!$D$166","v":0},{"$f":"IFERROR(FORMULATEXTO_Act(Campos_Ingreso_Datos[[#This Row],[Vinculo]]),\"\")","v":"=' '!$D$166"},"General","=Listas!$B$2:$B$3",""]
["Datos Contribuyente",{"$f":"' '!$D$167","v":{"v":0,"d":"$ 0"}},{"$f":"IFERROR(FORMULATEXTO_Act(Campos_Ingreso_Datos[[#This Row],[Vinculo]]),\"\")","v":"=' '!$D$167"},"[$$-240A] #,##0"]
["Datos Contribuyente",{"$f":"' '!$D$168","v":0},{"$f":"IFERROR(FORMULATEXTO_Act(Campos_Ingreso_Datos[[#This Row],[Vinculo]]),\"\")","v":"=' '!$D$168"},"General","=Listas!$B$2:$B$3",""]
["Datos Contribuyente",{"$f":"' '!$D$173","v":"22/08/2023"},{"$f":"IFERROR(FORMULATEXTO_Act(Campos_Ingreso_Datos[[#This Row],[Vinculo]]),\"\")","v":"=' '!$D$173"},"dd/mm/yyyy;@","2022-01-01","2100-12-31"]
["Datos Contribuyente",{"$f":"' '!$D$176","v":0},{"$f":"IFERROR(FORMULATEXTO_Act(Campos_Ingreso_Datos[[#This Row],[Vinculo]]),\"\")","v":"=' '!$D$176"},"General","=Listas!$B$2:$B$3",""]
["Rentas de Trabajo",{"$f":"' '!$C$505","v":{"v":0,"d":"$ 0"}},{"$f":"IFERROR(FORMULATEXTO_Act(Campos_Ingreso_Datos[[#This Row],[Vinculo]]),\"\")","v":"=' '!$C$505"},"[$$-240A] #,##0"]
["Rentas de Trabajo",{"$f":"' '!$D$505","v":{"v":0,"d":"$ 0"}},{"$f":"IFERROR(FORMULATEXTO_Act(Campos_Ingreso_Datos[[#This Row],[Vinculo]]),\"\")","v":"=' '!$D$505"},"[$$-240A] #,##0"]
["Rentas de Trabajo",{"$f":"' '!$E$505","v":{"v":0,"d":"$ 0"}},{"$f":"IFERROR(FORMULATEXTO_Act(Campos_Ingreso_Datos[[#This Row],[Vinculo]]),\"\")","v":"=' '!$E$505"},"[$$-240A] #,##0"]
["Rentas de Trabajo",{"$f":"' '!$C$506","v":{"v":0,"d":"$ 0"}},{"$f":"IFERROR(FORMULATEXTO_Act(Campos_Ingreso_Datos[[#This Row],[Vinculo]]),\"\")","v":"=' '!$C$506"},"[$$-240A] #,##0"]
["Rentas de Trabajo",{"$f":"' '!$D$506","v":{"v":0,"d":"$ 0"}},{"$f":"IFERROR(FORMULATEXTO_Act(Campos_Ingreso_Datos[[#This Row],[Vinculo]]),\"\")","v":"=' '!$D$506"},"[$$-240A] #,##0"]
["Rentas de Trabajo",{"$f":"' '!$E$506","v":{"v":0,"d":"$ 0"}},{"$f":"IFERROR(FORMULATEXTO_Act(Campos_Ingreso_Datos[[#This Row],[Vinculo]]),\"\")","v":"=' '!$E$506"},"[$$-240A] #,##0"]
["Rentas de Trabajo",{"$f":"' '!$C$507","v":{"v":0,"d":"$ 0"}},{"$f":"IFERROR(FORMULATEXTO_Act(Campos_Ingreso_Datos[[#This Row],[Vinculo]]),\"\")","v":"=' '!$C$507"},"[$$-240A] #,##0"]
["Rentas de Trabajo",{"$f":"' '!$D$507","v":{"v":0,"d":"$ 0"}},{"$f":"IFERROR(FORMULATEXTO_Act(Campos_Ingreso_Datos[[#This Row],[Vinculo]]),\"\")","v":"=' '!$D$507"},"[$$-240A] #,##0"]
["Rentas de Trabajo",{"$f":"' '!$E$507","v":{"v":0,"d":"$ 0"}},{"$f":"IFERROR(FORMULATEXTO_Act(Campos_Ingreso_Datos[[#This Row],[Vinculo]]),\"\")","v":"=' '!$E$507"},"[$$-240A] #,##0"]
["Rentas de Trabajo",{"$f":"' '!$C$508","v":{"v":0,"d":"$ 0"}},{"$f":"IFERROR(FORMULATEXTO_Act(Campos_Ingreso_Datos[[#This Row],[Vinculo]]),\"\")","v":"=' '!$C$508"},"[$$-240A] #,##0"]
["Rentas de Trabajo",{"$f":"' '!$D$508","v":{"v":0,"d":"$ 0"}},{"$f":"IFERROR(FORMULATEXTO_Act(Campos_Ingreso_Datos[[#This Row],[Vinculo]]),\"\")","v":"=' '!$D$508"},"[$$-240A] #,##0"]
["Rentas de Trabajo",{"$f":"' '!$E$508","v":{"v":0,"d":"$ 0"}},{"$f":"IFERROR(FORMULATEXTO_Act(Campos_Ingreso_Datos[[#This Row],[Vinculo]]),\"\")","v":"=' '!$E$508"},"[$$-240A] #,##0"]
["Rentas de Trabajo",{"$f":"' '!$C$509","v":{"v":0,"d":"$ 0"}},{"$f":"IFERROR(FORMULATEXTO_Act(Campos_Ingreso_Datos[[#This Row],[Vinculo]]),\"\")","v":"=' '!$C$509"},"[$$-240A] #,##0"]
["Rentas de Trabajo",{"$f":"' '!$D$509","v":{"v":0,"d":"$ 0"}},{"$f":"IFERROR(FORMULATEXTO_Act(Campos_Ingreso_Datos[[#This Row],[Vinculo]]),\"\")","v":"=' '!$D$509"},"[$$-240A] #,##0"]
["Rentas de Trabajo",{"$f":"' '!$E$509","v":{"v":0,"d":"$ 0"}},{"$f":"IFERROR(FORMULATEXTO_Act(Campos_Ingreso_Datos[[#This Row],[Vinculo]]),\"\")","v":"=' '!$E$509"},"[$$-240A] #,##0"]
["Rentas de Trabajo",{"$f":"' '!$C$510","v":{"v":0,"d":"$ 0"}},{"$f":"IFERROR(FORMULATEXTO_Act(Campos_Ingreso_Datos[[#This Row],[Vinculo]]),\"\")","v":"=' '!$C$510"},"[$$-240A] #,##0"]
["Rentas de Trabajo",{"$f":"' '!$D$510","v":{"v":0,"d":"$ 0"}},{"$f":"IFERROR(FORMULATEXTO_Act(Campos_Ingreso_Datos[[#This Row],[Vinculo]]),\"\")","v":"=' '!$D$510"},"[$$-240A] #,##0"]
["Rentas de Trabajo",{"$f":"' '!$E$510","v":{"v":0,"d":"$ 0"}},{"$f":"IFERROR(FORMULATEXTO_Act(Campos_Ingreso_Datos[[#This Row],[Vinculo]]),\"\")","v":"=' '!$E$510"},"[$$-240A] #,##0"]
["Rentas de Trabajo",{"$f":"' '!$C$511","v":{"v":0,"d":"$ 0"}},{"$f":"IFERROR(FORMULATEXTO_Act(Campos_Ingreso_Datos[[#This Row],[Vinculo]]),\"\")","v":"=' '!$C$511"},"[$$-240A] #,##0"]
["Rentas de Trabajo",{"$f":"' '!$D$511","v":{"v":0,"d":"$ 0"}},{"$f":"IFERROR(FORMULATEXTO_Act(Campos_Ingreso_Datos[[#This Row],[Vinculo]]),\"\")","v":"=' '!$D$511"},"[$$-240A] #,##0"]
["Rentas de Trabajo",{"$f":"' '!$E$511","v":{"v":0,"d":"$ 0"}},{"$f":"IFERROR(FORMULATEXTO_Act(Campos_Ingreso_Datos[[#This Row],[Vinculo]]),\"\")","v":"=' '!$E$511"},"[$$-240A] #,##0"]
["Rentas de Trabajo",{"$f":"' '!$C$512","v":{"v":0,"d":"$ 0"}},{"$f":"IFERROR(FORMULATEXTO_Act(Campos_Ingreso_Datos[[#This Row],[Vinculo]]),\"\")","v":"=' '!$C$512"},"[$$-240A] #,##0"]
["Rentas de Trabajo",{"$f":"' '!$D$512","v":{"v":0,"d":"$ 0"}},{"$f":"IFERROR(FORMULATEXTO_Act(Campos_Ingreso_Datos[[#This Row],[Vinculo]]),\"\")","v":"=' '!$D$512"},"[$$-240A] #,##0"]
["Rentas de Trabajo",{"$f":"' '!$E$512","v":{"v":0,"d":"$ 0"}},{"$f":"IFERROR(FORMULATEXTO_Act(Campos_Ingreso_Datos[[#This Row],[Vinculo]]),\"\")","v":"=' '!$E$512"},"[$$-240A] #,##0"]
["Rentas de Trabajo",{"$f":"' '!$C$513","v":{"v":0,"d":"$ 0"}},{"$f":"IFERROR(FORMULATEXTO_Act(Campos_Ingreso_Datos[[#This Row],[Vinculo]]),\"\")","v":"=' '!$C$513"},"[$$-240A] #,##0"]
["Rentas de Trabajo",{"$f":"' '!$D$513","v":{"v":0,"d":"$ 0"}},{"$f":"IFERROR(FORMULATEXTO_Act(Campos_Ingreso_Datos[[#This Row],[Vinculo]]),\"\")","v":"=' '!$D$513"},"[$$-240A] #,##0"]
["Rentas de Trabajo",{"$f":"' '!$E$513","v":{"v":0,"d":"$ 0"}},{"$f":"IFERROR(FORMULATEXTO_Act(Campos_Ingreso_Datos[[#This Row],[Vinculo]]),\"\")","v":"=' '!$E$513"},"[$$-240A] #,##0"]
["Rentas de Trabajo",{"$f":"' '!$C$514","v":{"v":0,"d":"$ 0"}},{"$f":"IFERROR(FORMULATEXTO_Act(Campos_Ingreso_Datos[[#This Row],[Vinculo]]),\"\")","v":"=' '!$C$514"},"[$$-240A] #,##0"]
["Rentas de Trabajo",{"$f":"' '!$D$514","v":{"v":0,"d":"$ 0"}},{"$f":"IFERROR(FORMULATEXTO_Act(Campos_Ingreso_Datos[[#This Row],[Vinculo]]),\"\")","v":"=' '!$D$514"},"[$$-240A] #,##0"]
["Rentas de Trabajo",{"$f":"' '!$E$514","v":{"v":0,"d":"$ 0"}},{"$f":"IFERROR(FORMULATEXTO_Act(Campos_Ingreso_Datos[[#This Row],[Vinculo]]),\"\")","v":"=' '!$E$514"},"[$$-240A] #,##0"]
["Rentas de Trabajo",{"$f":"' '!$C$515","v":{"v":0,"d":"$ 0"}},{"$f":"IFERROR(FORMULATEXTO_Act(Campos_Ingreso_Datos[[#This Row],[Vinculo]]),\"\")","v":"=' '!$C$515"},"[$$-240A] #,##0"]
["Rentas de Trabajo",{"$f":"' '!$D$515","v":{"v":0,"d":"$ 0"}},{"$f":"IFERROR(FORMULATEXTO_Act(Campos_Ingreso_Datos[[#This Row],[Vinculo]]),\"\")","v":"=' '!$D$515"},"[$$-240A] #,##0"]
["Rentas de Trabajo",{"$f":"' '!$E$515","v":{"v":0,"d":"$ 0"}},{"$f":"IFERROR(FORMULATEXTO_Act(Campos_Ingreso_Datos[[#This Row],[Vinculo]]),\"\")","v":"=' '!$E$515"},"[$$-240A] #,##0"]
["Rentas de Trabajo",{"$f":"' '!$C$516","v":{"v":0,"d":"$ 0"}},{"$f":"IFERROR(FORMULATEXTO_Act(Campos_Ingreso_Datos[[#This Row],[Vinculo]]),\"\")","v":"=' '!$C$516"},"[$$-240A] #,##0"]
["Rentas de Trabajo",{"$f":"' '!$D$516","v":{"v":0,"d":"$ 0"}},{"$f":"IFERROR(FORMULATEXTO_Act(Campos_Ingreso_Datos[[#This Row],[Vinculo]]),\"\")","v":"=' '!$D$516"},"[$$-240A] #,##0"]
["Rentas de Trabajo",{"$f":"' '!$E$516","v":{"v":0,"d":"$ 0"}},{"$f":"IFERROR(FORMULATEXTO_Act(Campos_Ingreso_Datos[[#This Row],[Vinculo]]),\"\")","v":"=' '!$E$516"},"[$$-240A] #,##0"]
["Rentas de Trabajo",{"$f":"' '!$C$517","v":{"v":0,"d":"$ 0"}},{"$f":"IFERROR(FORMULATEXTO_Act(Campos_Ingreso_Datos[[#This Row],[Vinculo]]),\"\")","v":"=' '!$C$517"},"[$$-240A] #,##0"]
["Rentas de Trabajo",{"$f":"' '!$D$517","v":{"v":0,"d":"$ 0"}},{"$f":"IFERROR(FORMULATEXTO_Act(Campos_Ingreso_Datos[[#This Row],[Vinculo]]),\"\")","v":"=' '!$D$517"},"[$$-240A] #,##0"]
["Rentas de Trabajo",{"$f":"' '!$E$517","v":{"v":0,"d":"$ 0"}},{"$f":"IFERROR(FORMULATEXTO_Act(Campos_Ingreso_Datos[[#This Row],[Vinculo]]),\"\")","v":"=' '!$E$517"},"[$$-240A] #,##0"]
["Rentas de Trabajo",{"$f":"' '!$C$518","v":{"v":0,"d":"$ 0"}},{"$f":"IFERROR(FORMULATEXTO_Act(Campos_Ingreso_Datos[[#This Row],[Vinculo]]),\"\")","v":"=' '!$C$518"},"[$$-240A] #,##0"]
["Rentas de Trabajo",{"$f":"' '!$D$518","v":{"v":0,"d":"$ 0"}},{"$f":"IFERROR(FORMULATEXTO_Act(Campos_Ingreso_Datos[[#This Row],[Vinculo]]),\"\")","v":"=' '!$D$518"},"[$$-240A] #,##0"]
["Rentas de Trabajo",{"$f":"' '!$E$518","v":{"v":0,"d":"$ 0"}},{"$f":"IFERROR(FORMULATEXTO_Act(Campos_Ingreso_Datos[[#This Row],[Vinculo]]),\"\")","v":"=' '!$E$518"},"[$$-240A] #,##0"]
["Rentas de Trabajo",{"$f":"' '!$C$519","v":{"v":0,"d":"$ 0"}},{"$f":"IFERROR(FORMULATEXTO_Act(Campos_Ingreso_Datos[[#This Row],[Vinculo]]),\"\")","v":"=' '!$C$519"},"[$$-240A] #,##0"]
["Rentas de Trabajo",{"$f":"' '!$D$519","v":{"v":0,"d":"$ 0"}},{"$f":"IFERROR(FORMULATEXTO_Act(Campos_Ingreso_Datos[[#This Row],[Vinculo]]),\"\")","v":"=' '!$D$519"},"[$$-240A] #,##0"]
["Rentas de Trabajo",{"$f":"' '!$E$519","v":{"v":0,"d":"$ 0"}},{"$f":"IFERROR(FORMULATEXTO_Act(Campos_Ingreso_Datos[[#This Row],[Vinculo]]),\"\")","v":"=' '!$E$519"},"[$$-240A] #,##0"]
["Rentas de Trabajo",{"$f":"' '!$C$520","v":{"v":0,"d":"$ 0"}},{"$f":"IFERROR(FORMULATEXTO_Act(Campos_Ingreso_Datos[[#This Row],[Vinculo]]),\"\")","v":"=' '!$C$520"},"[$$-240A] #,##0"]
["Rentas de Trabajo",{"$f":"' '!$D$520","v":{"v":0,"d":"$ 0"}},{"$f":"IFERROR(FORMULATEXTO_Act(Campos_Ingreso_Datos[[#This Row],[Vinculo]]),\"\")","v":"=' '!$D$520"},"[$$-240A] #,##0"]
["Rentas de Trabajo",{"$f":"' '!$E$520","v":{"v":0,"d":"$ 0"}},{"$f":"IFERROR(FORMULATEXTO_Act(Campos_Ingreso_Datos[[#This Row],[Vinculo]]),\"\")","v":"=' '!$E$520"},"[$$-240A] #,##0"]
["Rentas de Trabajo",{"$f":"' '!$C$521","v":{"v":0,"d":"$ 0"}},{"$f":"IFERROR(FORMULATEXTO_Act(Campos_Ingreso_Datos[[#This Row],[Vinculo]]),\"\")","v":"=' '!$C$521"},"[$$-240A] #,##0"]
["Rentas de Trabajo",{"$f":"' '!$D$521","v":{"v":0,"d":"$ 0"}},{"$f":"IFERROR(FORMULATEXTO_Act(Campos_Ingreso_Datos[[#This Row],[Vinculo]]),\"\")","v":"=' '!$D$521"},"[$$-240A] #,##0"]
["Rentas de Trabajo",{"$f":"' '!$E$521","v":{"v":0,"d":"$ 0"}},{"$f":"IFERROR(FORMULATEXTO_Act(Campos_Ingreso_Datos[[#This Row],[Vinculo]]),\"\")","v":"=' '!$E$521"},"[$$-240A] #,##0"]
["Rentas de Trabajo",{"$f":"' '!$C$522","v":{"v":0,"d":"$ 0"}},{"$f":"IFERROR(FORMULATEXTO_Act(Campos_Ingreso_Datos[[#This Row],[Vinculo]]),\"\")","v":"=' '!$C$522"},"[$$-240A] #,##0"]
["Rentas de Trabajo",{"$f":"' '!$D$522","v":{"v":0,"d":"$ 0"}},{"$f":"IFERROR(FORMULATEXTO_Act(Campos_Ingreso_Datos[[#This Row],[Vinculo]]),\"\")","v":"=' '!$D$522"},"[$$-240A] #,##0"]
["Rentas de Trabajo",{"$f":"' '!$E$522","v":{"v":0,"d":"$ 0"}},{"$f":"IFERROR(FORMULATEXTO_Act(Campos_Ingreso_Datos[[#This Row],[Vinculo]]),\"\")","v":"=' '!$E$522"},"[$$-240A] #,##0"]
["Rentas de Trabajo",{"$f":"' '!$C$523","v":{"v":0,"d":"$ 0"}},{"$f":"IFERROR(FORMULATEXTO_Act(Campos_Ingreso_Datos[[#This Row],[Vinculo]]),\"\")","v":"=' '!$C$523"},"[$$-240A] #,##0"]
["Rentas de Trabajo",{"$f":"' '!$D$523","v":{"v":0,"d":"$ 0"}},{"$f":"IFERROR(FORMULATEXTO_Act(Campos_Ingreso_Datos[[#This Row],[Vinculo]]),\"\")","v":"=' '!$D$523"},"[$$-240A] #,##0"]
["Rentas de Trabajo",{"$f":"' '!$E$523","v":{"v":0,"d":"$ 0"}},{"$f":"IFERROR(FORMULATEXTO_Act(Campos_Ingreso_Datos[[#This Row],[Vinculo]]),\"\")","v":"=' '!$E$523"},"[$$-240A] #,##0"]
["Rentas de Trabajo",{"$f":"' '!$C$524","v":{"v":0,"d":"$ 0"}},{"$f":"IFERROR(FORMULATEXTO_Act(Campos_Ingreso_Datos[[#This Row],[Vinculo]]),\"\")","v":"=' '!$C$524"},"[$$-240A] #,##0"]
["Rentas de Trabajo",{"$f":"' '!$D$524","v":{"v":0,"d":"$ 0"}},{"$f":"IFERROR(FORMULATEXTO_Act(Campos_Ingreso_Datos[[#This Row],[Vinculo]]),\"\")","v":"=' '!$D$524"},"[$$-240A] #,##0"]
["Rentas de Trabajo",{"$f":"' '!$E$524","v":{"v":0,"d":"$ 0"}},{"$f":"IFERROR(FORMULATEXTO_Act(Campos_Ingreso_Datos[[#This Row],[Vinculo]]),\"\")","v":"=' '!$E$524"},"[$$-240A] #,##0"]
["Rentas de Trabajo",{"$f":"' '!$C$525","v":{"v":0,"d":"$ 0"}},{"$f":"IFERROR(FORMULATEXTO_Act(Campos_Ingreso_Datos[[#This Row],[Vinculo]]),\"\")","v":"=' '!$C$525"},"[$$-240A] #,##0"]
["Rentas de Trabajo",{"$f":"' '!$D$525","v":{"v":0,"d":"$ 0"}},{"$f":"IFERROR(FORMULATEXTO_Act(Campos_Ingreso_Datos[[#This Row],[Vinculo]]),\"\")","v":"=' '!$D$525"},"[$$-240A] #,##0"]
["Rentas de Trabajo",{"$f":"' '!$E$525","v":{"v":0,"d":"$ 0"}},{"$f":"IFERROR(FORMULATEXTO_Act(Campos_Ingreso_Datos[[#This Row],[Vinculo]]),\"\")","v":"=' '!$E$525"},"[$$-240A] #,##0"]
["Rentas de Trabajo",{"$f":"' '!$F$528","v":0},{"$f":"IFERROR(FORMULATEXTO_Act(Campos_Ingreso_Datos[[#This Row],[Vinculo]]),\"\")","v":"=' '!$F$528"},"General","=Listas!$B$2:$B$3",""]
["Rentas de Trabajo",{"$f":"' '!$F$534","v":0},{"$f":"IFERROR(FORMULATEXTO_Act(Campos_Ingreso_Datos[[#This Row],[Vinculo]]),\"\")","v":"=' '!$F$534"},"General","=Listas!$B$2:$B$3",""]
["Rentas de Trabajo",{"$f":"' '!$F$541","v":0},{"$f":"IFERROR(FORMULATEXTO_Act(Campos_Ingreso_Datos[[#This Row],[Vinculo]]),\"\")","v":"=' '!$F$541"},"General","=Listas!$B$2:$B$3",""]
["Rentas de Trabajo",{"$f":"' '!$C$550","v":{"v":0,"d":"$ 0"}},{"$f":"IFERROR(FORMULATEXTO_Act(Campos_Ingreso_Datos[[#This Row],[Vinculo]]),\"\")","v":"=' '!$C$550"},"[$$-240A] #,##0"]
["Rentas de Trabajo",{"$f":"' '!$C$551","v":{"v":0,"d":"$ 0"}},{"$f":"IFERROR(FORMULATEXTO_Act(Campos_Ingreso_Datos[[#This Row],[Vinculo]]),\"\")","v":"=' '!$C$551"},"[$$-240A] #,##0"]
["Rentas de Trabajo",{"$f":"' '!$C$552","v":{"v":0,"d":"$ 0"}},{"$f":"IFERROR(FORMULATEXTO_Act(Campos_Ingreso_Datos[[#This Row],[Vinculo]]),\"\")","v":"=' '!$C$552"},"[$$-240A] #,##0"]
["Rentas de Trabajo",{"$f":"' '!$C$553","v":{"v":0,"d":"$ 0"}},{"$f":"IFERROR(FORMULATEXTO_Act(Campos_Ingreso_Datos[[#This Row],[Vinculo]]),\"\")","v":"=' '!$C$553"},"[$$-240A] #,##0"]
["Rentas de Trabajo",{"$f":"' '!$C$554","v":{"v":0,"d":"$ 0"}},{"$f":"IFERROR(FORMULATEXTO_Act(Campos_Ingreso_Datos[[#This Row],[Vinculo]]),\"\")","v":"=' '!$C$554"},"[$$-240A] #,##0"]
["Rentas de Trabajo",{"$f":"' '!$C$555","v":{"v":0,"d":"$ 0"}},{"$f":"IFERROR(FORMULATEXTO_Act(Campos_Ingreso_Datos[[#This Row],[Vinculo]]),\"\")","v":"=' '!$C$555"},"[$$-240A] #,##0"]
["Rentas de Trabajo",{"$f":"' '!$C$556","v":{"v":0,"d":"$ 0"}},{"$f":"IFERROR(FORMULATEXTO_Act(Campos_Ingreso_Datos[[#This Row],[Vinculo]]),\"\")","v":"=' '!$C$556"},"[$$-240A] #,##0"]
["Rentas de Trabajo",{"$f":"' '!$C$557","v":{"v":0,"d":"$ 0"}},{"$f":"IFERROR(FORMULATEXTO_Act(Campos_Ingreso_Datos[[#This Row],[Vinculo]]),\"\")","v":"=' '!$C$557"},"[$$-240A] #,##0"]
["Rentas de Trabajo",{"$f":"' '!$C$558","v":{"v":0,"d":"$ 0"}},{"$f":"IFERROR(FORMULATEXTO_Act(Campos_Ingreso_Datos[[#This Row],[Vinculo]]),\"\")","v":"=' '!$C$558"},"[$$-240A] #,##0"]
["Rentas de Trabajo",{"$f":"' '!$C$563","v":{"v":0,"d":"$ 0"}},{"$f":"IFERROR(FORMULATEXTO_Act(Campos_Ingreso_Datos[[#This Row],[Vinculo]]),\"\")","v":"=' '!$C$563"},"[$$-240A] #,##0"]
["Rentas de Trabajo",{"$f":"' '!$C$564","v":{"v":0,"d":"$ 0"}},{"$f":"IFERROR(FORMULATEXTO_Act(Campos_Ingreso_Datos[[#This Row],[Vinculo]]),\"\")","v":"=' '!$C$564"},"[$$-240A] #,##0"]
["Rentas de Trabajo",{"$f":"' '!$C$565","v":{"v":0,"d":"$ 0"}},{"$f":"IFERROR(FORMULATEXTO_Act(Campos_Ingreso_Datos[[#This Row],[Vinculo]]),\"\")","v":"=' '!$C$565"},"[$$-240A] #,##0"]
["Rentas de Trabajo",{"$f":"' '!$C$566","v":{"v":0,"d":"$ 0"}},{"$f":"IFERROR(FORMULATEXTO_Act(Campos_Ingreso_Datos[[#This Row],[Vinculo]]),\"\")","v":"=' '!$C$566"},"[$$-240A] #,##0"]
["Rentas de Trabajo",{"$f":"' '!$C$568","v":{"v":0,"d":"$ 0"}},{"$f":"IFERROR(FORMULATEXTO_Act(Campos_Ingreso_Datos[[#This Row],[Vinculo]]),\"\")","v":"=' '!$C$568"},"[$$-240A] #,##0"]
["Rentas de Trabajo",{"$f":"' '!$C$575","v":{"v":0,"d":"$ 0"}},{"$f":"IFERROR(FORMULATEXTO_Act(Campos_Ingreso_Datos[[#This Row],[Vinculo]]),\"\")","v":"=' '!$C$575"},"[$$-240A] #,##0"]
["Rentas de Trabajo",{"$f":"' '!$C$576","v":{"v":0,"d":"$ 0"}},{"$f":"IFERROR(FORMULATEXTO_Act(Campos_Ingreso_Datos[[#This Row],[Vinculo]]),\"\")","v":"=' '!$C$576"},"[$$-240A] #,##0"]
["Rentas de Trabajo",{"$f":"' '!$C$577","v":{"v":0,"d":"$ 0"}},{"$f":"IFERROR(FORMULATEXTO_Act(Campos_Ingreso_Datos[[#This Row],[Vinculo]]),\"\")","v":"=' '!$C$577"},"[$$-240A] #,##0"]
["Rentas de Trabajo",{"$f":"' '!$C$578","v":{"v":0,"d":"$ 0"}},{"$f":"IFERROR(FORMULATEXTO_Act(Campos_Ingreso_Datos[[#This Row],[Vinculo]]),\"\")","v":"=' '!$C$578"},"[$$-240A] #,##0"]
["Rentas de Trabajo",{"$f":"' '!$C$580","v":0},{"$f":"IFERROR(FORMULATEXTO_Act(Campos_Ingreso_Datos[[#This Row],[Vinculo]]),\"\")","v":"=' '!$C$580"},"General"]
["Rentas de Trabajo",{"$f":"' '!$C$586","v":{"v":0,"d":"$ 0"}},{"$f":"IFERROR(FORMULATEXTO_Act(Campos_Ingreso_Datos[[#This Row],[Vinculo]]),\"\")","v":"=' '!$C$586"},"[$$-240A] #,##0"]
["Rentas de Trabajo",{"$f":"' '!$C$587","v":{"v":0,"d":"$ 0"}},{"$f":"IFERROR(FORMULATEXTO_Act(Campos_Ingreso_Datos[[#This Row],[Vinculo]]),\"\")","v":"=' '!$C$587"},"[$$-240A] #,##0"]
["Renta Honorarios y Servicios",{"$f":"' '!$F$601","v":0},{"$f":"IFERROR(FORMULATEXTO_Act(Campos_Ingreso_Datos[[#This Row],[Vinculo]]),\"\")","v":"=' '!$F$601"},"General","=Listas!$B$2:$B$3",""]
["Renta Honorarios y Servicios",{"$f":"' '!$F$607","v":0},{"$f":"IFERROR(FORMULATEXTO_Act(Campos_Ingreso_Datos[[#This Row],[Vinculo]]),\"\")","v":"=' '!$F$607"},"General","=Listas!$B$2:$B$3",""]
["Renta Honorarios y Servicios",{"$f":"' '!$F$613","v":0},{"$f":"IFERROR(FORMULATEXTO_Act(Campos_Ingreso_Datos[[#This Row],[Vinculo]]),\"\")","v":"=' '!$F$613"},"General","=Listas!$B$2:$B$3",""]
["Renta Honorarios y Servicios",{"$f":"' '!$C$622","v":{"v":0,"d":"$ 0"}},{"$f":"IFERROR(FORMULATEXTO_Act(Campos_Ingreso_Datos[[#This Row],[Vinculo]]),\"\")","v":"=' '!$C$622"},"[$$-240A] #,##0"]
["Renta Honorarios y Servicios",{"$f":"' '!$C$623","v":{"v":0,"d":"$ 0"}},{"$f":"IFERROR(FORMULATEXTO_Act(Campos_Ingreso_Datos[[#This Row],[Vinculo]]),\"\")","v":"=' '!$C$623"},"[$$-240A] #,##0"]
["Renta Honorarios y Servicios",{"$f":"' '!$C$624","v":{"v":0,"d":"$ 0"}},{"$f":"IFERROR(FORMULATEXTO_Act(Campos_Ingreso_Datos[[#This Row],[Vinculo]]),\"\")","v":"=' '!$C$624"},"[$$-240A] #,##0"]
["Renta Honorarios y Servicios",{"$f":"' '!$C$625","v":{"v":0,"d":"$ 0"}},{"$f":"IFERROR(FORMULATEXTO_Act(Campos_Ingreso_Datos[[#This Row],[Vinculo]]),\"\")","v":"=' '!$C$625"},"[$$-240A] #,##0"]
["Renta Honorarios y Servicios",{"$f":"' '!$C$626","v":{"v":0,"d":"$ 0"}},{"$f":"IFERROR(FORMULATEXTO_Act(Campos_Ingreso_Datos[[#This Row],[Vinculo]]),\"\")","v":"=' '!$C$626"},"[$$-240A] #,##0"]
["Renta Honorarios y Servicios",{"$f":"' '!$C$627","v":{"v":0,"d":"$ 0"}},{"$f":"IFERROR(FORMULATEXTO_Act(Campos_Ingreso_Datos[[#This Row],[Vinculo]]),\"\")","v":"=' '!$C$627"},"[$$-240A] #,##0"]
["Renta Honorarios y Servicios",{"$f":"' '!$C$632","v":{"v":0,"d":"$ 0"}},{"$f":"IFERROR(FORMULATEXTO_Act(Campos_Ingreso_Datos[[#This Row],[Vinculo]]),\"\")","v":"=' '!$C$632"},"[$$-240A] #,##0"]
["Renta Honorarios y Servicios",{"$f":"' '!$C$633","v":{"v":0,"d":"$ 0"}},{"$f":"IFERROR(FORMULATEXTO_Act(Campos_Ingreso_Datos[[#This Row],[Vinculo]]),\"\")","v":"=' '!$C$633"},"[$$-240A] #,##0"]
["Renta Honorarios y Servicios",{"$f":"' '!$C$634","v":{"v":0,"d":"$ 0"}},{"$f":"IFERROR(FORMULATEXTO_Act(Campos_Ingreso_Datos[[#This Row],[Vinculo]]),\"\")","v":"=' '!$C$634"},"[$$-240A] #,##0"]
["Renta Honorarios y Servicios",{"$f":"' '!$C$635","v":{"v":0,"d":"$ 0"}},{"$f":"IFERROR(FORMULATEXTO_Act(Campos_Ingreso_Datos[[#This Row],[Vinculo]]),\"\")","v":"=' '!$C$635"},"[$$-240A] #,##0"]
["Renta Honorarios y Servicios",{"$f":"' '!$C$636","v":{"v":0,"d":"$ 0"}},{"$f":"IFERROR(FORMULATEXTO_Act(Campos_Ingreso_Datos[[#This Row],[Vinculo]]),\"\")","v":"=' '!$C$636"},"[$$-240A] #,##0"]
["Renta Honorarios y Servicios",{"$f":"' '!$C$637","v":{"v":0,"d":"$ 0"}},{"$f":"IFERROR(FORMULATEXTO_Act(Campos_Ingreso_Datos[[#This Row],[Vinculo]]),\"\")","v":"=' '!$C$637"},"[$$-240A] #,##0"]
["Renta Honorarios y Servicios",{"$f":"' '!$C$638","v":{"v":0,"d":"$ 0"}},{"$f":"IFERROR(FORMULATEXTO_Act(Campos_Ingreso_Datos[[#This Row],[Vinculo]]),\"\")","v":"=' '!$C$638"},"[$$-240A] #,##0"]
["Renta Honorarios y Servicios",{"$f":"' '!$C$639","v":{"v":0,"d":"$ 0"}},{"$f":"IFERROR(FORMULATEXTO_Act(Campos_Ingreso_Datos[[#This Row],[Vinculo]]),\"\")","v":"=' '!$C$639"},"[$$-240A] #,##0"]
["Renta Honorarios y Servicios",{"$f":"' '!$C$640","v":{"v":0,"d":"$ 0"}},{"$f":"IFERROR(FORMULATEXTO_Act(Campos_Ingreso_Datos[[#This Row],[Vinculo]]),\"\")","v":"=' '!$C$640"},"[$$-240A] #,##0"]
["Renta Honorarios y Servicios",{"$f":"' '!$C$641","v":{"v":0,"d":"$ 0"}},{"$f":"IFERROR(FORMULATEXTO_Act(Campos_Ingreso_Datos[[#This Row],[Vinculo]]),\"\")","v":"=' '!$C$641"},"[$$-240A] #,##0"]
["Renta Honorarios y Servicios",{"$f":"' '!$C$642","v":{"v":0,"d":"$ 0"}},{"$f":"IFERROR(FORMULATEXTO_Act(Campos_Ingreso_Datos[[#This Row],[Vinculo]]),\"\")","v":"=' '!$C$642"},"[$$-240A] #,##0"]
["Renta Honorarios y Servicios",{"$f":"' '!$C$643","v":{"v":0,"d":"$ 0"}},{"$f":"IFERROR(FORMULATEXTO_Act(Campos_Ingreso_Datos[[#This Row],[Vinculo]]),\"\")","v":"=' '!$C$643"},"[$$-240A] #,##0"]
["Renta Honorarios y Servicios",{"$f":"' '!$C$644","v":{"v":0,"d":"$ 0"}},{"$f":"IFERROR(FORMULATEXTO_Act(Campos_Ingreso_Datos[[#This Row],[Vinculo]]),\"\")","v":"=' '!$C$644"},"[$$-240A] #,##0"]
["Renta Honorarios y Servicios",{"$f":"' '!$C$645","v":{"v":0,"d":"$ 0"}},{"$f":"IFERROR(FORMULATEXTO_Act(Campos_Ingreso_Datos[[#This Row],[Vinculo]]),\"\")","v":"=' '!$C$645"},"[$$-240A] #,##0"]
["Renta Honorarios y Servicios",{"$f":"' '!$C$646","v":{"v":0,"d":"$ 0"}},{"$f":"IFERROR(FORMULATEXTO_Act(Campos_Ingreso_Datos[[#This Row],[Vinculo]]),\"\")","v":"=' '!$C$646"},"[$$-240A] #,##0"]
["Renta Honorarios y Servicios",{"$f":"' '!$C$648","v":{"v":0,"d":"$ 0"}},{"$f":"IFERROR(FORMULATEXTO_Act(Campos_Ingreso_Datos[[#This Row],[Vinculo]]),\"\")","v":"=' '!$C$648"},"[$$-240A] #,##0"]
["Renta Honorarios y Servicios",{"$f":"' '!$C$653","v":{"v":0,"d":"$ 0"}},{"$f":"IFERROR(FORMULATEXTO_Act(Campos_Ingreso_Datos[[#This Row],[Vinculo]]),\"\")","v":"=' '!$C$653"},"[$$-240A] #,##0"]
["Renta Honorarios y Servicios",{"$f":"' '!$C$654","v":{"v":0,"d":"$ 0"}},{"$f":"IFERROR(FORMULATEXTO_Act(Campos_Ingreso_Datos[[#This Row],[Vinculo]]),\"\")","v":"=' '!$C$654"},"[$$-240A] #,##0"]
["Renta Honorarios y Servicios",{"$f":"' '!$C$655","v":{"v":0,"d":"$ 0"}},{"$f":"IFERROR(FORMULATEXTO_Act(Campos_Ingreso_Datos[[#This Row],[Vinculo]]),\"\")","v":"=' '!$C$655"},"[$$-240A] #,##0"]
["Renta Honorarios y Servicios",{"$f":"' '!$C$656","v":{"v":0,"d":"$ 0"}},{"$f":"IFERROR(FORMULATEXTO_Act(Campos_Ingreso_Datos[[#This Row],[Vinculo]]),\"\")","v":"=' '!$C$656"},"[$$-240A] #,##0"]
["Renta Honorarios y Servicios",{"$f":"' '!$C$658","v":{"v":0,"d":"$ 0"}},{"$f":"IFERROR(FORMULATEXTO_Act(Campos_Ingreso_Datos[[#This Row],[Vinculo]]),\"\")","v":"=' '!$C$658"},"[$$-240A] #,##0"]
["Renta Honorarios y Servicios",{"$f":"' '!$C$663","v":{"v":0,"d":"$ 0"}},{"$f":"IFERROR(FORMULATEXTO_Act(Campos_Ingreso_Datos[[#This Row],[Vinculo]]),\"\")","v":"=' '!$C$663"},"[$$-240A] #,##0"]
["Renta Honorarios y Servicios",{"$f":"' '!$C$669","v":{"v":0,"d":"$ 0"}},{"$f":"IFERROR(FORMULATEXTO_Act(Campos_Ingreso_Datos[[#This Row],[Vinculo]]),\"\")","v":"=' '!$C$669"},"[$$-240A] #,##0"]
["Renta Honorarios y Servicios",{"$f":"' '!$C$670","v":{"v":0,"d":"$ 0"}},{"$f":"IFERROR(FORMULATEXTO_Act(Campos_Ingreso_Datos[[#This Row],[Vinculo]]),\"\")","v":"=' '!$C$670"},"[$$-240A] #,##0"]
["Rentas de Capital",{"$f":"' '!$C$677","v":{"v":0,"d":"$ 0"}},{"$f":"IFERROR(FORMULATEXTO_Act(Campos_Ingreso_Datos[[#This Row],[Vinculo]]),\"\")","v":"=' '!$C$677"},"[$$-240A] #,##0"]
["Rentas de Capital",{"$f":"' '!$D$677","v":{"v":0,"d":"$ 0"}},{"$f":"IFERROR(FORMULATEXTO_Act(Campos_Ingreso_Datos[[#This Row],[Vinculo]]),\"\")","v":"=' '!$D$677"},"[$$-240A] #,##0"]
["Rentas de Capital",{"$f":"' '!$E$677","v":{"v":0,"d":"$ 0"}},{"$f":"IFERROR(FORMULATEXTO_Act(Campos_Ingreso_Datos[[#This Row],[Vinculo]]),\"\")","v":"=' '!$E$677"},"[$$-240A] #,##0"]
["Rentas de Capital",{"$f":"' '!$C$678","v":{"v":0,"d":"$ 0"}},{"$f":"IFERROR(FORMULATEXTO_Act(Campos_Ingreso_Datos[[#This Row],[Vinculo]]),\"\")","v":"=' '!$C$678"},"[$$-240A] #,##0"]
["Rentas de Capital",{"$f":"' '!$D$678","v":{"v":0,"d":"$ 0"}},{"$f":"IFERROR(FORMULATEXTO_Act(Campos_Ingreso_Datos[[#This Row],[Vinculo]]),\"\")","v":"=' '!$D$678"},"[$$-240A] #,##0"]
["Rentas de Capital",{"$f":"' '!$E$678","v":{"v":0,"d":"$ 0"}},{"$f":"IFERROR(FORMULATEXTO_Act(Campos_Ingreso_Datos[[#This Row],[Vinculo]]),\"\")","v":"=' '!$E$678"},"[$$-240A] #,##0"]
["Rentas de Capital",{"$f":"' '!$C$682","v":{"v":0,"d":"$ 0"}},{"$f":"IFERROR(FORMULATEXTO_Act(Campos_Ingreso_Datos[[#This Row],[Vinculo]]),\"\")","v":"=' '!$C$682"},"[$$-240A] #,##0"]
["Rentas de Capital",{"$f":"' '!$D$682","v":{"v":0,"d":"$ 0"}},{"$f":"IFERROR(FORMULATEXTO_Act(Campos_Ingreso_Datos[[#This Row],[Vinculo]]),\"\")","v":"=' '!$D$682"},"[$$-240A] #,##0"]
["Rentas de Capital",{"$f":"' '!$E$682","v":{"v":0,"d":"$ 0"}},{"$f":"IFERROR(FORMULATEXTO_Act(Campos_Ingreso_Datos[[#This Row],[Vinculo]]),\"\")","v":"=' '!$E$682"},"[$$-240A] #,##0"]
["Rentas de Capital",{"$f":"' '!$C$683","v":{"v":0,"d":"$ 0"}},{"$f":"IFERROR(FORMULATEXTO_Act(Campos_Ingreso_Datos[[#This Row],[Vinculo]]),\"\")","v":"=' '!$C$683"},"[$$-240A] #,##0"]
["Rentas de Capital",{"$f":"' '!$D$683","v":{"v":0,"d":"$ 0"}},{"$f":"IFERROR(FORMULATEXTO_Act(Campos_Ingreso_Datos[[#This Row],[Vinculo]]),\"\")","v":"=' '!$D$683"},"[$$-240A] #,##0"]
["Rentas de Capital",{"$f":"' '!$E$683","v":{"v":0,"d":"$ 0"}},{"$f":"IFERROR(FORMULATEXTO_Act(Campos_Ingreso_Datos[[#This Row],[Vinculo]]),\"\")","v":"=' '!$E$683"},"[$$-240A] #,##0"]
["Rentas de Capital",{"$f":"' '!$C$684","v":{"v":0,"d":"$ 0"}},{"$f":"IFERROR(FORMULATEXTO_Act(Campos_Ingreso_Datos[[#This Row],[Vinculo]]),\"\")","v":"=' '!$C$684"},"[$$-240A] #,##0"]
["Rentas de Capital",{"$f":"' '!$D$684","v":{"v":0,"d":"$ 0"}},{"$f":"IFERROR(FORMULATEXTO_Act(Campos_Ingreso_Datos[[#This Row],[Vinculo]]),\"\")","v":"=' '!$D$684"},"[$$-240A] #,##0"]
["Rentas de Capital",{"$f":"' '!$E$684","v":{"v":0,"d":"$ 0"}},{"$f":"IFERROR(FORMULATEXTO_Act(Campos_Ingreso_Datos[[#This Row],[Vinculo]]),\"\")","v":"=' '!$E$684"},"[$$-240A] #,##0"]
["Rentas de Capital",{"$f":"' '!$C$685","v":{"v":0,"d":"$ 0"}},{"$f":"IFERROR(FORMULATEXTO_Act(Campos_Ingreso_Datos[[#This Row],[Vinculo]]),\"\")","v":"=' '!$C$685"},"[$$-240A] #,##0"]
["Rentas de Capital",{"$f":"' '!$D$685","v":{"v":0,"d":"$ 0"}},{"$f":"IFERROR(FORMULATEXTO_Act(Campos_Ingreso_Datos[[#This Row],[Vinculo]]),\"\")","v":"=' '!$D$685"},"[$$-240A] #,##0"]
["Rentas de Capital",{"$f":"' '!$E$685","v":{"v":0,"d":"$ 0"}},{"$f":"IFERROR(FORMULATEXTO_Act(Campos_Ingreso_Datos[[#This Row],[Vinculo]]),\"\")","v":"=' '!$E$685"},"[$$-240A] #,##0"]
["Rentas de Capital",{"$f":"' '!$C$686","v":{"v":0,"d":"$ 0"}},{"$f":"IFERROR(FORMULATEXTO_Act(Campos_Ingreso_Datos[[#This Row],[Vinculo]]),\"\")","v":"=' '!$C$686"},"[$$-240A] #,##0"]
["Rentas de Capital",{"$f":"' '!$D$686","v":{"v":0,"d":"$ 0"}},{"$f":"IFERROR(FORMULATEXTO_Act(Campos_Ingreso_Datos[[#This Row],[Vinculo]]),\"\")","v":"=' '!$D$686"},"[$$-240A] #,##0"]
["Rentas de Capital",{"$f":"' '!$E$686","v":{"v":0,"d":"$ 0"}},{"$f":"IFERROR(FORMULATEXTO_Act(Campos_Ingreso_Datos[[#This Row],[Vinculo]]),\"\")","v":"=' '!$E$686"},"[$$-240A] #,##0"]
["Rentas de Capital",{"$f":"' '!$C$687","v":{"v":0,"d":"$ 0"}},{"$f":"IFERROR(FORMULATEXTO_Act(Campos_Ingreso_Datos[[#This Row],[Vinculo]]),\"\")","v":"=' '!$C$687"},"[$$-240A] #,##0"]
["Rentas de Capital",{"$f":"' '!$D$687","v":{"v":0,"d":"$ 0"}},{"$f":"IFERROR(FORMULATEXTO_Act(Campos_Ingreso_Datos[[#This Row],[Vinculo]]),\"\")","v":"=' '!$D$687"},"[$$-240A] #,##0"]
["Rentas de Capital",{"$f":"' '!$E$687","v":{"v":0,"d":"$ 0"}},{"$f":"IFERROR(FORMULATEXTO_Act(Campos_Ingreso_Datos[[#This Row],[Vinculo]]),\"\")","v":"=' '!$E$687"},"[$$-240A] #,##0"]
["Rentas de Capital",{"$f":"' '!$C$691","v":{"v":234699,"d":"$ 234,699"}},{"$f":"IFERROR(FORMULATEXTO_Act(Campos_Ingreso_Datos[[#This Row],[Vinculo]]),\"\")","v":"=' '!$C$691"},"[$$-240A] #,##0"]
["Rentas de Capital",{"$f":"' '!$D$691","v":{"v":0,"d":"$ 0"}},{"$f":"IFERROR(FORMULATEXTO_Act(Campos_Ingreso_Datos[[#This Row],[Vinculo]]),\"\")","v":"=' '!$D$691"},"[$$-240A] #,##0"]
["Rentas de Capital",{"$f":"' '!$E$691","v":{"v":0,"d":"$ 0"}},{"$f":"IFERROR(FORMULATEXTO_Act(Campos_Ingreso_Datos[[#This Row],[Vinculo]]),\"\")","v":"=' '!$E$691"},"[$$-240A] #,##0"]
["Rentas de Capital",{"$f":"' '!$C$692","v":{"v":0,"d":"$ 0"}},{"$f":"IFERROR(FORMULATEXTO_Act(Campos_Ingreso_Datos[[#This Row],[Vinculo]]),\"\")","v":"=' '!$C$692"},"[$$-240A] #,##0"]
["Rentas de Capital",{"$f":"' '!$D$692","v":{"v":0,"d":"$ 0"}},{"$f":"IFERROR(FORMULATEXTO_Act(Campos_Ingreso_Datos[[#This Row],[Vinculo]]),\"\")","v":"=' '!$D$692"},"[$$-240A] #,##0"]
["Rentas de Capital",{"$f":"' '!$E$692","v":{"v":0,"d":"$ 0"}},{"$f":"IFERROR(FORMULATEXTO_Act(Campos_Ingreso_Datos[[#This Row],[Vinculo]]),\"\")","v":"=' '!$E$692"},"[$$-240A] #,##0"]
["Rentas de Capital",{"$f":"' '!$C$693","v":{"v":0,"d":"$ 0"}},{"$f":"IFERROR(FORMULATEXTO_Act(Campos_Ingreso_Datos[[#This Row],[Vinculo]]),\"\")","v":"=' '!$C$693"},"[$$-240A] #,##0"]
["Rentas de Capital",{"$f":"' '!$D$693","v":{"v":0,"d":"$ 0"}},{"$f":"IFERROR(FORMULATEXTO_Act(Campos_Ingreso_Datos[[#This Row],[Vinculo]]),\"\")","v":"=' '!$D$693"},"[$$-240A] #,##0"]
["Rentas de Capital",{"$f":"' '!$E$693","v":{"v":0,"d":"$ 0"}},{"$f":"IFERROR(FORMULATEXTO_Act(Campos_Ingreso_Datos[[#This Row],[Vinculo]]),\"\")","v":"=' '!$E$693"},"[$$-240A] #,##0"]
["Rentas de Capital",{"$f":"' '!$C$694","v":{"v":0,"d":"$ 0"}},{"$f":"IFERROR(FORMULATEXTO_Act(Campos_Ingreso_Datos[[#This Row],[Vinculo]]),\"\")","v":"=' '!$C$694"},"[$$-240A] #,##0"]
["Rentas de Capital",{"$f":"' '!$D$694","v":{"v":0,"d":"$ 0"}},{"$f":"IFERROR(FORMULATEXTO_Act(Campos_Ingreso_Datos[[#This Row],[Vinculo]]),\"\")","v":"=' '!$D$694"},"[$$-240A] #,##0"]
["Rentas de Capital",{"$f":"' '!$E$694","v":{"v":0,"d":"$ 0"}},{"$f":"IFERROR(FORMULATEXTO_Act(Campos_Ingreso_Datos[[#This Row],[Vinculo]]),\"\")","v":"=' '!$E$694"},"[$$-240A] #,##0"]
["Rentas de Capital",{"$f":"' '!$C$695","v":{"v":0,"d":"$ 0"}},{"$f":"IFERROR(FORMULATEXTO_Act(Campos_Ingreso_Datos[[#This Row],[Vinculo]]),\"\")","v":"=' '!$C$695"},"[$$-240A] #,##0"]
["Rentas de Capital",{"$f":"' '!$D$695","v":{"v":0,"d":"$ 0"}},{"$f":"IFERROR(FORMULATEXTO_Act(Campos_Ingreso_Datos[[#This Row],[Vinculo]]),\"\")","v":"=' '!$D$695"},"[$$-240A] #,##0"]
["Rentas de Capital",{"$f":"' '!$E$695","v":{"v":0,"d":"$ 0"}},{"$f":"IFERROR(FORMULATEXTO_Act(Campos_Ingreso_Datos[[#This Row],[Vinculo]]),\"\")","v":"=' '!$E$695"},"[$$-240A] #,##0"]
["Rentas de Capital",{"$f":"' '!$C$696","v":{"v":0,"d":"$ 0"}},{"$f":"IFERROR(FORMULATEXTO_Act(Campos_Ingreso_Datos[[#This Row],[Vinculo]]),\"\")","v":"=' '!$C$696"},"[$$-240A] #,##0"]
["Rentas de Capital",{"$f":"' '!$D$696","v":{"v":0,"d":"$ 0"}},{"$f":"IFERROR(FORMULATEXTO_Act(Campos_Ingreso_Datos[[#This Row],[Vinculo]]),\"\")","v":"=' '!$D$696"},"[$$-240A] #,##0"]
["Rentas de Capital",{"$f":"' '!$E$696","v":{"v":0,"d":"$ 0"}},{"$f":"IFERROR(FORMULATEXTO_Act(Campos_Ingreso_Datos[[#This Row],[Vinculo]]),\"\")","v":"=' '!$E$696"},"[$$-240A] #,##0"]
["Rentas de Capital",{"$f":"' '!$C$698","v":{"v":0,"d":"$ 0"}},{"$f":"IFERROR(FORMULATEXTO_Act(Campos_Ingreso_Datos[[#This Row],[Vinculo]]),\"\")","v":"=' '!$C$698"},"[$$-240A] #,##0"]
["Rentas de Capital",{"$f":"' '!$D$698","v":{"v":0,"d":"$ 0"}},{"$f":"IFERROR(FORMULATEXTO_Act(Campos_Ingreso_Datos[[#This Row],[Vinculo]]),\"\")","v":"=' '!$D$698"},"[$$-240A] #,##0"]
["Rentas de Capital",{"$f":"' '!$E$698","v":{"v":0,"d":"$ 0"}},{"$f":"IFERROR(FORMULATEXTO_Act(Campos_Ingreso_Datos[[#This Row],[Vinculo]]),\"\")","v":"=' '!$E$698"},"[$$-240A] #,##0"]
["Rentas de Capital",{"$f":"' '!$C$699","v":{"v":0,"d":"$ 0"}},{"$f":"IFERROR(FORMULATEXTO_Act(Campos_Ingreso_Datos[[#This Row],[Vinculo]]),\"\")","v":"=' '!$C$699"},"[$$-240A] #,##0"]
["Rentas de Capital",{"$f":"' '!$D$699","v":{"v":0,"d":"$ 0"}},{"$f":"IFERROR(FORMULATEXTO_Act(Campos_Ingreso_Datos[[#This Row],[Vinculo]]),\"\")","v":"=' '!$D$699"},"[$$-240A] #,##0"]
["Rentas de Capital",{"$f":"' '!$E$699","v":{"v":0,"d":"$ 0"}},{"$f":"IFERROR(FORMULATEXTO_Act(Campos_Ingreso_Datos[[#This Row],[Vinculo]]),\"\")","v":"=' '!$E$699"},"[$$-240A] #,##0"]
["Rentas de Capital",{"$f":"' '!$C$700","v":{"v":0,"d":"$ 0"}},{"$f":"IFERROR(FORMULATEXTO_Act(Campos_Ingreso_Datos[[#This Row],[Vinculo]]),\"\")","v":"=' '!$C$700"},"[$$-240A] #,##0"]
["Rentas de Capital",{"$f":"' '!$D$700","v":{"v":0,"d":"$ 0"}},{"$f":"IFERROR(FORMULATEXTO_Act(Campos_Ingreso_Datos[[#This Row],[Vinculo]]),\"\")","v":"=' '!$D$700"},"[$$-240A] #,##0"]
["Rentas de Capital",{"$f":"' '!$E$700","v":{"v":0,"d":"$ 0"}},{"$f":"IFERROR(FORMULATEXTO_Act(Campos_Ingreso_Datos[[#This Row],[Vinculo]]),\"\")","v":"=' '!$E$700"},"[$$-240A] #,##0"]
["Rentas de Capital",{"$f":"' '!$C$701","v":{"v":0,"d":"$ 0"}},{"$f":"IFERROR(FORMULATEXTO_Act(Campos_Ingreso_Datos[[#This Row],[Vinculo]]),\"\")","v":"=' '!$C$701"},"[$$-240A] #,##0"]
["Rentas de Capital",{"$f":"' '!$C$702","v":{"v":0,"d":"$ 0"}},{"$f":"IFERROR(FORMULATEXTO_Act(Campos_Ingreso_Datos[[#This Row],[Vinculo]]),\"\")","v":"=' '!$C$702"},"[$$-240A] #,##0"]
["Rentas de Capital",{"$f":"' '!$D$702","v":{"v":0,"d":"$ 0"}},{"$f":"IFERROR(FORMULATEXTO_Act(Campos_Ingreso_Datos[[#This Row],[Vinculo]]),\"\")","v":"=' '!$D$702"},"[$$-240A] #,##0"]
["Rentas de Capital",{"$f":"' '!$E$702","v":{"v":0,"d":"$ 0"}},{"$f":"IFERROR(FORMULATEXTO_Act(Campos_Ingreso_Datos[[#This Row],[Vinculo]]),\"\")","v":"=' '!$E$702"},"[$$-240A] #,##0"]
["Rentas de Capital",{"$f":"' '!$D$708","v":{"v":0,"d":"$ 0"}},{"$f":"IFERROR(FORMULATEXTO_Act(Campos_Ingreso_Datos[[#This Row],[Vinculo]]),\"\")","v":"=' '!$D$708"},"[$$-240A] #,##0"]
["Rentas de Capital",{"$f":"' '!$E$708","v":{"v":0,"d":"$ 0"}},{"$f":"IFERROR(FORMULATEXTO_Act(Campos_Ingreso_Datos[[#This Row],[Vinculo]]),\"\")","v":"=' '!$E$708"},"[$$-240A] #,##0"]
["Rentas de Capital",{"$f":"' '!$C$713","v":{"v":0,"d":"$ 0"}},{"$f":"IFERROR(FORMULATEXTO_Act(Campos_Ingreso_Datos[[#This Row],[Vinculo]]),\"\")","v":"=' '!$C$713"},"[$$-240A] #,##0"]
["Rentas de Capital",{"$f":"' '!$C$714","v":{"v":0,"d":"$ 0"}},{"$f":"IFERROR(FORMULATEXTO_Act(Campos_Ingreso_Datos[[#This Row],[Vinculo]]),\"\")","v":"=' '!$C$714"},"[$$-240A] #,##0"]
["Rentas de Capital",{"$f":"' '!$C$715","v":{"v":0,"d":"$ 0"}},{"$f":"IFERROR(FORMULATEXTO_Act(Campos_Ingreso_Datos[[#This Row],[Vinculo]]),\"\")","v":"=' '!$C$715"},"[$$-240A] #,##0"]
["Rentas de Capital",{"$f":"' '!$C$716","v":{"v":0,"d":"$ 0"}},{"$f":"IFERROR(FORMULATEXTO_Act(Campos_Ingreso_Datos[[#This Row],[Vinculo]]),\"\")","v":"=' '!$C$716"},"[$$-240A] #,##0"]
["Rentas de Capital",{"$f":"' '!$C$717","v":{"v":0,"d":"$ 0"}},{"$f":"IFERROR(FORMULATEXTO_Act(Campos_Ingreso_Datos[[#This Row],[Vinculo]]),\"\")","v":"=' '!$C$717"},"[$$-240A] #,##0"]
["Rentas de Capital",{"$f":"' '!$C$724","v":{"v":0,"d":"$ 0"}},{"$f":"IFERROR(FORMULATEXTO_Act(Campos_Ingreso_Datos[[#This Row],[Vinculo]]),\"\")","v":"=' '!$C$724"},"[$$-240A] #,##0"]
["Rentas de Capital",{"$f":"' '!$C$725","v":{"v":0,"d":"$ 0"}},{"$f":"IFERROR(FORMULATEXTO_Act(Campos_Ingreso_Datos[[#This Row],[Vinculo]]),\"\")","v":"=' '!$C$725"},"[$$-240A] #,##0"]
["Rentas de Capital",{"$f":"' '!$C$726","v":{"v":0,"d":"$ 0"}},{"$f":"IFERROR(FORMULATEXTO_Act(Campos_Ingreso_Datos[[#This Row],[Vinculo]]),\"\")","v":"=' '!$C$726"},"[$$-240A] #,##0"]
["Rentas de Capital",{"$f":"' '!$C$727","v":{"v":0,"d":"$ 0"}},{"$f":"IFERROR(FORMULATEXTO_Act(Campos_Ingreso_Datos[[#This Row],[Vinculo]]),\"\")","v":"=' '!$C$727"},"[$$-240A] #,##0"]
["Rentas de Capital",{"$f":"' '!$C$728","v":{"v":0,"d":"$ 0"}},{"$f":"IFERROR(FORMULATEXTO_Act(Campos_Ingreso_Datos[[#This Row],[Vinculo]]),\"\")","v":"=' '!$C$728"},"[$$-240A] #,##0"]
["Rentas de Capital",{"$f":"' '!$C$729","v":{"v":0,"d":"$ 0"}},{"$f":"IFERROR(FORMULATEXTO_Act(Campos_Ingreso_Datos[[#This Row],[Vinculo]]),\"\")","v":"=' '!$C$729"},"[$$-240A] #,##0"]
["Rentas de Capital",{"$f":"' '!$C$730","v":{"v":0,"d":"$ 0"}},{"$f":"IFERROR(FORMULATEXTO_Act(Campos_Ingreso_Datos[[#This Row],[Vinculo]]),\"\")","v":"=' '!$C$730"},"[$$-240A] #,##0"]
["Rentas de Capital",{"$f":"' '!$C$731","v":{"v":0,"d":"$ 0"}},{"$f":"IFERROR(FORMULATEXTO_Act(Campos_Ingreso_Datos[[#This Row],[Vinculo]]),\"\")","v":"=' '!$C$731"},"[$$-240A] #,##0"]
["Rentas de Capital",{"$f":"' '!$C$732","v":{"v":0,"d":"$ 0"}},{"$f":"IFERROR(FORMULATEXTO_Act(Campos_Ingreso_Datos[[#This Row],[Vinculo]]),\"\")","v":"=' '!$C$732"},"[$$-240A] #,##0"]
["Rentas de Capital",{"$f":"' '!$C$733","v":{"v":0,"d":"$ 0"}},{"$f":"IFERROR(FORMULATEXTO_Act(Campos_Ingreso_Datos[[#This Row],[Vinculo]]),\"\")","v":"=' '!$C$733"},"[$$-240A] #,##0"]
["Rentas de Capital",{"$f":"' '!$C$734","v":{"v":0,"d":"$ 0"}},{"$f":"IFERROR(FORMULATEXTO_Act(Campos_Ingreso_Datos[[#This Row],[Vinculo]]),\"\")","v":"=' '!$C$734"},"[$$-240A] #,##0"]
["Rentas de Capital",{"$f":"' '!$C$735","v":{"v":0,"d":"$ 0"}},{"$f":"IFERROR(FORMULATEXTO_Act(Campos_Ingreso_Datos[[#This Row],[Vinculo]]),\"\")","v":"=' '!$C$735"},"[$$-240A] #,##0"]
["Rentas de Capital",{"$f":"' '!$C$736","v":{"v":0,"d":"$ 0"}},{"$f":"IFERROR(FORMULATEXTO_Act(Campos_Ingreso_Datos[[#This Row],[Vinculo]]),\"\")","v":"=' '!$C$736"},"[$$-240A] #,##0"]
["Rentas de Capital",{"$f":"' '!$C$737","v":{"v":0,"d":"$ 0"}},{"$f":"IFERROR(FORMULATEXTO_Act(Campos_Ingreso_Datos[[#This Row],[Vinculo]]),\"\")","v":"=' '!$C$737"},"[$$-240A] #,##0"]
["Rentas de Capital",{"$f":"' '!$C$738","v":{"v":0,"d":"$ 0"}},{"$f":"IFERROR(FORMULATEXTO_Act(Campos_Ingreso_Datos[[#This Row],[Vinculo]]),\"\")","v":"=' '!$C$738"},"[$$-240A] #,##0"]
["Rentas de Capital",{"$f":"' '!$C$740","v":{"v":0,"d":"$ 0"}},{"$f":"IFERROR(FORMULATEXTO_Act(Campos_Ingreso_Datos[[#This Row],[Vinculo]]),\"\")","v":"=' '!$C$740"},"[$$-240A] #,##0"]
["Rentas de Capital",{"$f":"' '!$C$745","v":{"v":0,"d":"$ 0"}},{"$f":"IFERROR(FORMULATEXTO_Act(Campos_Ingreso_Datos[[#This Row],[Vinculo]]),\"\")","v":"=' '!$C$745"},"[$$-240A] #,##0"]
["Rentas de Capital",{"$f":"' '!$C$746","v":{"v":0,"d":"$ 0"}},{"$f":"IFERROR(FORMULATEXTO_Act(Campos_Ingreso_Datos[[#This Row],[Vinculo]]),\"\")","v":"=' '!$C$746"},"[$$-240A] #,##0"]
["Rentas de Capital",{"$f":"' '!$C$747","v":{"v":0,"d":"$ 0"}},{"$f":"IFERROR(FORMULATEXTO_Act(Campos_Ingreso_Datos[[#This Row],[Vinculo]]),\"\")","v":"=' '!$C$747"},"[$$-240A] #,##0"]
["Rentas de Capital",{"$f":"' '!$C$748","v":{"v":0,"d":"$ 0"}},{"$f":"IFERROR(FORMULATEXTO_Act(Campos_Ingreso_Datos[[#This Row],[Vinculo]]),\"\")","v":"=' '!$C$748"},"[$$-240A] #,##0"]
["Rentas de Capital",{"$f":"' '!$C$758","v":{"v":0,"d":"$ 0"}},{"$f":"IFERROR(FORMULATEXTO_Act(Campos_Ingreso_Datos[[#This Row],[Vinculo]]),\"\")","v":"=' '!$C$758"},"[$$-240A] #,##0"]
["Rentas de Capital",{"$f":"' '!$C$759","v":{"v":0,"d":"$ 0"}},{"$f":"IFERROR(FORMULATEXTO_Act(Campos_Ingreso_Datos[[#This Row],[Vinculo]]),\"\")","v":"=' '!$C$759"},"[$$-240A] #,##0"]
["Rentas no laborales",{"$f":"' '!$C$769","v":{"v":0,"d":"$ 0"}},{"$f":"IFERROR(FORMULATEXTO_Act(Campos_Ingreso_Datos[[#This Row],[Vinculo]]),\"\")","v":"=' '!$C$769"},"[$$-240A] #,##0"]
["Rentas no laborales",{"$f":"' '!$D$769","v":{"v":0,"d":"$ 0"}},{"$f":"IFERROR(FORMULATEXTO_Act(Campos_Ingreso_Datos[[#This Row],[Vinculo]]),\"\")","v":"=' '!$D$769"},"[$$-240A] #,##0"]
["Rentas no laborales",{"$f":"' '!$E$769","v":{"v":0,"d":"$ 0"}},{"$f":"IFERROR(FORMULATEXTO_Act(Campos_Ingreso_Datos[[#This Row],[Vinculo]]),\"\")","v":"=' '!$E$769"},"[$$-240A] #,##0"]
["Rentas no laborales",{"$f":"' '!$C$770","v":{"v":0,"d":"$ 0"}},{"$f":"IFERROR(FORMULATEXTO_Act(Campos_Ingreso_Datos[[#This Row],[Vinculo]]),\"\")","v":"=' '!$C$770"},"[$$-240A] #,##0"]
["Rentas no laborales",{"$f":"' '!$D$770","v":{"v":0,"d":"$ 0"}},{"$f":"IFERROR(FORMULATEXTO_Act(Campos_Ingreso_Datos[[#This Row],[Vinculo]]),\"\")","v":"=' '!$D$770"},"[$$-240A] #,##0"]
["Rentas no laborales",{"$f":"' '!$E$770","v":{"v":0,"d":"$ 0"}},{"$f":"IFERROR(FORMULATEXTO_Act(Campos_Ingreso_Datos[[#This Row],[Vinculo]]),\"\")","v":"=' '!$E$770"},"[$$-240A] #,##0"]
["Rentas no laborales",{"$f":"' '!$C$771","v":{"v":0,"d":"$ 0"}},{"$f":"IFERROR(FORMULATEXTO_Act(Campos_Ingreso_Datos[[#This Row],[Vinculo]]),\"\")","v":"=' '!$C$771"},"[$$-240A] #,##0"]
["Rentas no laborales",{"$f":"' '!$D$771","v":{"v":0,"d":"$ 0"}},{"$f":"IFERROR(FORMULATEXTO_Act(Campos_Ingreso_Datos[[#This Row],[Vinculo]]),\"\")","v":"=' '!$D$771"},"[$$-240A] #,##0"]
["Rentas no laborales",{"$f":"' '!$E$771","v":{"v":0,"d":"$ 0"}},{"$f":"IFERROR(FORMULATEXTO_Act(Campos_Ingreso_Datos[[#This Row],[Vinculo]]),\"\")","v":"=' '!$E$771"},"[$$-240A] #,##0"]
["Rentas no laborales",{"$f":"' '!$C$772","v":{"v":0,"d":"$ 0"}},{"$f":"IFERROR(FORMULATEXTO_Act(Campos_Ingreso_Datos[[#This Row],[Vinculo]]),\"\")","v":"=' '!$C$772"},"[$$-240A] #,##0"]
["Rentas no laborales",{"$f":"' '!$D$772","v":{"v":0,"d":"$ 0"}},{"$f":"IFERROR(FORMULATEXTO_Act(Campos_Ingreso_Datos[[#This Row],[Vinculo]]),\"\")","v":"=' '!$D$772"},"[$$-240A] #,##0"]
["Rentas no laborales",{"$f":"' '!$E$772","v":{"v":0,"d":"$ 0"}},{"$f":"IFERROR(FORMULATEXTO_Act(Campos_Ingreso_Datos[[#This Row],[Vinculo]]),\"\")","v":"=' '!$E$772"},"[$$-240A] #,##0"]
["Rentas no laborales",{"$f":"' '!$C$773","v":{"v":0,"d":"$ 0"}},{"$f":"IFERROR(FORMULATEXTO_Act(Campos_Ingreso_Datos[[#This Row],[Vinculo]]),\"\")","v":"=' '!$C$773"},"[$$-240A] #,##0"]
["Rentas no laborales",{"$f":"' '!$D$773","v":{"v":0,"d":"$ 0"}},{"$f":"IFERROR(FORMULATEXTO_Act(Campos_Ingreso_Datos[[#This Row],[Vinculo]]),\"\")","v":"=' '!$D$773"},"[$$-240A] #,##0"]
["Rentas no laborales",{"$f":"' '!$E$773","v":{"v":0,"d":"$ 0"}},{"$f":"IFERROR(FORMULATEXTO_Act(Campos_Ingreso_Datos[[#This Row],[Vinculo]]),\"\")","v":"=' '!$E$773"},"[$$-240A] #,##0"]
["Rentas no laborales",{"$f":"' '!$C$774","v":{"v":0,"d":"$ 0"}},{"$f":"IFERROR(FORMULATEXTO_Act(Campos_Ingreso_Datos[[#This Row],[Vinculo]]),\"\")","v":"=' '!$C$774"},"[$$-240A] #,##0"]
["Rentas no laborales",{"$f":"' '!$D$774","v":{"v":0,"d":"$ 0"}},{"$f":"IFERROR(FORMULATEXTO_Act(Campos_Ingreso_Datos[[#This Row],[Vinculo]]),\"\")","v":"=' '!$D$774"},"[$$-240A] #,##0"]
["Rentas no laborales",{"$f":"' '!$E$774","v":{"v":0,"d":"$ 0"}},{"$f":"IFERROR(FORMULATEXTO_Act(Campos_Ingreso_Datos[[#This Row],[Vinculo]]),\"\")","v":"=' '!$E$774"},"[$$-240A] #,##0"]
["Rentas no laborales",{"$f":"' '!$C$775","v":{"v":0,"d":"$ 0"}},{"$f":"IFERROR(FORMULATEXTO_Act(Campos_Ingreso_Datos[[#This Row],[Vinculo]]),\"\")","v":"=' '!$C$775"},"[$$-240A] #,##0"]
["Rentas no laborales",{"$f":"' '!$D$775","v":{"v":0,"d":"$ 0"}},{"$f":"IFERROR(FORMULATEXTO_Act(Campos_Ingreso_Datos[[#This Row],[Vinculo]]),\"\")","v":"=' '!$D$775"},"[$$-240A] #,##0"]
["Rentas no laborales",{"$f":"' '!$E$775","v":{"v":0,"d":"$ 0"}},{"$f":"IFERROR(FORMULATEXTO_Act(Campos_Ingreso_Datos[[#This Row],[Vinculo]]),\"\")","v":"=' '!$E$775"},"[$$-240A] #,##0"]
["Rentas no laborales",{"$f":"' '!$C$776","v":{"v":0,"d":"$ 0"}},{"$f":"IFERROR(FORMULATEXTO_Act(Campos_Ingreso_Datos[[#This Row],[Vinculo]]),\"\")","v":"=' '!$C$776"},"[$$-240A] #,##0"]
["Rentas no laborales",{"$f":"' '!$D$776","v":{"v":0,"d":"$ 0"}},{"$f":"IFERROR(FORMULATEXTO_Act(Campos_Ingreso_Datos[[#This Row],[Vinculo]]),\"\")","v":"=' '!$D$776"},"[$$-240A] #,##0"]
["Rentas no laborales",{"$f":"' '!$E$776","v":{"v":0,"d":"$ 0"}},{"$f":"IFERROR(FORMULATEXTO_Act(Campos_Ingreso_Datos[[#This Row],[Vinculo]]),\"\")","v":"=' '!$E$776"},"[$$-240A] #,##0"]
["Rentas no laborales",{"$f":"' '!$C$777","v":{"v":0,"d":"$ 0"}},{"$f":"IFERROR(FORMULATEXTO_Act(Campos_Ingreso_Datos[[#This Row],[Vinculo]]),\"\")","v":"=' '!$C$777"},"[$$-240A] #,##0"]
["Rentas no laborales",{"$f":"' '!$D$777","v":{"v":0,"d":"$ 0"}},{"$f":"IFERROR(FORMULATEXTO_Act(Campos_Ingreso_Datos[[#This Row],[Vinculo]]),\"\")","v":"=' '!$D$777"},"[$$-240A] #,##0"]
["Rentas no laborales",{"$f":"' '!$E$777","v":{"v":0,"d":"$ 0"}},{"$f":"IFERROR(FORMULATEXTO_Act(Campos_Ingreso_Datos[[#This Row],[Vinculo]]),\"\")","v":"=' '!$E$777"},"[$$-240A] #,##0"]
["Rentas no laborales",{"$f":"' '!$C$778","v":{"v":0,"d":"$ 0"}},{"$f":"IFERROR(FORMULATEXTO_Act(Campos_Ingreso_Datos[[#This Row],[Vinculo]]),\"\")","v":"=' '!$C$778"},"[$$-240A] #,##0"]
["Rentas no laborales",{"$f":"' '!$D$778","v":{"v":0,"d":"$ 0"}},{"$f":"IFERROR(FORMULATEXTO_Act(Campos_Ingreso_Datos[[#This Row],[Vinculo]]),\"\")","v":"=' '!$D$778"},"[$$-240A] #,##0"]
["Rentas no laborales",{"$f":"' '!$E$778","v":{"v":0,"d":"$ 0"}},{"$f":"IFERROR(FORMULATEXTO_Act(Campos_Ingreso_Datos[[#This Row],[Vinculo]]),\"\")","v":"=' '!$E$778"},"[$$-240A] #,##0"]
["Rentas no laborales",{"$f":"' '!$C$779","v":{"v":0,"d":"$ 0"}},{"$f":"IFERROR(FORMULATEXTO_Act(Campos_Ingreso_Datos[[#This Row],[Vinculo]]),\"\")","v":"=' '!$C$779"},"[$$-240A] #,##0"]
["Rentas no laborales",{"$f":"' '!$D$779","v":{"v":0,"d":"$ 0"}},{"$f":"IFERROR(FORMULATEXTO_Act(Campos_Ingreso_Datos[[#This Row],[Vinculo]]),\"\")","v":"=' '!$D$779"},"[$$-240A] #,##0"]
["Rentas no laborales",{"$f":"' '!$E$779","v":{"v":0,"d":"$ 0"}},{"$f":"IFERROR(FORMULATEXTO_Act(Campos_Ingreso_Datos[[#This Row],[Vinculo]]),\"\")","v":"=' '!$E$779"},"[$$-240A] #,##0"]
["Rentas no laborales",{"$f":"' '!$C$780","v":{"v":0,"d":"$ 0"}},{"$f":"IFERROR(FORMULATEXTO_Act(Campos_Ingreso_Datos[[#This Row],[Vinculo]]),\"\")","v":"=' '!$C$780"},"[$$-240A] #,##0"]
["Rentas no laborales",{"$f":"' '!$D$780","v":{"v":0,"d":"$ 0"}},{"$f":"IFERROR(FORMULATEXTO_Act(Campos_Ingreso_Datos[[#This Row],[Vinculo]]),\"\")","v":"=' '!$D$780"},"[$$-240A] #,##0"]
["Rentas no laborales",{"$f":"' '!$E$780","v":{"v":0,"d":"$ 0"}},{"$f":"IFERROR(FORMULATEXTO_Act(Campos_Ingreso_Datos[[#This Row],[Vinculo]]),\"\")","v":"=' '!$E$780"},"[$$-240A] #,##0"]
["Rentas no laborales",{"$f":"' '!$C$781","v":{"v":0,"d":"$ 0"}},{"$f":"IFERROR(FORMULATEXTO_Act(Campos_Ingreso_Datos[[#This Row],[Vinculo]]),\"\")","v":"=' '!$C$781"},"[$$-240A] #,##0"]
["Rentas no laborales",{"$f":"' '!$D$781","v":{"v":0,"d":"$ 0"}},{"$f":"IFERROR(FORMULATEXTO_Act(Campos_Ingreso_Datos[[#This Row],[Vinculo]]),\"\")","v":"=' '!$D$781"},"[$$-240A] #,##0"]
["Rentas no laborales",{"$f":"' '!$E$781","v":{"v":0,"d":"$ 0"}},{"$f":"IFERROR(FORMULATEXTO_Act(Campos_Ingreso_Datos[[#This Row],[Vinculo]]),\"\")","v":"=' '!$E$781"},"[$$-240A] #,##0"]
["Rentas no laborales",{"$f":"' '!$C$782","v":{"v":0,"d":"$ 0"}},{"$f":"IFERROR(FORMULATEXTO_Act(Campos_Ingreso_Datos[[#This Row],[Vinculo]]),\"\")","v":"=' '!$C$782"},"[$$-240A] #,##0"]
["Rentas no laborales",{"$f":"' '!$D$782","v":{"v":0,"d":"$ 0"}},{"$f":"IFERROR(FORMULATEXTO_Act(Campos_Ingreso_Datos[[#This Row],[Vinculo]]),\"\")","v":"=' '!$D$782"},"[$$-240A] #,##0"]
["Rentas no laborales",{"$f":"' '!$E$782","v":{"v":0,"d":"$ 0"}},{"$f":"IFERROR(FORMULATEXTO_Act(Campos_Ingreso_Datos[[#This Row],[Vinculo]]),\"\")","v":"=' '!$E$782"},"[$$-240A] #,##0"]
["Rentas no laborales",{"$f":"' '!$C$783","v":{"v":0,"d":"$ 0"}},{"$f":"IFERROR(FORMULATEXTO_Act(Campos_Ingreso_Datos[[#This Row],[Vinculo]]),\"\")","v":"=' '!$C$783"},"[$$-240A] #,##0"]
["Rentas no laborales",{"$f":"' '!$D$783","v":{"v":0,"d":"$ 0"}},{"$f":"IFERROR(FORMULATEXTO_Act(Campos_Ingreso_Datos[[#This Row],[Vinculo]]),\"\")","v":"=' '!$D$783"},"[$$-240A] #,##0"]
["Rentas no laborales",{"$f":"' '!$E$783","v":{"v":0,"d":"$ 0"}},{"$f":"IFERROR(FORMULATEXTO_Act(Campos_Ingreso_Datos[[#This Row],[Vinculo]]),\"\")","v":"=' '!$E$783"},"[$$-240A] #,##0"]
["Rentas no laborales",{"$f":"' '!$C$784","v":{"v":0,"d":"$ 0"}},{"$f":"IFERROR(FORMULATEXTO_Act(Campos_Ingreso_Datos[[#This Row],[Vinculo]]),\"\")","v":"=' '!$C$784"},"[$$-240A] #,##0"]
["Rentas no laborales",{"$f":"' '!$C$785","v":{"v":0,"d":"$ 0"}},{"$f":"IFERROR(FORMULATEXTO_Act(Campos_Ingreso_Datos[[#This Row],[Vinculo]]),\"\")","v":"=' '!$C$785"},"[$$-240A] #,##0"]
["Rentas no laborales",{"$f":"' '!$C$786","v":{"v":0,"d":"$ 0"}},{"$f":"IFERROR(FORMULATEXTO_Act(Campos_Ingreso_Datos[[#This Row],[Vinculo]]),\"\")","v":"=' '!$C$786"},"[$$-240A] #,##0"]
["Rentas no laborales",{"$f":"' '!$C$787","v":{"v":0,"d":"$ 0"}},{"$f":"IFERROR(FORMULATEXTO_Act(Campos_Ingreso_Datos[[#This Row],[Vinculo]]),\"\")","v":"=' '!$C$787"},"[$$-240A] #,##0"]
["Rentas no laborales",{"$f":"' '!$D$787","v":{"v":0,"d":"$ 0"}},{"$f":"IFERROR(FORMULATEXTO_Act(Campos_Ingreso_Datos[[#This Row],[Vinculo]]),\"\")","v":"=' '!$D$787"},"[$$-240A] #,##0"]
["Rentas no laborales",{"$f":"' '!$E$787","v":{"v":0,"d":"$ 0"}},{"$f":"IFERROR(FORMULATEXTO_Act(Campos_Ingreso_Datos[[#This Row],[Vinculo]]),\"\")","v":"=' '!$E$787"},"[$$-240A] #,##0"]
["Rentas no laborales",{"$f":"' '!$D$792","v":{"v":0,"d":"$ 0"}},{"$f":"IFERROR(FORMULATEXTO_Act(Campos_Ingreso_Datos[[#This Row],[Vinculo]]),\"\")","v":"=' '!$D$792"},"[$$-240A] #,##0"]
["Rentas no laborales",{"$f":"' '!$E$792","v":{"v":0,"d":"$ 0"}},{"$f":"IFERROR(FORMULATEXTO_Act(Campos_Ingreso_Datos[[#This Row],[Vinculo]]),\"\")","v":"=' '!$E$792"},"[$$-240A] #,##0"]
["Rentas no laborales",{"$f":"' '!$C$797","v":{"v":0,"d":"$ 0"}},{"$f":"IFERROR(FORMULATEXTO_Act(Campos_Ingreso_Datos[[#This Row],[Vinculo]]),\"\")","v":"=' '!$C$797"},"[$$-240A] #,##0"]
["Rentas no laborales",{"$f":"' '!$C$798","v":{"v":0,"d":"$ 0"}},{"$f":"IFERROR(FORMULATEXTO_Act(Campos_Ingreso_Datos[[#This Row],[Vinculo]]),\"\")","v":"=' '!$C$798"},"[$$-240A] #,##0"]
["Rentas no laborales",{"$f":"' '!$C$799","v":{"v":0,"d":"$ 0"}},{"$f":"IFERROR(FORMULATEXTO_Act(Campos_Ingreso_Datos[[#This Row],[Vinculo]]),\"\")","v":"=' '!$C$799"},"[$$-240A] #,##0"]
["Rentas no laborales",{"$f":"' '!$C$804","v":{"v":0,"d":"$ 0"}},{"$f":"IFERROR(FORMULATEXTO_Act(Campos_Ingreso_Datos[[#This Row],[Vinculo]]),\"\")","v":"=' '!$C$804"},"[$$-240A] #,##0"]
["Rentas no laborales",{"$f":"' '!$C$805","v":{"v":0,"d":"$ 0"}},{"$f":"IFERROR(FORMULATEXTO_Act(Campos_Ingreso_Datos[[#This Row],[Vinculo]]),\"\")","v":"=' '!$C$805"},"[$$-240A] #,##0"]
["Rentas no laborales",{"$f":"' '!$C$806","v":{"v":0,"d":"$ 0"}},{"$f":"IFERROR(FORMULATEXTO_Act(Campos_Ingreso_Datos[[#This Row],[Vinculo]]),\"\")","v":"=' '!$C$806"},"[$$-240A] #,##0"]
["Rentas no laborales",{"$f":"' '!$C$807","v":{"v":0,"d":"$ 0"}},{"$f":"IFERROR(FORMULATEXTO_Act(Campos_Ingreso_Datos[[#This Row],[Vinculo]]),\"\")","v":"=' '!$C$807"},"[$$-240A] #,##0"]
["Rentas no laborales",{"$f":"' '!$C$808","v":{"v":0,"d":"$ 0"}},{"$f":"IFERROR(FORMULATEXTO_Act(Campos_Ingreso_Datos[[#This Row],[Vinculo]]),\"\")","v":"=' '!$C$808"},"[$$-240A] #,##0"]
["Rentas no laborales",{"$f":"' '!$C$809","v":{"v":0,"d":"$ 0"}},{"$f":"IFERROR(FORMULATEXTO_Act(Campos_Ingreso_Datos[[#This Row],[Vinculo]]),\"\")","v":"=' '!$C$809"},"[$$-240A] #,##0"]
["Rentas no laborales",{"$f":"' '!$C$810","v":{"v":0,"d":"$ 0"}},{"$f":"IFERROR(FORMULATEXTO_Act(Campos_Ingreso_Datos[[#This Row],[Vinculo]]),\"\")","v":"=' '!$C$810"},"[$$-240A] #,##0"]
["Rentas no laborales",{"$f":"' '!$C$811","v":{"v":0,"d":"$ 0"}},{"$f":"IFERROR(FORMULATEXTO_Act(Campos_Ingreso_Datos[[#This Row],[Vinculo]]),\"\")","v":"=' '!$C$811"},"[$$-240A] #,##0"]
["Rentas no laborales",{"$f":"' '!$C$812","v":{"v":0,"d":"$ 0"}},{"$f":"IFERROR(FORMULATEXTO_Act(Campos_Ingreso_Datos[[#This Row],[Vinculo]]),\"\")","v":"=' '!$C$812"},"[$$-240A] #,##0"]
["Rentas no laborales",{"$f":"' '!$C$813","v":{"v":0,"d":"$ 0"}},{"$f":"IFERROR(FORMULATEXTO_Act(Campos_Ingreso_Datos[[#This Row],[Vinculo]]),\"\")","v":"=' '!$C$813"},"[$$-240A] #,##0"]
["Rentas no laborales",{"$f":"' '!$C$814","v":{"v":0,"d":"$ 0"}},{"$f":"IFERROR(FORMULATEXTO_Act(Campos_Ingreso_Datos[[#This Row],[Vinculo]]),\"\")","v":"=' '!$C$814"},"[$$-240A] #,##0"]
["Rentas no laborales",{"$f":"' '!$C$815","v":{"v":0,"d":"$ 0"}},{"$f":"IFERROR(FORMULATEXTO_Act(Campos_Ingreso_Datos[[#This Row],[Vinculo]]),\"\")","v":"=' '!$C$815"},"[$$-240A] #,##0"]
["Rentas no laborales",{"$f":"' '!$C$820","v":{"v":0,"d":"$ 0"}},{"$f":"IFERROR(FORMULATEXTO_Act(Campos_Ingreso_Datos[[#This Row],[Vinculo]]),\"\")","v":"=' '!$C$820"},"[$$-240A] #,##0"]
["Rentas no laborales",{"$f":"' '!$C$821","v":{"v":0,"d":"$ 0"}},{"$f":"IFERROR(FORMULATEXTO_Act(Campos_Ingreso_Datos[[#This Row],[Vinculo]]),\"\")","v":"=' '!$C$821"},"[$$-240A] #,##0"]
["Rentas no laborales",{"$f":"' '!$C$822","v":{"v":0,"d":"$ 0"}},{"$f":"IFERROR(FORMULATEXTO_Act(Campos_Ingreso_Datos[[#This Row],[Vinculo]]),\"\")","v":"=' '!$C$822"},"[$$-240A] #,##0"]
["Rentas no laborales",{"$f":"' '!$C$823","v":{"v":0,"d":"$ 0"}},{"$f":"IFERROR(FORMULATEXTO_Act(Campos_Ingreso_Datos[[#This Row],[Vinculo]]),\"\")","v":"=' '!$C$823"},"[$$-240A] #,##0"]
["Rentas no laborales",{"$f":"' '!$C$824","v":{"v":0,"d":"$ 0"}},{"$f":"IFERROR(FORMULATEXTO_Act(Campos_Ingreso_Datos[[#This Row],[Vinculo]]),\"\")","v":"=' '!$C$824"},"[$$-240A] #,##0"]
["Rentas no laborales",{"$f":"' '!$C$825","v":{"v":0,"d":"$ 0"}},{"$f":"IFERROR(FORMULATEXTO_Act(Campos_Ingreso_Datos[[#This Row],[Vinculo]]),\"\")","v":"=' '!$C$825"},"[$$-240A] #,##0"]
["Rentas no laborales",{"$f":"' '!$C$826","v":{"v":0,"d":"$ 0"}},{"$f":"IFERROR(FORMULATEXTO_Act(Campos_Ingreso_Datos[[#This Row],[Vinculo]]),\"\")","v":"=' '!$C$826"},"[$$-240A] #,##0"]
["Rentas no laborales",{"$f":"' '!$C$827","v":{"v":0,"d":"$ 0"}},{"$f":"IFERROR(FORMULATEXTO_Act(Campos_Ingreso_Datos[[#This Row],[Vinculo]]),\"\")","v":"=' '!$C$827"},"[$$-240A] #,##0"]
["Rentas no laborales",{"$f":"' '!$C$828","v":{"v":0,"d":"$ 0"}},{"$f":"IFERROR(FORMULATEXTO_Act(Campos_Ingreso_Datos[[#This Row],[Vinculo]]),\"\")","v":"=' '!$C$828"},"[$$-240A] #,##0"]
["Rentas no laborales",{"$f":"' '!$C$829","v":{"v":0,"d":"$ 0"}},{"$f":"IFERROR(FORMULATEXTO_Act(Campos_Ingreso_Datos[[#This Row],[Vinculo]]),\"\")","v":"=' '!$C$829"},"[$$-240A] #,##0"]
["Rentas no laborales",{"$f":"' '!$C$830","v":{"v":0,"d":"$ 0"}},{"$f":"IFERROR(FORMULATEXTO_Act(Campos_Ingreso_Datos[[#This Row],[Vinculo]]),\"\")","v":"=' '!$C$830"},"[$$-240A] #,##0"]
["Rentas no laborales",{"$f":"' '!$C$831","v":{"v":0,"d":"$ 0"}},{"$f":"IFERROR(FORMULATEXTO_Act(Campos_Ingreso_Datos[[#This Row],[Vinculo]]),\"\")","v":"=' '!$C$831"},"[$$-240A] #,##0"]
["Rentas no laborales",{"$f":"' '!$C$832","v":{"v":0,"d":"$ 0"}},{"$f":"IFERROR(FORMULATEXTO_Act(Campos_Ingreso_Datos[[#This Row],[Vinculo]]),\"\")","v":"=' '!$C$832"},"[$$-240A] #,##0"]
["Rentas no laborales",{"$f":"' '!$C$833","v":{"v":0,"d":"$ 0"}},{"$f":"IFERROR(FORMULATEXTO_Act(Campos_Ingreso_Datos[[#This Row],[Vinculo]]),\"\")","v":"=' '!$C$833"},"[$$-240A] #,##0"]
["Rentas no laborales",{"$f":"' '!$C$834","v":{"v":0,"d":"$ 0"}},{"$f":"IFERROR(FORMULATEXTO_Act(Campos_Ingreso_Datos[[#This Row],[Vinculo]]),\"\")","v":"=' '!$C$834"},"[$$-240A] #,##0"]
["Rentas no laborales",{"$f":"' '!$C$836","v":{"v":0,"d":"$ 0"}},{"$f":"IFERROR(FORMULATEXTO_Act(Campos_Ingreso_Datos[[#This Row],[Vinculo]]),\"\")","v":"=' '!$C$836"},"[$$-240A] #,##0"]
["Rentas no laborales",{"$f":"' '!$C$837","v":{"v":0,"d":"$ 0"}},{"$f":"IFERROR(FORMULATEXTO_Act(Campos_Ingreso_Datos[[#This Row],[Vinculo]]),\"\")","v":"=' '!$C$837"},"[$$-240A] #,##0"]
["Rentas no laborales",{"$f":"' '!$C$838","v":{"v":0,"d":"$ 0"}},{"$f":"IFERROR(FORMULATEXTO_Act(Campos_Ingreso_Datos[[#This Row],[Vinculo]]),\"\")","v":"=' '!$C$838"},"[$$-240A] #,##0"]
["Rentas no laborales",{"$f":"' '!$C$839","v":{"v":0,"d":"$ 0"}},{"$f":"IFERROR(FORMULATEXTO_Act(Campos_Ingreso_Datos[[#This Row],[Vinculo]]),\"\")","v":"=' '!$C$839"},"[$$-240A] #,##0"]
["Rentas no laborales",{"$f":"' '!$C$840","v":{"v":0,"d":"$ 0"}},{"$f":"IFERROR(FORMULATEXTO_Act(Campos_Ingreso_Datos[[#This Row],[Vinculo]]),\"\")","v":"=' '!$C$840"},"[$$-240A] #,##0"]
["Rentas no laborales",{"$f":"' '!$C$845","v":{"v":0,"d":"$ 0"}},{"$f":"IFERROR(FORMULATEXTO_Act(Campos_Ingreso_Datos[[#This Row],[Vinculo]]),\"\")","v":"=' '!$C$845"},"[$$-240A] #,##0"]
["Rentas no laborales",{"$f":"' '!$C$846","v":{"v":0,"d":"$ 0"}},{"$f":"IFERROR(FORMULATEXTO_Act(Campos_Ingreso_Datos[[#This Row],[Vinculo]]),\"\")","v":"=' '!$C$846"},"[$$-240A] #,##0"]
["Rentas no laborales",{"$f":"' '!$C$847","v":{"v":0,"d":"$ 0"}},{"$f":"IFERROR(FORMULATEXTO_Act(Campos_Ingreso_Datos[[#This Row],[Vinculo]]),\"\")","v":"=' '!$C$847"},"[$$-240A] #,##0"]
["Rentas no laborales",{"$f":"' '!$C$848","v":{"v":0,"d":"$ 0"}},{"$f":"IFERROR(FORMULATEXTO_Act(Campos_Ingreso_Datos[[#This Row],[Vinculo]]),\"\")","v":"=' '!$C$848"},"[$$-240A] #,##0"]
["Rentas no laborales",{"$f":"' '!$C$853","v":{"v":0,"d":"$ 0"}},{"$f":"IFERROR(FORMULATEXTO_Act(Campos_Ingreso_Datos[[#This Row],[Vinculo]]),\"\")","v":"=' '!$C$853"},"[$$-240A] #,##0"]
["Rentas no laborales",{"$f":"' '!$C$854","v":{"v":0,"d":"$ 0"}},{"$f":"IFERROR(FORMULATEXTO_Act(Campos_Ingreso_Datos[[#This Row],[Vinculo]]),\"\")","v":"=' '!$C$854"},"[$$-240A] #,##0"]
["Rentas no laborales",{"$f":"' '!$C$860","v":{"v":0,"d":"$ 0"}},{"$f":"IFERROR(FORMULATEXTO_Act(Campos_Ingreso_Datos[[#This Row],[Vinculo]]),\"\")","v":"=' '!$C$860"},"[$$-240A] #,##0"]
["Rentas no laborales",{"$f":"' '!$C$861","v":{"v":0,"d":"$ 0"}},{"$f":"IFERROR(FORMULATEXTO_Act(Campos_Ingreso_Datos[[#This Row],[Vinculo]]),\"\")","v":"=' '!$C$861"},"[$$-240A] #,##0"]
["Rentas no laborales",{"$f":"' '!$C$862","v":{"v":0,"d":"$ 0"}},{"$f":"IFERROR(FORMULATEXTO_Act(Campos_Ingreso_Datos[[#This Row],[Vinculo]]),\"\")","v":"=' '!$C$862"},"[$$-240A] #,##0"]
["Cédula Pensiones",{"$f":"' '!$C$899","v":{"v":58500000,"d":"$ 58,500,000"}},{"$f":"IFERROR(FORMULATEXTO_Act(Campos_Ingreso_Datos[[#This Row],[Vinculo]]),\"\")","v":"=' '!$C$899"},"[$$-240A] #,##0"]
["Cédula Pensiones",{"$f":"' '!$D$899","v":{"v":0,"d":"$ 0"}},{"$f":"IFERROR(FORMULATEXTO_Act(Campos_Ingreso_Datos[[#This Row],[Vinculo]]),\"\")","v":"=' '!$D$899"},"[$$-240A] #,##0"]
["Cédula Pensiones",{"$f":"' '!$E$899","v":{"v":0,"d":"$ 0"}},{"$f":"IFERROR(FORMULATEXTO_Act(Campos_Ingreso_Datos[[#This Row],[Vinculo]]),\"\")","v":"=' '!$E$899"},"[$$-240A] #,##0"]
["Cédula Pensiones",{"$f":"' '!$C$900","v":{"v":0,"d":"$ 0"}},{"$f":"IFERROR(FORMULATEXTO_Act(Campos_Ingreso_Datos[[#This Row],[Vinculo]]),\"\")","v":"=' '!$C$900"},"[$$-240A] #,##0"]
["Cédula Pensiones",{"$f":"' '!$D$900","v":{"v":0,"d":"$ 0"}},{"$f":"IFERROR(FORMULATEXTO_Act(Campos_Ingreso_Datos[[#This Row],[Vinculo]]),\"\")","v":"=' '!$D$900"},"[$$-240A] #,##0"]
["Cédula Pensiones",{"$f":"' '!$E$900","v":{"v":0,"d":"$ 0"}},{"$f":"IFERROR(FORMULATEXTO_Act(Campos_Ingreso_Datos[[#This Row],[Vinculo]]),\"\")","v":"=' '!$E$900"},"[$$-240A] #,##0"]
["Cédula Pensiones",{"$f":"' '!$C$901","v":{"v":0,"d":"$ 0"}},{"$f":"IFERROR(FORMULATEXTO_Act(Campos_Ingreso_Datos[[#This Row],[Vinculo]]),\"\")","v":"=' '!$C$901"},"[$$-240A] #,##0"]
["Cédula Pensiones",{"$f":"' '!$D$901","v":{"v":0,"d":"$ 0"}},{"$f":"IFERROR(FORMULATEXTO_Act(Campos_Ingreso_Datos[[#This Row],[Vinculo]]),\"\")","v":"=' '!$D$901"},"[$$-240A] #,##0"]
["Cédula Pensiones",{"$f":"' '!$E$901","v":{"v":0,"d":"$ 0"}},{"$f":"IFERROR(FORMULATEXTO_Act(Campos_Ingreso_Datos[[#This Row],[Vinculo]]),\"\")","v":"=' '!$E$901"},"[$$-240A] #,##0"]
["Cédula Pensiones",{"$f":"' '!$C$902","v":{"v":0,"d":"$ 0"}},{"$f":"IFERROR(FORMULATEXTO_Act(Campos_Ingreso_Datos[[#This Row],[Vinculo]]),\"\")","v":"=' '!$C$902"},"[$$-240A] #,##0"]
["Cédula Pensiones",{"$f":"' '!$D$902","v":{"v":0,"d":"$ 0"}},{"$f":"IFERROR(FORMULATEXTO_Act(Campos_Ingreso_Datos[[#This Row],[Vinculo]]),\"\")","v":"=' '!$D$902"},"[$$-240A] #,##0"]
["Cédula Pensiones",{"$f":"' '!$E$902","v":{"v":0,"d":"$ 0"}},{"$f":"IFERROR(FORMULATEXTO_Act(Campos_Ingreso_Datos[[#This Row],[Vinculo]]),\"\")","v":"=' '!$E$902"},"[$$-240A] #,##0"]
["Cédula Pensiones",{"$f":"' '!$C$903","v":{"v":0,"d":"$ 0"}},{"$f":"IFERROR(FORMULATEXTO_Act(Campos_Ingreso_Datos[[#This Row],[Vinculo]]),\"\")","v":"=' '!$C$903"},"[$$-240A] #,##0"]
["Cédula Pensiones",{"$f":"' '!$D$903","v":{"v":0,"d":"$ 0"}},{"$f":"IFERROR(FORMULATEXTO_Act(Campos_Ingreso_Datos[[#This Row],[Vinculo]]),\"\")","v":"=' '!$D$903"},"[$$-240A] #,##0"]
["Cédula Pensiones",{"$f":"' '!$E$903","v":{"v":0,"d":"$ 0"}},{"$f":"IFERROR(FORMULATEXTO_Act(Campos_Ingreso_Datos[[#This Row],[Vinculo]]),\"\")","v":"=' '!$E$903"},"[$$-240A] #,##0"]
["Cédula Pensiones",{"$f":"' '!$C$904","v":{"v":0,"d":"$ 0"}},{"$f":"IFERROR(FORMULATEXTO_Act(Campos_Ingreso_Datos[[#This Row],[Vinculo]]),\"\")","v":"=' '!$C$904"},"[$$-240A] #,##0"]
["Cédula Pensiones",{"$f":"' '!$D$904","v":{"v":0,"d":"$ 0"}},{"$f":"IFERROR(FORMULATEXTO_Act(Campos_Ingreso_Datos[[#This Row],[Vinculo]]),\"\")","v":"=' '!$D$904"},"[$$-240A] #,##0"]
["Cédula Pensiones",{"$f":"' '!$E$904","v":{"v":0,"d":"$ 0"}},{"$f":"IFERROR(FORMULATEXTO_Act(Campos_Ingreso_Datos[[#This Row],[Vinculo]]),\"\")","v":"=' '!$E$904"},"[$$-240A] #,##0"]
["Cédula Pensiones",{"$f":"' '!$C$905","v":{"v":0,"d":"$ 0"}},{"$f":"IFERROR(FORMULATEXTO_Act(Campos_Ingreso_Datos[[#This Row],[Vinculo]]),\"\")","v":"=' '!$C$905"},"[$$-240A] #,##0"]
["Cédula Pensiones",{"$f":"' '!$D$905","v":{"v":0,"d":"$ 0"}},{"$f":"IFERROR(FORMULATEXTO_Act(Campos_Ingreso_Datos[[#This Row],[Vinculo]]),\"\")","v":"=' '!$D$905"},"[$$-240A] #,##0"]
["Cédula Pensiones",{"$f":"' '!$E$905","v":{"v":0,"d":"$ 0"}},{"$f":"IFERROR(FORMULATEXTO_Act(Campos_Ingreso_Datos[[#This Row],[Vinculo]]),\"\")","v":"=' '!$E$905"},"[$$-240A] #,##0"]
["Cédula Pensiones",{"$f":"' '!$C$910","v":{"v":2340000,"d":"$ 2,340,000"}},{"$f":"IFERROR(FORMULATEXTO_Act(Campos_Ingreso_Datos[[#This Row],[Vinculo]]),\"\")","v":"=' '!$C$910"},"[$$-240A] #,##0"]
["Cédula Pensiones",{"$f":"' '!$C$911","v":{"v":0,"d":"$ 0"}},{"$f":"IFERROR(FORMULATEXTO_Act(Campos_Ingreso_Datos[[#This Row],[Vinculo]]),\"\")","v":"=' '!$C$911"},"[$$-240A] #,##0"]
["Cédula Dividendos",{"$f":"' '!$C$924","v":{"v":0,"d":"$ 0"}},{"$f":"IFERROR(FORMULATEXTO_Act(Campos_Ingreso_Datos[[#This Row],[Vinculo]]),\"\")","v":"=' '!$C$924"},"[$$-240A] #,##0"]
["Cédula Dividendos",{"$f":"' '!$C$925","v":{"v":0,"d":"$ 0"}},{"$f":"IFERROR(FORMULATEXTO_Act(Campos_Ingreso_Datos[[#This Row],[Vinculo]]),\"\")","v":"=' '!$C$925"},"[$$-240A] #,##0"]
["Cédula Dividendos",{"$f":"' '!$C$926","v":{"v":0,"d":"$ 0"}},{"$f":"IFERROR(FORMULATEXTO_Act(Campos_Ingreso_Datos[[#This Row],[Vinculo]]),\"\")","v":"=' '!$C$926"},"[$$-240A] #,##0"]
["Cédula Dividendos",{"$f":"' '!$C$927","v":{"v":0,"d":"$ 0"}},{"$f":"IFERROR(FORMULATEXTO_Act(Campos_Ingreso_Datos[[#This Row],[Vinculo]]),\"\")","v":"=' '!$C$927"},"[$$-240A] #,##0"]
["Cédula Dividendos",{"$f":"' '!$C$939","v":{"v":0,"d":"$ 0"}},{"$f":"IFERROR(FORMULATEXTO_Act(Campos_Ingreso_Datos[[#This Row],[Vinculo]]),\"\")","v":"=' '!$C$939"},"[$$-240A] #,##0"]
["Cédula Dividendos",{"$f":"' '!$C$940","v":{"v":0,"d":"$ 0"}},{"$f":"IFERROR(FORMULATEXTO_Act(Campos_Ingreso_Datos[[#This Row],[Vinculo]]),\"\")","v":"=' '!$C$940"},"[$$-240A] #,##0"]
["Cédula Dividendos",{"$f":"' '!$C$945","v":{"v":0,"d":"$ 0"}},{"$f":"IFERROR(FORMULATEXTO_Act(Campos_Ingreso_Datos[[#This Row],[Vinculo]]),\"\")","v":"=' '!$C$945"},"[$$-240A] #,##0"]
["Cédula Dividendos",{"$f":"' '!$C$946","v":{"v":0,"d":"$ 0"}},{"$f":"IFERROR(FORMULATEXTO_Act(Campos_Ingreso_Datos[[#This Row],[Vinculo]]),\"\")","v":"=' '!$C$946"},"[$$-240A] #,##0"]
["Cédula Dividendos",{"$f":"' '!$C$947","v":{"v":0,"d":"$ 0"}},{"$f":"IFERROR(FORMULATEXTO_Act(Campos_Ingreso_Datos[[#This Row],[Vinculo]]),\"\")","v":"=' '!$C$947"},"[$$-240A] #,##0"]
["G. Ocasionales",{"$f":"' '!$C$959","v":{"v":0,"d":"$ 0"}},{"$f":"IFERROR(FORMULATEXTO_Act(Campos_Ingreso_Datos[[#This Row],[Vinculo]]),\"\")","v":"=' '!$C$959"},"[$$-240A] #,##0"]
["G. Ocasionales",{"$f":"' '!$C$960","v":{"v":0,"d":"$ 0"}},{"$f":"IFERROR(FORMULATEXTO_Act(Campos_Ingreso_Datos[[#This Row],[Vinculo]]),\"\")","v":"=' '!$C$960"},"[$$-240A] #,##0"]
["G. Ocasionales",{"$f":"' '!$C$961","v":{"v":0,"d":"$ 0"}},{"$f":"IFERROR(FORMULATEXTO_Act(Campos_Ingreso_Datos[[#This Row],[Vinculo]]),\"\")","v":"=' '!$C$961"},"[$$-240A] #,##0"]
["G. Ocasionales",{"$f":"' '!$C$965","v":{"v":0,"d":"$ 0"}},{"$f":"IFERROR(FORMULATEXTO_Act(Campos_Ingreso_Datos[[#This Row],[Vinculo]]),\"\")","v":"=' '!$C$965"},"[$$-240A] #,##0"]
["G. Ocasionales",{"$f":"' '!$C$966","v":{"v":0,"d":"$ 0"}},{"$f":"IFERROR(FORMULATEXTO_Act(Campos_Ingreso_Datos[[#This Row],[Vinculo]]),\"\")","v":"=' '!$C$966"},"[$$-240A] #,##0"]
["G. Ocasionales",{"$f":"' '!$C$967","v":{"v":0,"d":"$ 0"}},{"$f":"IFERROR(FORMULATEXTO_Act(Campos_Ingreso_Datos[[#This Row],[Vinculo]]),\"\")","v":"=' '!$C$967"},"[$$-240A] #,##0"]
["G. Ocasionales",{"$f":"' '!$C$973","v":{"v":0,"d":"$ 0"}},{"$f":"IFERROR(FORMULATEXTO_Act(Campos_Ingreso_Datos[[#This Row],[Vinculo]]),\"\")","v":"=' '!$C$973"},"[$$-240A] #,##0"]
["G. Ocasionales",{"$f":"' '!$C$974","v":{"v":0,"d":"$ 0"}},{"$f":"IFERROR(FORMULATEXTO_Act(Campos_Ingreso_Datos[[#This Row],[Vinculo]]),\"\")","v":"=' '!$C$974"},"[$$-240A] #,##0"]
["G. Ocasionales",{"$f":"' '!$C$975","v":{"v":0,"d":"$ 0"}},{"$f":"IFERROR(FORMULATEXTO_Act(Campos_Ingreso_Datos[[#This Row],[Vinculo]]),\"\")","v":"=' '!$C$975"},"[$$-240A] #,##0"]
["G. Ocasionales",{"$f":"' '!$C$976","v":{"v":0,"d":"$ 0"}},{"$f":"IFERROR(FORMULATEXTO_Act(Campos_Ingreso_Datos[[#This Row],[Vinculo]]),\"\")","v":"=' '!$C$976"},"[$$-240A] #,##0"]
["G. Ocasionales",{"$f":"' '!$C$977","v":{"v":0,"d":"$ 0"}},{"$f":"IFERROR(FORMULATEXTO_Act(Campos_Ingreso_Datos[[#This Row],[Vinculo]]),\"\")","v":"=' '!$C$977"},"[$$-240A] #,##0"]
["G. Ocasionales",{"$f":"' '!$C$978","v":{"v":0,"d":"$ 0"}},{"$f":"IFERROR(FORMULATEXTO_Act(Campos_Ingreso_Datos[[#This Row],[Vinculo]]),\"\")","v":"=' '!$C$978"},"[$$-240A] #,##0"]
["G. Ocasionales",{"$f":"' '!$C$979","v":{"v":0,"d":"$ 0"}},{"$f":"IFERROR(FORMULATEXTO_Act(Campos_Ingreso_Datos[[#This Row],[Vinculo]]),\"\")","v":"=' '!$C$979"},"[$$-240A] #,##0"]
["G. Ocasionales",{"$f":"' '!$C$980","v":{"v":0,"d":"$ 0"}},{"$f":"IFERROR(FORMULATEXTO_Act(Campos_Ingreso_Datos[[#This Row],[Vinculo]]),\"\")","v":"=' '!$C$980"},"[$$-240A] #,##0"]
["G. Ocasionales",{"$f":"' '!$C$985","v":{"v":0,"d":"$ 0"}},{"$f":"IFERROR(FORMULATEXTO_Act(Campos_Ingreso_Datos[[#This Row],[Vinculo]]),\"\")","v":"=' '!$C$985"},"[$$-240A] #,##0"]
["G. Ocasionales",{"$f":"' '!$C$986","v":{"v":0,"d":"$ 0"}},{"$f":"IFERROR(FORMULATEXTO_Act(Campos_Ingreso_Datos[[#This Row],[Vinculo]]),\"\")","v":"=' '!$C$986"},"[$$-240A] #,##0"]
["G. Ocasionales",{"$f":"' '!$C$987","v":{"v":0,"d":"$ 0"}},{"$f":"IFERROR(FORMULATEXTO_Act(Campos_Ingreso_Datos[[#This Row],[Vinculo]]),\"\")","v":"=' '!$C$987"},"[$$-240A] #,##0"]
["G. Ocasionales",{"$f":"' '!$C$988","v":{"v":0,"d":"$ 0"}},{"$f":"IFERROR(FORMULATEXTO_Act(Campos_Ingreso_Datos[[#This Row],[Vinculo]]),\"\")","v":"=' '!$C$988"},"[$$-240A] #,##0"]
["G. Ocasionales",{"$f":"' '!$C$993","v":{"v":0,"d":"$ 0"}},{"$f":"IFERROR(FORMULATEXTO_Act(Campos_Ingreso_Datos[[#This Row],[Vinculo]]),\"\")","v":"=' '!$C$993"},"[$$-240A] #,##0"]
["G. Ocasionales",{"$f":"' '!$C$994","v":{"v":0,"d":"$ 0"}},{"$f":"IFERROR(FORMULATEXTO_Act(Campos_Ingreso_Datos[[#This Row],[Vinculo]]),\"\")","v":"=' '!$C$994"},"[$$-240A] #,##0"]
["G. Ocasionales",{"$f":"' '!$C$995","v":{"v":0,"d":"$ 0"}},{"$f":"IFERROR(FORMULATEXTO_Act(Campos_Ingreso_Datos[[#This Row],[Vinculo]]),\"\")","v":"=' '!$C$995"},"[$$-240A] #,##0"]
["G. Ocasionales",{"$f":"' '!$C$996","v":{"v":0,"d":"$ 0"}},{"$f":"IFERROR(FORMULATEXTO_Act(Campos_Ingreso_Datos[[#This Row],[Vinculo]]),\"\")","v":"=' '!$C$996"},"[$$-240A] #,##0"]
["G. Ocasionales",{"$f":"' '!$C$997","v":{"v":0,"d":"$ 0"}},{"$f":"IFERROR(FORMULATEXTO_Act(Campos_Ingreso_Datos[[#This Row],[Vinculo]]),\"\")","v":"=' '!$C$997"},"[$$-240A] #,##0"]
["G. Ocasionales",{"$f":"' '!$C$1128","v":{"v":0,"d":"$ 0"}},{"$f":"IFERROR(FORMULATEXTO_Act(Campos_Ingreso_Datos[[#This Row],[Vinculo]]),\"\")","v":"=' '!$C$1128"},"[$$-240A] #,##0"]
["G. Ocasionales",{"$f":"' '!$C$1129","v":{"v":0,"d":"$ 0"}},{"$f":"IFERROR(FORMULATEXTO_Act(Campos_Ingreso_Datos[[#This Row],[Vinculo]]),\"\")","v":"=' '!$C$1129"},"[$$-240A] #,##0"]
["G. Ocasionales",{"$f":"' '!$C$1130","v":{"v":0,"d":"$ 0"}},{"$f":"IFERROR(FORMULATEXTO_Act(Campos_Ingreso_Datos[[#This Row],[Vinculo]]),\"\")","v":"=' '!$C$1130"},"[$$-240A] #,##0"]
["G. Ocasionales",{"$f":"' '!$C$1146","v":0},{"$f":"IFERROR(FORMULATEXTO_Act(Campos_Ingreso_Datos[[#This Row],[Vinculo]]),\"\")","v":"=' '!$C$1146"},"General","=Listas!$B$2:$B$3",""]
["G. Ocasionales",{"$f":"' '!$C$1147","v":0},{"$f":"IFERROR(FORMULATEXTO_Act(Campos_Ingreso_Datos[[#This Row],[Vinculo]]),\"\")","v":"=' '!$C$1147"},"General","=Listas!$B$2:$B$3",""]
["G. Ocasionales",{"$f":"' '!$C$1148","v":0},{"$f":"IFERROR(FORMULATEXTO_Act(Campos_Ingreso_Datos[[#This Row],[Vinculo]]),\"\")","v":"=' '!$C$1148"},"General","=Listas!$B$2:$B$3",""]
["G. Ocasionales",{"$f":"' '!$C$1149","v":{"v":0,"d":"$ 0"}},{"$f":"IFERROR(FORMULATEXTO_Act(Campos_Ingreso_Datos[[#This Row],[Vinculo]]),\"\")","v":"=' '!$C$1149"},"[$$-240A] #,##0"]
["G. Ocasionales",{"$f":"' '!$C$1150","v":{"v":0,"d":"$ 0"}},{"$f":"IFERROR(FORMULATEXTO_Act(Campos_Ingreso_Datos[[#This Row],[Vinculo]]),\"\")","v":"=' '!$C$1150"},"[$$-240A] #,##0"]
["Descuentos Tributarios",{"$f":"' '!$D$1265","v":{"v":0,"d":"$ 0"}},{"$f":"IFERROR(FORMULATEXTO_Act(Campos_Ingreso_Datos[[#This Row],[Vinculo]]),\"\")","v":"=' '!$D$1265"},"[$$-240A] #,##0"]
["Descuentos Tributarios",{"$f":"' '!$D$1269","v":{"v":0,"d":"$ 0"}},{"$f":"IFERROR(FORMULATEXTO_Act(Campos_Ingreso_Datos[[#This Row],[Vinculo]]),\"\")","v":"=' '!$D$1269"},"[$$-240A] #,##0"]
["Descuentos Tributarios",{"$f":"' '!$D$1273","v":{"v":0,"d":"$ 0"}},{"$f":"IFERROR(FORMULATEXTO_Act(Campos_Ingreso_Datos[[#This Row],[Vinculo]]),\"\")","v":"=' '!$D$1273"},"[$$-240A] #,##0"]
["Descuentos Tributarios",{"$f":"' '!$D$1277","v":{"v":0,"d":"$ 0"}},{"$f":"IFERROR(FORMULATEXTO_Act(Campos_Ingreso_Datos[[#This Row],[Vinculo]]),\"\")","v":"=' '!$D$1277"},"[$$-240A] #,##0"]
["Descuentos Tributarios",{"$f":"' '!$D$1281","v":{"v":0,"d":"$ 0"}},{"$f":"IFERROR(FORMULATEXTO_Act(Campos_Ingreso_Datos[[#This Row],[Vinculo]]),\"\")","v":"=' '!$D$1281"},"[$$-240A] #,##0"]
["Descuentos Tributarios",{"$f":"' '!$D$1290","v":{"v":0,"d":"$ 0"}},{"$f":"IFERROR(FORMULATEXTO_Act(Campos_Ingreso_Datos[[#This Row],[Vinculo]]),\"\")","v":"=' '!$D$1290"},"[$$-240A] #,##0"]
["Descuentos Tributarios",{"$f":"' '!$D$1291","v":{"v":0,"d":"$ 0"}},{"$f":"IFERROR(FORMULATEXTO_Act(Campos_Ingreso_Datos[[#This Row],[Vinculo]]),\"\")","v":"=' '!$D$1291"},"[$$-240A] #,##0"]
["Descuentos Tributarios",{"$f":"' '!$D$1292","v":{"v":0,"d":"$ 0"}},{"$f":"IFERROR(FORMULATEXTO_Act(Campos_Ingreso_Datos[[#This Row],[Vinculo]]),\"\")","v":"=' '!$D$1292"},"[$$-240A] #,##0"]
["Descuentos Tributarios",{"$f":"' '!$D$1293","v":{"v":0,"d":"$ 0"}},{"$f":"IFERROR(FORMULATEXTO_Act(Campos_Ingreso_Datos[[#This Row],[Vinculo]]),\"\")","v":"=' '!$D$1293"},"[$$-240A] #,##0"]
["Impuesto Rentas Líquidas Gravab",{"$f":"' '!$G$1335","v":{"v":0,"d":"0.0%"}},{"$f":"IFERROR(FORMULATEXTO_Act(Campos_Ingreso_Datos[[#This Row],[Vinculo]]),\"\")","v":"=' '!$G$1335"},"0.0%"]
["Anticipo Renta",{"$f":"' '!$D$1357","v":0},{"$f":"IFERROR(FORMULATEXTO_Act(Campos_Ingreso_Datos[[#This Row],[Vinculo]]),\"\")","v":"=' '!$D$1357"},"General","=Listas!$M$14:$M$15",""]
["Sanciones",{"$f":"' '!$E$1466","v":0},{"$f":"IFERROR(FORMULATEXTO_Act(Campos_Ingreso_Datos[[#This Row],[Vinculo]]),\"\")","v":"=' '!$E$1466"},"General","=Listas!$B$2:$B$3",""]
["Sanciones",{"$f":"' '!$E$1467","v":0},{"$f":"IFERROR(FORMULATEXTO_Act(Campos_Ingreso_Datos[[#This Row],[Vinculo]]),\"\")","v":"=' '!$E$1467"},"General","=Listas!$B$2:$B$3",""]
["Sanciones",{"$f":"' '!$E$1468","v":0},{"$f":"IFERROR(FORMULATEXTO_Act(Campos_Ingreso_Datos[[#This Row],[Vinculo]]),\"\")","v":"=' '!$E$1468"},"General","=Listas!$B$2:$B$3",""]
["Sanciones",{"$f":"' '!$E$1476","v":0},{"$f":"IFERROR(FORMULATEXTO_Act(Campos_Ingreso_Datos[[#This Row],[Vinculo]]),\"\")","v":"=' '!$E$1476"},"General","=Listas!$B$2:$B$3",""]
["Sanciones",{"$f":"' '!$E$1477","v":0},{"$f":"IFERROR(FORMULATEXTO_Act(Campos_Ingreso_Datos[[#This Row],[Vinculo]]),\"\")","v":"=' '!$E$1477"},"General","=Listas!$B$2:$B$3",""]
["Sanciones",{"$f":"' '!$E$1478","v":0},{"$f":"IFERROR(FORMULATEXTO_Act(Campos_Ingreso_Datos[[#This Row],[Vinculo]]),\"\")","v":"=' '!$E$1478"},"General","=Listas!$B$2:$B$3",""]
["Sanciones",{"$f":"' '!$E$1479","v":0},{"$f":"IFERROR(FORMULATEXTO_Act(Campos_Ingreso_Datos[[#This Row],[Vinculo]]),\"\")","v":"=' '!$E$1479"},"General","=Listas!$B$2:$B$3",""]
["Beneficio Auditoría",{"$f":"' '!$C$1591","v":0},{"$f":"IFERROR(FORMULATEXTO_Act(Campos_Ingreso_Datos[[#This Row],[Vinculo]]),\"\")","v":"=' '!$C$1591"},"General","=Listas!$B$2:$B$3",""]
["Beneficio Auditoría",{"$f":"' '!$C$1592","v":0},{"$f":"IFERROR(FORMULATEXTO_Act(Campos_Ingreso_Datos[[#This Row],[Vinculo]]),\"\")","v":"=' '!$C$1592"},"General","=Listas!$B$2:$B$3",""]
["Sanciones Act. Ext",{"$f":"' '!$E$1631","v":"00:00:00"},{"$f":"IFERROR(FORMULATEXTO_Act(Campos_Ingreso_Datos[[#This Row],[Vinculo]]),\"\")","v":"=' '!$E$1631"},"dd/mm/yyyy;@","2023-01-01","2100-12-31"]
["Sanciones Act. Ext",{"$f":"' '!$E$1633","v":0},{"$f":"IFERROR(FORMULATEXTO_Act(Campos_Ingreso_Datos[[#This Row],[Vinculo]]),\"\")","v":"=' '!$E$1633"},"General","=Listas!$B$2:$B$3",""]
["Sanciones Act. Ext",{"$f":"' '!$E$1657","v":0},{"$f":"IFERROR(FORMULATEXTO_Act(Campos_Ingreso_Datos[[#This Row],[Vinculo]]),\"\")","v":"=' '!$E$1657"},"General","=Listas!$B$2:$B$3",""]
["Sanciones Act. Ext",{"$f":"' '!$E$1658","v":0},{"$f":"IFERROR(FORMULATEXTO_Act(Campos_Ingreso_Datos[[#This Row],[Vinculo]]),\"\")","v":"=' '!$E$1658"},"General","=Listas!$B$2:$B$3",""]
["Sanciones Act. Ext",{"$f":"' '!$E$1659","v":0},{"$f":"IFERROR(FORMULATEXTO_Act(Campos_Ingreso_Datos[[#This Row],[Vinculo]]),\"\")","v":"=' '!$E$1659"},"General","=Listas!$B$2:$B$3",""]
["Sanciones Act. Ext",{"$f":"' '!$E$1667","v":0},{"$f":"IFERROR(FORMULATEXTO_Act(Campos_Ingreso_Datos[[#This Row],[Vinculo]]),\"\")","v":"=' '!$E$1667"},"General","=Listas!$B$2:$B$3",""]
["Sanciones Act. Ext",{"$f":"' '!$E$1668","v":0},{"$f":"IFERROR(FORMULATEXTO_Act(Campos_Ingreso_Datos[[#This Row],[Vinculo]]),\"\")","v":"=' '!$E$1668"},"General","=Listas!$B$2:$B$3",""]
["Sanciones Act. Ext",{"$f":"' '!$E$1669","v":0},{"$f":"IFERROR(FORMULATEXTO_Act(Campos_Ingreso_Datos[[#This Row],[Vinculo]]),\"\")","v":"=' '!$E$1669"},"General","=Listas!$B$2:$B$3",""]
["Sanciones Act. Ext",{"$f":"' '!$E$1670","v":0},{"$f":"IFERROR(FORMULATEXTO_Act(Campos_Ingreso_Datos[[#This Row],[Vinculo]]),\"\")","v":"=' '!$E$1670"},"General","=Listas!$B$2:$B$3",""]
["Activos",{"$f":"' '!$O$223","v":1},{"$f":"IFERROR(FORMULATEXTO_Act(Campos_Ingreso_Datos[[#This Row],[Vinculo]]),\"\")","v":"=' '!$O$223"},"General"]
["Activos",{"$f":"' '!$P$223","v":1},{"$f":"IFERROR(FORMULATEXTO_Act(Campos_Ingreso_Datos[[#This Row],[Vinculo]]),\"\")","v":"=' '!$P$223"},"General"]
["Activos",{"$f":"' '!$O$279","v":0},{"$f":"IFERROR(FORMULATEXTO_Act(Campos_Ingreso_Datos[[#This Row],[Vinculo]]),\"\")","v":"=' '!$O$279"},"General"]
["Activos",{"$f":"' '!$P$279","v":0},{"$f":"IFERROR(FORMULATEXTO_Act(Campos_Ingreso_Datos[[#This Row],[Vinculo]]),\"\")","v":"=' '!$P$279"},"General"]
["Activos",{"$f":"' '!$O$313","v":1},{"$f":"IFERROR(FORMULATEXTO_Act(Campos_Ingreso_Datos[[#This Row],[Vinculo]]),\"\")","v":"=' '!$O$313"},"General"]
["Activos",{"$f":"' '!$P$313","v":1},{"$f":"IFERROR(FORMULATEXTO_Act(Campos_Ingreso_Datos[[#This Row],[Vinculo]]),\"\")","v":"=' '!$P$313"},"General"]
["Activos",{"$f":"' '!$O$389","v":1},{"$f":"IFERROR(FORMULATEXTO_Act(Campos_Ingreso_Datos[[#This Row],[Vinculo]]),\"\")","v":"=' '!$O$389"},"General"]
["Activos",{"$f":"' '!$P$389","v":1},{"$f":"IFERROR(FORMULATEXTO_Act(Campos_Ingreso_Datos[[#This Row],[Vinculo]]),\"\")","v":"=' '!$P$389"},"General"]
["Deudas",{"$f":"' '!$O$488","v":1},{"$f":"IFERROR(FORMULATEXTO_Act(Campos_Ingreso_Datos[[#This Row],[Vinculo]]),\"\")","v":"=' '!$O$488"},"General"]
["Deudas",{"$f":"' '!$P$488","v":1},{"$f":"IFERROR(FORMULATEXTO_Act(Campos_Ingreso_Datos[[#This Row],[Vinculo]]),\"\")","v":"=' '!$P$488"},"General"]
["Activos",{"$f":"' '!$O$180","v":0},{"$f":"IFERROR(FORMULATEXTO_Act(Campos_Ingreso_Datos[[#This Row],[Vinculo]]),\"\")","v":"=' '!$O$180"},"General"]
["Activos",{"$f":"' '!$O$221","v":0},{"$f":"IFERROR(FORMULATEXTO_Act(Campos_Ingreso_Datos[[#This Row],[Vinculo]]),\"\")","v":"=' '!$O$221"},"General"]
["Activos",{"$f":"' '!$O$277","v":0},{"$f":"IFERROR(FORMULATEXTO_Act(Campos_Ingreso_Datos[[#This Row],[Vinculo]]),\"\")","v":"=' '!$O$277"},"General"]
["Activos",{"$f":"' '!$O$290","v":0},{"$f":"IFERROR(FORMULATEXTO_Act(Campos_Ingreso_Datos[[#This Row],[Vinculo]]),\"\")","v":"=' '!$O$290"},"General"]
["Activos",{"$f":"' '!$O$297","v":0},{"$f":"IFERROR(FORMULATEXTO_Act(Campos_Ingreso_Datos[[#This Row],[Vinculo]]),\"\")","v":"=' '!$O$297"},"General"]
["Activos",{"$f":"' '!$O$396","v":0},{"$f":"IFERROR(FORMULATEXTO_Act(Campos_Ingreso_Datos[[#This Row],[Vinculo]]),\"\")","v":"=' '!$O$396"},"General"]
["Datos Contribuyente",{"$f":"' '!$D$141","v":0},{"$f":"IFERROR(FORMULATEXTO_Act(Campos_Ingreso_Datos[[#This Row],[Vinculo]]),\"\")","v":"=' '!$D$141"},"General"]
{"$rows_empty":1532}
[{"$nulls":8},{"$f":"' '!#REF!","v":{"$error":"#REF!"}}]
[{"$nulls":8},{"$f":"' '!#REF!+' '!#REF!","v":{"$error":"#REF!"}}]
[{"$nulls":8},{"$f":"' '!#REF!","v":{"$error":"#REF!"}}]
[{"$nulls":8},{"$f":"' '!#REF!","v":{"$error":"#REF!"}}]

{"sheet":"Desarrollador","index":2,"n_rows":124,"n_cols":29,"rows_kept":124,"hidden":true}
["Accion","Grupo","Tipo","Imagen","Left","Top","Height","Width","Visible",null,null,"Segmento","Fila","Alto","Herramienta","Version","Formato_Editar","Avisos","Cambios","Tipo","Inicio","Volver_a","Limpiar","Prediligenciado","Actual","Fecha_Seleccion_Vencimiento","Certi_Depend","Contribuyentes","Scrollrow"]
[null,null,"Imagen","Titulo_Segmento",{"$f":"E4+G4+30","v":217},7,90,650,{"$f":"IF(Parametros[Segmento]=\"Fondo_Menu\",1,0)","v":1},null,null,"Fondo_Menu",{"$f":"IFERROR(MATCH(Parametros[[#This Row],[Segmento]],' '!$AO:$AO,0),0)","v":6},{"$f":"Alto_Segmento(Parametros[[#This Row],[Segmento]])","v":35},"Actualicese 210",20230623,null,0,1,2,null,null,0,null,0,45177,0,{"$f":"IF(Parametros[[#This Row],[Segmento]]=\"Contribuyentes\",ROW(Contribuyentes[#Headers])+IF(COUNTA(Contribuyentes[])<=5,0,ROWS(Contribuyentes[])),0)","v":0},0]
[null,null,"Imagen","Logo",25,15,70,169,1,null,null,{"$f":"IF(Parametros[Segmento]=\"Fondo_Menu\",\"Liquidador del impuesto de renta para personas \nnaturales no obligadas a llevar contabilidad\",\"\")","v":"Liquidador del impuesto de renta para personas \nnaturales no obligadas a llevar contabilidad"},{"$nulls":8},{"$f":"TEXT(MAX(Parametros[Inicio]+10/(24*60)-NOW(),0),\"mm:ss\")","v":"00:00"}]
[null,null,"Imagen","Division_1",{"$f":"E3+H3-15","v":179},48,8,80,1]
[null,null,"Imagen","Guardar",{"$f":"$E$6+H6+20","v":413},28,43,135,{"$f":"I6*(Parametros[Segmento]<>\"Contribuyentes\")","v":0},null,"=SI.ERROR((Parametros[Segmento]<>\"Fondo_Menu\")*1;1)"]
[null,null,"Imagen","Regresar_Al_Menu",{"$f":"IF(I53<>0,E53+H53+20,IF(I59<>0,E59+H59+20,IF(Parametros[Segmento]=\"Contribuyentes\",E13+H13+6,IF($I$7=1,$E$7+60,$E$4+70))))","v":249},{"$f":"IF(Parametros[Segmento]=\"Contribuyentes\",F9+G9-Botones_e_Imagenes[[#This Row],[Height]],F5)","v":28},{"$f":"IF(Parametros[Segmento]=\"Contribuyentes\",33,$G$5)","v":43},{"$f":"IF(Parametros[Segmento]=\"Contribuyentes\",111,144)","v":144},{"$f":"IFERROR((Parametros[Segmento]<>\"Fondo_Menu\")*1,1)","v":0}]
[null,null,"Imagen","Division_2",{"$f":"IF($I$56=1,E56+H56+5,IF($I$57=1,E57+H57+5,E67+G67+50))","v":532},{"$f":"F4","v":48},{"$f":"G4","v":8},{"$f":"H4","v":80},{"$f":"IFERROR((SUM($I$62:$I$71,$I$52,$I$56)>0)*1,0)","v":0}]
[null,null,"Imagen","Titulo_Contribuyentes",200,7,90,300,{"$f":"IFERROR((Parametros[Segmento]=\"Contribuyentes\")*1,0)","v":0}]
[null,{"$f":"IF(Parametros[Tipo]=2,\"Esta sección no está disponible en la versión de prueba de Actualícese 210.xls.\n\nSi quieres realizar tu declaración de renta de personas naturales de forma rápida, adquiere nuestra herramienta ingresando a:\",\"\")","v":"Esta sección no está disponible en la versión de prueba de Actualícese 210.xls.\n\nSi quieres realizar tu declaración de renta de personas naturales de forma rápida, adquiere nuestra herramienta ingresando a:"},"Imagen","Importar",{"$f":"$E$4+270","v":449},14,72,72,{"$f":"IFERROR((Parametros[Segmento]=\"Contribuyentes\")*1,0)","v":0}]
[null,null,"Imagen","Eliminar",{"$f":"E9+H9+6","v":527},{"$f":"F9+G9-Botones_e_Imagenes[[#This Row],[Height]]","v":53},33,111,{"$f":"IFERROR((Parametros[Segmento]=\"Contribuyentes\")*1,0)","v":0}]
[null,{"$f":"IF(AND(Parametros[Tipo]=2,IF(COUNTA(Contribuyentes[])<=5,0,ROWS(Contribuyentes[]))>0),\"Para la versión de prueba de Actualícese 210.xls solo puede tener creado 1 contribuyente.\n\nSi quieres realizar tu declaración de renta de personas naturales de forma rápida, adquiere nuestra herramienta ingresando a:\",\"\")","v":""},"Imagen","Nuevo",{"$f":"E9+H9+6","v":527},{"$f":"$F$9","v":14},33,111,{"$f":"IFERROR((Parametros[Segmento]=\"Contribuyentes\")*1,0)","v":0}]
[null,null,"Imagen","Ordenar_Ascendente",{"$f":"E11+H11+6","v":644},{"$f":"$F$9","v":14},33,111,{"$f":"IFERROR((Parametros[Segmento]=\"Contribuyentes\")*1,0)","v":0}]
[null,null,"Imagen","Ordenar_Descendente",{"$f":"E11+H11+6","v":644},{"$f":"F9+G9-Botones_e_Imagenes[[#This Row],[Height]]","v":53},33,111,{"$f":"IFERROR((Parametros[Segmento]=\"Contribuyentes\")*1,0)","v":0}]
[null,null,"Imagen","Vencimientos_BSA",{"$f":"E13+H13+6","v":761},{"$f":"$F$9","v":14},33,111,{"$f":"IFERROR((Parametros[Segmento]=\"Contribuyentes\")*1,0)","v":0}]
[]
[null,null,"Imagen","Informacion_Contribuyente",40,130,45,145,{"$f":"IFERROR((Parametros[Segmento]=\"Fondo_Menu\")*1,0)","v":1}]
[null,null,"Imagen","Contribuyentes",{"$f":"$E$16","v":40},{"$f":"F16+G16+8","v":183},22,140,{"$f":"IFERROR((Parametros[Segmento]=\"Fondo_Menu\")*1,0)","v":1}]
[null,null,"Imagen","Datos Contribuyente",{"$f":"$E$16","v":40},{"$f":"F17+G17+5","v":210},35,{"$f":"$H$17","v":140},{"$f":"IFERROR((Parametros[Segmento]=\"Fondo_Menu\")*(Parametros[Actual]>0),0)","v":0}]
[null,{"$f":"IF(Parametros[Tipo]=2,\"Esta sección no está disponible en la versión de prueba de Actualícese 210.xls.\n\nSi quieres realizar tu declaración de renta de personas naturales de forma rápida, adquiere nuestra herramienta ingresando a:\",\"\")","v":"Esta sección no está disponible en la versión de prueba de Actualícese 210.xls.\n\nSi quieres realizar tu declaración de renta de personas naturales de forma rápida, adquiere nuestra herramienta ingresando a:"},"Imagen","Lista de chequeo",40,{"$f":"F18+G18+5","v":250},22,{"$f":"$H$17","v":140},{"$f":"IFERROR((Parametros[Segmento]=\"Fondo_Menu\")*(Parametros[Actual]>0),0)","v":0}]
[null,null,"Imagen","Informacion_General",40,{"$f":"F19+G19+23","v":295},{"$f":"$G$16","v":45},125,{"$f":"IFERROR((Parametros[Segmento]=\"Fondo_Menu\")*(Parametros[Actual]>0),0)","v":0}]
[null,{"$f":"IF(Parametros[Tipo]=2,\"Esta sección no está disponible en la versión de prueba de Actualícese 210.xls.\n\nSi quieres realizar tu declaración de renta de personas naturales de forma rápida, adquiere nuestra herramienta ingresando a:\",\"\")","v":"Esta sección no está disponible en la versión de prueba de Actualícese 210.xls.\n\nSi quieres realizar tu declaración de renta de personas naturales de forma rápida, adquiere nuestra herramienta ingresando a:"},"Imagen","Vencimientos",40,{"$f":"F20+G20+8","v":348},{"$f":"$G$17","v":22},{"$f":"$H$17","v":140},{"$f":"IFERROR((Parametros[Segmento]=\"Fondo_Menu\")*(Parametros[Actual]>0),0)","v":0}]
[null,{"$f":"IF(Parametros[Tipo]=2,\"Esta sección no está disponible en la versión de prueba de Actualícese 210.xls.\n\nSi quieres realizar tu declaración de renta de personas naturales de forma rápida, adquiere nuestra herramienta ingresando a:\",\"\")","v":"Esta sección no está disponible en la versión de prueba de Actualícese 210.xls.\n\nSi quieres realizar tu declaración de renta de personas naturales de forma rápida, adquiere nuestra herramienta ingresando a:"},"Imagen","Cifras, tablas e indicadores",40,{"$f":"F21+G21+5","v":375},{"$f":"$G$17","v":22},{"$f":"$H$17","v":140},{"$f":"IFERROR((Parametros[Segmento]=\"Fondo_Menu\")*(Parametros[Actual]>0),0)","v":0}]
[null,null,"Imagen","Ingresos_Ocasionales",40,{"$f":"F22+G22+23","v":420},{"$f":"$G$16","v":45},{"$f":"$H$20","v":125},{"$f":"IFERROR((Parametros[Segmento]=\"Fondo_Menu\")*(Parametros[Actual]>0),0)","v":0}]
[null,null,"Imagen","G. Ocasionales",40,{"$f":"F23+G23+8","v":473},{"$f":"$G$17","v":22},{"$f":"$H$17","v":140},{"$f":"IFERROR((Parametros[Segmento]=\"Fondo_Menu\")*(Parametros[Actual]>0),0)","v":0},null,null,"Celda","Segmento","Vinculo","Diligenciar_Detalle","Primera_vez","Marcar Primera Vez"]
[null,null,"Imagen","Patrimonio",{"$f":"$E$16+220","v":260},{"$f":"$F$16","v":130},{"$f":"$G$16","v":45},{"$f":"$H$20","v":125},{"$f":"IFERROR((Parametros[Segmento]=\"Fondo_Menu\")*(Parametros[Actual]>0),0)","v":0},null,null,{"$f":"SUBSTITUTE(FORMULATEXTO_Act(Redireccionar[[#This Row],[Vinculo]]),\"=\",\"\")","v":"' '!$C$223"},"Reajuste fiscal de los activos",{"$f":"' '!$C$223","v":0},"¿Desea registrar acciones y/o aportes sociales poseídos por el contribuyente a 31 de diciembre de 2022?",{"$f":"' '!$O$223","v":1},{"$f":"' '!$B$223","v":"Acciones y/o aportes sociales "}]
[null,null,"Imagen","Activos",{"$f":"$E$25","v":260},{"$f":"F25+G25+8","v":183},{"$f":"$G$17","v":22},{"$f":"$H$17","v":140},{"$f":"IFERROR((Parametros[Segmento]=\"Fondo_Menu\")*(Parametros[Actual]>0),0)","v":0},null,null,{"$f":"SUBSTITUTE(FORMULATEXTO_Act(Redireccionar[[#This Row],[Vinculo]]),\"=\",\"\")","v":"' '!$D$223"},"Reajuste fiscal de los activos",{"$f":"' '!$D$223","v":0},"¿Desea registrar acciones y/o aportes sociales poseídos por el contribuyente a 31 de diciembre de 2022?",{"$f":"' '!$P$223","v":1},{"$f":"' '!$B$223","v":"Acciones y/o aportes sociales "}]
[null,null,"Imagen","Deudas",260,{"$f":"F26+G26+5","v":210},{"$f":"$G$17","v":22},{"$f":"$H$17","v":140},{"$f":"IFERROR((Parametros[Segmento]=\"Fondo_Menu\")*(Parametros[Actual]>0),0)","v":0},null,null,{"$f":"SUBSTITUTE(FORMULATEXTO_Act(Redireccionar[[#This Row],[Vinculo]]),\"=\",\"\")","v":"' '!$C$279"},"Intereses Presuntivos",{"$f":"' '!$C$279","v":0},"¿Desea registrar cuentas por cobrar a sociedades de las cuales el contribuyente es socio,  poseídos a 31 de diciembre de 2022?",{"$f":"' '!$O$279","v":0},{"$f":"' '!$B$279","v":"Cuentas por cobrar a sociedades de las cuales el contribuyente es socio "}]
[null,null,"Imagen","Cedulacion",260,{"$f":"F27+G27+23","v":255},{"$f":"$G$16","v":45},{"$f":"$H$20","v":125},{"$f":"IFERROR((Parametros[Segmento]=\"Fondo_Menu\")*(Parametros[Actual]>0),0)","v":0},null,null,{"$f":"SUBSTITUTE(FORMULATEXTO_Act(Redireccionar[[#This Row],[Vinculo]]),\"=\",\"\")","v":"' '!$D$279"},"Intereses Presuntivos",{"$f":"' '!$D$279","v":0},"¿Desea registrar cuentas por cobrar a sociedades de las cuales el contribuyente es socio,  poseídos a 31 de diciembre de 2022?",{"$f":"' '!$P$279","v":0},{"$f":"' '!$B$279","v":"Cuentas por cobrar a sociedades de las cuales el contribuyente es socio "}]
[null,null,"Imagen","Cédula General",260,{"$f":"F28+G28+8","v":308},{"$f":"$G$17","v":22},{"$f":"$H$17","v":140},{"$f":"IFERROR((Parametros[Segmento]=\"Fondo_Menu\")*(Parametros[Actual]>0),0)","v":0},null,null,{"$f":"SUBSTITUTE(FORMULATEXTO_Act(Redireccionar[[#This Row],[Vinculo]]),\"=\",\"\")","v":"' '!$C$313"},"Reajuste fiscal de los activos",{"$f":"' '!$C$313","v":56000000},"¿Desea registrar vehículos poseídos por el contribuyente a 31 de diciembre de 2022?",{"$f":"' '!$O$313","v":1},{"$f":"' '!$B$313","v":"Vehículos (Carro, motocicletas, camionetas, etc.) "}]
[null,{"$f":"IF(Parametros[Tipo]=2,\"Esta sección no está disponible en la versión de prueba de Actualícese 210.xls.\n\nSi quieres realizar tu declaración de renta de personas naturales de forma rápida, adquiere nuestra herramienta ingresando a:\",\"\")","v":"Esta sección no está disponible en la versión de prueba de Actualícese 210.xls.\n\nSi quieres realizar tu declaración de renta de personas naturales de forma rápida, adquiere nuestra herramienta ingresando a:"},"Imagen","Cédula Pensiones",260,{"$f":"F29+G29+5","v":335},{"$f":"$G$17","v":22},{"$f":"$H$17","v":140},{"$f":"IFERROR((Parametros[Segmento]=\"Fondo_Menu\")*(Parametros[Actual]>0),0)","v":0},null,null,{"$f":"SUBSTITUTE(FORMULATEXTO_Act(Redireccionar[[#This Row],[Vinculo]]),\"=\",\"\")","v":"' '!$D$313"},"Reajuste fiscal de los activos",{"$f":"' '!$D$313","v":0},"¿Desea registrar vehículos poseídos por el contribuyente a 31 de diciembre de 2022?",{"$f":"' '!$P$313","v":1},{"$f":"' '!$B$313","v":"Vehículos (Carro, motocicletas, camionetas, etc.) "}]
[null,{"$f":"IF(Parametros[Tipo]=2,\"Esta sección no está disponible en la versión de prueba de Actualícese 210.xls.\n\nSi quieres realizar tu declaración de renta de personas naturales de forma rápida, adquiere nuestra herramienta ingresando a:\",\"\")","v":"Esta sección no está disponible en la versión de prueba de Actualícese 210.xls.\n\nSi quieres realizar tu declaración de renta de personas naturales de forma rápida, adquiere nuestra herramienta ingresando a:"},"Imagen","Cédula Dividendos",260,{"$f":"F30+G30+5","v":362},{"$f":"$G$17","v":22},{"$f":"$H$17","v":140},{"$f":"IFERROR((Parametros[Segmento]=\"Fondo_Menu\")*(Parametros[Actual]>0),0)","v":0},null,null,{"$f":"SUBSTITUTE(FORMULATEXTO_Act(Redireccionar[[#This Row],[Vinculo]]),\"=\",\"\")","v":"' '!$C$389"},"Reajuste fiscal de los activos",{"$f":"' '!$C$389","v":217424525},"¿Desea registrar bienes inmuebles poseídos por el contribuyente a 31 de diciembre de 2022?",{"$f":"' '!$O$389","v":1},{"$f":"' '!$B$389","v":"Bienes inmuebles "}]
[null,null,"Imagen","Calculos_Adicionales",{"$f":"$E$25+220","v":480},{"$f":"$F$16","v":130},{"$f":"$G$16","v":45},{"$f":"$H$20","v":125},{"$f":"IFERROR((Parametros[Segmento]=\"Fondo_Menu\")*(Parametros[Actual]>0),0)","v":0},null,null,{"$f":"SUBSTITUTE(FORMULATEXTO_Act(Redireccionar[[#This Row],[Vinculo]]),\"=\",\"\")","v":"' '!$D$389"},"Reajuste fiscal de los activos",{"$f":"' '!$D$389","v":0},"¿Desea registrar bienes inmuebles poseídos por el contribuyente a 31 de diciembre de 2022?",{"$f":"' '!$P$389","v":1},{"$f":"' '!$B$389","v":"Bienes inmuebles "}]
[null,{"$f":"IF(Parametros[Tipo]=2,\"Esta sección no está disponible en la versión de prueba de Actualícese 210.xls.\n\nSi quieres realizar tu declaración de renta de personas naturales de forma rápida, adquiere nuestra herramienta ingresando a:\",\"\")","v":"Esta sección no está disponible en la versión de prueba de Actualícese 210.xls.\n\nSi quieres realizar tu declaración de renta de personas naturales de forma rápida, adquiere nuestra herramienta ingresando a:"},"Imagen","Compensaciones",{"$f":"$E$32","v":480},{"$f":"F32+G32+8","v":183},{"$f":"$G$17","v":22},{"$f":"$H$17","v":140},{"$f":"IFERROR((Parametros[Segmento]=\"Fondo_Menu\")*(Parametros[Actual]>0),0)","v":0},null,null,{"$f":"SUBSTITUTE(FORMULATEXTO_Act(Redireccionar[[#This Row],[Vinculo]]),\"=\",\"\")","v":"' '!$C$488"},"Subcapitalización",{"$f":"' '!$C$488","v":0},"¿Desea registrar cuentas por pagar a vinculados económicos, pendientes a 31 de diciembre de 2022?",{"$f":"' '!$O$488","v":1},{"$f":"' '!$B$488","v":"Cuentas por pagar a vinculados económicos"}]
[null,{"$f":"IF(Parametros[Tipo]=2,\"Esta sección no está disponible en la versión de prueba de Actualícese 210.xls.\n\nSi quieres realizar tu declaración de renta de personas naturales de forma rápida, adquiere nuestra herramienta ingresando a:\",\"\")","v":"Esta sección no está disponible en la versión de prueba de Actualícese 210.xls.\n\nSi quieres realizar tu declaración de renta de personas naturales de forma rápida, adquiere nuestra herramienta ingresando a:"},"Imagen","Comparación Patrimonial",{"$f":"$E$32","v":480},{"$f":"F33+G33+5","v":210},{"$f":"$G$18","v":35},140,{"$f":"IFERROR((Parametros[Segmento]=\"Fondo_Menu\")*(Parametros[Actual]>0),0)","v":0},null,null,{"$f":"SUBSTITUTE(FORMULATEXTO_Act(Redireccionar[[#This Row],[Vinculo]]),\"=\",\"\")","v":"' '!$D$488"},"Subcapitalización",{"$f":"' '!$D$488","v":0},"¿Desea registrar cuentas por pagar a vinculados económicos, pendientes a 31 de diciembre de 2022?",{"$f":"' '!$P$488","v":1},{"$f":"' '!$B$488","v":"Cuentas por pagar a vinculados económicos"}]
[null,{"$f":"IF(Parametros[Tipo]=2,\"Esta sección no está disponible en la versión de prueba de Actualícese 210.xls.\n\nSi quieres realizar tu declaración de renta de personas naturales de forma rápida, adquiere nuestra herramienta ingresando a:\",\"\")","v":"Esta sección no está disponible en la versión de prueba de Actualícese 210.xls.\n\nSi quieres realizar tu declaración de renta de personas naturales de forma rápida, adquiere nuestra herramienta ingresando a:"},"Imagen","Descuentos Tributarios",480,{"$f":"F34+G34+5","v":250},{"$f":"$G$17","v":22},140,{"$f":"IFERROR((Parametros[Segmento]=\"Fondo_Menu\")*(Parametros[Actual]>0),0)","v":0}]
[null,{"$f":"IF(Parametros[Tipo]=2,\"Esta sección no está disponible en la versión de prueba de Actualícese 210.xls.\n\nSi quieres realizar tu declaración de renta de personas naturales de forma rápida, adquiere nuestra herramienta ingresando a:\",\"\")","v":"Esta sección no está disponible en la versión de prueba de Actualícese 210.xls.\n\nSi quieres realizar tu declaración de renta de personas naturales de forma rápida, adquiere nuestra herramienta ingresando a:"},"Imagen","Anticipo Renta",480,{"$f":"F35+G35+5","v":277},{"$f":"$G$17","v":22},140,{"$f":"IFERROR((Parametros[Segmento]=\"Fondo_Menu\")*(Parametros[Actual]>0),0)","v":0}]
[null,{"$f":"IF(Parametros[Tipo]=2,\"Esta sección no está disponible en la versión de prueba de Actualícese 210.xls.\n\nSi quieres realizar tu declaración de renta de personas naturales de forma rápida, adquiere nuestra herramienta ingresando a:\",\"\")","v":"Esta sección no está disponible en la versión de prueba de Actualícese 210.xls.\n\nSi quieres realizar tu declaración de renta de personas naturales de forma rápida, adquiere nuestra herramienta ingresando a:"},"Imagen","Sanciones",480,{"$f":"F36+G36+5","v":304},{"$f":"$G$17","v":22},140,{"$f":"IFERROR((Parametros[Segmento]=\"Fondo_Menu\")*(Parametros[Actual]>0),0)","v":0}]
[null,{"$f":"IF(Parametros[Tipo]=2,\"Esta sección no está disponible en la versión de prueba de Actualícese 210.xls.\n\nSi quieres realizar tu declaración de renta de personas naturales de forma rápida, adquiere nuestra herramienta ingresando a:\",\"\")","v":"Esta sección no está disponible en la versión de prueba de Actualícese 210.xls.\n\nSi quieres realizar tu declaración de renta de personas naturales de forma rápida, adquiere nuestra herramienta ingresando a:"},"Imagen","Retenciones",480,{"$f":"F37+G37+5","v":331},{"$f":"$G$17","v":22},140,{"$f":"IFERROR((Parametros[Segmento]=\"Fondo_Menu\")*(Parametros[Actual]>0),0)","v":0}]
[null,null,"Imagen","Calculo_de_Impuestos",480,{"$f":"F38+G38+23","v":376},{"$f":"$G$16","v":45},{"$f":"$H$20","v":125},{"$f":"IFERROR((Parametros[Segmento]=\"Fondo_Menu\")*(Parametros[Actual]>0),0)","v":0}]
[null,{"$f":"IF(Parametros[Tipo]=2,\"Esta sección no está disponible en la versión de prueba de Actualícese 210.xls.\n\nSi quieres realizar tu declaración de renta de personas naturales de forma rápida, adquiere nuestra herramienta ingresando a:\",\"\")","v":"Esta sección no está disponible en la versión de prueba de Actualícese 210.xls.\n\nSi quieres realizar tu declaración de renta de personas naturales de forma rápida, adquiere nuestra herramienta ingresando a:"},"Imagen","ImpRentasLíquidasGravab",480,{"$f":"F39+G39+8","v":429},{"$f":"$G$18","v":35},{"$f":"$H$17","v":140},{"$f":"IFERROR((Parametros[Segmento]=\"Fondo_Menu\")*(Parametros[Actual]>0),0)","v":0}]
[null,null,"Imagen","Formulario_210",{"$f":"$E$32+220","v":700},{"$f":"$F$16","v":130},{"$f":"$G$16","v":45},{"$f":"$H$20","v":125},{"$f":"IFERROR((Parametros[Segmento]=\"Fondo_Menu\")*(Parametros[Actual]>0),0)","v":0}]
[null,null,"Imagen","F210",{"$f":"$E$41","v":700},{"$f":"F41+G41+8","v":183},{"$f":"$G$17","v":22},{"$f":"$H$17","v":140},{"$f":"IFERROR((Parametros[Segmento]=\"Fondo_Menu\")*(Parametros[Actual]>0),0)","v":0}]
[null,null,"Imagen","Informes",{"$f":"$E$41","v":700},{"$f":"F42+G42+5","v":210},22,140,{"$f":"IFERROR((Parametros[Segmento]=\"Fondo_Menu\")*(Parametros[Actual]>0),0)","v":0}]
[null,null,"Imagen","Gráficos",700,{"$f":"F43+G43+5","v":237},22,140,{"$f":"IFERROR((Parametros[Segmento]=\"Fondo_Menu\")*(Parametros[Actual]>0),0)","v":0}]
[null,{"$f":"IF(Parametros[Tipo]=2,\"Esta sección no está disponible en la versión de prueba de Actualícese 210.xls.\n\nSi quieres realizar tu declaración de renta de personas naturales de forma rápida, adquiere nuestra herramienta ingresando a:\",\"\")","v":"Esta sección no está disponible en la versión de prueba de Actualícese 210.xls.\n\nSi quieres realizar tu declaración de renta de personas naturales de forma rápida, adquiere nuestra herramienta ingresando a:"},"Imagen","Informe Costos",700,{"$f":"F44+G44+5","v":264},22,140,{"$f":"IFERROR((Parametros[Segmento]=\"Fondo_Menu\")*(Parametros[Actual]>0),0)","v":0}]
[null,{"$f":"IF(Parametros[Tipo]=2,\"Esta sección no está disponible en la versión de prueba de Actualícese 210.xls.\n\nSi quieres realizar tu declaración de renta de personas naturales de forma rápida, adquiere nuestra herramienta ingresando a:\",\"\")","v":"Esta sección no está disponible en la versión de prueba de Actualícese 210.xls.\n\nSi quieres realizar tu declaración de renta de personas naturales de forma rápida, adquiere nuestra herramienta ingresando a:"},"Imagen","Certificado_Dependientes",700,{"$f":"F45+G45+5","v":291},22,140,{"$f":"IFERROR((Parametros[Segmento]=\"Fondo_Menu\")*(Parametros[Actual]>0),0)","v":0}]
[null,{"$f":"IF(Parametros[Tipo]=2,\"Esta sección no está disponible en la versión de prueba de Actualícese 210.xls.\n\nSi quieres realizar tu declaración de renta de personas naturales de forma rápida, adquiere nuestra herramienta ingresando a:\",\"\")","v":"Esta sección no está disponible en la versión de prueba de Actualícese 210.xls.\n\nSi quieres realizar tu declaración de renta de personas naturales de forma rápida, adquiere nuestra herramienta ingresando a:"},"Imagen","Beneficio Auditoría",700,{"$f":"F46+G46+5","v":318},22,140,{"$f":"IFERROR((Parametros[Segmento]=\"Fondo_Menu\")*(Parametros[Actual]>0),0)","v":0}]
[null,null,"Imagen","Formulario_160",700,{"$f":"F47+G47+23","v":363},{"$f":"$G$16","v":45},{"$f":"$H$20","v":125},{"$f":"IFERROR((Parametros[Segmento]=\"Fondo_Menu\")*(Parametros[Actual]>0),0)","v":0}]
[null,{"$f":"IF(Parametros[Tipo]=2,\"Esta sección no está disponible en la versión de prueba de Actualícese 210.xls.\n\nSi quieres realizar tu declaración de renta de personas naturales de forma rápida, adquiere nuestra herramienta ingresando a:\",\"\")","v":"Esta sección no está disponible en la versión de prueba de Actualícese 210.xls.\n\nSi quieres realizar tu declaración de renta de personas naturales de forma rápida, adquiere nuestra herramienta ingresando a:"},"Imagen","Info. Activos Ext.",700,{"$f":"F48+G48+8","v":416},{"$f":"$G$18","v":35},{"$f":"$H$17","v":140},{"$f":"IFERROR((Parametros[Segmento]=\"Fondo_Menu\")*(Parametros[Actual]>0),0)","v":0}]
[null,null,"Imagen","F160 H1",700,{"$f":"F49+G49+5","v":456},{"$f":"$G$17","v":22},{"$f":"$H$17","v":140},{"$f":"IFERROR((Parametros[Segmento]=\"Fondo_Menu\")*(Parametros[Actual]>0),0)","v":0},null,null,"m","s","l","a"]
[null,{"$f":"IF(Parametros[Tipo]=2,\"Esta sección no está disponible en la versión de prueba de Actualícese 210.xls.\n\nSi quieres realizar tu declaración de renta de personas naturales de forma rápida, adquiere nuestra herramienta ingresando a:\",\"\")","v":"Esta sección no está disponible en la versión de prueba de Actualícese 210.xls.\n\nSi quieres realizar tu declaración de renta de personas naturales de forma rápida, adquiere nuestra herramienta ingresando a:"},"Imagen","Sanciones Act. Ext",700,{"$f":"F50+G50+5","v":483},{"$f":"$G$17","v":22},{"$f":"$H$17","v":140},{"$f":"IFERROR((Parametros[Segmento]=\"Fondo_Menu\")*(Parametros[Actual]>0),0)","v":0},null,null,"5E3720524153"]
[null,null,"Imagen","Seleccionar_Cedula",270,190,185,255,{"$f":"IFERROR((Parametros[Segmento]=\"Cédula General\")*1,0)","v":0},null,null,"5E3720524153"]
[null,null,"Imagen","F160 H1_BSA2",{"$f":"IF(Botones_e_Imagenes[[#This Row],[Visible]]=1,$E$4+(H4+20)*I4,0)","v":0},{"$f":"F6","v":28},{"$f":"G6","v":43},144,{"$f":"(Parametros[Segmento]=\"Info. Activos Ext.\")*1","v":0},null,null,"48E7DAC5AF37"]
[null,null,"Imagen","F160 H1_BSA",{"$f":"E4+78","v":257},35,29,120,{"$f":"((I57)>0)*(I55=0)","v":0},null,null,"48E7DAC5AF36"]
[null,null,"Imagen","F160 H1_BS",{"$f":"E4+78","v":257},35,29,120,{"$f":"(SUBSTITUTE(Botones_e_Imagenes[[#This Row],[Imagen]],\"_BS\",\"\")=Parametros[Segmento])*1","v":0},null,null,"4AE7DAC5AF27"]
[null,{"$f":"IF(Parametros[Tipo]=2,\"Esta sección no está disponible en la versión de prueba de Actualícese 210.xls.\n\nSi quieres realizar tu declaración de renta de personas naturales de forma rápida, adquiere nuestra herramienta ingresando a:\",\"\")","v":"Esta sección no está disponible en la versión de prueba de Actualícese 210.xls.\n\nSi quieres realizar tu declaración de renta de personas naturales de forma rápida, adquiere nuestra herramienta ingresando a:"},"Imagen","F160 H2_BSA",{"$f":"E54+H54+20","v":397},35,29,120,{"$f":"((I55)>0)*(I57=0)","v":0},null,null,"4AE7DAC5AF37"]
[null,{"$f":"IF(Parametros[Tipo]=2,\"Esta sección no está disponible en la versión de prueba de Actualícese 210.xls.\n\nSi quieres realizar tu declaración de renta de personas naturales de forma rápida, adquiere nuestra herramienta ingresando a:\",\"\")","v":"Esta sección no está disponible en la versión de prueba de Actualícese 210.xls.\n\nSi quieres realizar tu declaración de renta de personas naturales de forma rápida, adquiere nuestra herramienta ingresando a:"},"Imagen","F160 H2_BS",{"$f":"E55+H55+20","v":397},35,29,120,{"$f":"(SUBSTITUTE(Botones_e_Imagenes[[#This Row],[Imagen]],\"_BS\",\"\")=Parametros[Segmento])*1","v":0},null,null,"002020524153","MDAyMDIwNTI0MTUzLDAyNUMyMDUyNDE1MywwNDI5MjA1MjQxNTMsMTA2ODM4NTI0MjY2LDEwNjgzODUyNDI2NywxMjY4Mzg1MjYyNDYsMTI2ODM4NTI3MjU2/ZGx1bmFAYWN0dWFsaWNlc2UuY29t","dluna@actualicese.com","Tu licencia ha sido activada por ser Suscriptor"]
[{"$nulls":11},"025C20524153","MDAyMDIwNTI0MTUzLDAyNUMyMDUyNDE1MywwNDI5MjA1MjQxNTMsMTA2ODM4NTI0MjY2LDEwNjgzODUyNDI2NywxMjY4Mzg1MjYyNDYsMTI2ODM4NTI3MjU2/ZGx1bmFAYWN0dWFsaWNlc2UuY29t","dluna@actualicese.com","Tu licencia ha sido activada por ser Suscriptor"]
[null,{"$f":"IF(Parametros[Tipo]=2,\"Esta sección no está disponible en la versión de prueba de Actualícese 210.xls.\n\nSi quieres realizar tu declaración de renta de personas naturales de forma rápida, adquiere nuestra herramienta ingresando a:\",\"\")","v":"Esta sección no está disponible en la versión de prueba de Actualícese 210.xls.\n\nSi quieres realizar tu declaración de renta de personas naturales de forma rápida, adquiere nuestra herramienta ingresando a:"},"Imagen","Info. Activos Ext._BSA",{"$f":"IF(Botones_e_Imagenes[[#This Row],[Visible]]=1,$E$7+(H7+20)*I7,0)","v":0},{"$f":"F6","v":28},{"$f":"G6","v":43},{"$f":"H6","v":144},{"$f":"(Parametros[Segmento]=\"F160 H1\")+(Parametros[Segmento]=\"F160 H2\")","v":0},null,null,"042920524153","MDAyMDIwNTI0MTUzLDAyNUMyMDUyNDE1MywwNDI5MjA1MjQxNTMsMTA2ODM4NTI0MjY2LDEwNjgzODUyNDI2NywxMjY4Mzg1MjYyNDYsMTI2ODM4NTI3MjU2/ZGx1bmFAYWN0dWFsaWNlc2UuY29t","dluna@actualicese.com","Tu licencia ha sido activada por ser Suscriptor"]
[{"$nulls":11},"106838524266","MDAyMDIwNTI0MTUzLDAyNUMyMDUyNDE1MywwNDI5MjA1MjQxNTMsMTA2ODM4NTI0MjY2LDEwNjgzODUyNDI2NywxMjY4Mzg1MjYyNDYsMTI2ODM4NTI3MjU2/ZGx1bmFAYWN0dWFsaWNlc2UuY29t","dluna@actualicese.com","Tu licencia ha sido activada por ser Suscriptor"]
[{"$nulls":11},"106838524267","MDAyMDIwNTI0MTUzLDAyNUMyMDUyNDE1MywwNDI5MjA1MjQxNTMsMTA2ODM4NTI0MjY2LDEwNjgzODUyNDI2NywxMjY4Mzg1MjYyNDYsMTI2ODM4NTI3MjU2/ZGx1bmFAYWN0dWFsaWNlc2UuY29t","dluna@actualicese.com","Tu licencia ha sido activada por ser Suscriptor"]
[null,null,"Imagen","Rentas de Trabajo_BSA",{"$f":"E4+60","v":239},19,29,100,{"$f":"(($I$63+$I$65+$I$67+$I$69+$I$71+$I$52)>0)*(I63=0)","v":0},null,null,"126838526246","MDAyMDIwNTI0MTUzLDAyNUMyMDUyNDE1MywwNDI5MjA1MjQxNTMsMTA2ODM4NTI0MjY2LDEwNjgzODUyNDI2NywxMjY4Mzg1MjYyNDYsMTI2ODM4NTI3MjU2/ZGx1bmFAYWN0dWFsaWNlc2UuY29t","dluna@actualicese.com","Tu licencia ha sido activada por ser Suscriptor"]
[null,null,"Imagen","Rentas de Trabajo_BS",{"$f":"E62","v":239},{"$f":"$F$62","v":19},{"$f":"$G$62","v":29},{"$f":"$H$62","v":100},{"$f":"(SUBSTITUTE(Botones_e_Imagenes[[#This Row],[Imagen]],\"_BS\",\"\")=Parametros[Segmento])*1","v":0},null,null,"126838527256","MDAyMDIwNTI0MTUzLDAyNUMyMDUyNDE1MywwNDI5MjA1MjQxNTMsMTA2ODM4NTI0MjY2LDEwNjgzODUyNDI2NywxMjY4Mzg1MjYyNDYsMTI2ODM4NTI3MjU2/ZGx1bmFAYWN0dWFsaWNlc2UuY29t","dluna@actualicese.com","Tu licencia ha sido activada por ser Suscriptor"]
[null,{"$f":"IF(Parametros[Tipo]=2,\"Esta sección no está disponible en la versión de prueba de Actualícese 210.xls.\n\nSi quieres realizar tu declaración de renta de personas naturales de forma rápida, adquiere nuestra herramienta ingresando a:\",\"\")","v":"Esta sección no está disponible en la versión de prueba de Actualícese 210.xls.\n\nSi quieres realizar tu declaración de renta de personas naturales de forma rápida, adquiere nuestra herramienta ingresando a:"},"Imagen","RentaHonorariosServicios_BSA",{"$f":"E62+H62+7","v":346},{"$f":"$F$62","v":19},29,100,{"$f":"(($I$63+$I$65+$I$67+$I$69+$I$71+$I$52)>0)*(I65=0)","v":0},null,null,"145B20524153","MTQ1QjIwNTI0MTUzLDE0QTUyMDUyNDE1MywxNEY3MjA1MjQxNTMsMDQ0MjFBRjEzM0I0LDAwRkYyRjY1MTA1MQ==/anZlbGFuZGlhQGFjdHVhbGljZXNlLmNvbQ==","jvelandia@actualicese.com","Tu licencia ha sido activada por ser Suscriptor"]
[null,null,"Imagen","RentaHonorariosServicios_BS",{"$f":"E63+H63+7","v":346},{"$f":"$F$62","v":19},29,100,{"$f":"(SUBSTITUTE(Botones_e_Imagenes[[#This Row],[Imagen]],\"_BS\",\"\")=Parametros[Segmento])*1","v":0},null,null,"14A520524153","MTQ1QjIwNTI0MTUzLDE0QTUyMDUyNDE1MywxNEY3MjA1MjQxNTMsMDQ0MjFBRjEzM0I0LDAwRkYyRjY1MTA1MQ==/anZlbGFuZGlhQGFjdHVhbGljZXNlLmNvbQ==","jvelandia@actualicese.com","Tu licencia ha sido activada por ser Suscriptor"]
[null,{"$f":"IF(Parametros[Tipo]=2,\"Esta sección no está disponible en la versión de prueba de Actualícese 210.xls.\n\nSi quieres realizar tu declaración de renta de personas naturales de forma rápida, adquiere nuestra herramienta ingresando a:\",\"\")","v":"Esta sección no está disponible en la versión de prueba de Actualícese 210.xls.\n\nSi quieres realizar tu declaración de renta de personas naturales de forma rápida, adquiere nuestra herramienta ingresando a:"},"Imagen","Rentas de Capital_BSA",{"$f":"E64+H64+7","v":453},{"$f":"$F$62","v":19},29,100,{"$f":"(($I$63+$I$65+$I$67+$I$69+$I$71+$I$52)>0)*(I67=0)","v":0},null,null,"14F720524153","MTQ1QjIwNTI0MTUzLDE0QTUyMDUyNDE1MywxNEY3MjA1MjQxNTMsMDQ0MjFBRjEzM0I0LDAwRkYyRjY1MTA1MQ==/anZlbGFuZGlhQGFjdHVhbGljZXNlLmNvbQ==","jvelandia@actualicese.com","Tu licencia ha sido activada por ser Suscriptor"]
[null,null,"Imagen","Rentas de Capital_BS",{"$f":"E65+H65+7","v":453},{"$f":"$F$62","v":19},29,100,{"$f":"(SUBSTITUTE(Botones_e_Imagenes[[#This Row],[Imagen]],\"_BS\",\"\")=Parametros[Segmento])*1","v":0},null,null,"04421AF133B4","MTQ1QjIwNTI0MTUzLDE0QTUyMDUyNDE1MywxNEY3MjA1MjQxNTMsMDQ0MjFBRjEzM0I0LDAwRkYyRjY1MTA1MQ==/anZlbGFuZGlhQGFjdHVhbGljZXNlLmNvbQ==","jvelandia@actualicese.com","Tu licencia ha sido activada por ser Suscriptor"]
[null,{"$f":"IF(Parametros[Tipo]=2,\"Esta sección no está disponible en la versión de prueba de Actualícese 210.xls.\n\nSi quieres realizar tu declaración de renta de personas naturales de forma rápida, adquiere nuestra herramienta ingresando a:\",\"\")","v":"Esta sección no está disponible en la versión de prueba de Actualícese 210.xls.\n\nSi quieres realizar tu declaración de renta de personas naturales de forma rápida, adquiere nuestra herramienta ingresando a:"},"Imagen","Rentas no laborales_BSA",{"$f":"E62","v":239},{"$f":"F62+G62+7","v":55},29,100,{"$f":"(($I$63+$I$65+$I$67+$I$69+$I$71+$I$52)>0)*(I69=0)","v":0},null,null,"00FF2F651051","MTQ1QjIwNTI0MTUzLDE0QTUyMDUyNDE1MywxNEY3MjA1MjQxNTMsMDQ0MjFBRjEzM0I0LDAwRkYyRjY1MTA1MQ==/anZlbGFuZGlhQGFjdHVhbGljZXNlLmNvbQ==","jvelandia@actualicese.com","Tu licencia ha sido activada por ser Suscriptor"]
[null,null,"Imagen","Rentas no laborales_BS",{"$f":"E63","v":239},{"$f":"F63+G63+7","v":55},29,100,{"$f":"(SUBSTITUTE(Botones_e_Imagenes[[#This Row],[Imagen]],\"_BS\",\"\")=Parametros[Segmento])*1","v":0}]
[null,null,"Imagen","Resumen Cédula General_BSA",{"$f":"E68+H68+7","v":346},{"$f":"F64+G64+7","v":55},29,100,{"$f":"(($I$63+$I$65+$I$67+$I$69+$I$71+$I$52)>0)*(I71=0)","v":0}]
[null,null,"Imagen","Resumen Cédula General_BS",{"$f":"E69+H69+7","v":346},{"$f":"F65+G65+7","v":55},29,100,{"$f":"(SUBSTITUTE(Botones_e_Imagenes[[#This Row],[Imagen]],\"_BS\",\"\")=Parametros[Segmento])*1","v":0}]
[]
[null,null,"Imagen","Cronometro",{"$f":"MAX(($E$74+$H$74)*$I$74,($E$76+$H$76)*$I$76,($E$77+H77)*$I$77,($E$5+$H$5)*$I$5,($E$2+$H$2)*$I$2)+30","v":897},{"$f":"$F$6","v":28},{"$f":"$G$6","v":43},{"$f":"Botones_e_Imagenes[[#This Row],[Height]]*3","v":129},{"$f":"IF(Parametros[Tipo]=1,1,0)","v":0}]
[null,{"$f":"IF(AND(Parametros[Tipo]<>0,Parametros[Tipo]<>\"\"),\"Esta sección no está disponible en la versión de prueba de Actualícese 210.xls.\n\nSi quieres realizar tu declaración de renta de personas naturales de forma rápida, adquiere nuestra herramienta ingresando a:\",\"\")","v":"Esta sección no está disponible en la versión de prueba de Actualícese 210.xls.\n\nSi quieres realizar tu declaración de renta de personas naturales de forma rápida, adquiere nuestra herramienta ingresando a:"},"Imagen","Exportar_PDF",{"$f":"$E$5+H5+20","v":568},{"$f":"F6","v":28},{"$f":"G6","v":43},160,{"$f":"IFERROR(OR(Parametros[Segmento]=$D$50,Parametros[Segmento]=$D$44,Parametros[Segmento]=$D$42,Parametros[Segmento]=$D$43,Parametros[Segmento]=$D$56)*1,0)","v":0}]
[null,null,"Imagen","Barra Horizontal",55,535,10,765,{"$f":"IFERROR((Parametros[Segmento]=\"Fondo_Menu\")*1+(Parametros[Segmento]=\"Cédula General\")*1,0)","v":1}]
[null,{"$f":"IF(Parametros[Tipo]=2,\"Esta sección no está disponible en la versión de prueba de Actualícese 210.xls.\n\nSi quieres realizar tu declaración de renta de personas naturales de forma rápida, adquiere nuestra herramienta ingresando a:\",\"\")","v":"Esta sección no está disponible en la versión de prueba de Actualícese 210.xls.\n\nSi quieres realizar tu declaración de renta de personas naturales de forma rápida, adquiere nuestra herramienta ingresando a:"},"Imagen","Ajustar_Filas",{"$f":"E5+H5+20","v":568},{"$f":"F6","v":28},{"$f":"G6","v":43},120,{"$f":"(COUNTIF(Bloques[Segmento],Parametros[Segmento])>0)*1","v":0}]
[null,null,"Imagen","Logo_Graficos",400,424,54,134,{"$f":"(Parametros[Segmento]=\"Gráficos\")*1","v":0}]
[]
[]
[]
["Segmento","Grupo","Bloque","Actuales","Temp","Con_Datos","Columna1","Columna2"]
["Activos","Activos","Efectivo",{"$f":"IF(Bloques[[#This Row],[Segmento]]=Parametros[Segmento],COUNTIFS(OFFSET(Ref_Segmento,Parametros[Fila]-1,0,Parametros[Alto]),Bloques[[#This Row],[Segmento]],OFFSET(Ref_Conteo,Parametros[Fila]-1,0,Parametros[Alto]),Bloques[[#This Row],[Bloque]],OFFSET(Ref_Conteo,Parametros[Fila]-1,-1,Parametros[Alto]),Bloques[[#This Row],[Grupo]])-1,0)","v":0},null,null,{"$f":"COUNTIFS(OFFSET(Ref_Segmento,1,0,10000),Bloques[[#This Row],[Segmento]],OFFSET(Ref_Conteo,1,0,10000),Bloques[[#This Row],[Bloque]],OFFSET(Ref_Conteo,1,-1,10000),Bloques[[#This Row],[Grupo]])-1","v":1},{"$f":"COUNTIFS(OFFSET(Ref_Segmento,1,0,10000),Bloques[[#This Row],[Segmento]],OFFSET(Ref_Conteo,1,0,10000),Bloques[[#This Row],[Bloque]],OFFSET(Ref_Conteo,1,-1,10000),Bloques[[#This Row],[Grupo]])","v":2}]
["Activos","Activos","Saldos en cuentas de ahorros",{"$f":"IF(Bloques[[#This Row],[Segmento]]=Parametros[Segmento],COUNTIFS(OFFSET(Ref_Segmento,Parametros[Fila]-1,0,Parametros[Alto]),Bloques[[#This Row],[Segmento]],OFFSET(Ref_Conteo,Parametros[Fila]-1,0,Parametros[Alto]),Bloques[[#This Row],[Bloque]],OFFSET(Ref_Conteo,Parametros[Fila]-1,-1,Parametros[Alto]),Bloques[[#This Row],[Grupo]])-1,0)","v":0},null,null,{"$f":"COUNTIFS(OFFSET(Ref_Segmento,1,0,10000),Bloques[[#This Row],[Segmento]],OFFSET(Ref_Conteo,1,0,10000),Bloques[[#This Row],[Bloque]],OFFSET(Ref_Conteo,1,-1,10000),Bloques[[#This Row],[Grupo]])-1","v":2},{"$f":"COUNTIFS(OFFSET(Ref_Segmento,1,0,10000),Bloques[[#This Row],[Segmento]],OFFSET(Ref_Conteo,1,0,10000),Bloques[[#This Row],[Bloque]],OFFSET(Ref_Conteo,1,-1,10000),Bloques[[#This Row],[Grupo]])","v":3}]
["Activos","Activos","Saldos en cuentas corrientes ",{"$f":"IF(Bloques[[#This Row],[Segmento]]=Parametros[Segmento],COUNTIFS(OFFSET(Ref_Segmento,Parametros[Fila]-1,0,Parametros[Alto]),Bloques[[#This Row],[Segmento]],OFFSET(Ref_Conteo,Parametros[Fila]-1,0,Parametros[Alto]),Bloques[[#This Row],[Bloque]],OFFSET(Ref_Conteo,Parametros[Fila]-1,-1,Parametros[Alto]),Bloques[[#This Row],[Grupo]])-1,0)","v":0},null,null,{"$f":"COUNTIFS(OFFSET(Ref_Segmento,1,0,10000),Bloques[[#This Row],[Segmento]],OFFSET(Ref_Conteo,1,0,10000),Bloques[[#This Row],[Bloque]],OFFSET(Ref_Conteo,1,-1,10000),Bloques[[#This Row],[Grupo]])-1","v":1},{"$f":"COUNTIFS(OFFSET(Ref_Segmento,1,0,10000),Bloques[[#This Row],[Segmento]],OFFSET(Ref_Conteo,1,0,10000),Bloques[[#This Row],[Bloque]],OFFSET(Ref_Conteo,1,-1,10000),Bloques[[#This Row],[Grupo]])","v":2}]
["Activos","Activos","Saldos en cuentas AFC ",{"$f":"IF(Bloques[[#This Row],[Segmento]]=Parametros[Segmento],COUNTIFS(OFFSET(Ref_Segmento,Parametros[Fila]-1,0,Parametros[Alto]),Bloques[[#This Row],[Segmento]],OFFSET(Ref_Conteo,Parametros[Fila]-1,0,Parametros[Alto]),Bloques[[#This Row],[Bloque]],OFFSET(Ref_Conteo,Parametros[Fila]-1,-1,Parametros[Alto]),Bloques[[#This Row],[Grupo]])-1,0)","v":0},null,null,{"$f":"COUNTIFS(OFFSET(Ref_Segmento,1,0,10000),Bloques[[#This Row],[Segmento]],OFFSET(Ref_Conteo,1,0,10000),Bloques[[#This Row],[Bloque]],OFFSET(Ref_Conteo,1,-1,10000),Bloques[[#This Row],[Grupo]])-1","v":1},{"$f":"COUNTIFS(OFFSET(Ref_Segmento,1,0,10000),Bloques[[#This Row],[Segmento]],OFFSET(Ref_Conteo,1,0,10000),Bloques[[#This Row],[Bloque]],OFFSET(Ref_Conteo,1,-1,10000),Bloques[[#This Row],[Grupo]])","v":2}]
["Activos","Activos","Saldos en fondos de pensiones voluntarias ",{"$f":"IF(Bloques[[#This Row],[Segmento]]=Parametros[Segmento],COUNTIFS(OFFSET(Ref_Segmento,Parametros[Fila]-1,0,Parametros[Alto]),Bloques[[#This Row],[Segmento]],OFFSET(Ref_Conteo,Parametros[Fila]-1,0,Parametros[Alto]),Bloques[[#This Row],[Bloque]],OFFSET(Ref_Conteo,Parametros[Fila]-1,-1,Parametros[Alto]),Bloques[[#This Row],[Grupo]])-1,0)","v":0},null,null,{"$f":"COUNTIFS(OFFSET(Ref_Segmento,1,0,10000),Bloques[[#This Row],[Segmento]],OFFSET(Ref_Conteo,1,0,10000),Bloques[[#This Row],[Bloque]],OFFSET(Ref_Conteo,1,-1,10000),Bloques[[#This Row],[Grupo]])-1","v":1},{"$f":"COUNTIFS(OFFSET(Ref_Segmento,1,0,10000),Bloques[[#This Row],[Segmento]],OFFSET(Ref_Conteo,1,0,10000),Bloques[[#This Row],[Bloque]],OFFSET(Ref_Conteo,1,-1,10000),Bloques[[#This Row],[Grupo]])","v":2}]
["Activos","Activos","Saldo acumulado en el fondo de cesantía a 31 de diciembre de 2022",{"$f":"IF(Bloques[[#This Row],[Segmento]]=Parametros[Segmento],COUNTIFS(OFFSET(Ref_Segmento,Parametros[Fila]-1,0,Parametros[Alto]),Bloques[[#This Row],[Segmento]],OFFSET(Ref_Conteo,Parametros[Fila]-1,0,Parametros[Alto]),Bloques[[#This Row],[Bloque]],OFFSET(Ref_Conteo,Parametros[Fila]-1,-1,Parametros[Alto]),Bloques[[#This Row],[Grupo]])-1,0)","v":0},null,null,{"$f":"COUNTIFS(OFFSET(Ref_Segmento,1,0,10000),Bloques[[#This Row],[Segmento]],OFFSET(Ref_Conteo,1,0,10000),Bloques[[#This Row],[Bloque]],OFFSET(Ref_Conteo,1,-1,10000),Bloques[[#This Row],[Grupo]])-1","v":1},{"$f":"COUNTIFS(OFFSET(Ref_Segmento,1,0,10000),Bloques[[#This Row],[Segmento]],OFFSET(Ref_Conteo,1,0,10000),Bloques[[#This Row],[Bloque]],OFFSET(Ref_Conteo,1,-1,10000),Bloques[[#This Row],[Grupo]])","v":2}]
["Activos","Activos","Otros activos del disponibles",{"$f":"IF(Bloques[[#This Row],[Segmento]]=Parametros[Segmento],COUNTIFS(OFFSET(Ref_Segmento,Parametros[Fila]-1,0,Parametros[Alto]),Bloques[[#This Row],[Segmento]],OFFSET(Ref_Conteo,Parametros[Fila]-1,0,Parametros[Alto]),Bloques[[#This Row],[Bloque]],OFFSET(Ref_Conteo,Parametros[Fila]-1,-1,Parametros[Alto]),Bloques[[#This Row],[Grupo]])-1,0)","v":0},null,null,{"$f":"COUNTIFS(OFFSET(Ref_Segmento,1,0,10000),Bloques[[#This Row],[Segmento]],OFFSET(Ref_Conteo,1,0,10000),Bloques[[#This Row],[Bloque]],OFFSET(Ref_Conteo,1,-1,10000),Bloques[[#This Row],[Grupo]])-1","v":1},{"$f":"COUNTIFS(OFFSET(Ref_Segmento,1,0,10000),Bloques[[#This Row],[Segmento]],OFFSET(Ref_Conteo,1,0,10000),Bloques[[#This Row],[Bloque]],OFFSET(Ref_Conteo,1,-1,10000),Bloques[[#This Row],[Grupo]])","v":2}]
["Activos","Activos","Fiducuentas ",{"$f":"IF(Bloques[[#This Row],[Segmento]]=Parametros[Segmento],COUNTIFS(OFFSET(Ref_Segmento,Parametros[Fila]-1,0,Parametros[Alto]),Bloques[[#This Row],[Segmento]],OFFSET(Ref_Conteo,Parametros[Fila]-1,0,Parametros[Alto]),Bloques[[#This Row],[Bloque]],OFFSET(Ref_Conteo,Parametros[Fila]-1,-1,Parametros[Alto]),Bloques[[#This Row],[Grupo]])-1,0)","v":0},null,null,{"$f":"COUNTIFS(OFFSET(Ref_Segmento,1,0,10000),Bloques[[#This Row],[Segmento]],OFFSET(Ref_Conteo,1,0,10000),Bloques[[#This Row],[Bloque]],OFFSET(Ref_Conteo,1,-1,10000),Bloques[[#This Row],[Grupo]])-1","v":1},{"$f":"COUNTIFS(OFFSET(Ref_Segmento,1,0,10000),Bloques[[#This Row],[Segmento]],OFFSET(Ref_Conteo,1,0,10000),Bloques[[#This Row],[Bloque]],OFFSET(Ref_Conteo,1,-1,10000),Bloques[[#This Row],[Grupo]])","v":2}]
["Activos","Activos","CDT y/o CDAT",{"$f":"IF(Bloques[[#This Row],[Segmento]]=Parametros[Segmento],COUNTIFS(OFFSET(Ref_Segmento,Parametros[Fila]-1,0,Parametros[Alto]),Bloques[[#This Row],[Segmento]],OFFSET(Ref_Conteo,Parametros[Fila]-1,0,Parametros[Alto]),Bloques[[#This Row],[Bloque]],OFFSET(Ref_Conteo,Parametros[Fila]-1,-1,Parametros[Alto]),Bloques[[#This Row],[Grupo]])-1,0)","v":0},null,null,{"$f":"COUNTIFS(OFFSET(Ref_Segmento,1,0,10000),Bloques[[#This Row],[Segmento]],OFFSET(Ref_Conteo,1,0,10000),Bloques[[#This Row],[Bloque]],OFFSET(Ref_Conteo,1,-1,10000),Bloques[[#This Row],[Grupo]])-1","v":1},{"$f":"COUNTIFS(OFFSET(Ref_Segmento,1,0,10000),Bloques[[#This Row],[Segmento]],OFFSET(Ref_Conteo,1,0,10000),Bloques[[#This Row],[Bloque]],OFFSET(Ref_Conteo,1,-1,10000),Bloques[[#This Row],[Grupo]])","v":2}]
["Activos","Activos","Inversiones en fondos ",{"$f":"IF(Bloques[[#This Row],[Segmento]]=Parametros[Segmento],COUNTIFS(OFFSET(Ref_Segmento,Parametros[Fila]-1,0,Parametros[Alto]),Bloques[[#This Row],[Segmento]],OFFSET(Ref_Conteo,Parametros[Fila]-1,0,Parametros[Alto]),Bloques[[#This Row],[Bloque]],OFFSET(Ref_Conteo,Parametros[Fila]-1,-1,Parametros[Alto]),Bloques[[#This Row],[Grupo]])-1,0)","v":0},null,null,{"$f":"COUNTIFS(OFFSET(Ref_Segmento,1,0,10000),Bloques[[#This Row],[Segmento]],OFFSET(Ref_Conteo,1,0,10000),Bloques[[#This Row],[Bloque]],OFFSET(Ref_Conteo,1,-1,10000),Bloques[[#This Row],[Grupo]])-1","v":1},{"$f":"COUNTIFS(OFFSET(Ref_Segmento,1,0,10000),Bloques[[#This Row],[Segmento]],OFFSET(Ref_Conteo,1,0,10000),Bloques[[#This Row],[Bloque]],OFFSET(Ref_Conteo,1,-1,10000),Bloques[[#This Row],[Grupo]])","v":2}]
["Activos","Activos","Otros ahorros e inversiones ",{"$f":"IF(Bloques[[#This Row],[Segmento]]=Parametros[Segmento],COUNTIFS(OFFSET(Ref_Segmento,Parametros[Fila]-1,0,Parametros[Alto]),Bloques[[#This Row],[Segmento]],OFFSET(Ref_Conteo,Parametros[Fila]-1,0,Parametros[Alto]),Bloques[[#This Row],[Bloque]],OFFSET(Ref_Conteo,Parametros[Fila]-1,-1,Parametros[Alto]),Bloques[[#This Row],[Grupo]])-1,0)","v":0},null,null,{"$f":"COUNTIFS(OFFSET(Ref_Segmento,1,0,10000),Bloques[[#This Row],[Segmento]],OFFSET(Ref_Conteo,1,0,10000),Bloques[[#This Row],[Bloque]],OFFSET(Ref_Conteo,1,-1,10000),Bloques[[#This Row],[Grupo]])-1","v":1},{"$f":"COUNTIFS(OFFSET(Ref_Segmento,1,0,10000),Bloques[[#This Row],[Segmento]],OFFSET(Ref_Conteo,1,0,10000),Bloques[[#This Row],[Bloque]],OFFSET(Ref_Conteo,1,-1,10000),Bloques[[#This Row],[Grupo]])","v":2}]
["Activos","Activos","Cuentas por cobrar a terceros ",{"$f":"IF(Bloques[[#This Row],[Segmento]]=Parametros[Segmento],COUNTIFS(OFFSET(Ref_Segmento,Parametros[Fila]-1,0,Parametros[Alto]),Bloques[[#This Row],[Segmento]],OFFSET(Ref_Conteo,Parametros[Fila]-1,0,Parametros[Alto]),Bloques[[#This Row],[Bloque]],OFFSET(Ref_Conteo,Parametros[Fila]-1,-1,Parametros[Alto]),Bloques[[#This Row],[Grupo]])-1,0)","v":0},null,null,{"$f":"COUNTIFS(OFFSET(Ref_Segmento,1,0,10000),Bloques[[#This Row],[Segmento]],OFFSET(Ref_Conteo,1,0,10000),Bloques[[#This Row],[Bloque]],OFFSET(Ref_Conteo,1,-1,10000),Bloques[[#This Row],[Grupo]])-1","v":1},{"$f":"COUNTIFS(OFFSET(Ref_Segmento,1,0,10000),Bloques[[#This Row],[Segmento]],OFFSET(Ref_Conteo,1,0,10000),Bloques[[#This Row],[Bloque]],OFFSET(Ref_Conteo,1,-1,10000),Bloques[[#This Row],[Grupo]])","v":2}]
["Activos","Activos","Otras cuentas por cobrar",{"$f":"IF(Bloques[[#This Row],[Segmento]]=Parametros[Segmento],COUNTIFS(OFFSET(Ref_Segmento,Parametros[Fila]-1,0,Parametros[Alto]),Bloques[[#This Row],[Segmento]],OFFSET(Ref_Conteo,Parametros[Fila]-1,0,Parametros[Alto]),Bloques[[#This Row],[Bloque]],OFFSET(Ref_Conteo,Parametros[Fila]-1,-1,Parametros[Alto]),Bloques[[#This Row],[Grupo]])-1,0)","v":0},null,null,{"$f":"COUNTIFS(OFFSET(Ref_Segmento,1,0,10000),Bloques[[#This Row],[Segmento]],OFFSET(Ref_Conteo,1,0,10000),Bloques[[#This Row],[Bloque]],OFFSET(Ref_Conteo,1,-1,10000),Bloques[[#This Row],[Grupo]])-1","v":1},{"$f":"COUNTIFS(OFFSET(Ref_Segmento,1,0,10000),Bloques[[#This Row],[Segmento]],OFFSET(Ref_Conteo,1,0,10000),Bloques[[#This Row],[Bloque]],OFFSET(Ref_Conteo,1,-1,10000),Bloques[[#This Row],[Grupo]])","v":2}]
["Activos","Activos","Inventarios ",{"$f":"IF(Bloques[[#This Row],[Segmento]]=Parametros[Segmento],COUNTIFS(OFFSET(Ref_Segmento,Parametros[Fila]-1,0,Parametros[Alto]),Bloques[[#This Row],[Segmento]],OFFSET(Ref_Conteo,Parametros[Fila]-1,0,Parametros[Alto]),Bloques[[#This Row],[Bloque]],OFFSET(Ref_Conteo,Parametros[Fila]-1,-1,Parametros[Alto]),Bloques[[#This Row],[Grupo]])-1,0)","v":0},null,null,{"$f":"COUNTIFS(OFFSET(Ref_Segmento,1,0,10000),Bloques[[#This Row],[Segmento]],OFFSET(Ref_Conteo,1,0,10000),Bloques[[#This Row],[Bloque]],OFFSET(Ref_Conteo,1,-1,10000),Bloques[[#This Row],[Grupo]])-1","v":1},{"$f":"COUNTIFS(OFFSET(Ref_Segmento,1,0,10000),Bloques[[#This Row],[Segmento]],OFFSET(Ref_Conteo,1,0,10000),Bloques[[#This Row],[Bloque]],OFFSET(Ref_Conteo,1,-1,10000),Bloques[[#This Row],[Grupo]])","v":2}]
["Activos","Activos","Muebles y enseres ",{"$f":"IF(Bloques[[#This Row],[Segmento]]=Parametros[Segmento],COUNTIFS(OFFSET(Ref_Segmento,Parametros[Fila]-1,0,Parametros[Alto]),Bloques[[#This Row],[Segmento]],OFFSET(Ref_Conteo,Parametros[Fila]-1,0,Parametros[Alto]),Bloques[[#This Row],[Bloque]],OFFSET(Ref_Conteo,Parametros[Fila]-1,-1,Parametros[Alto]),Bloques[[#This Row],[Grupo]])-1,0)","v":0},null,null,{"$f":"COUNTIFS(OFFSET(Ref_Segmento,1,0,10000),Bloques[[#This Row],[Segmento]],OFFSET(Ref_Conteo,1,0,10000),Bloques[[#This Row],[Bloque]],OFFSET(Ref_Conteo,1,-1,10000),Bloques[[#This Row],[Grupo]])-1","v":1},{"$f":"COUNTIFS(OFFSET(Ref_Segmento,1,0,10000),Bloques[[#This Row],[Segmento]],OFFSET(Ref_Conteo,1,0,10000),Bloques[[#This Row],[Bloque]],OFFSET(Ref_Conteo,1,-1,10000),Bloques[[#This Row],[Grupo]])","v":2}]
["Activos","Activos","Maquinaria y equipo ",{"$f":"IF(Bloques[[#This Row],[Segmento]]=Parametros[Segmento],COUNTIFS(OFFSET(Ref_Segmento,Parametros[Fila]-1,0,Parametros[Alto]),Bloques[[#This Row],[Segmento]],OFFSET(Ref_Conteo,Parametros[Fila]-1,0,Parametros[Alto]),Bloques[[#This Row],[Bloque]],OFFSET(Ref_Conteo,Parametros[Fila]-1,-1,Parametros[Alto]),Bloques[[#This Row],[Grupo]])-1,0)","v":0},null,null,{"$f":"COUNTIFS(OFFSET(Ref_Segmento,1,0,10000),Bloques[[#This Row],[Segmento]],OFFSET(Ref_Conteo,1,0,10000),Bloques[[#This Row],[Bloque]],OFFSET(Ref_Conteo,1,-1,10000),Bloques[[#This Row],[Grupo]])-1","v":1},{"$f":"COUNTIFS(OFFSET(Ref_Segmento,1,0,10000),Bloques[[#This Row],[Segmento]],OFFSET(Ref_Conteo,1,0,10000),Bloques[[#This Row],[Bloque]],OFFSET(Ref_Conteo,1,-1,10000),Bloques[[#This Row],[Grupo]])","v":2}]
["Activos","Activos","Otros bienes de propiedad, planta y equipo ",{"$f":"IF(Bloques[[#This Row],[Segmento]]=Parametros[Segmento],COUNTIFS(OFFSET(Ref_Segmento,Parametros[Fila]-1,0,Parametros[Alto]),Bloques[[#This Row],[Segmento]],OFFSET(Ref_Conteo,Parametros[Fila]-1,0,Parametros[Alto]),Bloques[[#This Row],[Bloque]],OFFSET(Ref_Conteo,Parametros[Fila]-1,-1,Parametros[Alto]),Bloques[[#This Row],[Grupo]])-1,0)","v":0},null,null,{"$f":"COUNTIFS(OFFSET(Ref_Segmento,1,0,10000),Bloques[[#This Row],[Segmento]],OFFSET(Ref_Conteo,1,0,10000),Bloques[[#This Row],[Bloque]],OFFSET(Ref_Conteo,1,-1,10000),Bloques[[#This Row],[Grupo]])-1","v":1},{"$f":"COUNTIFS(OFFSET(Ref_Segmento,1,0,10000),Bloques[[#This Row],[Segmento]],OFFSET(Ref_Conteo,1,0,10000),Bloques[[#This Row],[Bloque]],OFFSET(Ref_Conteo,1,-1,10000),Bloques[[#This Row],[Grupo]])","v":2}]
["Activos","Activos","Bienes intangibles ",{"$f":"IF(Bloques[[#This Row],[Segmento]]=Parametros[Segmento],COUNTIFS(OFFSET(Ref_Segmento,Parametros[Fila]-1,0,Parametros[Alto]),Bloques[[#This Row],[Segmento]],OFFSET(Ref_Conteo,Parametros[Fila]-1,0,Parametros[Alto]),Bloques[[#This Row],[Bloque]],OFFSET(Ref_Conteo,Parametros[Fila]-1,-1,Parametros[Alto]),Bloques[[#This Row],[Grupo]])-1,0)","v":0},null,null,{"$f":"COUNTIFS(OFFSET(Ref_Segmento,1,0,10000),Bloques[[#This Row],[Segmento]],OFFSET(Ref_Conteo,1,0,10000),Bloques[[#This Row],[Bloque]],OFFSET(Ref_Conteo,1,-1,10000),Bloques[[#This Row],[Grupo]])-1","v":1},{"$f":"COUNTIFS(OFFSET(Ref_Segmento,1,0,10000),Bloques[[#This Row],[Segmento]],OFFSET(Ref_Conteo,1,0,10000),Bloques[[#This Row],[Bloque]],OFFSET(Ref_Conteo,1,-1,10000),Bloques[[#This Row],[Grupo]])","v":2}]
["Activos","Activos","Criptomonedas ",{"$f":"IF(Bloques[[#This Row],[Segmento]]=Parametros[Segmento],COUNTIFS(OFFSET(Ref_Segmento,Parametros[Fila]-1,0,Parametros[Alto]),Bloques[[#This Row],[Segmento]],OFFSET(Ref_Conteo,Parametros[Fila]-1,0,Parametros[Alto]),Bloques[[#This Row],[Bloque]],OFFSET(Ref_Conteo,Parametros[Fila]-1,-1,Parametros[Alto]),Bloques[[#This Row],[Grupo]])-1,0)","v":0},null,null,{"$f":"COUNTIFS(OFFSET(Ref_Segmento,1,0,10000),Bloques[[#This Row],[Segmento]],OFFSET(Ref_Conteo,1,0,10000),Bloques[[#This Row],[Bloque]],OFFSET(Ref_Conteo,1,-1,10000),Bloques[[#This Row],[Grupo]])-1","v":1},{"$f":"COUNTIFS(OFFSET(Ref_Segmento,1,0,10000),Bloques[[#This Row],[Segmento]],OFFSET(Ref_Conteo,1,0,10000),Bloques[[#This Row],[Bloque]],OFFSET(Ref_Conteo,1,-1,10000),Bloques[[#This Row],[Grupo]])","v":2}]
["Activos","Activos","Otros bienes",{"$f":"IF(Bloques[[#This Row],[Segmento]]=Parametros[Segmento],COUNTIFS(OFFSET(Ref_Segmento,Parametros[Fila]-1,0,Parametros[Alto]),Bloques[[#This Row],[Segmento]],OFFSET(Ref_Conteo,Parametros[Fila]-1,0,Parametros[Alto]),Bloques[[#This Row],[Bloque]],OFFSET(Ref_Conteo,Parametros[Fila]-1,-1,Parametros[Alto]),Bloques[[#This Row],[Grupo]])-1,0)","v":0},null,null,{"$f":"COUNTIFS(OFFSET(Ref_Segmento,1,0,10000),Bloques[[#This Row],[Segmento]],OFFSET(Ref_Conteo,1,0,10000),Bloques[[#This Row],[Bloque]],OFFSET(Ref_Conteo,1,-1,10000),Bloques[[#This Row],[Grupo]])-1","v":1},{"$f":"COUNTIFS(OFFSET(Ref_Segmento,1,0,10000),Bloques[[#This Row],[Segmento]],OFFSET(Ref_Conteo,1,0,10000),Bloques[[#This Row],[Bloque]],OFFSET(Ref_Conteo,1,-1,10000),Bloques[[#This Row],[Grupo]])","v":2}]
["Descuentos Tributarios","Descuentos Tributarios","Impuestos pagados en el exterior ",{"$f":"IF(Bloques[[#This Row],[Segmento]]=Parametros[Segmento],COUNTIFS(OFFSET(Ref_Segmento,Parametros[Fila]-1,0,Parametros[Alto]),Bloques[[#This Row],[Segmento]],OFFSET(Ref_Conteo,Parametros[Fila]-1,0,Parametros[Alto]),Bloques[[#This Row],[Bloque]],OFFSET(Ref_Conteo,Parametros[Fila]-1,-1,Parametros[Alto]),Bloques[[#This Row],[Grupo]])-1,0)","v":0},null,null,{"$f":"COUNTIFS(OFFSET(Ref_Segmento,1,0,10000),Bloques[[#This Row],[Segmento]],OFFSET(Ref_Conteo,1,0,10000),Bloques[[#This Row],[Bloque]],OFFSET(Ref_Conteo,1,-1,10000),Bloques[[#This Row],[Grupo]])-1","v":1},{"$f":"COUNTIFS(OFFSET(Ref_Segmento,1,0,10000),Bloques[[#This Row],[Segmento]],OFFSET(Ref_Conteo,1,0,10000),Bloques[[#This Row],[Bloque]],OFFSET(Ref_Conteo,1,-1,10000),Bloques[[#This Row],[Grupo]])","v":2}]
["Descuentos Tributarios","Descuentos Tributarios"," Impuestos pagados  en el exterior por rentas pasivas - ECE ",{"$f":"IF(Bloques[[#This Row],[Segmento]]=Parametros[Segmento],COUNTIFS(OFFSET(Ref_Segmento,Parametros[Fila]-1,0,Parametros[Alto]),Bloques[[#This Row],[Segmento]],OFFSET(Ref_Conteo,Parametros[Fila]-1,0,Parametros[Alto]),Bloques[[#This Row],[Bloque]],OFFSET(Ref_Conteo,Parametros[Fila]-1,-1,Parametros[Alto]),Bloques[[#This Row],[Grupo]])-1,0)","v":0},null,null,{"$f":"COUNTIFS(OFFSET(Ref_Segmento,1,0,10000),Bloques[[#This Row],[Segmento]],OFFSET(Ref_Conteo,1,0,10000),Bloques[[#This Row],[Bloque]],OFFSET(Ref_Conteo,1,-1,10000),Bloques[[#This Row],[Grupo]])-1","v":1},{"$f":"COUNTIFS(OFFSET(Ref_Segmento,1,0,10000),Bloques[[#This Row],[Segmento]],OFFSET(Ref_Conteo,1,0,10000),Bloques[[#This Row],[Bloque]],OFFSET(Ref_Conteo,1,-1,10000),Bloques[[#This Row],[Grupo]])","v":2}]
["Descuentos Tributarios","Descuentos Tributarios","Impuesto pagados en el exterior por ganancias ocasionales",{"$f":"IF(Bloques[[#This Row],[Segmento]]=Parametros[Segmento],COUNTIFS(OFFSET(Ref_Segmento,Parametros[Fila]-1,0,Parametros[Alto]),Bloques[[#This Row],[Segmento]],OFFSET(Ref_Conteo,Parametros[Fila]-1,0,Parametros[Alto]),Bloques[[#This Row],[Bloque]],OFFSET(Ref_Conteo,Parametros[Fila]-1,-1,Parametros[Alto]),Bloques[[#This Row],[Grupo]])-1,0)","v":0},null,null,{"$f":"COUNTIFS(OFFSET(Ref_Segmento,1,0,10000),Bloques[[#This Row],[Segmento]],OFFSET(Ref_Conteo,1,0,10000),Bloques[[#This Row],[Bloque]],OFFSET(Ref_Conteo,1,-1,10000),Bloques[[#This Row],[Grupo]])-1","v":1},{"$f":"COUNTIFS(OFFSET(Ref_Segmento,1,0,10000),Bloques[[#This Row],[Segmento]],OFFSET(Ref_Conteo,1,0,10000),Bloques[[#This Row],[Bloque]],OFFSET(Ref_Conteo,1,-1,10000),Bloques[[#This Row],[Grupo]])","v":2}]
["Deudas","Deudas","Tarjetas de crédito ",{"$f":"IF(Bloques[[#This Row],[Segmento]]=Parametros[Segmento],COUNTIFS(OFFSET(Ref_Segmento,Parametros[Fila]-1,0,Parametros[Alto]),Bloques[[#This Row],[Segmento]],OFFSET(Ref_Conteo,Parametros[Fila]-1,0,Parametros[Alto]),Bloques[[#This Row],[Bloque]],OFFSET(Ref_Conteo,Parametros[Fila]-1,-1,Parametros[Alto]),Bloques[[#This Row],[Grupo]])-1,0)","v":0},null,null,{"$f":"COUNTIFS(OFFSET(Ref_Segmento,1,0,10000),Bloques[[#This Row],[Segmento]],OFFSET(Ref_Conteo,1,0,10000),Bloques[[#This Row],[Bloque]],OFFSET(Ref_Conteo,1,-1,10000),Bloques[[#This Row],[Grupo]])-1","v":1},{"$f":"COUNTIFS(OFFSET(Ref_Segmento,1,0,10000),Bloques[[#This Row],[Segmento]],OFFSET(Ref_Conteo,1,0,10000),Bloques[[#This Row],[Bloque]],OFFSET(Ref_Conteo,1,-1,10000),Bloques[[#This Row],[Grupo]])","v":2}]
["Deudas","Deudas","Créditos con entidades financieras ",{"$f":"IF(Bloques[[#This Row],[Segmento]]=Parametros[Segmento],COUNTIFS(OFFSET(Ref_Segmento,Parametros[Fila]-1,0,Parametros[Alto]),Bloques[[#This Row],[Segmento]],OFFSET(Ref_Conteo,Parametros[Fila]-1,0,Parametros[Alto]),Bloques[[#This Row],[Bloque]],OFFSET(Ref_Conteo,Parametros[Fila]-1,-1,Parametros[Alto]),Bloques[[#This Row],[Grupo]])-1,0)","v":0},null,null,{"$f":"COUNTIFS(OFFSET(Ref_Segmento,1,0,10000),Bloques[[#This Row],[Segmento]],OFFSET(Ref_Conteo,1,0,10000),Bloques[[#This Row],[Bloque]],OFFSET(Ref_Conteo,1,-1,10000),Bloques[[#This Row],[Grupo]])-1","v":1},{"$f":"COUNTIFS(OFFSET(Ref_Segmento,1,0,10000),Bloques[[#This Row],[Segmento]],OFFSET(Ref_Conteo,1,0,10000),Bloques[[#This Row],[Bloque]],OFFSET(Ref_Conteo,1,-1,10000),Bloques[[#This Row],[Grupo]])","v":2}]
["Deudas","Deudas","Créditos con cooperativas ",{"$f":"IF(Bloques[[#This Row],[Segmento]]=Parametros[Segmento],COUNTIFS(OFFSET(Ref_Segmento,Parametros[Fila]-1,0,Parametros[Alto]),Bloques[[#This Row],[Segmento]],OFFSET(Ref_Conteo,Parametros[Fila]-1,0,Parametros[Alto]),Bloques[[#This Row],[Bloque]],OFFSET(Ref_Conteo,Parametros[Fila]-1,-1,Parametros[Alto]),Bloques[[#This Row],[Grupo]])-1,0)","v":0},null,null,{"$f":"COUNTIFS(OFFSET(Ref_Segmento,1,0,10000),Bloques[[#This Row],[Segmento]],OFFSET(Ref_Conteo,1,0,10000),Bloques[[#This Row],[Bloque]],OFFSET(Ref_Conteo,1,-1,10000),Bloques[[#This Row],[Grupo]])-1","v":1},{"$f":"COUNTIFS(OFFSET(Ref_Segmento,1,0,10000),Bloques[[#This Row],[Segmento]],OFFSET(Ref_Conteo,1,0,10000),Bloques[[#This Row],[Bloque]],OFFSET(Ref_Conteo,1,-1,10000),Bloques[[#This Row],[Grupo]])","v":2}]
["Deudas","Deudas","Cuentas por pagar a particulares ",{"$f":"IF(Bloques[[#This Row],[Segmento]]=Parametros[Segmento],COUNTIFS(OFFSET(Ref_Segmento,Parametros[Fila]-1,0,Parametros[Alto]),Bloques[[#This Row],[Segmento]],OFFSET(Ref_Conteo,Parametros[Fila]-1,0,Parametros[Alto]),Bloques[[#This Row],[Bloque]],OFFSET(Ref_Conteo,Parametros[Fila]-1,-1,Parametros[Alto]),Bloques[[#This Row],[Grupo]])-1,0)","v":0},null,null,{"$f":"COUNTIFS(OFFSET(Ref_Segmento,1,0,10000),Bloques[[#This Row],[Segmento]],OFFSET(Ref_Conteo,1,0,10000),Bloques[[#This Row],[Bloque]],OFFSET(Ref_Conteo,1,-1,10000),Bloques[[#This Row],[Grupo]])-1","v":1},{"$f":"COUNTIFS(OFFSET(Ref_Segmento,1,0,10000),Bloques[[#This Row],[Segmento]],OFFSET(Ref_Conteo,1,0,10000),Bloques[[#This Row],[Bloque]],OFFSET(Ref_Conteo,1,-1,10000),Bloques[[#This Row],[Grupo]])","v":2}]
["Deudas","Deudas","Impuesto por pagar ",{"$f":"IF(Bloques[[#This Row],[Segmento]]=Parametros[Segmento],COUNTIFS(OFFSET(Ref_Segmento,Parametros[Fila]-1,0,Parametros[Alto]),Bloques[[#This Row],[Segmento]],OFFSET(Ref_Conteo,Parametros[Fila]-1,0,Parametros[Alto]),Bloques[[#This Row],[Bloque]],OFFSET(Ref_Conteo,Parametros[Fila]-1,-1,Parametros[Alto]),Bloques[[#This Row],[Grupo]])-1,0)","v":0},null,null,{"$f":"COUNTIFS(OFFSET(Ref_Segmento,1,0,10000),Bloques[[#This Row],[Segmento]],OFFSET(Ref_Conteo,1,0,10000),Bloques[[#This Row],[Bloque]],OFFSET(Ref_Conteo,1,-1,10000),Bloques[[#This Row],[Grupo]])-1","v":1},{"$f":"COUNTIFS(OFFSET(Ref_Segmento,1,0,10000),Bloques[[#This Row],[Segmento]],OFFSET(Ref_Conteo,1,0,10000),Bloques[[#This Row],[Bloque]],OFFSET(Ref_Conteo,1,-1,10000),Bloques[[#This Row],[Grupo]])","v":2}]
["Deudas","Deudas","Otros pasivos ",{"$f":"IF(Bloques[[#This Row],[Segmento]]=Parametros[Segmento],COUNTIFS(OFFSET(Ref_Segmento,Parametros[Fila]-1,0,Parametros[Alto]),Bloques[[#This Row],[Segmento]],OFFSET(Ref_Conteo,Parametros[Fila]-1,0,Parametros[Alto]),Bloques[[#This Row],[Bloque]],OFFSET(Ref_Conteo,Parametros[Fila]-1,-1,Parametros[Alto]),Bloques[[#This Row],[Grupo]])-1,0)","v":0},null,null,{"$f":"COUNTIFS(OFFSET(Ref_Segmento,1,0,10000),Bloques[[#This Row],[Segmento]],OFFSET(Ref_Conteo,1,0,10000),Bloques[[#This Row],[Bloque]],OFFSET(Ref_Conteo,1,-1,10000),Bloques[[#This Row],[Grupo]])-1","v":1},{"$f":"COUNTIFS(OFFSET(Ref_Segmento,1,0,10000),Bloques[[#This Row],[Segmento]],OFFSET(Ref_Conteo,1,0,10000),Bloques[[#This Row],[Bloque]],OFFSET(Ref_Conteo,1,-1,10000),Bloques[[#This Row],[Grupo]])","v":2}]
["Info. Activos Ext.","Info. Activos Ext.","Información de los activos poseídos en el exterior por el contribuyente",{"$f":"IF(Bloques[[#This Row],[Segmento]]=Parametros[Segmento],COUNTIFS(OFFSET(Ref_Segmento,Parametros[Fila]-1,0,Parametros[Alto]),Bloques[[#This Row],[Segmento]],OFFSET(Ref_Conteo,Parametros[Fila]-1,0,Parametros[Alto]),Bloques[[#This Row],[Bloque]],OFFSET(Ref_Conteo,Parametros[Fila]-1,-1,Parametros[Alto]),Bloques[[#This Row],[Grupo]])-1,0)","v":0},20,0,{"$f":"COUNTIFS(OFFSET(Ref_Segmento,1,0,10000),Bloques[[#This Row],[Segmento]],OFFSET(Ref_Conteo,1,0,10000),Bloques[[#This Row],[Bloque]],OFFSET(Ref_Conteo,1,-1,10000),Bloques[[#This Row],[Grupo]])-1","v":20},{"$f":"COUNTIFS(OFFSET(Ref_Segmento,1,0,10000),Bloques[[#This Row],[Segmento]],OFFSET(Ref_Conteo,1,0,10000),Bloques[[#This Row],[Bloque]],OFFSET(Ref_Conteo,1,-1,10000),Bloques[[#This Row],[Grupo]])","v":21}]
["Intereses Presuntivos","Intereses Presuntivos","Préstamos vigentes en el 2022",{"$f":"IF(Bloques[[#This Row],[Segmento]]=Parametros[Segmento],COUNTIFS(OFFSET(Ref_Segmento,Parametros[Fila]-1,0,Parametros[Alto]),Bloques[[#This Row],[Segmento]],OFFSET(Ref_Conteo,Parametros[Fila]-1,0,Parametros[Alto]),Bloques[[#This Row],[Bloque]],OFFSET(Ref_Conteo,Parametros[Fila]-1,-1,Parametros[Alto]),Bloques[[#This Row],[Grupo]])-1,0)","v":0},null,null,{"$f":"COUNTIFS(OFFSET(Ref_Segmento,1,0,10000),Bloques[[#This Row],[Segmento]],OFFSET(Ref_Conteo,1,0,10000),Bloques[[#This Row],[Bloque]],OFFSET(Ref_Conteo,1,-1,10000),Bloques[[#This Row],[Grupo]])-1","v":1},{"$f":"COUNTIFS(OFFSET(Ref_Segmento,1,0,10000),Bloques[[#This Row],[Segmento]],OFFSET(Ref_Conteo,1,0,10000),Bloques[[#This Row],[Bloque]],OFFSET(Ref_Conteo,1,-1,10000),Bloques[[#This Row],[Grupo]])","v":2}]
["Reajuste fiscal de los activos","Reajuste fiscal de los activos","Acciones y/o aportes sociales poseídos a 31 de diciembre de 2022",{"$f":"IF(Bloques[[#This Row],[Segmento]]=Parametros[Segmento],COUNTIFS(OFFSET(Ref_Segmento,Parametros[Fila]-1,0,Parametros[Alto]),Bloques[[#This Row],[Segmento]],OFFSET(Ref_Conteo,Parametros[Fila]-1,0,Parametros[Alto]),Bloques[[#This Row],[Bloque]],OFFSET(Ref_Conteo,Parametros[Fila]-1,-1,Parametros[Alto]),Bloques[[#This Row],[Grupo]])-1,0)","v":0},null,null,{"$f":"COUNTIFS(OFFSET(Ref_Segmento,1,0,10000),Bloques[[#This Row],[Segmento]],OFFSET(Ref_Conteo,1,0,10000),Bloques[[#This Row],[Bloque]],OFFSET(Ref_Conteo,1,-1,10000),Bloques[[#This Row],[Grupo]])-1","v":1},{"$f":"COUNTIFS(OFFSET(Ref_Segmento,1,0,10000),Bloques[[#This Row],[Segmento]],OFFSET(Ref_Conteo,1,0,10000),Bloques[[#This Row],[Bloque]],OFFSET(Ref_Conteo,1,-1,10000),Bloques[[#This Row],[Grupo]])","v":2}]
["Reajuste fiscal de los activos","Reajuste fiscal de los activos","Vehículos (carros, motocicletas, camionetas, etc.) poseídos a 31 de diciembre de 2022",{"$f":"IF(Bloques[[#This Row],[Segmento]]=Parametros[Segmento],COUNTIFS(OFFSET(Ref_Segmento,Parametros[Fila]-1,0,Parametros[Alto]),Bloques[[#This Row],[Segmento]],OFFSET(Ref_Conteo,Parametros[Fila]-1,0,Parametros[Alto]),Bloques[[#This Row],[Bloque]],OFFSET(Ref_Conteo,Parametros[Fila]-1,-1,Parametros[Alto]),Bloques[[#This Row],[Grupo]])-1,0)","v":0},null,null,{"$f":"COUNTIFS(OFFSET(Ref_Segmento,1,0,10000),Bloques[[#This Row],[Segmento]],OFFSET(Ref_Conteo,1,0,10000),Bloques[[#This Row],[Bloque]],OFFSET(Ref_Conteo,1,-1,10000),Bloques[[#This Row],[Grupo]])-1","v":1},{"$f":"COUNTIFS(OFFSET(Ref_Segmento,1,0,10000),Bloques[[#This Row],[Segmento]],OFFSET(Ref_Conteo,1,0,10000),Bloques[[#This Row],[Bloque]],OFFSET(Ref_Conteo,1,-1,10000),Bloques[[#This Row],[Grupo]])","v":2}]
["Reajuste fiscal de los activos","Reajuste fiscal de los activos","Bienes inmuebles poseídos a 31 de diciembre de 2022",{"$f":"IF(Bloques[[#This Row],[Segmento]]=Parametros[Segmento],COUNTIFS(OFFSET(Ref_Segmento,Parametros[Fila]-1,0,Parametros[Alto]),Bloques[[#This Row],[Segmento]],OFFSET(Ref_Conteo,Parametros[Fila]-1,0,Parametros[Alto]),Bloques[[#This Row],[Bloque]],OFFSET(Ref_Conteo,Parametros[Fila]-1,-1,Parametros[Alto]),Bloques[[#This Row],[Grupo]])-1,0)","v":0},null,null,{"$f":"COUNTIFS(OFFSET(Ref_Segmento,1,0,10000),Bloques[[#This Row],[Segmento]],OFFSET(Ref_Conteo,1,0,10000),Bloques[[#This Row],[Bloque]],OFFSET(Ref_Conteo,1,-1,10000),Bloques[[#This Row],[Grupo]])-1","v":1},{"$f":"COUNTIFS(OFFSET(Ref_Segmento,1,0,10000),Bloques[[#This Row],[Segmento]],OFFSET(Ref_Conteo,1,0,10000),Bloques[[#This Row],[Bloque]],OFFSET(Ref_Conteo,1,-1,10000),Bloques[[#This Row],[Grupo]])","v":2}]
["RentaHonorariosServicios","RentaHonorariosServicios","Honorarios ",{"$f":"IF(Bloques[[#This Row],[Segmento]]=Parametros[Segmento],COUNTIFS(OFFSET(Ref_Segmento,Parametros[Fila]-1,0,Parametros[Alto]),Bloques[[#This Row],[Segmento]],OFFSET(Ref_Conteo,Parametros[Fila]-1,0,Parametros[Alto]),Bloques[[#This Row],[Bloque]],OFFSET(Ref_Conteo,Parametros[Fila]-1,-1,Parametros[Alto]),Bloques[[#This Row],[Grupo]])-1,0)","v":0},null,null,{"$f":"COUNTIFS(OFFSET(Ref_Segmento,1,0,10000),Bloques[[#This Row],[Segmento]],OFFSET(Ref_Conteo,1,0,10000),Bloques[[#This Row],[Bloque]],OFFSET(Ref_Conteo,1,-1,10000),Bloques[[#This Row],[Grupo]])-1","v":1},{"$f":"COUNTIFS(OFFSET(Ref_Segmento,1,0,10000),Bloques[[#This Row],[Segmento]],OFFSET(Ref_Conteo,1,0,10000),Bloques[[#This Row],[Bloque]],OFFSET(Ref_Conteo,1,-1,10000),Bloques[[#This Row],[Grupo]])","v":2}]
["RentaHonorariosServicios","RentaHonorariosServicios","Compensación de servicios personales ",{"$f":"IF(Bloques[[#This Row],[Segmento]]=Parametros[Segmento],COUNTIFS(OFFSET(Ref_Segmento,Parametros[Fila]-1,0,Parametros[Alto]),Bloques[[#This Row],[Segmento]],OFFSET(Ref_Conteo,Parametros[Fila]-1,0,Parametros[Alto]),Bloques[[#This Row],[Bloque]],OFFSET(Ref_Conteo,Parametros[Fila]-1,-1,Parametros[Alto]),Bloques[[#This Row],[Grupo]])-1,0)","v":0},null,null,{"$f":"COUNTIFS(OFFSET(Ref_Segmento,1,0,10000),Bloques[[#This Row],[Segmento]],OFFSET(Ref_Conteo,1,0,10000),Bloques[[#This Row],[Bloque]],OFFSET(Ref_Conteo,1,-1,10000),Bloques[[#This Row],[Grupo]])-1","v":1},{"$f":"COUNTIFS(OFFSET(Ref_Segmento,1,0,10000),Bloques[[#This Row],[Segmento]],OFFSET(Ref_Conteo,1,0,10000),Bloques[[#This Row],[Bloque]],OFFSET(Ref_Conteo,1,-1,10000),Bloques[[#This Row],[Grupo]])","v":2}]
["RentaHonorariosServicios","RentaHonorariosServicios","Comisiones",{"$f":"IF(Bloques[[#This Row],[Segmento]]=Parametros[Segmento],COUNTIFS(OFFSET(Ref_Segmento,Parametros[Fila]-1,0,Parametros[Alto]),Bloques[[#This Row],[Segmento]],OFFSET(Ref_Conteo,Parametros[Fila]-1,0,Parametros[Alto]),Bloques[[#This Row],[Bloque]],OFFSET(Ref_Conteo,Parametros[Fila]-1,-1,Parametros[Alto]),Bloques[[#This Row],[Grupo]])-1,0)","v":0},null,null,{"$f":"COUNTIFS(OFFSET(Ref_Segmento,1,0,10000),Bloques[[#This Row],[Segmento]],OFFSET(Ref_Conteo,1,0,10000),Bloques[[#This Row],[Bloque]],OFFSET(Ref_Conteo,1,-1,10000),Bloques[[#This Row],[Grupo]])-1","v":1},{"$f":"COUNTIFS(OFFSET(Ref_Segmento,1,0,10000),Bloques[[#This Row],[Segmento]],OFFSET(Ref_Conteo,1,0,10000),Bloques[[#This Row],[Bloque]],OFFSET(Ref_Conteo,1,-1,10000),Bloques[[#This Row],[Grupo]])","v":2}]
["Rentas de Trabajo","Rentas de Trabajo","Honorarios ",{"$f":"IF(Bloques[[#This Row],[Segmento]]=Parametros[Segmento],COUNTIFS(OFFSET(Ref_Segmento,Parametros[Fila]-1,0,Parametros[Alto]),Bloques[[#This Row],[Segmento]],OFFSET(Ref_Conteo,Parametros[Fila]-1,0,Parametros[Alto]),Bloques[[#This Row],[Bloque]],OFFSET(Ref_Conteo,Parametros[Fila]-1,-1,Parametros[Alto]),Bloques[[#This Row],[Grupo]])-1,0)","v":0},null,null,{"$f":"COUNTIFS(OFFSET(Ref_Segmento,1,0,10000),Bloques[[#This Row],[Segmento]],OFFSET(Ref_Conteo,1,0,10000),Bloques[[#This Row],[Bloque]],OFFSET(Ref_Conteo,1,-1,10000),Bloques[[#This Row],[Grupo]])-1","v":1},{"$f":"COUNTIFS(OFFSET(Ref_Segmento,1,0,10000),Bloques[[#This Row],[Segmento]],OFFSET(Ref_Conteo,1,0,10000),Bloques[[#This Row],[Bloque]],OFFSET(Ref_Conteo,1,-1,10000),Bloques[[#This Row],[Grupo]])","v":2}]
["Rentas de Trabajo","Rentas de Trabajo","Compensación de servicios personales ",{"$f":"IF(Bloques[[#This Row],[Segmento]]=Parametros[Segmento],COUNTIFS(OFFSET(Ref_Segmento,Parametros[Fila]-1,0,Parametros[Alto]),Bloques[[#This Row],[Segmento]],OFFSET(Ref_Conteo,Parametros[Fila]-1,0,Parametros[Alto]),Bloques[[#This Row],[Bloque]],OFFSET(Ref_Conteo,Parametros[Fila]-1,-1,Parametros[Alto]),Bloques[[#This Row],[Grupo]])-1,0)","v":0},null,null,{"$f":"COUNTIFS(OFFSET(Ref_Segmento,1,0,10000),Bloques[[#This Row],[Segmento]],OFFSET(Ref_Conteo,1,0,10000),Bloques[[#This Row],[Bloque]],OFFSET(Ref_Conteo,1,-1,10000),Bloques[[#This Row],[Grupo]])-1","v":1},{"$f":"COUNTIFS(OFFSET(Ref_Segmento,1,0,10000),Bloques[[#This Row],[Segmento]],OFFSET(Ref_Conteo,1,0,10000),Bloques[[#This Row],[Bloque]],OFFSET(Ref_Conteo,1,-1,10000),Bloques[[#This Row],[Grupo]])","v":2}]
["Rentas de Trabajo","Rentas de Trabajo","Comisiones",{"$f":"IF(Bloques[[#This Row],[Segmento]]=Parametros[Segmento],COUNTIFS(OFFSET(Ref_Segmento,Parametros[Fila]-1,0,Parametros[Alto]),Bloques[[#This Row],[Segmento]],OFFSET(Ref_Conteo,Parametros[Fila]-1,0,Parametros[Alto]),Bloques[[#This Row],[Bloque]],OFFSET(Ref_Conteo,Parametros[Fila]-1,-1,Parametros[Alto]),Bloques[[#This Row],[Grupo]])-1,0)","v":0},null,null,{"$f":"COUNTIFS(OFFSET(Ref_Segmento,1,0,10000),Bloques[[#This Row],[Segmento]],OFFSET(Ref_Conteo,1,0,10000),Bloques[[#This Row],[Bloque]],OFFSET(Ref_Conteo,1,-1,10000),Bloques[[#This Row],[Grupo]])-1","v":1},{"$f":"COUNTIFS(OFFSET(Ref_Segmento,1,0,10000),Bloques[[#This Row],[Segmento]],OFFSET(Ref_Conteo,1,0,10000),Bloques[[#This Row],[Bloque]],OFFSET(Ref_Conteo,1,-1,10000),Bloques[[#This Row],[Grupo]])","v":2}]
["Retenciones","Retenciones","Retenciones en la fuente por Ingresos Ordinarios",{"$f":"IF(Bloques[[#This Row],[Segmento]]=Parametros[Segmento],COUNTIFS(OFFSET(Ref_Segmento,Parametros[Fila]-1,0,Parametros[Alto]),Bloques[[#This Row],[Segmento]],OFFSET(Ref_Conteo,Parametros[Fila]-1,0,Parametros[Alto]),Bloques[[#This Row],[Bloque]],OFFSET(Ref_Conteo,Parametros[Fila]-1,-1,Parametros[Alto]),Bloques[[#This Row],[Grupo]])-1,0)","v":0},null,null,{"$f":"COUNTIFS(OFFSET(Ref_Segmento,1,0,10000),Bloques[[#This Row],[Segmento]],OFFSET(Ref_Conteo,1,0,10000),Bloques[[#This Row],[Bloque]],OFFSET(Ref_Conteo,1,-1,10000),Bloques[[#This Row],[Grupo]])-1","v":1},{"$f":"COUNTIFS(OFFSET(Ref_Segmento,1,0,10000),Bloques[[#This Row],[Segmento]],OFFSET(Ref_Conteo,1,0,10000),Bloques[[#This Row],[Bloque]],OFFSET(Ref_Conteo,1,-1,10000),Bloques[[#This Row],[Grupo]])","v":2}]
["Retenciones","Retenciones","Retenciones en la fuente por Ganancias Ocasionales",{"$f":"IF(Bloques[[#This Row],[Segmento]]=Parametros[Segmento],COUNTIFS(OFFSET(Ref_Segmento,Parametros[Fila]-1,0,Parametros[Alto]),Bloques[[#This Row],[Segmento]],OFFSET(Ref_Conteo,Parametros[Fila]-1,0,Parametros[Alto]),Bloques[[#This Row],[Bloque]],OFFSET(Ref_Conteo,Parametros[Fila]-1,-1,Parametros[Alto]),Bloques[[#This Row],[Grupo]])-1,0)","v":0},null,null,{"$f":"COUNTIFS(OFFSET(Ref_Segmento,1,0,10000),Bloques[[#This Row],[Segmento]],OFFSET(Ref_Conteo,1,0,10000),Bloques[[#This Row],[Bloque]],OFFSET(Ref_Conteo,1,-1,10000),Bloques[[#This Row],[Grupo]])-1","v":1},{"$f":"COUNTIFS(OFFSET(Ref_Segmento,1,0,10000),Bloques[[#This Row],[Segmento]],OFFSET(Ref_Conteo,1,0,10000),Bloques[[#This Row],[Bloque]],OFFSET(Ref_Conteo,1,-1,10000),Bloques[[#This Row],[Grupo]])","v":2}]
["Subcapitalización","Subcapitalización","Préstamos vigentes en el 2022",{"$f":"IF(Bloques[[#This Row],[Segmento]]=Parametros[Segmento],COUNTIFS(OFFSET(Ref_Segmento,Parametros[Fila]-1,0,Parametros[Alto]),Bloques[[#This Row],[Segmento]],OFFSET(Ref_Conteo,Parametros[Fila]-1,0,Parametros[Alto]),Bloques[[#This Row],[Bloque]],OFFSET(Ref_Conteo,Parametros[Fila]-1,-1,Parametros[Alto]),Bloques[[#This Row],[Grupo]])-1,0)","v":0},null,null,{"$f":"COUNTIFS(OFFSET(Ref_Segmento,1,0,10000),Bloques[[#This Row],[Segmento]],OFFSET(Ref_Conteo,1,0,10000),Bloques[[#This Row],[Bloque]],OFFSET(Ref_Conteo,1,-1,10000),Bloques[[#This Row],[Grupo]])-1","v":1},{"$f":"COUNTIFS(OFFSET(Ref_Segmento,1,0,10000),Bloques[[#This Row],[Segmento]],OFFSET(Ref_Conteo,1,0,10000),Bloques[[#This Row],[Bloque]],OFFSET(Ref_Conteo,1,-1,10000),Bloques[[#This Row],[Grupo]])","v":2}]

{"sheet":" ","index":3,"n_rows":2075,"n_cols":44,"rows_kept":2075,"merged":[[109,1,109,4],[138,1,138,2],[139,1,139,2],[140,1,140,2],[141,1,141,2],[143,1,143,2],[144,1,144,2],[158,1,158,2],[159,1,159,2],[161,1,161,2],[163,1,163,2],[165,1,165,2],[167,1,167,2],[175,1,175,2],[179,1,179,4],[184,18,184,19],[220,1,220,4],[276,1,276,4],[289,1,289,4],[296,1,296,4],[307,1,307,10],[395,1,395,4],[442,1,442,3],[442,6,442,8],[443,1,443,3],[443,6,443,8],[444,1,444,3],[444,6,444,8],[445,1,445,3],[445,6,445,8],[446,1,446,3],[446,6,446,8],[447,1,447,3],[447,6,447,8],[448,6,448,8],[527,1,527,4],[533,1,533,4],[540,1,540,4],[598,1,598,5],[600,1,600,4],[606,1,606,4],[612,1,612,4],[866,1,866,2],[867,1,867,2],[868,1,868,2],[869,1,869,2],[870,1,870,2],[871,1,871,2],[872,1,872,2],[873,1,873,2],[874,1,874,2],[875,1,875,2],[886,1,886,6],[927,18,927,19],[940,18,940,19],[947,18,947,19],[957,18,957,19],[961,1,961,2],[967,1,967,2],[980,1,980,2],[988,1,988,2],[997,1,997,2],[1002,18,1002,19],[1130,1,1130,2],[1150,1,1150,2],[1231,1,1231,2],[1232,1,1232,2],[1238,1,1238,2],[1290,1,1290,2],[1291,1,1291,2],[1321,1,1321,6],[1346,1,1346,2],[1465,1,1465,3],[1466,1,1466,3],[1467,1,1467,3],[1468,1,1468,3],[1475,1,1475,3],[1476,1,1476,3],[1477,1,1477,3],[1478,1,1478,3],[1487,1,1490,9],[1487,10,1490,26],[1487,27,1490,31],[1487,32,1490,34],[1491,20,1492,34],[1493,20,1493,25],[1493,26,1493,34],[1494,1,1494,8],[1494,9,1494,19],[1494,20,1497,34],[1495,1,1497,19],[1498,1,1500,1],[1498,2,1498,11],[1498,13,1498,18],[1498,19,1498,24],[1498,25,1498,27],[1498,28,1498,33],[1498,34,1499,34],[1499,2,1499,11],[1500,2,1500,11],[1500,13,1500,18],[1500,19,1500,24],[1500,25,1500,27],[1500,28,1500,33],[1502,1,1502,3],[1502,4,1502,6],[1502,7,1502,10],[1502,14,1502,17],[1502,20,1502,24],[1502,27,1502,30],[1502,33,1502,34],[1503,1,1503,3],[1503,10,1503,16],[1503,17,1503,18],[1503,20,1503,26],[1503,27,1503,28],[1503,30,1503,34],[1504,1,1523,1],[1504,2,1504,7],[1504,8,1504,16],[1504,17,1504,23],[1504,24,1504,29],[1504,30,1504,34],[1505,2,1505,7],[1505,9,1505,16],[1505,18,1505,23],[1505,25,1505,29],[1505,31,1505,34],[1506,2,1506,7],[1506,31,1506,34],[1507,2,1507,7],[1507,9,1507,16],[1507,18,1507,23],[1507,25,1507,29],[1507,31,1507,34],[1508,2,1508,7],[1508,18,1508,23],[1508,25,1508,29],[1508,31,1508,34],[1509,2,1509,7],[1509,9,1509,16],[1509,18,1509,23],[1509,25,1509,29],[1509,31,1509,34],[1510,2,1510,7],[1510,25,1510,29],[1510,31,1510,34],[1511,2,1513,2],[1511,3,1511,7],[1511,9,1511,16],[1511,18,1511,23],[1511,25,1511,29],[1511,31,1511,34],[1512,3,1512,7],[1512,9,1512,16],[1512,18,1512,23],[1512,25,1512,29],[1512,31,1512,34],[1513,3,1513,7],[1513,9,1513,16],[1513,18,1513,23],[1513,25,1513,29],[1513,31,1513,34],[1514,2,1516,2],[1514,3,1514,7],[1514,9,1514,16],[1514,18,1514,23],[1514,25,1514,29],[1514,31,1514,34],[1515,3,1515,7],[1515,9,1515,16],[1515,18,1515,23],[1515,25,1515,29],[1515,31,1515,34],[1516,3,1516,7],[1516,9,1516,16],[1516,18,1516,23],[1516,25,1516,29],[1516,31,1516,34],[1517,2,1517,7],[1517,9,1517,16],[1517,18,1517,23],[1517,25,1517,29],[1517,31,1517,34],[1518,2,1518,7],[1518,8,1520,16],[1518,18,1518,23],[1518,25,1518,29],[1518,31,1518,34],[1519,2,1519,7],[1519,18,1519,23],[1519,25,1519,29],[1519,31,1519,34],[1520,2,1520,7],[1520,18,1520,23],[1520,25,1520,29],[1520,31,1520,34],[1521,2,1521,7],[1521,9,1521,16],[1521,18,1521,23],[1521,25,1521,29],[1521,31,1521,34],[1522,2,1522,3],[1522,5,1522,10],[1522,11,1522,13],[1522,15,1522,19],[1522,20,1522,23],[1522,25,1522,27],[1522,28,1522,31],[1522,33,1522,34],[1523,2,1523,3],[1523,5,1523,10],[1523,11,1523,13],[1523,15,1523,19],[1523,20,1523,23],[1523,25,1523,27],[1523,28,1523,31],[1523,33,1523,34],[1524,1,1528,1],[1524,2,1524,10],[1524,12,1524,19],[1524,20,1524,28],[1524,30,1524,34],[1525,2,1525,10],[1525,12,1525,19],[1525,20,1540,20],[1525,21,1530,21],[1525,22,1525,28],[1525,30,1525,34],[1526,2,1526,10],[1526,12,1526,19],[1526,22,1526,28],[1526,30,1526,34],[1527,2,1527,10],[1527,12,1527,19],[1527,22,1527,28],[1527,30,1527,34],[1528,2,1528,10],[1528,12,1528,19],[1528,22,1528,28],[1528,30,1528,34],[1529,1,1535,1],[1529,2,1529,10],[1529,12,1529,19],[1529,22,1529,28],[1529,30,1529,34],[1530,2,1530,10],[1530,12,1530,19],[1530,22,1530,28],[1530,30,1530,34],[1531,2,1531,10],[1531,12,1531,19],[1531,21,1532,21],[1531,22,1531,24],[1531,26,1531,28],[1531,29,1531,31],[1531,33,1531,34],[1532,2,1532,10],[1532,12,1532,19],[1532,22,1532,24],[1532,26,1532,28],[1532,29,1532,31],[1532,33,1532,34],[1533,2,1533,10],[1533,12,1533,19],[1533,21,1533,28],[1533,30,1533,34],[1534,2,1534,10],[1534,12,1534,19],[1534,21,1534,28],[1534,30,1534,34],[1535,2,1535,10],[1535,12,1535,19],[1535,21,1535,28],[1535,30,1535,34],[1536,1,1540,1],[1536,2,1536,10],[1536,12,1536,19],[1536,21,1536,28],[1536,30,1536,34],[1537,2,1537,10],[1537,12,1537,19],[1537,21,1537,28],[1537,30,1537,34],[1538,2,1538,10],[1538,12,1538,19],[1538,21,1538,28],[1538,30,1538,34],[1539,2,1539,10],[1539,12,1539,19],[1539,21,1539,28],[1539,30,1539,34],[1540,2,1540,10],[1540,12,1540,19],[1540,21,1540,28],[1540,30,1540,34],[1541,1,1541,3],[1541,5,1541,10],[1541,11,1541,13],[1541,15,1541,19],[1541,20,1541,23],[1541,25,1541,27],[1541,28,1541,30],[1541,32,1541,34],[1542,1,1545,34],[1548,31,1548,33],[1555,1,1555,4],[1598,1,1598,5],[1656,1,1656,3],[1657,1,1657,3],[1658,1,1658,3],[1659,1,1659,3],[1667,1,1667,3],[1668,1,1668,3],[1669,1,1669,3],[1678,12,1681,22],[1678,23,1681,26],[1686,1,1687,19],[1689,6,1689,17],[1690,1,1695,2],[1692,4,1692,13],[1692,16,1692,18],[1692,19,1692,21],[1692,22,1692,25],[1692,26,1692,33],[1693,31,1693,33],[1695,31,1695,33],[1699,1,1699,33],[1701,25,1701,33],[1702,25,1702,33],[1703,25,1703,33],[1704,1,1704,33],[1706,25,1706,33],[1707,25,1707,33],[1708,25,1708,33],[1709,1,1709,33],[1710,25,1710,33],[1711,1,1731,33],[1735,25,1735,32],[1738,21,1741,33],[1745,8,1748,13],[1745,14,1748,16],[1753,1,1754,11],[1756,1,1756,21],[1757,1,1757,7],[1757,9,1757,13],[1757,14,1757,16],[1757,17,1757,21],[1758,2,1758,7],[1758,9,1758,13],[1758,14,1758,16],[1758,17,1758,21],[1759,2,1759,7],[1759,9,1759,13],[1759,14,1759,16],[1759,17,1759,21],[1760,2,1760,7],[1760,9,1760,13],[1760,14,1760,16],[1760,17,1760,21],[1761,2,1761,7],[1761,9,1761,13],[1761,14,1761,16],[1761,17,1761,21],[1762,2,1762,7],[1762,9,1762,13],[1762,14,1762,16],[1762,17,1762,21],[1763,2,1763,7],[1763,9,1763,13],[1763,14,1763,16],[1763,17,1763,21],[1764,2,1764,7],[1764,9,1764,13],[1764,14,1764,16],[1764,17,1764,21],[1765,2,1765,7],[1765,9,1765,13],[1765,14,1765,16],[1765,17,1765,21],[1766,2,1766,7],[1766,9,1766,13],[1766,14,1766,16],[1766,17,1766,21],[1767,2,1767,7],[1767,9,1767,13],[1767,14,1767,16],[1767,17,1767,21],[1768,2,1768,7],[1768,9,1768,13],[1768,14,1768,16],[1768,17,1768,21],[1769,2,1769,7],[1769,9,1769,13],[1769,14,1769,16],[1769,17,1769,21],[1770,2,1770,7],[1770,9,1770,13],[1770,14,1770,16],[1770,17,1770,21],[1771,2,1771,7],[1771,9,1771,13],[1771,14,1771,16],[1771,17,1771,21],[1772,2,1772,7],[1772,9,1772,13],[1772,14,1772,16],[1772,17,1772,21],[1773,2,1773,7],[1773,9,1773,13],[1773,14,1773,16],[1773,17,1773,21],[1774,2,1774,7],[1774,9,1774,13],[1774,14,1774,16],[1774,17,1774,21],[1775,2,1775,7],[1775,9,1775,13],[1775,14,1775,16],[1775,17,1775,21],[1776,2,1776,7],[1776,9,1776,13],[1776,14,1776,16],[1776,17,1776,21],[1777,2,1777,7],[1777,9,1777,13],[1777,14,1777,16],[1777,17,1777,21],[1778,2,1778,7],[1778,9,1778,13],[1778,14,1778,16],[1778,17,1778,21],[1779,2,1779,7],[1779,9,1779,13],[1779,14,1779,16],[1779,17,1779,21],[1780,2,1780,7],[1780,9,1780,13],[1780,14,1780,16],[1780,17,1780,21],[1781,2,1781,7],[1781,9,1781,13],[1781,14,1781,16],[1781,17,1781,21],[1782,2,1782,7],[1782,9,1782,13],[1782,14,1782,16],[1782,17,1782,21],[1783,2,1783,7],[1783,9,1783,13],[1783,14,1783,16],[1783,17,1783,21],[1784,2,1784,7],[1784,9,1784,13],[1784,14,1784,16],[1784,17,1784,21],[1785,2,1785,7],[1785,9,1785,13],[1785,14,1785,16],[1785,17,1785,21],[1786,2,1786,7],[1786,9,1786,13],[1786,14,1786,16],[1786,17,1786,21],[1787,2,1787,7],[1787,9,1787,13],[1787,14,1787,16],[1787,17,1787,21],[1788,2,1788,7],[1788,9,1788,13],[1788,14,1788,16],[1788,17,1788,21],[1789,2,1789,7],[1789,9,1789,13],[1789,14,1789,16],[1789,17,1789,21],[1790,2,1790,7],[1790,9,1790,13],[1790,14,1790,16],[1790,17,1790,21],[1791,2,1791,7],[1791,9,1791,13],[1791,14,1791,16],[1791,17,1791,21],[1792,2,1792,7],[1792,9,1792,13],[1792,14,1792,16],[1792,17,1792,21],[1793,2,1793,7],[1793,9,1793,13],[1793,14,1793,16],[1793,17,1793,21],[1794,2,1794,7],[1794,9,1794,13],[1794,14,1794,16],[1794,17,1794,21],[1795,2,1795,7],[1795,9,1795,13],[1795,14,1795,16],[1795,17,1795,21],[1796,2,1796,7],[1796,9,1796,13],[1796,14,1796,16],[1796,17,1796,21],[1797,2,1797,7],[1797,9,1797,13],[1797,14,1797,16],[1797,17,1797,21],[1798,2,1798,7],[1798,9,1798,13],[1798,14,1798,16],[1798,17,1798,21],[1799,2,1799,7],[1799,9,1799,13],[1799,14,1799,16],[1799,17,1799,21],[1800,2,1800,7],[1800,9,1800,13],[1800,14,1800,16],[1800,17,1800,21],[1801,2,1801,7],[1801,9,1801,13],[1801,14,1801,16],[1801,17,1801,21],[1802,2,1802,7],[1802,9,1802,13],[1802,14,1802,16],[1802,17,1802,21],[1803,2,1803,7],[1803,9,1803,13],[1803,14,1803,16],[1803,17,1803,21],[1804,2,1804,7],[1804,9,1804,13],[1804,14,1804,16],[1804,17,1804,21],[1805,2,1805,7],[1805,9,1805,13],[1805,14,1805,16],[1805,17,1805,21],[1806,2,1806,7],[1806,9,1806,13],[1806,14,1806,16],[1806,17,1806,21],[1809,12,1809,14],[1811,2,1811,3],[1811,4,1811,5],[1811,6,1811,7],[1811,8,1811,9],[1811,10,1811,11],[1811,12,1811,13],[1811,14,1811,15],[1812,1,1825,1],[1813,2,1813,3],[1813,4,1813,5],[1813,6,1813,7],[1813,8,1813,9],[1813,10,1813,11],[1813,12,1813,13],[1813,14,1813,15],[1815,4,1816,5],[1815,6,1816,7],[1815,8,1816,9],[1815,10,1816,11],[1815,12,1816,13],[1815,14,1816,15],[1818,2,1819,3],[1818,4,1819,5],[1818,6,1819,7],[1818,8,1819,9],[1818,10,1819,11],[1818,12,1819,13],[1818,14,1819,15],[1821,4,1822,5],[1821,6,1822,7],[1821,8,1822,9],[1821,10,1822,11],[1821,12,1822,13],[1821,14,1822,15],[1824,2,1825,3],[1824,4,1825,5],[1824,6,1825,7],[1824,10,1825,11],[1824,12,1825,13],[1824,14,1825,15],[1826,1,1837,1],[1827,2,1828,3],[1827,4,1828,5],[1827,6,1828,7],[1827,8,1828,9],[1827,10,1828,11],[1827,12,1828,13],[1827,14,1828,15],[1830,2,1831,3],[1830,4,1831,5],[1830,6,1831,7],[1830,8,1831,9],[1830,10,1831,11],[1830,12,1831,13],[1830,14,1831,15],[1833,2,1834,3],[1833,4,1834,5],[1833,6,1834,7],[1833,8,1834,9],[1833,10,1834,11],[1833,12,1834,13],[1833,14,1834,15],[1836,2,1837,3],[1836,4,1837,5],[1836,6,1837,7],[1836,8,1837,9],[1836,14,1837,15],[1838,1,1850,1],[1839,2,1840,3],[1839,4,1840,5],[1839,6,1840,7],[1839,8,1840,9],[1839,10,1840,11],[1839,12,1840,13],[1839,14,1840,15],[1842,2,1843,3],[1842,4,1843,5],[1842,6,1843,7],[1842,8,1843,9],[1842,10,1843,11],[1842,12,1843,13],[1842,14,1843,15],[1845,2,1846,3],[1845,4,1846,5],[1845,6,1846,7],[1845,8,1846,9],[1845,10,1846,11],[1845,12,1846,13],[1845,14,1846,15],[1848,2,1848,3],[1848,4,1848,5],[1848,6,1848,7],[1848,8,1848,9],[1848,10,1848,11],[1848,12,1848,13],[1848,14,1848,15],[1850,2,1850,3],[1850,4,1850,5],[1850,6,1850,7],[1850,8,1850,9],[1850,10,1850,11],[1850,12,1850,13],[1850,14,1850,15],[1854,1,1854,15],[1855,1,1855,15],[1856,1,1856,5],[1856,6,1856,10],[1856,11,1856,15],[1857,1,1857,4],[1857,6,1857,10],[1857,11,1857,15],[1858,1,1858,4],[1858,6,1858,10],[1858,11,1858,15],[1859,1,1859,4],[1859,6,1859,10],[1859,11,1859,15],[1860,1,1860,4],[1860,6,1860,10],[1860,11,1860,15],[1861,1,1861,4],[1861,6,1861,10],[1861,11,1861,15],[1862,1,1862,4],[1862,6,1862,10],[1862,11,1862,15],[1863,1,1863,4],[1863,6,1863,10],[1863,11,1863,15],[1864,1,1864,4],[1864,6,1864,10],[1864,11,1864,15],[1865,1,1865,4],[1865,6,1865,10],[1865,11,1865,15],[1866,1,1866,4],[1866,6,1866,10],[1866,11,1866,15],[1867,1,1867,4],[1867,6,1867,10],[1867,11,1867,15],[1868,1,1868,4],[1868,6,1868,10],[1868,11,1868,15],[1869,1,1869,4],[1869,6,1869,10],[1869,11,1869,15],[1870,1,1870,4],[1870,6,1870,10],[1870,11,1870,15],[1871,1,1871,4],[1871,6,1871,10],[1871,11,1871,15],[1872,1,1872,4],[1872,6,1872,10],[1872,11,1872,15],[1873,1,1873,4],[1873,6,1873,10],[1873,11,1873,15],[1874,1,1874,4],[1874,6,1874,10],[1874,11,1874,15],[1875,1,1875,4],[1875,6,1875,10],[1875,11,1875,15],[1876,1,1876,4],[1876,6,1876,10],[1876,11,1876,15],[1877,1,1877,4],[1877,6,1877,10],[1877,11,1877,15],[1878,1,1878,4],[1878,6,1878,10],[1878,11,1878,15],[1879,1,1879,4],[1879,6,1879,10],[1879,11,1879,15],[1880,1,1880,4],[1880,6,1880,10],[1880,11,1880,15],[1881,1,1881,4],[1881,6,1881,10],[1881,11,1881,15],[1882,1,1882,4],[1882,6,1882,10],[1882,11,1882,15],[1883,1,1883,4],[1883,6,1883,10],[1883,11,1883,15],[1884,1,1884,4],[1884,6,1884,10],[1884,11,1884,15],[1885,1,1885,4],[1885,6,1885,10],[1885,11,1885,15],[1886,1,1886,4],[1886,6,1886,10],[1886,11,1886,15],[1887,1,1887,4],[1887,6,1887,10],[1887,11,1887,15],[1888,1,1888,4],[1888,6,1888,10],[1888,11,1888,15],[1889,1,1889,4],[1889,6,1889,10],[1889,11,1889,15],[1890,1,1890,4],[1890,6,1890,10],[1890,11,1890,15],[1891,1,1891,4],[1891,6,1891,10],[1891,11,1891,15],[1892,1,1892,4],[1892,6,1892,10],[1892,11,1892,15],[1893,1,1893,4],[1893,6,1893,10],[1893,11,1893,15],[1894,1,1894,4],[1894,6,1894,10],[1894,11,1894,15],[1895,1,1895,4],[1895,6,1895,10],[1895,11,1895,15],[1896,1,1896,4],[1896,6,1896,10],[1896,11,1896,15],[1897,1,1897,4],[1897,6,1897,10],[1897,11,1897,15],[1898,1,1898,4],[1898,6,1898,10],[1898,11,1898,15],[1899,1,1899,4],[1899,6,1899,10],[1899,11,1899,15],[1900,1,1900,4],[1900,6,1900,10],[1900,11,1900,15],[1901,1,1901,4],[1901,6,1901,10],[1901,11,1901,15],[1902,1,1902,4],[1902,6,1902,10],[1902,11,1902,15],[1903,1,1903,4],[1903,6,1903,10],[1903,11,1903,15],[1904,1,1904,4],[1904,6,1904,10],[1904,11,1904,15],[1905,1,1905,4],[1905,6,1905,10],[1905,11,1905,15],[1906,1,1906,4],[1906,6,1906,10],[1906,11,1906,15],[1907,1,1907,4],[1907,6,1907,10],[1907,11,1907,15],[1908,1,1908,4],[1908,6,1908,10],[1908,11,1908,15],[1909,1,1909,4],[1909,6,1909,10],[1909,11,1909,15],[1910,1,1910,4],[1910,6,1910,10],[1910,11,1910,15],[1911,1,1911,4],[1911,6,1911,10],[1911,11,1911,15],[1912,1,1912,4],[1912,6,1912,10],[1912,11,1912,15],[1913,1,1913,4],[1913,6,1913,10],[1913,11,1913,15],[1914,1,1914,4],[1914,6,1914,10],[1914,11,1914,15],[1915,1,1915,4],[1915,6,1915,10],[1915,11,1915,15],[1916,1,1916,4],[1916,6,1916,10],[1916,11,1916,15],[1917,1,1917,4],[1917,6,1917,10],[1917,11,1917,15],[1918,1,1918,4],[1918,6,1918,10],[1918,11,1918,15],[1919,1,1919,4],[1919,6,1919,10],[1919,11,1919,15],[1920,1,1920,4],[1920,6,1920,10],[1920,11,1920,15],[1921,1,1921,4],[1921,6,1921,10],[1921,11,1921,15],[1922,1,1922,4],[1922,6,1922,10],[1922,11,1922,15],[1923,1,1923,4],[1923,6,1923,10],[1923,11,1923,15],[1924,1,1924,4],[1924,6,1924,10],[1924,11,1924,15],[1925,1,1925,4],[1925,6,1925,10],[1925,11,1925,15],[1926,1,1926,4],[1926,6,1926,10],[1926,11,1926,15],[1927,1,1927,4],[1927,6,1927,10],[1927,11,1927,15],[1928,1,1928,4],[1928,6,1928,10],[1928,11,1928,15],[1929,1,1929,4],[1929,6,1929,10],[1929,11,1929,15],[1930,1,1930,4],[1930,6,1930,10],[1930,11,1930,15],[1931,1,1931,4],[1931,6,1931,10],[1931,11,1931,15],[1932,1,1932,4],[1932,6,1932,10],[1932,11,1932,15],[1933,1,1933,4],[1933,6,1933,10],[1933,11,1933,15],[1934,1,1934,4],[1934,6,1934,10],[1934,11,1934,15],[1935,1,1935,4],[1935,6,1935,10],[1935,11,1935,15],[1936,1,1936,4],[1936,6,1936,10],[1936,11,1936,15],[1937,1,1937,4],[1937,6,1937,10],[1937,11,1937,15],[1938,1,1938,4],[1938,6,1938,10],[1938,11,1938,15],[1939,1,1939,4],[1939,6,1939,10],[1939,11,1939,15],[1940,1,1940,4],[1940,6,1940,10],[1940,11,1940,15],[1941,1,1941,4],[1941,6,1941,10],[1941,11,1941,15],[1942,1,1942,4],[1942,6,1942,10],[1942,11,1942,15],[1943,1,1943,4],[1943,6,1943,10],[1943,11,1943,15],[1944,1,1944,4],[1944,6,1944,10],[1944,11,1944,15],[1945,1,1945,4],[1945,6,1945,10],[1945,11,1945,15],[1946,1,1946,4],[1946,6,1946,10],[1946,11,1946,15],[1947,1,1947,4],[1947,6,1947,10],[1947,11,1947,15],[1948,1,1948,4],[1948,6,1948,10],[1948,11,1948,15],[1949,1,1949,4],[1949,6,1949,10],[1949,11,1949,15],[1950,1,1950,4],[1950,6,1950,10],[1950,11,1950,15],[1951,1,1951,4],[1951,6,1951,10],[1951,11,1951,15],[1952,1,1952,4],[1952,6,1952,10],[1952,11,1952,15],[1953,1,1953,4],[1953,6,1953,10],[1953,11,1953,15],[1954,1,1954,4],[1954,6,1954,10],[1954,11,1954,15],[1955,1,1955,4],[1955,6,1955,10],[1955,11,1955,15],[1956,1,1956,4],[1956,6,1956,10],[1956,11,1956,15],[2031,1,2039,6],[2040,1,2057,6],[2059,1,2062,5],[2068,2,2068,6],[2069,2,2069,6],[2070,2,2070,6]]}
[{"$nulls":39},"Conteo","Segmento","Visible","Alto_Celdas","Celda_Filtro"]
[{"$nulls":41},1,15,1]
[{"$nulls":41},1,15,1]
[{"$nulls":41},1,15,1]
[{"$nulls":41},1,12,1]
[1,3,35,11,10,10,5,11,11,11,12,10,13,13,20,11,3,11,{"$nulls":22},{"$f":"IF(Parametros[Segmento]=\"Seleccionar_Cedula\",\"Seleccionar_Cedula\",\"Fondo_Menu\")","v":"Fondo_Menu"},0,15,{"$f":"(AO6=Parametros[Segmento])*(AP6>0)*(AQ6>0)","v":0}]
[{"$nulls":40},{"$f":"IF(Parametros[Segmento]=\"Seleccionar_Cedula\",\"Seleccionar_Cedula\",\"Fondo_Menu\")","v":"Fondo_Menu"},0,20,{"$f":"(AO7=Parametros[Segmento])*(AP7>0)*(AQ7>0)","v":0}]
[{"$nulls":40},{"$f":"IF(Parametros[Segmento]=\"Cédula General\",\"Cédula General\",\"Fondo_Menu\")","v":"Fondo_Menu"},1,10,{"$f":"(AO8=Parametros[Segmento])*(AP8>0)*(AQ8>0)","v":1}]
[{"$nulls":40},{"$f":"IF(Parametros[Segmento]=\"Cédula General\",\"Cédula General\",\"Fondo_Menu\")","v":"Fondo_Menu"},1,20,{"$f":"(AO9=Parametros[Segmento])*(AP9>0)*(AQ9>0)","v":1}]
[{"$nulls":40},{"$f":"IF(Parametros[Segmento]=\"Cédula General\",\"Cédula General\",\"Fondo_Menu\")","v":"Fondo_Menu"},1,20,{"$f":"(AO10=Parametros[Segmento])*(AP10>0)*(AQ10>0)","v":1}]
[{"$nulls":40},{"$f":"IF(Parametros[Segmento]=\"Cédula General\",\"Cédula General\",\"Fondo_Menu\")","v":"Fondo_Menu"},1,20,{"$f":"(AO11=Parametros[Segmento])*(AP11>0)*(AQ11>0)","v":1}]
[{"$nulls":40},{"$f":"IF(Parametros[Segmento]=\"Cédula General\",\"Cédula General\",\"Fondo_Menu\")","v":"Fondo_Menu"},1,20,{"$f":"(AO12=Parametros[Segmento])*(AP12>0)*(AQ12>0)","v":1}]
[{"$nulls":40},{"$f":"IF(Parametros[Segmento]=\"Cédula General\",\"Cédula General\",\"Fondo_Menu\")","v":"Fondo_Menu"},1,20,{"$f":"(AO13=Parametros[Segmento])*(AP13>0)*(AQ13>0)","v":1}]
[{"$nulls":40},{"$f":"IF(Parametros[Segmento]=\"Cédula General\",\"Cédula General\",\"Fondo_Menu\")","v":"Fondo_Menu"},1,20,{"$f":"(AO14=Parametros[Segmento])*(AP14>0)*(AQ14>0)","v":1}]
[{"$nulls":40},{"$f":"IF(Parametros[Segmento]=\"Cédula General\",\"Cédula General\",\"Fondo_Menu\")","v":"Fondo_Menu"},1,20,{"$f":"(AO15=Parametros[Segmento])*(AP15>0)*(AQ15>0)","v":1}]
[{"$nulls":40},{"$f":"IF(Parametros[Segmento]=\"Cédula General\",\"Cédula General\",\"Fondo_Menu\")","v":"Fondo_Menu"},1,20,{"$f":"(AO16=Parametros[Segmento])*(AP16>0)*(AQ16>0)","v":1}]
[{"$nulls":40},{"$f":"IF(Parametros[Segmento]=\"Cédula General\",\"Cédula General\",\"Fondo_Menu\")","v":"Fondo_Menu"},1,20,{"$f":"(AO17=Parametros[Segmento])*(AP17>0)*(AQ17>0)","v":1}]
[{"$nulls":40},{"$f":"IF(Parametros[Segmento]=\"Cédula General\",\"Cédula General\",\"Fondo_Menu\")","v":"Fondo_Menu"},1,20,{"$f":"(AO18=Parametros[Segmento])*(AP18>0)*(AQ18>0)","v":1}]
[{"$nulls":40},{"$f":"IF(Parametros[Segmento]=\"Cédula General\",\"Cédula General\",\"Fondo_Menu\")","v":"Fondo_Menu"},1,20,{"$f":"(AO19=Parametros[Segmento])*(AP19>0)*(AQ19>0)","v":1}]
[{"$nulls":40},{"$f":"IF(Parametros[Segmento]=\"Cédula General\",\"Cédula General\",\"Fondo_Menu\")","v":"Fondo_Menu"},1,20,{"$f":"(AO20=Parametros[Segmento])*(AP20>0)*(AQ20>0)","v":1}]
[{"$nulls":40},{"$f":"IF(Parametros[Segmento]=\"Cédula General\",\"Cédula General\",\"Fondo_Menu\")","v":"Fondo_Menu"},1,20,{"$f":"(AO21=Parametros[Segmento])*(AP21>0)*(AQ21>0)","v":1}]
[{"$nulls":40},{"$f":"IF(Parametros[Segmento]=\"Cédula General\",\"Cédula General\",\"Fondo_Menu\")","v":"Fondo_Menu"},1,20,{"$f":"(AO22=Parametros[Segmento])*(AP22>0)*(AQ22>0)","v":1}]
[{"$nulls":40},{"$f":"IF(Parametros[Segmento]=\"Cédula General\",\"Cédula General\",\"Fondo_Menu\")","v":"Fondo_Menu"},1,20,{"$f":"(AO23=Parametros[Segmento])*(AP23>0)*(AQ23>0)","v":1}]
[{"$nulls":40},{"$f":"IF(Parametros[Segmento]=\"Cédula General\",\"Cédula General\",\"Fondo_Menu\")","v":"Fondo_Menu"},1,20,{"$f":"(AO24=Parametros[Segmento])*(AP24>0)*(AQ24>0)","v":1}]
[{"$nulls":40},{"$f":"IF(Parametros[Segmento]=\"Cédula General\",\"Cédula General\",\"Fondo_Menu\")","v":"Fondo_Menu"},1,20,{"$f":"(AO25=Parametros[Segmento])*(AP25>0)*(AQ25>0)","v":1}]
[{"$nulls":40},{"$f":"IF(Parametros[Segmento]=\"Cédula General\",\"Cédula General\",\"Fondo_Menu\")","v":"Fondo_Menu"},1,20,{"$f":"(AO26=Parametros[Segmento])*(AP26>0)*(AQ26>0)","v":1}]
[{"$nulls":40},{"$f":"IF(Parametros[Segmento]=\"Cédula General\",\"Cédula General\",\"Fondo_Menu\")","v":"Fondo_Menu"},1,20,{"$f":"(AO27=Parametros[Segmento])*(AP27>0)*(AQ27>0)","v":1}]
[{"$nulls":40},{"$f":"IF(Parametros[Segmento]=\"Cédula General\",\"Cédula General\",\"Fondo_Menu\")","v":"Fondo_Menu"},1,20,{"$f":"(AO28=Parametros[Segmento])*(AP28>0)*(AQ28>0)","v":1}]
[{"$nulls":40},{"$f":"IF(Parametros[Segmento]=\"Cédula General\",\"Cédula General\",\"Fondo_Menu\")","v":"Fondo_Menu"},1,20,{"$f":"(AO29=Parametros[Segmento])*(AP29>0)*(AQ29>0)","v":1}]
[{"$nulls":40},{"$f":"IF(Parametros[Segmento]=\"Cédula General\",\"Cédula General\",\"Fondo_Menu\")","v":"Fondo_Menu"},1,20,{"$f":"(AO30=Parametros[Segmento])*(AP30>0)*(AQ30>0)","v":1}]
[{"$nulls":40},{"$f":"IF(Parametros[Segmento]=\"Cédula General\",\"Cédula General\",\"Fondo_Menu\")","v":"Fondo_Menu"},1,20,{"$f":"(AO31=Parametros[Segmento])*(AP31>0)*(AQ31>0)","v":1}]
[{"$nulls":40},{"$f":"IF(Parametros[Segmento]=\"Cédula General\",\"Cédula General\",\"Fondo_Menu\")","v":"Fondo_Menu"},1,20,{"$f":"(AO32=Parametros[Segmento])*(AP32>0)*(AQ32>0)","v":1}]
[{"$nulls":40},{"$f":"IF(Parametros[Segmento]=\"Cédula General\",\"Cédula General\",\"Fondo_Menu\")","v":"Fondo_Menu"},1,20,{"$f":"(AO33=Parametros[Segmento])*(AP33>0)*(AQ33>0)","v":1}]
[{"$nulls":40},{"$f":"IF(Parametros[Segmento]=\"Cédula General\",\"Cédula General\",\"Fondo_Menu\")","v":"Fondo_Menu"},1,20,{"$f":"(AO34=Parametros[Segmento])*(AP34>0)*(AQ34>0)","v":1}]
[{"$nulls":40},{"$f":"IF(Parametros[Segmento]=\"Cédula General\",\"Cédula General\",\"Fondo_Menu\")","v":"Fondo_Menu"},1,20,{"$f":"(AO35=Parametros[Segmento])*(AP35>0)*(AQ35>0)","v":1}]
[{"$nulls":40},{"$f":"IF(Parametros[Segmento]=\"Cédula General\",\"Cédula General\",\"Fondo_Menu\")","v":"Fondo_Menu"},1,20,{"$f":"(AO36=Parametros[Segmento])*(AP36>0)*(AQ36>0)","v":1}]
[{"$nulls":40},{"$f":"IF(Parametros[Segmento]=\"Cédula General\",\"Cédula General\",\"Fondo_Menu\")","v":"Fondo_Menu"},1,20,{"$f":"(AO37=Parametros[Segmento])*(AP37>0)*(AQ37>0)","v":1}]
[{"$nulls":40},{"$f":"IF(Parametros[Segmento]=\"Cédula General\",\"Cédula General\",\"Fondo_Menu\")","v":"Fondo_Menu"},1,20,{"$f":"(AO38=Parametros[Segmento])*(AP38>0)*(AQ38>0)","v":1}]
[{"$nulls":40},{"$f":"IF(Parametros[Segmento]=\"Cédula General\",\"Cédula General\",\"Fondo_Menu\")","v":"Fondo_Menu"},1,20,{"$f":"(AO39=Parametros[Segmento])*(AP39>0)*(AQ39>0)","v":1}]
[{"$nulls":40},{"$f":"IF(Parametros[Segmento]=\"Cédula General\",\"Cédula General\",\"Fondo_Menu\")","v":"Fondo_Menu"},1,20,{"$f":"(AO40=Parametros[Segmento])*(AP40>0)*(AQ40>0)","v":1}]
[3.33,111.22,20.78,20.78,5,{"$nulls":35},"Lista de chequeo",0,15,{"$f":"(AO41=Parametros[Segmento])*(AP41>0)*(AQ41>0)","v":0}]
[{"$nulls":40},"Lista de chequeo",1,16.2,{"$f":"(AO42=Parametros[Segmento])*(AP42>0)*(AQ42>0)","v":0}]
[null,"Lista de chequeo documentos necesarios para elaborar la declaración de renta",{"$nulls":38},"Lista de chequeo",1,30,{"$f":"(AO43=Parametros[Segmento])*(AP43>0)*(AQ43>0)","v":0}]
[null,"Tipo de documento","¿El documento aplica para el contribuyente?","¿El contribuyente ya entregó el documento?",{"$nulls":36},"Lista de chequeo",1,60,{"$f":"(AO44=Parametros[Segmento])*(AP44>0)*(AQ44>0)","v":0}]
[null,"Documentos indispensables",{"$nulls":38},"Lista de chequeo",1,30,{"$f":"(AO45=Parametros[Segmento])*(AP45>0)*(AQ45>0)","v":0}]
[null,"Copia del certificado de inscripción en el Registro Único Tributario –RUT– debidamente actualizado con la responsabilidad 05 - Impuesto de renta y complementario régimen ordinario.",{"$nulls":38},"Lista de chequeo",1,40.1,{"$f":"(AO46=Parametros[Segmento])*(AP46>0)*(AQ46>0)","v":0}]
[null,"Declaraciones de renta de los dos (2) últimos años gravables.",{"$nulls":38},"Lista de chequeo",1,30,{"$f":"(AO47=Parametros[Segmento])*(AP47>0)*(AQ47>0)","v":0}]
[null,"Reporte de terceros de la DIAN.",{"$nulls":38},"Lista de chequeo",1,30,{"$f":"(AO48=Parametros[Segmento])*(AP48>0)*(AQ48>0)","v":0}]
[null,"Documentos para determinar el patrimonio",{"$nulls":38},"Lista de chequeo",1,30,{"$f":"(AO49=Parametros[Segmento])*(AP49>0)*(AQ49>0)","v":0}]
[null,"Activos",{"$nulls":38},"Lista de chequeo",1,30,{"$f":"(AO50=Parametros[Segmento])*(AP50>0)*(AQ50>0)","v":0}]
[null,"Certificados o extractos de los saldos de las cuentas de ahorro y corrientes emitidos por las entidades financieras.",{"$nulls":38},"Lista de chequeo",1,30,{"$f":"(AO51=Parametros[Segmento])*(AP51>0)*(AQ51>0)","v":0}]
[null,"Certificados de las inversiones del contribuyente emitidos por las entidades donde se constituyó la inversión, por ejemplo: CDT, bonos, derechos fiduciarios, inversiones obligatorias, entre otras.",{"$nulls":38},"Lista de chequeo",1,40.1,{"$f":"(AO52=Parametros[Segmento])*(AP52>0)*(AQ52>0)","v":0}]
[null,"Declaración o estado de cuenta del impuesto predial de los bienes inmuebles que posea el contribuyente.",{"$nulls":38},"Lista de chequeo",1,30,{"$f":"(AO53=Parametros[Segmento])*(AP53>0)*(AQ53>0)","v":0}]
[null,"Escrituras de adquisición de los bienes inmuebles y/o certificados de instrumentos públicos.",{"$nulls":38},"Lista de chequeo",1,30,{"$f":"(AO54=Parametros[Segmento])*(AP54>0)*(AQ54>0)","v":0}]
[null,"Factura de compra o documento donde conste el valor de adquisición de los vehículos y estado de cuenta del impuesto de vehículos.",{"$nulls":38},"Lista de chequeo",1,30,{"$f":"(AO55=Parametros[Segmento])*(AP55>0)*(AQ55>0)","v":0}]
[null,"Relación de los muebles, enseres, maquinaria y equipo, por su valor de adquisición más adiciones y mejoras.",{"$nulls":38},"Lista de chequeo",1,30,{"$f":"(AO56=Parametros[Segmento])*(AP56>0)*(AQ56>0)","v":0}]
[null,"Certificado de avalúo técnico de los bienes incorporales, tales como, good will, derechos de autor, cupos de taxi, propiedad industrial, literaria, artística, científica y otros.",{"$nulls":38},"Lista de chequeo",1,40.1,{"$f":"(AO57=Parametros[Segmento])*(AP57>0)*(AQ57>0)","v":0}]
[null,"Facturas de joyas, cuadros u otros elementos que posea el contribuyente y que sean apreciables en dinero.",{"$nulls":38},"Lista de chequeo",1,30,{"$f":"(AO58=Parametros[Segmento])*(AP58>0)*(AQ58>0)","v":0}]
[null,"Deudas",{"$nulls":38},"Lista de chequeo",1,30,{"$f":"(AO59=Parametros[Segmento])*(AP59>0)*(AQ59>0)","v":0}]
[null,"Certificados y/o extractos de obligaciones financieras, tarjetas de créditos, etc.",{"$nulls":38},"Lista de chequeo",1,30,{"$f":"(AO60=Parametros[Segmento])*(AP60>0)*(AQ60>0)","v":0}]
[null,"Letras, pagarés y demás documentos que respalden cuentas por cobrar y obligaciones o deudas, conforme a los requisitos de ley. Tenga en cuenta que según el artículo 770 del ET, los contribuyentes no obligados a llevar contabilidad solo pueden solicitar pasivos respaldados con documentos de fecha cierta.",{"$nulls":38},"Lista de chequeo",1,60,{"$f":"(AO61=Parametros[Segmento])*(AP61>0)*(AQ61>0)","v":0}]
[null,"Documentos necesarios para la cédula general",{"$nulls":38},"Lista de chequeo",1,30,{"$f":"(AO62=Parametros[Segmento])*(AP62>0)*(AQ62>0)","v":0}]
[null,"Ingresos por rentas de trabajo",{"$nulls":38},"Lista de chequeo",1,30,{"$f":"(AO63=Parametros[Segmento])*(AP63>0)*(AQ63>0)","v":0}]
[null,"Certificado de ingresos y retenciones laborales.",{"$nulls":38},"Lista de chequeo",1,30,{"$f":"(AO64=Parametros[Segmento])*(AP64>0)*(AQ64>0)","v":0}]
[null,"Certificado de indemnizaciones por accidentes de trabajo o de enfermedad, maternidad, gastos de entierro del trabajador, seguro por muerte y compensaciones por muerte de miembros de las Fuerzas Militares y Policía Nacional.",{"$nulls":38},"Lista de chequeo",1,40.1,{"$f":"(AO65=Parametros[Segmento])*(AP65>0)*(AQ65>0)","v":0}]
[null,"Certificados de pagos por concepto de alimentación efectuados por su empleador.",{"$nulls":38},"Lista de chequeo",1,30,{"$f":"(AO66=Parametros[Segmento])*(AP66>0)*(AQ66>0)","v":0}]
[null,"Certificado de apoyos económicos para programas educativos recibidos del Estado.",{"$nulls":38},"Lista de chequeo",1,30,{"$f":"(AO67=Parametros[Segmento])*(AP67>0)*(AQ67>0)","v":0}]
[null,"Relación del aporte voluntario del COVID-19 del artículo 9 del Decreto Legislativo 568 de 2020 (declarado inexequible por la Sentencia C-293 de 2020 de la Corte Constitucional).",{"$nulls":38},"Lista de chequeo",1,40.1,{"$f":"(AO68=Parametros[Segmento])*(AP68>0)*(AQ68>0)","v":0}]
[null,"Relación de contratos o facturas del contribuyente.",{"$nulls":38},"Lista de chequeo",1,30,{"$f":"(AO69=Parametros[Segmento])*(AP69>0)*(AQ69>0)","v":0}]
[null,"Certificados de retención.",{"$nulls":38},"Lista de chequeo",1,30,{"$f":"(AO70=Parametros[Segmento])*(AP70>0)*(AQ70>0)","v":0}]
[null,"Ingresos por rentas de capital",{"$nulls":38},"Lista de chequeo",1,30,{"$f":"(AO71=Parametros[Segmento])*(AP71>0)*(AQ71>0)","v":0}]
[null,"Certificados de rendimientos financieros pagados por las entidades correspondientes.",{"$nulls":38},"Lista de chequeo",1,30,{"$f":"(AO72=Parametros[Segmento])*(AP72>0)*(AQ72>0)","v":0}]
[null,"Relación de ingresos por arrendamientos, regalías o propiedad intelectual.",{"$nulls":38},"Lista de chequeo",1,30,{"$f":"(AO73=Parametros[Segmento])*(AP73>0)*(AQ73>0)","v":0}]
[null,"Ingresos por rentas no laborales",{"$nulls":38},"Lista de chequeo",1,30,{"$f":"(AO74=Parametros[Segmento])*(AP74>0)*(AQ74>0)","v":0}]
[null,"Relación de contratos o facturas del contribuyente.",{"$nulls":38},"Lista de chequeo",1,30,{"$f":"(AO75=Parametros[Segmento])*(AP75>0)*(AQ75>0)","v":0}]
[null,"Facturas de venta de activos poseídos por menos de 2 años (esto dependiendo de si la persona natural está obligada o no a facturar, en caso de no estar obligada a facturar, no tendría que soportar la operación con factura, para este caso del no obligado a facturar el soporte podría ser la escritura pública).",{"$nulls":38},"Lista de chequeo",1,60,{"$f":"(AO76=Parametros[Segmento])*(AP76>0)*(AQ76>0)","v":0}]
[null,"Documentos para determinar los pagos que constituyen deducciones, descuentos y rentas exentas",{"$nulls":38},"Lista de chequeo",1,30,{"$f":"(AO77=Parametros[Segmento])*(AP77>0)*(AQ77>0)","v":0}]
[null,"Certificado de pagos de intereses por préstamos para adquisición de vivienda.",{"$nulls":38},"Lista de chequeo",1,30,{"$f":"(AO78=Parametros[Segmento])*(AP78>0)*(AQ78>0)","v":0}]
[null,"Certificados por pagos de salud obligatoria y medicina prepagada.",{"$nulls":38},"Lista de chequeo",1,30,{"$f":"(AO79=Parametros[Segmento])*(AP79>0)*(AQ79>0)","v":0}]
[null,"Certificados de aportes voluntarios a Cuentas de Ahorro para el Fomento de la Construcción –AFC–, aportes voluntarios a los seguros privados de pensiones –FVP– y a las Cuentas de Ahorro Voluntario Contractual –AVC–.",{"$nulls":38},"Lista de chequeo",1,40.1,{"$f":"(AO80=Parametros[Segmento])*(AP80>0)*(AQ80>0)","v":0}]
[null,"Certificados por inversiones en nuevas plantaciones de riegos, pozos, silos; centros de reclusión en mantenimiento; y conservación de obras audiovisuales en librerías, proyectos cinematográficos y otros.",{"$nulls":38},"Lista de chequeo",1,40.1,{"$f":"(AO81=Parametros[Segmento])*(AP81>0)*(AQ81>0)","v":0}]
[null,"Certificados por donaciones.",{"$nulls":38},"Lista de chequeo",1,30,{"$f":"(AO82=Parametros[Segmento])*(AP82>0)*(AQ82>0)","v":0}]
[null,"Relación de facturas de gastos, indicando el valor total.",{"$nulls":38},"Lista de chequeo",1,30,{"$f":"(AO83=Parametros[Segmento])*(AP83>0)*(AQ83>0)","v":0}]
[null,"Relación de los pagos efectuados a sus empleados por concepto de sueldos, bonificaciones, vacaciones, cesantías y otros.",{"$nulls":38},"Lista de chequeo",1,30,{"$f":"(AO84=Parametros[Segmento])*(AP84>0)*(AQ84>0)","v":0}]
[null,"Certificados de los pagos realizados por concepto de aportes a las cajas de compensación, Instituto Colombiano de Bienestar Familiar, empresas promotoras de salud, administradoras de riesgos profesionales, fondos de pensiones y otros.",{"$nulls":38},"Lista de chequeo",1,40.1,{"$f":"(AO85=Parametros[Segmento])*(AP85>0)*(AQ85>0)","v":0}]
[null,"Pagos por concepto de impuestos de industria y comercio, avisos y tableros, y predial.",{"$nulls":38},"Lista de chequeo",1,30,{"$f":"(AO86=Parametros[Segmento])*(AP86>0)*(AQ86>0)","v":0}]
[null,"Certificado de dependientes (cónyuges, hijos y padres que dependan económicamente del contribuyente).",{"$nulls":38},"Lista de chequeo",1,30,{"$f":"(AO87=Parametros[Segmento])*(AP87>0)*(AQ87>0)","v":0}]
[null,"Anexo del pago de la seguridad social de la persona que hace el servicio doméstico.",{"$nulls":38},"Lista de chequeo",1,30,{"$f":"(AO88=Parametros[Segmento])*(AP88>0)*(AQ88>0)","v":0}]
[null,"Certificado de ingreso promedio de los últimos seis (6) meses anteriores a la fecha del pago de las cesantías e intereses sobre las mismas.",{"$nulls":38},"Lista de chequeo",1,30,{"$f":"(AO89=Parametros[Segmento])*(AP89>0)*(AQ89>0)","v":0}]
[null,"Certificado de retenciones a título de GMF.",{"$nulls":38},"Lista de chequeo",1,30,{"$f":"(AO90=Parametros[Segmento])*(AP90>0)*(AQ90>0)","v":0}]
[null,"Certificado intereses en préstamos educativos ICETEX.",{"$nulls":38},"Lista de chequeo",1,30,{"$f":"(AO91=Parametros[Segmento])*(AP91>0)*(AQ91>0)","v":0}]
[null,"Certificado de primer empleo expedida por el Ministerio de trabajo para contribuyentes que hayan contratado empleados que sean menores de veintiocho (28) años, siempre y cuando se trate del primer empleo de la persona (artículo 108-5 ET).",{"$nulls":38},"Lista de chequeo",1,40.1,{"$f":"(AO92=Parametros[Segmento])*(AP92>0)*(AQ92>0)","v":0}]
[null,"Copia de certificación enviada al Ministerio de trabajo señalando el cumplimiento de los requisitos para acceder a los beneficios de la Ley 2040 de 2020 respecto a la contratación de adultos mayores no pensionados (parágrafo 1 del artículo 4 de la Ley 2040 de 2020 y Circular 0004 de 2021 del Ministerio del Trabajo).",{"$nulls":38},"Lista de chequeo",1,60,{"$f":"(AO93=Parametros[Segmento])*(AP93>0)*(AQ93>0)","v":0}]
[null,"Si el contribuyente tiene préstamos con entidades no vinculadas, certificación de las entidades acreedoras en la que conste que los créditos no corresponden a operaciones de endeudamiento con entidades vinculadas mediante un aval, back-to-back, o cualquier otra operación en la que sustancialmente dichas vinculadas actúen como acreedoras (ver parágrafo 1 del artículo 118-1 del ET y artículo 1.2.1.18.64 del DUR 1625 de 2016).",{"$nulls":38},"Lista de chequeo",1,70.1,{"$f":"(AO94=Parametros[Segmento])*(AP94>0)*(AQ94>0)","v":0}]
[null,"Certificación de baja de inventarios por obsolescencia (numeral 2 del artículo 64 del ET, modificado por el artículo 43 de la Ley 1819 de 2016).",{"$nulls":38},"Lista de chequeo",1,40.1,{"$f":"(AO95=Parametros[Segmento])*(AP95>0)*(AQ95>0)","v":0}]
[null,"Todos los demás documentos que respalden costos, deducciones, rentas exentas y descuentos tributarios",{"$nulls":38},"Lista de chequeo",1,30,{"$f":"(AO96=Parametros[Segmento])*(AP96>0)*(AQ96>0)","v":0}]
[null,"Documentos necesarios para la cédula de pensiones",{"$nulls":38},"Lista de chequeo",1,30,{"$f":"(AO97=Parametros[Segmento])*(AP97>0)*(AQ97>0)","v":0}]
[null,"Certificados de indemnizaciones sustitutivas de la pensión o devoluciones de saldos de ahorro pensional.",{"$nulls":38},"Lista de chequeo",1,30,{"$f":"(AO98=Parametros[Segmento])*(AP98>0)*(AQ98>0)","v":0}]
[null,"Certificados de fondos de pensiones.",{"$nulls":38},"Lista de chequeo",1,30,{"$f":"(AO99=Parametros[Segmento])*(AP99>0)*(AQ99>0)","v":0}]
[null,"Documentos necesarios para la cédula de dividendos y participaciones",{"$nulls":38},"Lista de chequeo",1,30,{"$f":"(AO100=Parametros[Segmento])*(AP100>0)*(AQ100>0)","v":0}]
[null,"Certificado de dividendos y participaciones recibidos durante el año, expedidos por las sociedades de las cuales es socio o accionista.",{"$nulls":38},"Lista de chequeo",1,40.1,{"$f":"(AO101=Parametros[Segmento])*(AP101>0)*(AQ101>0)","v":0}]
[null,"Certificados de ingresos recibidos durante el año por concepto de utilidades repartidas por sociedades liquidadas.",{"$nulls":38},"Lista de chequeo",1,30,{"$f":"(AO102=Parametros[Segmento])*(AP102>0)*(AQ102>0)","v":0}]
[null,"Documentos necesarios para la zona de ganancias ocasionales",{"$nulls":38},"Lista de chequeo",1,30,{"$f":"(AO103=Parametros[Segmento])*(AP103>0)*(AQ103>0)","v":0}]
[null,"Certificados de indemnizaciones por seguro de vida.",{"$nulls":38},"Lista de chequeo",1,30,{"$f":"(AO104=Parametros[Segmento])*(AP104>0)*(AQ104>0)","v":0}]
[null,"Facturas de venta de activos poseídos por más de 2 años (esto dependiendo de si la persona natural está obligada o no a facturar, en caso de no estar obligada a facturar, no tendría que soportar la operación con factura, para este caso del no obligado a facturar el soporte podría ser la escritura pública).",{"$nulls":38},"Lista de chequeo",1,60,{"$f":"(AO105=Parametros[Segmento])*(AP105>0)*(AQ105>0)","v":0}]
[null,"Certificados de los ingresos recibidos por herencias, legados, porciones conyugales.",{"$nulls":38},"Lista de chequeo",1,30,{"$f":"(AO106=Parametros[Segmento])*(AP106>0)*(AQ106>0)","v":0}]
[null,"Certificado de retención de premios o loterías.",{"$nulls":38},"Lista de chequeo",1,30,{"$f":"(AO107=Parametros[Segmento])*(AP107>0)*(AQ107>0)","v":0}]
[3.78,102.56,19.78,19.78,16,5,{"$nulls":34},"Cifras, tablas e indicadores",0,15,{"$f":"(AO108=Parametros[Segmento])*(AP108>0)*(AQ108>0)","v":0}]
[{"$nulls":40},"Cifras, tablas e indicadores",1,30,{"$f":"(AO109=Parametros[Segmento])*(AP109>0)*(AQ109>0)","v":0}]
[null,"Cifras, tablas e indicadores",{"$nulls":38},"Cifras, tablas e indicadores",1,30,{"$f":"(AO110=Parametros[Segmento])*(AP110>0)*(AQ110>0)","v":0}]
[null,"Concepto ",2021,2022,2023,{"$nulls":35},"Cifras, tablas e indicadores",1,30,{"$f":"(AO111=Parametros[Segmento])*(AP111>0)*(AQ111>0)","v":0}]
[null,"UVT ",{"v":36308,"d":"$ 36,308"},{"v":38004,"d":"$ 38,004"},{"v":42412,"d":"$ 42,412"},{"$nulls":35},"Cifras, tablas e indicadores",1,30,{"$f":"(AO112=Parametros[Segmento])*(AP112>0)*(AQ112>0)","v":0}]
[null,"Renta presuntiva ",{"v":0,"d":"0%"},{"v":0,"d":"0%"},{"$nulls":36},"Cifras, tablas e indicadores",1,30,{"$f":"(AO113=Parametros[Segmento])*(AP113>0)*(AQ113>0)","v":0}]
[null,"Intereses presuntivos ",{"v":0.0189,"d":"1.89%"},{"v":0.0321,"d":"3.21%"},{"$nulls":36},"Cifras, tablas e indicadores",1,30,{"$f":"(AO114=Parametros[Segmento])*(AP114>0)*(AQ114>0)","v":0}]
[null,"Componente inflacionario rendimientos financieros recibidos por personas naturales no obligadas a llevar contabilidad ",{"v":1,"d":"100%"},{"v":1,"d":"100%"},{"$nulls":36},"Cifras, tablas e indicadores",1,40.1,{"$f":"(AO115=Parametros[Segmento])*(AP115>0)*(AQ115>0)","v":0}]
[null,"Componente inflacionario de los rendimientos financieros que distribuyan los fondos de inversión, mutuos de inversión y de valores ",{"v":1,"d":"100%"},{"v":1,"d":"100%"},{"$nulls":36},"Cifras, tablas e indicadores",1,40.1,{"$f":"(AO116=Parametros[Segmento])*(AP116>0)*(AQ116>0)","v":0}]
[null,"Componente inflacionario de los costos y gastos financieros de personas naturales ",{"v":0.3757,"d":"37.57%"},{"v":0.6335,"d":"63.35%"},{"$nulls":36},"Cifras, tablas e indicadores",1,30,{"$f":"(AO117=Parametros[Segmento])*(AP117>0)*(AQ117>0)","v":0}]
[null,"Parte que puede ser tomada como costo o deducción, correspondiente a intereses y demás costos y gasto financieros en que haya incurrido el contribuyente durante el año ",{"$f":"100%-C117","v":{"v":0.6243000000000001,"d":"62.43%"}},{"$f":"100%-D117","v":{"v":0.36650000000000005,"d":"36.65%"}},{"$nulls":36},"Cifras, tablas e indicadores",1,40.1,{"$f":"(AO118=Parametros[Segmento])*(AP118>0)*(AQ118>0)","v":0}]
[null,"Parte que no constituye costo ni gasto, de los ajustes por diferencia en cambio y de los costos y gastos financieros por concepto de deudas en moneda extranjera ",{"v":0.4011,"d":"40.11%"},{"v":0.5178,"d":"51.78%"},{"$nulls":36},"Cifras, tablas e indicadores",1,40.1,{"$f":"(AO119=Parametros[Segmento])*(AP119>0)*(AQ119>0)","v":0}]
[null,"Parte que puede ser tomada como costo o deducción, correspondiente a intereses y demás costos y gastos financieros por concepto de deudas en moneda extranjera, en que haya incurrido el contribuyente durante el año ",{"$f":"100%-C119","v":{"v":0.5989,"d":"59.89%"}},{"$f":"100%-D119","v":{"v":0.48219999999999996,"d":"48.22%"}},{"$nulls":36},"Cifras, tablas e indicadores",1,40.1,{"$f":"(AO120=Parametros[Segmento])*(AP120>0)*(AQ120>0)","v":0}]
[null,"Salario Mínimo ",{"v":1000000,"d":"$ 1,000,000"},{"v":1160000,"d":"$ 1,160,000"},{"$nulls":36},"Cifras, tablas e indicadores",1,30,{"$f":"(AO121=Parametros[Segmento])*(AP121>0)*(AQ121>0)","v":0}]
[null,"Auxilio de Transporte ",{"v":117172,"d":"$ 117,172"},{"v":140606,"d":"$ 140,606"},{"$nulls":36},"Cifras, tablas e indicadores",1,30,{"$f":"(AO122=Parametros[Segmento])*(AP122>0)*(AQ122>0)","v":0}]
[null,"Sanción mínima ",{"$f":"ROUND(10*C112,-3)","v":{"v":363000,"d":"$ 363,000"}},{"$f":"ROUND(10*38004,-3)","v":{"v":380000,"d":"$ 380,000"}},{"$nulls":36},"Cifras, tablas e indicadores",1,30,{"$f":"(AO123=Parametros[Segmento])*(AP123>0)*(AQ123>0)","v":0}]
[null,"Monto de ingresos para que la declaración de renta deba ser firmada por un contador ",{"$f":"100000*C112","v":{"v":3630800000,"d":"$ 3,630,800,000"}},{"$f":"100000*38004","v":{"v":3800400000,"d":"$ 3,800,400,000"}},{"$nulls":36},"Cifras, tablas e indicadores",1,30,{"$f":"(AO124=Parametros[Segmento])*(AP124>0)*(AQ124>0)","v":0}]
[3.33,2,130.44,31.33,5,{"$nulls":35},"Datos Contribuyente",0,15,{"$f":"(AO125=Parametros[Segmento])*(AP125>0)*(AQ125>0)","v":0}]
[{"$nulls":40},"Datos Contribuyente",1,30,{"$f":"(AO126=Parametros[Segmento])*(AP126>0)*(AQ126>0)","v":0}]
[null,"Datos básicos del contribuyente",{"$nulls":38},"Datos Contribuyente",1,30,{"$f":"(AO127=Parametros[Segmento])*(AP127>0)*(AQ127>0)","v":0}]
[null,"Concepto ",null,"Datos",{"$nulls":36},"Datos Contribuyente",1,30,{"$f":"(AO128=Parametros[Segmento])*(AP128>0)*(AQ128>0)","v":0}]
[null,"Primer nombre ",null,"Andrés",{"$nulls":36},"Datos Contribuyente",1,30,{"$f":"(AO129=Parametros[Segmento])*(AP129>0)*(AQ129>0)","v":0}]
[null,"Segundo nombre ",{"$nulls":38},"Datos Contribuyente",1,30,{"$f":"(AO130=Parametros[Segmento])*(AP130>0)*(AQ130>0)","v":0}]
[null,"Primer apellido ",null,"Julián ",{"$nulls":36},"Datos Contribuyente",1,30,{"$f":"(AO131=Parametros[Segmento])*(AP131>0)*(AQ131>0)","v":0}]
[null,"Segundo apellido ",null,"Martínez",{"$nulls":36},"Datos Contribuyente",1,30,{"$f":"(AO132=Parametros[Segmento])*(AP132>0)*(AQ132>0)","v":0}]
[null,"NIT del contribuyente ",null,1112674696,{"$nulls":36},"Datos Contribuyente",1,30,{"$f":"(AO133=Parametros[Segmento])*(AP133>0)*(AQ133>0)","v":0}]
[null,"Dígito de verificación",null,{"$f":"modOnce(D133)","v":5},{"$nulls":36},"Datos Contribuyente",1,30,{"$f":"(AO134=Parametros[Segmento])*(AP134>0)*(AQ134>0)","v":0}]
[null,"Últimos dos dígitos del NIT ",null,{"$f":"RIGHT(D133,2)","v":"96"},{"$nulls":36},"Datos Contribuyente",0,0,{"$f":"(AO135=Parametros[Segmento])*(AP135>0)*(AQ135>0)","v":0}]
[null,"Actividad principal del contribuyente ",null,"0020",{"$nulls":36},"Datos Contribuyente",1,30,{"$f":"(AO136=Parametros[Segmento])*(AP136>0)*(AQ136>0)","v":0}]
[null,"Código dirección seccional DIAN",null,"05",{"$nulls":36},"Datos Contribuyente",1,30,{"$f":"(AO137=Parametros[Segmento])*(AP137>0)*(AQ137>0)","v":0}]
[null,"¿El contribuyente tiene dependientes económicos?",null,"No",{"$nulls":36},"Datos Contribuyente",1,30,{"$f":"(AO138=Parametros[Segmento])*(AP138>0)*(AQ138>0)","v":0}]
[null,"Relación del contribuyente con el dependiente económico ",{"$nulls":38},"Datos Contribuyente",{"$f":"($D$138=\"Sí\")*1","v":0},30,{"$f":"(AO139=Parametros[Segmento])*(AP139>0)*(AQ139>0)","v":0}]
[null,"Nombre del dependiente económico ",{"$nulls":38},"Datos Contribuyente",{"$f":"($D$138=\"Sí\")*1","v":0},30,{"$f":"(AO140=Parametros[Segmento])*(AP140>0)*(AQ140>0)","v":0}]
[null,"Tipo Documento del dependiente económico ",{"$nulls":38},"Datos Contribuyente",{"$f":"($D$138=\"Sí\")*1","v":0},30,{"$f":"(AO141=Parametros[Segmento])*(AP141>0)*(AQ141>0)","v":0}]
[null,"Documento de identidad del dependiente económico",{"$nulls":38},"Datos Contribuyente",{"$f":"($D$138=\"Sí\")*1","v":0},30,{"$f":"(AO142=Parametros[Segmento])*(AP142>0)*(AQ142>0)","v":0}]
[null,"¿El contribuyente recibió ingresos en el exterior durante el año gravable 2022?",null,"No",{"$nulls":36},"Datos Contribuyente",1,30,{"$f":"(AO143=Parametros[Segmento])*(AP143>0)*(AQ143>0)","v":0}]
[null,"¿Obtuvo ingresos en países miembros de la CAN (Perú, Ecuador y/o Bolivia)?",{"$nulls":38},"Datos Contribuyente",{"$f":"($D$143=\"Sí\")*1","v":0},30,{"$f":"(AO144=Parametros[Segmento])*(AP144>0)*(AQ144>0)","v":0}]
[null,"¿Obtuvo ingresos en otros países?",{"$nulls":38},"Datos Contribuyente",{"$f":"($D$143=\"Sí\")*1","v":0},30,{"$f":"(AO145=Parametros[Segmento])*(AP145>0)*(AQ145>0)","v":0}]
[null,"El contribuyente tenía activos en el exterior a 31 de diciembre de 2022?",null,"No",{"$nulls":36},"Datos Contribuyente",1,30,{"$f":"(AO146=Parametros[Segmento])*(AP146>0)*(AQ146>0)","v":0}]
[null,"¿Cuántas veces ha presentado la declaración de renta el contribuyente?",null,"Esta es la tercera vez o más",{"$nulls":36},"Datos Contribuyente",1,30,{"$f":"(AO147=Parametros[Segmento])*(AP147>0)*(AQ147>0)","v":0}]
[null,"Ingreso promedio mensual de los últimos seis meses de vinculación laboral",null,{"v":0,"d":"$ 0"},{"$nulls":36},"Datos Contribuyente",1,30,{"$f":"(AO148=Parametros[Segmento])*(AP148>0)*(AQ148>0)","v":0}]
[{"$nulls":40},"Datos Contribuyente",1,30,{"$f":"(AO149=Parametros[Segmento])*(AP149>0)*(AQ149>0)","v":0}]
[null,"Información declaración de renta del año anterior ",{"$nulls":38},"Datos Contribuyente",1,30,{"$f":"(AO150=Parametros[Segmento])*(AP150>0)*(AQ150>0)","v":0}]
[null,"Concepto ",null,"Datos",{"$nulls":36},"Datos Contribuyente",1,30,{"$f":"(AO151=Parametros[Segmento])*(AP151>0)*(AQ151>0)","v":0}]
[null,"Patrimonio bruto del año gravable anterior (a 31 de diciembre de 2021)",null,{"v":269780000,"d":"$ 269,780,000"},{"$nulls":36},"Datos Contribuyente",1,30,{"$f":"(AO152=Parametros[Segmento])*(AP152>0)*(AQ152>0)","v":0}]
[null,"Patrimonio líquido del año gravable anterior (a 31 de diciembre de 2021)",null,{"v":241560000,"d":"$ 241,560,000"},{"$nulls":36},"Datos Contribuyente",1,30,{"$f":"(AO153=Parametros[Segmento])*(AP153>0)*(AQ153>0)","v":0}]
[null,"Impuesto neto de renta del año gravable anterior (casilla 127 F210 AG 2021)",null,{"v":0,"d":"$ 0"},{"$nulls":36},"Datos Contribuyente",1,30,{"$f":"(AO154=Parametros[Segmento])*(AP154>0)*(AQ154>0)","v":0}]
[null,"Saldo a pagar año gravable anterior (casilla 137 F210 AG 2021)",null,{"v":0,"d":"$ 0"},{"$nulls":36},"Datos Contribuyente",1,30,{"$f":"(AO155=Parametros[Segmento])*(AP155>0)*(AQ155>0)","v":0}]
[null,"Saldo a favor año gravable anterior",null,{"v":0,"d":"$ 0"},{"$nulls":36},"Datos Contribuyente",1,30,{"$f":"(AO156=Parametros[Segmento])*(AP156>0)*(AQ156>0)","v":0}]
[null,"Saldo a favor año gravable anterior, sin solicitud de devolución y/o compensación (casilla 138 F210 AG 2021)",null,{"v":0,"d":"$ 0"},{"$nulls":36},"Datos Contribuyente",1,30,{"$f":"(AO157=Parametros[Segmento])*(AP157>0)*(AQ157>0)","v":0}]
[null,"Anticipo de renta calculado en la declaración de renta año gravable anterior (casilla 134 F210 AG 2021)",null,{"v":0,"d":"$ 0"},{"$nulls":36},"Datos Contribuyente",1,30,{"$f":"(AO158=Parametros[Segmento])*(AP158>0)*(AQ158>0)","v":0}]
[null,"Pérdidas fiscales de rentas de trabajo por honorarios y comp. servicios personales generadas en el año gravable 2019 y/o \nsiguientes, sin compensar",null,{"v":0,"d":"$ 0"},{"$nulls":36},"Datos Contribuyente",1,40,{"$f":"(AO159=Parametros[Segmento])*(AP159>0)*(AQ159>0)","v":0}]
[null,"¿El contribuyente va a compensar estás pérdidas fiscales?",{"$nulls":38},"Datos Contribuyente",{"$f":"(D159>0)*1","v":0},30,{"$f":"(AO160=Parametros[Segmento])*(AP160>0)*(AQ160>0)","v":0}]
[null,"Pérdidas fiscales de rentas de capital generadas en el año gravable 2019 y/o siguientes, sin compensar",null,{"v":0,"d":"$ 0"},{"$nulls":36},"Datos Contribuyente",1,30,{"$f":"(AO161=Parametros[Segmento])*(AP161>0)*(AQ161>0)","v":0}]
[null,"¿El contribuyente va a compensar estás pérdidas fiscales?",{"$nulls":38},"Datos Contribuyente",{"$f":"(D161>0)*1","v":0},30,{"$f":"(AO162=Parametros[Segmento])*(AP162>0)*(AQ162>0)","v":0}]
[null,"Pérdidas fiscales de rentas no laborales generadas en el año gravable 2019 y/o siguientes, sin compensar",null,{"v":0,"d":"$ 0"},{"$nulls":36},"Datos Contribuyente",1,30,{"$f":"(AO163=Parametros[Segmento])*(AP163>0)*(AQ163>0)","v":0}]
[null,"¿El contribuyente va a compensar estás pérdidas fiscales?",{"$nulls":38},"Datos Contribuyente",{"$f":"(D163>0)*1","v":0},30,{"$f":"(AO164=Parametros[Segmento])*(AP164>0)*(AQ164>0)","v":0}]
[null,"Pérdidas fiscales acumuladas correspondientes al año gravable 2018 y anteriores, sin compensar",null,{"v":0,"d":"$ 0"},{"$nulls":36},"Datos Contribuyente",1,30,{"$f":"(AO165=Parametros[Segmento])*(AP165>0)*(AQ165>0)","v":0}]
[null,"¿El contribuyente va a compensar estás pérdidas fiscales?",{"$nulls":38},"Datos Contribuyente",{"$f":"(D165>0)*1","v":0},30,{"$f":"(AO166=Parametros[Segmento])*(AP166>0)*(AQ166>0)","v":0}]
[null,"Excesos de renta presuntiva, sin compensar",null,{"v":0,"d":"$ 0"},{"$nulls":36},"Datos Contribuyente",1,30,{"$f":"(AO167=Parametros[Segmento])*(AP167>0)*(AQ167>0)","v":0}]
[null,"¿El contribuyente va a compensar estás pérdidas fiscales?",{"$nulls":38},"Datos Contribuyente",{"$f":"(D167>0)*1","v":0},30,{"$f":"(AO168=Parametros[Segmento])*(AP168>0)*(AQ168>0)","v":0}]
[{"$nulls":40},"Datos Contribuyente",1,30,{"$f":"(AO169=Parametros[Segmento])*(AP169>0)*(AQ169>0)","v":0}]
[null,"Plazo para presentar la declaración",{"$nulls":38},"Datos Contribuyente",1,30,{"$f":"(AO170=Parametros[Segmento])*(AP170>0)*(AQ170>0)","v":0}]
[null,"Concepto ",null,"Datos",{"$nulls":36},"Datos Contribuyente",1,30,{"$f":"(AO171=Parametros[Segmento])*(AP171>0)*(AQ171>0)","v":0}]
[null,"Fecha de vencimiento del plazo para presentar la declaración de renta fijada por el Gobierno Nacional",null,{"$f":"IFERROR(VLOOKUP(D135,$G$1857:$P$1957,6,0),\"\")","v":"2023-10-17"},{"$nulls":36},"Datos Contribuyente",1,30,{"$f":"(AO172=Parametros[Segmento])*(AP172>0)*(AQ172>0)","v":0}]
[null,"Fecha en la cual el contribuyente presentará la declaración de renta",null,"22/08/2023",{"$nulls":36},"Datos Contribuyente",1,30,{"$f":"(AO173=Parametros[Segmento])*(AP173>0)*(AQ173>0)","v":0}]
[null,"Mes o fracción de extemporaneidad",null,{"$f":"IFERROR(IF(ROUNDUP((DAYS360(D172,IF(DAY(D173)=31,D173+1,D173))/30),0)>0,ROUNDUP((DAYS360(D172,IF(DAY(D173)=31,D173+1,D173))/30),0),0),0)","v":{"v":0,"d":"0 "}},{"$nulls":36},"Datos Contribuyente",1,30,{"$f":"(AO174=Parametros[Segmento])*(AP174>0)*(AQ174>0)","v":0}]
[null,"La declaración se presentará de forma extemporánea ",null,{"$f":"IF(D174=\"\",\"\",IF(D174<=0,\"No\",\"Sí\"))","v":"No"},{"$nulls":36},"Datos Contribuyente",1,30,{"$f":"(AO175=Parametros[Segmento])*(AP175>0)*(AQ175>0)","v":0}]
[null,"¿El contribuyente recibió un emplazamiento por no declarar?",{"$nulls":38},"Datos Contribuyente",1,30,{"$f":"(AO176=Parametros[Segmento])*(AP176>0)*(AQ176>0)","v":0}]
[{"$f":"IF(Parametros[Segmento]=\"Informes\",0,2.11)","v":2.11},{"$f":"IF(Parametros[Segmento]=\"Informes\",0,82.78)","v":82.78},{"$f":"IF(Parametros[Segmento]=\"Informes\",0,24)","v":24},{"$f":"IF(Parametros[Segmento]=\"Informes\",0,IF(' '!$D$146=\"Sí\",24,0))","v":0},{"$f":"IF(Parametros[Segmento]=\"Informes\",0,24)","v":24},0,0,0,0,0,0,0,0,0,0,0,0,{"$f":"IF(Parametros[Segmento]=\"Informes\",3,0)","v":0},{"$f":"IF(Parametros[Segmento]=\"Informes\",101.44,0)","v":0},{"$f":"IF(Parametros[Segmento]=\"Informes\",22.22,0)","v":0},{"$f":"IF(Parametros[Segmento]=\"Informes\",22.22,0)","v":0},0,0,0,5,{"$nulls":15},{"$f":"IF(Parametros[Segmento]=\"Informes\",\"Informes\",\"Activos\")","v":"Activos"},0,15,{"$f":"(AO177=Parametros[Segmento])*(AP177>0)*(AQ177>0)","v":0}]
[{"$nulls":21},30,"Activos",30,{"$nulls":16},{"$f":"IF(Parametros[Segmento]=\"Informes\",\"Informes\",W178)","v":"Activos"},1,{"$f":"IF(Parametros[Segmento]=\"Informes\",V178,X178)","v":30},{"$f":"(AO178=Parametros[Segmento])*(AP178>0)*(AQ178>0)","v":0}]
[null,"Activos",{"$nulls":16},"Resumen información reportada en la declaración de renta del año gravable 2022",null,null,30,"Activos",30,{"$nulls":16},{"$f":"IF(Parametros[Segmento]=\"Informes\",\"Informes\",W179)","v":"Activos"},1,{"$f":"IF(Parametros[Segmento]=\"Informes\",V179,X179)","v":30},{"$f":"(AO179=Parametros[Segmento])*(AP179>0)*(AQ179>0)","v":0}]
[null,"Disponible a 31 de diciembre de 2022",{"$nulls":12},0,{"$nulls":3},"Disponible a 31 de diciembre de 2022 ",null,null,30,"Activos",30,{"$nulls":16},{"$f":"IF(Parametros[Segmento]=\"Informes\",\"Informes\",W180)","v":"Activos"},1,{"$f":"IF(Parametros[Segmento]=\"Informes\",V180,X180)","v":30},{"$f":"(AO180=Parametros[Segmento])*(AP180>0)*(AQ180>0)","v":0}]
[null,"Concepto","Nacionales ","Del exterior ","Totales",{"$nulls":13},"Descripción","Valor reportado","Total",30,"Activos",30,{"$nulls":16},{"$f":"IF(Parametros[Segmento]=\"Informes\",\"Informes\",W181)","v":"Activos"},{"$f":"$O$180","v":0},{"$f":"IF(Parametros[Segmento]=\"Informes\",V181,X181)","v":30},{"$f":"(AO181=Parametros[Segmento])*(AP181>0)*(AQ181>0)","v":0}]
[null,"Efectivo",{"$nulls":19},0,"Activos",30,{"$nulls":16},{"$f":"IF(Parametros[Segmento]=\"Informes\",\"Informes\",W182)","v":"Activos"},0,{"$f":"IF(Parametros[Segmento]=\"Informes\",V182,X182)","v":30},{"$f":"(AO182=Parametros[Segmento])*(AP182>0)*(AQ182>0)","v":0}]
[{"$nulls":18},{"$f":"+' '!B183","v":0},{"$f":"+SUM(' '!C183:D183)","v":{"v":0,"d":"$ 0"}},null,30,"Activos",30,{"$nulls":14},{"$f":"IF(Parametros[Segmento]=\"Informes\",\"\",W183)","v":"Activos"},{"$f":"IF(Parametros[Segmento]=\"Informes\",\"\",SUBSTITUTE($B$182,CHAR(10),\"\"))","v":"Efectivo"},{"$f":"IF(Parametros[Segmento]=\"Informes\",\"Informes\",W183)","v":"Activos"},{"$f":"IF(Parametros[Segmento]=\"Informes\",T183<>0,(AN183=OFFSET(AN183,1,0))*$O$180)*1","v":0},{"$f":"IF(Parametros[Segmento]=\"Informes\",V183,X183)","v":30},{"$f":"(AO183=Parametros[Segmento])*(AP183>0)*(AQ183>0)","v":0}]
[{"$nulls":18},{"$f":"+' '!B184","v":0},{"$f":"+SUM(' '!C184:D184)","v":{"v":0,"d":"$ 0"}},null,30,"Activos",30,{"$nulls":14},{"$f":"IF(Parametros[Segmento]=\"Informes\",\"\",W184)","v":"Activos"},{"$f":"IF(Parametros[Segmento]=\"Informes\",\"\",SUBSTITUTE($B$182,CHAR(10),\"\"))","v":"Efectivo"},{"$f":"IF(Parametros[Segmento]=\"Informes\",\"Informes\",W184)","v":"Activos"},{"$f":"IF(Parametros[Segmento]=\"Informes\",T184<>0,(AN184=OFFSET(AN184,1,0))*$O$180)*1","v":0},{"$f":"IF(Parametros[Segmento]=\"Informes\",V184,X184)","v":30},{"$f":"(AO184=Parametros[Segmento])*(AP184>0)*(AQ184>0)","v":0}]
[null,"Totales ",{"$f":"SUM(C183:C184)","v":{"v":0,"d":"$ 0"}},{"$f":"SUM(D183:D184)","v":{"v":0,"d":"$ 0"}},{"$f":"C185+(Activos_Exterior=\"Sí\")*D185","v":{"v":0,"d":"$ 0"}},{"$nulls":13},"Total efectivo ",null,{"$f":"SUM(T183:T184)","v":{"v":0,"d":"$ 0"}},30,"Activos",30,{"$nulls":16},{"$f":"IF(Parametros[Segmento]=\"Informes\",\"Informes\",W185)","v":"Activos"},{"$f":"IF(Parametros[Segmento]=\"Informes\",MAX(AP183:AP184),$O$180)","v":0},{"$f":"IF(Parametros[Segmento]=\"Informes\",V185,X185)","v":30},{"$f":"(AO185=Parametros[Segmento])*(AP185>0)*(AQ185>0)","v":0}]
[null,"Saldos en cuentas de ahorros",{"$nulls":19},0,"Activos",30,{"$nulls":16},{"$f":"IF(Parametros[Segmento]=\"Informes\",\"Informes\",W186)","v":"Activos"},{"$f":"$O$180","v":0},{"$f":"IF(Parametros[Segmento]=\"Informes\",V186,X186)","v":30},{"$f":"(AO186=Parametros[Segmento])*(AP186>0)*(AQ186>0)","v":0}]
[null,"BBVA",{"v":9700000,"d":"$ 9,700,000"},{"$nulls":15},{"$f":"+' '!B187","v":"BBVA"},{"$f":"+SUM(' '!C187:D187)","v":{"v":9700000,"d":"$ 9,700,000"}},null,30,"Activos",30,{"$nulls":14},{"$f":"IF(Parametros[Segmento]=\"Informes\",\"\",W187)","v":"Activos"},{"$f":"IF(Parametros[Segmento]=\"Informes\",\"\",SUBSTITUTE($B$186,CHAR(10),\"\"))","v":"Saldos en cuentas de ahorros"},{"$f":"IF(Parametros[Segmento]=\"Informes\",\"Informes\",W187)","v":"Activos"},{"$f":"IF(Parametros[Segmento]=\"Informes\",T187<>0,(AN187=OFFSET(AN187,1,0))*$O$180)*1","v":0},{"$f":"IF(Parametros[Segmento]=\"Informes\",V187,X187)","v":30},{"$f":"(AO187=Parametros[Segmento])*(AP187>0)*(AQ187>0)","v":0}]
[null,"Itaú",{"v":4651000,"d":"$ 4,651,000"},{"$nulls":15},{"$f":"+' '!B188","v":"Itaú"},{"$f":"+SUM(' '!C188:D188)","v":{"v":4651000,"d":"$ 4,651,000"}},null,30,"Activos",30,{"$nulls":14},{"$f":"IF(Parametros[Segmento]=\"Informes\",\"\",W188)","v":"Activos"},{"$f":"IF(Parametros[Segmento]=\"Informes\",\"\",SUBSTITUTE($B$186,CHAR(10),\"\"))","v":"Saldos en cuentas de ahorros"},{"$f":"IF(Parametros[Segmento]=\"Informes\",\"Informes\",W188)","v":"Activos"},{"$f":"IF(Parametros[Segmento]=\"Informes\",T188<>0,(AN188=OFFSET(AN188,1,0))*$O$180)*1","v":0},{"$f":"IF(Parametros[Segmento]=\"Informes\",V188,X188)","v":30},{"$f":"(AO188=Parametros[Segmento])*(AP188>0)*(AQ188>0)","v":0}]
[{"$nulls":18},{"$f":"+' '!B189","v":0},{"$f":"+SUM(' '!C189:D189)","v":{"v":0,"d":"$ 0"}},null,30,"Activos",30,{"$nulls":14},{"$f":"IF(Parametros[Segmento]=\"Informes\",\"\",W189)","v":"Activos"},{"$f":"IF(Parametros[Segmento]=\"Informes\",\"\",SUBSTITUTE($B$186,CHAR(10),\"\"))","v":"Saldos en cuentas de ahorros"},{"$f":"IF(Parametros[Segmento]=\"Informes\",\"Informes\",W189)","v":"Activos"},{"$f":"IF(Parametros[Segmento]=\"Informes\",T189<>0,(AN189=OFFSET(AN189,1,0))*$O$180)*1","v":0},{"$f":"IF(Parametros[Segmento]=\"Informes\",V189,X189)","v":30},{"$f":"(AO189=Parametros[Segmento])*(AP189>0)*(AQ189>0)","v":0}]
[null,"Totales",{"$f":"SUM(C187:C189)","v":{"v":14351000,"d":"$ 14,351,000"}},{"$f":"SUM(D187:D189)","v":{"v":0,"d":"$ 0"}},{"$f":"C190+(Activos_Exterior=\"Sí\")*D190","v":{"v":14351000,"d":"$ 14,351,000"}},{"$nulls":14},"Total saldo en cuentas de ahorros ",{"$f":"+SUM(T187:T189)","v":{"v":14351000,"d":"$ 14,351,000"}},30,"Activos",30,{"$nulls":16},{"$f":"IF(Parametros[Segmento]=\"Informes\",\"Informes\",W190)","v":"Activos"},{"$f":"IF(Parametros[Segmento]=\"Informes\",MAX(AP187:AP189),$O$180)","v":0},{"$f":"IF(Parametros[Segmento]=\"Informes\",V190,X190)","v":30},{"$f":"(AO190=Parametros[Segmento])*(AP190>0)*(AQ190>0)","v":0}]
[null,"Saldos en cuentas corrientes ",{"$nulls":19},0,"Activos",30,{"$nulls":16},{"$f":"IF(Parametros[Segmento]=\"Informes\",\"Informes\",W191)","v":"Activos"},{"$f":"$O$180","v":0},{"$f":"IF(Parametros[Segmento]=\"Informes\",V191,X191)","v":30},{"$f":"(AO191=Parametros[Segmento])*(AP191>0)*(AQ191>0)","v":0}]
[{"$nulls":18},{"$f":"+' '!B192","v":0},{"$f":"+SUM(' '!C192:D192)","v":{"v":0,"d":"$ 0"}},null,30,"Activos",30,{"$nulls":14},{"$f":"IF(Parametros[Segmento]=\"Informes\",\"\",W192)","v":"Activos"},{"$f":"IF(Parametros[Segmento]=\"Informes\",\"\",SUBSTITUTE($B$191,CHAR(10),\"\"))","v":"Saldos en cuentas corrientes "},{"$f":"IF(Parametros[Segmento]=\"Informes\",\"Informes\",W192)","v":"Activos"},{"$f":"IF(Parametros[Segmento]=\"Informes\",T192<>0,(AN192=OFFSET(AN192,1,0))*$O$180)*1","v":0},{"$f":"IF(Parametros[Segmento]=\"Informes\",V192,X192)","v":30},{"$f":"(AO192=Parametros[Segmento])*(AP192>0)*(AQ192>0)","v":0}]
[{"$nulls":18},{"$f":"+' '!B193","v":0},{"$f":"+SUM(' '!C193:D193)","v":{"v":0,"d":"$ 0"}},null,30,"Activos",30,{"$nulls":14},{"$f":"IF(Parametros[Segmento]=\"Informes\",\"\",W193)","v":"Activos"},{"$f":"IF(Parametros[Segmento]=\"Informes\",\"\",SUBSTITUTE($B$191,CHAR(10),\"\"))","v":"Saldos en cuentas corrientes "},{"$f":"IF(Parametros[Segmento]=\"Informes\",\"Informes\",W193)","v":"Activos"},{"$f":"IF(Parametros[Segmento]=\"Informes\",T193<>0,(AN193=OFFSET(AN193,1,0))*$O$180)*1","v":0},{"$f":"IF(Parametros[Segmento]=\"Informes\",V193,X193)","v":30},{"$f":"(AO193=Parametros[Segmento])*(AP193>0)*(AQ193>0)","v":0}]
[null,"Totales",{"$f":"SUM(C192:C193)","v":{"v":0,"d":"$ 0"}},{"$f":"SUM(D192:D193)","v":{"v":0,"d":"$ 0"}},{"$f":"C194+(Activos_Exterior=\"Sí\")*D194","v":{"v":0,"d":"$ 0"}},{"$nulls":14},"Total saldo en cuentas corrientes ",{"$f":"+SUM(T192:T193)","v":{"v":0,"d":"$ 0"}},30,"Activos",30,{"$nulls":16},{"$f":"IF(Parametros[Segmento]=\"Informes\",\"Informes\",W194)","v":"Activos"},{"$f":"IF(Parametros[Segmento]=\"Informes\",MAX(AP192:AP193),$O$180)","v":0},{"$f":"IF(Parametros[Segmento]=\"Informes\",V194,X194)","v":30},{"$f":"(AO194=Parametros[Segmento])*(AP194>0)*(AQ194>0)","v":0}]
[null,"Saldos en cuentas AFC ",{"$nulls":19},0,"Activos",30,{"$nulls":16},{"$f":"IF(Parametros[Segmento]=\"Informes\",\"Informes\",W195)","v":"Activos"},{"$f":"$O$180","v":0},{"$f":"IF(Parametros[Segmento]=\"Informes\",V195,X195)","v":30},{"$f":"(AO195=Parametros[Segmento])*(AP195>0)*(AQ195>0)","v":0}]
[{"$nulls":18},{"$f":"+' '!B196","v":0},{"$f":"+SUM(' '!C196:D196)","v":{"v":0,"d":"$ 0"}},null,30,"Activos",30,{"$nulls":14},{"$f":"IF(Parametros[Segmento]=\"Informes\",\"\",W196)","v":"Activos"},{"$f":"IF(Parametros[Segmento]=\"Informes\",\"\",SUBSTITUTE($B$195,CHAR(10),\"\"))","v":"Saldos en cuentas AFC "},{"$f":"IF(Parametros[Segmento]=\"Informes\",\"Informes\",W196)","v":"Activos"},{"$f":"IF(Parametros[Segmento]=\"Informes\",T196<>0,(AN196=OFFSET(AN196,1,0))*$O$180)*1","v":0},{"$f":"IF(Parametros[Segmento]=\"Informes\",V196,X196)","v":30},{"$f":"(AO196=Parametros[Segmento])*(AP196>0)*(AQ196>0)","v":0}]
[{"$nulls":18},{"$f":"+' '!B197","v":0},{"$f":"+SUM(' '!C197:D197)","v":{"v":0,"d":"$ 0"}},null,30,"Activos",30,{"$nulls":14},{"$f":"IF(Parametros[Segmento]=\"Informes\",\"\",W197)","v":"Activos"},{"$f":"IF(Parametros[Segmento]=\"Informes\",\"\",SUBSTITUTE($B$195,CHAR(10),\"\"))","v":"Saldos en cuentas AFC "},{"$f":"IF(Parametros[Segmento]=\"Informes\",\"Informes\",W197)","v":"Activos"},{"$f":"IF(Parametros[Segmento]=\"Informes\",T197<>0,(AN197=OFFSET(AN197,1,0))*$O$180)*1","v":0},{"$f":"IF(Parametros[Segmento]=\"Informes\",V197,X197)","v":30},{"$f":"(AO197=Parametros[Segmento])*(AP197>0)*(AQ197>0)","v":0}]
[null,"Totales",{"$f":"SUM(C196:C197)","v":{"v":0,"d":"$ 0"}},{"$f":"SUM(D196:D197)","v":{"v":0,"d":"$ 0"}},{"$f":"C198+(Activos_Exterior=\"Sí\")*D198","v":{"v":0,"d":"$ 0"}},{"$nulls":14},"Total saldo en cuentas AFC ",{"$f":"+SUM(T196:T197)","v":{"v":0,"d":"$ 0"}},30,"Activos",30,{"$nulls":16},{"$f":"IF(Parametros[Segmento]=\"Informes\",\"Informes\",W198)","v":"Activos"},{"$f":"IF(Parametros[Segmento]=\"Informes\",MAX(AP196:AP197),$O$180)","v":0},{"$f":"IF(Parametros[Segmento]=\"Informes\",V198,X198)","v":30},{"$f":"(AO198=Parametros[Segmento])*(AP198>0)*(AQ198>0)","v":0}]
[null,"Saldos en fondos de pensiones voluntarias ",{"$nulls":19},0,"Activos",30,{"$nulls":16},{"$f":"IF(Parametros[Segmento]=\"Informes\",\"Informes\",W199)","v":"Activos"},{"$f":"$O$180","v":0},{"$f":"IF(Parametros[Segmento]=\"Informes\",V199,X199)","v":30},{"$f":"(AO199=Parametros[Segmento])*(AP199>0)*(AQ199>0)","v":0}]
[{"$nulls":18},{"$f":"+' '!B200","v":0},{"$f":"+SUM(' '!C200:D200)","v":{"v":0,"d":"$ 0"}},null,30,"Activos",30,{"$nulls":14},{"$f":"IF(Parametros[Segmento]=\"Informes\",\"\",W200)","v":"Activos"},{"$f":"IF(Parametros[Segmento]=\"Informes\",\"\",SUBSTITUTE($B$199,CHAR(10),\"\"))","v":"Saldos en fondos de pensiones voluntarias "},{"$f":"IF(Parametros[Segmento]=\"Informes\",\"Informes\",W200)","v":"Activos"},{"$f":"IF(Parametros[Segmento]=\"Informes\",T200<>0,(AN200=OFFSET(AN200,1,0))*$O$180)*1","v":0},{"$f":"IF(Parametros[Segmento]=\"Informes\",V200,X200)","v":30},{"$f":"(AO200=Parametros[Segmento])*(AP200>0)*(AQ200>0)","v":0}]
[{"$nulls":18},{"$f":"+' '!B201","v":0},{"$f":"+SUM(' '!C201:D201)","v":{"v":0,"d":"$ 0"}},null,30,"Activos",30,{"$nulls":14},{"$f":"IF(Parametros[Segmento]=\"Informes\",\"\",W201)","v":"Activos"},{"$f":"IF(Parametros[Segmento]=\"Informes\",\"\",SUBSTITUTE($B$199,CHAR(10),\"\"))","v":"Saldos en fondos de pensiones voluntarias "},{"$f":"IF(Parametros[Segmento]=\"Informes\",\"Informes\",W201)","v":"Activos"},{"$f":"IF(Parametros[Segmento]=\"Informes\",T201<>0,(AN201=OFFSET(AN201,1,0))*$O$180)*1","v":0},{"$f":"IF(Parametros[Segmento]=\"Informes\",V201,X201)","v":30},{"$f":"(AO201=Parametros[Segmento])*(AP201>0)*(AQ201>0)","v":0}]
[null,"Totales",{"$f":"SUM(C200:C201)","v":{"v":0,"d":"$ 0"}},{"$f":"SUM(D200:D201)","v":{"v":0,"d":"$ 0"}},{"$f":"C202+(Activos_Exterior=\"Sí\")*D202","v":{"v":0,"d":"$ 0"}},{"$nulls":14},"Total saldo en fondos de pensiones voluntarias ",{"$f":"+SUM(T200:T201)","v":{"v":0,"d":"$ 0"}},30,"Activos",30,{"$nulls":16},{"$f":"IF(Parametros[Segmento]=\"Informes\",\"Informes\",W202)","v":"Activos"},{"$f":"IF(Parametros[Segmento]=\"Informes\",MAX(AP200:AP201),$O$180)","v":0},{"$f":"IF(Parametros[Segmento]=\"Informes\",V202,X202)","v":30},{"$f":"(AO202=Parametros[Segmento])*(AP202>0)*(AQ202>0)","v":0}]
[null,"Saldo acumulado en el fondo de cesantía a 31 de diciembre de 2022",{"$nulls":19},0,"Activos",30,{"$nulls":16},{"$f":"IF(Parametros[Segmento]=\"Informes\",\"Informes\",W203)","v":"Activos"},{"$f":"$O$180","v":0},{"$f":"IF(Parametros[Segmento]=\"Informes\",V203,X203)","v":30},{"$f":"(AO203=Parametros[Segmento])*(AP203>0)*(AQ203>0)","v":0}]
[{"$nulls":18},{"$f":"+' '!B204","v":0},{"$f":"+SUM(' '!C204:D204)","v":{"v":0,"d":"$ 0"}},null,30,"Activos",30,{"$nulls":14},{"$f":"IF(Parametros[Segmento]=\"Informes\",\"\",W204)","v":"Activos"},{"$f":"IF(Parametros[Segmento]=\"Informes\",\"\",SUBSTITUTE($B$203,CHAR(10),\"\"))","v":"Saldo acumulado en el fondo de cesantía a 31 de diciembre de 2022"},{"$f":"IF(Parametros[Segmento]=\"Informes\",\"Informes\",W204)","v":"Activos"},{"$f":"IF(Parametros[Segmento]=\"Informes\",T204<>0,(AN204=OFFSET(AN204,1,0))*$O$180)*1","v":0},{"$f":"IF(Parametros[Segmento]=\"Informes\",V204,X204)","v":30},{"$f":"(AO204=Parametros[Segmento])*(AP204>0)*(AQ204>0)","v":0}]
[{"$nulls":18},{"$f":"+' '!B205","v":0},{"$f":"+SUM(' '!C205:D205)","v":{"v":0,"d":"$ 0"}},null,30,"Activos",30,{"$nulls":14},{"$f":"IF(Parametros[Segmento]=\"Informes\",\"\",W205)","v":"Activos"},{"$f":"IF(Parametros[Segmento]=\"Informes\",\"\",SUBSTITUTE($B$203,CHAR(10),\"\"))","v":"Saldo acumulado en el fondo de cesantía a 31 de diciembre de 2022"},{"$f":"IF(Parametros[Segmento]=\"Informes\",\"Informes\",W205)","v":"Activos"},{"$f":"IF(Parametros[Segmento]=\"Informes\",T205<>0,(AN205=OFFSET(AN205,1,0))*$O$180)*1","v":0},{"$f":"IF(Parametros[Segmento]=\"Informes\",V205,X205)","v":30},{"$f":"(AO205=Parametros[Segmento])*(AP205>0)*(AQ205>0)","v":0}]
[null,"Totales",{"$f":"SUM(C204:C205)","v":{"v":0,"d":"$ 0"}},{"$f":"SUM(D204:D205)","v":{"v":0,"d":"$ 0"}},{"$f":"C206+(Activos_Exterior=\"Sí\")*D206","v":{"v":0,"d":"$ 0"}},{"$nulls":14},"Total saldo acumulado en el fondo de cesantías ",{"$f":"+SUM(T204:T205)","v":{"v":0,"d":"$ 0"}},30,"Activos",30,{"$nulls":16},{"$f":"IF(Parametros[Segmento]=\"Informes\",\"Informes\",W206)","v":"Activos"},{"$f":"IF(Parametros[Segmento]=\"Informes\",MAX(AP204:AP205),$O$180)","v":0},{"$f":"IF(Parametros[Segmento]=\"Informes\",V206,X206)","v":30},{"$f":"(AO206=Parametros[Segmento])*(AP206>0)*(AQ206>0)","v":0}]
[null,"Otros activos del disponibles",{"$nulls":38},"Activos",{"$f":"$O$180","v":0},30,{"$f":"(AO207=Parametros[Segmento])*(AP207>0)*(AQ207>0)","v":0}]
[{"$nulls":18},{"$f":"+' '!B208","v":0},{"$f":"+SUM(' '!C208:D208)","v":{"v":0,"d":"$ 0"}},null,30,"Activos",30,{"$nulls":14},{"$f":"IF(Parametros[Segmento]=\"Informes\",\"\",W208)","v":"Activos"},{"$f":"IF(Parametros[Segmento]=\"Informes\",\"\",SUBSTITUTE($B$207,CHAR(10),\"\"))","v":"Otros activos del disponibles"},{"$f":"IF(Parametros[Segmento]=\"Informes\",\"Informes\",W208)","v":"Activos"},{"$f":"IF(Parametros[Segmento]=\"Informes\",T208<>0,(AN208=OFFSET(AN208,1,0))*$O$180)*1","v":0},{"$f":"IF(Parametros[Segmento]=\"Informes\",V208,X208)","v":30},{"$f":"(AO208=Parametros[Segmento])*(AP208>0)*(AQ208>0)","v":0}]
[{"$nulls":18},{"$f":"+' '!B209","v":0},{"$f":"+SUM(' '!C209:D209)","v":{"v":0,"d":"$ 0"}},null,30,"Activos",30,{"$nulls":14},{"$f":"IF(Parametros[Segmento]=\"Informes\",\"\",W209)","v":"Activos"},{"$f":"IF(Parametros[Segmento]=\"Informes\",\"\",SUBSTITUTE($B$207,CHAR(10),\"\"))","v":"Otros activos del disponibles"},{"$f":"IF(Parametros[Segmento]=\"Informes\",\"Informes\",W209)","v":"Activos"},{"$f":"IF(Parametros[Segmento]=\"Informes\",T209<>0,(AN209=OFFSET(AN209,1,0))*$O$180)*1","v":0},{"$f":"IF(Parametros[Segmento]=\"Informes\",V209,X209)","v":30},{"$f":"(AO209=Parametros[Segmento])*(AP209>0)*(AQ209>0)","v":0}]
[null,"Totales",{"$f":"SUM(C208:C209)","v":{"v":0,"d":"$ 0"}},{"$f":"SUM(D208:D209)","v":{"v":0,"d":"$ 0"}},{"$f":"C210+(Activos_Exterior=\"Sí\")*D210","v":{"v":0,"d":"$ 0"}},{"$nulls":14},"Total otros activos del disponibles ",{"$f":"+SUM(T208:T209)","v":{"v":0,"d":"$ 0"}},30,"Activos",30,{"$nulls":16},{"$f":"IF(Parametros[Segmento]=\"Informes\",\"Informes\",W210)","v":"Activos"},{"$f":"IF(Parametros[Segmento]=\"Informes\",MAX(AP208:AP209),$O$180)","v":0},{"$f":"IF(Parametros[Segmento]=\"Informes\",V210,X210)","v":30},{"$f":"(AO210=Parametros[Segmento])*(AP210>0)*(AQ210>0)","v":0}]
[null,"Total Disponible a 31 de diciembre de 2022",{"$f":"(C185+C190+C194+C198+C202+C206+C210)","v":{"v":14351000,"d":"$ 14,351,000"}},{"$f":"(D185+D190+D194+D198+D202+D206+D210)","v":{"v":0,"d":"$ 0"}},{"$f":"C211+(Activos_Exterior=\"Sí\")*D211","v":{"v":14351000,"d":"$ 14,351,000"}},{"$nulls":14},"Total disponible a 31 de diciembre de 2022 ",{"$f":"SUM(U183:U210)","v":{"v":14351000,"d":"$ 14,351,000"}},30,"Activos",30,{"$nulls":16},{"$f":"IF(Parametros[Segmento]=\"Informes\",\"Informes\",W211)","v":"Activos"},{"$f":"$O$180","v":0},{"$f":"IF(Parametros[Segmento]=\"Informes\",V211,X211)","v":30},{"$f":"(AO211=Parametros[Segmento])*(AP211>0)*(AQ211>0)","v":0}]
[{"$nulls":40},"Activos",1,30,{"$f":"(AO212=Parametros[Segmento])*(AP212>0)*(AQ212>0)","v":0}]
[2.22,82.78,19.56,19.56,0,19.56,19.56,19.56,19.56,19.56,19.56,19.56,19.56,19.56,19.56,5,0,null,0,0,0,0,0,0,{"$nulls":16},"Reajuste fiscal de los activos",0,15,{"$f":"(AO213=Parametros[Segmento])*(AP213>0)*(AQ213>0)","v":0}]
[{"$nulls":40},"Reajuste fiscal de los activos",1,30,{"$f":"(AO214=Parametros[Segmento])*(AP214>0)*(AQ214>0)","v":0}]
[null,"Reajuste fiscal de los activos",{"$nulls":16},"Acciones, aportes sociales e inversiones a 31 de diciembre de 2022 ",null,null,30,"Reajuste fiscal de los activos",30,{"$nulls":16},{"$f":"IF(Parametros[Segmento]=\"Informes\",\"Informes\",W215)","v":"Reajuste fiscal de los activos"},1,{"$f":"IF(Parametros[Segmento]=\"Informes\",V215,X215)","v":30},{"$f":"(AO215=Parametros[Segmento])*(AP215>0)*(AQ215>0)","v":0}]
[{"$f":"+DSUM(D217:N219,M217,I376:I377)","v":0},"Acciones y/o aportes sociales poseídos a 31 de diciembre de 2022",{"$nulls":16},"Descripción","Valor reportado","Total",30,"Reajuste fiscal de los activos",30,{"$nulls":16},{"$f":"IF(Parametros[Segmento]=\"Informes\",\"Informes\",W216)","v":"Reajuste fiscal de los activos"},1,{"$f":"IF(Parametros[Segmento]=\"Informes\",V216,X216)","v":30},{"$f":"(AO216=Parametros[Segmento])*(AP216>0)*(AQ216>0)","v":0}]
[null,"Descripción","Ubicación","Fecha de compra \n(dd/mm/aaaa)","Año","Costo de adquisición","Valor declarado el año anterior","¿Desea aplicar el reajuste fiscal?","Costo \nfiscal reajustado a 31 de diciembre de 2022 (artículo 70 del ET)","¿Planea vender el bien durante el 2022? ","Costo \nfiscal ajustado con factor (artículo 73 del ET)","Valor patrimonial a reportar ","Variación Patrimonial ",{"$nulls":27},"Reajuste fiscal de los activos",1,105,{"$f":"(AO217=Parametros[Segmento])*(AP217>0)*(AQ217>0)","v":0}]
[{"$nulls":4},{"$f":"IF(D218>0,YEAR(D218),\" \")","v":" "},{"$nulls":3},{"$f":"IF(E218<2022,IF(H218=\"Sí\",G218*(1+$E$322),G218),IF(H218=\"Sí\",F218*(1+$E$322/12*(12-MONTH(D218))),F218))","v":{"v":0,"d":"$ 0"}},null,{"$f":"+IF(J218=\"Sí\",IF(E218<2022,F218*VLOOKUP(E218,$B$322:$D$388,3,0),0),0)","v":{"v":0,"d":"$ 0"}},{"$f":"+MAX(F218,G218,I218,K218)","v":{"v":0,"d":"$ 0"}},{"$f":"IF(E218<2022,L218-G218,L218-F218)","v":{"v":0,"d":"$ 0"}},{"$nulls":5},{"$f":"+' '!B218","v":0},{"$f":"+' '!L218","v":{"v":0,"d":"$ 0"}},null,30,"Reajuste fiscal de los activos",30,{"$nulls":14},{"$f":"IF(Parametros[Segmento]=\"Informes\",\"\",W218)","v":"Reajuste fiscal de los activos"},{"$f":"IF(Parametros[Segmento]=\"Informes\",\"\",SUBSTITUTE($B$216,CHAR(10),\"\"))","v":"Acciones y/o aportes sociales poseídos a 31 de diciembre de 2022"},{"$f":"IF(Parametros[Segmento]=\"Informes\",\"Informes\",W218)","v":"Reajuste fiscal de los activos"},{"$f":"IF(Parametros[Segmento]=\"Informes\",T218<>0,(AN218=OFFSET(AN218,1,0)))*1","v":1},{"$f":"IF(Parametros[Segmento]=\"Informes\",V218,X218)","v":30},{"$f":"(AO218=Parametros[Segmento])*(AP218>0)*(AQ218>0)","v":0}]
[{"$nulls":4},{"$f":"IF(D219>0,YEAR(D219),\" \")","v":" "},{"$nulls":3},{"$f":"IF(E219<2022,IF(H219=\"Sí\",G219*(1+$E$322),G219),IF(H219=\"Sí\",F219*(1+$E$322/12*(12-MONTH(D219))),F219))","v":{"v":0,"d":"$ 0"}},null,{"$f":"+IF(J219=\"Sí\",IF(E219<2022,F219*VLOOKUP(E219,$B$322:$D$388,3,0),0),0)","v":{"v":0,"d":"$ 0"}},{"$f":"+MAX(F219,G219,I219,K219)","v":{"v":0,"d":"$ 0"}},{"$f":"IF(E219<2022,L219-G219,L219-F219)","v":{"v":0,"d":"$ 0"}},{"$nulls":5},{"$f":"+' '!B219","v":0},{"$f":"+' '!L219","v":{"v":0,"d":"$ 0"}},null,30,"Reajuste fiscal de los activos",30,{"$nulls":14},{"$f":"IF(Parametros[Segmento]=\"Informes\",\"\",W219)","v":"Reajuste fiscal de los activos"},{"$f":"IF(Parametros[Segmento]=\"Informes\",\"\",SUBSTITUTE($B$216,CHAR(10),\"\"))","v":"Acciones y/o aportes sociales poseídos a 31 de diciembre de 2022"},{"$f":"IF(Parametros[Segmento]=\"Informes\",\"Informes\",W219)","v":"Reajuste fiscal de los activos"},{"$f":"IF(Parametros[Segmento]=\"Informes\",T219<>0,(AN219=OFFSET(AN219,1,0)))*1","v":0},{"$f":"IF(Parametros[Segmento]=\"Informes\",V219,X219)","v":30},{"$f":"(AO219=Parametros[Segmento])*(AP219>0)*(AQ219>0)","v":0}]
[{"$nulls":12},{"$f":"SUM(M218:M219)","v":{"v":0,"d":"$ 0"}},{"$nulls":6},"Total acciones y/o aportes sociales ",{"$f":"+SUM(T218:T219)","v":{"v":0,"d":"$ 0"}},30,"Reajuste fiscal de los activos",30,{"$nulls":16},{"$f":"IF(Parametros[Segmento]=\"Informes\",\"Informes\",W220)","v":"Reajuste fiscal de los activos"},{"$f":"IF(Parametros[Segmento]=\"Informes\",MAX(AP218:AP219),1)","v":1},{"$f":"IF(Parametros[Segmento]=\"Informes\",V220,X220)","v":30},{"$f":"(AO220=Parametros[Segmento])*(AP220>0)*(AQ220>0)","v":0}]
[null,"Acciones, Aportes Sociales e Inversiones a 31 de diciembre de 2022",{"$nulls":12},0,{"$nulls":25},"Activos",1,30,{"$f":"(AO221=Parametros[Segmento])*(AP221>0)*(AQ221>0)","v":0}]
[null,"Concepto","Nacionales ","Otros del exterior ","Totales",{"$nulls":35},"Activos",{"$f":"$O$221","v":0},30,{"$f":"(AO222=Parametros[Segmento])*(AP222>0)*(AQ222>0)","v":0}]
[null,"Acciones y/o aportes sociales ",{"$f":"+DSUM(C217:M219,L217,G321:G322)","v":{"v":0,"d":"$ 0"}},{"$f":"+DSUM(C217:M219,L217,H321:H322)","v":{"v":0,"d":"$ 0"}},{"$f":"C223+(Activos_Exterior=\"Sí\")*D223","v":{"v":0,"d":"$ 0"}},{"$nulls":9},1,1,{"$nulls":24},"Activos",0,30,{"$f":"(AO223=Parametros[Segmento])*(AP223>0)*(AQ223>0)","v":0}]
[null,"Fiducuentas ",{"$nulls":38},"Activos",0,30,{"$f":"(AO224=Parametros[Segmento])*(AP224>0)*(AQ224>0)","v":0}]
[{"$nulls":18},{"$f":"+' '!B225","v":0},{"$f":"+SUM(' '!C225:D225)","v":{"v":0,"d":"$ 0"}},null,30,"Activos",30,{"$nulls":14},{"$f":"IF(Parametros[Segmento]=\"Informes\",\"\",W225)","v":"Activos"},{"$f":"IF(Parametros[Segmento]=\"Informes\",\"\",SUBSTITUTE($B$224,CHAR(10),\"\"))","v":"Fiducuentas "},{"$f":"IF(Parametros[Segmento]=\"Informes\",\"Informes\",W225)","v":"Activos"},{"$f":"IF(Parametros[Segmento]=\"Informes\",T225<>0,(AN225=OFFSET(AN225,1,0))*$O$221)*1","v":0},{"$f":"IF(Parametros[Segmento]=\"Informes\",V225,X225)","v":30},{"$f":"(AO225=Parametros[Segmento])*(AP225>0)*(AQ225>0)","v":0}]
[{"$nulls":18},{"$f":"+' '!B226","v":0},{"$f":"+SUM(' '!C226:D226)","v":{"v":0,"d":"$ 0"}},null,30,"Activos",30,{"$nulls":14},{"$f":"IF(Parametros[Segmento]=\"Informes\",\"\",W226)","v":"Activos"},{"$f":"IF(Parametros[Segmento]=\"Informes\",\"\",SUBSTITUTE($B$224,CHAR(10),\"\"))","v":"Fiducuentas "},{"$f":"IF(Parametros[Segmento]=\"Informes\",\"Informes\",W226)","v":"Activos"},{"$f":"IF(Parametros[Segmento]=\"Informes\",T226<>0,(AN226=OFFSET(AN226,1,0))*$O$221)*1","v":0},{"$f":"IF(Parametros[Segmento]=\"Informes\",V226,X226)","v":30},{"$f":"(AO226=Parametros[Segmento])*(AP226>0)*(AQ226>0)","v":0}]
[null,"Totales",{"$f":"+SUM(C225:C226)","v":{"v":0,"d":"$ 0"}},{"$f":"+SUM(D225:D226)","v":{"v":0,"d":"$ 0"}},{"$f":"C227+(Activos_Exterior=\"Sí\")*D227","v":{"v":0,"d":"$ 0"}},{"$nulls":14},"Total saldo en fiducuentas ",{"$f":"+SUM(T225:T226)","v":{"v":0,"d":"$ 0"}},30,"Activos",30,{"$nulls":16},{"$f":"IF(Parametros[Segmento]=\"Informes\",\"Informes\",W227)","v":"Activos"},{"$f":"IF(Parametros[Segmento]=\"Informes\",MAX(AP225:AP226),$O$221)","v":0},{"$f":"IF(Parametros[Segmento]=\"Informes\",V227,X227)","v":30},{"$f":"(AO227=Parametros[Segmento])*(AP227>0)*(AQ227>0)","v":0}]
[null,"CDT y/o CDAT",{"$nulls":38},"Activos",{"$f":"$O$221","v":0},30,{"$f":"(AO228=Parametros[Segmento])*(AP228>0)*(AQ228>0)","v":0}]
[{"$nulls":18},{"$f":"+' '!B229","v":0},{"$f":"+SUM(' '!C229:D229)","v":{"v":0,"d":"$ 0"}},null,30,"Activos",30,{"$nulls":14},{"$f":"IF(Parametros[Segmento]=\"Informes\",\"\",W229)","v":"Activos"},{"$f":"IF(Parametros[Segmento]=\"Informes\",\"\",SUBSTITUTE($B$228,CHAR(10),\"\"))","v":"CDT y/o CDAT"},{"$f":"IF(Parametros[Segmento]=\"Informes\",\"Informes\",W229)","v":"Activos"},{"$f":"IF(Parametros[Segmento]=\"Informes\",T229<>0,(AN229=OFFSET(AN229,1,0))*$O$221)*1","v":0},{"$f":"IF(Parametros[Segmento]=\"Informes\",V229,X229)","v":30},{"$f":"(AO229=Parametros[Segmento])*(AP229>0)*(AQ229>0)","v":0}]
[{"$nulls":18},{"$f":"+' '!B230","v":0},{"$f":"+SUM(' '!C230:D230)","v":{"v":0,"d":"$ 0"}},null,30,"Activos",30,{"$nulls":14},{"$f":"IF(Parametros[Segmento]=\"Informes\",\"\",W230)","v":"Activos"},{"$f":"IF(Parametros[Segmento]=\"Informes\",\"\",SUBSTITUTE($B$228,CHAR(10),\"\"))","v":"CDT y/o CDAT"},{"$f":"IF(Parametros[Segmento]=\"Informes\",\"Informes\",W230)","v":"Activos"},{"$f":"IF(Parametros[Segmento]=\"Informes\",T230<>0,(AN230=OFFSET(AN230,1,0))*$O$221)*1","v":0},{"$f":"IF(Parametros[Segmento]=\"Informes\",V230,X230)","v":30},{"$f":"(AO230=Parametros[Segmento])*(AP230>0)*(AQ230>0)","v":0}]
[null,"Totales",{"$f":"SUM(C229:C230)","v":{"v":0,"d":"$ 0"}},{"$f":"SUM(D229:D230)","v":{"v":0,"d":"$ 0"}},{"$f":"C231+(Activos_Exterior=\"Sí\")*D231","v":{"v":0,"d":"$ 0"}},{"$nulls":14},"Total CDT y/o CDAT",{"$f":"+SUM(T229:T230)","v":{"v":0,"d":"$ 0"}},30,"Activos",30,{"$nulls":16},{"$f":"IF(Parametros[Segmento]=\"Informes\",\"Informes\",W231)","v":"Activos"},{"$f":"IF(Parametros[Segmento]=\"Informes\",MAX(AP229:AP230),$O$221)","v":0},{"$f":"IF(Parametros[Segmento]=\"Informes\",V231,X231)","v":30},{"$f":"(AO231=Parametros[Segmento])*(AP231>0)*(AQ231>0)","v":0}]
[null,"Inversiones en fondos ",{"$nulls":38},"Activos",{"$f":"$O$221","v":0},30,{"$f":"(AO232=Parametros[Segmento])*(AP232>0)*(AQ232>0)","v":0}]
[{"$nulls":18},{"$f":"+' '!B233","v":0},{"$f":"+SUM(' '!C233:D233)","v":{"v":0,"d":"$ 0"}},null,30,"Activos",30,{"$nulls":14},{"$f":"IF(Parametros[Segmento]=\"Informes\",\"\",W233)","v":"Activos"},{"$f":"IF(Parametros[Segmento]=\"Informes\",\"\",SUBSTITUTE($B$232,CHAR(10),\"\"))","v":"Inversiones en fondos "},{"$f":"IF(Parametros[Segmento]=\"Informes\",\"Informes\",W233)","v":"Activos"},{"$f":"IF(Parametros[Segmento]=\"Informes\",T233<>0,(AN233=OFFSET(AN233,1,0))*$O$221)*1","v":0},{"$f":"IF(Parametros[Segmento]=\"Informes\",V233,X233)","v":30},{"$f":"(AO233=Parametros[Segmento])*(AP233>0)*(AQ233>0)","v":0}]
[{"$nulls":18},{"$f":"+' '!B234","v":0},{"$f":"+SUM(' '!C234:D234)","v":{"v":0,"d":"$ 0"}},null,30,"Activos",30,{"$nulls":14},{"$f":"IF(Parametros[Segmento]=\"Informes\",\"\",W234)","v":"Activos"},{"$f":"IF(Parametros[Segmento]=\"Informes\",\"\",SUBSTITUTE($B$232,CHAR(10),\"\"))","v":"Inversiones en fondos "},{"$f":"IF(Parametros[Segmento]=\"Informes\",\"Informes\",W234)","v":"Activos"},{"$f":"IF(Parametros[Segmento]=\"Informes\",T234<>0,(AN234=OFFSET(AN234,1,0))*$O$221)*1","v":0},{"$f":"IF(Parametros[Segmento]=\"Informes\",V234,X234)","v":30},{"$f":"(AO234=Parametros[Segmento])*(AP234>0)*(AQ234>0)","v":0}]
[null,"Totales",{"$f":"SUM(C233:C234)","v":{"v":0,"d":"$ 0"}},{"$f":"SUM(D233:D234)","v":{"v":0,"d":"$ 0"}},{"$f":"C235+(Activos_Exterior=\"Sí\")*D235","v":{"v":0,"d":"$ 0"}},{"$nulls":14},"Total inversiones en fondos ",{"$f":"+SUM(T233:T234)","v":{"v":0,"d":"$ 0"}},30,"Activos",30,{"$nulls":16},{"$f":"IF(Parametros[Segmento]=\"Informes\",\"Informes\",W235)","v":"Activos"},{"$f":"IF(Parametros[Segmento]=\"Informes\",MAX(AP233:AP234),$O$221)","v":0},{"$f":"IF(Parametros[Segmento]=\"Informes\",V235,X235)","v":30},{"$f":"(AO235=Parametros[Segmento])*(AP235>0)*(AQ235>0)","v":0}]
[null,"Otros ahorros e inversiones ",{"$nulls":38},"Activos",{"$f":"$O$221","v":0},30,{"$f":"(AO236=Parametros[Segmento])*(AP236>0)*(AQ236>0)","v":0}]
[{"$nulls":18},{"$f":"+' '!B237","v":0},{"$f":"+SUM(' '!C237:D237)","v":{"v":0,"d":"$ 0"}},null,30,"Activos",30,{"$nulls":14},{"$f":"IF(Parametros[Segmento]=\"Informes\",\"\",W237)","v":"Activos"},{"$f":"IF(Parametros[Segmento]=\"Informes\",\"\",SUBSTITUTE($B$236,CHAR(10),\"\"))","v":"Otros ahorros e inversiones "},{"$f":"IF(Parametros[Segmento]=\"Informes\",\"Informes\",W237)","v":"Activos"},{"$f":"IF(Parametros[Segmento]=\"Informes\",T237<>0,(AN237=OFFSET(AN237,1,0))*$O$221)*1","v":0},{"$f":"IF(Parametros[Segmento]=\"Informes\",V237,X237)","v":30},{"$f":"(AO237=Parametros[Segmento])*(AP237>0)*(AQ237>0)","v":0}]
[{"$nulls":18},{"$f":"+' '!B238","v":0},{"$f":"+SUM(' '!C238:D238)","v":{"v":0,"d":"$ 0"}},null,30,"Activos",30,{"$nulls":14},{"$f":"IF(Parametros[Segmento]=\"Informes\",\"\",W238)","v":"Activos"},{"$f":"IF(Parametros[Segmento]=\"Informes\",\"\",SUBSTITUTE($B$236,CHAR(10),\"\"))","v":"Otros ahorros e inversiones "},{"$f":"IF(Parametros[Segmento]=\"Informes\",\"Informes\",W238)","v":"Activos"},{"$f":"IF(Parametros[Segmento]=\"Informes\",T238<>0,(AN238=OFFSET(AN238,1,0))*$O$221)*1","v":0},{"$f":"IF(Parametros[Segmento]=\"Informes\",V238,X238)","v":30},{"$f":"(AO238=Parametros[Segmento])*(AP238>0)*(AQ238>0)","v":0}]
[null,"Totales",{"$f":"SUM(C237:C238)","v":{"v":0,"d":"$ 0"}},{"$f":"SUM(D237:D238)","v":{"v":0,"d":"$ 0"}},{"$f":"C239+(Activos_Exterior=\"Sí\")*D239","v":{"v":0,"d":"$ 0"}},{"$nulls":14},"Total saldo en fondos de pensiones voluntarias ",{"$f":"+SUM(T237:T238)","v":{"v":0,"d":"$ 0"}},30,"Activos",30,{"$nulls":16},{"$f":"IF(Parametros[Segmento]=\"Informes\",\"Informes\",W239)","v":"Activos"},{"$f":"IF(Parametros[Segmento]=\"Informes\",MAX(AP237:AP238),$O$221)","v":0},{"$f":"IF(Parametros[Segmento]=\"Informes\",V239,X239)","v":30},{"$f":"(AO239=Parametros[Segmento])*(AP239>0)*(AQ239>0)","v":0}]
[null,"Total Acciones, Aportes Sociales e Inversiones a 31 de diciembre de 2022",{"$f":"(C223+C227+C231+C235+C239)","v":{"v":0,"d":"$ 0"}},{"$f":"(D223+D227+D231+D235+D239)","v":{"v":0,"d":"$ 0"}},{"$f":"C240+(Activos_Exterior=\"Sí\")*D240","v":{"v":0,"d":"$ 0"}},{"$nulls":14},"Total acciones, aportes sociales y/o inversiones a 31 de diciembre de 2022 ",{"$f":"SUM(' '!U218:U239)","v":{"v":0,"d":"$ 0"}},30,"Activos",30,{"$nulls":16},{"$f":"IF(Parametros[Segmento]=\"Informes\",\"Informes\",W240)","v":"Activos"},{"$f":"$O$221","v":0},{"$f":"IF(Parametros[Segmento]=\"Informes\",V240,X240)","v":30},{"$f":"(AO240=Parametros[Segmento])*(AP240>0)*(AQ240>0)","v":0}]
[{"$nulls":40},"Activos",1,30,{"$f":"(AO241=Parametros[Segmento])*(AP241>0)*(AQ241>0)","v":0}]
[2.33,17.33,16.78,17,17,19.22,19.22,19.22,19.22,22.89,22.89,5,0,0,0,0,0,null,0,0,0,0,0,0,{"$nulls":16},"Intereses Presuntivos",0,15,{"$f":"(AO242=Parametros[Segmento])*(AP242>0)*(AQ242>0)","v":0}]
[{"$nulls":40},"Intereses Presuntivos",1,30,{"$f":"(AO243=Parametros[Segmento])*(AP243>0)*(AQ243>0)","v":0}]
[null,"Intereses Presuntivos",{"$nulls":38},"Intereses Presuntivos",1,30,{"$f":"(AO244=Parametros[Segmento])*(AP244>0)*(AQ244>0)","v":0}]
[null,"Tasa de interés presuntivo ",{"$nulls":38},"Intereses Presuntivos",1,30,{"$f":"(AO245=Parametros[Segmento])*(AP245>0)*(AQ245>0)","v":0}]
[null,"Tasa de interés presuntivo anual para el año gravable 2022 ",{"$nulls":8},{"$f":"+' '!D114","v":{"v":0.0321,"d":"3.21%"}},{"$nulls":29},"Intereses Presuntivos",1,30,{"$f":"(AO246=Parametros[Segmento])*(AP246>0)*(AQ246>0)","v":0}]
[null,"Tasa de interés presuntivo mensual para el año gravable 2022",{"$nulls":8},{"$f":"+(1+K246)^(1/12)-1","v":{"v":0.002636432758290619,"d":"0.26%"}},{"$nulls":29},"Intereses Presuntivos",1,30,{"$f":"(AO247=Parametros[Segmento])*(AP247>0)*(AQ247>0)","v":0}]
[null,"Tasa de interés presuntivo diario para el año gravable 2022",{"$nulls":8},{"$f":"+(1+K247)^(1/30)-1","v":{"v":8.7769300360029945E-5,"d":"0.01%"}},{"$nulls":29},"Intereses Presuntivos",1,30,{"$f":"(AO248=Parametros[Segmento])*(AP248>0)*(AQ248>0)","v":0}]
[{"$nulls":40},"Intereses Presuntivos",1,30,{"$f":"(AO249=Parametros[Segmento])*(AP249>0)*(AQ249>0)","v":0}]
[null,"Información sobre préstamos a sociedades",{"$nulls":16},"Cuentas por cobrar a 31 de diciembre de 2022 ",null,null,30,"Intereses Presuntivos",30,{"$nulls":16},{"$f":"IF(Parametros[Segmento]=\"Informes\",\"Informes\",W250)","v":"Intereses Presuntivos"},1,{"$f":"IF(Parametros[Segmento]=\"Informes\",V250,X250)","v":30},{"$f":"(AO250=Parametros[Segmento])*(AP250>0)*(AQ250>0)","v":0}]
[null,"Préstamos vigentes en el 2022","Ubicación sociedad a la cual se le hizo el préstamo","Fecha de\n inicio del préstamo\n(dd/mm/aaaa) ","Fecha de finalización del préstamo\n(dd/mm/aaaa)","Monto \ndel préstamo pendiente de cobro a 1 de enero de 2022","Tasa de interés anual","Interés recibido durante el año ","Interés presuntivo ","Valor a reportar en la declaración de renta ","Saldo pendiente de cobro a 31 de diciembre de 2022",null,";;;;;;;;;;;;",{"v":0,"d":"$0.00"},{"v":0,"d":"$0.00"},{"$nulls":3},"Descripción","Valor reportado","Total",30,"Intereses Presuntivos",114,{"$nulls":16},{"$f":"IF(Parametros[Segmento]=\"Informes\",\"Informes\",W251)","v":"Intereses Presuntivos"},1,{"$f":"IF(Parametros[Segmento]=\"Informes\",V251,X251)","v":114},{"$f":"(AO251=Parametros[Segmento])*(AP251>0)*(AQ251>0)","v":0}]
[{"$nulls":8},{"$f":"N252","v":{"v":0,"d":"$ 0"}},{"$f":"+IF(G252<=$K$246,I252-H252,0)","v":{"v":0,"d":"$ 0"}},{"$f":"O252","v":{"v":0,"d":"$ 0"}},{"$nulls":7},{"$f":"+' '!B252","v":0},{"$f":"+' '!K252","v":{"v":0,"d":"$ 0"}},null,30,"Intereses Presuntivos",30,{"$nulls":14},{"$f":"IF(Parametros[Segmento]=\"Informes\",\"\",W252)","v":"Intereses Presuntivos"},{"$f":"IF(Parametros[Segmento]=\"Informes\",\"\",SUBSTITUTE($B$251,CHAR(10),\"\"))","v":"Préstamos vigentes en el 2022"},{"$f":"IF(Parametros[Segmento]=\"Informes\",\"Informes\",W252)","v":"Intereses Presuntivos"},{"$f":"IF(Parametros[Segmento]=\"Informes\",T252<>0,(AN252=OFFSET(AN252,1,0)))*1","v":1},{"$f":"IF(Parametros[Segmento]=\"Informes\",V252,X252)","v":30},{"$f":"(AO252=Parametros[Segmento])*(AP252>0)*(AQ252>0)","v":0}]
[{"$nulls":8},{"$f":"N253","v":{"v":0,"d":"$ 0"}},{"$f":"+IF(G253<=$K$246,I253-H253,0)","v":{"v":0,"d":"$ 0"}},{"$f":"O253","v":{"v":0,"d":"$ 0"}},{"$nulls":7},{"$f":"+' '!B253","v":0},{"$f":"+' '!K253","v":{"v":0,"d":"$ 0"}},null,30,"Intereses Presuntivos",30,{"$nulls":14},{"$f":"IF(Parametros[Segmento]=\"Informes\",\"\",W253)","v":"Intereses Presuntivos"},{"$f":"IF(Parametros[Segmento]=\"Informes\",\"\",SUBSTITUTE($B$251,CHAR(10),\"\"))","v":"Préstamos vigentes en el 2022"},{"$f":"IF(Parametros[Segmento]=\"Informes\",\"Informes\",W253)","v":"Intereses Presuntivos"},{"$f":"IF(Parametros[Segmento]=\"Informes\",T253<>0,(AN253=OFFSET(AN253,1,0)))*1","v":0},{"$f":"IF(Parametros[Segmento]=\"Informes\",V253,X253)","v":30},{"$f":"(AO253=Parametros[Segmento])*(AP253>0)*(AQ253>0)","v":0}]
[null,"Total intereses presuntivos a reportar",{"$nulls":6},{"$f":"SUM(J252:J253)","v":{"v":0,"d":"$ 0"}},{"$nulls":10},"Total cuentas por cobrar a sociedades de las cuales el contribuyente es socio ",{"$f":"+SUM(' '!T252:T253)","v":{"v":0,"d":"$ 0"}},30,"Intereses Presuntivos",30,{"$nulls":16},{"$f":"IF(Parametros[Segmento]=\"Informes\",\"Informes\",W254)","v":"Intereses Presuntivos"},{"$f":"IF(Parametros[Segmento]=\"Informes\",MAX(AP252:AP253),1)","v":1},{"$f":"IF(Parametros[Segmento]=\"Informes\",V254,X254)","v":30},{"$f":"(AO254=Parametros[Segmento])*(AP254>0)*(AQ254>0)","v":0}]
[{"$nulls":12},{"$f":"OFFSET(Lista_IntPre_Prestamos,IntPre_Indice-1,11,1,1)","v":";;;;;;;;;;;;"},{"$nulls":27},"Intereses Presuntivos",1,30,{"$f":"(AO255=Parametros[Segmento])*(AP255>0)*(AQ255>0)","v":0}]
[null,{"$f":"IFERROR(IF(IntPre_Indice=0,\"\",IF(INDEX(Lista_IntPre_Prestamos,IntPre_Indice)=\"\",\"\",INDEX(Lista_IntPre_Prestamos,IntPre_Indice))),\"\")","v":""},{"$nulls":10},0,{"$nulls":27},"Intereses Presuntivos",{"$f":"(IntPre_Indice>0)*1","v":0},30,{"$f":"(AO256=Parametros[Segmento])*(AP256>0)*(AQ256>0)","v":0}]
[null,"Fecha inicial\n(dd/mm/aaaa)","Fecha final\n(dd/mm/aaaa)","Permanencia en días ","Saldo de capital inicial","Abono a capital ","Intereses ","Total pago recibido en el periodo ","Saldo de capital final",{"$nulls":3},1,{"$nulls":27},"Intereses Presuntivos",{"$f":"(IntPre_Indice>0)*1","v":0},50,{"$f":"(AO257=Parametros[Segmento])*(AP257>0)*(AQ257>0)","v":0}]
[null,{"$f":"IFERROR(IF(IntPre_Indice=0,\"\",IF(OFFSET($D$251,IntPre_Indice,0)=\"\",\"\",OFFSET($D$251,IntPre_Indice,0))),\"\")","v":""},{"$f":"IF(B258=\"\",\"\",IF(B259=\"\",OFFSET($E$251,IntPre_Indice,0),B259-1))","v":""},{"$f":"IFERROR(C258-B258+1,0)","v":0},{"$f":"IF(AND(IFERROR(OFFSET($F$251,IntPre_Indice,0),0)>0,D258>0),IFERROR(OFFSET($F$251,IntPre_Indice,0),0),0)","v":{"v":0,"d":"$ 0"}},null,{"$f":"IFERROR((E258*D258*$K$248),\"\")","v":{"v":0,"d":"$ 0"}},{"$f":"IFERROR(IF(D258=0,0,F258+G258),\"\")","v":{"v":0,"d":"$ 0"}},{"$f":"E258-IF(D258=0,0,F258)","v":{"v":0,"d":"$ 0"}},{"$nulls":3},{"$f":"IFERROR(SEARCH(\";\",$M$255,M257)+1,0)","v":2},{"$f":"IFERROR(IF(M258=0,\"\",MID($M$255,M257,M258-M257-1)),\"\")","v":""},{"$nulls":26},"Intereses Presuntivos",{"$f":"(IntPre_Indice>0)*(D258>0)","v":0},30,{"$f":"(AO258=Parametros[Segmento])*(AP258>0)*(AQ258>0)","v":0}]
[null,{"$f":"IF(B258=\"\",\"\",IF(MONTH(B258)<MONTH(OFFSET($E$251,IntPre_Indice,0)),DATE(YEAR(B258),MONTH(B258)+1,1),\"\"))","v":""},"",0,{"$f":"+I258","v":{"v":0,"d":"$ 0"}},null,{"v":0,"d":"$ 0"},{"v":0,"d":"$ 0"},{"$f":"E259-IF(D259=0,0,F259)","v":{"v":0,"d":"$ 0"}},{"$nulls":3},3,"",{"$nulls":26},"Intereses Presuntivos",0,30,{"$f":"(AO259=Parametros[Segmento])*(AP259>0)*(AQ259>0)","v":0}]
[null,"","",0,{"v":0,"d":"$ 0"},null,{"v":0,"d":"$ 0"},{"v":0,"d":"$ 0"},{"v":0,"d":"$ 0"},{"$nulls":3},4,"",{"$nulls":26},"Intereses Presuntivos",0,30,{"$f":"(AO260=Parametros[Segmento])*(AP260>0)*(AQ260>0)","v":0}]
[null,"","",0,{"v":0,"d":"$ 0"},null,{"v":0,"d":"$ 0"},{"v":0,"d":"$ 0"},{"v":0,"d":"$ 0"},{"$nulls":3},5,"",{"$nulls":26},"Intereses Presuntivos",0,30,{"$f":"(AO261=Parametros[Segmento])*(AP261>0)*(AQ261>0)","v":0}]
[null,"","",0,{"v":0,"d":"$ 0"},null,{"v":0,"d":"$ 0"},{"v":0,"d":"$ 0"},{"v":0,"d":"$ 0"},{"$nulls":3},6,"",{"$nulls":26},"Intereses Presuntivos",0,30,{"$f":"(AO262=Parametros[Segmento])*(AP262>0)*(AQ262>0)","v":0}]
[null,"","",0,{"v":0,"d":"$ 0"},null,{"v":0,"d":"$ 0"},{"v":0,"d":"$ 0"},{"v":0,"d":"$ 0"},{"$nulls":3},7,"",{"$nulls":26},"Intereses Presuntivos",0,30,{"$f":"(AO263=Parametros[Segmento])*(AP263>0)*(AQ263>0)","v":0}]
[null,"","",0,{"v":0,"d":"$ 0"},null,{"v":0,"d":"$ 0"},{"v":0,"d":"$ 0"},{"v":0,"d":"$ 0"},{"$nulls":3},8,"",{"$nulls":26},"Intereses Presuntivos",0,30,{"$f":"(AO264=Parametros[Segmento])*(AP264>0)*(AQ264>0)","v":0}]
[null,"","",0,{"v":0,"d":"$ 0"},null,{"v":0,"d":"$ 0"},{"v":0,"d":"$ 0"},{"v":0,"d":"$ 0"},{"$nulls":3},9,"",{"$nulls":26},"Intereses Presuntivos",0,30,{"$f":"(AO265=Parametros[Segmento])*(AP265>0)*(AQ265>0)","v":0}]
[null,"","",0,{"v":0,"d":"$ 0"},null,{"v":0,"d":"$ 0"},{"v":0,"d":"$ 0"},{"v":0,"d":"$ 0"},{"$nulls":3},10,"",{"$nulls":26},"Intereses Presuntivos",0,30,{"$f":"(AO266=Parametros[Segmento])*(AP266>0)*(AQ266>0)","v":0}]
[null,"","",0,{"v":0,"d":"$ 0"},null,{"v":0,"d":"$ 0"},{"v":0,"d":"$ 0"},{"v":0,"d":"$ 0"},{"$nulls":3},11,"",{"$nulls":26},"Intereses Presuntivos",0,30,{"$f":"(AO267=Parametros[Segmento])*(AP267>0)*(AQ267>0)","v":0}]
[null,"","",0,{"v":0,"d":"$ 0"},null,{"v":0,"d":"$ 0"},{"v":0,"d":"$ 0"},{"v":0,"d":"$ 0"},{"$nulls":3},12,"",{"$nulls":26},"Intereses Presuntivos",0,30,{"$f":"(AO268=Parametros[Segmento])*(AP268>0)*(AQ268>0)","v":0}]
[null,"","",0,{"v":0,"d":"$ 0"},null,{"v":0,"d":"$ 0"},{"v":0,"d":"$ 0"},{"v":0,"d":"$ 0"},{"$nulls":3},13,"",{"$nulls":26},"Intereses Presuntivos",0,30,{"$f":"(AO269=Parametros[Segmento])*(AP269>0)*(AQ269>0)","v":0}]
[{"$nulls":7},"Total intereses recibidos por el préstamo en el año",{"$f":"SUM(G258:G269)","v":{"v":0,"d":"$ 0"}},{"$nulls":31},"Intereses Presuntivos",{"$f":"(IntPre_Indice>0)*1","v":0},30,{"$f":"(AO270=Parametros[Segmento])*(AP270>0)*(AQ270>0)","v":0}]
[{"$nulls":7},"Total saldo pendiente de cobro a 31 de diciembre de 2022 ",{"$f":"+I269","v":{"v":0,"d":"$ 0"}},{"$nulls":31},"Intereses Presuntivos",{"$f":"(IntPre_Indice>0)*1","v":0},30,{"$f":"(AO271=Parametros[Segmento])*(AP271>0)*(AQ271>0)","v":0}]
[{"$nulls":40},"Intereses Presuntivos",1,30,{"$f":"(AO272=Parametros[Segmento])*(AP272>0)*(AQ272>0)","v":0}]
[{"$nulls":40},"Intereses Presuntivos",0,30,{"$f":"(AO273=Parametros[Segmento])*(AP273>0)*(AQ273>0)","v":0}]
[{"$nulls":40},"Intereses Presuntivos",0,30,{"$f":"(AO274=Parametros[Segmento])*(AP274>0)*(AQ274>0)","v":0}]
[{"$nulls":6},"Ubicación sociedad a la cual se le hizo el préstamo","Ubicación sociedad a la cual se le hizo el préstamo","Ubicación sociedad a la cual se le hizo el préstamo",{"$nulls":31},"Intereses Presuntivos",0,30,{"$f":"(AO275=Parametros[Segmento])*(AP275>0)*(AQ275>0)","v":0}]
[{"$nulls":6},"Colombia","CAN","Otros países exterior",{"$nulls":31},"Intereses Presuntivos",0,30,{"$f":"(AO276=Parametros[Segmento])*(AP276>0)*(AQ276>0)","v":0}]
[null,"Cuentas por Cobrar a 31 de diciembre de 2022",{"$nulls":12},0,{"$nulls":25},"Activos",1,30,{"$f":"(AO277=Parametros[Segmento])*(AP277>0)*(AQ277>0)","v":0}]
[null,"Concepto","Nacionales ","Otros del exterior ","Totales",{"$nulls":35},"Activos",{"$f":"$O$277","v":0},30,{"$f":"(AO278=Parametros[Segmento])*(AP278>0)*(AQ278>0)","v":0}]
[null,"Cuentas por cobrar a sociedades de las cuales el contribuyente es socio ",{"$f":"ROUND(DSUM(C251:K253,K251,G275:G276),-3)","v":{"v":0,"d":"$ 0"}},{"$f":"ROUND(DSUM(C251:K253,K251,H275:H276)+DSUM(C251:K253,K251,I275:I276),-3)","v":{"v":0,"d":"$ 0"}},{"$f":"C279+(Activos_Exterior=\"Sí\")*D279","v":{"v":0,"d":"$ 0"}},{"$nulls":35},"Activos",0,30,{"$f":"(AO279=Parametros[Segmento])*(AP279>0)*(AQ279>0)","v":0}]
[null,"Cuentas por cobrar a terceros ",{"$nulls":38},"Activos",0,30,{"$f":"(AO280=Parametros[Segmento])*(AP280>0)*(AQ280>0)","v":0}]
[{"$nulls":18},{"$f":"+' '!B281","v":0},{"$f":"+SUM(' '!C281:D281)","v":{"v":0,"d":"$ 0"}},null,30,"Activos",30,{"$nulls":14},{"$f":"IF(Parametros[Segmento]=\"Informes\",\"\",W281)","v":"Activos"},{"$f":"IF(Parametros[Segmento]=\"Informes\",\"\",SUBSTITUTE($B$280,CHAR(10),\"\"))","v":"Cuentas por cobrar a terceros "},{"$f":"IF(Parametros[Segmento]=\"Informes\",\"Informes\",W281)","v":"Activos"},{"$f":"IF(Parametros[Segmento]=\"Informes\",T281<>0,(AN281=OFFSET(AN281,1,0))*$O$277)*1","v":0},{"$f":"IF(Parametros[Segmento]=\"Informes\",V281,X281)","v":30},{"$f":"(AO281=Parametros[Segmento])*(AP281>0)*(AQ281>0)","v":0}]
[{"$nulls":18},{"$f":"+' '!B282","v":0},{"$f":"+SUM(' '!C282:D282)","v":{"v":0,"d":"$ 0"}},null,30,"Activos",30,{"$nulls":14},{"$f":"IF(Parametros[Segmento]=\"Informes\",\"\",W282)","v":"Activos"},{"$f":"IF(Parametros[Segmento]=\"Informes\",\"\",SUBSTITUTE($B$280,CHAR(10),\"\"))","v":"Cuentas por cobrar a terceros "},{"$f":"IF(Parametros[Segmento]=\"Informes\",\"Informes\",W282)","v":"Activos"},{"$f":"IF(Parametros[Segmento]=\"Informes\",T282<>0,(AN282=OFFSET(AN282,1,0))*$O$277)*1","v":0},{"$f":"IF(Parametros[Segmento]=\"Informes\",V282,X282)","v":30},{"$f":"(AO282=Parametros[Segmento])*(AP282>0)*(AQ282>0)","v":0}]
[null,"Totales",{"$f":"SUM(C281:C282)","v":{"v":0,"d":"$ 0"}},{"$f":"SUM(D281:D282)","v":{"v":0,"d":"$ 0"}},{"$f":"C283+(Activos_Exterior=\"Sí\")*D283","v":{"v":0,"d":"$ 0"}},{"$nulls":14},"Total cuentas por cobrar a terceros ",{"$f":"+SUM(T281:T282)","v":{"v":0,"d":"$ 0"}},30,"Activos",30,{"$nulls":16},{"$f":"IF(Parametros[Segmento]=\"Informes\",\"Informes\",W283)","v":"Activos"},{"$f":"IF(Parametros[Segmento]=\"Informes\",MAX(AP281:AP282),$O$277)","v":0},{"$f":"IF(Parametros[Segmento]=\"Informes\",V283,X283)","v":30},{"$f":"(AO283=Parametros[Segmento])*(AP283>0)*(AQ283>0)","v":0}]
[null,"Otras cuentas por cobrar",{"$nulls":38},"Activos",{"$f":"$O$277","v":0},30,{"$f":"(AO284=Parametros[Segmento])*(AP284>0)*(AQ284>0)","v":0}]
[{"$nulls":18},{"$f":"+' '!B285","v":0},{"$f":"+SUM(' '!C285:D285)","v":{"v":0,"d":"$ 0"}},null,30,"Activos",30,{"$nulls":14},{"$f":"IF(Parametros[Segmento]=\"Informes\",\"\",W285)","v":"Activos"},{"$f":"IF(Parametros[Segmento]=\"Informes\",\"\",SUBSTITUTE($B$284,CHAR(10),\"\"))","v":"Otras cuentas por cobrar"},{"$f":"IF(Parametros[Segmento]=\"Informes\",\"Informes\",W285)","v":"Activos"},{"$f":"IF(Parametros[Segmento]=\"Informes\",T285<>0,(AN285=OFFSET(AN285,1,0))*$O$277)*1","v":0},{"$f":"IF(Parametros[Segmento]=\"Informes\",V285,X285)","v":30},{"$f":"(AO285=Parametros[Segmento])*(AP285>0)*(AQ285>0)","v":0}]
[{"$nulls":18},{"$f":"+' '!B286","v":0},{"$f":"+SUM(' '!C286:D286)","v":{"v":0,"d":"$ 0"}},null,30,"Activos",30,{"$nulls":14},{"$f":"IF(Parametros[Segmento]=\"Informes\",\"\",W286)","v":"Activos"},{"$f":"IF(Parametros[Segmento]=\"Informes\",\"\",SUBSTITUTE($B$284,CHAR(10),\"\"))","v":"Otras cuentas por cobrar"},{"$f":"IF(Parametros[Segmento]=\"Informes\",\"Informes\",W286)","v":"Activos"},{"$f":"IF(Parametros[Segmento]=\"Informes\",T286<>0,(AN286=OFFSET(AN286,1,0))*$O$277)*1","v":0},{"$f":"IF(Parametros[Segmento]=\"Informes\",V286,X286)","v":30},{"$f":"(AO286=Parametros[Segmento])*(AP286>0)*(AQ286>0)","v":0}]
[null,"Totales",{"$f":"SUM(C285:C286)","v":{"v":0,"d":"$ 0"}},{"$f":"SUM(D285:D286)","v":{"v":0,"d":"$ 0"}},{"$f":"C287+(Activos_Exterior=\"Sí\")*D287","v":{"v":0,"d":"$ 0"}},{"$nulls":14},"Total otras cuentas por cobrar ",{"$f":"+SUM(T285:T286)","v":{"v":0,"d":"$ 0"}},30,"Activos",30,{"$nulls":16},{"$f":"IF(Parametros[Segmento]=\"Informes\",\"Informes\",W287)","v":"Activos"},{"$f":"IF(Parametros[Segmento]=\"Informes\",MAX(AP285:AP286),$O$277)","v":0},{"$f":"IF(Parametros[Segmento]=\"Informes\",V287,X287)","v":30},{"$f":"(AO287=Parametros[Segmento])*(AP287>0)*(AQ287>0)","v":0}]
[null,"Total Cuentas por Cobrar a 31 de diciembre de 2022",{"$f":"C279+C283+C287","v":{"v":0,"d":"$ 0"}},{"$f":"D279+D283+D287","v":{"v":0,"d":"$ 0"}},{"$f":"C288+(Activos_Exterior=\"Sí\")*D288","v":{"v":0,"d":"$ 0"}},{"$nulls":14},"Total cuentas por cobrar a 31 de diciembre de 2022 ",{"$f":"SUM(U252:U254,U281:U287)","v":{"v":0,"d":"$ 0"}},30,"Activos",30,{"$nulls":16},{"$f":"IF(Parametros[Segmento]=\"Informes\",\"Informes\",W288)","v":"Activos"},{"$f":"$O$277","v":0},{"$f":"IF(Parametros[Segmento]=\"Informes\",V288,X288)","v":30},{"$f":"(AO288=Parametros[Segmento])*(AP288>0)*(AQ288>0)","v":0}]
[{"$nulls":40},"Activos",1,30,{"$f":"(AO289=Parametros[Segmento])*(AP289>0)*(AQ289>0)","v":0}]
[null,"Inventarios a 31 de diciembre de 2022",{"$nulls":12},0,{"$nulls":3},"Inventarios a 31 de diciembre de 2022 ",null,null,30,"Activos",30,{"$nulls":16},{"$f":"IF(Parametros[Segmento]=\"Informes\",\"Informes\",W290)","v":"Activos"},1,{"$f":"IF(Parametros[Segmento]=\"Informes\",V290,X290)","v":30},{"$f":"(AO290=Parametros[Segmento])*(AP290>0)*(AQ290>0)","v":0}]
[null,"Concepto","Nacionales ","Otros del exterior ","Totales",{"$nulls":13},"Descripción","Valor reportado","Total",30,"Activos",30,{"$nulls":16},{"$f":"IF(Parametros[Segmento]=\"Informes\",\"Informes\",W291)","v":"Activos"},{"$f":"$O$290","v":0},{"$f":"IF(Parametros[Segmento]=\"Informes\",V291,X291)","v":30},{"$f":"(AO291=Parametros[Segmento])*(AP291>0)*(AQ291>0)","v":0}]
[null,"Inventarios ",{"$nulls":38},"Activos",{"$f":"$O$290","v":0},30,{"$f":"(AO292=Parametros[Segmento])*(AP292>0)*(AQ292>0)","v":0}]
[{"$nulls":18},{"$f":"+' '!B293","v":0},{"$f":"+SUM(' '!C293:D293)","v":{"v":0,"d":"$ 0"}},null,30,"Activos",30,{"$nulls":14},{"$f":"IF(Parametros[Segmento]=\"Informes\",\"\",W293)","v":"Activos"},{"$f":"IF(Parametros[Segmento]=\"Informes\",\"\",SUBSTITUTE($B$292,CHAR(10),\"\"))","v":"Inventarios "},{"$f":"IF(Parametros[Segmento]=\"Informes\",\"Informes\",W293)","v":"Activos"},{"$f":"IF(Parametros[Segmento]=\"Informes\",T293<>0,(AN293=OFFSET(AN293,1,0))*$O$290)*1","v":0},{"$f":"IF(Parametros[Segmento]=\"Informes\",V293,X293)","v":30},{"$f":"(AO293=Parametros[Segmento])*(AP293>0)*(AQ293>0)","v":0}]
[{"$nulls":18},{"$f":"+' '!B294","v":0},{"$f":"+SUM(' '!C294:D294)","v":{"v":0,"d":"$ 0"}},null,30,"Activos",30,{"$nulls":14},{"$f":"IF(Parametros[Segmento]=\"Informes\",\"\",W294)","v":"Activos"},{"$f":"IF(Parametros[Segmento]=\"Informes\",\"\",SUBSTITUTE($B$292,CHAR(10),\"\"))","v":"Inventarios "},{"$f":"IF(Parametros[Segmento]=\"Informes\",\"Informes\",W294)","v":"Activos"},{"$f":"IF(Parametros[Segmento]=\"Informes\",T294<>0,(AN294=OFFSET(AN294,1,0))*$O$290)*1","v":0},{"$f":"IF(Parametros[Segmento]=\"Informes\",V294,X294)","v":30},{"$f":"(AO294=Parametros[Segmento])*(AP294>0)*(AQ294>0)","v":0}]
[null,"Total Inventarios a 31 de diciembre de 2022",{"$f":"SUM(C293:C293)","v":{"v":0,"d":"$ 0"}},{"$f":"SUM(D293:D293)","v":{"v":0,"d":"$ 0"}},{"$f":"C295+(Activos_Exterior=\"Sí\")*D295","v":{"v":0,"d":"$ 0"}},{"$nulls":14},"Total inventarios",{"$f":"+SUM(T293:T293)","v":{"v":0,"d":"$ 0"}},30,"Activos",30,{"$nulls":16},{"$f":"IF(Parametros[Segmento]=\"Informes\",\"Informes\",W295)","v":"Activos"},{"$f":"IF(Parametros[Segmento]=\"Informes\",MAX(AP293:AP294),$O$290)","v":0},{"$f":"IF(Parametros[Segmento]=\"Informes\",V295,X295)","v":30},{"$f":"(AO295=Parametros[Segmento])*(AP295>0)*(AQ295>0)","v":0}]
[{"$nulls":19},"Total inventarios a 31 de diciembre de 2022 ",{"$f":"SUM(U293:U295)","v":{"v":0,"d":"$ 0"}},30,"Activos",30,{"$nulls":16},{"$f":"IF(Parametros[Segmento]=\"Informes\",\"Informes\",W296)","v":"Activos"},1,{"$f":"IF(Parametros[Segmento]=\"Informes\",V296,X296)","v":30},{"$f":"(AO296=Parametros[Segmento])*(AP296>0)*(AQ296>0)","v":0}]
[null,"Propiedad, Planta y Equipo a 31 de diciembre de 2022",{"$nulls":12},0,{"$nulls":3},"Propiedad, planta y equipo a 31 de diciembre de 2022 ",null,null,30,"Activos",30,{"$nulls":16},{"$f":"IF(Parametros[Segmento]=\"Informes\",\"Informes\",W297)","v":"Activos"},1,{"$f":"IF(Parametros[Segmento]=\"Informes\",V297,X297)","v":30},{"$f":"(AO297=Parametros[Segmento])*(AP297>0)*(AQ297>0)","v":0}]
[null,"Concepto","Nacionales ","Otros del exterior ","Totales",{"$nulls":13},"Descripción","Valor reportado","Total",30,"Activos",30,{"$nulls":16},{"$f":"IF(Parametros[Segmento]=\"Informes\",\"Informes\",W298)","v":"Activos"},{"$f":"$O$297","v":0},{"$f":"IF(Parametros[Segmento]=\"Informes\",V298,X298)","v":30},{"$f":"(AO298=Parametros[Segmento])*(AP298>0)*(AQ298>0)","v":0}]
[null,"Muebles y enseres ",{"$nulls":38},"Activos",0,30,{"$f":"(AO299=Parametros[Segmento])*(AP299>0)*(AQ299>0)","v":0}]
[{"$nulls":18},{"$f":"+' '!B300","v":0},{"$f":"+SUM(' '!C300:D300)","v":{"v":0,"d":"$ 0"}},null,30,"Activos",30,{"$nulls":14},{"$f":"IF(Parametros[Segmento]=\"Informes\",\"\",W300)","v":"Activos"},{"$f":"IF(Parametros[Segmento]=\"Informes\",\"\",SUBSTITUTE($B$299,CHAR(10),\"\"))","v":"Muebles y enseres "},{"$f":"IF(Parametros[Segmento]=\"Informes\",\"Informes\",W300)","v":"Activos"},{"$f":"IF(Parametros[Segmento]=\"Informes\",T300<>0,(AN300=OFFSET(AN300,1,0))*$O$297)*1","v":0},{"$f":"IF(Parametros[Segmento]=\"Informes\",V300,X300)","v":30},{"$f":"(AO300=Parametros[Segmento])*(AP300>0)*(AQ300>0)","v":0}]
[{"$nulls":18},{"$f":"+' '!B301","v":0},{"$f":"+SUM(' '!C301:D301)","v":{"v":0,"d":"$ 0"}},null,30,"Activos",30,{"$nulls":14},{"$f":"IF(Parametros[Segmento]=\"Informes\",\"\",W301)","v":"Activos"},{"$f":"IF(Parametros[Segmento]=\"Informes\",\"\",SUBSTITUTE($B$299,CHAR(10),\"\"))","v":"Muebles y enseres "},{"$f":"IF(Parametros[Segmento]=\"Informes\",\"Informes\",W301)","v":"Activos"},{"$f":"IF(Parametros[Segmento]=\"Informes\",T301<>0,(AN301=OFFSET(AN301,1,0))*$O$297)*1","v":0},{"$f":"IF(Parametros[Segmento]=\"Informes\",V301,X301)","v":30},{"$f":"(AO301=Parametros[Segmento])*(AP301>0)*(AQ301>0)","v":0}]
[null,"Totales",{"$f":"SUM(C300:C301)","v":{"v":0,"d":"$ 0"}},{"$f":"SUM(D300:D301)","v":{"v":0,"d":"$ 0"}},{"$f":"C302+(Activos_Exterior=\"Sí\")*D302","v":{"v":0,"d":"$ 0"}},{"$nulls":14},"Total muebles y enseres ",{"$f":"+SUM(T300:T301)","v":{"v":0,"d":"$ 0"}},30,"Activos",30,{"$nulls":16},{"$f":"IF(Parametros[Segmento]=\"Informes\",\"Informes\",W302)","v":"Activos"},{"$f":"IF(Parametros[Segmento]=\"Informes\",MAX(AP300:AP301),$O$297)","v":0},{"$f":"IF(Parametros[Segmento]=\"Informes\",V302,X302)","v":30},{"$f":"(AO302=Parametros[Segmento])*(AP302>0)*(AQ302>0)","v":0}]
[null,"Maquinaria y equipo ",null,null,{"$f":"C303+(Activos_Exterior=\"Sí\")*D303","v":{"v":0,"d":"$ 0"}},{"$nulls":35},"Activos",{"$f":"$O$297","v":0},30,{"$f":"(AO303=Parametros[Segmento])*(AP303>0)*(AQ303>0)","v":0}]
[{"$nulls":4},{"$f":"C304+(Activos_Exterior=\"Sí\")*D304","v":{"v":0,"d":"$ 0"}},{"$nulls":13},{"$f":"+' '!B304","v":0},{"$f":"+SUM(' '!C304:D304)","v":{"v":0,"d":"$ 0"}},null,30,"Activos",30,{"$nulls":14},{"$f":"IF(Parametros[Segmento]=\"Informes\",\"\",W304)","v":"Activos"},{"$f":"IF(Parametros[Segmento]=\"Informes\",\"\",SUBSTITUTE($B$303,CHAR(10),\"\"))","v":"Maquinaria y equipo "},{"$f":"IF(Parametros[Segmento]=\"Informes\",\"Informes\",W304)","v":"Activos"},{"$f":"IF(Parametros[Segmento]=\"Informes\",T304<>0,(AN304=OFFSET(AN304,1,0))*$O$297)*1","v":0},{"$f":"IF(Parametros[Segmento]=\"Informes\",V304,X304)","v":30},{"$f":"(AO304=Parametros[Segmento])*(AP304>0)*(AQ304>0)","v":0}]
[{"$nulls":4},{"$f":"C305+(Activos_Exterior=\"Sí\")*D305","v":{"v":0,"d":"$ 0"}},{"$nulls":13},{"$f":"+' '!B305","v":0},{"$f":"+SUM(' '!C305:D305)","v":{"v":0,"d":"$ 0"}},null,30,"Activos",30,{"$nulls":14},{"$f":"IF(Parametros[Segmento]=\"Informes\",\"\",W305)","v":"Activos"},{"$f":"IF(Parametros[Segmento]=\"Informes\",\"\",SUBSTITUTE($B$303,CHAR(10),\"\"))","v":"Maquinaria y equipo "},{"$f":"IF(Parametros[Segmento]=\"Informes\",\"Informes\",W305)","v":"Activos"},{"$f":"IF(Parametros[Segmento]=\"Informes\",T305<>0,(AN305=OFFSET(AN305,1,0))*$O$297)*1","v":0},{"$f":"IF(Parametros[Segmento]=\"Informes\",V305,X305)","v":30},{"$f":"(AO305=Parametros[Segmento])*(AP305>0)*(AQ305>0)","v":0}]
[null,"Totales",{"$f":"SUM(C304:C305)","v":{"v":0,"d":"$ 0"}},{"$f":"SUM(D304:D305)","v":{"v":0,"d":"$ 0"}},{"$f":"C306+(Activos_Exterior=\"Sí\")*D306","v":{"v":0,"d":"$ 0"}},{"$nulls":14},"Total maquinaria y equipo",{"$f":"+SUM(T304:T305)","v":{"v":0,"d":"$ 0"}},30,"Activos",30,{"$nulls":16},{"$f":"IF(Parametros[Segmento]=\"Informes\",\"Informes\",W306)","v":"Activos"},{"$f":"IF(Parametros[Segmento]=\"Informes\",MAX(AP304:AP305),$O$297)","v":0},{"$f":"IF(Parametros[Segmento]=\"Informes\",V306,X306)","v":30},{"$f":"(AO306=Parametros[Segmento])*(AP306>0)*(AQ306>0)","v":0}]
[{"$nulls":40},"Reajuste fiscal de los activos",1,30,{"$f":"(AO307=Parametros[Segmento])*(AP307>0)*(AQ307>0)","v":0}]
[null,"Vehículos (carros, motocicletas, camionetas, etc.) poseídos a 31 de diciembre de 2022",{"$nulls":38},"Reajuste fiscal de los activos",1,30,{"$f":"(AO308=Parametros[Segmento])*(AP308>0)*(AQ308>0)","v":0}]
[null,"Descripción","Ubicación","Fecha de compra \n(dd/mm/aaaa)","Año","Costo de adquisición","Valor \ndeclarado el año anterior","¿Desea aplicar el reajuste fiscal?","Costo \nfiscal reajustado a 31 de diciembre de 2022","Valor patrimonial a reportar","Variación Patrimonial ",{"$nulls":29},"Reajuste fiscal de los activos",1,90,{"$f":"(AO309=Parametros[Segmento])*(AP309>0)*(AQ309>0)","v":0}]
[null,"Vehículo Placa XSD054","Colombia ","2016-05-12",{"$f":"IF(D310>0,YEAR(D310),\" \")","v":2016},{"v":56000000,"d":"$ 56,000,000"},{"v":56000000,"d":"$ 56,000,000"},"No",{"$f":"IF(H310=\"Sí\",IF(E310<2022,G310*(1+$E$322),F310*(1+$E$322/12*(12-MONTH(D310)))),F310)","v":{"v":56000000,"d":"$ 56,000,000"}},{"$f":"+I310","v":{"v":56000000,"d":"$ 56,000,000"}},{"$f":"IF(E310<2022,(J310-G310),J310-F310)","v":{"v":0,"d":"$ 0"}},{"$nulls":7},{"$f":"+' '!B310","v":"Vehículo Placa XSD054"},{"$f":"+' '!J310","v":{"v":56000000,"d":"$ 56,000,000"}},null,30,"Reajuste fiscal de los activos",30,{"$nulls":14},{"$f":"IF(Parametros[Segmento]=\"Informes\",\"\",W310)","v":"Reajuste fiscal de los activos"},{"$f":"IF(Parametros[Segmento]=\"Informes\",\"\",SUBSTITUTE($B$308,CHAR(10),\"\"))","v":"Vehículos (carros, motocicletas, camionetas, etc.) poseídos a 31 de diciembre de 2022"},{"$f":"IF(Parametros[Segmento]=\"Informes\",\"Informes\",W310)","v":"Reajuste fiscal de los activos"},{"$f":"IF(Parametros[Segmento]=\"Informes\",T310<>0,(AN310=OFFSET(AN310,1,0)))*1","v":1},{"$f":"IF(Parametros[Segmento]=\"Informes\",V310,X310)","v":30},{"$f":"(AO310=Parametros[Segmento])*(AP310>0)*(AQ310>0)","v":0}]
[{"$nulls":4},{"$f":"IF(D311>0,YEAR(D311),\" \")","v":" "},{"$nulls":3},{"$f":"IF(H311=\"Sí\",IF(E311<2022,G311*(1+$E$322),F311*(1+$E$322/12*(12-MONTH(D311)))),F311)","v":{"v":0,"d":"$ 0"}},{"$f":"+I311","v":{"v":0,"d":"$ 0"}},{"$f":"IF(E311<2022,(J311-G311),J311-F311)","v":{"v":0,"d":"$ 0"}},{"$nulls":7},{"$f":"+' '!B311","v":0},{"$f":"+' '!J311","v":{"v":0,"d":"$ 0"}},null,30,"Reajuste fiscal de los activos",30,{"$nulls":14},{"$f":"IF(Parametros[Segmento]=\"Informes\",\"\",W311)","v":"Reajuste fiscal de los activos"},{"$f":"IF(Parametros[Segmento]=\"Informes\",\"\",SUBSTITUTE($B$308,CHAR(10),\"\"))","v":"Vehículos (carros, motocicletas, camionetas, etc.) poseídos a 31 de diciembre de 2022"},{"$f":"IF(Parametros[Segmento]=\"Informes\",\"Informes\",W311)","v":"Reajuste fiscal de los activos"},{"$f":"IF(Parametros[Segmento]=\"Informes\",T311<>0,(AN311=OFFSET(AN311,1,0)))*1","v":0},{"$f":"IF(Parametros[Segmento]=\"Informes\",V311,X311)","v":30},{"$f":"(AO311=Parametros[Segmento])*(AP311>0)*(AQ311>0)","v":0}]
[{"$nulls":10},{"$f":"SUM(K310:K311)","v":{"v":0,"d":"$ 0"}},{"$nulls":8},"Total vehículos",{"$f":"+SUM(T310:T311)","v":{"v":56000000,"d":"$ 56,000,000"}},30,"Reajuste fiscal de los activos",30,{"$nulls":16},{"$f":"IF(Parametros[Segmento]=\"Informes\",\"Informes\",W312)","v":"Reajuste fiscal de los activos"},{"$f":"IF(Parametros[Segmento]=\"Informes\",MAX(AP310:AP311),1)","v":1},{"$f":"IF(Parametros[Segmento]=\"Informes\",V312,X312)","v":30},{"$f":"(AO312=Parametros[Segmento])*(AP312>0)*(AQ312>0)","v":0}]
[null,"Vehículos (Carro, motocicletas, camionetas, etc.) ",{"$f":"+DSUM(C309:K311,J309,G321:G322)","v":{"v":56000000,"d":"$ 56,000,000"}},{"$f":"+DSUM(C309:K311,J309,H321:H322)","v":{"v":0,"d":"$ 0"}},{"$f":"C313+(Activos_Exterior=\"Sí\")*D313","v":{"v":56000000,"d":"$ 56,000,000"}},{"$nulls":9},1,1,{"$nulls":24},"Activos",{"$f":"$O$297","v":0},30,{"$f":"(AO313=Parametros[Segmento])*(AP313>0)*(AQ313>0)","v":0}]
[{"$nulls":40},"Reajuste fiscal de los activos",1,30,{"$f":"(AO314=Parametros[Segmento])*(AP314>0)*(AQ314>0)","v":0}]
[null,"Bienes inmuebles poseídos a 31 de diciembre de 2022",{"$nulls":38},"Reajuste fiscal de los activos",1,30,{"$f":"(AO315=Parametros[Segmento])*(AP315>0)*(AQ315>0)","v":0}]
[null,"Descripción","Ubicación","Fecha de compra \n(dd/mm/aaaa)","Año","Costo de adquisición","Valor \ndeclarado el año anterior","Valor Avaluo catastral","Mejoras y valorizaciones efectivamente pagadas en 2022","¿Desea aplicar el reajuste fiscal?","Costo \nfiscal reajustado a 31 de diciembre de 2022","¿Planea vender el bien durante el 2022? ","Costo \nfiscal ajustado con factor (artículo 73 del ET)","Valor \npatrimonial a reportar ","Variación Patrimonial ",{"$nulls":25},"Reajuste fiscal de los activos",1,105,{"$f":"(AO316=Parametros[Segmento])*(AP316>0)*(AQ316>0)","v":0}]
[null,"Apartamento Envigado","Colombia ","2009-06-03",{"$f":"IF(D317>0,YEAR(D317),\" \")","v":2009},{"v":134000000,"d":"$ 134,000,000"},{"v":185750000,"d":"$ 185,750,000"},{"v":95000000,"d":"$ 95,000,000"},{"v":23000000,"d":"$ 23,000,000"},"Sí",{"$f":"IF(J317=\"Sí\",IF(E317<2022,G317*(1+$E$322)+I317,F317*(1+$E$322/12*(12-MONTH(D317))+I317)),MAX(F317+I317,G317+I317))","v":{"v":217424525,"d":"$ 217,424,525"}},"No",{"$f":"+IF(L317=\"Sí\",IF(E317<2022,F317*VLOOKUP(E317,$B$322:$C$388,2,0),0),0)","v":{"v":0,"d":"$ 0"}},{"$f":"+MAX(F317+I317,G317+I317,H317,K317,M317+I317)","v":{"v":217424525,"d":"$ 217,424,525"}},{"$f":"IF(E317<2022,N317-G317-I317,N317-F317-I317)","v":{"v":8674525,"d":"$ 8,674,525"}},{"$nulls":3},{"$f":"+' '!B317","v":"Apartamento Envigado"},{"$f":"+' '!N317","v":{"v":217424525,"d":"$ 217,424,525"}},null,30,"Reajuste fiscal de los activos",30,{"$nulls":14},{"$f":"IF(Parametros[Segmento]=\"Informes\",\"\",W317)","v":"Reajuste fiscal de los activos"},{"$f":"IF(Parametros[Segmento]=\"Informes\",\"\",SUBSTITUTE($B$315,CHAR(10),\"\"))","v":"Bienes inmuebles poseídos a 31 de diciembre de 2022"},{"$f":"IF(Parametros[Segmento]=\"Informes\",\"Informes\",W317)","v":"Reajuste fiscal de los activos"},{"$f":"IF(Parametros[Segmento]=\"Informes\",T317<>0,(AN317=OFFSET(AN317,1,0)))*1","v":1},{"$f":"IF(Parametros[Segmento]=\"Informes\",V317,X317)","v":30},{"$f":"(AO317=Parametros[Segmento])*(AP317>0)*(AQ317>0)","v":0}]
[{"$nulls":4},{"$f":"IF(D318>0,YEAR(D318),\" \")","v":" "},{"$nulls":5},{"$f":"IF(J318=\"Sí\",IF(E318<2022,G318*(1+$E$322)+I318,F318*(1+$E$322/12*(12-MONTH(D318))+I318)),MAX(F318+I318,G318+I318))","v":{"v":0,"d":"$ 0"}},null,{"$f":"+IF(L318=\"Sí\",IF(E318<2022,F318*VLOOKUP(E318,$B$322:$C$388,2,0),0),0)","v":{"v":0,"d":"$ 0"}},{"$f":"+MAX(F318+I318,G318+I318,H318,K318,M318+I318)","v":{"v":0,"d":"$ 0"}},{"$f":"IF(E318<2022,N318-G318-I318,N318-F318-I318)","v":{"v":0,"d":"$ 0"}},{"$nulls":3},{"$f":"+' '!B318","v":0},{"$f":"+' '!N318","v":{"v":0,"d":"$ 0"}},null,30,"Reajuste fiscal de los activos",30,{"$nulls":14},{"$f":"IF(Parametros[Segmento]=\"Informes\",\"\",W318)","v":"Reajuste fiscal de los activos"},{"$f":"IF(Parametros[Segmento]=\"Informes\",\"\",SUBSTITUTE($B$315,CHAR(10),\"\"))","v":"Bienes inmuebles poseídos a 31 de diciembre de 2022"},{"$f":"IF(Parametros[Segmento]=\"Informes\",\"Informes\",W318)","v":"Reajuste fiscal de los activos"},{"$f":"IF(Parametros[Segmento]=\"Informes\",T318<>0,(AN318=OFFSET(AN318,1,0)))*1","v":0},{"$f":"IF(Parametros[Segmento]=\"Informes\",V318,X318)","v":30},{"$f":"(AO318=Parametros[Segmento])*(AP318>0)*(AQ318>0)","v":0}]
[{"$nulls":14},{"$f":"SUM(O317:O318)","v":{"v":8674525,"d":"$ 8,674,525"}},{"$nulls":4},"Total inmuebles",{"$f":"+SUM(T317:T318)","v":{"v":217424525,"d":"$ 217,424,525"}},30,"Reajuste fiscal de los activos",30,{"$nulls":16},{"$f":"IF(Parametros[Segmento]=\"Informes\",\"Informes\",W319)","v":"Reajuste fiscal de los activos"},{"$f":"IF(Parametros[Segmento]=\"Informes\",MAX(AP317:AP318),1)","v":1},{"$f":"IF(Parametros[Segmento]=\"Informes\",V319,X319)","v":30},{"$f":"(AO319=Parametros[Segmento])*(AP319>0)*(AQ319>0)","v":0}]
[{"$nulls":40},"Reajuste fiscal de los activos",1,30,{"$f":"(AO320=Parametros[Segmento])*(AP320>0)*(AQ320>0)","v":0}]
[null,"Año de adquisición","Factor actualización en el 2022\nBienes Raíces","Factor actualización en el 2022\nAcciones y/o aportes","Ajuste porcentual del costo de los activos fijos)",null,"Ubicación","Ubicación",{"$nulls":32},"Reajuste fiscal de los activos",0,90,{"$f":"(AO321=Parametros[Segmento])*(AP321>0)*(AQ321>0)","v":0}]
[null,1955,{"v":32137.12,"d":"32,137.12"},{"v":3581.32,"d":"3,581.32"},{"v":0.0467,"d":"4.67%"},null,"Colombia","Exterior",{"$nulls":32},"Reajuste fiscal de los activos",0,30,{"$f":"(AO322=Parametros[Segmento])*(AP322>0)*(AQ322>0)","v":0}]
[null,1956,{"v":31494.78,"d":"31,494.78"},{"v":3509.63,"d":"3,509.63"},{"$nulls":36},"Reajuste fiscal de los activos",0,30,{"$f":"(AO323=Parametros[Segmento])*(AP323>0)*(AQ323>0)","v":0}]
[null,1957,{"v":29162.19,"d":"29,162.19"},{"v":3249.68,"d":"3,249.68"},{"$nulls":36},"Reajuste fiscal de los activos",0,30,{"$f":"(AO324=Parametros[Segmento])*(AP324>0)*(AQ324>0)","v":0}]
[null,1958,{"v":24604.31,"d":"24,604.31"},{"v":2741.82,"d":"2,741.82"},{"$nulls":36},"Reajuste fiscal de los activos",0,30,{"$f":"(AO325=Parametros[Segmento])*(AP325>0)*(AQ325>0)","v":0}]
[null,1959,{"v":22494.25,"d":"22,494.25"},{"v":2506.66,"d":"2,506.66"},{"$nulls":36},"Reajuste fiscal de los activos",0,30,{"$f":"(AO326=Parametros[Segmento])*(AP326>0)*(AQ326>0)","v":0}]
[null,1960,{"v":20994.25,"d":"20,994.25"},{"v":2339.61,"d":"2,339.61"},{"$nulls":36},"Reajuste fiscal de los activos",0,30,{"$f":"(AO327=Parametros[Segmento])*(AP327>0)*(AQ327>0)","v":0}]
[null,1961,{"v":19576.13,"d":"19,576.13"},{"v":2193.32,"d":"2,193.32"},{"$nulls":36},"Reajuste fiscal de los activos",0,30,{"$f":"(AO328=Parametros[Segmento])*(AP328>0)*(AQ328>0)","v":0}]
[null,1962,{"v":18525.04,"d":"18,525.04"},{"v":2064.46,"d":"2,064.46"},{"$nulls":36},"Reajuste fiscal de los activos",0,30,{"$f":"(AO329=Parametros[Segmento])*(AP329>0)*(AQ329>0)","v":0}]
[null,1963,{"v":17303.51,"d":"17,303.51"},{"v":1928.23,"d":"1,928.23"},{"$nulls":36},"Reajuste fiscal de los activos",0,30,{"$f":"(AO330=Parametros[Segmento])*(AP330>0)*(AQ330>0)","v":0}]
[null,1964,{"v":13231.72,"d":"13,231.72"},{"v":1474.42,"d":"1,474.42"},{"$nulls":36},"Reajuste fiscal de los activos",0,30,{"$f":"(AO331=Parametros[Segmento])*(AP331>0)*(AQ331>0)","v":0}]
[null,1965,{"v":12112.77,"d":"12,112.77"},{"v":1349.81,"d":"1,349.81"},{"$nulls":36},"Reajuste fiscal de los activos",0,30,{"$f":"(AO332=Parametros[Segmento])*(AP332>0)*(AQ332>0)","v":0}]
[null,1966,{"v":10567.7,"d":"10,567.70"},{"v":1177.62,"d":"1,177.62"},{"$nulls":36},"Reajuste fiscal de los activos",0,30,{"$f":"(AO333=Parametros[Segmento])*(AP333>0)*(AQ333>0)","v":0}]
[null,1967,{"v":9317.76,"d":"9,317.76"},1038.26,{"$nulls":36},"Reajuste fiscal de los activos",0,30,{"$f":"(AO334=Parametros[Segmento])*(AP334>0)*(AQ334>0)","v":0}]
[null,1968,{"v":8651.75,"d":"8,651.75"},964.12,{"$nulls":36},"Reajuste fiscal de los activos",0,30,{"$f":"(AO335=Parametros[Segmento])*(AP335>0)*(AQ335>0)","v":0}]
[null,1969,{"v":8116.74,"d":"8,116.74"},904.49,{"$nulls":36},"Reajuste fiscal de los activos",0,30,{"$f":"(AO336=Parametros[Segmento])*(AP336>0)*(AQ336>0)","v":0}]
[null,1970,{"v":7463.36,"d":"7,463.36"},831.68,{"$nulls":36},"Reajuste fiscal de los activos",0,30,{"$f":"(AO337=Parametros[Segmento])*(AP337>0)*(AQ337>0)","v":0}]
[null,1971,{"v":6967.8,"d":"6,967.80"},776.52,{"$nulls":36},"Reajuste fiscal de los activos",0,30,{"$f":"(AO338=Parametros[Segmento])*(AP338>0)*(AQ338>0)","v":0}]
[null,1972,{"v":6175.54,"d":"6,175.54"},688.08,{"$nulls":36},"Reajuste fiscal de los activos",0,30,{"$f":"(AO339=Parametros[Segmento])*(AP339>0)*(AQ339>0)","v":0}]
[null,1973,{"v":5430.63,"d":"5,430.63"},605,{"$nulls":36},"Reajuste fiscal de los activos",0,30,{"$f":"(AO340=Parametros[Segmento])*(AP340>0)*(AQ340>0)","v":0}]
[null,1974,{"v":4436.35,"d":"4,436.35"},494.23,{"$nulls":36},"Reajuste fiscal de los activos",0,30,{"$f":"(AO341=Parametros[Segmento])*(AP341>0)*(AQ341>0)","v":0}]
[null,1975,{"v":3546.24,"d":"3,546.24"},395.29,{"$nulls":36},"Reajuste fiscal de los activos",0,30,{"$f":"(AO342=Parametros[Segmento])*(AP342>0)*(AQ342>0)","v":0}]
[null,1976,{"v":3015.96,"d":"3,015.96"},336.11,{"$nulls":36},"Reajuste fiscal de los activos",0,30,{"$f":"(AO343=Parametros[Segmento])*(AP343>0)*(AQ343>0)","v":0}]
[null,1977,{"v":2403.62,"d":"2,403.62"},268,{"$nulls":36},"Reajuste fiscal de los activos",0,30,{"$f":"(AO344=Parametros[Segmento])*(AP344>0)*(AQ344>0)","v":0}]
[null,1978,{"v":1885.96,"d":"1,885.96"},210.15,{"$nulls":36},"Reajuste fiscal de los activos",0,30,{"$f":"(AO345=Parametros[Segmento])*(AP345>0)*(AQ345>0)","v":0}]
[null,1979,{"v":1575.05,"d":"1,575.05"},175.54,{"$nulls":36},"Reajuste fiscal de los activos",0,30,{"$f":"(AO346=Parametros[Segmento])*(AP346>0)*(AQ346>0)","v":0}]
[null,1980,1245.21,138.69,{"$nulls":36},"Reajuste fiscal de los activos",0,30,{"$f":"(AO347=Parametros[Segmento])*(AP347>0)*(AQ347>0)","v":0}]
[null,1981,999.01,111.44,{"$nulls":36},"Reajuste fiscal de los activos",0,30,{"$f":"(AO348=Parametros[Segmento])*(AP348>0)*(AQ348>0)","v":0}]
[null,1982,795.42,88.66,{"$nulls":36},"Reajuste fiscal de los activos",0,30,{"$f":"(AO349=Parametros[Segmento])*(AP349>0)*(AQ349>0)","v":0}]
[null,1983,639.18,71.24,{"$nulls":36},"Reajuste fiscal de los activos",0,30,{"$f":"(AO350=Parametros[Segmento])*(AP350>0)*(AQ350>0)","v":0}]
[null,1984,549.22,61.19,{"$nulls":36},"Reajuste fiscal de los activos",0,30,{"$f":"(AO351=Parametros[Segmento])*(AP351>0)*(AQ351>0)","v":0}]
[null,1985,476.62,51.81,{"$nulls":36},"Reajuste fiscal de los activos",0,30,{"$f":"(AO352=Parametros[Segmento])*(AP352>0)*(AQ352>0)","v":0}]
[null,1986,394.55,42.43,{"$nulls":36},"Reajuste fiscal de los activos",0,30,{"$f":"(AO353=Parametros[Segmento])*(AP353>0)*(AQ353>0)","v":0}]
[null,1987,334.58,35.06,{"$nulls":36},"Reajuste fiscal de los activos",0,30,{"$f":"(AO354=Parametros[Segmento])*(AP354>0)*(AQ354>0)","v":0}]
[null,1988,252.51,28.59,{"$nulls":36},"Reajuste fiscal de los activos",0,30,{"$f":"(AO355=Parametros[Segmento])*(AP355>0)*(AQ355>0)","v":0}]
[null,1989,157.43,22.4,{"$nulls":36},"Reajuste fiscal de los activos",0,30,{"$f":"(AO356=Parametros[Segmento])*(AP356>0)*(AQ356>0)","v":0}]
[null,1990,108.87,17.76,{"$nulls":36},"Reajuste fiscal de los activos",0,30,{"$f":"(AO357=Parametros[Segmento])*(AP357>0)*(AQ357>0)","v":0}]
[null,1991,75.87,13.47,{"$nulls":36},"Reajuste fiscal de los activos",0,30,{"$f":"(AO358=Parametros[Segmento])*(AP358>0)*(AQ358>0)","v":0}]
[null,1992,56.83,10.61,{"$nulls":36},"Reajuste fiscal de los activos",0,30,{"$f":"(AO359=Parametros[Segmento])*(AP359>0)*(AQ359>0)","v":0}]
[null,1993,40.39,8.52,{"$nulls":36},"Reajuste fiscal de los activos",0,30,{"$f":"(AO360=Parametros[Segmento])*(AP360>0)*(AQ360>0)","v":0}]
[null,1994,29.37,6.95,{"$nulls":36},"Reajuste fiscal de los activos",0,30,{"$f":"(AO361=Parametros[Segmento])*(AP361>0)*(AQ361>0)","v":0}]
[null,1995,20.93,5.69,{"$nulls":36},"Reajuste fiscal de los activos",0,30,{"$f":"(AO362=Parametros[Segmento])*(AP362>0)*(AQ362>0)","v":0}]
[null,1996,15.47,4.82,{"$nulls":36},"Reajuste fiscal de los activos",0,30,{"$f":"(AO363=Parametros[Segmento])*(AP363>0)*(AQ363>0)","v":0}]
[null,1997,12.84,4.16,{"$nulls":36},"Reajuste fiscal de los activos",0,30,{"$f":"(AO364=Parametros[Segmento])*(AP364>0)*(AQ364>0)","v":0}]
[null,1998,9.86,3.54,{"$nulls":36},"Reajuste fiscal de los activos",0,30,{"$f":"(AO365=Parametros[Segmento])*(AP365>0)*(AQ365>0)","v":0}]
[null,1999,8.22,3.05,{"$nulls":36},"Reajuste fiscal de los activos",0,30,{"$f":"(AO366=Parametros[Segmento])*(AP366>0)*(AQ366>0)","v":0}]
[null,2000,8.16,2.8,{"$nulls":36},"Reajuste fiscal de los activos",0,30,{"$f":"(AO367=Parametros[Segmento])*(AP367>0)*(AQ367>0)","v":0}]
[null,2001,7.89,2.58,{"$nulls":36},"Reajuste fiscal de los activos",0,30,{"$f":"(AO368=Parametros[Segmento])*(AP368>0)*(AQ368>0)","v":0}]
[null,2002,7.29,2.4,{"$nulls":36},"Reajuste fiscal de los activos",0,30,{"$f":"(AO369=Parametros[Segmento])*(AP369>0)*(AQ369>0)","v":0}]
[null,2003,6.55,2.25,{"$nulls":36},"Reajuste fiscal de los activos",0,30,{"$f":"(AO370=Parametros[Segmento])*(AP370>0)*(AQ370>0)","v":0}]
[null,2004,6.16,2.11,{"$nulls":36},"Reajuste fiscal de los activos",0,30,{"$f":"(AO371=Parametros[Segmento])*(AP371>0)*(AQ371>0)","v":0}]
[null,2005,5.78,2,{"$nulls":36},"Reajuste fiscal de los activos",0,30,{"$f":"(AO372=Parametros[Segmento])*(AP372>0)*(AQ372>0)","v":0}]
[null,2006,5.48,1.91,{"$nulls":36},"Reajuste fiscal de los activos",0,30,{"$f":"(AO373=Parametros[Segmento])*(AP373>0)*(AQ373>0)","v":0}]
[null,2007,4.16,1.82,{"$nulls":36},"Reajuste fiscal de los activos",0,30,{"$f":"(AO374=Parametros[Segmento])*(AP374>0)*(AQ374>0)","v":0}]
[null,2008,3.7,1.72,{"$nulls":36},"Reajuste fiscal de los activos",0,30,{"$f":"(AO375=Parametros[Segmento])*(AP375>0)*(AQ375>0)","v":0}]
[null,2009,3.05,1.59,{"$nulls":36},"Reajuste fiscal de los activos",0,30,{"$f":"(AO376=Parametros[Segmento])*(AP376>0)*(AQ376>0)","v":0}]
[null,2010,2.78,1.56,{"$nulls":36},"Reajuste fiscal de los activos",0,30,{"$f":"(AO377=Parametros[Segmento])*(AP377>0)*(AQ377>0)","v":0}]
[null,2011,2.55,1.51,{"$nulls":36},"Reajuste fiscal de los activos",0,30,{"$f":"(AO378=Parametros[Segmento])*(AP378>0)*(AQ378>0)","v":0}]
[null,2012,2.13,1.46,{"$nulls":36},"Reajuste fiscal de los activos",0,30,{"$f":"(AO379=Parametros[Segmento])*(AP379>0)*(AQ379>0)","v":0}]
[null,2013,1.83,1.42,{"$nulls":36},"Reajuste fiscal de los activos",0,30,{"$f":"(AO380=Parametros[Segmento])*(AP380>0)*(AQ380>0)","v":0}]
[null,2014,1.62,1.39,{"$nulls":36},"Reajuste fiscal de los activos",0,30,{"$f":"(AO381=Parametros[Segmento])*(AP381>0)*(AQ381>0)","v":0}]
[null,2015,1.5,1.34,{"$nulls":36},"Reajuste fiscal de los activos",0,30,{"$f":"(AO382=Parametros[Segmento])*(AP382>0)*(AQ382>0)","v":0}]
[null,2016,1.43,1.26,{"$nulls":36},"Reajuste fiscal de los activos",0,30,{"$f":"(AO383=Parametros[Segmento])*(AP383>0)*(AQ383>0)","v":0}]
[null,2017,1.36,1.19,{"$nulls":36},"Reajuste fiscal de los activos",0,30,{"$f":"(AO384=Parametros[Segmento])*(AP384>0)*(AQ384>0)","v":0}]
[null,2018,1.25,1.15,{"$nulls":36},"Reajuste fiscal de los activos",0,30,{"$f":"(AO385=Parametros[Segmento])*(AP385>0)*(AQ385>0)","v":0}]
[null,2019,1.16,1.12,{"$nulls":36},"Reajuste fiscal de los activos",0,30,{"$f":"(AO386=Parametros[Segmento])*(AP386>0)*(AQ386>0)","v":0}]
[null,2020,1.09,1.08,{"$nulls":36},"Reajuste fiscal de los activos",0,30,{"$f":"(AO387=Parametros[Segmento])*(AP387>0)*(AQ387>0)","v":0}]
[null,2021,1.03,1.06,{"$nulls":36},"Reajuste fiscal de los activos",0,30,{"$f":"(AO388=Parametros[Segmento])*(AP388>0)*(AQ388>0)","v":0}]
[null,"Bienes inmuebles ",{"$f":"+DSUM(C316:O318,N316,G321:G322)","v":{"v":217424525,"d":"$ 217,424,525"}},{"$f":"+DSUM(C316:O318,N316,H321:H322)","v":{"v":0,"d":"$ 0"}},{"$f":"C389+(Activos_Exterior=\"Sí\")*D389","v":{"v":217424525,"d":"$ 217,424,525"}},{"$nulls":9},1,1,{"$nulls":24},"Activos",{"$f":"$O$297","v":0},30,{"$f":"(AO389=Parametros[Segmento])*(AP389>0)*(AQ389>0)","v":0}]
[null,"Otros bienes de propiedad, planta y equipo ",{"$nulls":38},"Activos",0,30,{"$f":"(AO390=Parametros[Segmento])*(AP390>0)*(AQ390>0)","v":0}]
[{"$nulls":18},{"$f":"+' '!B391","v":0},{"$f":"+SUM(' '!C391:D391)","v":{"v":0,"d":"$ 0"}},null,30,"Activos",30,{"$nulls":14},{"$f":"IF(Parametros[Segmento]=\"Informes\",\"\",W391)","v":"Activos"},{"$f":"IF(Parametros[Segmento]=\"Informes\",\"\",SUBSTITUTE($B$390,CHAR(10),\"\"))","v":"Otros bienes de propiedad, planta y equipo "},{"$f":"IF(Parametros[Segmento]=\"Informes\",\"Informes\",W391)","v":"Activos"},{"$f":"IF(Parametros[Segmento]=\"Informes\",T391<>0,(AN391=OFFSET(AN391,1,0))*$O$297)*1","v":0},{"$f":"IF(Parametros[Segmento]=\"Informes\",V391,X391)","v":30},{"$f":"(AO391=Parametros[Segmento])*(AP391>0)*(AQ391>0)","v":0}]
[{"$nulls":18},{"$f":"+' '!B392","v":0},{"$f":"+SUM(' '!C392:D392)","v":{"v":0,"d":"$ 0"}},null,30,"Activos",30,{"$nulls":14},{"$f":"IF(Parametros[Segmento]=\"Informes\",\"\",W392)","v":"Activos"},{"$f":"IF(Parametros[Segmento]=\"Informes\",\"\",SUBSTITUTE($B$390,CHAR(10),\"\"))","v":"Otros bienes de propiedad, planta y equipo "},{"$f":"IF(Parametros[Segmento]=\"Informes\",\"Informes\",W392)","v":"Activos"},{"$f":"IF(Parametros[Segmento]=\"Informes\",T392<>0,(AN392=OFFSET(AN392,1,0))*$O$297)*1","v":0},{"$f":"IF(Parametros[Segmento]=\"Informes\",V392,X392)","v":30},{"$f":"(AO392=Parametros[Segmento])*(AP392>0)*(AQ392>0)","v":0}]
[null,"Totales",{"$f":"SUM(C391:C392)","v":{"v":0,"d":"$ 0"}},{"$f":"SUM(D391:D392)","v":{"v":0,"d":"$ 0"}},{"$f":"C393+(Activos_Exterior=\"Sí\")*D393","v":{"v":0,"d":"$ 0"}},{"$nulls":14},"Total otros bienes de propiedad, planta y equipo",{"$f":"+SUM(T391:T392)","v":{"v":0,"d":"$ 0"}},30,"Activos",30,{"$nulls":16},{"$f":"IF(Parametros[Segmento]=\"Informes\",\"Informes\",W393)","v":"Activos"},{"$f":"IF(Parametros[Segmento]=\"Informes\",MAX(AP391:AP392),$O$297)","v":0},{"$f":"IF(Parametros[Segmento]=\"Informes\",V393,X393)","v":30},{"$f":"(AO393=Parametros[Segmento])*(AP393>0)*(AQ393>0)","v":0}]
[null,"Total Propiedad, Planta y Equipo a 31 de diciembre de 2022 ",{"$f":"(C302+C306+C313+C389+C393)","v":{"v":273424525,"d":"$ 273,424,525"}},{"$f":"(D302+D306+D313+D389+D393)","v":{"v":0,"d":"$ 0"}},{"$f":"C394+(Activos_Exterior=\"Sí\")*D394","v":{"v":273424525,"d":"$ 273,424,525"}},{"$nulls":14},"Total propiedad, planta y equipo a 31 de diciembre de 2022 ",{"$f":"SUM(U300:U393)","v":{"v":273424525,"d":"$ 273,424,525"}},30,"Activos",30,{"$nulls":16},{"$f":"IF(Parametros[Segmento]=\"Informes\",\"Informes\",W394)","v":"Activos"},{"$f":"$O$297","v":0},{"$f":"IF(Parametros[Segmento]=\"Informes\",V394,X394)","v":30},{"$f":"(AO394=Parametros[Segmento])*(AP394>0)*(AQ394>0)","v":0}]
[{"$nulls":40},"Activos",1,30,{"$f":"(AO395=Parametros[Segmento])*(AP395>0)*(AQ395>0)","v":0}]
[null,"Intangibles y otros bienes a 31 de diciembre de 2022",{"$nulls":12},0,{"$nulls":3},"Intangibles y otros bienes a 31 de diciembre de 2022 ",null,null,30,"Activos",30,{"$nulls":16},{"$f":"IF(Parametros[Segmento]=\"Informes\",\"Informes\",W396)","v":"Activos"},1,{"$f":"IF(Parametros[Segmento]=\"Informes\",V396,X396)","v":30},{"$f":"(AO396=Parametros[Segmento])*(AP396>0)*(AQ396>0)","v":0}]
[null,"Concepto","Nacionales ","Otros del exterior ","Totales",{"$nulls":13},"Descripción","Valor reportado","Total",30,"Activos",30,{"$nulls":16},{"$f":"IF(Parametros[Segmento]=\"Informes\",\"Informes\",W397)","v":"Activos"},{"$f":"$O$396","v":0},{"$f":"IF(Parametros[Segmento]=\"Informes\",V397,X397)","v":30},{"$f":"(AO397=Parametros[Segmento])*(AP397>0)*(AQ397>0)","v":0}]
[null,"Bienes intangibles ",{"$nulls":38},"Activos",0,30,{"$f":"(AO398=Parametros[Segmento])*(AP398>0)*(AQ398>0)","v":0}]
[{"$nulls":18},{"$f":"+' '!B399","v":0},{"$f":"+SUM(' '!C399:D399)","v":{"v":0,"d":"$ 0"}},null,30,"Activos",30,{"$nulls":14},{"$f":"IF(Parametros[Segmento]=\"Informes\",\"\",W399)","v":"Activos"},{"$f":"IF(Parametros[Segmento]=\"Informes\",\"\",SUBSTITUTE($B$398,CHAR(10),\"\"))","v":"Bienes intangibles "},{"$f":"IF(Parametros[Segmento]=\"Informes\",\"Informes\",W399)","v":"Activos"},{"$f":"IF(Parametros[Segmento]=\"Informes\",T399<>0,(AN399=OFFSET(AN399,1,0))*$O$396)*1","v":0},{"$f":"IF(Parametros[Segmento]=\"Informes\",V399,X399)","v":30},{"$f":"(AO399=Parametros[Segmento])*(AP399>0)*(AQ399>0)","v":0}]
[{"$nulls":18},{"$f":"+' '!B400","v":0},{"$f":"+SUM(' '!C400:D400)","v":{"v":0,"d":"$ 0"}},null,30,"Activos",30,{"$nulls":14},{"$f":"IF(Parametros[Segmento]=\"Informes\",\"\",W400)","v":"Activos"},{"$f":"IF(Parametros[Segmento]=\"Informes\",\"\",SUBSTITUTE($B$398,CHAR(10),\"\"))","v":"Bienes intangibles "},{"$f":"IF(Parametros[Segmento]=\"Informes\",\"Informes\",W400)","v":"Activos"},{"$f":"IF(Parametros[Segmento]=\"Informes\",T400<>0,(AN400=OFFSET(AN400,1,0))*$O$396)*1","v":0},{"$f":"IF(Parametros[Segmento]=\"Informes\",V400,X400)","v":30},{"$f":"(AO400=Parametros[Segmento])*(AP400>0)*(AQ400>0)","v":0}]
[null,"Totales",{"$f":"SUM(C399:C400)","v":{"v":0,"d":"$ 0"}},{"$f":"SUM(D399:D400)","v":{"v":0,"d":"$ 0"}},{"$f":"C401+(Activos_Exterior=\"Sí\")*D401","v":{"v":0,"d":"$ 0"}},{"$nulls":14},"Total intangibles",{"$f":"+SUM(T399:T400)","v":{"v":0,"d":"$ 0"}},30,"Activos",30,{"$nulls":16},{"$f":"IF(Parametros[Segmento]=\"Informes\",\"Informes\",W401)","v":"Activos"},{"$f":"IF(Parametros[Segmento]=\"Informes\",MAX(AP399:AP400),$O$396)","v":0},{"$f":"IF(Parametros[Segmento]=\"Informes\",V401,X401)","v":30},{"$f":"(AO401=Parametros[Segmento])*(AP401>0)*(AQ401>0)","v":0}]
[null,"Criptomonedas ",{"$nulls":38},"Activos",{"$f":"$O$396","v":0},30,{"$f":"(AO402=Parametros[Segmento])*(AP402>0)*(AQ402>0)","v":0}]
[{"$nulls":18},{"$f":"+' '!B403","v":0},{"$f":"+SUM(' '!C403:D403)","v":{"v":0,"d":"$ 0"}},null,30,"Activos",30,{"$nulls":14},{"$f":"IF(Parametros[Segmento]=\"Informes\",\"\",W403)","v":"Activos"},{"$f":"IF(Parametros[Segmento]=\"Informes\",\"\",SUBSTITUTE($B$402,CHAR(10),\"\"))","v":"Criptomonedas "},{"$f":"IF(Parametros[Segmento]=\"Informes\",\"Informes\",W403)","v":"Activos"},{"$f":"IF(Parametros[Segmento]=\"Informes\",T403<>0,(AN403=OFFSET(AN403,1,0))*$O$396)*1","v":0},{"$f":"IF(Parametros[Segmento]=\"Informes\",V403,X403)","v":30},{"$f":"(AO403=Parametros[Segmento])*(AP403>0)*(AQ403>0)","v":0}]
[{"$nulls":18},{"$f":"+' '!B404","v":0},{"$f":"+SUM(' '!C404:D404)","v":{"v":0,"d":"$ 0"}},null,30,"Activos",30,{"$nulls":14},{"$f":"IF(Parametros[Segmento]=\"Informes\",\"\",W404)","v":"Activos"},{"$f":"IF(Parametros[Segmento]=\"Informes\",\"\",SUBSTITUTE($B$402,CHAR(10),\"\"))","v":"Criptomonedas "},{"$f":"IF(Parametros[Segmento]=\"Informes\",\"Informes\",W404)","v":"Activos"},{"$f":"IF(Parametros[Segmento]=\"Informes\",T404<>0,(AN404=OFFSET(AN404,1,0))*$O$396)*1","v":0},{"$f":"IF(Parametros[Segmento]=\"Informes\",V404,X404)","v":30},{"$f":"(AO404=Parametros[Segmento])*(AP404>0)*(AQ404>0)","v":0}]
[null,"Totales",{"$f":"SUM(C403:C404)","v":{"v":0,"d":"$ 0"}},{"$f":"SUM(D403:D404)","v":{"v":0,"d":"$ 0"}},{"$f":"C405+(Activos_Exterior=\"Sí\")*D405","v":{"v":0,"d":"$ 0"}},{"$nulls":14},"Total criptomonedas",{"$f":"+SUM(T403:T404)","v":{"v":0,"d":"$ 0"}},30,"Activos",30,{"$nulls":16},{"$f":"IF(Parametros[Segmento]=\"Informes\",\"Informes\",W405)","v":"Activos"},{"$f":"IF(Parametros[Segmento]=\"Informes\",MAX(AP403:AP404),$O$396)","v":0},{"$f":"IF(Parametros[Segmento]=\"Informes\",V405,X405)","v":30},{"$f":"(AO405=Parametros[Segmento])*(AP405>0)*(AQ405>0)","v":0}]
[null,"Otros bienes",{"$nulls":38},"Activos",{"$f":"$O$396","v":0},30,{"$f":"(AO406=Parametros[Segmento])*(AP406>0)*(AQ406>0)","v":0}]
[{"$nulls":18},{"$f":"+' '!B407","v":0},{"$f":"+SUM(' '!C407:D407)","v":{"v":0,"d":"$ 0"}},null,30,"Activos",30,{"$nulls":14},{"$f":"IF(Parametros[Segmento]=\"Informes\",\"\",W407)","v":"Activos"},{"$f":"IF(Parametros[Segmento]=\"Informes\",\"\",SUBSTITUTE($B$406,CHAR(10),\"\"))","v":"Otros bienes"},{"$f":"IF(Parametros[Segmento]=\"Informes\",\"Informes\",W407)","v":"Activos"},{"$f":"IF(Parametros[Segmento]=\"Informes\",T407<>0,(AN407=OFFSET(AN407,1,0))*$O$396)*1","v":0},{"$f":"IF(Parametros[Segmento]=\"Informes\",V407,X407)","v":30},{"$f":"(AO407=Parametros[Segmento])*(AP407>0)*(AQ407>0)","v":0}]
[{"$nulls":18},{"$f":"+' '!B408","v":0},{"$f":"+SUM(' '!C408:D408)","v":{"v":0,"d":"$ 0"}},null,30,"Activos",30,{"$nulls":14},{"$f":"IF(Parametros[Segmento]=\"Informes\",\"\",W408)","v":"Activos"},{"$f":"IF(Parametros[Segmento]=\"Informes\",\"\",SUBSTITUTE($B$406,CHAR(10),\"\"))","v":"Otros bienes"},{"$f":"IF(Parametros[Segmento]=\"Informes\",\"Informes\",W408)","v":"Activos"},{"$f":"IF(Parametros[Segmento]=\"Informes\",T408<>0,(AN408=OFFSET(AN408,1,0))*$O$396)*1","v":0},{"$f":"IF(Parametros[Segmento]=\"Informes\",V408,X408)","v":30},{"$f":"(AO408=Parametros[Segmento])*(AP408>0)*(AQ408>0)","v":0}]
[null,"Totales",{"$f":"SUM(C407:C408)","v":{"v":0,"d":"$ 0"}},{"$f":"SUM(D407:D408)","v":{"v":0,"d":"$ 0"}},{"$f":"C409+(Activos_Exterior=\"Sí\")*D409","v":{"v":0,"d":"$ 0"}},{"$nulls":14},"Total otros bienes ",{"$f":"+SUM(T407:T408)","v":{"v":0,"d":"$ 0"}},30,"Activos",30,{"$nulls":16},{"$f":"IF(Parametros[Segmento]=\"Informes\",\"Informes\",W409)","v":"Activos"},{"$f":"IF(Parametros[Segmento]=\"Informes\",MAX(AP407:AP408),$O$396)","v":0},{"$f":"IF(Parametros[Segmento]=\"Informes\",V409,X409)","v":30},{"$f":"(AO409=Parametros[Segmento])*(AP409>0)*(AQ409>0)","v":0}]
[null,"Total Intangibles y Otros Bienes a 31 de didicembre de 2022",{"$f":"C401+C405+C409","v":{"v":0,"d":"$ 0"}},{"$f":"D401+D405+D409","v":{"v":0,"d":"$ 0"}},{"$f":"C410+(Activos_Exterior=\"Sí\")*D410","v":{"v":0,"d":"$ 0"}},{"$nulls":14},"Total intangibles y otros bienes a 31 de diciembre de 2022 ",{"$f":"SUM(U399:U409)","v":{"v":0,"d":"$ 0"}},30,"Activos",30,{"$nulls":16},{"$f":"IF(Parametros[Segmento]=\"Informes\",\"Informes\",W410)","v":"Activos"},{"$f":"$O$396","v":0},{"$f":"IF(Parametros[Segmento]=\"Informes\",V410,X410)","v":30},{"$f":"(AO410=Parametros[Segmento])*(AP410>0)*(AQ410>0)","v":0}]
[{"$nulls":19},"Total bienes a 31 de diciembre de 2022",{"$f":"ROUND(' '!U211+' '!U240+' '!U288+' '!U296+' '!U394+U410,-3)","v":{"v":287776000,"d":"$ 287,776,000"}},30,"Activos",30,{"$nulls":16},{"$f":"IF(Parametros[Segmento]=\"Informes\",\"Informes\",W411)","v":"Activos"},0,{"$f":"IF(Parametros[Segmento]=\"Informes\",V411,X411)","v":30},{"$f":"(AO411=Parametros[Segmento])*(AP411>0)*(AQ411>0)","v":0}]
[null,"Total bienes y derechos poseídos a 31 de diciembre de 2022 ",{"$f":"C211+C240+C288+C295+C394+C410","v":{"v":287775525,"d":"$ 287,775,525"}},{"$f":"D211+D240+D288+D295+D394+D410","v":{"v":0,"d":"$ 0"}},{"$f":"C412+(Activos_Exterior=\"Sí\")*D412","v":{"v":287775525,"d":"$ 287,775,525"}},{"$nulls":16},30,"Activos",30,{"$nulls":16},{"$f":"IF(Parametros[Segmento]=\"Informes\",\"Informes\",W412)","v":"Activos"},0,{"$f":"IF(Parametros[Segmento]=\"Informes\",V412,X412)","v":30},{"$f":"(AO412=Parametros[Segmento])*(AP412>0)*(AQ412>0)","v":0}]
[2.11,82.78,24,{"$f":"IF(' '!$D$146=\"Sí\",24,0)","v":0},24,10,{"$nulls":7},0,0,0,0,null,0,0,0,0,0,0,{"$nulls":16},"Deudas",0,15,{"$f":"(AO413=Parametros[Segmento])*(AP413>0)*(AQ413>0)","v":0}]
[{"$nulls":40},"Deudas",1,30,{"$f":"(AO414=Parametros[Segmento])*(AP414>0)*(AQ414>0)","v":0}]
[null,"Deudas",{"$nulls":38},"Deudas",1,30,{"$f":"(AO415=Parametros[Segmento])*(AP415>0)*(AQ415>0)","v":0}]
[null,"Deudas y obligaciones a 31 de diciembre de 2022",{"$nulls":16},"Deudas a 31 de diciembre de 2022",null,null,30,"Deudas",30,{"$nulls":16},{"$f":"IF(Parametros[Segmento]=\"Informes\",\"Informes\",W416)","v":"Deudas"},1,{"$f":"IF(Parametros[Segmento]=\"Informes\",V416,X416)","v":30},{"$f":"(AO416=Parametros[Segmento])*(AP416>0)*(AQ416>0)","v":0}]
[null,"Concepto","Nacionales ","Del exterior ","Totales",{"$nulls":13},"Descripción","Valor reportado","Total",30,"Deudas",30,{"$nulls":16},{"$f":"IF(Parametros[Segmento]=\"Informes\",\"Informes\",W417)","v":"Deudas"},1,{"$f":"IF(Parametros[Segmento]=\"Informes\",V417,X417)","v":30},{"$f":"(AO417=Parametros[Segmento])*(AP417>0)*(AQ417>0)","v":0}]
[null,"Tarjetas de crédito ",{"$nulls":38},"Deudas",1,30,{"$f":"(AO418=Parametros[Segmento])*(AP418>0)*(AQ418>0)","v":0}]
[null,"BBVA",{"v":1378000,"d":"$ 1,378,000"},{"$nulls":15},{"$f":"+' '!B419","v":"BBVA"},{"$f":"+SUM(' '!C419:D419)","v":{"v":1378000,"d":"$ 1,378,000"}},null,30,"Deudas",30,{"$nulls":14},{"$f":"IF(Parametros[Segmento]=\"Informes\",\"\",W419)","v":"Deudas"},{"$f":"IF(Parametros[Segmento]=\"Informes\",\"\",SUBSTITUTE($B$418,CHAR(10),\"\"))","v":"Tarjetas de crédito "},{"$f":"IF(Parametros[Segmento]=\"Informes\",\"Informes\",W419)","v":"Deudas"},{"$f":"IF(Parametros[Segmento]=\"Informes\",T419<>0,(AN419=OFFSET(AN419,1,0)))*1","v":1},{"$f":"IF(Parametros[Segmento]=\"Informes\",V419,X419)","v":30},{"$f":"(AO419=Parametros[Segmento])*(AP419>0)*(AQ419>0)","v":0}]
[{"$nulls":18},{"$f":"+' '!B420","v":0},{"$f":"+SUM(' '!C420:D420)","v":{"v":0,"d":"$ 0"}},null,30,"Deudas",30,{"$nulls":14},{"$f":"IF(Parametros[Segmento]=\"Informes\",\"\",W420)","v":"Deudas"},{"$f":"IF(Parametros[Segmento]=\"Informes\",\"\",SUBSTITUTE($B$418,CHAR(10),\"\"))","v":"Tarjetas de crédito "},{"$f":"IF(Parametros[Segmento]=\"Informes\",\"Informes\",W420)","v":"Deudas"},{"$f":"IF(Parametros[Segmento]=\"Informes\",T420<>0,(AN420=OFFSET(AN420,1,0)))*1","v":0},{"$f":"IF(Parametros[Segmento]=\"Informes\",V420,X420)","v":30},{"$f":"(AO420=Parametros[Segmento])*(AP420>0)*(AQ420>0)","v":0}]
[null,"Totales",{"$f":"SUM(C419:C420)","v":{"v":1378000,"d":"$ 1,378,000"}},{"$f":"SUM(D419:D420)","v":{"v":0,"d":"$ 0"}},{"$f":"C421+(Activos_Exterior=\"Sí\")*D421","v":{"v":1378000,"d":"$ 1,378,000"}},{"$nulls":14},"Total tarjetas de crédito",{"$f":"+SUM(T419:T420)","v":{"v":1378000,"d":"$ 1,378,000"}},30,"Deudas",30,{"$nulls":16},{"$f":"IF(Parametros[Segmento]=\"Informes\",\"Informes\",W421)","v":"Deudas"},{"$f":"IF(Parametros[Segmento]=\"Informes\",MAX(AP419:AP420),1)","v":1},{"$f":"IF(Parametros[Segmento]=\"Informes\",V421,X421)","v":30},{"$f":"(AO421=Parametros[Segmento])*(AP421>0)*(AQ421>0)","v":0}]
[null,"Créditos con entidades financieras ",{"$nulls":38},"Deudas",1,30,{"$f":"(AO422=Parametros[Segmento])*(AP422>0)*(AQ422>0)","v":0}]
[null,"Consumo BBVA",{"v":14320000,"d":"$ 14,320,000"},{"$nulls":15},{"$f":"+' '!B423","v":"Consumo BBVA"},{"$f":"+SUM(' '!C423:D423)","v":{"v":14320000,"d":"$ 14,320,000"}},null,30,"Deudas",30,{"$nulls":14},{"$f":"IF(Parametros[Segmento]=\"Informes\",\"\",W423)","v":"Deudas"},{"$f":"IF(Parametros[Segmento]=\"Informes\",\"\",SUBSTITUTE($B$422,CHAR(10),\"\"))","v":"Créditos con entidades financieras "},{"$f":"IF(Parametros[Segmento]=\"Informes\",\"Informes\",W423)","v":"Deudas"},{"$f":"IF(Parametros[Segmento]=\"Informes\",T423<>0,(AN423=OFFSET(AN423,1,0)))*1","v":1},{"$f":"IF(Parametros[Segmento]=\"Informes\",V423,X423)","v":30},{"$f":"(AO423=Parametros[Segmento])*(AP423>0)*(AQ423>0)","v":0}]
[{"$nulls":18},{"$f":"+' '!B424","v":0},{"$f":"+SUM(' '!C424:D424)","v":{"v":0,"d":"$ 0"}},null,30,"Deudas",30,{"$nulls":14},{"$f":"IF(Parametros[Segmento]=\"Informes\",\"\",W424)","v":"Deudas"},{"$f":"IF(Parametros[Segmento]=\"Informes\",\"\",SUBSTITUTE($B$422,CHAR(10),\"\"))","v":"Créditos con entidades financieras "},{"$f":"IF(Parametros[Segmento]=\"Informes\",\"Informes\",W424)","v":"Deudas"},{"$f":"IF(Parametros[Segmento]=\"Informes\",T424<>0,(AN424=OFFSET(AN424,1,0)))*1","v":0},{"$f":"IF(Parametros[Segmento]=\"Informes\",V424,X424)","v":30},{"$f":"(AO424=Parametros[Segmento])*(AP424>0)*(AQ424>0)","v":0}]
[null,"Totales",{"$f":"SUM(C423:C424)","v":{"v":14320000,"d":"$ 14,320,000"}},{"$f":"SUM(D423:D424)","v":{"v":0,"d":"$ 0"}},{"$f":"C425+(Activos_Exterior=\"Sí\")*D425","v":{"v":14320000,"d":"$ 14,320,000"}},{"$nulls":14},"Total créditos con entidades financieras ",{"$f":"+SUM(T423:T424)","v":{"v":14320000,"d":"$ 14,320,000"}},30,"Deudas",30,{"$nulls":16},{"$f":"IF(Parametros[Segmento]=\"Informes\",\"Informes\",W425)","v":"Deudas"},{"$f":"IF(Parametros[Segmento]=\"Informes\",MAX(AP423:AP424),1)","v":1},{"$f":"IF(Parametros[Segmento]=\"Informes\",V425,X425)","v":30},{"$f":"(AO425=Parametros[Segmento])*(AP425>0)*(AQ425>0)","v":0}]
[null,"Créditos con cooperativas ",{"$nulls":38},"Deudas",1,30,{"$f":"(AO426=Parametros[Segmento])*(AP426>0)*(AQ426>0)","v":0}]
[{"$nulls":18},{"$f":"+' '!B427","v":0},{"$f":"+SUM(' '!C427:D427)","v":{"v":0,"d":"$ 0"}},null,30,"Deudas",30,{"$nulls":14},{"$f":"IF(Parametros[Segmento]=\"Informes\",\"\",W427)","v":"Deudas"},{"$f":"IF(Parametros[Segmento]=\"Informes\",\"\",SUBSTITUTE($B$426,CHAR(10),\"\"))","v":"Créditos con cooperativas "},{"$f":"IF(Parametros[Segmento]=\"Informes\",\"Informes\",W427)","v":"Deudas"},{"$f":"IF(Parametros[Segmento]=\"Informes\",T427<>0,(AN427=OFFSET(AN427,1,0)))*1","v":1},{"$f":"IF(Parametros[Segmento]=\"Informes\",V427,X427)","v":30},{"$f":"(AO427=Parametros[Segmento])*(AP427>0)*(AQ427>0)","v":0}]
[{"$nulls":18},{"$f":"+' '!B428","v":0},{"$f":"+SUM(' '!C428:D428)","v":{"v":0,"d":"$ 0"}},null,30,"Deudas",30,{"$nulls":14},{"$f":"IF(Parametros[Segmento]=\"Informes\",\"\",W428)","v":"Deudas"},{"$f":"IF(Parametros[Segmento]=\"Informes\",\"\",SUBSTITUTE($B$426,CHAR(10),\"\"))","v":"Créditos con cooperativas "},{"$f":"IF(Parametros[Segmento]=\"Informes\",\"Informes\",W428)","v":"Deudas"},{"$f":"IF(Parametros[Segmento]=\"Informes\",T428<>0,(AN428=OFFSET(AN428,1,0)))*1","v":0},{"$f":"IF(Parametros[Segmento]=\"Informes\",V428,X428)","v":30},{"$f":"(AO428=Parametros[Segmento])*(AP428>0)*(AQ428>0)","v":0}]
[null,"Totales",{"$f":"SUM(C427:C428)","v":{"v":0,"d":"$ 0"}},{"$f":"SUM(D427:D428)","v":{"v":0,"d":"$ 0"}},{"$f":"C429+(Activos_Exterior=\"Sí\")*D429","v":{"v":0,"d":"$ 0"}},{"$nulls":14},"Total créditos con cooperativas ",{"$f":"+SUM(T427:T428)","v":{"v":0,"d":"$ 0"}},30,"Deudas",30,{"$nulls":16},{"$f":"IF(Parametros[Segmento]=\"Informes\",\"Informes\",W429)","v":"Deudas"},{"$f":"IF(Parametros[Segmento]=\"Informes\",MAX(AP427:AP428),1)","v":1},{"$f":"IF(Parametros[Segmento]=\"Informes\",V429,X429)","v":30},{"$f":"(AO429=Parametros[Segmento])*(AP429>0)*(AQ429>0)","v":0}]
[null,"Cuentas por pagar a particulares ",{"$nulls":38},"Deudas",1,30,{"$f":"(AO430=Parametros[Segmento])*(AP430>0)*(AQ430>0)","v":0}]
[{"$nulls":18},{"$f":"+' '!B431","v":0},{"$f":"+SUM(' '!C431:D431)","v":{"v":0,"d":"$ 0"}},null,30,"Deudas",30,{"$nulls":14},{"$f":"IF(Parametros[Segmento]=\"Informes\",\"\",W431)","v":"Deudas"},{"$f":"IF(Parametros[Segmento]=\"Informes\",\"\",SUBSTITUTE($B$430,CHAR(10),\"\"))","v":"Cuentas por pagar a particulares "},{"$f":"IF(Parametros[Segmento]=\"Informes\",\"Informes\",W431)","v":"Deudas"},{"$f":"IF(Parametros[Segmento]=\"Informes\",T431<>0,(AN431=OFFSET(AN431,1,0)))*1","v":1},{"$f":"IF(Parametros[Segmento]=\"Informes\",V431,X431)","v":30},{"$f":"(AO431=Parametros[Segmento])*(AP431>0)*(AQ431>0)","v":0}]
[{"$nulls":18},{"$f":"+' '!B432","v":0},{"$f":"+SUM(' '!C432:D432)","v":{"v":0,"d":"$ 0"}},null,30,"Deudas",30,{"$nulls":14},{"$f":"IF(Parametros[Segmento]=\"Informes\",\"\",W432)","v":"Deudas"},{"$f":"IF(Parametros[Segmento]=\"Informes\",\"\",SUBSTITUTE($B$430,CHAR(10),\"\"))","v":"Cuentas por pagar a particulares "},{"$f":"IF(Parametros[Segmento]=\"Informes\",\"Informes\",W432)","v":"Deudas"},{"$f":"IF(Parametros[Segmento]=\"Informes\",T432<>0,(AN432=OFFSET(AN432,1,0)))*1","v":0},{"$f":"IF(Parametros[Segmento]=\"Informes\",V432,X432)","v":30},{"$f":"(AO432=Parametros[Segmento])*(AP432>0)*(AQ432>0)","v":0}]
[null,"Totales",{"$f":"SUM(C431:C432)","v":{"v":0,"d":"$ 0"}},{"$f":"SUM(D431:D432)","v":{"v":0,"d":"$ 0"}},{"$f":"C433+(Activos_Exterior=\"Sí\")*D433","v":{"v":0,"d":"$ 0"}},{"$nulls":14},"Total cuentas por pagar a particulares ",{"$f":"+SUM(T431:T432)","v":{"v":0,"d":"$ 0"}},30,"Deudas",30,{"$nulls":16},{"$f":"IF(Parametros[Segmento]=\"Informes\",\"Informes\",W433)","v":"Deudas"},{"$f":"IF(Parametros[Segmento]=\"Informes\",MAX(AP431:AP432),1)","v":1},{"$f":"IF(Parametros[Segmento]=\"Informes\",V433,X433)","v":30},{"$f":"(AO433=Parametros[Segmento])*(AP433>0)*(AQ433>0)","v":0}]
[2.33,17.33,16.78,17,25,19.22,19.22,19.22,19.22,21.44,5,null,0,0,0,0,0,null,0,0,0,0,0,0,{"$nulls":16},"Subcapitalización",0,15,{"$f":"(AO434=Parametros[Segmento])*(AP434>0)*(AQ434>0)","v":0}]
[{"$nulls":40},"Subcapitalización",1,30,{"$f":"(AO435=Parametros[Segmento])*(AP435>0)*(AQ435>0)","v":0}]
[null,"Subcapitalización ",{"$nulls":38},"Subcapitalización",1,30,{"$f":"(AO436=Parametros[Segmento])*(AP436>0)*(AQ436>0)","v":0}]
[null,"Información general de los préstamos con vinculados económicos ",{"$nulls":38},"Subcapitalización",1,30,{"$f":"(AO437=Parametros[Segmento])*(AP437>0)*(AQ437>0)","v":0}]
[null,"Préstamos vigentes en el 2022","Tipo de vinculado económico","Fecha \nde inicio del préstamo\n(dd/mm/aaaa) ","Fecha de finalización del préstamo\n(dd/mm/aaaa)","Tasa de interés ","Monto del préstamo","Intereses pagados en el año","Saldo del préstamo pendiente de pago a 31 de diciembre de 2022","Rentas a las que se imputarán los intereses deducibles",{"$nulls":30},"Subcapitalización",1,113,{"$f":"(AO438=Parametros[Segmento])*(AP438>0)*(AQ438>0)","v":0}]
[{"$nulls":7},{"$f":"P439","v":{"v":0,"d":"$ 0"}},{"$f":"N439","v":{"v":0,"d":"$ 0"}},{"$nulls":9},{"$f":"+' '!B439","v":0},{"$f":"+' '!I439","v":{"v":0,"d":"$ 0"}},null,30,"Subcapitalización",30,{"$nulls":14},{"$f":"IF(Parametros[Segmento]=\"Informes\",\"\",W439)","v":"Subcapitalización"},{"$f":"IF(Parametros[Segmento]=\"Informes\",\"\",SUBSTITUTE($B$438,CHAR(10),\"\"))","v":"Préstamos vigentes en el 2022"},{"$f":"IF(Parametros[Segmento]=\"Informes\",\"Informes\",W439)","v":"Subcapitalización"},{"$f":"IF(Parametros[Segmento]=\"Informes\",T439<>0,(AN439=OFFSET(AN439,1,0)))*1","v":1},{"$f":"IF(Parametros[Segmento]=\"Informes\",V439,X439)","v":30},{"$f":"(AO439=Parametros[Segmento])*(AP439>0)*(AQ439>0)","v":0}]
[{"$nulls":7},{"$f":"P440","v":{"v":0,"d":"$ 0"}},{"$f":"N440","v":{"v":0,"d":"$ 0"}},{"$nulls":9},{"$f":"+' '!B440","v":0},{"$f":"+' '!I440","v":{"v":0,"d":"$ 0"}},null,30,"Subcapitalización",30,{"$nulls":14},{"$f":"IF(Parametros[Segmento]=\"Informes\",\"\",W440)","v":"Subcapitalización"},{"$f":"IF(Parametros[Segmento]=\"Informes\",\"\",SUBSTITUTE($B$438,CHAR(10),\"\"))","v":"Préstamos vigentes en el 2022"},{"$f":"IF(Parametros[Segmento]=\"Informes\",\"Informes\",W440)","v":"Subcapitalización"},{"$f":"IF(Parametros[Segmento]=\"Informes\",T440<>0,(AN440=OFFSET(AN440,1,0)))*1","v":0},{"$f":"IF(Parametros[Segmento]=\"Informes\",V440,X440)","v":30},{"$f":"(AO440=Parametros[Segmento])*(AP440>0)*(AQ440>0)","v":0}]
[{"$nulls":19},"Total cuentas por pagar a vinculados económicos ",{"$f":"+SUM(T439:T440)","v":{"v":0,"d":"$ 0"}},30,"Subcapitalización",30,{"$nulls":16},{"$f":"IF(Parametros[Segmento]=\"Informes\",\"Informes\",W441)","v":"Subcapitalización"},{"$f":"IF(Parametros[Segmento]=\"Informes\",MAX(AP439:AP440),1)","v":1},{"$f":"IF(Parametros[Segmento]=\"Informes\",V441,X441)","v":30},{"$f":"(AO441=Parametros[Segmento])*(AP441>0)*(AQ441>0)","v":0}]
[null,"Datos generales ",{"$nulls":4},"Datos generales ",{"$nulls":33},"Subcapitalización",1,30,{"$f":"(AO442=Parametros[Segmento])*(AP442>0)*(AQ442>0)","v":0}]
[null,"Patrimonio líquido año gravable 2021",null,null,{"$f":"+' '!D153","v":{"v":241560000,"d":"$ 241,560,000"}},null,"Exceso de endeudamiento ",null,null,{"$f":"+IF(E447>E448,(E447-E448),0)","v":{"v":0,"d":"$ 0"}},{"$nulls":30},"Subcapitalización",1,30,{"$f":"(AO443=Parametros[Segmento])*(AP443>0)*(AQ443>0)","v":0}]
[null,"Total deuda ponderada ",null,null,{"$f":"IFERROR(SUM(Q439:Q440),0)","v":{"v":0,"d":"$ 0"}},null,"Porcentaje de intereses no deducible ",null,null,{"$f":"+IF(J443>0,J443/E447,0)","v":{"v":0,"d":"0.00%"}},{"$nulls":30},"Subcapitalización",1,30,{"$f":"(AO444=Parametros[Segmento])*(AP444>0)*(AQ444>0)","v":0}]
[null,"Total días de permanencia de la deuda en el año ",null,null,{"$f":"IFERROR(MIN(SUM(O439:O440),365),0)","v":0},null,"Intereses no deducibles por exceso de endeudamiento",null,null,{"$f":"IFERROR(E446*J444,0)","v":{"v":0,"d":"$ 0"}},{"$nulls":30},"Subcapitalización",1,40,{"$f":"(AO445=Parametros[Segmento])*(AP445>0)*(AQ445>0)","v":0}]
[null,"Total intereses pagado en el año ",null,null,{"$f":"IFERROR(SUM(H439:H440),0)","v":{"v":0,"d":"$ 0"}},null,"Intereses deducibles - Subcapitalización ",null,null,{"$f":"IFERROR(E446-J445,0)","v":{"v":0,"d":"$ 0"}},{"$nulls":30},"Subcapitalización",1,30,{"$f":"(AO446=Parametros[Segmento])*(AP446>0)*(AQ446>0)","v":0}]
[null,"Monto promedio de las deudas ",null,null,{"$f":"IFERROR(E444/E445,0)","v":{"v":0,"d":"$ 0"}},null,"Porcentaje de intereses deducibles por componente inflacionario",null,null,{"$f":"+' '!D118","v":{"v":0.36650000000000005,"d":"36.65%"}},{"$nulls":30},"Subcapitalización",1,40,{"$f":"(AO447=Parametros[Segmento])*(AP447>0)*(AQ447>0)","v":0}]
[null,"Límite de endeudamiento permitido (Artícul 118-1 del ET)",null,null,{"$f":"+E443*2","v":{"v":483120000,"d":"$ 483,120,000"}},null,"Porcentaje de intereses deducibles por componente inflacionario - Deudas del exterior ",null,null,{"$f":"+' '!D120","v":{"v":0.48219999999999996,"d":"48.22%"}},{"$nulls":30},"Subcapitalización",1,40,{"$f":"(AO448=Parametros[Segmento])*(AP448>0)*(AQ448>0)","v":0}]
[{"$nulls":6},"Intereses a tomar como costo deducible - Componente inflacionario",null,null,{"$f":"ROUND(SUM(I482:I487),-3)","v":{"v":0,"d":"$ 0"}},{"$nulls":30},"Subcapitalización",1,40,{"$f":"(AO449=Parametros[Segmento])*(AP449>0)*(AQ449>0)","v":0}]
[{"$nulls":12},{"$f":"OFFSET(Lista_SubCap_Prestamos,SubCap_Indice-1,11,1,1)","v":0},{"$nulls":27},"Subcapitalización",1,30,{"$f":"(AO450=Parametros[Segmento])*(AP450>0)*(AQ450>0)","v":0}]
[null,{"$f":"IFERROR(IF(SubCap_Indice=0,\"\",IF(INDEX(Lista_SubCap_Prestamos,SubCap_Indice)=\"\",\"\",INDEX(Lista_SubCap_Prestamos,SubCap_Indice))),\"\")","v":""},{"$nulls":10},0,{"$nulls":27},"Subcapitalización",{"$f":"(SubCap_Indice>0)*1","v":0},30,{"$f":"(AO451=Parametros[Segmento])*(AP451>0)*(AQ451>0)","v":0}]
[null,"Fecha inicial\n(dd/mm/aaaa)","Fecha final\n(dd/mm/aaaa)","Permanencia en días ","Saldo de capital inicial","Abono a capital ","Intereses ","Saldo de capital final","Deuda Ponderada",{"$nulls":3},1,{"$nulls":27},"Subcapitalización",{"$f":"(SubCap_Indice>0)*1","v":0},50,{"$f":"(AO452=Parametros[Segmento])*(AP452>0)*(AQ452>0)","v":0}]
[null,{"$f":"IFERROR(IF(SubCap_Indice=0,\"\",IF(OFFSET($D$438,SubCap_Indice,0)=\"\",\"\",OFFSET($D$438,SubCap_Indice,0))),\"\")","v":""},{"$f":"IF(B453=\"\",\"\",IF(B454=\"\",OFFSET($E$438,SubCap_Indice,0),B454-1))","v":""},{"$f":"IFERROR(C453-B453+1,0)","v":0},{"$f":"IF(AND(IFERROR(OFFSET($G$438,SubCap_Indice,0),0)>0,D453>0),IFERROR(OFFSET($G$438,SubCap_Indice,0),0),0)","v":{"v":0,"d":"$ 0"}},null,{"$f":"E453*(OFFSET($F$438,SubCap_Indice,0))*D453/365","v":{"$error":"#VALUE!"}},{"$f":"IF(D453=0,0,E453-F453)","v":{"v":0,"d":"$ 0"}},{"$f":"+D453*E453","v":{"v":0,"d":"$ 0"}},{"$nulls":3},{"$f":"IFERROR(SEARCH(\";\",$M$450,M452)+1,0)","v":0},{"$f":"IFERROR(IF(M453=0,\"\",MID($M$450,M452,M453-M452-1)),\"\")","v":""},{"$nulls":26},"Subcapitalización",{"$f":"(SubCap_Indice>0)*(D453>0)","v":0},30,{"$f":"(AO453=Parametros[Segmento])*(AP453>0)*(AQ453>0)","v":0}]
[null,{"$f":"IF(B453=\"\",\"\",IF(MONTH(B453)<MONTH(OFFSET($E$438,SubCap_Indice,0)),DATE(YEAR(B453),MONTH(B453)+1,1),\"\"))","v":""},"",0,{"$f":"+H453","v":{"v":0,"d":"$ 0"}},null,{"$error":"#VALUE!"},{"v":0,"d":"$ 0"},{"v":0,"d":"$ 0"},{"$nulls":3},0,"",{"$nulls":26},"Subcapitalización",0,30,{"$f":"(AO454=Parametros[Segmento])*(AP454>0)*(AQ454>0)","v":0}]
[null,"","",0,{"v":0,"d":"$ 0"},null,{"$error":"#VALUE!"},{"v":0,"d":"$ 0"},{"v":0,"d":"$ 0"},{"$nulls":3},0,"",{"$nulls":26},"Subcapitalización",0,30,{"$f":"(AO455=Parametros[Segmento])*(AP455>0)*(AQ455>0)","v":0}]
[null,"","",0,{"v":0,"d":"$ 0"},null,{"$error":"#VALUE!"},{"v":0,"d":"$ 0"},{"v":0,"d":"$ 0"},{"$nulls":3},0,"",{"$nulls":26},"Subcapitalización",0,30,{"$f":"(AO456=Parametros[Segmento])*(AP456>0)*(AQ456>0)","v":0}]
[null,"","",0,{"v":0,"d":"$ 0"},null,{"$error":"#VALUE!"},{"v":0,"d":"$ 0"},{"v":0,"d":"$ 0"},{"$nulls":3},0,"",{"$nulls":26},"Subcapitalización",0,30,{"$f":"(AO457=Parametros[Segmento])*(AP457>0)*(AQ457>0)","v":0}]
[null,"","",0,{"v":0,"d":"$ 0"},null,{"$error":"#VALUE!"},{"v":0,"d":"$ 0"},{"v":0,"d":"$ 0"},{"$nulls":3},0,"",{"$nulls":26},"Subcapitalización",0,30,{"$f":"(AO458=Parametros[Segmento])*(AP458>0)*(AQ458>0)","v":0}]
[null,"","",0,{"v":0,"d":"$ 0"},null,{"$error":"#VALUE!"},{"v":0,"d":"$ 0"},{"v":0,"d":"$ 0"},{"$nulls":3},0,"",{"$nulls":26},"Subcapitalización",0,30,{"$f":"(AO459=Parametros[Segmento])*(AP459>0)*(AQ459>0)","v":0}]
[null,"","",0,{"v":0,"d":"$ 0"},null,{"$error":"#VALUE!"},{"v":0,"d":"$ 0"},{"v":0,"d":"$ 0"},{"$nulls":3},0,"",{"$nulls":26},"Subcapitalización",0,30,{"$f":"(AO460=Parametros[Segmento])*(AP460>0)*(AQ460>0)","v":0}]
[null,"","",0,{"v":0,"d":"$ 0"},null,{"$error":"#VALUE!"},{"v":0,"d":"$ 0"},{"v":0,"d":"$ 0"},{"$nulls":3},0,"",{"$nulls":26},"Subcapitalización",0,30,{"$f":"(AO461=Parametros[Segmento])*(AP461>0)*(AQ461>0)","v":0}]
[null,"","",0,{"v":0,"d":"$ 0"},null,{"$error":"#VALUE!"},{"v":0,"d":"$ 0"},{"v":0,"d":"$ 0"},{"$nulls":3},0,"",{"$nulls":26},"Subcapitalización",0,30,{"$f":"(AO462=Parametros[Segmento])*(AP462>0)*(AQ462>0)","v":0}]
[null,"","",0,{"v":0,"d":"$ 0"},null,{"$error":"#VALUE!"},{"v":0,"d":"$ 0"},{"v":0,"d":"$ 0"},{"$nulls":3},0,"",{"$nulls":26},"Subcapitalización",0,30,{"$f":"(AO463=Parametros[Segmento])*(AP463>0)*(AQ463>0)","v":0}]
[null,"","",0,{"v":0,"d":"$ 0"},null,{"$error":"#VALUE!"},{"v":0,"d":"$ 0"},{"v":0,"d":"$ 0"},{"$nulls":3},0,"",{"$nulls":26},"Subcapitalización",0,30,{"$f":"(AO464=Parametros[Segmento])*(AP464>0)*(AQ464>0)","v":0}]
[{"$nulls":7},"Total permanencia de la deuda en días ",{"$f":"IF(E453>0,SUM(D453:D464),0)","v":{"v":0,"d":"$ 0"}},{"$nulls":31},"Subcapitalización",{"$f":"(SubCap_Indice>0)*1","v":0},30,{"$f":"(AO465=Parametros[Segmento])*(AP465>0)*(AQ465>0)","v":0}]
[{"$nulls":7},"Total intereses pagados por el préstamo ",{"$f":"+SUM(G453:G464)","v":{"$error":"#VALUE!"}},{"$nulls":31},"Subcapitalización",{"$f":"(SubCap_Indice>0)*1","v":0},30,{"$f":"(AO466=Parametros[Segmento])*(AP466>0)*(AQ466>0)","v":0}]
[{"$nulls":7},"Total deuda ponderada ",{"$f":"+SUM(I453:I464)","v":{"v":0,"d":"$ 0"}},{"$nulls":31},"Subcapitalización",{"$f":"(SubCap_Indice>0)*1","v":0},30,{"$f":"(AO467=Parametros[Segmento])*(AP467>0)*(AQ467>0)","v":0}]
[{"$nulls":40},"Subcapitalización",1,30,{"$f":"(AO468=Parametros[Segmento])*(AP468>0)*(AQ468>0)","v":0}]
[{"$nulls":40},"Subcapitalización",0,30,{"$f":"(AO469=Parametros[Segmento])*(AP469>0)*(AQ469>0)","v":0}]
[null,null,"Tipo de vinculado económico","Rentas a las que se imputarán los intereses deducibles","Tipo de vinculado económico","Rentas a las que se imputarán los intereses deducibles","Tipo de vinculado económico","Rentas a las que se imputarán los intereses deducibles",{"$nulls":32},"Subcapitalización",0,30,{"$f":"(AO470=Parametros[Segmento])*(AP470>0)*(AQ470>0)","v":0}]
[null,null,"Colombia","Rentas - Honorarios","Colombia","Rentas de capital ","Colombia","Rentas no laborales",{"$nulls":32},"Subcapitalización",0,30,{"$f":"(AO471=Parametros[Segmento])*(AP471>0)*(AQ471>0)","v":0}]
[{"$nulls":3},{"$f":"+DSUM(C438:J440,H438,C470:D471)","v":{"v":0,"d":"$ 0"}},null,{"$f":"+DSUM(C438:J440,H438,E470:F471)","v":{"v":0,"d":"$ 0"}},null,{"$f":"+DSUM(C438:J440,H438,G470:H471)","v":{"v":0,"d":"$ 0"}},{"$nulls":32},"Subcapitalización",0,30,{"$f":"(AO472=Parametros[Segmento])*(AP472>0)*(AQ472>0)","v":0}]
[null,null,"Tipo de vinculado económico","Rentas a las que se imputarán los intereses deducibles","Tipo de vinculado económico","Rentas a las que se imputarán los intereses deducibles","Tipo de vinculado económico","Rentas a las que se imputarán los intereses deducibles",{"$nulls":32},"Subcapitalización",0,30,{"$f":"(AO473=Parametros[Segmento])*(AP473>0)*(AQ473>0)","v":0}]
[null,null,"Exterior","Rentas - Honorarios","Exterior ","Rentas de capital ","Exterior","Rentas no laborales",{"$nulls":32},"Subcapitalización",0,30,{"$f":"(AO474=Parametros[Segmento])*(AP474>0)*(AQ474>0)","v":0}]
[{"$nulls":3},{"$f":"+DSUM(C438:J440,H438,C473:D474)","v":{"v":0,"d":"$ 0"}},null,{"$f":"+DSUM(C438:J440,H438,E473:F474)","v":{"v":0,"d":"$ 0"}},null,{"$f":"+DSUM(C438:J440,H438,G473:H474)","v":{"v":0,"d":"$ 0"}},{"$nulls":32},"Subcapitalización",0,30,{"$f":"(AO475=Parametros[Segmento])*(AP475>0)*(AQ475>0)","v":0}]
[null,null,"Tipo de vinculado económico","Rentas a las que se imputarán los intereses deducibles","Tipo de vinculado económico","Rentas a las que se imputarán los intereses deducibles","Tipo de vinculado económico","Rentas a las que se imputarán los intereses deducibles",{"$nulls":32},"Subcapitalización",0,30,{"$f":"(AO476=Parametros[Segmento])*(AP476>0)*(AQ476>0)","v":0}]
[{"$nulls":40},"Subcapitalización",0,30,{"$f":"(AO477=Parametros[Segmento])*(AP477>0)*(AQ477>0)","v":0}]
[{"$nulls":40},"Subcapitalización",0,30,{"$f":"(AO478=Parametros[Segmento])*(AP478>0)*(AQ478>0)","v":0}]
[{"$nulls":40},"Subcapitalización",0,30,{"$f":"(AO479=Parametros[Segmento])*(AP479>0)*(AQ479>0)","v":0}]
[{"$nulls":40},"Subcapitalización",0,30,{"$f":"(AO480=Parametros[Segmento])*(AP480>0)*(AQ480>0)","v":0}]
[null,null,"Concepto",null,"Intereses ","% intereses no deducibles por subcapitalización","Subtotal ","Componente inflacionario","Valor a tomar como intereses ",{"$nulls":31},"Subcapitalización",0,30,{"$f":"(AO481=Parametros[Segmento])*(AP481>0)*(AQ481>0)","v":0}]
[null,null,"Nacionales a Rentas de Honorarios ",null,{"$f":"+D472","v":{"v":0,"d":"$ 0"}},{"$f":"+J444","v":{"v":0,"d":"0.00%"}},{"$f":"+E482-(E482*F482)","v":{"v":0,"d":"$ 0"}},{"$f":"+' '!D118","v":{"v":0.36650000000000005,"d":"36.65%"}},{"$f":"IF(G482>0,G482*H482,0)","v":{"v":0,"d":"$ 0"}},{"$nulls":31},"Subcapitalización",0,30,{"$f":"(AO482=Parametros[Segmento])*(AP482>0)*(AQ482>0)","v":0}]
[null,null,"Nacionales a Rentas de Capital ",null,{"$f":"+F472","v":{"v":0,"d":"$ 0"}},{"$f":"+J444","v":{"v":0,"d":"0.00%"}},{"v":0,"d":"$ 0"},{"$f":"+' '!D118","v":{"v":0.36650000000000005,"d":"36.65%"}},{"v":0,"d":"$ 0"},{"$nulls":31},"Subcapitalización",0,30,{"$f":"(AO483=Parametros[Segmento])*(AP483>0)*(AQ483>0)","v":0}]
[null,null,"Nacionales a Rentas no laborales ",null,{"$f":"+H472","v":{"v":0,"d":"$ 0"}},{"$f":"+J444","v":{"v":0,"d":"0.00%"}},{"v":0,"d":"$ 0"},{"$f":"+' '!D118","v":{"v":0.36650000000000005,"d":"36.65%"}},{"v":0,"d":"$ 0"},{"$nulls":31},"Subcapitalización",0,30,{"$f":"(AO484=Parametros[Segmento])*(AP484>0)*(AQ484>0)","v":0}]
[null,null,"Exterior a Rentas de honorarios ",null,{"$f":"+D475","v":{"v":0,"d":"$ 0"}},{"$f":"+J444","v":{"v":0,"d":"0.00%"}},{"v":0,"d":"$ 0"},{"$f":"+' '!D120","v":{"v":0.48219999999999996,"d":"48.22%"}},{"v":0,"d":"$ 0"},{"$nulls":31},"Subcapitalización",0,30,{"$f":"(AO485=Parametros[Segmento])*(AP485>0)*(AQ485>0)","v":0}]
[null,null,"Exterior a Rentas de Capital ",null,{"$f":"+F475","v":{"v":0,"d":"$ 0"}},{"$f":"+J444","v":{"v":0,"d":"0.00%"}},{"v":0,"d":"$ 0"},{"$f":"+' '!D120","v":{"v":0.48219999999999996,"d":"48.22%"}},{"v":0,"d":"$ 0"},{"$nulls":31},"Subcapitalización",0,30,{"$f":"(AO486=Parametros[Segmento])*(AP486>0)*(AQ486>0)","v":0}]
[null,null,"Exterior a Rentas no laborales ",null,{"$f":"+H475","v":{"v":0,"d":"$ 0"}},{"$f":"+J444","v":{"v":0,"d":"0.00%"}},{"v":0,"d":"$ 0"},{"$f":"+' '!D120","v":{"v":0.48219999999999996,"d":"48.22%"}},{"v":0,"d":"$ 0"},{"$nulls":31},"Subcapitalización",0,30,{"$f":"(AO487=Parametros[Segmento])*(AP487>0)*(AQ487>0)","v":0}]
[null,"Cuentas por pagar a vinculados económicos",{"$f":"ROUND(DSUM(C438:I440,I438,C470:C471),-3)","v":{"v":0,"d":"$ 0"}},{"$f":"ROUND(DSUM(C438:I440,I438,C473:C474),-3)","v":{"v":0,"d":"$ 0"}},{"$f":"C488+(Activos_Exterior=\"Sí\")*D488","v":{"v":0,"d":"$ 0"}},{"$nulls":9},1,1,{"$nulls":24},"Deudas",1,30,{"$f":"(AO488=Parametros[Segmento])*(AP488>0)*(AQ488>0)","v":0}]
[null,"Impuesto por pagar ",{"$nulls":38},"Deudas",1,30,{"$f":"(AO489=Parametros[Segmento])*(AP489>0)*(AQ489>0)","v":0}]
[{"$nulls":18},{"$f":"+' '!B490","v":0},{"$f":"+SUM(' '!C490:D490)","v":{"v":0,"d":"$ 0"}},null,30,"Deudas",30,{"$nulls":14},{"$f":"IF(Parametros[Segmento]=\"Informes\",\"\",W490)","v":"Deudas"},{"$f":"IF(Parametros[Segmento]=\"Informes\",\"\",SUBSTITUTE($B$489,CHAR(10),\"\"))","v":"Impuesto por pagar "},{"$f":"IF(Parametros[Segmento]=\"Informes\",\"Informes\",W490)","v":"Deudas"},{"$f":"IF(Parametros[Segmento]=\"Informes\",T490<>0,(AN490=OFFSET(AN490,1,0)))*1","v":1},{"$f":"IF(Parametros[Segmento]=\"Informes\",V490,X490)","v":30},{"$f":"(AO490=Parametros[Segmento])*(AP490>0)*(AQ490>0)","v":0}]
[{"$nulls":18},{"$f":"+' '!B491","v":0},{"$f":"+SUM(' '!C491:D491)","v":{"v":0,"d":"$ 0"}},null,30,"Deudas",30,{"$nulls":14},{"$f":"IF(Parametros[Segmento]=\"Informes\",\"\",W491)","v":"Deudas"},{"$f":"IF(Parametros[Segmento]=\"Informes\",\"\",SUBSTITUTE($B$489,CHAR(10),\"\"))","v":"Impuesto por pagar "},{"$f":"IF(Parametros[Segmento]=\"Informes\",\"Informes\",W491)","v":"Deudas"},{"$f":"IF(Parametros[Segmento]=\"Informes\",T491<>0,(AN491=OFFSET(AN491,1,0)))*1","v":0},{"$f":"IF(Parametros[Segmento]=\"Informes\",V491,X491)","v":30},{"$f":"(AO491=Parametros[Segmento])*(AP491>0)*(AQ491>0)","v":0}]
[null,"Totales",{"$f":"SUM(C490:C491)","v":{"v":0,"d":"$ 0"}},{"$f":"SUM(D490:D491)","v":{"v":0,"d":"$ 0"}},{"$f":"C492+(Activos_Exterior=\"Sí\")*D492","v":{"v":0,"d":"$ 0"}},{"$nulls":14},"Total impuestos por pagar ",{"$f":"+SUM(T490:T491)","v":{"v":0,"d":"$ 0"}},30,"Deudas",30,{"$nulls":16},{"$f":"IF(Parametros[Segmento]=\"Informes\",\"Informes\",W492)","v":"Deudas"},{"$f":"IF(Parametros[Segmento]=\"Informes\",MAX(AP490:AP491),1)","v":1},{"$f":"IF(Parametros[Segmento]=\"Informes\",V492,X492)","v":30},{"$f":"(AO492=Parametros[Segmento])*(AP492>0)*(AQ492>0)","v":0}]
[null,"Otros pasivos ",{"$nulls":38},"Deudas",1,30,{"$f":"(AO493=Parametros[Segmento])*(AP493>0)*(AQ493>0)","v":0}]
[{"$nulls":18},{"$f":"+' '!B494","v":0},{"$f":"+SUM(' '!C494:D494)","v":{"v":0,"d":"$ 0"}},null,30,"Deudas",30,{"$nulls":14},{"$f":"IF(Parametros[Segmento]=\"Informes\",\"\",W494)","v":"Deudas"},{"$f":"IF(Parametros[Segmento]=\"Informes\",\"\",SUBSTITUTE($B$493,CHAR(10),\"\"))","v":"Otros pasivos "},{"$f":"IF(Parametros[Segmento]=\"Informes\",\"Informes\",W494)","v":"Deudas"},{"$f":"IF(Parametros[Segmento]=\"Informes\",T494<>0,(AN494=OFFSET(AN494,1,0)))*1","v":1},{"$f":"IF(Parametros[Segmento]=\"Informes\",V494,X494)","v":30},{"$f":"(AO494=Parametros[Segmento])*(AP494>0)*(AQ494>0)","v":0}]
[{"$nulls":18},{"$f":"+' '!B495","v":0},{"$f":"+SUM(' '!C495:D495)","v":{"v":0,"d":"$ 0"}},null,30,"Deudas",30,{"$nulls":14},{"$f":"IF(Parametros[Segmento]=\"Informes\",\"\",W495)","v":"Deudas"},{"$f":"IF(Parametros[Segmento]=\"Informes\",\"\",SUBSTITUTE($B$493,CHAR(10),\"\"))","v":"Otros pasivos "},{"$f":"IF(Parametros[Segmento]=\"Informes\",\"Informes\",W495)","v":"Deudas"},{"$f":"IF(Parametros[Segmento]=\"Informes\",T495<>0,(AN495=OFFSET(AN495,1,0)))*1","v":0},{"$f":"IF(Parametros[Segmento]=\"Informes\",V495,X495)","v":30},{"$f":"(AO495=Parametros[Segmento])*(AP495>0)*(AQ495>0)","v":0}]
[null,"Totales",{"$f":"SUM(C494:C495)","v":{"v":0,"d":"$ 0"}},{"$f":"SUM(D494:D495)","v":{"v":0,"d":"$ 0"}},{"$f":"C496+(Activos_Exterior=\"Sí\")*D496","v":{"v":0,"d":"$ 0"}},{"$nulls":14},"Total otros pasivos y/o obligaciones",{"$f":"+SUM(T494:T495)","v":{"v":0,"d":"$ 0"}},30,"Deudas",30,{"$nulls":16},{"$f":"IF(Parametros[Segmento]=\"Informes\",\"Informes\",W496)","v":"Deudas"},{"$f":"IF(Parametros[Segmento]=\"Informes\",MAX(AP494:AP495),1)","v":1},{"$f":"IF(Parametros[Segmento]=\"Informes\",V496,X496)","v":30},{"$f":"(AO496=Parametros[Segmento])*(AP496>0)*(AQ496>0)","v":0}]
[null,"Total deudas y obligaciones a 31 de diciembre de 2022 ",{"$f":"ROUND((C421+C425+C429+C433+C488+C492+C496),-3)","v":{"v":15698000,"d":"$ 15,698,000"}},{"$f":"ROUND((D421+D425+D429+D433+D488+D492+D496),-3)","v":{"v":0,"d":"$ 0"}},{"$f":"C497+(Activos_Exterior=\"Sí\")*D497","v":{"v":15698000,"d":"$ 15,698,000"}},{"$nulls":14},"Total deudas a 31 de diciembre de 2022",{"$f":"SUM(U421:U496)","v":{"v":15698000,"d":"$ 15,698,000"}},30,"Deudas",30,{"$nulls":16},{"$f":"IF(Parametros[Segmento]=\"Informes\",\"Informes\",W497)","v":"Deudas"},1,{"$f":"IF(Parametros[Segmento]=\"Informes\",V497,X497)","v":30},{"$f":"(AO497=Parametros[Segmento])*(AP497>0)*(AQ497>0)","v":0}]
[{"$nulls":19},"Patrimonio líquido a 31 de diciembre de 2022",{"$f":"IF((' '!U411-U497)>0,(' '!U411-U497),0)","v":{"v":272078000,"d":"$ 272,078,000"}},30,"Deudas",0,{"$nulls":16},{"$f":"IF(Parametros[Segmento]=\"Informes\",\"Informes\",W498)","v":"Deudas"},1,{"$f":"IF(Parametros[Segmento]=\"Informes\",V498,X498)","v":0},{"$f":"(AO498=Parametros[Segmento])*(AP498>0)*(AQ498>0)","v":0}]
[{"$nulls":21},30,"Deudas",0,{"$nulls":16},{"$f":"IF(Parametros[Segmento]=\"Informes\",\"Informes\",W499)","v":"Deudas"},1,{"$f":"IF(Parametros[Segmento]=\"Informes\",V499,X499)","v":0},{"$f":"(AO499=Parametros[Segmento])*(AP499>0)*(AQ499>0)","v":0}]
[2,80.33,19.56,{"$f":"IFERROR(($D$143=\"Sí\")*($D$144=\"Sí\")*19.56,0)","v":0},{"$f":"IFERROR(($D$143=\"Sí\")*($D$145=\"Sí\")*19.56,0)","v":0},19.56,5,{"$nulls":8},0,0,null,0,0,0,0,0,0,{"$nulls":16},"Rentas de Trabajo",0,15,{"$f":"(AO500=Parametros[Segmento])*(AP500>0)*(AQ500>0)","v":0}]
[" ",{"$nulls":39},"Rentas de Trabajo",1,30,{"$f":"(AO501=Parametros[Segmento])*(AP501>0)*(AQ501>0)","v":0}]
[null,"Rentas de trabajo ",{"$nulls":16},"Ingresos ",null,null,30,"Rentas de Trabajo",30,{"$nulls":16},{"$f":"IF(Parametros[Segmento]=\"Informes\",\"Informes\",W502)","v":"Rentas de Trabajo"},1,{"$f":"IF(Parametros[Segmento]=\"Informes\",V502,X502)","v":30},{"$f":"(AO502=Parametros[Segmento])*(AP502>0)*(AQ502>0)","v":0}]
[null,"Ingresos generados en relacionales laborales",{"$nulls":16},"Ingresos Ordinarios ",null,null,30,"Rentas de Trabajo",30,{"$nulls":16},{"$f":"IF(Parametros[Segmento]=\"Informes\",\"Informes\",W503)","v":"Rentas de Trabajo"},1,{"$f":"IF(Parametros[Segmento]=\"Informes\",V503,X503)","v":30},{"$f":"(AO503=Parametros[Segmento])*(AP503>0)*(AQ503>0)","v":0}]
[null,"Concepto","Nacionales ","CAN","Otros del exterior ","Totales",{"$nulls":12},"Concepto",null,"Valor",30,"Rentas de Trabajo",30,{"$nulls":16},{"$f":"IF(Parametros[Segmento]=\"Informes\",\"Informes\",W504)","v":"Rentas de Trabajo"},1,{"$f":"IF(Parametros[Segmento]=\"Informes\",V504,X504)","v":30},{"$f":"(AO504=Parametros[Segmento])*(AP504>0)*(AQ504>0)","v":0}]
[null,"Salarios",{"$nulls":3},{"$f":"C505+(Ingresos_Exterior=\"Sí\")*(Ingresos_CAN=\"Sí\")*D505+(Ingresos_Exterior=\"Sí\")*(Ingresos_Otros_Paises=\"Sí\")*E505","v":{"v":0,"d":"$ 0"}},{"$nulls":12},"Salarios",null,{"$f":"+' '!F505","v":{"v":0,"d":"$ 0"}},30,"Rentas de Trabajo",30,{"$nulls":16},{"$f":"IF(Parametros[Segmento]=\"Informes\",\"Informes\",W505)","v":"Rentas de Trabajo"},{"$f":"IF(Parametros[Segmento]=\"Informes\",(U505<>0)*1,1)","v":1},{"$f":"IF(Parametros[Segmento]=\"Informes\",V505,X505)","v":30},{"$f":"(AO505=Parametros[Segmento])*(AP505>0)*(AQ505>0)","v":0}]
[null,"Emolumentos eclesiásticos",{"$nulls":3},{"v":0,"d":"$ 0"},{"$nulls":12},"Emolumentos eclesiásticos",null,{"$f":"+' '!F506","v":{"v":0,"d":"$ 0"}},30,"Rentas de Trabajo",30,{"$nulls":16},{"$f":"IF(Parametros[Segmento]=\"Informes\",\"Informes\",W506)","v":"Rentas de Trabajo"},{"$f":"IF(Parametros[Segmento]=\"Informes\",(U506<>0)*1,1)","v":1},{"$f":"IF(Parametros[Segmento]=\"Informes\",V506,X506)","v":30},{"$f":"(AO506=Parametros[Segmento])*(AP506>0)*(AQ506>0)","v":0}]
[null,"Pagos recibidos con bonos electrónicos ",{"$nulls":3},{"v":0,"d":"$ 0"},{"$nulls":12},"Pagos recibidos con bonos electrónicos ",null,{"$f":"+' '!F507","v":{"v":0,"d":"$ 0"}},30,"Rentas de Trabajo",30,{"$nulls":16},{"$f":"IF(Parametros[Segmento]=\"Informes\",\"Informes\",W507)","v":"Rentas de Trabajo"},{"$f":"IF(Parametros[Segmento]=\"Informes\",(U507<>0)*1,1)","v":1},{"$f":"IF(Parametros[Segmento]=\"Informes\",V507,X507)","v":30},{"$f":"(AO507=Parametros[Segmento])*(AP507>0)*(AQ507>0)","v":0}]
[null,"Prestaciones sociales ",{"$nulls":3},{"v":0,"d":"$ 0"},{"$nulls":12},"Prestaciones sociales ",null,{"$f":"+' '!F508","v":{"v":0,"d":"$ 0"}},30,"Rentas de Trabajo",30,{"$nulls":16},{"$f":"IF(Parametros[Segmento]=\"Informes\",\"Informes\",W508)","v":"Rentas de Trabajo"},{"$f":"IF(Parametros[Segmento]=\"Informes\",(U508<>0)*1,1)","v":1},{"$f":"IF(Parametros[Segmento]=\"Informes\",V508,X508)","v":30},{"$f":"(AO508=Parametros[Segmento])*(AP508>0)*(AQ508>0)","v":0}]
[null,"Viáticos ",{"$nulls":3},{"v":0,"d":"$ 0"},{"$nulls":12},"Viáticos ",null,{"$f":"+' '!F509","v":{"v":0,"d":"$ 0"}},30,"Rentas de Trabajo",30,{"$nulls":16},{"$f":"IF(Parametros[Segmento]=\"Informes\",\"Informes\",W509)","v":"Rentas de Trabajo"},{"$f":"IF(Parametros[Segmento]=\"Informes\",(U509<>0)*1,1)","v":1},{"$f":"IF(Parametros[Segmento]=\"Informes\",V509,X509)","v":30},{"$f":"(AO509=Parametros[Segmento])*(AP509>0)*(AQ509>0)","v":0}]
[null,"Gastos de representación",{"$nulls":3},{"v":0,"d":"$ 0"},{"$nulls":12},"Gastos de representación",null,{"$f":"+' '!F510","v":{"v":0,"d":"$ 0"}},30,"Rentas de Trabajo",30,{"$nulls":16},{"$f":"IF(Parametros[Segmento]=\"Informes\",\"Informes\",W510)","v":"Rentas de Trabajo"},{"$f":"IF(Parametros[Segmento]=\"Informes\",(U510<>0)*1,1)","v":1},{"$f":"IF(Parametros[Segmento]=\"Informes\",V510,X510)","v":30},{"$f":"(AO510=Parametros[Segmento])*(AP510>0)*(AQ510>0)","v":0}]
[null,"Cesantías e intereses sobre cesantías efectivamente pagadas al empleado ",{"$nulls":3},{"v":0,"d":"$ 0"},{"$nulls":12},"Cesantías e intereses sobre cesantías efectivamente pagadas al empleado ",null,{"$f":"+' '!F511","v":{"v":0,"d":"$ 0"}},30,"Rentas de Trabajo",30,{"$nulls":16},{"$f":"IF(Parametros[Segmento]=\"Informes\",\"Informes\",W511)","v":"Rentas de Trabajo"},{"$f":"IF(Parametros[Segmento]=\"Informes\",(U511<>0)*1,1)","v":1},{"$f":"IF(Parametros[Segmento]=\"Informes\",V511,X511)","v":30},{"$f":"(AO511=Parametros[Segmento])*(AP511>0)*(AQ511>0)","v":0}]
[null,"Cesantías consignadas al fondo de cesantías ",{"$nulls":3},{"v":0,"d":"$ 0"},{"$nulls":12},"Cesantías consignadas al fondo de cesantías ",null,{"$f":"+' '!F512","v":{"v":0,"d":"$ 0"}},30,"Rentas de Trabajo",30,{"$nulls":16},{"$f":"IF(Parametros[Segmento]=\"Informes\",\"Informes\",W512)","v":"Rentas de Trabajo"},{"$f":"IF(Parametros[Segmento]=\"Informes\",(U512<>0)*1,1)","v":1},{"$f":"IF(Parametros[Segmento]=\"Informes\",V512,X512)","v":30},{"$f":"(AO512=Parametros[Segmento])*(AP512>0)*(AQ512>0)","v":0}]
[null,"Otros pagos ",{"$nulls":3},{"v":0,"d":"$ 0"},{"$nulls":12},"Otros pagos ",null,{"$f":"+' '!F513","v":{"v":0,"d":"$ 0"}},30,"Rentas de Trabajo",30,{"$nulls":16},{"$f":"IF(Parametros[Segmento]=\"Informes\",\"Informes\",W513)","v":"Rentas de Trabajo"},{"$f":"IF(Parametros[Segmento]=\"Informes\",(U513<>0)*1,1)","v":1},{"$f":"IF(Parametros[Segmento]=\"Informes\",V513,X513)","v":30},{"$f":"(AO513=Parametros[Segmento])*(AP513>0)*(AQ513>0)","v":0}]
[null,"Apoyos económicos para financiar programas educativos no reembolsables o condonados ",{"$nulls":3},{"v":0,"d":"$ 0"},{"$nulls":12},"Apoyos económicos para financiar programas educativos no reembolsables o condonados ",null,{"$f":"+' '!F514","v":{"v":0,"d":"$ 0"}},30,"Rentas de Trabajo",30,{"$nulls":16},{"$f":"IF(Parametros[Segmento]=\"Informes\",\"Informes\",W514)","v":"Rentas de Trabajo"},{"$f":"IF(Parametros[Segmento]=\"Informes\",(U514<>0)*1,1)","v":1},{"$f":"IF(Parametros[Segmento]=\"Informes\",V514,X514)","v":30},{"$f":"(AO514=Parametros[Segmento])*(AP514>0)*(AQ514>0)","v":0}]
[null,"Compensaciones por trabajo asociado cooperativo ",{"$nulls":3},{"v":0,"d":"$ 0"},{"$nulls":12},"Compensaciones por trabajo asociado cooperativo ",null,{"$f":"+' '!F515","v":{"v":0,"d":"$ 0"}},30,"Rentas de Trabajo",30,{"$nulls":16},{"$f":"IF(Parametros[Segmento]=\"Informes\",\"Informes\",W515)","v":"Rentas de Trabajo"},{"$f":"IF(Parametros[Segmento]=\"Informes\",(U515<>0)*1,1)","v":1},{"$f":"IF(Parametros[Segmento]=\"Informes\",V515,X515)","v":30},{"$f":"(AO515=Parametros[Segmento])*(AP515>0)*(AQ515>0)","v":0}]
[null,"Otras rentas de trabajo generadas en la relación laboral ",{"$nulls":3},{"v":0,"d":"$ 0"},{"$nulls":12},"Otras rentas de trabajo generadas en la relación laboral ",null,{"$f":"+' '!F516","v":{"v":0,"d":"$ 0"}},30,"Rentas de Trabajo",30,{"$nulls":16},{"$f":"IF(Parametros[Segmento]=\"Informes\",\"Informes\",W516)","v":"Rentas de Trabajo"},{"$f":"IF(Parametros[Segmento]=\"Informes\",(U516<>0)*1,1)","v":1},{"$f":"IF(Parametros[Segmento]=\"Informes\",V516,X516)","v":30},{"$f":"(AO516=Parametros[Segmento])*(AP516>0)*(AQ516>0)","v":0}]
[null,"Indemnizaciones por despido injustificado ",{"$nulls":3},{"v":0,"d":"$ 0"},{"$nulls":12},"Indemnizaciones por despido injustificado ",null,{"$f":"+' '!F517","v":{"v":0,"d":"$ 0"}},30,"Rentas de Trabajo",30,{"$nulls":16},{"$f":"IF(Parametros[Segmento]=\"Informes\",\"Informes\",W517)","v":"Rentas de Trabajo"},{"$f":"IF(Parametros[Segmento]=\"Informes\",(U517<>0)*1,1)","v":1},{"$f":"IF(Parametros[Segmento]=\"Informes\",V517,X517)","v":30},{"$f":"(AO517=Parametros[Segmento])*(AP517>0)*(AQ517>0)","v":0}]
[null,"Indemnizaciones por accidentes de trabajo ",{"$nulls":3},{"v":0,"d":"$ 0"},{"$nulls":12},"Indemnizaciones por accidentes de trabajo ",null,{"$f":"+' '!F518","v":{"v":0,"d":"$ 0"}},30,"Rentas de Trabajo",30,{"$nulls":16},{"$f":"IF(Parametros[Segmento]=\"Informes\",\"Informes\",W518)","v":"Rentas de Trabajo"},{"$f":"IF(Parametros[Segmento]=\"Informes\",(U518<>0)*1,1)","v":1},{"$f":"IF(Parametros[Segmento]=\"Informes\",V518,X518)","v":30},{"$f":"(AO518=Parametros[Segmento])*(AP518>0)*(AQ518>0)","v":0}]
[null,"Indemnizaciones por protección a la maternidad ",{"$nulls":3},{"v":0,"d":"$ 0"},{"$nulls":12},"Indemnizaciones por protección a la maternidad ",null,{"$f":"+' '!F519","v":{"v":0,"d":"$ 0"}},30,"Rentas de Trabajo",30,{"$nulls":16},{"$f":"IF(Parametros[Segmento]=\"Informes\",\"Informes\",W519)","v":"Rentas de Trabajo"},{"$f":"IF(Parametros[Segmento]=\"Informes\",(U519<>0)*1,1)","v":1},{"$f":"IF(Parametros[Segmento]=\"Informes\",V519,X519)","v":30},{"$f":"(AO519=Parametros[Segmento])*(AP519>0)*(AQ519>0)","v":0}]
[null,"Gastos de entierro del trabajador ",{"$nulls":3},{"v":0,"d":"$ 0"},{"$nulls":12},"Gastos de entierro del trabajador ",null,{"$f":"+' '!F520","v":{"v":0,"d":"$ 0"}},30,"Rentas de Trabajo",30,{"$nulls":16},{"$f":"IF(Parametros[Segmento]=\"Informes\",\"Informes\",W520)","v":"Rentas de Trabajo"},{"$f":"IF(Parametros[Segmento]=\"Informes\",(U520<>0)*1,1)","v":1},{"$f":"IF(Parametros[Segmento]=\"Informes\",V520,X520)","v":30},{"$f":"(AO520=Parametros[Segmento])*(AP520>0)*(AQ520>0)","v":0}]
[null,"Seguro o compensaciones por muerte y prestaciones sociales en actividad y en retiro de los miembros de las Fuerzas Militares y de la Policía Nacional",{"$nulls":3},{"v":0,"d":"$ 0"},{"$nulls":12},"Seguro o compensaciones por muerte y prestaciones sociales en actividad y en retiro de los miembros de las Fuerzas Militares y de la Policía Nacional.",null,{"$f":"+' '!F521","v":{"v":0,"d":"$ 0"}},39.6,"Rentas de Trabajo",40.1,{"$nulls":16},{"$f":"IF(Parametros[Segmento]=\"Informes\",\"Informes\",W521)","v":"Rentas de Trabajo"},{"$f":"IF(Parametros[Segmento]=\"Informes\",(U521<>0)*1,1)","v":1},{"$f":"IF(Parametros[Segmento]=\"Informes\",V521,X521)","v":40.1},{"$f":"(AO521=Parametros[Segmento])*(AP521>0)*(AQ521>0)","v":0}]
[null,"Retiros de fondo de cesantías de saldos de cesantías consignadas hasta el 31 de diciembre de 2016 ",{"$nulls":3},{"v":0,"d":"$ 0"},{"$nulls":12},"Retiros de fondo de cesantías de saldos de cesantías consignadas hasta el 31 de diciembre de 2016 ",null,{"$f":"+' '!F522","v":{"v":0,"d":"$ 0"}},30,"Rentas de Trabajo",40.1,{"$nulls":16},{"$f":"IF(Parametros[Segmento]=\"Informes\",\"Informes\",W522)","v":"Rentas de Trabajo"},{"$f":"IF(Parametros[Segmento]=\"Informes\",(U522<>0)*1,1)","v":1},{"$f":"IF(Parametros[Segmento]=\"Informes\",V522,X522)","v":40.1},{"$f":"(AO522=Parametros[Segmento])*(AP522>0)*(AQ522>0)","v":0}]
[null,"Prima especial y de costo de vida de diplomáticos, consulares y administrativos del Ministerio de Relaciones Exteriores ",{"$nulls":3},{"v":0,"d":"$ 0"},{"$nulls":12},"Prima especial y de costo de vida de diplomáticos, consulares y administrativos del Ministerio de Relaciones Exteriores ",null,{"$f":"+' '!F523","v":{"v":0,"d":"$ 0"}},39.6,"Rentas de Trabajo",40.1,{"$nulls":16},{"$f":"IF(Parametros[Segmento]=\"Informes\",\"Informes\",W523)","v":"Rentas de Trabajo"},{"$f":"IF(Parametros[Segmento]=\"Informes\",(U523<>0)*1,1)","v":1},{"$f":"IF(Parametros[Segmento]=\"Informes\",V523,X523)","v":40.1},{"$f":"(AO523=Parametros[Segmento])*(AP523>0)*(AQ523>0)","v":0}]
[null,"Bonificación y/o indemnización por plan de retiro de una entidad pública del orden nacional, departamental o municipal ",{"$nulls":3},{"v":0,"d":"$ 0"},{"$nulls":12},"Bonificación y/o indemnización por plan de retiro de una entidad pública del orden nacional, departamental o municipal ",null,{"$f":"+' '!F524","v":{"v":0,"d":"$ 0"}},39.6,"Rentas de Trabajo",40.1,{"$nulls":16},{"$f":"IF(Parametros[Segmento]=\"Informes\",\"Informes\",W524)","v":"Rentas de Trabajo"},{"$f":"IF(Parametros[Segmento]=\"Informes\",(U524<>0)*1,1)","v":1},{"$f":"IF(Parametros[Segmento]=\"Informes\",V524,X524)","v":40.1},{"$f":"(AO524=Parametros[Segmento])*(AP524>0)*(AQ524>0)","v":0}]
[null,"Bonificación por retiro voluntario para ciudadanos colombianos que integran las reservas oficiales de prima y segunda clase de la Armada Nacional ",{"$nulls":3},{"v":0,"d":"$ 0"},{"$nulls":12},"Bonificación por retiro voluntario para ciudadanos colombianos que integran las reservas oficiales de prima y segunda clase de la Armada Nacional ",null,{"$f":"+' '!F525","v":{"v":0,"d":"$ 0"}},39.6,"Rentas de Trabajo",40.1,{"$nulls":16},{"$f":"IF(Parametros[Segmento]=\"Informes\",\"Informes\",W525)","v":"Rentas de Trabajo"},{"$f":"IF(Parametros[Segmento]=\"Informes\",(U525<>0)*1,1)","v":1},{"$f":"IF(Parametros[Segmento]=\"Informes\",V525,X525)","v":40.1},{"$f":"(AO525=Parametros[Segmento])*(AP525>0)*(AQ525>0)","v":0}]
[null,"Total ingresos brutos laborales ",{"$f":"SUM(C505:C525)","v":{"v":0,"d":"$ 0"}},{"$f":"SUM(D505:D525)","v":{"v":0,"d":"$ 0"}},{"$f":"SUM(E505:E525)","v":{"v":0,"d":"$ 0"}},{"$f":"SUM(F505:F525)","v":{"v":0,"d":"$ 0"}},{"$nulls":34},"Rentas de Trabajo",1,30,{"$f":"(AO526=Parametros[Segmento])*(AP526>0)*(AQ526>0)","v":0}]
[null,"Honorarios ",{"$nulls":38},"Rentas de Trabajo",1,30,{"$f":"(AO527=Parametros[Segmento])*(AP527>0)*(AQ527>0)","v":0}]
[null,"¿El contribuyente desea registrar ingresos por honorarios como rentas de trabajo?  ",{"$nulls":38},"Rentas de Trabajo",1,30,{"$f":"(AO528=Parametros[Segmento])*(AP528>0)*(AQ528>0)","v":0}]
[null,"Concepto","Nacionales ","CAN","Otros del exterior ","Totales",{"$nulls":34},{"$f":"IF(OR(Parametros[Segmento]<>\"Rentas de Trabajo\",$F$528=\"Sí\"),\"Rentas de Trabajo\",\"\")","v":"Rentas de Trabajo"},1,30,{"$f":"(AO529=Parametros[Segmento])*(AP529>0)*(AQ529>0)","v":0}]
[{"$nulls":5},{"$f":"C530+(Ingresos_Exterior=\"Sí\")*(Ingresos_CAN=\"Sí\")*D530+(Ingresos_Exterior=\"Sí\")*(Ingresos_Otros_Paises=\"Sí\")*E530","v":{"v":0,"d":"$ 0"}},{"$nulls":32},{"$f":"AO530","v":"Rentas de Trabajo"},{"$f":"SUBSTITUTE($B$527,CHAR(10),\"\")","v":"Honorarios "},{"$f":"IF(OR(Parametros[Segmento]<>\"Rentas de Trabajo\",$F$528=\"Sí\"),\"Rentas de Trabajo\",\"\")","v":"Rentas de Trabajo"},{"$f":"(AN530=OFFSET(AN530,1,0))*1","v":1},30,{"$f":"(AO530=Parametros[Segmento])*(AP530>0)*(AQ530>0)","v":0}]
[{"$nulls":5},{"$f":"C531+(Ingresos_Exterior=\"Sí\")*(Ingresos_CAN=\"Sí\")*D531+(Ingresos_Exterior=\"Sí\")*(Ingresos_Otros_Paises=\"Sí\")*E531","v":{"v":0,"d":"$ 0"}},{"$nulls":32},{"$f":"AO531","v":"Rentas de Trabajo"},{"$f":"SUBSTITUTE($B$527,CHAR(10),\"\")","v":"Honorarios "},{"$f":"IF(OR(Parametros[Segmento]<>\"Rentas de Trabajo\",$F$528=\"Sí\"),\"Rentas de Trabajo\",\"\")","v":"Rentas de Trabajo"},{"$f":"(AN531=OFFSET(AN531,1,0))*1","v":0},30,{"$f":"(AO531=Parametros[Segmento])*(AP531>0)*(AQ531>0)","v":0}]
[null,"Total ingresos brutos por honorarios ",{"$f":"SUM(C530:C531)*($F$528=\"Sí\")","v":{"v":0,"d":"$ 0"}},{"$f":"SUM(D530:D531)*($F$528=\"Sí\")","v":{"v":0,"d":"$ 0"}},{"$f":"SUM(E530:E531)*($F$528=\"Sí\")","v":{"v":0,"d":"$ 0"}},{"$f":"SUM(F530:F531)*($F$528=\"Sí\")","v":{"v":0,"d":"$ 0"}},{"$nulls":34},{"$f":"IF(OR(Parametros[Segmento]<>\"Rentas de Trabajo\",$F$528=\"Sí\"),\"Rentas de Trabajo\",\"\")","v":"Rentas de Trabajo"},1,30,{"$f":"(AO532=Parametros[Segmento])*(AP532>0)*(AQ532>0)","v":0}]
[null,"Compensación de servicios personales ",{"$nulls":38},"Rentas de Trabajo",1,30,{"$f":"(AO533=Parametros[Segmento])*(AP533>0)*(AQ533>0)","v":0}]
[null,"¿El contribuyente desea registrar ingresos por compensación de servicios personales como rentas de trabajo?  ",{"$nulls":38},"Rentas de Trabajo",1,40,{"$f":"(AO534=Parametros[Segmento])*(AP534>0)*(AQ534>0)","v":0}]
[null,"Concepto","Nacionales ","CAN","Otros del exterior ","Totales",{"$nulls":34},{"$f":"IF(OR(Parametros[Segmento]<>\"Rentas de Trabajo\",$F$534=\"Sí\"),\"Rentas de Trabajo\",\"\")","v":"Rentas de Trabajo"},1,30,{"$f":"(AO535=Parametros[Segmento])*(AP535>0)*(AQ535>0)","v":0}]
[{"$nulls":5},{"$f":"C536+(Ingresos_Exterior=\"Sí\")*(Ingresos_CAN=\"Sí\")*D536+(Ingresos_Exterior=\"Sí\")*(Ingresos_Otros_Paises=\"Sí\")*E536","v":{"v":0,"d":"$ 0"}},{"$nulls":32},{"$f":"AO536","v":"Rentas de Trabajo"},{"$f":"SUBSTITUTE($B$533,CHAR(10),\"\")","v":"Compensación de servicios personales "},{"$f":"IF(OR(Parametros[Segmento]<>\"Rentas de Trabajo\",$F$534=\"Sí\"),\"Rentas de Trabajo\",\"\")","v":"Rentas de Trabajo"},{"$f":"(AN536=OFFSET(AN536,1,0))*1","v":1},30,{"$f":"(AO536=Parametros[Segmento])*(AP536>0)*(AQ536>0)","v":0}]
[{"$nulls":5},{"$f":"C537+(Ingresos_Exterior=\"Sí\")*(Ingresos_CAN=\"Sí\")*D537+(Ingresos_Exterior=\"Sí\")*(Ingresos_Otros_Paises=\"Sí\")*E537","v":{"v":0,"d":"$ 0"}},{"$nulls":32},{"$f":"AO537","v":"Rentas de Trabajo"},{"$f":"SUBSTITUTE($B$533,CHAR(10),\"\")","v":"Compensación de servicios personales "},{"$f":"IF(OR(Parametros[Segmento]<>\"Rentas de Trabajo\",$F$534=\"Sí\"),\"Rentas de Trabajo\",\"\")","v":"Rentas de Trabajo"},{"$f":"(AN537=OFFSET(AN537,1,0))*1","v":0},30,{"$f":"(AO537=Parametros[Segmento])*(AP537>0)*(AQ537>0)","v":0}]
[null,"Total ingresos brutos por compensación de servicios personales ",{"$f":"SUM(C536:E537)*($F$534=\"Sí\")","v":{"v":0,"d":"$ 0"}},{"$f":"SUM(D537:D537)*($F$534=\"Sí\")","v":{"v":0,"d":"$ 0"}},{"$f":"SUM(E537:E537)*($F$534=\"Sí\")","v":{"v":0,"d":"$ 0"}},{"$f":"SUM(F536:F537)*($F$534=\"Sí\")","v":{"v":0,"d":"$ 0"}},{"$nulls":34},{"$f":"IF(OR(Parametros[Segmento]<>\"Rentas de Trabajo\",$F$534=\"Sí\"),\"Rentas de Trabajo\",\"\")","v":"Rentas de Trabajo"},1,30,{"$f":"(AO538=Parametros[Segmento])*(AP538>0)*(AQ538>0)","v":0}]
[{"$nulls":40},"Rentas de Trabajo",1,0,{"$f":"(AO539=Parametros[Segmento])*(AP539>0)*(AQ539>0)","v":0}]
[null,"Comisiones",{"$nulls":38},"Rentas de Trabajo",1,30,{"$f":"(AO540=Parametros[Segmento])*(AP540>0)*(AQ540>0)","v":0}]
[null,"¿El contribuyente desea registrar ingresos por comisiones como rentas de trabajo?  ",{"$nulls":38},"Rentas de Trabajo",1,30,{"$f":"(AO541=Parametros[Segmento])*(AP541>0)*(AQ541>0)","v":0}]
[null,"Concepto","Nacionales ","CAN","Otros del exterior ","Totales",{"$nulls":34},{"$f":"IF(OR(Parametros[Segmento]<>\"Rentas de Trabajo\",$F$541=\"Sí\"),\"Rentas de Trabajo\",\"\")","v":"Rentas de Trabajo"},1,30,{"$f":"(AO542=Parametros[Segmento])*(AP542>0)*(AQ542>0)","v":0}]
[{"$nulls":5},{"$f":"C543+(Ingresos_Exterior=\"Sí\")*(Ingresos_CAN=\"Sí\")*D543+(Ingresos_Exterior=\"Sí\")*(Ingresos_Otros_Paises=\"Sí\")*E543","v":{"v":0,"d":"$ 0"}},{"$nulls":32},{"$f":"AO543","v":"Rentas de Trabajo"},{"$f":"SUBSTITUTE($B$540,CHAR(10),\"\")","v":"Comisiones"},{"$f":"IF(OR(Parametros[Segmento]<>\"Rentas de Trabajo\",$F$541=\"Sí\"),\"Rentas de Trabajo\",\"\")","v":"Rentas de Trabajo"},{"$f":"(AN543=OFFSET(AN543,1,0))*1","v":1},30,{"$f":"(AO543=Parametros[Segmento])*(AP543>0)*(AQ543>0)","v":0}]
[{"$nulls":5},{"$f":"C544+(Ingresos_Exterior=\"Sí\")*(Ingresos_CAN=\"Sí\")*D544+(Ingresos_Exterior=\"Sí\")*(Ingresos_Otros_Paises=\"Sí\")*E544","v":{"v":0,"d":"$ 0"}},{"$nulls":32},{"$f":"AO544","v":"Rentas de Trabajo"},{"$f":"SUBSTITUTE($B$540,CHAR(10),\"\")","v":"Comisiones"},{"$f":"IF(OR(Parametros[Segmento]<>\"Rentas de Trabajo\",$F$541=\"Sí\"),\"Rentas de Trabajo\",\"\")","v":"Rentas de Trabajo"},{"$f":"(AN544=OFFSET(AN544,1,0))*1","v":0},30,{"$f":"(AO544=Parametros[Segmento])*(AP544>0)*(AQ544>0)","v":0}]
[null,"Total ingresos brutos por comisiones",{"$f":"SUM(C543:C544)*($F$541=\"Sí\")","v":{"v":0,"d":"$ 0"}},{"$f":"SUM(D543:D544)*($F$541=\"Sí\")","v":{"v":0,"d":"$ 0"}},{"$f":"SUM(E543:E544)*($F$541=\"Sí\")","v":{"v":0,"d":"$ 0"}},{"$f":"SUM(F543:F544)*($F$541=\"Sí\")","v":{"v":0,"d":"$ 0"}},{"$nulls":34},{"$f":"IF(OR(Parametros[Segmento]<>\"Rentas de Trabajo\",$F$541=\"Sí\"),\"Rentas de Trabajo\",\"\")","v":"Rentas de Trabajo"},1,30,{"$f":"(AO545=Parametros[Segmento])*(AP545>0)*(AQ545>0)","v":0}]
[null,"Total ingresos brutos por rentas de trabajo recibidos en el año",{"$f":"(C526+C532+C538+C545)","v":{"v":0,"d":"$ 0"}},{"$f":"(D526+D532+D538+D545)","v":{"v":0,"d":"$ 0"}},{"$f":"(E526+E532+E538+E545)","v":{"v":0,"d":"$ 0"}},{"$f":"(F526+F532+F538+F545)","v":{"v":0,"d":"$ 0"}},{"$nulls":34},"Rentas de Trabajo",1,30,{"$f":"(AO546=Parametros[Segmento])*(AP546>0)*(AQ546>0)","v":0}]
[{"$nulls":40},"Rentas de Trabajo",1,30,{"$f":"(AO547=Parametros[Segmento])*(AP547>0)*(AQ547>0)","v":0}]
[null,"Ingresos no constitutivos de renta ",{"$nulls":38},"Rentas de Trabajo",1,30,{"$f":"(AO548=Parametros[Segmento])*(AP548>0)*(AQ548>0)","v":0}]
[null,"Concepto ","Subtotal ",null,null,"Total ",{"$nulls":34},"Rentas de Trabajo",1,30,{"$f":"(AO549=Parametros[Segmento])*(AP549>0)*(AQ549>0)","v":0}]
[null,"Aportes obligatorios a salud ",{"$nulls":3},{"$f":"IF(F546>0,C550,0)","v":{"v":0,"d":"$ 0"}},{"$nulls":34},"Rentas de Trabajo",1,30,{"$f":"(AO550=Parametros[Segmento])*(AP550>0)*(AQ550>0)","v":0}]
[null,"Aportes obligatorios a fondos de pensiones",{"$nulls":3},{"$f":"IF(F546>0,C551,0)","v":{"v":0,"d":"$ 0"}},{"$nulls":34},"Rentas de Trabajo",1,30,{"$f":"(AO551=Parametros[Segmento])*(AP551>0)*(AQ551>0)","v":0}]
[null,"Aportes a fondo de solidaridad pensional ",{"$nulls":3},{"$f":"IF(F546>0,C552,0)","v":{"v":0,"d":"$ 0"}},{"$nulls":34},"Rentas de Trabajo",1,30,{"$f":"(AO552=Parametros[Segmento])*(AP552>0)*(AQ552>0)","v":0}]
[null,"Aportes a ARL ",{"$nulls":3},{"$f":"IF(F546>0,C553,0)","v":{"v":0,"d":"$ 0"}},{"$nulls":34},"Rentas de Trabajo",1,30,{"$f":"(AO553=Parametros[Segmento])*(AP553>0)*(AQ553>0)","v":0}]
[null,"Aportes voluntarios a fondos de pensiones obligatorias ",{"$nulls":3},{"$f":"IF(F546>0,IF(AND(C554<=F546,C554<=(2500*' '!D112)),C554,MIN(F546*25%,2500*' '!D112)),0)","v":{"v":0,"d":"$ 0"}},{"$nulls":34},"Rentas de Trabajo",1,30,{"$f":"(AO554=Parametros[Segmento])*(AP554>0)*(AQ554>0)","v":0}]
[null,"Apoyos económicos para financiar programas educativos no \nreembolsables o condonados ",{"$nulls":3},{"$f":"IF(F546>0,C555,0)","v":{"v":0,"d":"$ 0"}},{"$nulls":34},"Rentas de Trabajo",1,40,{"$f":"(AO555=Parametros[Segmento])*(AP555>0)*(AQ555>0)","v":0}]
[null,"Remuneración por participación en proyectos calificados como de \ncarácter científico, tecnológico o de innovación por el Consejo \nNacional de Beneficios Tributarios en Ciencia, Tecnología e Innovación",{"$nulls":3},{"$f":"IF(F546>0,C556,0)","v":{"v":0,"d":"$ 0"}},{"$nulls":34},"Rentas de Trabajo",1,55,{"$f":"(AO556=Parametros[Segmento])*(AP556>0)*(AQ556>0)","v":0}]
[null,"Pagos por alimentación ",{"$nulls":3},{"$f":"IF(F546>0,IF(C557>(41*' '!D112),(41*' '!D112),C557),0)","v":{"v":0,"d":"$ 0"}},{"$nulls":34},"Rentas de Trabajo",1,30,{"$f":"(AO557=Parametros[Segmento])*(AP557>0)*(AQ557>0)","v":0}]
[null,"Otros ingresos no constitutivos de renta no mencionados anteriormente ",{"$nulls":3},{"$f":"IF(F546>0,C558,0)","v":{"v":0,"d":"$ 0"}},{"$nulls":34},"Rentas de Trabajo",1,30,{"$f":"(AO558=Parametros[Segmento])*(AP558>0)*(AQ558>0)","v":0}]
[null,null,"Total ingresos no constitutivos de renta ",null,null,{"$f":"SUM(F550:F558)","v":{"v":0,"d":"$ 0"}},{"$nulls":34},"Rentas de Trabajo",1,30,{"$f":"(AO559=Parametros[Segmento])*(AP559>0)*(AQ559>0)","v":0}]
[{"$nulls":40},"Rentas de Trabajo",1,30,{"$f":"(AO560=Parametros[Segmento])*(AP560>0)*(AQ560>0)","v":0}]
[null,"Deducciones ",{"$nulls":38},"Rentas de Trabajo",1,30,{"$f":"(AO561=Parametros[Segmento])*(AP561>0)*(AQ561>0)","v":0}]
[null,"Concepto ","Subtotal ",null,null,"Total ",{"$nulls":34},"Rentas de Trabajo",1,30,{"$f":"(AO562=Parametros[Segmento])*(AP562>0)*(AQ562>0)","v":0}]
[null,"Intereses pagados en créditos de vivienda o leasing habitacional ",{"$nulls":3},{"$f":"IF(F546>0,IF(C563>(1200*' '!D112),(1200*' '!D112),C563),0)","v":{"v":0,"d":"$ 0"}},{"$nulls":34},"Rentas de Trabajo",1,30,{"$f":"(AO563=Parametros[Segmento])*(AP563>0)*(AQ563>0)","v":0}]
[null,"Planes adicionales de salud ",{"$nulls":3},{"$f":"IF(F546>0,IF(C564>(192*' '!D112),(192*' '!D112),C564),0)","v":{"v":0,"d":"$ 0"}},{"$nulls":34},"Rentas de Trabajo",1,30,{"$f":"(AO564=Parametros[Segmento])*(AP564>0)*(AQ564>0)","v":0}]
[null,"Intereses pagados en créditos educativos con el ICETEX",{"$nulls":3},{"$f":"IF(F546>0,IF(C565>(100*' '!D112),(100*' '!D112),C565),0)","v":{"v":0,"d":"$ 0"}},{"$nulls":34},"Rentas de Trabajo",1,30,{"$f":"(AO565=Parametros[Segmento])*(AP565>0)*(AQ565>0)","v":0}]
[null,"Gravamen a los movimientos financieros (4x1000)",{"$nulls":3},{"$f":"IF(F546>0,(C566*50%),0)","v":{"v":0,"d":"$ 0"}},{"$nulls":34},"Rentas de Trabajo",1,30,{"$f":"(AO566=Parametros[Segmento])*(AP566>0)*(AQ566>0)","v":0}]
[null,"Dependientes económicos",{"$f":"IF(AND(F546>0,' '!D138=\"Sí\"),(F546+' '!F618)*10%,0)","v":{"v":0,"d":"$ 0"}},null,null,{"$f":"IF(F546>0,IF(C567>0,MIN(C567,384*' '!D112),0),0)","v":{"v":0,"d":"$ 0"}},{"$nulls":34},"Rentas de Trabajo",1,30,{"$f":"(AO567=Parametros[Segmento])*(AP567>0)*(AQ567>0)","v":0}]
[null,"Aportes a cesantías como partícipes independientes ",{"$nulls":3},{"$f":"IF(F546>0,IF(AND(C568<=(2500*' '!D112),C568<=(F546/12)),C568,MIN((2500*' '!D112),(F546/12))),0)","v":{"v":0,"d":"$ 0"}},{"$nulls":34},"Rentas de Trabajo",1,30,{"$f":"(AO568=Parametros[Segmento])*(AP568>0)*(AQ568>0)","v":0}]
[null,null,"Total deducciones ",null,null,{"$f":"SUM(F563:F568)","v":{"v":0,"d":"$ 0"}},{"$nulls":34},"Rentas de Trabajo",1,30,{"$f":"(AO569=Parametros[Segmento])*(AP569>0)*(AQ569>0)","v":0}]
[{"$nulls":40},"Rentas de Trabajo",1,30,{"$f":"(AO570=Parametros[Segmento])*(AP570>0)*(AQ570>0)","v":0}]
[null,"Rentas exentas que NO se someten al límite ",{"$nulls":38},"Rentas de Trabajo",1,30,{"$f":"(AO571=Parametros[Segmento])*(AP571>0)*(AQ571>0)","v":0}]
[null,"Concepto","Subtotal ",null,null,"Total",{"$nulls":34},"Rentas de Trabajo",1,30,{"$f":"(AO572=Parametros[Segmento])*(AP572>0)*(AQ572>0)","v":0}]
[null,"Cesantías retiradas en el año, que estaban el fondo a 31 de diciembre de 2016 ",{"$f":"+C522","v":{"v":0,"d":"$ 0"}},null,null,{"$f":"IF(F546>0,C573,0)","v":{"v":0,"d":"$ 0"}},{"$nulls":34},"Rentas de Trabajo",1,30,{"$f":"(AO573=Parametros[Segmento])*(AP573>0)*(AQ573>0)","v":0}]
[null,"El seguro y/o las compensaciones por muerte, y las prestaciones sociales en \nactividad y en retiro de los miembros de las Fuerzas Militares y de la Policía\n Nacional",{"$f":"+C521","v":{"v":0,"d":"$ 0"}},null,null,{"$f":"IF(F546>0,C574,0)","v":{"v":0,"d":"$ 0"}},{"$nulls":34},"Rentas de Trabajo",1,50,{"$f":"(AO574=Parametros[Segmento])*(AP574>0)*(AQ574>0)","v":0}]
[null,"Gastos de representación de Magistrados de los Tribunales, sus fiscales y \nprocuradores judiciales ",{"$nulls":3},{"$f":"IF(F546>0,C575,0)","v":{"v":0,"d":"$ 0"}},{"$nulls":34},"Rentas de Trabajo",1,40.1,{"$f":"(AO575=Parametros[Segmento])*(AP575>0)*(AQ575>0)","v":0}]
[null,"Gastos de representación de Jueces de la República ",{"$nulls":3},{"$f":"IF(F546>0,C576,0)","v":{"v":0,"d":"$ 0"}},{"$nulls":34},"Rentas de Trabajo",1,30,{"$f":"(AO576=Parametros[Segmento])*(AP576>0)*(AQ576>0)","v":0}]
[null,"Gastos de representación de los rectores y profesores de universidades públicas",{"$nulls":3},{"$f":"IF(F546>0,C577,0)","v":{"v":0,"d":"$ 0"}},{"$nulls":34},"Rentas de Trabajo",1,30,{"$f":"(AO577=Parametros[Segmento])*(AP577>0)*(AQ577>0)","v":0}]
[null,"Exceso de salario básico de oficiales, suboficiales y soldados profesionales de \nlas Fuerzas Militares y oficiales, suboficiales, nivel ejecutivo, patrulleros y \nagentes de la Policía Nacional",{"$nulls":3},{"$f":"IF(F546>0,C578,0)","v":{"v":0,"d":"$ 0"}},{"$nulls":34},"Rentas de Trabajo",1,50,{"$f":"(AO578=Parametros[Segmento])*(AP578>0)*(AQ578>0)","v":0}]
[null,"Prima especial y de costo de vida de diplomáticos, consulares y administrativos \ndel Ministerio de Relaciones Exteriores ",{"$f":"+C523","v":{"v":0,"d":"$ 0"}},null,null,{"$f":"IF(F546>0,C579,0)","v":{"v":0,"d":"$ 0"}},{"$nulls":34},"Rentas de Trabajo",1,40.1,{"$f":"(AO579=Parametros[Segmento])*(AP579>0)*(AQ579>0)","v":0}]
[null,"Ingresos recibidos por funcionarios de la ONU o por vinculados con organismos especializados de la ONU con residencia fiscal en Colombia ",{"$nulls":3},{"$f":"IF(F546>0,C580,0)","v":{"v":0,"d":"$ 0"}},{"$nulls":34},"Rentas de Trabajo",1,40.1,{"$f":"(AO580=Parametros[Segmento])*(AP580>0)*(AQ580>0)","v":0}]
[null,"Ingresos recibidos en países de la CAN ",{"$f":"D546","v":{"v":0,"d":"$ 0"}},null,null,{"$f":"IF(F546>0,C581,0)","v":{"v":0,"d":"$ 0"}},{"$nulls":34},"Rentas de Trabajo",1,30,{"$f":"(AO581=Parametros[Segmento])*(AP581>0)*(AQ581>0)","v":0}]
[null,null,"Total rentas exentas que NO se someten al límite ",null,null,{"$f":"SUM(F573:F581)","v":{"v":0,"d":"$ 0"}},{"$nulls":34},"Rentas de Trabajo",1,30,{"$f":"(AO582=Parametros[Segmento])*(AP582>0)*(AQ582>0)","v":0}]
[{"$nulls":40},"Rentas de Trabajo",1,30,{"$f":"(AO583=Parametros[Segmento])*(AP583>0)*(AQ583>0)","v":0}]
[null,"Rentas exentas que Sí se someten al límite",{"$nulls":38},"Rentas de Trabajo",1,30,{"$f":"(AO584=Parametros[Segmento])*(AP584>0)*(AQ584>0)","v":0}]
[null,"Concepto","Subtotal ",null,null,"Total",{"$nulls":34},"Rentas de Trabajo",1,30,{"$f":"(AO585=Parametros[Segmento])*(AP585>0)*(AQ585>0)","v":0}]
[null,"Aportes a fondos de pensiones voluntarias",{"$nulls":3},{"$f":"IF(F546>0,IF(AND(C586<=(F546*30%),C586<=(3800*' '!D112)),C586,MIN(F546*30%,(3800*' '!D112))),0)","v":{"v":0,"d":"$ 0"}},{"$nulls":34},"Rentas de Trabajo",1,30,{"$f":"(AO586=Parametros[Segmento])*(AP586>0)*(AQ586>0)","v":0}]
[null,"Aportes a cuentas AFC y/o cuentas AVC ",{"$nulls":3},{"$f":"IF(F546>0,IF(AND((C586+C587)<=(F546*30%),(C586+C587)<=(3800*' '!D112)),C587,MIN(F546*30%,(3800*' '!D112))-F586),0)","v":{"v":0,"d":"$ 0"}},{"$nulls":34},"Rentas de Trabajo",1,30,{"$f":"(AO587=Parametros[Segmento])*(AP587>0)*(AQ587>0)","v":0}]
[null,"Cesantías e intereses efectivamente pagados en el año ",{"$f":"+C511","v":{"v":0,"d":"$ 0"}},null,null,{"$f":"IF(F546>0,C588*MAX(Listas!T5:T11),0)","v":{"v":0,"d":"$ 0"}},{"$nulls":34},"Rentas de Trabajo",1,30,{"$f":"(AO588=Parametros[Segmento])*(AP588>0)*(AQ588>0)","v":0}]
[null,"Cesantías consignadas en el fondo en el año",{"$f":"+C512","v":{"v":0,"d":"$ 0"}},null,null,{"$f":"IF(F546>0,C589*MAX(Listas!T5:T11),0)","v":{"v":0,"d":"$ 0"}},{"$nulls":34},"Rentas de Trabajo",1,30,{"$f":"(AO589=Parametros[Segmento])*(AP589>0)*(AQ589>0)","v":0}]
[null,"Indemnizaciones por accidente de trabajo o enfermedad ",{"$f":"+C518","v":{"v":0,"d":"$ 0"}},null,null,{"$f":"IF(F546>0,C590,0)","v":{"v":0,"d":"$ 0"}},{"$nulls":34},"Rentas de Trabajo",1,30,{"$f":"(AO590=Parametros[Segmento])*(AP590>0)*(AQ590>0)","v":0}]
[null,"Indemnización por protección a la maternidad ",{"$f":"+C519","v":{"v":0,"d":"$ 0"}},null,null,{"$f":"IF(F546>0,C591,0)","v":{"v":0,"d":"$ 0"}},{"$nulls":34},"Rentas de Trabajo",1,30,{"$f":"(AO591=Parametros[Segmento])*(AP591>0)*(AQ591>0)","v":0}]
[null,"Gastos de entierro del trabajador ",{"$f":"+C520","v":{"v":0,"d":"$ 0"}},null,null,{"$f":"IF(F546>0,C592,0)","v":{"v":0,"d":"$ 0"}},{"$nulls":34},"Rentas de Trabajo",1,30,{"$f":"(AO592=Parametros[Segmento])*(AP592>0)*(AQ592>0)","v":0}]
[null,"Bonificación y/o indemnización por plan de retiro de una entidad pública del \norden nacional, departamental o municipal ",{"$f":"+C524","v":{"v":0,"d":"$ 0"}},null,null,{"$f":"IF(F546>0,C593,0)","v":{"v":0,"d":"$ 0"}},{"$nulls":34},"Rentas de Trabajo",1,40.1,{"$f":"(AO593=Parametros[Segmento])*(AP593>0)*(AQ593>0)","v":0}]
[null,"Bonificación por retiro voluntario para ciudadanos colombianos que integran \nlas reservas oficiales de prima y segunda clase de la Armada Nacional ",{"$f":"+C525","v":{"v":0,"d":"$ 0"}},null,null,{"$f":"IF(F546>0,C594,0)","v":{"v":0,"d":"$ 0"}},{"$nulls":34},"Rentas de Trabajo",1,40.1,{"$f":"(AO594=Parametros[Segmento])*(AP594>0)*(AQ594>0)","v":0}]
[null,"25% de renta exenta laboral ",{"$f":"IF((F546-F559-F569-F582-SUM(F586:F594))>0,(F546-F559-F569-F582-SUM(F586:F594))*25%,0)","v":{"v":0,"d":"$ 0"}},null,null,{"$f":"IF(F546>0,IF(C595<=(2880*' '!D112),C595,(2880*' '!D112)),0)","v":{"v":0,"d":"$ 0"}},{"$nulls":34},"Rentas de Trabajo",1,30,{"$f":"(AO595=Parametros[Segmento])*(AP595>0)*(AQ595>0)","v":0}]
[null,null,"Total rentas exentas que SÍ se someten al límite ",null,null,{"$f":"SUM(F586:F595)","v":{"v":0,"d":"$ 0"}},{"$nulls":34},"Rentas de Trabajo",1,30,{"$f":"(AO596=Parametros[Segmento])*(AP596>0)*(AQ596>0)","v":0}]
[2,80.33,19.56,{"$f":"IFERROR(($D$143=\"Sí\")*($D$144=\"Sí\")*19.56,0)","v":0},{"$f":"IFERROR(($D$143=\"Sí\")*($D$145=\"Sí\")*19.56,0)","v":0},19.56,5,{"$nulls":8},0,0,null,0,0,0,0,0,0,{"$nulls":16},"RentaHonorariosServicios",0,15,{"$f":"(AO597=Parametros[Segmento])*(AP597>0)*(AQ597>0)","v":0}]
[{"$nulls":40},"RentaHonorariosServicios",1,30,{"$f":"(AO598=Parametros[Segmento])*(AP598>0)*(AQ598>0)","v":0}]
[null,"Rentas por honorarios y servicios personales sujetos a costos y gastos y no a las rentas exentas del numeral 10 del artículo 206 del ET",{"$nulls":38},"RentaHonorariosServicios",1,45,{"$f":"(AO599=Parametros[Segmento])*(AP599>0)*(AQ599>0)","v":0}]
[null,"Honorarios ",{"$nulls":38},"RentaHonorariosServicios",1,30,{"$f":"(AO600=Parametros[Segmento])*(AP600>0)*(AQ600>0)","v":0}]
[null,"¿El contribuyente desea registrar ingresos por honorarios como rentas de trabajo por honorarios?  ",{"$nulls":38},"RentaHonorariosServicios",1,40,{"$f":"(AO601=Parametros[Segmento])*(AP601>0)*(AQ601>0)","v":0}]
[null,"Concepto","Nacionales ","CAN","Otros del exterior ","Totales",{"$nulls":34},{"$f":"IF(OR(Parametros[Segmento]<>\"RentaHonorariosServicios\",$F$601=\"Sí\"),\"RentaHonorariosServicios\",\"\")","v":"RentaHonorariosServicios"},1,30,{"$f":"(AO602=Parametros[Segmento])*(AP602>0)*(AQ602>0)","v":0}]
[{"$nulls":5},{"$f":"C603+(Ingresos_Exterior=\"Sí\")*(Ingresos_CAN=\"Sí\")*D603+(Ingresos_Exterior=\"Sí\")*(Ingresos_Otros_Paises=\"Sí\")*E603","v":{"v":0,"d":"$ 0"}},{"$nulls":32},{"$f":"AO603","v":"RentaHonorariosServicios"},{"$f":"SUBSTITUTE($B$600,CHAR(10),\"\")","v":"Honorarios "},{"$f":"IF(OR(Parametros[Segmento]<>\"RentaHonorariosServicios\",$F$601=\"Sí\"),\"RentaHonorariosServicios\",\"\")","v":"RentaHonorariosServicios"},{"$f":"(AN603=OFFSET(AN603,1,0))*1","v":1},30,{"$f":"(AO603=Parametros[Segmento])*(AP603>0)*(AQ603>0)","v":0}]
[{"$nulls":5},{"$f":"C604+(Ingresos_Exterior=\"Sí\")*(Ingresos_CAN=\"Sí\")*D604+(Ingresos_Exterior=\"Sí\")*(Ingresos_Otros_Paises=\"Sí\")*E604","v":{"v":0,"d":"$ 0"}},{"$nulls":32},{"$f":"AO604","v":"RentaHonorariosServicios"},{"$f":"SUBSTITUTE($B$600,CHAR(10),\"\")","v":"Honorarios "},{"$f":"IF(OR(Parametros[Segmento]<>\"RentaHonorariosServicios\",$F$601=\"Sí\"),\"RentaHonorariosServicios\",\"\")","v":"RentaHonorariosServicios"},{"$f":"(AN604=OFFSET(AN604,1,0))*1","v":0},30,{"$f":"(AO604=Parametros[Segmento])*(AP604>0)*(AQ604>0)","v":0}]
[null,"Total ingresos brutos por honorarios ",{"$f":"SUM(C603:C604)*($F$601=\"Sí\")","v":{"v":0,"d":"$ 0"}},{"$f":"SUM(D603:D604)*($F$601=\"Sí\")","v":{"v":0,"d":"$ 0"}},{"$f":"SUM(E603:E604)*($F$601=\"Sí\")","v":{"v":0,"d":"$ 0"}},{"$f":"SUM(F603:F604)*($F$601=\"Sí\")","v":{"v":0,"d":"$ 0"}},{"$nulls":12},"Honorarios ",null,{"$f":"+' '!F532+' '!F605","v":{"v":0,"d":"$ 0"}},30,"RentaHonorariosServicios",30,{"$nulls":16},{"$f":"IF(Parametros[Segmento]=\"Informes\",\"Informes\",IF(OR(Parametros[Segmento]<>W605,$F$601=\"Sí\"),W605,\"\"))","v":"RentaHonorariosServicios"},{"$f":"IF(Parametros[Segmento]=\"Informes\",(U605<>0)*1,1)","v":1},{"$f":"IF(Parametros[Segmento]=\"Informes\",V605,X605)","v":30},{"$f":"(AO605=Parametros[Segmento])*(AP605>0)*(AQ605>0)","v":0}]
[null,"Compensación de servicios personales ",{"$nulls":38},"RentaHonorariosServicios",1,30,{"$f":"(AO606=Parametros[Segmento])*(AP606>0)*(AQ606>0)","v":0}]
[null,"¿El contribuyente desea registrar ingresos por compensación de servicios personales como rentas de trabajo?  ",{"$nulls":38},"RentaHonorariosServicios",1,40,{"$f":"(AO607=Parametros[Segmento])*(AP607>0)*(AQ607>0)","v":0}]
[null,"Concepto","Nacionales ","CAN","Otros del exterior ","Totales",{"$nulls":34},{"$f":"IF(OR(Parametros[Segmento]<>\"RentaHonorariosServicios\",$F$607=\"Sí\"),\"RentaHonorariosServicios\",\"\")","v":"RentaHonorariosServicios"},1,30,{"$f":"(AO608=Parametros[Segmento])*(AP608>0)*(AQ608>0)","v":0}]
[{"$nulls":5},{"$f":"C609+(Ingresos_Exterior=\"Sí\")*(Ingresos_CAN=\"Sí\")*D609+(Ingresos_Exterior=\"Sí\")*(Ingresos_Otros_Paises=\"Sí\")*E609","v":{"v":0,"d":"$ 0"}},{"$nulls":32},{"$f":"AO609","v":"RentaHonorariosServicios"},{"$f":"SUBSTITUTE($B$606,CHAR(10),\"\")","v":"Compensación de servicios personales "},{"$f":"IF(OR(Parametros[Segmento]<>\"RentaHonorariosServicios\",$F$607=\"Sí\"),\"RentaHonorariosServicios\",\"\")","v":"RentaHonorariosServicios"},{"$f":"(AN609=OFFSET(AN609,1,0))*1","v":1},30,{"$f":"(AO609=Parametros[Segmento])*(AP609>0)*(AQ609>0)","v":0}]
[{"$nulls":5},{"$f":"C610+(Ingresos_Exterior=\"Sí\")*(Ingresos_CAN=\"Sí\")*D610+(Ingresos_Exterior=\"Sí\")*(Ingresos_Otros_Paises=\"Sí\")*E610","v":{"v":0,"d":"$ 0"}},{"$nulls":32},{"$f":"AO610","v":"RentaHonorariosServicios"},{"$f":"SUBSTITUTE($B$606,CHAR(10),\"\")","v":"Compensación de servicios personales "},{"$f":"IF(OR(Parametros[Segmento]<>\"RentaHonorariosServicios\",$F$607=\"Sí\"),\"RentaHonorariosServicios\",\"\")","v":"RentaHonorariosServicios"},{"$f":"(AN610=OFFSET(AN610,1,0))*1","v":0},30,{"$f":"(AO610=Parametros[Segmento])*(AP610>0)*(AQ610>0)","v":0}]
[null,"Total ingresos brutos por compensación de servicios personales ",{"$f":"SUM(C609:C610)*($F$607=\"Sí\")","v":{"v":0,"d":"$ 0"}},{"$f":"SUM(D609:D610)*($F$607=\"Sí\")","v":{"v":0,"d":"$ 0"}},{"$f":"SUM(E609:E610)*($F$607=\"Sí\")","v":{"v":0,"d":"$ 0"}},{"$f":"SUM(F609:F610)*($F$607=\"Sí\")","v":{"v":0,"d":"$ 0"}},{"$nulls":12},"Compensación de servicios personales ",null,{"$f":"+' '!F538+' '!F611","v":{"v":0,"d":"$ 0"}},30,"RentaHonorariosServicios",30,{"$nulls":16},{"$f":"IF(Parametros[Segmento]=\"Informes\",\"Informes\",IF(OR(Parametros[Segmento]<>W611,$F$607=\"Sí\"),W611,\"\"))","v":"RentaHonorariosServicios"},{"$f":"IF(Parametros[Segmento]=\"Informes\",(U611<>0)*1,1)","v":1},{"$f":"IF(Parametros[Segmento]=\"Informes\",V611,X611)","v":30},{"$f":"(AO611=Parametros[Segmento])*(AP611>0)*(AQ611>0)","v":0}]
[null,"Comisiones",{"$nulls":38},"RentaHonorariosServicios",1,30,{"$f":"(AO612=Parametros[Segmento])*(AP612>0)*(AQ612>0)","v":0}]
[null,"¿El contribuyente desea registrar ingresos por comisiones como rentas de trabajo?  ",{"$nulls":38},"RentaHonorariosServicios",1,30,{"$f":"(AO613=Parametros[Segmento])*(AP613>0)*(AQ613>0)","v":0}]
[null,"Concepto","Nacionales ","CAN","Otros del exterior ","Totales",{"$nulls":34},{"$f":"IF(OR(Parametros[Segmento]<>\"RentaHonorariosServicios\",$F$613=\"Sí\"),\"RentaHonorariosServicios\",\"\")","v":"RentaHonorariosServicios"},1,30,{"$f":"(AO614=Parametros[Segmento])*(AP614>0)*(AQ614>0)","v":0}]
[{"$nulls":5},{"$f":"C615+(Ingresos_Exterior=\"Sí\")*(Ingresos_CAN=\"Sí\")*D615+(Ingresos_Exterior=\"Sí\")*(Ingresos_Otros_Paises=\"Sí\")*E615","v":{"v":0,"d":"$ 0"}},{"$nulls":32},{"$f":"AO615","v":"RentaHonorariosServicios"},{"$f":"SUBSTITUTE($B$612,CHAR(10),\"\")","v":"Comisiones"},{"$f":"IF(OR(Parametros[Segmento]<>\"RentaHonorariosServicios\",$F$613=\"Sí\"),\"RentaHonorariosServicios\",\"\")","v":"RentaHonorariosServicios"},{"$f":"(AN615=OFFSET(AN615,1,0))*1","v":1},30,{"$f":"(AO615=Parametros[Segmento])*(AP615>0)*(AQ615>0)","v":0}]
[{"$nulls":5},{"$f":"C616+(Ingresos_Exterior=\"Sí\")*(Ingresos_CAN=\"Sí\")*D616+(Ingresos_Exterior=\"Sí\")*(Ingresos_Otros_Paises=\"Sí\")*E616","v":{"v":0,"d":"$ 0"}},{"$nulls":32},{"$f":"AO616","v":"RentaHonorariosServicios"},{"$f":"SUBSTITUTE($B$612,CHAR(10),\"\")","v":"Comisiones"},{"$f":"IF(OR(Parametros[Segmento]<>\"RentaHonorariosServicios\",$F$613=\"Sí\"),\"RentaHonorariosServicios\",\"\")","v":"RentaHonorariosServicios"},{"$f":"(AN616=OFFSET(AN616,1,0))*1","v":0},30,{"$f":"(AO616=Parametros[Segmento])*(AP616>0)*(AQ616>0)","v":0}]
[null,"Total ingresos brutos por comisiones",{"$f":"SUM(C615:C616)*($F$613=\"Sí\")","v":{"v":0,"d":"$ 0"}},{"$f":"SUM(D615:D616)*($F$613=\"Sí\")","v":{"v":0,"d":"$ 0"}},{"$f":"SUM(E615:E616)*($F$613=\"Sí\")","v":{"v":0,"d":"$ 0"}},{"$f":"SUM(F615:F616)*($F$613=\"Sí\")","v":{"v":0,"d":"$ 0"}},{"$nulls":12},"Comisiones ",null,{"$f":"+' '!F545+' '!F617","v":{"v":0,"d":"$ 0"}},30,"RentaHonorariosServicios",30,{"$nulls":16},{"$f":"IF(Parametros[Segmento]=\"Informes\",\"Informes\",IF(OR(Parametros[Segmento]<>W617,$F$613=\"Sí\"),W617,\"\"))","v":"RentaHonorariosServicios"},{"$f":"IF(Parametros[Segmento]=\"Informes\",(U617<>0)*1,1)","v":1},{"$f":"IF(Parametros[Segmento]=\"Informes\",V617,X617)","v":30},{"$f":"(AO617=Parametros[Segmento])*(AP617>0)*(AQ617>0)","v":0}]
[null,"Total ingresos brutos por compensación de servicios personales y honorarios sujetos a costos y gastos",{"$f":"(C605+C611+C617)","v":{"v":0,"d":"$ 0"}},{"$f":"(D605+D611+D617)","v":{"v":0,"d":"$ 0"}},{"$f":"(E605+E611+E617)","v":{"v":0,"d":"$ 0"}},{"$f":"(F605+F611+F617)","v":{"v":0,"d":"$ 0"}},{"$nulls":34},"RentaHonorariosServicios",1,40.1,{"$f":"(AO618=Parametros[Segmento])*(AP618>0)*(AQ618>0)","v":0}]
[{"$nulls":40},"RentaHonorariosServicios",1,30,{"$f":"(AO619=Parametros[Segmento])*(AP619>0)*(AQ619>0)","v":0}]
[null,"Ingresos no constitutivos de renta ",{"$nulls":38},"RentaHonorariosServicios",1,30,{"$f":"(AO620=Parametros[Segmento])*(AP620>0)*(AQ620>0)","v":0}]
[null,"Concepto ","Subtotal ",null,null,"Total ",{"$nulls":34},"RentaHonorariosServicios",1,30,{"$f":"(AO621=Parametros[Segmento])*(AP621>0)*(AQ621>0)","v":0}]
[null,"Aportes obligatorios a salud ",{"$nulls":3},{"$f":"IF(F618>0,C622,0)","v":{"v":0,"d":"$ 0"}},{"$nulls":34},"RentaHonorariosServicios",1,30,{"$f":"(AO622=Parametros[Segmento])*(AP622>0)*(AQ622>0)","v":0}]
[null,"Aportes obligatorios a fondos de pensiones",{"$nulls":3},{"$f":"IF(F618>0,C623,0)","v":{"v":0,"d":"$ 0"}},{"$nulls":34},"RentaHonorariosServicios",1,30,{"$f":"(AO623=Parametros[Segmento])*(AP623>0)*(AQ623>0)","v":0}]
[null,"Aportes a fondo de solidaridad pensional ",{"$nulls":3},{"$f":"IF(F618>0,C624,0)","v":{"v":0,"d":"$ 0"}},{"$nulls":34},"RentaHonorariosServicios",1,30,{"$f":"(AO624=Parametros[Segmento])*(AP624>0)*(AQ624>0)","v":0}]
[null,"Aportes a ARL ",{"$nulls":3},{"$f":"IF(F618>0,C625,0)","v":{"v":0,"d":"$ 0"}},{"$nulls":34},"RentaHonorariosServicios",1,30,{"$f":"(AO625=Parametros[Segmento])*(AP625>0)*(AQ625>0)","v":0}]
[null,"Aportes voluntarios a fondos de pensiones obligatorias ",{"$nulls":3},{"$f":"IF(F618>0,IF(AND(C626<=(F618*25%),C626<=(2500*' '!D112)),C626,MIN(F618*25%,2500*' '!D112)),0)","v":{"v":0,"d":"$ 0"}},{"$nulls":34},"RentaHonorariosServicios",1,30,{"$f":"(AO626=Parametros[Segmento])*(AP626>0)*(AQ626>0)","v":0}]
[null,"Remuneración por participación en proyectos calificados como de \ncarácter científico, tecnológico o de innovación por el Consejo \nNacional de Beneficios Tributarios en Ciencia, Tecnología e Innovación",{"$nulls":3},{"$f":"IF(F618>0,C627,0)","v":{"v":0,"d":"$ 0"}},{"$nulls":34},"RentaHonorariosServicios",1,50,{"$f":"(AO627=Parametros[Segmento])*(AP627>0)*(AQ627>0)","v":0}]
[null,null,"Total ingresos no constitutivos de renta",null,null,{"$f":"SUM(F622:F627)","v":{"v":0,"d":"$ 0"}},{"$nulls":34},"RentaHonorariosServicios",1,30,{"$f":"(AO628=Parametros[Segmento])*(AP628>0)*(AQ628>0)","v":0}]
[{"$nulls":40},"RentaHonorariosServicios",1,30,{"$f":"(AO629=Parametros[Segmento])*(AP629>0)*(AQ629>0)","v":0}]
[null,"Costos y gastos procedentes",{"$nulls":38},"RentaHonorariosServicios",1,30,{"$f":"(AO630=Parametros[Segmento])*(AP630>0)*(AQ630>0)","v":0}]
[null,"Concepto ","Subtotal ",null,null,"Total ",{"$nulls":34},"RentaHonorariosServicios",1,30,{"$f":"(AO631=Parametros[Segmento])*(AP631>0)*(AQ631>0)","v":0}]
[null,"Gastos nómina ",{"$nulls":3},{"$f":"C632","v":{"v":0,"d":"$ 0"}},{"$nulls":34},"RentaHonorariosServicios",1,30,{"$f":"(AO632=Parametros[Segmento])*(AP632>0)*(AQ632>0)","v":0}]
[null,"Gastos por honorarios ",{"$nulls":3},{"v":0,"d":"$ 0"},{"$nulls":34},"RentaHonorariosServicios",1,30,{"$f":"(AO633=Parametros[Segmento])*(AP633>0)*(AQ633>0)","v":0}]
[null,"Gastos por servicios ",{"$nulls":3},{"v":0,"d":"$ 0"},{"$nulls":34},"RentaHonorariosServicios",1,30,{"$f":"(AO634=Parametros[Segmento])*(AP634>0)*(AQ634>0)","v":0}]
[null,"Gastos por arrendamientos ",{"$nulls":3},{"v":0,"d":"$ 0"},{"$nulls":34},"RentaHonorariosServicios",1,30,{"$f":"(AO635=Parametros[Segmento])*(AP635>0)*(AQ635>0)","v":0}]
[null,"Gastos por servicios públicos ",{"$nulls":3},{"v":0,"d":"$ 0"},{"$nulls":34},"RentaHonorariosServicios",1,30,{"$f":"(AO636=Parametros[Segmento])*(AP636>0)*(AQ636>0)","v":0}]
[null,"Gastos por papelería ",{"$nulls":3},{"v":0,"d":"$ 0"},{"$nulls":34},"RentaHonorariosServicios",1,30,{"$f":"(AO637=Parametros[Segmento])*(AP637>0)*(AQ637>0)","v":0}]
[null,"Gastos por publicidad ",{"$nulls":3},{"v":0,"d":"$ 0"},{"$nulls":34},"RentaHonorariosServicios",1,30,{"$f":"(AO638=Parametros[Segmento])*(AP638>0)*(AQ638>0)","v":0}]
[null,"Gastos por seguros ",{"$nulls":3},{"v":0,"d":"$ 0"},{"$nulls":34},"RentaHonorariosServicios",1,30,{"$f":"(AO639=Parametros[Segmento])*(AP639>0)*(AQ639>0)","v":0}]
[null,"Gastos por mantenimiento y reparaciones",{"$nulls":3},{"v":0,"d":"$ 0"},{"$nulls":34},"RentaHonorariosServicios",1,30,{"$f":"(AO640=Parametros[Segmento])*(AP640>0)*(AQ640>0)","v":0}]
[null,"Gastos legales ",{"$nulls":3},{"v":0,"d":"$ 0"},{"$nulls":34},"RentaHonorariosServicios",1,30,{"$f":"(AO641=Parametros[Segmento])*(AP641>0)*(AQ641>0)","v":0}]
[null,"Gastos de viaje ",{"$nulls":3},{"v":0,"d":"$ 0"},{"$nulls":34},"RentaHonorariosServicios",1,30,{"$f":"(AO642=Parametros[Segmento])*(AP642>0)*(AQ642>0)","v":0}]
[null,"Gastos diversos ",{"$nulls":3},{"v":0,"d":"$ 0"},{"$nulls":34},"RentaHonorariosServicios",1,30,{"$f":"(AO643=Parametros[Segmento])*(AP643>0)*(AQ643>0)","v":0}]
[null,"Impuestos pagados, diferentes al ICA y su complementario de avisos y tableros ",{"$nulls":3},{"v":0,"d":"$ 0"},{"$nulls":34},"RentaHonorariosServicios",1,30,{"$f":"(AO644=Parametros[Segmento])*(AP644>0)*(AQ644>0)","v":0}]
[null,"Intereses y gastos financieros pagados a entidades financieras ",{"$nulls":3},{"v":0,"d":"$ 0"},{"$nulls":34},"RentaHonorariosServicios",1,30,{"$f":"(AO645=Parametros[Segmento])*(AP645>0)*(AQ645>0)","v":0}]
[null,"Intereses y gastos financieros pagados a particulares",{"$nulls":3},{"v":0,"d":"$ 0"},{"$nulls":34},"RentaHonorariosServicios",1,30,{"$f":"(AO646=Parametros[Segmento])*(AP646>0)*(AQ646>0)","v":0}]
[null,"Intereses y gastos financieros pagados a vinculados económicos",{"$f":"+' '!I482+' '!I485","v":{"v":0,"d":"$ 0"}},null,null,{"v":0,"d":"$ 0"},{"$nulls":34},"RentaHonorariosServicios",1,30,{"$f":"(AO647=Parametros[Segmento])*(AP647>0)*(AQ647>0)","v":0}]
[null,"Otros gastos no mencionados anteriormente ",{"$nulls":3},{"v":0,"d":"$ 0"},{"$nulls":34},"RentaHonorariosServicios",1,30,{"$f":"(AO648=Parametros[Segmento])*(AP648>0)*(AQ648>0)","v":0}]
[null,null,"Total costos y gastos procedentes ",null,null,{"$f":"SUM(F632:F648)","v":{"v":0,"d":"$ 0"}},{"$nulls":34},"RentaHonorariosServicios",1,30,{"$f":"(AO649=Parametros[Segmento])*(AP649>0)*(AQ649>0)","v":0}]
[{"$nulls":40},"RentaHonorariosServicios",1,30,{"$f":"(AO650=Parametros[Segmento])*(AP650>0)*(AQ650>0)","v":0}]
[null,"Deducciones ",{"$nulls":38},"RentaHonorariosServicios",1,30,{"$f":"(AO651=Parametros[Segmento])*(AP651>0)*(AQ651>0)","v":0}]
[null,"Concepto ","Subtotal ",null,null,"Total ",{"$nulls":34},"RentaHonorariosServicios",1,30,{"$f":"(AO652=Parametros[Segmento])*(AP652>0)*(AQ652>0)","v":0}]
[null,"Intereses pagados en créditos de vivienda o leasing habitacional ",{"$nulls":3},{"$f":"IF(F618>0,IF(C653>(1200*' '!D112),(1200*' '!D112),C653),0)","v":{"v":0,"d":"$ 0"}},{"$nulls":34},"RentaHonorariosServicios",1,30,{"$f":"(AO653=Parametros[Segmento])*(AP653>0)*(AQ653>0)","v":0}]
[null,"Planes adicionales de salud ",{"$nulls":3},{"$f":"IF(F618>0,IF(C654>(192*' '!D112),(192*' '!D112),C654),0)","v":{"v":0,"d":"$ 0"}},{"$nulls":34},"RentaHonorariosServicios",1,30,{"$f":"(AO654=Parametros[Segmento])*(AP654>0)*(AQ654>0)","v":0}]
[null,"Intereses pagados en créditos educativos con el ICETEX",{"$nulls":3},{"$f":"IF(F618>0,IF(C655>(100*' '!D112),(100*' '!D112),C655),0)","v":{"v":0,"d":"$ 0"}},{"$nulls":34},"RentaHonorariosServicios",1,30,{"$f":"(AO655=Parametros[Segmento])*(AP655>0)*(AQ655>0)","v":0}]
[null,"Gravamen a los movimientos financieros (4x1000)",{"$nulls":3},{"$f":"IF(F618>0,(C656*50%),0)","v":{"v":0,"d":"$ 0"}},{"$nulls":34},"RentaHonorariosServicios",1,30,{"$f":"(AO656=Parametros[Segmento])*(AP656>0)*(AQ656>0)","v":0}]
[null,"Dependientes económicos",{"$f":"+ROUND(IF(AND(' '!F546=0,' '!D138=\"Sí\"),(F618+' '!F546)*10%,0),-3)","v":{"v":0,"d":"$ 0"}},null,null,{"$f":"IF(F618>0,MIN(C657,(384*' '!D112)),0)","v":{"v":0,"d":"$ 0"}},{"$nulls":34},"RentaHonorariosServicios",1,30,{"$f":"(AO657=Parametros[Segmento])*(AP657>0)*(AQ657>0)","v":0}]
[null,"Aportes a cesantías como partícipes independientes ",{"$nulls":3},{"$f":"IF(F618>0,IF(AND(C658<=(2500*' '!D112),C658<=(F618/12)),C658,MIN((2500*' '!D112),(F618/12))),0)","v":{"v":0,"d":"$ 0"}},{"$nulls":34},"RentaHonorariosServicios",1,30,{"$f":"(AO658=Parametros[Segmento])*(AP658>0)*(AQ658>0)","v":0}]
[null,null,"Total deducciones",null,null,{"$f":"SUM(F653:F658)","v":{"v":0,"d":"$ 0"}},{"$nulls":34},"RentaHonorariosServicios",1,30,{"$f":"(AO659=Parametros[Segmento])*(AP659>0)*(AQ659>0)","v":0}]
[{"$nulls":40},"RentaHonorariosServicios",1,30,{"$f":"(AO660=Parametros[Segmento])*(AP660>0)*(AQ660>0)","v":0}]
[null,"Rentas exentas que NO se someten al límite ",{"$nulls":38},"RentaHonorariosServicios",1,30,{"$f":"(AO661=Parametros[Segmento])*(AP661>0)*(AQ661>0)","v":0}]
[null,"Concepto","Subtotal ",null,null,"Total",{"$nulls":34},"RentaHonorariosServicios",1,30,{"$f":"(AO662=Parametros[Segmento])*(AP662>0)*(AQ662>0)","v":0}]
[null,"Ingresos recibidos por funcionarios de la ONU o por vinculados con organismos especializados de la ONU con residencia fiscal en Colombia ",{"$nulls":3},{"$f":"IF(F618>0,C663,0)","v":{"v":0,"d":"$ 0"}},{"$nulls":34},"RentaHonorariosServicios",1,40.1,{"$f":"(AO663=Parametros[Segmento])*(AP663>0)*(AQ663>0)","v":0}]
[null,"Ingresos recibidos en países de la CAN ",{"$f":"+D618","v":{"v":0,"d":"$ 0"}},null,null,{"$f":"IF(F618>0,C664,0)","v":{"v":0,"d":"$ 0"}},{"$nulls":34},"RentaHonorariosServicios",1,30,{"$f":"(AO664=Parametros[Segmento])*(AP664>0)*(AQ664>0)","v":0}]
[null,null,"Total rentas exentas que NO se someten al límite",null,null,{"$f":"SUM(F663:F664)","v":{"v":0,"d":"$ 0"}},{"$nulls":34},"RentaHonorariosServicios",1,30,{"$f":"(AO665=Parametros[Segmento])*(AP665>0)*(AQ665>0)","v":0}]
[{"$nulls":40},"RentaHonorariosServicios",1,30,{"$f":"(AO666=Parametros[Segmento])*(AP666>0)*(AQ666>0)","v":0}]
[null,"Rentas exentas que Sí se someten al límite",{"$nulls":38},"RentaHonorariosServicios",1,30,{"$f":"(AO667=Parametros[Segmento])*(AP667>0)*(AQ667>0)","v":0}]
[null,"Concepto","Subtotal ",null,null,"Total",{"$nulls":34},"RentaHonorariosServicios",1,30,{"$f":"(AO668=Parametros[Segmento])*(AP668>0)*(AQ668>0)","v":0}]
[null,"Aportes a fondos de pensiones voluntarias",{"$nulls":3},{"$f":"IF(F618>0,IF(AND(C669<=(F618*30%),C669<=(3800*' '!D112)),C669,MIN(F618*30%,(3800*' '!D112))),0)","v":{"v":0,"d":"$ 0"}},{"$nulls":34},"RentaHonorariosServicios",1,30,{"$f":"(AO669=Parametros[Segmento])*(AP669>0)*(AQ669>0)","v":0}]
[null,"Aportes a cuentas AFC y/o cuentas AVC ",{"$nulls":3},{"$f":"IF(F618>0,IF(AND((C669+C670)<=(F618*30%),(C669+C670)<=(3800*' '!D112)),C670,MIN(F618*30%,(3800*' '!D112))-F669),0)","v":{"v":0,"d":"$ 0"}},{"$nulls":34},"RentaHonorariosServicios",1,30,{"$f":"(AO670=Parametros[Segmento])*(AP670>0)*(AQ670>0)","v":0}]
[null,null,"Total rentas exentas que SÍ se someten al límite",null,null,{"$f":"SUM(F669:F670)","v":{"v":0,"d":"$ 0"}},{"$nulls":34},"RentaHonorariosServicios",1,30,{"$f":"(AO671=Parametros[Segmento])*(AP671>0)*(AQ671>0)","v":0}]
[1.89,80.33,19.56,{"$f":"IFERROR(($D$143=\"Sí\")*($D$144=\"Sí\")*19.56,0)","v":0},{"$f":"IFERROR(($D$143=\"Sí\")*($D$145=\"Sí\")*19.56,0)","v":0},19.56,5,{"$nulls":8},0,0,null,0,0,0,0,0,0,{"$nulls":16},"Rentas de Capital",0,15,{"$f":"(AO672=Parametros[Segmento])*(AP672>0)*(AQ672>0)","v":0}]
[{"$nulls":40},"Rentas de Capital",1,30,{"$f":"(AO673=Parametros[Segmento])*(AP673>0)*(AQ673>0)","v":0}]
[null,"Rentas de Capital",{"$nulls":38},"Rentas de Capital",1,30,{"$f":"(AO674=Parametros[Segmento])*(AP674>0)*(AQ674>0)","v":0}]
[null,"Arrendamientos ",{"$nulls":38},"Rentas de Capital",1,30,{"$f":"(AO675=Parametros[Segmento])*(AP675>0)*(AQ675>0)","v":0}]
[null,"Concepto","Nacionales ","CAN","Otros del exterior ","Totales",{"$nulls":34},"Rentas de Capital",1,30,{"$f":"(AO676=Parametros[Segmento])*(AP676>0)*(AQ676>0)","v":0}]
[null,"Arrendamientos de bienes muebles ",{"$nulls":3},{"$f":"C677+(Ingresos_Exterior=\"Sí\")*(Ingresos_CAN=\"Sí\")*D677+(Ingresos_Exterior=\"Sí\")*(Ingresos_Otros_Paises=\"Sí\")*E677","v":{"v":0,"d":"$ 0"}},{"$nulls":34},"Rentas de Capital",1,30,{"$f":"(AO677=Parametros[Segmento])*(AP677>0)*(AQ677>0)","v":0}]
[null,"Arrendamientos de bienes inmuebles ",{"$nulls":3},{"$f":"C678+(Ingresos_Exterior=\"Sí\")*(Ingresos_CAN=\"Sí\")*D678+(Ingresos_Exterior=\"Sí\")*(Ingresos_Otros_Paises=\"Sí\")*E678","v":{"v":0,"d":"$ 0"}},{"$nulls":34},"Rentas de Capital",1,30,{"$f":"(AO678=Parametros[Segmento])*(AP678>0)*(AQ678>0)","v":0}]
[null,"Total ingresos brutos por arrendamientos",{"$f":"SUM(C677:C678)","v":{"v":0,"d":"$ 0"}},{"$f":"SUM(D677:D678)","v":{"v":0,"d":"$ 0"}},{"$f":"SUM(E677:E678)","v":{"v":0,"d":"$ 0"}},{"$f":"SUM(F677:F678)","v":{"v":0,"d":"$ 0"}},{"$nulls":12},"Arrendamientos ",null,{"$f":"+' '!F679","v":{"v":0,"d":"$ 0"}},30,"Rentas de Capital",30,{"$nulls":16},{"$f":"IF(Parametros[Segmento]=\"Informes\",\"Informes\",W679)","v":"Rentas de Capital"},{"$f":"IF(Parametros[Segmento]=\"Informes\",(U679<>0)*1,1)","v":1},{"$f":"IF(Parametros[Segmento]=\"Informes\",V679,X679)","v":30},{"$f":"(AO679=Parametros[Segmento])*(AP679>0)*(AQ679>0)","v":0}]
[null,"Derechos de autor y explotación de propiedad intelectual ",{"$nulls":38},"Rentas de Capital",1,30,{"$f":"(AO680=Parametros[Segmento])*(AP680>0)*(AQ680>0)","v":0}]
[null,"Concepto","Nacionales ","CAN","Otros del exterior ","Totales",{"$nulls":34},"Rentas de Capital",1,30,{"$f":"(AO681=Parametros[Segmento])*(AP681>0)*(AQ681>0)","v":0}]
[null,"Regalías por derechos de autor por libros editados e impresos en Colombia ",{"$nulls":3},{"$f":"C682+(Ingresos_Exterior=\"Sí\")*(Ingresos_CAN=\"Sí\")*D682+(Ingresos_Exterior=\"Sí\")*(Ingresos_Otros_Paises=\"Sí\")*E682","v":{"v":0,"d":"$ 0"}},{"$nulls":34},"Rentas de Capital",1,30,{"$f":"(AO682=Parametros[Segmento])*(AP682>0)*(AQ682>0)","v":0}]
[null,"Regalías por derechos de autor por libros de carácter científico o cultural, editados e impresos en Colombia ",{"$nulls":3},{"v":0,"d":"$ 0"},{"$nulls":34},"Rentas de Capital",1,40.1,{"$f":"(AO683=Parametros[Segmento])*(AP683>0)*(AQ683>0)","v":0}]
[null,"Regalías por derechos de autor y traducción provenientes de la primera edición y primer tirada de libros, editados e impresos en Colombia",{"$nulls":3},{"v":0,"d":"$ 0"},{"$nulls":34},"Rentas de Capital",1,40.1,{"$f":"(AO684=Parametros[Segmento])*(AP684>0)*(AQ684>0)","v":0}]
[null,"Regalías por derechos de autor y traducción provenientes de las ediciones o tiradas posteriores a la primera edición del libro",{"$nulls":3},{"v":0,"d":"$ 0"},{"$nulls":34},"Rentas de Capital",1,40.1,{"$f":"(AO685=Parametros[Segmento])*(AP685>0)*(AQ685>0)","v":0}]
[null,"Regalías por derechos de autor diferentes a las mencionadas anteriormente ",{"$nulls":3},{"v":0,"d":"$ 0"},{"$nulls":34},"Rentas de Capital",1,30,{"$f":"(AO686=Parametros[Segmento])*(AP686>0)*(AQ686>0)","v":0}]
[null,"Regalías por explotación de propiedad intelectual ",{"$nulls":3},{"v":0,"d":"$ 0"},{"$nulls":34},"Rentas de Capital",1,30,{"$f":"(AO687=Parametros[Segmento])*(AP687>0)*(AQ687>0)","v":0}]
[null,"Total ingresos brutos por derechos de autor y explotación de propiedad intelectual ",{"$f":"SUM(C682:C687)","v":{"v":0,"d":"$ 0"}},{"$f":"SUM(D682:D687)","v":{"v":0,"d":"$ 0"}},{"$f":"SUM(E682:E687)","v":{"v":0,"d":"$ 0"}},{"$f":"SUM(F682:F687)","v":{"v":0,"d":"$ 0"}},{"$nulls":12},"Derechos de autor y explotación de propiedad intelectual ",null,{"$f":"+' '!F688","v":{"v":0,"d":"$ 0"}},30,"Rentas de Capital",30,{"$nulls":16},{"$f":"IF(Parametros[Segmento]=\"Informes\",\"Informes\",W688)","v":"Rentas de Capital"},{"$f":"IF(Parametros[Segmento]=\"Informes\",(U688<>0)*1,1)","v":1},{"$f":"IF(Parametros[Segmento]=\"Informes\",V688,X688)","v":30},{"$f":"(AO688=Parametros[Segmento])*(AP688>0)*(AQ688>0)","v":0}]
[null,"Intereses, rendimientos y otras rentas de capital ",{"$nulls":38},"Rentas de Capital",1,30,{"$f":"(AO689=Parametros[Segmento])*(AP689>0)*(AQ689>0)","v":0}]
[null,"Concepto","Nacionales ","CAN","Otros del exterior ","Totales",{"$nulls":34},"Rentas de Capital",1,30,{"$f":"(AO690=Parametros[Segmento])*(AP690>0)*(AQ690>0)","v":0}]
[null,"Intereses de cuentas de ahorros, corrientes y/o fiducuentas",{"v":234699,"d":"$ 234,699"},null,null,{"$f":"C691+(Ingresos_Exterior=\"Sí\")*(Ingresos_CAN=\"Sí\")*D691+(Ingresos_Exterior=\"Sí\")*(Ingresos_Otros_Paises=\"Sí\")*E691","v":{"v":234699,"d":"$ 234,699"}},{"$nulls":34},"Rentas de Capital",1,30,{"$f":"(AO691=Parametros[Segmento])*(AP691>0)*(AQ691>0)","v":0}]
[null,"Intereses de depósito a término ",{"$nulls":3},{"v":0,"d":"$ 0"},{"$nulls":34},"Rentas de Capital",1,30,{"$f":"(AO692=Parametros[Segmento])*(AP692>0)*(AQ692>0)","v":0}]
[null,"Rendimientos de títulos con descuentos ",{"$nulls":3},{"v":0,"d":"$ 0"},{"$nulls":34},"Rentas de Capital",1,30,{"$f":"(AO693=Parametros[Segmento])*(AP693>0)*(AQ693>0)","v":0}]
[null,"Rendimientos en cuentas AFC ",{"$nulls":3},{"v":0,"d":"$ 0"},{"$nulls":34},"Rentas de Capital",1,30,{"$f":"(AO694=Parametros[Segmento])*(AP694>0)*(AQ694>0)","v":0}]
[null,"Rendimientos de fondos de inversión, mutuos de inversión y/o de valores ",{"$nulls":3},{"v":0,"d":"$ 0"},{"$nulls":34},"Rentas de Capital",1,30,{"$f":"(AO695=Parametros[Segmento])*(AP695>0)*(AQ695>0)","v":0}]
[null,"Intereses por préstamos a particulares ",{"$nulls":3},{"v":0,"d":"$ 0"},{"$nulls":34},"Rentas de Capital",1,30,{"$f":"(AO696=Parametros[Segmento])*(AP696>0)*(AQ696>0)","v":0}]
[null,"Intereses presuntivos ",{"$f":"+DSUM(' '!C251:J253,' '!J251,' '!G275:G276)","v":{"v":0,"d":"$ 0"}},{"$f":"+DSUM(' '!C251:J253,' '!J251,' '!H275:H276)","v":{"v":0,"d":"$ 0"}},{"$f":"+DSUM(' '!C251:J253,' '!J251,' '!I275:I276)","v":{"v":0,"d":"$ 0"}},{"$f":"SUM(C697:E697)","v":{"v":0,"d":"$ 0"}},{"$nulls":34},"Rentas de Capital",1,30,{"$f":"(AO697=Parametros[Segmento])*(AP697>0)*(AQ697>0)","v":0}]
[null,"Rendimientos en fondos de pensiones voluntarias ",{"$nulls":3},{"$f":"C698+(Ingresos_Exterior=\"Sí\")*(Ingresos_CAN=\"Sí\")*D698+(Ingresos_Exterior=\"Sí\")*(Ingresos_Otros_Paises=\"Sí\")*E698","v":{"v":0,"d":"$ 0"}},{"$nulls":34},"Rentas de Capital",1,30,{"$f":"(AO698=Parametros[Segmento])*(AP698>0)*(AQ698>0)","v":0}]
[null,"Rendimientos en fondos de pensiones obligatorias ",{"$nulls":3},{"$f":"C699+(Ingresos_Exterior=\"Sí\")*(Ingresos_CAN=\"Sí\")*D699+(Ingresos_Exterior=\"Sí\")*(Ingresos_Otros_Paises=\"Sí\")*E699","v":{"v":0,"d":"$ 0"}},{"$nulls":34},"Rentas de Capital",1,30,{"$f":"(AO699=Parametros[Segmento])*(AP699>0)*(AQ699>0)","v":0}]
[null,"Rendimientos en fondos de cesantías ",{"$nulls":3},{"$f":"C700+(Ingresos_Exterior=\"Sí\")*(Ingresos_CAN=\"Sí\")*D700+(Ingresos_Exterior=\"Sí\")*(Ingresos_Otros_Paises=\"Sí\")*E700","v":{"v":0,"d":"$ 0"}},{"$nulls":34},"Rentas de Capital",1,30,{"$f":"(AO700=Parametros[Segmento])*(AP700>0)*(AQ700>0)","v":0}]
[null,"Ingresos por diferencia en cambio ",{"$nulls":3},{"$f":"C701","v":{"v":0,"d":"$ 0"}},{"$nulls":34},"Rentas de Capital",1,30,{"$f":"(AO701=Parametros[Segmento])*(AP701>0)*(AQ701>0)","v":0}]
[null,"Otras rentas de capital ",{"$nulls":3},{"$f":"C702+(Ingresos_Exterior=\"Sí\")*(Ingresos_CAN=\"Sí\")*D702+(Ingresos_Exterior=\"Sí\")*(Ingresos_Otros_Paises=\"Sí\")*E702","v":{"v":0,"d":"$ 0"}},{"$nulls":34},"Rentas de Capital",1,30,{"$f":"(AO702=Parametros[Segmento])*(AP702>0)*(AQ702>0)","v":0}]
[null,"Total ingresos brutos por intereses, rendimientos y otras rentas de capital ",{"$f":"SUM(C691:C702)","v":{"v":234699,"d":"$ 234,699"}},{"$f":"SUM(D691:D702)","v":{"v":0,"d":"$ 0"}},{"$f":"SUM(E691:E702)","v":{"v":0,"d":"$ 0"}},{"$f":"SUM(F691:F702)","v":{"v":234699,"d":"$ 234,699"}},{"$nulls":12},"Intereses, rendimientos y otras rentas de capital ",null,{"$f":"+' '!F703","v":{"v":234699,"d":"$ 234,699"}},30,"Rentas de Capital",30,{"$nulls":16},{"$f":"IF(Parametros[Segmento]=\"Informes\",\"Informes\",W703)","v":"Rentas de Capital"},{"$f":"IF(Parametros[Segmento]=\"Informes\",(U703<>0)*1,1)","v":1},{"$f":"IF(Parametros[Segmento]=\"Informes\",V703,X703)","v":30},{"$f":"(AO703=Parametros[Segmento])*(AP703>0)*(AQ703>0)","v":0}]
[null,"Total ingresos por rentas de capital recibidos en el año",{"$f":"(C679+C688+C703)","v":{"v":234699,"d":"$ 234,699"}},{"$f":"(D679+D688+D703)","v":{"v":0,"d":"$ 0"}},{"$f":"(E679+E688+E703)","v":{"v":0,"d":"$ 0"}},{"$f":"(F679+F688+F703)","v":{"v":234699,"d":"$ 234,699"}},{"$nulls":34},"Rentas de Capital",1,30,{"$f":"(AO704=Parametros[Segmento])*(AP704>0)*(AQ704>0)","v":0}]
[{"$nulls":40},"Rentas de Capital",1,30,{"$f":"(AO705=Parametros[Segmento])*(AP705>0)*(AQ705>0)","v":0}]
[null,"Rentas líquidas pasivas - ECE ",{"$nulls":38},"Rentas de Capital",1,30,{"$f":"(AO706=Parametros[Segmento])*(AP706>0)*(AQ706>0)","v":0}]
[null,"Concepto","Nacionales ","CAN","Otros del exterior ","Totales",{"$nulls":34},"Rentas de Capital",1,30,{"$f":"(AO707=Parametros[Segmento])*(AP707>0)*(AQ707>0)","v":0}]
[null,"Rentas líquidas pasivas - ECE ",{"$nulls":3},{"$f":"C708+(Ingresos_Exterior=\"Sí\")*(Ingresos_CAN=\"Sí\")*D708+(Ingresos_Exterior=\"Sí\")*(Ingresos_Otros_Paises=\"Sí\")*E708","v":{"v":0,"d":"$ 0"}},{"$nulls":12},"Rentas líquidas pasivas - ECE de capital",null,{"$f":"+' '!F708","v":{"v":0,"d":"$ 0"}},30,"Rentas de Capital",30,{"$nulls":16},{"$f":"IF(Parametros[Segmento]=\"Informes\",\"Informes\",W708)","v":"Rentas de Capital"},{"$f":"IF(Parametros[Segmento]=\"Informes\",(U708<>0)*1,1)","v":1},{"$f":"IF(Parametros[Segmento]=\"Informes\",V708,X708)","v":30},{"$f":"(AO708=Parametros[Segmento])*(AP708>0)*(AQ708>0)","v":0}]
[null,"Total rentas líquidas pasivas de capital - ECE ",null,{"$f":"D708","v":{"v":0,"d":"$ 0"}},{"$f":"E708","v":{"v":0,"d":"$ 0"}},{"$f":"F708","v":{"v":0,"d":"$ 0"}},{"$nulls":34},"Rentas de Capital",1,30,{"$f":"(AO709=Parametros[Segmento])*(AP709>0)*(AQ709>0)","v":0}]
[{"$nulls":40},"Rentas de Capital",1,30,{"$f":"(AO710=Parametros[Segmento])*(AP710>0)*(AQ710>0)","v":0}]
[null,"Ingresos no constitutivos de renta ",{"$nulls":38},"Rentas de Capital",1,30,{"$f":"(AO711=Parametros[Segmento])*(AP711>0)*(AQ711>0)","v":0}]
[null,"Concepto ","Subtotal ",null,null,"Total ",{"$nulls":34},"Rentas de Capital",1,30,{"$f":"(AO712=Parametros[Segmento])*(AP712>0)*(AQ712>0)","v":0}]
[null,"Aportes obligatorios a salud ",{"$nulls":3},{"$f":"IF(F704>0,C713,0)","v":{"v":0,"d":"$ 0"}},{"$nulls":34},"Rentas de Capital",1,30,{"$f":"(AO713=Parametros[Segmento])*(AP713>0)*(AQ713>0)","v":0}]
[null,"Aportes obligatorios a fondos de pensiones",{"$nulls":3},{"$f":"IF(F704>0,C714,0)","v":{"v":0,"d":"$ 0"}},{"$nulls":34},"Rentas de Capital",1,30,{"$f":"(AO714=Parametros[Segmento])*(AP714>0)*(AQ714>0)","v":0}]
[null,"Aportes a fondo de solidaridad pensional ",{"$nulls":3},{"$f":"IF(F704>0,C715,0)","v":{"v":0,"d":"$ 0"}},{"$nulls":34},"Rentas de Capital",1,30,{"$f":"(AO715=Parametros[Segmento])*(AP715>0)*(AQ715>0)","v":0}]
[null,"Aportes a ARL ",{"$nulls":3},{"$f":"IF(F704>0,C716,0)","v":{"v":0,"d":"$ 0"}},{"$nulls":34},"Rentas de Capital",1,30,{"$f":"(AO716=Parametros[Segmento])*(AP716>0)*(AQ716>0)","v":0}]
[null,"Aportes voluntarios a fondos de pensiones obligatorias ",{"$nulls":3},{"$f":"IF(F704>0,IF(AND(C717<=(F704*25%),C717<=(2500*' '!D112)),C717,MIN(F704*25%,2500*' '!D112)),0)","v":{"v":0,"d":"$ 0"}},{"$nulls":34},"Rentas de Capital",1,30,{"$f":"(AO717=Parametros[Segmento])*(AP717>0)*(AQ717>0)","v":0}]
[null,"Componente inflacionario de intereses obtenidos en entidades \nfinancieras ",{"$f":"+SUM(C691:C694)*' '!D115","v":{"v":234699,"d":"$ 234,699"}},null,null,{"$f":"IF(F704>0,C718,0)","v":{"v":234699,"d":"$ 234,699"}},{"$nulls":34},"Rentas de Capital",1,40,{"$f":"(AO718=Parametros[Segmento])*(AP718>0)*(AQ718>0)","v":0}]
[null,"Componente inflacionario de intereses obtenidos e fondos de inversión, \nmutuos de inversión y/o de valores",{"$f":"+C695*' '!D116","v":{"v":0,"d":"$ 0"}},null,null,{"$f":"IF(F704>0,C719,0)","v":{"v":0,"d":"$ 0"}},{"$nulls":34},"Rentas de Capital",1,40.1,{"$f":"(AO719=Parametros[Segmento])*(AP719>0)*(AQ719>0)","v":0}]
[null,null,"Total ingresos no constitutivos de renta ",null,null,{"$f":"SUM(F713:F719)","v":{"v":234699,"d":"$ 234,699"}},{"$nulls":34},"Rentas de Capital",1,30,{"$f":"(AO720=Parametros[Segmento])*(AP720>0)*(AQ720>0)","v":0}]
[{"$nulls":40},"Rentas de Capital",1,30,{"$f":"(AO721=Parametros[Segmento])*(AP721>0)*(AQ721>0)","v":0}]
[null,"Costos y gastos procedentes",{"$nulls":38},"Rentas de Capital",1,30,{"$f":"(AO722=Parametros[Segmento])*(AP722>0)*(AQ722>0)","v":0}]
[null,"Concepto ","Subtotal ",null,null,"Total ",{"$nulls":34},"Rentas de Capital",1,30,{"$f":"(AO723=Parametros[Segmento])*(AP723>0)*(AQ723>0)","v":0}]
[null,"Gastos nómina ",{"$nulls":3},{"$f":"+C724","v":{"v":0,"d":"$ 0"}},{"$nulls":34},"Rentas de Capital",1,30,{"$f":"(AO724=Parametros[Segmento])*(AP724>0)*(AQ724>0)","v":0}]
[null,"Gastos por honorarios ",{"$nulls":3},{"v":0,"d":"$ 0"},{"$nulls":34},"Rentas de Capital",1,30,{"$f":"(AO725=Parametros[Segmento])*(AP725>0)*(AQ725>0)","v":0}]
[null,"Gastos por servicios ",{"$nulls":3},{"v":0,"d":"$ 0"},{"$nulls":34},"Rentas de Capital",1,30,{"$f":"(AO726=Parametros[Segmento])*(AP726>0)*(AQ726>0)","v":0}]
[null,"Gastos por arrendamientos ",{"$nulls":3},{"v":0,"d":"$ 0"},{"$nulls":34},"Rentas de Capital",1,30,{"$f":"(AO727=Parametros[Segmento])*(AP727>0)*(AQ727>0)","v":0}]
[null,"Gastos por servicios públicos ",{"$nulls":3},{"v":0,"d":"$ 0"},{"$nulls":34},"Rentas de Capital",1,30,{"$f":"(AO728=Parametros[Segmento])*(AP728>0)*(AQ728>0)","v":0}]
[null,"Gastos por papelería ",{"$nulls":3},{"v":0,"d":"$ 0"},{"$nulls":34},"Rentas de Capital",1,30,{"$f":"(AO729=Parametros[Segmento])*(AP729>0)*(AQ729>0)","v":0}]
[null,"Gastos por publicidad ",{"$nulls":3},{"v":0,"d":"$ 0"},{"$nulls":34},"Rentas de Capital",1,30,{"$f":"(AO730=Parametros[Segmento])*(AP730>0)*(AQ730>0)","v":0}]
[null,"Gastos por seguros ",{"$nulls":3},{"v":0,"d":"$ 0"},{"$nulls":34},"Rentas de Capital",1,30,{"$f":"(AO731=Parametros[Segmento])*(AP731>0)*(AQ731>0)","v":0}]
[null,"Gastos por mantenimiento y reparaciones",{"$nulls":3},{"v":0,"d":"$ 0"},{"$nulls":34},"Rentas de Capital",1,30,{"$f":"(AO732=Parametros[Segmento])*(AP732>0)*(AQ732>0)","v":0}]
[null,"Gastos legales ",{"$nulls":3},{"v":0,"d":"$ 0"},{"$nulls":34},"Rentas de Capital",1,30,{"$f":"(AO733=Parametros[Segmento])*(AP733>0)*(AQ733>0)","v":0}]
[null,"Gastos de viaje ",{"$nulls":3},{"v":0,"d":"$ 0"},{"$nulls":34},"Rentas de Capital",1,30,{"$f":"(AO734=Parametros[Segmento])*(AP734>0)*(AQ734>0)","v":0}]
[null,"Gastos diversos ",{"$nulls":3},{"v":0,"d":"$ 0"},{"$nulls":34},"Rentas de Capital",1,30,{"$f":"(AO735=Parametros[Segmento])*(AP735>0)*(AQ735>0)","v":0}]
[null,"Impuestos pagados, diferentes al ICA y su complementario de avisos y tableros ",{"$nulls":3},{"v":0,"d":"$ 0"},{"$nulls":34},"Rentas de Capital",1,30,{"$f":"(AO736=Parametros[Segmento])*(AP736>0)*(AQ736>0)","v":0}]
[null,"Intereses y gastos financieros pagados a entidades financieras ",{"$nulls":3},{"v":0,"d":"$ 0"},{"$nulls":34},"Rentas de Capital",1,30,{"$f":"(AO737=Parametros[Segmento])*(AP737>0)*(AQ737>0)","v":0}]
[null,"Intereses y gastos financieros pagados a particulares",{"$nulls":3},{"v":0,"d":"$ 0"},{"$nulls":34},"Rentas de Capital",1,30,{"$f":"(AO738=Parametros[Segmento])*(AP738>0)*(AQ738>0)","v":0}]
[null,"Intereses y gastos financieros pagados a vinculados económicos",{"$f":"+' '!I483+' '!I486","v":{"v":0,"d":"$ 0"}},null,null,{"v":0,"d":"$ 0"},{"$nulls":34},"Rentas de Capital",1,30,{"$f":"(AO739=Parametros[Segmento])*(AP739>0)*(AQ739>0)","v":0}]
[null,"Otros gastos no mencionados anteriormente ",{"$nulls":3},{"v":0,"d":"$ 0"},{"$nulls":34},"Rentas de Capital",1,30,{"$f":"(AO740=Parametros[Segmento])*(AP740>0)*(AQ740>0)","v":0}]
[null,null,"Total costos y gastos procedentes ",null,null,{"$f":"SUM(F724:F740)","v":{"v":0,"d":"$ 0"}},{"$nulls":34},"Rentas de Capital",1,30,{"$f":"(AO741=Parametros[Segmento])*(AP741>0)*(AQ741>0)","v":0}]
[{"$nulls":40},"Rentas de Capital",1,30,{"$f":"(AO742=Parametros[Segmento])*(AP742>0)*(AQ742>0)","v":0}]
[null,"Deducciones ",{"$nulls":38},"Rentas de Capital",1,30,{"$f":"(AO743=Parametros[Segmento])*(AP743>0)*(AQ743>0)","v":0}]
[null,"Concepto ","Subtotal ",null,null,"Total ",{"$nulls":34},"Rentas de Capital",1,30,{"$f":"(AO744=Parametros[Segmento])*(AP744>0)*(AQ744>0)","v":0}]
[null,"Intereses pagados en créditos de vivienda o leasing habitacional ",{"$nulls":3},{"$f":"IF(F704>0,IF(C745>(1200*' '!D112),(1200*' '!D112),C745),0)","v":{"v":0,"d":"$ 0"}},{"$nulls":34},"Rentas de Capital",1,30,{"$f":"(AO745=Parametros[Segmento])*(AP745>0)*(AQ745>0)","v":0}]
[null,"Intereses pagados en créditos educativos con el ICETEX",{"$nulls":3},{"$f":"IF(F704>0,IF(C746>(100*' '!D112),(100*' '!D112),C746),0)","v":{"v":0,"d":"$ 0"}},{"$nulls":34},"Rentas de Capital",1,30,{"$f":"(AO746=Parametros[Segmento])*(AP746>0)*(AQ746>0)","v":0}]
[null,"Gravamen a los movimientos financieros (4x1000)",{"$nulls":3},{"$f":"IF(F704>0,(C747*50%),0)","v":{"v":0,"d":"$ 0"}},{"$nulls":34},"Rentas de Capital",1,30,{"$f":"(AO747=Parametros[Segmento])*(AP747>0)*(AQ747>0)","v":0}]
[null,"Aportes a cesantías como partícipes independientes ",{"$nulls":3},{"$f":"IF(F704>0,IF(AND(C748<=2500*' '!D112,C748<=(F704/12)),C748,MIN(2500*' '!D112,F704/12)),0)","v":{"v":0,"d":"$ 0"}},{"$nulls":34},"Rentas de Capital",1,30,{"$f":"(AO748=Parametros[Segmento])*(AP748>0)*(AQ748>0)","v":0}]
[null,null,"Total deducciones ",null,null,{"$f":"SUM(F745:F748)","v":{"v":0,"d":"$ 0"}},{"$nulls":34},"Rentas de Capital",1,30,{"$f":"(AO749=Parametros[Segmento])*(AP749>0)*(AQ749>0)","v":0}]
[{"$nulls":40},"Rentas de Capital",1,30,{"$f":"(AO750=Parametros[Segmento])*(AP750>0)*(AQ750>0)","v":0}]
[null,"Rentas exentas que NO se someten al límite ",{"$nulls":38},"Rentas de Capital",1,30,{"$f":"(AO751=Parametros[Segmento])*(AP751>0)*(AQ751>0)","v":0}]
[null,"Concepto","Subtotal ",null,null,"Total",{"$nulls":34},"Rentas de Capital",1,30,{"$f":"(AO752=Parametros[Segmento])*(AP752>0)*(AQ752>0)","v":0}]
[null,"Ingresos recibidos en países de la CAN ",{"$f":"+D679+D688+D703+D709","v":{"v":0,"d":"$ 0"}},null,null,{"$f":"IF(F704>0,C753,0)","v":{"v":0,"d":"$ 0"}},{"$nulls":34},"Rentas de Capital",1,30,{"$f":"(AO753=Parametros[Segmento])*(AP753>0)*(AQ753>0)","v":0}]
[null,null,"Total rentas exentas que NO se someten al límite ",null,null,{"$f":"SUM(F753:F753)","v":{"v":0,"d":"$ 0"}},{"$nulls":34},"Rentas de Capital",1,30,{"$f":"(AO754=Parametros[Segmento])*(AP754>0)*(AQ754>0)","v":0}]
[{"$nulls":40},"Rentas de Capital",1,30,{"$f":"(AO755=Parametros[Segmento])*(AP755>0)*(AQ755>0)","v":0}]
[null,"Rentas exentas que Sí se someten al límite",{"$nulls":38},"Rentas de Capital",1,30,{"$f":"(AO756=Parametros[Segmento])*(AP756>0)*(AQ756>0)","v":0}]
[null,"Concepto","Subtotal ",null,null,"Total",{"$nulls":34},"Rentas de Capital",1,30,{"$f":"(AO757=Parametros[Segmento])*(AP757>0)*(AQ757>0)","v":0}]
[null,"Aportes a fondos de pensiones voluntarias",{"$nulls":3},{"$f":"IF(F704>0,IF(AND(C758<=(F704*30%),C758<=(3800*' '!D112)),C758,MIN(F704*30%,(3800*' '!D112))),0)","v":{"v":0,"d":"$ 0"}},{"$nulls":34},"Rentas de Capital",1,30,{"$f":"(AO758=Parametros[Segmento])*(AP758>0)*(AQ758>0)","v":0}]
[null,"Aportes a cuentas AFC y/o cuentas AVC ",{"$nulls":3},{"$f":"IF(F704>0,IF(AND((C758+C759)<=(F704*30%),(C758+C759)<=(3800*' '!D112)),C759,MIN(F704*30%,(3800*' '!D112))-F758),0)","v":{"v":0,"d":"$ 0"}},{"$nulls":34},"Rentas de Capital",1,30,{"$f":"(AO759=Parametros[Segmento])*(AP759>0)*(AQ759>0)","v":0}]
[null,"Regalías por derechos de autor por libros de carácter científico o \ncultural, editados e impresos en Colombia ",{"$f":"+IF(C683>0,C683,0)","v":{"v":0,"d":"$ 0"}},null,null,{"$f":"IF(F704>0,C760,0)","v":{"v":0,"d":"$ 0"}},{"$nulls":34},"Rentas de Capital",1,40.1,{"$f":"(AO760=Parametros[Segmento])*(AP760>0)*(AQ760>0)","v":0}]
[null,"Regalías por derechos de autor y traducción provenientes de la \nprimera edición y primer tirada de libros, editados e impresos \nen Colombia",{"$f":"IF(C684>0,C684,0)","v":{"v":0,"d":"$ 0"}},null,null,{"$f":"+IF(F704>0,C761,0)","v":{"v":0,"d":"$ 0"}},{"$nulls":34},"Rentas de Capital",1,40.1,{"$f":"(AO761=Parametros[Segmento])*(AP761>0)*(AQ761>0)","v":0}]
[null,"Regalías por derechos de autor y traducción provenientes de las \nediciones o tiradas posteriores a la primera edición del libro",{"$f":"IF(C685>0,C685,0)","v":{"v":0,"d":"$ 0"}},null,null,{"$f":"+IF(F704>0,IF(C762<=(1200*' '!D112),C762,(1200*' '!D112)),0)","v":{"v":0,"d":"$ 0"}},{"$nulls":34},"Rentas de Capital",1,40.1,{"$f":"(AO762=Parametros[Segmento])*(AP762>0)*(AQ762>0)","v":0}]
[null,null,"Total rentas exentas que SÍ se someten al límite ",null,null,{"$f":"SUM(F758:F762)","v":{"v":0,"d":"$ 0"}},{"$nulls":34},"Rentas de Capital",1,30,{"$f":"(AO763=Parametros[Segmento])*(AP763>0)*(AQ763>0)","v":0}]
[1.67,80.33,19.56,{"$f":"IFERROR(($D$143=\"Sí\")*($D$144=\"Sí\")*19.56,0)","v":0},{"$f":"IFERROR(($D$143=\"Sí\")*($D$145=\"Sí\")*19.56,0)","v":0},19.56,5,{"$nulls":8},0,0,null,0,0,0,0,0,0,{"$nulls":16},"Rentas no laborales",0,15,{"$f":"(AO764=Parametros[Segmento])*(AP764>0)*(AQ764>0)","v":0}]
[{"$nulls":40},"Rentas no laborales",1,30,{"$f":"(AO765=Parametros[Segmento])*(AP765>0)*(AQ765>0)","v":0}]
[null,"Rentas no laborales",{"$nulls":38},"Rentas no laborales",1,30,{"$f":"(AO766=Parametros[Segmento])*(AP766>0)*(AQ766>0)","v":0}]
[null,"Ingresos ",{"$nulls":38},"Rentas no laborales",1,30,{"$f":"(AO767=Parametros[Segmento])*(AP767>0)*(AQ767>0)","v":0}]
[null,"Concepto","Nacionales ","CAN","Otros del exterior ","Totales",{"$nulls":34},"Rentas no laborales",1,30,{"$f":"(AO768=Parametros[Segmento])*(AP768>0)*(AQ768>0)","v":0}]
[null,"Compensación de servicios diferentes a rentas de trabajo ",{"$nulls":3},{"$f":"C769+(Ingresos_Exterior=\"Sí\")*(Ingresos_CAN=\"Sí\")*D769+(Ingresos_Exterior=\"Sí\")*(Ingresos_Otros_Paises=\"Sí\")*E769","v":{"v":0,"d":"$ 0"}},{"$nulls":12},"Compensación de servicios diferentes a rentas de trabajo ",null,{"$f":"+' '!F769","v":{"v":0,"d":"$ 0"}},30,"Rentas no laborales",30,{"$nulls":16},{"$f":"IF(Parametros[Segmento]=\"Informes\",\"Informes\",W769)","v":"Rentas no laborales"},{"$f":"IF(Parametros[Segmento]=\"Informes\",(U769<>0)*1,1)","v":1},{"$f":"IF(Parametros[Segmento]=\"Informes\",V769,X769)","v":30},{"$f":"(AO769=Parametros[Segmento])*(AP769>0)*(AQ769>0)","v":0}]
[null,"Ingresos por actividades comerciales ",{"$nulls":3},{"v":0,"d":"$ 0"},{"$nulls":12},"Ingresos por actividades comerciales ",null,{"$f":"+' '!F770","v":{"v":0,"d":"$ 0"}},30,"Rentas no laborales",30,{"$nulls":16},{"$f":"IF(Parametros[Segmento]=\"Informes\",\"Informes\",W770)","v":"Rentas no laborales"},{"$f":"IF(Parametros[Segmento]=\"Informes\",(U770<>0)*1,1)","v":1},{"$f":"IF(Parametros[Segmento]=\"Informes\",V770,X770)","v":30},{"$f":"(AO770=Parametros[Segmento])*(AP770>0)*(AQ770>0)","v":0}]
[null,"Ingresos por venta de mercancías ",{"$nulls":3},{"v":0,"d":"$ 0"},{"$nulls":12},"Ingresos por venta de mercancías ",null,{"$f":"+' '!F771","v":{"v":0,"d":"$ 0"}},30,"Rentas no laborales",30,{"$nulls":16},{"$f":"IF(Parametros[Segmento]=\"Informes\",\"Informes\",W771)","v":"Rentas no laborales"},{"$f":"IF(Parametros[Segmento]=\"Informes\",(U771<>0)*1,1)","v":1},{"$f":"IF(Parametros[Segmento]=\"Informes\",V771,X771)","v":30},{"$f":"(AO771=Parametros[Segmento])*(AP771>0)*(AQ771>0)","v":0}]
[null,"Ingresos por venta de bienes inmuebles poseídos por menos de dos años ",{"$nulls":3},{"v":0,"d":"$ 0"},{"$nulls":12},"Ingresos por venta de bienes inmuebles poseídos por menos de dos años ",null,{"$f":"+' '!F772","v":{"v":0,"d":"$ 0"}},30,"Rentas no laborales",30,{"$nulls":16},{"$f":"IF(Parametros[Segmento]=\"Informes\",\"Informes\",W772)","v":"Rentas no laborales"},{"$f":"IF(Parametros[Segmento]=\"Informes\",(U772<>0)*1,1)","v":1},{"$f":"IF(Parametros[Segmento]=\"Informes\",V772,X772)","v":30},{"$f":"(AO772=Parametros[Segmento])*(AP772>0)*(AQ772>0)","v":0}]
[null,"Ingresos por venta de acciones y/o inversiones poseídos por menos de dos años ",{"$nulls":3},{"v":0,"d":"$ 0"},{"$nulls":12},"Ingresos por venta de acciones y/o inversiones poseídos por menos de dos años ",null,{"$f":"+' '!F773","v":{"v":0,"d":"$ 0"}},30,"Rentas no laborales",30,{"$nulls":16},{"$f":"IF(Parametros[Segmento]=\"Informes\",\"Informes\",W773)","v":"Rentas no laborales"},{"$f":"IF(Parametros[Segmento]=\"Informes\",(U773<>0)*1,1)","v":1},{"$f":"IF(Parametros[Segmento]=\"Informes\",V773,X773)","v":30},{"$f":"(AO773=Parametros[Segmento])*(AP773>0)*(AQ773>0)","v":0}]
[null,"Ingresos por venta de otros bienes poseídos por menos de dos ",{"$nulls":3},{"v":0,"d":"$ 0"},{"$nulls":12},"Ingresos por venta de otros bienes poseídos por menos de dos ",null,{"$f":"+' '!F774","v":{"v":0,"d":"$ 0"}},30,"Rentas no laborales",30,{"$nulls":16},{"$f":"IF(Parametros[Segmento]=\"Informes\",\"Informes\",W774)","v":"Rentas no laborales"},{"$f":"IF(Parametros[Segmento]=\"Informes\",(U774<>0)*1,1)","v":1},{"$f":"IF(Parametros[Segmento]=\"Informes\",V774,X774)","v":30},{"$f":"(AO774=Parametros[Segmento])*(AP774>0)*(AQ774>0)","v":0}]
[null,"Indemnizaciones por lucro cesante ",{"$nulls":3},{"v":0,"d":"$ 0"},{"$nulls":12},"Indemnizaciones por lucro cesante ",null,{"$f":"+' '!F775","v":{"v":0,"d":"$ 0"}},30,"Rentas no laborales",30,{"$nulls":16},{"$f":"IF(Parametros[Segmento]=\"Informes\",\"Informes\",W775)","v":"Rentas no laborales"},{"$f":"IF(Parametros[Segmento]=\"Informes\",(U775<>0)*1,1)","v":1},{"$f":"IF(Parametros[Segmento]=\"Informes\",V775,X775)","v":30},{"$f":"(AO775=Parametros[Segmento])*(AP775>0)*(AQ775>0)","v":0}]
[null,"Indemnizaciones por daño emergente ",{"$nulls":3},{"v":0,"d":"$ 0"},{"$nulls":12},"Indemnizaciones por daño emergente ",null,{"$f":"+' '!F776","v":{"v":0,"d":"$ 0"}},30,"Rentas no laborales",30,{"$nulls":16},{"$f":"IF(Parametros[Segmento]=\"Informes\",\"Informes\",W776)","v":"Rentas no laborales"},{"$f":"IF(Parametros[Segmento]=\"Informes\",(U776<>0)*1,1)","v":1},{"$f":"IF(Parametros[Segmento]=\"Informes\",V776,X776)","v":30},{"$f":"(AO776=Parametros[Segmento])*(AP776>0)*(AQ776>0)","v":0}]
[null,"Indemnizaciones diferentes a las laborales ",{"$nulls":3},{"v":0,"d":"$ 0"},{"$nulls":12},"Indemnizaciones diferentes a las laborales ",null,{"$f":"+' '!F777","v":{"v":0,"d":"$ 0"}},30,"Rentas no laborales",30,{"$nulls":16},{"$f":"IF(Parametros[Segmento]=\"Informes\",\"Informes\",W777)","v":"Rentas no laborales"},{"$f":"IF(Parametros[Segmento]=\"Informes\",(U777<>0)*1,1)","v":1},{"$f":"IF(Parametros[Segmento]=\"Informes\",V777,X777)","v":30},{"$f":"(AO777=Parametros[Segmento])*(AP777>0)*(AQ777>0)","v":0}]
[null,"Ingresos por gananciales ",{"$nulls":3},{"v":0,"d":"$ 0"},{"$nulls":12},"Ingresos por gananciales ",null,{"$f":"+' '!F778","v":{"v":0,"d":"$ 0"}},30,"Rentas no laborales",30,{"$nulls":16},{"$f":"IF(Parametros[Segmento]=\"Informes\",\"Informes\",W778)","v":"Rentas no laborales"},{"$f":"IF(Parametros[Segmento]=\"Informes\",(U778<>0)*1,1)","v":1},{"$f":"IF(Parametros[Segmento]=\"Informes\",V778,X778)","v":30},{"$f":"(AO778=Parametros[Segmento])*(AP778>0)*(AQ778>0)","v":0}]
[null,"Apoyos económicos no reembolsables o condonados entregados por el Estado para financiera programas educativos ",{"$nulls":3},{"v":0,"d":"$ 0"},{"$nulls":12},"Apoyos económicos no reembolsables o condonados entregados por el Estado para financiera programas educativos ",null,{"$f":"+' '!F779","v":{"v":0,"d":"$ 0"}},30,"Rentas no laborales",30,{"$nulls":16},{"$f":"IF(Parametros[Segmento]=\"Informes\",\"Informes\",W779)","v":"Rentas no laborales"},{"$f":"IF(Parametros[Segmento]=\"Informes\",(U779<>0)*1,1)","v":1},{"$f":"IF(Parametros[Segmento]=\"Informes\",V779,X779)","v":30},{"$f":"(AO779=Parametros[Segmento])*(AP779>0)*(AQ779>0)","v":0}]
[null,"Donaciones recibidas para partidos, movimientos y/o campañas políticas ",{"$nulls":3},{"v":0,"d":"$ 0"},{"$nulls":12},"Donaciones recibidas para partidos, movimientos y/o campañas políticas ",null,{"$f":"+' '!F780","v":{"v":0,"d":"$ 0"}},30,"Rentas no laborales",30,{"$nulls":16},{"$f":"IF(Parametros[Segmento]=\"Informes\",\"Informes\",W780)","v":"Rentas no laborales"},{"$f":"IF(Parametros[Segmento]=\"Informes\",(U780<>0)*1,1)","v":1},{"$f":"IF(Parametros[Segmento]=\"Informes\",V780,X780)","v":30},{"$f":"(AO780=Parametros[Segmento])*(AP780>0)*(AQ780>0)","v":0}]
[null,"Subsidios para la producción agropecuaria ",{"$nulls":3},{"v":0,"d":"$ 0"},{"$nulls":12},"Subsidios para la producción agropecuaria ",null,{"$f":"+' '!F781","v":{"v":0,"d":"$ 0"}},30,"Rentas no laborales",30,{"$nulls":16},{"$f":"IF(Parametros[Segmento]=\"Informes\",\"Informes\",W781)","v":"Rentas no laborales"},{"$f":"IF(Parametros[Segmento]=\"Informes\",(U781<>0)*1,1)","v":1},{"$f":"IF(Parametros[Segmento]=\"Informes\",V781,X781)","v":30},{"$f":"(AO781=Parametros[Segmento])*(AP781>0)*(AQ781>0)","v":0}]
[null,"Ingresos por prestación de servicios hoteleros ",{"$nulls":3},{"v":0,"d":"$ 0"},{"$nulls":12},"Ingresos por prestación de servicios hoteleros ",null,{"$f":"+' '!F782","v":{"v":0,"d":"$ 0"}},30,"Rentas no laborales",30,{"$nulls":16},{"$f":"IF(Parametros[Segmento]=\"Informes\",\"Informes\",W782)","v":"Rentas no laborales"},{"$f":"IF(Parametros[Segmento]=\"Informes\",(U782<>0)*1,1)","v":1},{"$f":"IF(Parametros[Segmento]=\"Informes\",V782,X782)","v":30},{"$f":"(AO782=Parametros[Segmento])*(AP782>0)*(AQ782>0)","v":0}]
[null,"Utilidades generadas en liquidación de contratos de cuentas en participación ",{"$nulls":3},{"v":0,"d":"$ 0"},{"$nulls":12},"Utilidades generadas en liquidación de contratos de cuentas en participación ",null,{"$f":"+' '!F783","v":{"v":0,"d":"$ 0"}},30,"Rentas no laborales",30,{"$nulls":16},{"$f":"IF(Parametros[Segmento]=\"Informes\",\"Informes\",W783)","v":"Rentas no laborales"},{"$f":"IF(Parametros[Segmento]=\"Informes\",(U783<>0)*1,1)","v":1},{"$f":"IF(Parametros[Segmento]=\"Informes\",V783,X783)","v":30},{"$f":"(AO783=Parametros[Segmento])*(AP783>0)*(AQ783>0)","v":0}]
[null,"Retiro de aportes voluntarios a fondos de pensiones obligatorias, sin el \ncumplimiento de los requisitos ",{"$nulls":3},{"$f":"SUM(C784:E784)","v":{"v":0,"d":"$ 0"}},{"$nulls":12},"Retiro de aportes voluntarios a fondos de pensiones obligatorias, sin el cumplimiento de los requisitos ",null,{"$f":"+' '!F784","v":{"v":0,"d":"$ 0"}},30,"Rentas no laborales",40.1,{"$nulls":16},{"$f":"IF(Parametros[Segmento]=\"Informes\",\"Informes\",W784)","v":"Rentas no laborales"},{"$f":"IF(Parametros[Segmento]=\"Informes\",(U784<>0)*1,1)","v":1},{"$f":"IF(Parametros[Segmento]=\"Informes\",V784,X784)","v":40.1},{"$f":"(AO784=Parametros[Segmento])*(AP784>0)*(AQ784>0)","v":0}]
[null,"Retiro de aportes voluntarios a fondos de pensiones voluntarias, sin el \ncumplimiento de los requisitos ",{"$nulls":3},{"v":0,"d":"$ 0"},{"$nulls":12},"Retiro de aportes voluntarios a fondos de pensiones voluntarias, sin el cumplimiento de los requisitos ",null,{"$f":"+' '!F785","v":{"v":0,"d":"$ 0"}},30,"Rentas no laborales",40.1,{"$nulls":16},{"$f":"IF(Parametros[Segmento]=\"Informes\",\"Informes\",W785)","v":"Rentas no laborales"},{"$f":"IF(Parametros[Segmento]=\"Informes\",(U785<>0)*1,1)","v":1},{"$f":"IF(Parametros[Segmento]=\"Informes\",V785,X785)","v":40.1},{"$f":"(AO785=Parametros[Segmento])*(AP785>0)*(AQ785>0)","v":0}]
[null,"Retiro de aportes a cuentas AFC, sin el cumplimiento de los requisitos ",{"$nulls":3},{"v":0,"d":"$ 0"},{"$nulls":12},"Retiro de aportes a cuentas AFC, sin el cumplimiento de los requisitos ",null,{"$f":"+' '!F786","v":{"v":0,"d":"$ 0"}},30,"Rentas no laborales",30,{"$nulls":16},{"$f":"IF(Parametros[Segmento]=\"Informes\",\"Informes\",W786)","v":"Rentas no laborales"},{"$f":"IF(Parametros[Segmento]=\"Informes\",(U786<>0)*1,1)","v":1},{"$f":"IF(Parametros[Segmento]=\"Informes\",V786,X786)","v":30},{"$f":"(AO786=Parametros[Segmento])*(AP786>0)*(AQ786>0)","v":0}]
[null,"Otros ingreso no laborales no mencionados anteriormente y no incluidos en otras cédulas ",{"$nulls":3},{"$f":"C787+(Ingresos_Exterior=\"Sí\")*(Ingresos_CAN=\"Sí\")*D787+(Ingresos_Exterior=\"Sí\")*(Ingresos_Otros_Paises=\"Sí\")*E787","v":{"v":0,"d":"$ 0"}},{"$nulls":12},"Otros ingreso no laborales no mencionados anteriormente y no incluidos en otras cédulas ",null,{"$f":"+' '!F787","v":{"v":0,"d":"$ 0"}},30,"Rentas no laborales",30,{"$nulls":16},{"$f":"IF(Parametros[Segmento]=\"Informes\",\"Informes\",W787)","v":"Rentas no laborales"},{"$f":"IF(Parametros[Segmento]=\"Informes\",(U787<>0)*1,1)","v":1},{"$f":"IF(Parametros[Segmento]=\"Informes\",V787,X787)","v":30},{"$f":"(AO787=Parametros[Segmento])*(AP787>0)*(AQ787>0)","v":0}]
[null,"Total ingresos brutos no laborales",{"$f":"SUM(C769:C787)","v":{"v":0,"d":"$ 0"}},{"$f":"SUM(D769:D787)","v":{"v":0,"d":"$ 0"}},{"$f":"SUM(E769:E787)","v":{"v":0,"d":"$ 0"}},{"$f":"SUM(F769:F787)","v":{"v":0,"d":"$ 0"}},{"$nulls":34},"Rentas no laborales",1,30,{"$f":"(AO788=Parametros[Segmento])*(AP788>0)*(AQ788>0)","v":0}]
[{"$nulls":40},"Rentas no laborales",1,30,{"$f":"(AO789=Parametros[Segmento])*(AP789>0)*(AQ789>0)","v":0}]
[null,"Rentas líquidas pasivas - ECE ",{"$nulls":38},"Rentas no laborales",1,30,{"$f":"(AO790=Parametros[Segmento])*(AP790>0)*(AQ790>0)","v":0}]
[null,"Concepto","Nacionales ","CAN","Otros del exterior ","Totales",{"$nulls":34},"Rentas no laborales",1,30,{"$f":"(AO791=Parametros[Segmento])*(AP791>0)*(AQ791>0)","v":0}]
[null,"Rentas líquidas pasivas - ECE ",{"$nulls":3},{"$f":"C792+(Ingresos_Exterior=\"Sí\")*(Ingresos_CAN=\"Sí\")*D792+(Ingresos_Exterior=\"Sí\")*(Ingresos_Otros_Paises=\"Sí\")*E792","v":{"v":0,"d":"$ 0"}},{"$nulls":12},"Rentas líquidas pasivas - ECE no laborales",null,{"$f":"+' '!F792","v":{"v":0,"d":"$ 0"}},30,"Rentas no laborales",30,{"$nulls":16},{"$f":"IF(Parametros[Segmento]=\"Informes\",\"Informes\",W792)","v":"Rentas no laborales"},{"$f":"IF(Parametros[Segmento]=\"Informes\",(U792<>0)*1,1)","v":1},{"$f":"IF(Parametros[Segmento]=\"Informes\",V792,X792)","v":30},{"$f":"(AO792=Parametros[Segmento])*(AP792>0)*(AQ792>0)","v":0}]
[null,"Total rentas líquidas pasivas no laborales - ECE ",null,{"$f":"D792","v":{"v":0,"d":"$ 0"}},{"$f":"E792","v":{"v":0,"d":"$ 0"}},{"$f":"F792","v":{"v":0,"d":"$ 0"}},{"$nulls":34},"Rentas no laborales",1,30,{"$f":"(AO793=Parametros[Segmento])*(AP793>0)*(AQ793>0)","v":0}]
[{"$nulls":40},"Rentas no laborales",1,30,{"$f":"(AO794=Parametros[Segmento])*(AP794>0)*(AQ794>0)","v":0}]
[null,"Devoluciones, rebajas y descuentos ",{"$nulls":38},"Rentas no laborales",1,30,{"$f":"(AO795=Parametros[Segmento])*(AP795>0)*(AQ795>0)","v":0}]
[null,"Concepto ","Subtotal ",null,null,"Total ",{"$nulls":34},"Rentas no laborales",1,30,{"$f":"(AO796=Parametros[Segmento])*(AP796>0)*(AQ796>0)","v":0}]
[null,"Devoluciones   ",{"$nulls":3},{"$f":"+C797","v":{"v":0,"d":"$ 0"}},{"$nulls":34},"Rentas no laborales",1,30,{"$f":"(AO797=Parametros[Segmento])*(AP797>0)*(AQ797>0)","v":0}]
[null,"Rebajas ",{"$nulls":3},{"$f":"+C798","v":{"v":0,"d":"$ 0"}},{"$nulls":34},"Rentas no laborales",1,30,{"$f":"(AO798=Parametros[Segmento])*(AP798>0)*(AQ798>0)","v":0}]
[null,"Descuentos ",{"$nulls":3},{"$f":"+C799","v":{"v":0,"d":"$ 0"}},{"$nulls":34},"Rentas no laborales",1,30,{"$f":"(AO799=Parametros[Segmento])*(AP799>0)*(AQ799>0)","v":0}]
[null,null,"Total devoluciones, rebajas y descuentos ",null,null,{"$f":"+SUM(F797:F799)","v":{"v":0,"d":"$ 0"}},{"$nulls":34},"Rentas no laborales",1,30,{"$f":"(AO800=Parametros[Segmento])*(AP800>0)*(AQ800>0)","v":0}]
[{"$nulls":40},"Rentas no laborales",1,30,{"$f":"(AO801=Parametros[Segmento])*(AP801>0)*(AQ801>0)","v":0}]
[null,"Ingresos no constitutivos de renta ",{"$nulls":38},"Rentas no laborales",1,30,{"$f":"(AO802=Parametros[Segmento])*(AP802>0)*(AQ802>0)","v":0}]
[null,"Concepto ","Subtotal ",null,null,"Total ",{"$nulls":34},"Rentas no laborales",1,30,{"$f":"(AO803=Parametros[Segmento])*(AP803>0)*(AQ803>0)","v":0}]
[null,"Aportes obligatorios a salud ",{"$nulls":3},{"$f":"+IF(F788>0,C804,0)","v":{"v":0,"d":"$ 0"}},{"$nulls":34},"Rentas no laborales",1,30,{"$f":"(AO804=Parametros[Segmento])*(AP804>0)*(AQ804>0)","v":0}]
[null,"Aportes obligatorios a fondos de pensiones",{"$nulls":3},{"$f":"+IF(F788>0,C805,0)","v":{"v":0,"d":"$ 0"}},{"$nulls":34},"Rentas no laborales",1,30,{"$f":"(AO805=Parametros[Segmento])*(AP805>0)*(AQ805>0)","v":0}]
[null,"Aportes a fondo de solidaridad pensional ",{"$nulls":3},{"$f":"IF(F788>0,C806,0)","v":{"v":0,"d":"$ 0"}},{"$nulls":34},"Rentas no laborales",1,30,{"$f":"(AO806=Parametros[Segmento])*(AP806>0)*(AQ806>0)","v":0}]
[null,"Aportes a ARL ",{"$nulls":3},{"$f":"IF(F788>0,C807,0)","v":{"v":0,"d":"$ 0"}},{"$nulls":34},"Rentas no laborales",1,30,{"$f":"(AO807=Parametros[Segmento])*(AP807>0)*(AQ807>0)","v":0}]
[null,"Aportes voluntarios a fondos de pensiones obligatorias ",{"$nulls":3},{"$f":"IF(F788>0,IF(AND(C808<=(F788*25%),C808<=(2500*' '!D112)),C808,MIN(F788*25%,2500*' '!D112)),0)","v":{"v":0,"d":"$ 0"}},{"$nulls":34},"Rentas no laborales",1,30,{"$f":"(AO808=Parametros[Segmento])*(AP808>0)*(AQ808>0)","v":0}]
[null,"Indemnizaciones por daño emergente ",{"$nulls":3},{"$f":"IF(F788>0,C809,0)","v":{"v":0,"d":"$ 0"}},{"$nulls":34},"Rentas no laborales",1,30,{"$f":"(AO809=Parametros[Segmento])*(AP809>0)*(AQ809>0)","v":0}]
[null,"Gananciales",{"$nulls":3},{"$f":"IF(F788>0,C810,0)","v":{"v":0,"d":"$ 0"}},{"$nulls":34},"Rentas no laborales",1,30,{"$f":"(AO810=Parametros[Segmento])*(AP810>0)*(AQ810>0)","v":0}]
[null,"Apoyos económicos no reembolsables o condonados entregados \npor el Estado para financiera programas educativos ",{"$nulls":3},{"$f":"IF(F788>0,C811,0)","v":{"v":0,"d":"$ 0"}},{"$nulls":34},"Rentas no laborales",1,40.1,{"$f":"(AO811=Parametros[Segmento])*(AP811>0)*(AQ811>0)","v":0}]
[null,"Donaciones recibidas para partidos, movimientos y/o campañas políticas ",{"$nulls":3},{"$f":"+IF(F788>0,C812,0)","v":{"v":0,"d":"$ 0"}},{"$nulls":34},"Rentas no laborales",1,30,{"$f":"(AO812=Parametros[Segmento])*(AP812>0)*(AQ812>0)","v":0}]
[null,"Incentivos para capitalización rural",{"$nulls":3},{"$f":"+IF(F788>0,C813,0)","v":{"v":0,"d":"$ 0"}},{"$nulls":34},"Rentas no laborales",1,30,{"$f":"(AO813=Parametros[Segmento])*(AP813>0)*(AQ813>0)","v":0}]
[null,"Utilidad en venta de acciones inscritas en BVC, cuando no superen el 10% \nde las acciones en circulación de la sociedad",{"$nulls":3},{"$f":"+IF(F788>0,C814,0)","v":{"v":0,"d":"$ 0"}},{"$nulls":34},"Rentas no laborales",1,40.1,{"$f":"(AO814=Parametros[Segmento])*(AP814>0)*(AQ814>0)","v":0}]
[null,"Otros ingresos no gravados, no mencionados anteriormente ",{"$nulls":3},{"$f":"+IF(F788>0,C815,0)","v":{"v":0,"d":"$ 0"}},{"$nulls":34},"Rentas no laborales",1,30,{"$f":"(AO815=Parametros[Segmento])*(AP815>0)*(AQ815>0)","v":0}]
[null,null,"Total ingresos no constitutivos de renta ",null,null,{"$f":"+SUM(F804:F815)","v":{"v":0,"d":"$ 0"}},{"$nulls":34},"Rentas no laborales",1,30,{"$f":"(AO816=Parametros[Segmento])*(AP816>0)*(AQ816>0)","v":0}]
[{"$nulls":40},"Rentas no laborales",1,30,{"$f":"(AO817=Parametros[Segmento])*(AP817>0)*(AQ817>0)","v":0}]
[null,"Costos y gastos procedentes",{"$nulls":38},"Rentas no laborales",1,30,{"$f":"(AO818=Parametros[Segmento])*(AP818>0)*(AQ818>0)","v":0}]
[null,"Concepto ","Subtotal ",null,null,"Total ",{"$nulls":34},"Rentas no laborales",1,30,{"$f":"(AO819=Parametros[Segmento])*(AP819>0)*(AQ819>0)","v":0}]
[null,"Gastos nómina ",{"$nulls":3},{"$f":"+C820","v":{"v":0,"d":"$ 0"}},{"$nulls":34},"Rentas no laborales",1,30,{"$f":"(AO820=Parametros[Segmento])*(AP820>0)*(AQ820>0)","v":0}]
[null,"Gastos por honorarios ",{"$nulls":3},{"v":0,"d":"$ 0"},{"$nulls":34},"Rentas no laborales",1,30,{"$f":"(AO821=Parametros[Segmento])*(AP821>0)*(AQ821>0)","v":0}]
[null,"Gastos por servicios ",{"$nulls":3},{"v":0,"d":"$ 0"},{"$nulls":34},"Rentas no laborales",1,30,{"$f":"(AO822=Parametros[Segmento])*(AP822>0)*(AQ822>0)","v":0}]
[null,"Gastos por arrendamientos ",{"$nulls":3},{"v":0,"d":"$ 0"},{"$nulls":34},"Rentas no laborales",1,30,{"$f":"(AO823=Parametros[Segmento])*(AP823>0)*(AQ823>0)","v":0}]
[null,"Gastos por servicios públicos ",{"$nulls":3},{"v":0,"d":"$ 0"},{"$nulls":34},"Rentas no laborales",1,30,{"$f":"(AO824=Parametros[Segmento])*(AP824>0)*(AQ824>0)","v":0}]
[null,"Gastos por papelería ",{"$nulls":3},{"v":0,"d":"$ 0"},{"$nulls":34},"Rentas no laborales",1,30,{"$f":"(AO825=Parametros[Segmento])*(AP825>0)*(AQ825>0)","v":0}]
[null,"Gastos por publicidad ",{"$nulls":3},{"v":0,"d":"$ 0"},{"$nulls":34},"Rentas no laborales",1,30,{"$f":"(AO826=Parametros[Segmento])*(AP826>0)*(AQ826>0)","v":0}]
[null,"Gastos por seguros ",{"$nulls":3},{"v":0,"d":"$ 0"},{"$nulls":34},"Rentas no laborales",1,30,{"$f":"(AO827=Parametros[Segmento])*(AP827>0)*(AQ827>0)","v":0}]
[null,"Gastos por mantenimiento y reparaciones",{"$nulls":3},{"v":0,"d":"$ 0"},{"$nulls":34},"Rentas no laborales",1,30,{"$f":"(AO828=Parametros[Segmento])*(AP828>0)*(AQ828>0)","v":0}]
[null,"Gastos legales ",{"$nulls":3},{"v":0,"d":"$ 0"},{"$nulls":34},"Rentas no laborales",1,30,{"$f":"(AO829=Parametros[Segmento])*(AP829>0)*(AQ829>0)","v":0}]
[null,"Gastos de viaje ",{"$nulls":3},{"v":0,"d":"$ 0"},{"$nulls":34},"Rentas no laborales",1,30,{"$f":"(AO830=Parametros[Segmento])*(AP830>0)*(AQ830>0)","v":0}]
[null,"Gastos diversos ",{"$nulls":3},{"v":0,"d":"$ 0"},{"$nulls":34},"Rentas no laborales",1,30,{"$f":"(AO831=Parametros[Segmento])*(AP831>0)*(AQ831>0)","v":0}]
[null,"Impuestos pagados, diferentes al ICA y su complementario de avisos y tableros ",{"$nulls":3},{"v":0,"d":"$ 0"},{"$nulls":34},"Rentas no laborales",1,30,{"$f":"(AO832=Parametros[Segmento])*(AP832>0)*(AQ832>0)","v":0}]
[null,"Intereses y gastos financieros pagados a entidades financieras ",{"$nulls":3},{"v":0,"d":"$ 0"},{"$nulls":34},"Rentas no laborales",1,30,{"$f":"(AO833=Parametros[Segmento])*(AP833>0)*(AQ833>0)","v":0}]
[null,"Intereses y gastos financieros pagados a particulares",{"$nulls":3},{"v":0,"d":"$ 0"},{"$nulls":34},"Rentas no laborales",1,30,{"$f":"(AO834=Parametros[Segmento])*(AP834>0)*(AQ834>0)","v":0}]
[null,"Intereses y gastos financieros pagados a vinculados económicos",{"$f":"+' '!I484+' '!I487","v":{"v":0,"d":"$ 0"}},null,null,{"v":0,"d":"$ 0"},{"$nulls":34},"Rentas no laborales",1,30,{"$f":"(AO835=Parametros[Segmento])*(AP835>0)*(AQ835>0)","v":0}]
[null,"Costo venta de mercancías ",{"$nulls":3},{"v":0,"d":"$ 0"},{"$nulls":34},"Rentas no laborales",1,30,{"$f":"(AO836=Parametros[Segmento])*(AP836>0)*(AQ836>0)","v":0}]
[null,"Costo de venta de bienes inmuebles poseídos por menos de dos años ",{"$nulls":3},{"v":0,"d":"$ 0"},{"$nulls":34},"Rentas no laborales",1,30,{"$f":"(AO837=Parametros[Segmento])*(AP837>0)*(AQ837>0)","v":0}]
[null,"Costo de venta de acciones y/o inversiones poseídos por menos de dos años ",{"$nulls":3},{"v":0,"d":"$ 0"},{"$nulls":34},"Rentas no laborales",1,30,{"$f":"(AO838=Parametros[Segmento])*(AP838>0)*(AQ838>0)","v":0}]
[null,"Costo de venta de otros bienes poseídos por menos de dos años ",{"$nulls":3},{"v":0,"d":"$ 0"},{"$nulls":34},"Rentas no laborales",1,30,{"$f":"(AO839=Parametros[Segmento])*(AP839>0)*(AQ839>0)","v":0}]
[null,"Otros gastos no mencionados anteriormente ",{"$nulls":3},{"v":0,"d":"$ 0"},{"$nulls":34},"Rentas no laborales",1,30,{"$f":"(AO840=Parametros[Segmento])*(AP840>0)*(AQ840>0)","v":0}]
[null,null,"Total costos y gastos procedentes",null,null,{"$f":"SUM(F820:F840)","v":{"v":0,"d":"$ 0"}},{"$nulls":34},"Rentas no laborales",1,30,{"$f":"(AO841=Parametros[Segmento])*(AP841>0)*(AQ841>0)","v":0}]
[{"$nulls":40},"Rentas no laborales",1,30,{"$f":"(AO842=Parametros[Segmento])*(AP842>0)*(AQ842>0)","v":0}]
[null,"Deducciones ",{"$nulls":38},"Rentas no laborales",1,30,{"$f":"(AO843=Parametros[Segmento])*(AP843>0)*(AQ843>0)","v":0}]
[null,"Concepto ","Subtotal ",null,null,"Total ",{"$nulls":34},"Rentas no laborales",1,30,{"$f":"(AO844=Parametros[Segmento])*(AP844>0)*(AQ844>0)","v":0}]
[null,"Intereses pagados en créditos de vivienda o leasing habitacional ",{"$nulls":3},{"$f":"ROUND(IF(F788>0,IF(C845>(1200*' '!D112),(1200*' '!D112),C845),0),-3)","v":{"v":0,"d":"$ 0"}},{"$nulls":34},"Rentas no laborales",1,30,{"$f":"(AO845=Parametros[Segmento])*(AP845>0)*(AQ845>0)","v":0}]
[null,"Intereses pagados en créditos educativos con el ICETEX",{"$nulls":3},{"$f":"+IF(F788>0,IF(C846>(100*' '!D112),(100*' '!D112),C846),0)","v":{"v":0,"d":"$ 0"}},{"$nulls":34},"Rentas no laborales",1,30,{"$f":"(AO846=Parametros[Segmento])*(AP846>0)*(AQ846>0)","v":0}]
[null,"Gravamen a los movimientos financieros (4x1000)",{"$nulls":3},{"$f":"IF(F788>0,C847*50%,0)","v":{"v":0,"d":"$ 0"}},{"$nulls":34},"Rentas no laborales",1,30,{"$f":"(AO847=Parametros[Segmento])*(AP847>0)*(AQ847>0)","v":0}]
[null,"Aportes a cesantías como partícipes independientes ",{"$nulls":3},{"$f":"+IF(F788>0,IF(AND(C848<=(2500*' '!D112),C848<=(F788/12)),C848,MIN((2500*' '!D112),(F788/12))),0)","v":{"v":0,"d":"$ 0"}},{"$nulls":34},"Rentas no laborales",1,30,{"$f":"(AO848=Parametros[Segmento])*(AP848>0)*(AQ848>0)","v":0}]
[null,null,"Total deducciones ",null,null,{"$f":"SUM(F845:F848)","v":{"v":0,"d":"$ 0"}},{"$nulls":34},"Rentas no laborales",1,30,{"$f":"(AO849=Parametros[Segmento])*(AP849>0)*(AQ849>0)","v":0}]
[{"$nulls":40},"Rentas no laborales",1,30,{"$f":"(AO850=Parametros[Segmento])*(AP850>0)*(AQ850>0)","v":0}]
[null,"Rentas exentas que NO se someten al límite ",{"$nulls":38},"Rentas no laborales",1,30,{"$f":"(AO851=Parametros[Segmento])*(AP851>0)*(AQ851>0)","v":0}]
[null,"Concepto","Subtotal ",null,null,"Total",{"$nulls":34},"Rentas no laborales",1,30,{"$f":"(AO852=Parametros[Segmento])*(AP852>0)*(AQ852>0)","v":0}]
[null,"Servicios hoteleros prestados en hoteles que se hayan construido en al \nmenos un 61% entre el 1 de enero de 2003 y el 31 de diciembre de 2017",{"$nulls":3},{"$f":"+IF(F788>0,C853,0)","v":{"v":0,"d":"$ 0"}},{"$nulls":34},"Rentas no laborales",1,40.1,{"$f":"(AO853=Parametros[Segmento])*(AP853>0)*(AQ853>0)","v":0}]
[null,"Servicios hoteleros prestados en hoteles que se hayan remodelado y/o ampliado \nen al menos un 61% entre el 1 de enero de 2003 y el 31 de diciembre de 2017",{"$nulls":3},{"$f":"+IF(F788>0,C854,0)","v":{"v":0,"d":"$ 0"}},{"$nulls":34},"Rentas no laborales",1,40.1,{"$f":"(AO854=Parametros[Segmento])*(AP854>0)*(AQ854>0)","v":0}]
[null,"Ingresos recibidos en países de la CAN ",{"$f":"+D788+D793","v":{"v":0,"d":"$ 0"}},null,null,{"$f":"+IF(F788>0,C855,0)","v":{"v":0,"d":"$ 0"}},{"$nulls":34},"Rentas no laborales",1,30,{"$f":"(AO855=Parametros[Segmento])*(AP855>0)*(AQ855>0)","v":0}]
[null,"Total rentas exentas que NO se someten al límite ",{"$nulls":3},{"$f":"SUM(F853:F855)","v":{"v":0,"d":"$ 0"}},{"$nulls":34},"Rentas no laborales",1,30,{"$f":"(AO856=Parametros[Segmento])*(AP856>0)*(AQ856>0)","v":0}]
[{"$nulls":40},"Rentas no laborales",1,30,{"$f":"(AO857=Parametros[Segmento])*(AP857>0)*(AQ857>0)","v":0}]
[null,"Rentas exentas que Sí se someten al límite",{"$nulls":38},"Rentas no laborales",1,30,{"$f":"(AO858=Parametros[Segmento])*(AP858>0)*(AQ858>0)","v":0}]
[null,"Concepto","Subtotal ",null,null,"Total",{"$nulls":34},"Rentas no laborales",1,30,{"$f":"(AO859=Parametros[Segmento])*(AP859>0)*(AQ859>0)","v":0}]
[null,"Aportes a fondos de pensiones voluntarias",{"$nulls":3},{"$f":"+IF(F788>0,IF(AND(C860<=(F788*30%),C860<=(3800*' '!D112)),C860,MIN(F788*30%,(3800*' '!D112))),0)","v":{"v":0,"d":"$ 0"}},{"$nulls":34},"Rentas no laborales",1,30,{"$f":"(AO860=Parametros[Segmento])*(AP860>0)*(AQ860>0)","v":0}]
[null,"Aportes a cuentas AFC y/o cuentas AVC ",{"$nulls":3},{"$f":"+IF(F788>0,IF(AND((C860+C861)<=(F788*30%),(C860+C861)<=(3800*' '!D112)),C861,MIN(F788*30%,(3800*' '!D112))-F860),0)","v":{"v":0,"d":"$ 0"}},{"$nulls":34},"Rentas no laborales",1,30,{"$f":"(AO861=Parametros[Segmento])*(AP861>0)*(AQ861>0)","v":0}]
[null,"Otras rentas exentas no mencionadas anteriormente",{"$nulls":3},{"$f":"+IF(F788>0,C862,0)","v":{"v":0,"d":"$ 0"}},{"$nulls":34},"Rentas no laborales",1,30,{"$f":"(AO862=Parametros[Segmento])*(AP862>0)*(AQ862>0)","v":0}]
[null,"Total rentas exentas que SÍ se someten al límite ",{"$nulls":3},{"$f":"SUM(F860:F862)","v":{"v":0,"d":"$ 0"}},{"$nulls":34},"Rentas no laborales",1,30,{"$f":"(AO863=Parametros[Segmento])*(AP863>0)*(AQ863>0)","v":0}]
[1.67,59,19.56,19.56,19.56,19.56,19.56,5,{"$nulls":7},0,0,null,0,0,0,0,0,0,{"$nulls":16},"Resumen Cédula General",0,15,{"$f":"(AO864=Parametros[Segmento])*(AP864>0)*(AQ864>0)","v":0}]
[{"$nulls":40},"Resumen Cédula General",1,30,{"$f":"(AO865=Parametros[Segmento])*(AP865>0)*(AQ865>0)","v":0}]
[null,"Resumen Cédula General",{"$nulls":38},"Resumen Cédula General",1,30,{"$f":"(AO866=Parametros[Segmento])*(AP866>0)*(AQ866>0)","v":0}]
[null,"Conceptos",null,"Rentas de trabajo ","Rentas de trabajo - Honorarios ","Rentas de capital ","Rentas no laborales",{"$nulls":33},"Resumen Cédula General",1,50,{"$f":"(AO867=Parametros[Segmento])*(AP867>0)*(AQ867>0)","v":0}]
[null,"Ingresos brutos ",null,{"$f":"+' '!F546","v":{"v":0,"d":"$ 0"}},{"$f":"+' '!F618","v":{"v":0,"d":"$ 0"}},{"$f":"+' '!F704","v":{"v":234699,"d":"$ 234,699"}},{"$f":"+' '!F788","v":{"v":0,"d":"$ 0"}},{"$nulls":33},"Resumen Cédula General",1,30,{"$f":"(AO868=Parametros[Segmento])*(AP868>0)*(AQ868>0)","v":0}]
[null,"Devoluciones, rebajas y descuentos ",{"$nulls":4},{"$f":"+' '!F800","v":{"v":0,"d":"$ 0"}},{"$nulls":33},"Resumen Cédula General",1,30,{"$f":"(AO869=Parametros[Segmento])*(AP869>0)*(AQ869>0)","v":0}]
[null,"Ingresos no constitutivos de renta ",null,{"$f":"+' '!F559","v":{"v":0,"d":"$ 0"}},{"$f":"+' '!F628","v":{"v":0,"d":"$ 0"}},{"$f":"+' '!F720","v":{"v":234699,"d":"$ 234,699"}},{"$f":"+' '!F816","v":{"v":0,"d":"$ 0"}},{"$nulls":33},"Resumen Cédula General",1,30,{"$f":"(AO870=Parametros[Segmento])*(AP870>0)*(AQ870>0)","v":0}]
[null,"Costos y deducciones procedentes ",null,null,{"$f":"IF(AND(D868=0,E868>=0,F868=0,G868=0),' '!F649,IF(' '!F649>(E868-E870),(E868-E870),' '!F649))","v":{"v":0,"d":"$ 0"}},{"$f":"+IF(AND(D868=0,E868=0,F868>=0,G868=0),' '!F741,IF(' '!F741>(F868-F870),(F868-F870),' '!F741))","v":{"v":0,"d":"$ 0"}},{"$f":"IF(AND(D868=0,E868=0,F868=0,G868>=0),' '!F841,IF(' '!F841>(G868-G870),(G868-G870),' '!F841))","v":{"v":0,"d":"$ 0"}},{"$nulls":33},"Resumen Cédula General",1,30,{"$f":"(AO871=Parametros[Segmento])*(AP871>0)*(AQ871>0)","v":0}]
[null,"Renta líquida ",null,{"$f":"IF(D868-D870>0,D868-D870,0)","v":{"v":0,"d":"$ 0"}},{"$f":"IF((E868-E870-E871)>0,(E868-E870-E871),0)","v":{"v":0,"d":"$ 0"}},{"$f":"IF((F868-F870-F871)>0,(F868-F870-F871),0)","v":{"v":0,"d":"$ 0"}},{"$f":"IF((G868-G869-G870-G871)>0,(G868-G869-G870-G871),0)","v":{"v":0,"d":"$ 0"}},{"$nulls":33},"Resumen Cédula General",1,30,{"$f":"(AO872=Parametros[Segmento])*(AP872>0)*(AQ872>0)","v":0}]
[null,"Rentas líquidas pasivas - ECE ",{"$nulls":3},{"$f":"+' '!F708","v":{"v":0,"d":"$ 0"}},{"$f":"+' '!F792","v":{"v":0,"d":"$ 0"}},{"$nulls":33},"Resumen Cédula General",1,30,{"$f":"(AO873=Parametros[Segmento])*(AP873>0)*(AQ873>0)","v":0}]
[null,"Total rentas exentas ",null,{"$f":"IF(D872>0,' '!F582+' '!F596,0)","v":{"v":0,"d":"$ 0"}},{"$f":"IF(E872>0,' '!F665+' '!F671,0)","v":{"v":0,"d":"$ 0"}},{"$f":"IF(F872>0,' '!F754+' '!F763,0)","v":{"v":0,"d":"$ 0"}},{"$f":"IF(G872>0,' '!F856+' '!F863,0)","v":{"v":0,"d":"$ 0"}},{"$nulls":33},"Resumen Cédula General",1,30,{"$f":"(AO874=Parametros[Segmento])*(AP874>0)*(AQ874>0)","v":0}]
[null,"Total deducciones imputables ",null,{"$f":"IF(D872>0,' '!F569,0)","v":{"v":0,"d":"$ 0"}},{"$f":"IF(E872>0,' '!F659,0)","v":{"v":0,"d":"$ 0"}},{"$f":"IF(F872>0,' '!F749,0)","v":{"v":0,"d":"$ 0"}},{"$f":"IF(G872>0,' '!F849,0)","v":{"v":0,"d":"$ 0"}},{"$nulls":33},"Resumen Cédula General",1,30,{"$f":"(AO875=Parametros[Segmento])*(AP875>0)*(AQ875>0)","v":0}]
[null,"Rentas exentas y/o deducciones imputables (limitadas)",null,{"$f":"+G889","v":{"v":0,"d":"$ 0"}},{"$f":"+G890","v":{"v":0,"d":"$ 0"}},{"$f":"+G891","v":{"v":0,"d":"$ 0"}},{"$f":"+G892","v":{"v":0,"d":"$ 0"}},{"$nulls":33},"Resumen Cédula General",1,30,{"$f":"(AO876=Parametros[Segmento])*(AP876>0)*(AQ876>0)","v":0}]
[{"$nulls":40},"Resumen Cédula General",1,30,{"$f":"(AO877=Parametros[Segmento])*(AP877>0)*(AQ877>0)","v":0}]
[null,"Cálculos de rentas exentas y/o deducciones imputables limitadas ",{"$nulls":38},"Resumen Cédula General",1,30,{"$f":"(AO878=Parametros[Segmento])*(AP878>0)*(AQ878>0)","v":0}]
[null,"Conceptos","Rentas de trabajo ","Rentas de trabajo - Honorarios ","Rentas de capital ","Rentas no laborales","Totales ",{"$nulls":33},"Resumen Cédula General",1,40.1,{"$f":"(AO879=Parametros[Segmento])*(AP879>0)*(AQ879>0)","v":0}]
[null,"Ingresos brutos ",{"$f":"+D868","v":{"v":0,"d":"$ 0"}},{"$f":"+E868","v":{"v":0,"d":"$ 0"}},{"$f":"+F868","v":{"v":234699,"d":"$ 234,699"}},{"$f":"+G868","v":{"v":0,"d":"$ 0"}},{"$f":"SUM(C880:F880)","v":{"v":234699,"d":"$ 234,699"}},{"$nulls":33},"Resumen Cédula General",1,30,{"$f":"(AO880=Parametros[Segmento])*(AP880>0)*(AQ880>0)","v":0}]
[null,"Devoluciones, rebajas y descuentos ",{"$nulls":3},{"$f":"+G869","v":{"v":0,"d":"$ 0"}},{"$f":"SUM(F881)","v":{"v":0,"d":"$ 0"}},{"$nulls":33},"Resumen Cédula General",1,30,{"$f":"(AO881=Parametros[Segmento])*(AP881>0)*(AQ881>0)","v":0}]
[null,"Ingresos no constitutivos de renta ",{"$f":"+D870","v":{"v":0,"d":"$ 0"}},{"$f":"+E870","v":{"v":0,"d":"$ 0"}},{"$f":"+F870","v":{"v":234699,"d":"$ 234,699"}},{"$f":"+G870","v":{"v":0,"d":"$ 0"}},{"$f":"SUM(C882:F882)","v":{"v":234699,"d":"$ 234,699"}},{"$nulls":33},"Resumen Cédula General",1,30,{"$f":"(AO882=Parametros[Segmento])*(AP882>0)*(AQ882>0)","v":0}]
[null,"Rentas exentas que no se someten al límite general ",{"$f":"+' '!F582","v":{"v":0,"d":"$ 0"}},{"$f":"+' '!F665","v":{"v":0,"d":"$ 0"}},{"$f":"+' '!F754","v":{"v":0,"d":"$ 0"}},{"$f":"+' '!F856","v":{"v":0,"d":"$ 0"}},{"$f":"SUM(C883:F883)","v":{"v":0,"d":"$ 0"}},{"$nulls":33},"Resumen Cédula General",1,30,{"$f":"(AO883=Parametros[Segmento])*(AP883>0)*(AQ883>0)","v":0}]
[{"$nulls":5},"Subtotal 1 ",{"$f":"+G880-G881-G882-G883","v":{"v":0,"d":"$ 0"}},{"$nulls":33},"Resumen Cédula General",1,30,{"$f":"(AO884=Parametros[Segmento])*(AP884>0)*(AQ884>0)","v":0}]
[{"$nulls":5},"Limite del 40%, que no puede exceder el equivalente de 5.040 UVT",{"$f":"ROUND(IF((G884*40%)<=(5040*' '!D112),(G884*40%),(5040*' '!D112))+G883,-3)","v":{"v":0,"d":"$ 0"}},{"$nulls":33},"Resumen Cédula General",1,30,{"$f":"(AO885=Parametros[Segmento])*(AP885>0)*(AQ885>0)","v":0}]
[{"$nulls":40},"Resumen Cédula General",1,30,{"$f":"(AO886=Parametros[Segmento])*(AP886>0)*(AQ886>0)","v":0}]
[null,"Resumen del límite general",{"$nulls":38},"Resumen Cédula General",1,30,{"$f":"(AO887=Parametros[Segmento])*(AP887>0)*(AQ887>0)","v":0}]
[null,"Conceptos",{"$nulls":3},"Valor parcial","Valor total",{"$nulls":33},"Resumen Cédula General",1,30,{"$f":"(AO888=Parametros[Segmento])*(AP888>0)*(AQ888>0)","v":0}]
[null,"Deducciones y rentas exentas imputables a las rentas de trabajo",{"$nulls":3},{"$f":"+' '!F569+' '!F596+' '!F582","v":{"v":0,"d":"$ 0"}},{"$f":"+IF(AND(F889<=D872,F889<=G885),F889,MIN(G885,D872))","v":{"v":0,"d":"$ 0"}},{"$nulls":33},"Resumen Cédula General",1,30,{"$f":"(AO889=Parametros[Segmento])*(AP889>0)*(AQ889>0)","v":0}]
[null,"Deducciones y rentas exentas imputables a las rentas de trabajo - Honorarios",{"$nulls":3},{"$f":"+' '!F659+' '!F671+' '!F665","v":{"v":0,"d":"$ 0"}},{"$f":"IF(F890>0,IF(F890<=(G885-G889),IF(F890<=E872,F890,E872),(G885-G889)),0)","v":{"v":0,"d":"$ 0"}},{"$nulls":33},"Resumen Cédula General",1,30,{"$f":"(AO890=Parametros[Segmento])*(AP890>0)*(AQ890>0)","v":0}]
[null,"Deducciones y rentas exentas imputables a las rentas de capital",{"$nulls":3},{"$f":"+' '!F749+' '!F763+' '!F754","v":{"v":0,"d":"$ 0"}},{"$f":"IF(F891>0,IF(F891<=(G885-G889-G890),IF(F891<=F872,F891,F872),(G885-G889-G890)),0)","v":{"v":0,"d":"$ 0"}},{"$nulls":33},"Resumen Cédula General",1,30,{"$f":"(AO891=Parametros[Segmento])*(AP891>0)*(AQ891>0)","v":0}]
[null,"Deducciones y rentas exentas imputables a las rentas no laborales",{"$nulls":3},{"$f":"+' '!F849+' '!F863+' '!F856","v":{"v":0,"d":"$ 0"}},{"$f":"IF(F892>0,IF(F892<=(G885-G889-G890-G891),IF(F892<=G872,F892,G872),(G885-G889-G890-G891)),0)","v":{"v":0,"d":"$ 0"}},{"$nulls":33},"Resumen Cédula General",1,30,{"$f":"(AO892=Parametros[Segmento])*(AP892>0)*(AQ892>0)","v":0}]
[null,"Valor de las deducciones y rentas exentas que no podrán ser tomadas en la declaración de renta por exceder el límite ",{"$nulls":4},{"$f":"+SUM(F889:F892)-SUM(G889:G892)","v":{"v":0,"d":"$ 0"}},{"$nulls":33},"Resumen Cédula General",1,30,{"$f":"(AO893=Parametros[Segmento])*(AP893>0)*(AQ893>0)","v":0}]
[1.67,80.33,19.56,{"$f":"IFERROR(($D$143=\"Sí\")*($D$144=\"Sí\")*19.56,0)","v":0},{"$f":"IFERROR(($D$143=\"Sí\")*($D$145=\"Sí\")*19.56,0)","v":0},19.56,5,{"$nulls":8},0,0,null,0,0,0,0,0,0,{"$nulls":16},"Cédula Pensiones",0,15,{"$f":"(AO894=Parametros[Segmento])*(AP894>0)*(AQ894>0)","v":0}]
[{"$nulls":40},"Cédula Pensiones",1,30,{"$f":"(AO895=Parametros[Segmento])*(AP895>0)*(AQ895>0)","v":0}]
[null,"Pensiones",{"$nulls":38},"Cédula Pensiones",1,30,{"$f":"(AO896=Parametros[Segmento])*(AP896>0)*(AQ896>0)","v":0}]
[null,"Ingresos por pensiones",{"$nulls":38},"Cédula Pensiones",1,30,{"$f":"(AO897=Parametros[Segmento])*(AP897>0)*(AQ897>0)","v":0}]
[null,"Concepto","Nacionales ","CAN","Otros del exterior","Totales",{"$nulls":34},"Cédula Pensiones",1,30,{"$f":"(AO898=Parametros[Segmento])*(AP898>0)*(AQ898>0)","v":0}]
[null,"Pensiones de jubilación ",{"v":58500000,"d":"$ 58,500,000"},null,null,{"$f":"C899+(Ingresos_Exterior=\"Sí\")*(Ingresos_CAN=\"Sí\")*D899+(Ingresos_Exterior=\"Sí\")*(Ingresos_Otros_Paises=\"Sí\")*E899","v":{"v":58500000,"d":"$ 58,500,000"}},{"$nulls":12},{"$f":"+' '!B899","v":"Pensiones de jubilación "},null,{"$f":"+' '!F899","v":{"v":58500000,"d":"$ 58,500,000"}},30,"Cédula Pensiones",30,{"$nulls":16},{"$f":"IF(Parametros[Segmento]=\"Informes\",\"Informes\",W899)","v":"Cédula Pensiones"},{"$f":"IF(Parametros[Segmento]=\"Informes\",(U899<>0)*1,1)","v":1},{"$f":"IF(Parametros[Segmento]=\"Informes\",V899,X899)","v":30},{"$f":"(AO899=Parametros[Segmento])*(AP899>0)*(AQ899>0)","v":0}]
[null,"Pensiones de vejez ",{"$nulls":3},{"v":0,"d":"$ 0"},{"$nulls":12},{"$f":"+' '!B900","v":"Pensiones de vejez "},null,{"$f":"+' '!F900","v":{"v":0,"d":"$ 0"}},30,"Cédula Pensiones",30,{"$nulls":16},{"$f":"IF(Parametros[Segmento]=\"Informes\",\"Informes\",W900)","v":"Cédula Pensiones"},{"$f":"IF(Parametros[Segmento]=\"Informes\",(U900<>0)*1,1)","v":1},{"$f":"IF(Parametros[Segmento]=\"Informes\",V900,X900)","v":30},{"$f":"(AO900=Parametros[Segmento])*(AP900>0)*(AQ900>0)","v":0}]
[null,"Pensiones de sobrevivientes ",{"$nulls":3},{"v":0,"d":"$ 0"},{"$nulls":12},{"$f":"+' '!B901","v":"Pensiones de sobrevivientes "},null,{"$f":"+' '!F901","v":{"v":0,"d":"$ 0"}},30,"Cédula Pensiones",30,{"$nulls":16},{"$f":"IF(Parametros[Segmento]=\"Informes\",\"Informes\",W901)","v":"Cédula Pensiones"},{"$f":"IF(Parametros[Segmento]=\"Informes\",(U901<>0)*1,1)","v":1},{"$f":"IF(Parametros[Segmento]=\"Informes\",V901,X901)","v":30},{"$f":"(AO901=Parametros[Segmento])*(AP901>0)*(AQ901>0)","v":0}]
[null,"Pensiones de invalidez por riesgos laborales ",{"$nulls":3},{"v":0,"d":"$ 0"},{"$nulls":12},{"$f":"+' '!B902","v":"Pensiones de invalidez por riesgos laborales "},null,{"$f":"+' '!F902","v":{"v":0,"d":"$ 0"}},30,"Cédula Pensiones",30,{"$nulls":16},{"$f":"IF(Parametros[Segmento]=\"Informes\",\"Informes\",W902)","v":"Cédula Pensiones"},{"$f":"IF(Parametros[Segmento]=\"Informes\",(U902<>0)*1,1)","v":1},{"$f":"IF(Parametros[Segmento]=\"Informes\",V902,X902)","v":30},{"$f":"(AO902=Parametros[Segmento])*(AP902>0)*(AQ902>0)","v":0}]
[null,"Pensiones de invalidez por riesgo común ",{"$nulls":3},{"v":0,"d":"$ 0"},{"$nulls":12},{"$f":"+' '!B903","v":"Pensiones de invalidez por riesgo común "},null,{"$f":"+' '!F903","v":{"v":0,"d":"$ 0"}},30,"Cédula Pensiones",30,{"$nulls":16},{"$f":"IF(Parametros[Segmento]=\"Informes\",\"Informes\",W903)","v":"Cédula Pensiones"},{"$f":"IF(Parametros[Segmento]=\"Informes\",(U903<>0)*1,1)","v":1},{"$f":"IF(Parametros[Segmento]=\"Informes\",V903,X903)","v":30},{"$f":"(AO903=Parametros[Segmento])*(AP903>0)*(AQ903>0)","v":0}]
[null,"Indemnizaciones sustitutivas de pensiones ",{"$nulls":3},{"v":0,"d":"$ 0"},{"$nulls":12},{"$f":"+' '!B904","v":"Indemnizaciones sustitutivas de pensiones "},null,{"$f":"+' '!F904","v":{"v":0,"d":"$ 0"}},30,"Cédula Pensiones",30,{"$nulls":16},{"$f":"IF(Parametros[Segmento]=\"Informes\",\"Informes\",W904)","v":"Cédula Pensiones"},{"$f":"IF(Parametros[Segmento]=\"Informes\",(U904<>0)*1,1)","v":1},{"$f":"IF(Parametros[Segmento]=\"Informes\",V904,X904)","v":30},{"$f":"(AO904=Parametros[Segmento])*(AP904>0)*(AQ904>0)","v":0}]
[null,"Devoluciones de saldos de ahorro pensional ",{"$nulls":3},{"v":0,"d":"$ 0"},{"$nulls":12},{"$f":"+' '!B905","v":"Devoluciones de saldos de ahorro pensional "},null,{"$f":"+' '!F905","v":{"v":0,"d":"$ 0"}},30,"Cédula Pensiones",30,{"$nulls":16},{"$f":"IF(Parametros[Segmento]=\"Informes\",\"Informes\",W905)","v":"Cédula Pensiones"},{"$f":"IF(Parametros[Segmento]=\"Informes\",(U905<>0)*1,1)","v":1},{"$f":"IF(Parametros[Segmento]=\"Informes\",V905,X905)","v":30},{"$f":"(AO905=Parametros[Segmento])*(AP905>0)*(AQ905>0)","v":0}]
[null,"Total ingresos brutos por pensiones ",{"$f":"SUM(C899:C905)","v":{"v":58500000,"d":"$ 58,500,000"}},{"$f":"SUM(D899:D905)","v":{"v":0,"d":"$ 0"}},{"$f":"SUM(E899:E905)","v":{"v":0,"d":"$ 0"}},{"$f":"SUM(F899:F905)","v":{"v":58500000,"d":"$ 58,500,000"}},{"$nulls":34},"Cédula Pensiones",1,30,{"$f":"(AO906=Parametros[Segmento])*(AP906>0)*(AQ906>0)","v":0}]
[{"$nulls":40},"Cédula Pensiones",1,30,{"$f":"(AO907=Parametros[Segmento])*(AP907>0)*(AQ907>0)","v":0}]
[null,"Ingresos no constitutivos de renta ",{"$nulls":38},"Cédula Pensiones",1,30,{"$f":"(AO908=Parametros[Segmento])*(AP908>0)*(AQ908>0)","v":0}]
[null,"Concepto ","Subtotal ",null,null,"Total ",{"$nulls":34},"Cédula Pensiones",1,30,{"$f":"(AO909=Parametros[Segmento])*(AP909>0)*(AQ909>0)","v":0}]
[null,"Aportes obligatorios a salud ",{"v":2340000,"d":"$ 2,340,000"},null,null,{"$f":"C910","v":{"v":2340000,"d":"$ 2,340,000"}},{"$nulls":34},"Cédula Pensiones",1,30,{"$f":"(AO910=Parametros[Segmento])*(AP910>0)*(AQ910>0)","v":0}]
[null,"Aportes a fondo de solidaridad pensional ",{"$nulls":3},{"$f":"C911","v":{"v":0,"d":"$ 0"}},{"$nulls":34},"Cédula Pensiones",1,30,{"$f":"(AO911=Parametros[Segmento])*(AP911>0)*(AQ911>0)","v":0}]
[null,null,"Total ingresos no constitutivos de renta ",null,null,{"$f":"SUM(F910:F911)","v":{"v":2340000,"d":"$ 2,340,000"}},{"$nulls":34},"Cédula Pensiones",1,30,{"$f":"(AO912=Parametros[Segmento])*(AP912>0)*(AQ912>0)","v":0}]
[{"$nulls":40},"Cédula Pensiones",1,30,{"$f":"(AO913=Parametros[Segmento])*(AP913>0)*(AQ913>0)","v":0}]
[null,"Rentas exentas ",{"$nulls":38},"Cédula Pensiones",1,30,{"$f":"(AO914=Parametros[Segmento])*(AP914>0)*(AQ914>0)","v":0}]
[null,"Concepto","Subtotal ",null,null,"Total",{"$nulls":34},"Cédula Pensiones",1,30,{"$f":"(AO915=Parametros[Segmento])*(AP915>0)*(AQ915>0)","v":0}]
[null,"Pensiones netas obtenidas de acuerdo con la legislación colombiana ",{"$f":"+(C906-F912)","v":{"v":56160000,"d":"$ 56,160,000"}},null,null,{"$f":"IF(C916>(12000*' '!D112),(12000*' '!D112),C916)","v":{"v":56160000,"d":"$ 56,160,000"}},{"$nulls":34},"Cédula Pensiones",1,30,{"$f":"(AO916=Parametros[Segmento])*(AP916>0)*(AQ916>0)","v":0}]
[null,"Ingresos recibidos en países de la CAN ",{"$f":"+D906","v":{"v":0,"d":"$ 0"}},null,null,{"$f":"C917","v":{"v":0,"d":"$ 0"}},{"$nulls":34},"Cédula Pensiones",1,30,{"$f":"(AO917=Parametros[Segmento])*(AP917>0)*(AQ917>0)","v":0}]
[null,null,"Total rentas exentas ",null,null,{"$f":"SUM(F916:F917)","v":{"v":56160000,"d":"$ 56,160,000"}},{"$nulls":34},"Cédula Pensiones",1,30,{"$f":"(AO918=Parametros[Segmento])*(AP918>0)*(AQ918>0)","v":0}]
[3.22,105.78,19.56,19.56,5,{"$nulls":10},0,0,null,0,0,0,0,0,0,{"$nulls":16},"Cédula Dividendos",0,15,{"$f":"(AO919=Parametros[Segmento])*(AP919>0)*(AQ919>0)","v":0}]
[{"$nulls":40},"Cédula Dividendos",1,30,{"$f":"(AO920=Parametros[Segmento])*(AP920>0)*(AQ920>0)","v":0}]
[null,"Dividendos y participaciones",{"$nulls":38},"Cédula Dividendos",1,30,{"$f":"(AO921=Parametros[Segmento])*(AP921>0)*(AQ921>0)","v":0}]
[null,"Dividendos y participaciones de utilidades generadas en el 2016 y anteriores",{"$nulls":38},"Cédula Dividendos",1,30,{"$f":"(AO922=Parametros[Segmento])*(AP922>0)*(AQ922>0)","v":0}]
[null,"Concepto","Subtotales","Totales",{"$nulls":36},"Cédula Dividendos",1,30,{"$f":"(AO923=Parametros[Segmento])*(AP923>0)*(AQ923>0)","v":0}]
[null,"Dividendos y participaciones de utilidades generadas en el 2016 y anteriores, distribuidos de acuerdo con el parágrafo 2 del artículo 49 del ET",null,{"$f":"C924","v":{"v":0,"d":"$ 0"}},{"$nulls":36},"Cédula Dividendos",1,40.1,{"$f":"(AO924=Parametros[Segmento])*(AP924>0)*(AQ924>0)","v":0}]
[null,"Dividendos y participaciones de utilidades generadas en el 2016 y anteriores, distribuidos de acuerdo con el numeral 3 del artículo 49 del ET",null,{"$f":"C925","v":{"v":0,"d":"$ 0"}},{"$nulls":36},"Cédula Dividendos",1,40.1,{"$f":"(AO925=Parametros[Segmento])*(AP925>0)*(AQ925>0)","v":0}]
[null,"Capitalizaciones para los socios o accionistas ",null,{"$f":"C926","v":{"v":0,"d":"$ 0"}},{"$nulls":36},"Cédula Dividendos",1,30,{"$f":"(AO926=Parametros[Segmento])*(AP926>0)*(AQ926>0)","v":0}]
[null,"Dividendos y beneficios distribuidos o repartidos por la ECE, así como los remanentes distribuidos al momento de la liquidación de la ECE, originados en utilidades que estuvieron sometidos a tributación",null,{"$f":"C927","v":{"v":0,"d":"$ 0"}},{"$nulls":36},"Cédula Dividendos",1,40.1,{"$f":"(AO927=Parametros[Segmento])*(AP927>0)*(AQ927>0)","v":0}]
[null,null,"Total ingresos brutos por dividendos y participaciones generados en el 2016 y anteriores ",{"$f":"SUM(D924:D927)","v":{"v":0,"d":"$ 0"}},{"$nulls":14},"Dividendos y participaciones de utilidades generadas en el 2016 y anteriores",null,{"$f":"+' '!D928","v":{"v":0,"d":"$ 0"}},30,"Cédula Dividendos",30,{"$nulls":16},{"$f":"IF(Parametros[Segmento]=\"Informes\",\"Informes\",W928)","v":"Cédula Dividendos"},{"$f":"IF(Parametros[Segmento]=\"Informes\",(U928<>0)*1,1)","v":1},{"$f":"IF(Parametros[Segmento]=\"Informes\",V928,X928)","v":30},{"$f":"(AO928=Parametros[Segmento])*(AP928>0)*(AQ928>0)","v":0}]
[{"$nulls":40},"Cédula Dividendos",1,30,{"$f":"(AO929=Parametros[Segmento])*(AP929>0)*(AQ929>0)","v":0}]
[null,"Ingresos no constitutivos de renta ",{"$nulls":38},"Cédula Dividendos",1,30,{"$f":"(AO930=Parametros[Segmento])*(AP930>0)*(AQ930>0)","v":0}]
[null,"Concepto ","Subtotal ","Total ",{"$nulls":36},"Cédula Dividendos",1,30,{"$f":"(AO931=Parametros[Segmento])*(AP931>0)*(AQ931>0)","v":0}]
[null,"Dividendos y participaciones de utilidades generadas en el 2016 y anteriores, distribuidos de acuerdo con el numeral 3 del artículo 49 del ET",{"$f":"C925","v":{"v":0,"d":"$ 0"}},{"$f":"C932","v":{"v":0,"d":"$ 0"}},{"$nulls":36},"Cédula Dividendos",1,40.1,{"$f":"(AO932=Parametros[Segmento])*(AP932>0)*(AQ932>0)","v":0}]
[null,"Capitalizaciones para los socios o accionistas ",{"$f":"+C926","v":{"v":0,"d":"$ 0"}},{"$f":"C933","v":{"v":0,"d":"$ 0"}},{"$nulls":36},"Cédula Dividendos",1,30,{"$f":"(AO933=Parametros[Segmento])*(AP933>0)*(AQ933>0)","v":0}]
[null,"Dividendos y beneficios distribuidos o repartidos por la ECE, así como los remanentes distribuidos al momento de la liquidación de la ECE, originados en utilidades que estuvieron sometidos a tributación",{"$f":"+C927","v":{"v":0,"d":"$ 0"}},{"$f":"C934","v":{"v":0,"d":"$ 0"}},{"$nulls":36},"Cédula Dividendos",1,40.1,{"$f":"(AO934=Parametros[Segmento])*(AP934>0)*(AQ934>0)","v":0}]
[null,null,"Total ingresos no constitutivos de renta ",{"$f":"SUM(D932:D934)","v":{"v":0,"d":"$ 0"}},{"$nulls":36},"Cédula Dividendos",1,30,{"$f":"(AO935=Parametros[Segmento])*(AP935>0)*(AQ935>0)","v":0}]
[{"$nulls":40},"Cédula Dividendos",1,30,{"$f":"(AO936=Parametros[Segmento])*(AP936>0)*(AQ936>0)","v":0}]
[null,"Dividendos y participaciones de utilidades generadas en el 2017 y siguientes",{"$nulls":38},"Cédula Dividendos",1,30,{"$f":"(AO937=Parametros[Segmento])*(AP937>0)*(AQ937>0)","v":0}]
[null,"Concepto","Subtotal ","Totales",{"$nulls":36},"Cédula Dividendos",1,30,{"$f":"(AO938=Parametros[Segmento])*(AP938>0)*(AQ938>0)","v":0}]
[null,"Dividendos y participaciones de utilidades generadas en el 2017 y anteriores, distribuidos de acuerdo con el numeral 3 del artículo 49 del ET",null,{"$f":"+C939","v":{"v":0,"d":"$ 0"}},{"$nulls":36},"Cédula Dividendos",1,40.1,{"$f":"(AO939=Parametros[Segmento])*(AP939>0)*(AQ939>0)","v":0}]
[null,"Dividendos y participaciones de utilidades generadas en el 2017 y siguientes, distribuidos de acuerdo con el parágrafo 2 del artículo 49 del ET",null,{"$f":"C940","v":{"v":0,"d":"$ 0"}},{"$nulls":36},"Cédula Dividendos",1,40.1,{"$f":"(AO940=Parametros[Segmento])*(AP940>0)*(AQ940>0)","v":0}]
[null,null,"Total ingresos brutos por dividendos y participaciones generados en el 2017 y siguientes ",{"$f":"SUM(D939:D940)","v":{"v":0,"d":"$ 0"}},{"$nulls":14},"Dividendos y participaciones de utilidades generadas en el 2017 y siguientes",null,{"$f":"+' '!D941","v":{"v":0,"d":"$ 0"}},30,"Cédula Dividendos",30,{"$nulls":16},{"$f":"IF(Parametros[Segmento]=\"Informes\",\"Informes\",W941)","v":"Cédula Dividendos"},{"$f":"IF(Parametros[Segmento]=\"Informes\",(U941<>0)*1,1)","v":1},{"$f":"IF(Parametros[Segmento]=\"Informes\",V941,X941)","v":30},{"$f":"(AO941=Parametros[Segmento])*(AP941>0)*(AQ941>0)","v":0}]
[{"$nulls":40},"Cédula Dividendos",1,30,{"$f":"(AO942=Parametros[Segmento])*(AP942>0)*(AQ942>0)","v":0}]
[null,"Dividendos y participaciones recibidos en el exterior ",{"$nulls":38},"Cédula Dividendos",1,30,{"$f":"(AO943=Parametros[Segmento])*(AP943>0)*(AQ943>0)","v":0}]
[null,"Concepto","Subtotal ","Totales",{"$nulls":36},"Cédula Dividendos",1,30,{"$f":"(AO944=Parametros[Segmento])*(AP944>0)*(AQ944>0)","v":0}]
[null,"Dividendos y participaciones recibidos en países miembros de la CAN ",null,{"$f":"+ROUND(C945,-3)","v":{"v":0,"d":"$ 0"}},{"$nulls":36},"Cédula Dividendos",1,30,{"$f":"(AO945=Parametros[Segmento])*(AP945>0)*(AQ945>0)","v":0}]
[null,"Dividendos y participaciones recibidas NO pertenecientes a la CAN ",null,{"$f":"+ROUND(C946,-3)","v":{"v":0,"d":"$ 0"}},{"$nulls":36},"Cédula Dividendos",1,30,{"$f":"(AO946=Parametros[Segmento])*(AP946>0)*(AQ946>0)","v":0}]
[null,"Rentas líquidas pasivas dividendos - ECE ",null,{"$f":"+ROUND(C947,-3)","v":{"v":0,"d":"$ 0"}},{"$nulls":36},"Cédula Dividendos",1,30,{"$f":"(AO947=Parametros[Segmento])*(AP947>0)*(AQ947>0)","v":0}]
[null,null,"Total dividendos y participaciones recibidos en el exterior ",{"$f":"SUM(D945:D947)","v":{"v":0,"d":"$ 0"}},{"$nulls":14},"Dividendos y participaciones recibidos en el exterior ",null,{"$f":"+' '!D948","v":{"v":0,"d":"$ 0"}},30,"Cédula Dividendos",30,{"$nulls":16},{"$f":"IF(Parametros[Segmento]=\"Informes\",\"Informes\",W948)","v":"Cédula Dividendos"},{"$f":"IF(Parametros[Segmento]=\"Informes\",(U948<>0)*1,1)","v":1},{"$f":"IF(Parametros[Segmento]=\"Informes\",V948,X948)","v":30},{"$f":"(AO948=Parametros[Segmento])*(AP948>0)*(AQ948>0)","v":0}]
[{"$nulls":19},"Total ingresos ordinarios recibidos durante el 2022 ",{"$f":"SUM(' '!U505:U948)","v":{"v":58734699,"d":"$ 58,734,699"}},30,"Cédula Dividendos",30,{"$nulls":16},{"$f":"IF(Parametros[Segmento]=\"Informes\",\"Informes\",W949)","v":"Cédula Dividendos"},1,{"$f":"IF(Parametros[Segmento]=\"Informes\",V949,X949)","v":30},{"$f":"(AO949=Parametros[Segmento])*(AP949>0)*(AQ949>0)","v":0}]
[null,"Rentas exentas dividendos y participaciones recibidos en el exterior",{"$nulls":38},"Cédula Dividendos",1,30,{"$f":"(AO950=Parametros[Segmento])*(AP950>0)*(AQ950>0)","v":0}]
[null,"Concepto","Subtotal ","Totales",{"$nulls":36},"Cédula Dividendos",1,30,{"$f":"(AO951=Parametros[Segmento])*(AP951>0)*(AQ951>0)","v":0}]
[null,"Dividendos y participaciones recibidos en países miembros de la CAN ",{"$f":"+C945","v":{"v":0,"d":"$ 0"}},{"$f":"+ROUND(C952,-3)","v":{"v":0,"d":"$ 0"}},{"$nulls":36},"Cédula Dividendos",1,30,{"$f":"(AO952=Parametros[Segmento])*(AP952>0)*(AQ952>0)","v":0}]
[null,null,"Total rentas exentas dividendos y participaciones recibidos en el exterior ",{"$f":"SUM(D952:D952)","v":{"v":0,"d":"$ 0"}},{"$nulls":36},"Cédula Dividendos",1,30,{"$f":"(AO953=Parametros[Segmento])*(AP953>0)*(AQ953>0)","v":0}]
[2,109.22,19.56,19.56,19.56,5,{"$nulls":9},0,0,null,0,0,0,0,0,0,{"$nulls":16},"G. Ocasionales",0,15,{"$f":"(AO954=Parametros[Segmento])*(AP954>0)*(AQ954>0)","v":0}]
["   ",{"$nulls":39},"G. Ocasionales",1,30,{"$f":"(AO955=Parametros[Segmento])*(AP955>0)*(AQ955>0)","v":0}]
[null,"Ganancias Ocasionales",{"$nulls":38},"G. Ocasionales",1,30,{"$f":"(AO956=Parametros[Segmento])*(AP956>0)*(AQ956>0)","v":0}]
[null,"Venta de bienes poseídos por dos años o más ",{"$nulls":16},"Ingresos extraordinarios ",null,null,30,"G. Ocasionales",30,{"$nulls":16},{"$f":"IF(Parametros[Segmento]=\"Informes\",\"Informes\",W957)","v":"G. Ocasionales"},1,{"$f":"IF(Parametros[Segmento]=\"Informes\",V957,X957)","v":30},{"$f":"(AO957=Parametros[Segmento])*(AP957>0)*(AQ957>0)","v":0}]
[null,"Concepto","Subtotal ","Totales",{"$nulls":14},"Concepto",null,"Valor",30,"G. Ocasionales",30,{"$nulls":16},{"$f":"IF(Parametros[Segmento]=\"Informes\",\"Informes\",W958)","v":"G. Ocasionales"},1,{"$f":"IF(Parametros[Segmento]=\"Informes\",V958,X958)","v":30},{"$f":"(AO958=Parametros[Segmento])*(AP958>0)*(AQ958>0)","v":0}]
[null,"Venta de bienes inmuebles poseídos por dos años o más ",null,{"$f":"+C959","v":{"v":0,"d":"$ 0"}},{"$nulls":36},"G. Ocasionales",1,30,{"$f":"(AO959=Parametros[Segmento])*(AP959>0)*(AQ959>0)","v":0}]
[null,"Venta de acciones y/o inversiones poseídas por dos años o más",null,{"$f":"+C960","v":{"v":0,"d":"$ 0"}},{"$nulls":36},"G. Ocasionales",1,30,{"$f":"(AO960=Parametros[Segmento])*(AP960>0)*(AQ960>0)","v":0}]
[null,"Venta de otros bienes poseídos por dos años o más ",null,{"$f":"+C961","v":{"v":0,"d":"$ 0"}},{"$nulls":36},"G. Ocasionales",1,30,{"$f":"(AO961=Parametros[Segmento])*(AP961>0)*(AQ961>0)","v":0}]
[null,"Total de ingresos por venta de bienes poseídos por dos años o más ",null,{"$f":"SUM(D959:D961)","v":{"v":0,"d":"$ 0"}},{"$nulls":14},"Venta de bienes poseídos por dos años o más",null,{"$f":"+' '!D962","v":{"v":0,"d":"$ 0"}},30,"G. Ocasionales",30,{"$nulls":16},{"$f":"IF(Parametros[Segmento]=\"Informes\",\"Informes\",W962)","v":"G. Ocasionales"},{"$f":"IF(Parametros[Segmento]=\"Informes\",(U962<>0)*1,1)","v":1},{"$f":"IF(Parametros[Segmento]=\"Informes\",V962,X962)","v":30},{"$f":"(AO962=Parametros[Segmento])*(AP962>0)*(AQ962>0)","v":0}]
[null,"Costos por ganancias ocasionales",{"$nulls":38},"G. Ocasionales",1,30,{"$f":"(AO963=Parametros[Segmento])*(AP963>0)*(AQ963>0)","v":0}]
[null,"Concepto","Subtotal ","Totales",{"$nulls":36},"G. Ocasionales",1,30,{"$f":"(AO964=Parametros[Segmento])*(AP964>0)*(AQ964>0)","v":0}]
[null,"Costo de venta de bienes inmuebles poseídos por dos años o más ",null,{"$f":"+C965","v":{"v":0,"d":"$ 0"}},{"$nulls":36},"G. Ocasionales",1,30,{"$f":"(AO965=Parametros[Segmento])*(AP965>0)*(AQ965>0)","v":0}]
[null,"Costo de venta de acciones y/o inversiones poseídas por dos años o más",null,{"$f":"+C966","v":{"v":0,"d":"$ 0"}},{"$nulls":36},"G. Ocasionales",1,30,{"$f":"(AO966=Parametros[Segmento])*(AP966>0)*(AQ966>0)","v":0}]
[null,"Costo de venta de otros bienes poseídos por dos años o más ",null,{"$f":"+C967","v":{"v":0,"d":"$ 0"}},{"$nulls":36},"G. Ocasionales",1,30,{"$f":"(AO967=Parametros[Segmento])*(AP967>0)*(AQ967>0)","v":0}]
[null,"Total costos por ganancias ocasionales ",null,{"$f":"+SUM(D965:D967)","v":{"v":0,"d":"$ 0"}},{"$nulls":36},"G. Ocasionales",1,30,{"$f":"(AO968=Parametros[Segmento])*(AP968>0)*(AQ968>0)","v":0}]
[{"$nulls":40},"G. Ocasionales",1,30,{"$f":"(AO969=Parametros[Segmento])*(AP969>0)*(AQ969>0)","v":0}]
[null,"Herencias, legados, donaciones y/o porción conyugal ",{"$nulls":38},"G. Ocasionales",1,30,{"$f":"(AO970=Parametros[Segmento])*(AP970>0)*(AQ970>0)","v":0}]
[null,"Concepto","Subtotal ","Totales",{"$nulls":36},"G. Ocasionales",1,30,{"$f":"(AO971=Parametros[Segmento])*(AP971>0)*(AQ971>0)","v":0}]
[null,"Herencias, legados y/o porción conyugal ",null,{"$f":"SUM(C973:C978)","v":{"v":0,"d":"$ 0"}},{"$nulls":36},"G. Ocasionales",1,30,{"$f":"(AO972=Parametros[Segmento])*(AP972>0)*(AQ972>0)","v":0}]
[null,"Valor recibido por un inmueble de vivienda urbana de propiedad del causante",{"$nulls":38},"G. Ocasionales",1,30,{"$f":"(AO973=Parametros[Segmento])*(AP973>0)*(AQ973>0)","v":0}]
[null,"Valor recibo por otros bienes inmuebles urbanos del causante, diferentes al registrado en la casilla anterior",{"$nulls":38},"G. Ocasionales",1,40,{"$f":"(AO974=Parametros[Segmento])*(AP974>0)*(AQ974>0)","v":0}]
[null,"Valor recibido por un inmueble rural del causante diferente a casa, quintas o fincas de recreo ",{"$nulls":38},"G. Ocasionales",1,40,{"$f":"(AO975=Parametros[Segmento])*(AP975>0)*(AQ975>0)","v":0}]
[null,"Valor recibo por otros bienes inmuebles rurales del causante diferentes al registrado en la casilla anterior ",{"$nulls":38},"G. Ocasionales",1,40,{"$f":"(AO976=Parametros[Segmento])*(AP976>0)*(AQ976>0)","v":0}]
[null,"Libros, ropa y utensilios de uso personal y el mobiliario de la casa del causante ",{"$nulls":38},"G. Ocasionales",1,30,{"$f":"(AO977=Parametros[Segmento])*(AP977>0)*(AQ977>0)","v":0}]
[null,"Demás bienes y derechos recibidos como herencia, legado y/o porción conyugal ",{"$nulls":38},"G. Ocasionales",1,30,{"$f":"(AO978=Parametros[Segmento])*(AP978>0)*(AQ978>0)","v":0}]
[null,"Por bienes y derechos recibidos por personas diferentes de los legitimarios y/o el cónyuge supérstite por herencias y legados",null,{"$f":"+C979","v":{"v":0,"d":"$ 0"}},{"$nulls":36},"G. Ocasionales",1,40.1,{"$f":"(AO979=Parametros[Segmento])*(AP979>0)*(AQ979>0)","v":0}]
[null,"Bienes y derechos recibidos por donaciones y/o por otros actos jurídicos inter vivos celebrados a título gratuito",null,{"$f":"+C980","v":{"v":0,"d":"$ 0"}},{"$nulls":36},"G. Ocasionales",1,40,{"$f":"(AO980=Parametros[Segmento])*(AP980>0)*(AQ980>0)","v":0}]
[null,"Total de ingresos por herencias, legados, donaciones y/o porción conyugal ",null,{"$f":"+D972+D979+D980","v":{"v":0,"d":"$ 0"}},{"$nulls":14},"Herencias, legados, donaciones y/o porción conyugal ",null,{"$f":"+' '!D981","v":{"v":0,"d":"$ 0"}},30,"G. Ocasionales",30,{"$nulls":16},{"$f":"IF(Parametros[Segmento]=\"Informes\",\"Informes\",W981)","v":"G. Ocasionales"},{"$f":"IF(Parametros[Segmento]=\"Informes\",(U981<>0)*1,1)","v":1},{"$f":"IF(Parametros[Segmento]=\"Informes\",V981,X981)","v":30},{"$f":"(AO981=Parametros[Segmento])*(AP981>0)*(AQ981>0)","v":0}]
[{"$nulls":40},"G. Ocasionales",1,30,{"$f":"(AO982=Parametros[Segmento])*(AP982>0)*(AQ982>0)","v":0}]
[null,"Premios obtenidos en juegos de suerte y azar ",{"$nulls":38},"G. Ocasionales",1,30,{"$f":"(AO983=Parametros[Segmento])*(AP983>0)*(AQ983>0)","v":0}]
[null,"Concepto","Subtotal ","Totales",{"$nulls":36},"G. Ocasionales",1,30,{"$f":"(AO984=Parametros[Segmento])*(AP984>0)*(AQ984>0)","v":0}]
[null,"Loterías",null,{"$f":"+C985","v":{"v":0,"d":"$ 0"}},{"$nulls":36},"G. Ocasionales",1,30,{"$f":"(AO985=Parametros[Segmento])*(AP985>0)*(AQ985>0)","v":0}]
[null,"Rifas ",null,{"$f":"+C986","v":{"v":0,"d":"$ 0"}},{"$nulls":36},"G. Ocasionales",1,30,{"$f":"(AO986=Parametros[Segmento])*(AP986>0)*(AQ986>0)","v":0}]
[null,"Apuestas ",null,{"$f":"+C987","v":{"v":0,"d":"$ 0"}},{"$nulls":36},"G. Ocasionales",1,30,{"$f":"(AO987=Parametros[Segmento])*(AP987>0)*(AQ987>0)","v":0}]
[null,"Otros juegos de suerte y azar ",null,{"$f":"+C988","v":{"v":0,"d":"$ 0"}},{"$nulls":36},"G. Ocasionales",1,30,{"$f":"(AO988=Parametros[Segmento])*(AP988>0)*(AQ988>0)","v":0}]
[null,"Total de ingresos por premios en juegos de suerte y azar",null,{"$f":"SUM(D985:D988)","v":{"v":0,"d":"$ 0"}},{"$nulls":14},"Premios obtenidos en juegos de suerte y azar ",null,{"$f":"+' '!D989","v":{"v":0,"d":"$ 0"}},30,"G. Ocasionales",30,{"$nulls":16},{"$f":"IF(Parametros[Segmento]=\"Informes\",\"Informes\",W989)","v":"G. Ocasionales"},{"$f":"IF(Parametros[Segmento]=\"Informes\",(U989<>0)*1,1)","v":1},{"$f":"IF(Parametros[Segmento]=\"Informes\",V989,X989)","v":30},{"$f":"(AO989=Parametros[Segmento])*(AP989>0)*(AQ989>0)","v":0}]
[{"$nulls":40},"G. Ocasionales",1,30,{"$f":"(AO990=Parametros[Segmento])*(AP990>0)*(AQ990>0)","v":0}]
[null,"Otras ganancias ocasionales ",{"$nulls":38},"G. Ocasionales",1,30,{"$f":"(AO991=Parametros[Segmento])*(AP991>0)*(AQ991>0)","v":0}]
[null,"Concepto","Subtotal ","Totales",{"$nulls":36},"G. Ocasionales",1,30,{"$f":"(AO992=Parametros[Segmento])*(AP992>0)*(AQ992>0)","v":0}]
[null,"Recompensas ",null,{"$f":"+C993","v":{"v":0,"d":"$ 0"}},{"$nulls":36},"G. Ocasionales",1,30,{"$f":"(AO993=Parametros[Segmento])*(AP993>0)*(AQ993>0)","v":0}]
[null,"Indemnizaciones por seguros de vida ",null,{"$f":"+C994","v":{"v":0,"d":"$ 0"}},{"$nulls":36},"G. Ocasionales",1,30,{"$f":"(AO994=Parametros[Segmento])*(AP994>0)*(AQ994>0)","v":0}]
[null,"Premios en títulos de capitalización ",null,{"$f":"+C995","v":{"v":0,"d":"$ 0"}},{"$nulls":36},"G. Ocasionales",1,30,{"$f":"(AO995=Parametros[Segmento])*(AP995>0)*(AQ995>0)","v":0}]
[null,"Utilidad en liquidación de sociedades",null,{"$f":"+C996","v":{"v":0,"d":"$ 0"}},{"$nulls":36},"G. Ocasionales",1,30,{"$f":"(AO996=Parametros[Segmento])*(AP996>0)*(AQ996>0)","v":0}]
[null,"Otras ganancias ocasionales obtenidas en el año, no mencionadas anteriormente ",null,{"$f":"+C997","v":{"v":0,"d":"$ 0"}},{"$nulls":36},"G. Ocasionales",1,30,{"$f":"(AO997=Parametros[Segmento])*(AP997>0)*(AQ997>0)","v":0}]
[null,"Total otras ganancias ocasionales ",null,{"$f":"SUM(D993:D997)","v":{"v":0,"d":"$ 0"}},{"$nulls":14},"Otras ganancias ocasionales ",null,{"$f":"+' '!D998","v":{"v":0,"d":"$ 0"}},30,"G. Ocasionales",30,{"$nulls":16},{"$f":"IF(Parametros[Segmento]=\"Informes\",\"Informes\",W998)","v":"G. Ocasionales"},{"$f":"IF(Parametros[Segmento]=\"Informes\",(U998<>0)*1,1)","v":1},{"$f":"IF(Parametros[Segmento]=\"Informes\",V998,X998)","v":30},{"$f":"(AO998=Parametros[Segmento])*(AP998>0)*(AQ998>0)","v":0}]
[{"$nulls":19},"Total ingresos extraordinarios recibidos durante el 2022",{"$f":"SUM(' '!U962:U998)","v":{"v":0,"d":"$ 0"}},30,"Informes",30,{"$nulls":16},{"$f":"IF(Parametros[Segmento]=\"Informes\",\"Informes\",W999)","v":"Informes"},1,{"$f":"IF(Parametros[Segmento]=\"Informes\",V999,X999)","v":30},{"$f":"(AO999=Parametros[Segmento])*(AP999>0)*(AQ999>0)","v":0}]
[{"$nulls":19},"Total ingreso ordinarios y extraordinarios recibidos durante el 2022",{"$f":"+' '!U949+U999","v":{"v":58734699,"d":"$ 58,734,699"}},30,"Informes",30,{"$nulls":16},{"$f":"IF(Parametros[Segmento]=\"Informes\",\"Informes\",W1000)","v":"Informes"},1,{"$f":"IF(Parametros[Segmento]=\"Informes\",V1000,X1000)","v":30},{"$f":"(AO1000=Parametros[Segmento])*(AP1000>0)*(AQ1000>0)","v":0}]
[{"$nulls":21},30,"Informes",30,{"$nulls":16},{"$f":"IF(Parametros[Segmento]=\"Informes\",\"Informes\",W1001)","v":"Informes"},1,{"$f":"IF(Parametros[Segmento]=\"Informes\",V1001,X1001)","v":30},{"$f":"(AO1001=Parametros[Segmento])*(AP1001>0)*(AQ1001>0)","v":0}]
[{"$nulls":18},"Devoluciones, rebajas y descuentos",null,null,30,"Informes",30,{"$nulls":16},{"$f":"IF(Parametros[Segmento]=\"Informes\",\"Informes\",W1002)","v":"Informes"},1,{"$f":"IF(Parametros[Segmento]=\"Informes\",V1002,X1002)","v":30},{"$f":"(AO1002=Parametros[Segmento])*(AP1002>0)*(AQ1002>0)","v":0}]
[{"$nulls":18},"Concepto",null,"Valor",30,"Informes",30,{"$nulls":16},{"$f":"IF(Parametros[Segmento]=\"Informes\",\"Informes\",W1003)","v":"Informes"},1,{"$f":"IF(Parametros[Segmento]=\"Informes\",V1003,X1003)","v":30},{"$f":"(AO1003=Parametros[Segmento])*(AP1003>0)*(AQ1003>0)","v":0}]
[{"$nulls":18},"Devoluciones",null,{"$f":"+' '!F797","v":{"v":0,"d":"$ 0"}},30,"Informes",30,{"$nulls":16},{"$f":"IF(Parametros[Segmento]=\"Informes\",\"Informes\",W1004)","v":"Informes"},{"$f":"IF(Parametros[Segmento]=\"Informes\",(U1004<>0)*1,1)","v":1},{"$f":"IF(Parametros[Segmento]=\"Informes\",V1004,X1004)","v":30},{"$f":"(AO1004=Parametros[Segmento])*(AP1004>0)*(AQ1004>0)","v":0}]
[{"$nulls":18},"Rebajas ",null,{"$f":"+' '!F798","v":{"v":0,"d":"$ 0"}},30,"Informes",30,{"$nulls":16},{"$f":"IF(Parametros[Segmento]=\"Informes\",\"Informes\",W1005)","v":"Informes"},{"$f":"IF(Parametros[Segmento]=\"Informes\",(U1005<>0)*1,1)","v":1},{"$f":"IF(Parametros[Segmento]=\"Informes\",V1005,X1005)","v":30},{"$f":"(AO1005=Parametros[Segmento])*(AP1005>0)*(AQ1005>0)","v":0}]
[{"$nulls":18},"Descuentos ",null,{"$f":"+' '!F799","v":{"v":0,"d":"$ 0"}},30,"Informes",30,{"$nulls":16},{"$f":"IF(Parametros[Segmento]=\"Informes\",\"Informes\",W1006)","v":"Informes"},{"$f":"IF(Parametros[Segmento]=\"Informes\",(U1006<>0)*1,1)","v":1},{"$f":"IF(Parametros[Segmento]=\"Informes\",V1006,X1006)","v":30},{"$f":"(AO1006=Parametros[Segmento])*(AP1006>0)*(AQ1006>0)","v":0}]
[{"$nulls":19},"Total devoluciones rebajas y descuentos durante el 2022 ",{"$f":"SUM(U1004:U1006)","v":{"v":0,"d":"$ 0"}},30,"Informes",30,{"$nulls":16},{"$f":"IF(Parametros[Segmento]=\"Informes\",\"Informes\",W1007)","v":"Informes"},1,{"$f":"IF(Parametros[Segmento]=\"Informes\",V1007,X1007)","v":30},{"$f":"(AO1007=Parametros[Segmento])*(AP1007>0)*(AQ1007>0)","v":0}]
[{"$nulls":21},30,"Informes",30,{"$nulls":16},{"$f":"IF(Parametros[Segmento]=\"Informes\",\"Informes\",W1008)","v":"Informes"},1,{"$f":"IF(Parametros[Segmento]=\"Informes\",V1008,X1008)","v":30},{"$f":"(AO1008=Parametros[Segmento])*(AP1008>0)*(AQ1008>0)","v":0}]
[{"$nulls":18},"Ingresos no constitutivos de renta ni ganancia ocasional",null,null,30,"Informes",30,{"$nulls":16},{"$f":"IF(Parametros[Segmento]=\"Informes\",\"Informes\",W1009)","v":"Informes"},1,{"$f":"IF(Parametros[Segmento]=\"Informes\",V1009,X1009)","v":30},{"$f":"(AO1009=Parametros[Segmento])*(AP1009>0)*(AQ1009>0)","v":0}]
[{"$nulls":18},"Concepto","Valor",null,30,"Informes",30,{"$nulls":16},{"$f":"IF(Parametros[Segmento]=\"Informes\",\"Informes\",W1010)","v":"Informes"},1,{"$f":"IF(Parametros[Segmento]=\"Informes\",V1010,X1010)","v":30},{"$f":"(AO1010=Parametros[Segmento])*(AP1010>0)*(AQ1010>0)","v":0}]
[{"$nulls":18},"Aportes obligatorios a salud ",{"$f":"+' '!F550+' '!F622+' '!F713+' '!F804+F910","v":{"v":2340000,"d":"$ 2,340,000"}},null,30,"Informes",30,{"$nulls":16},{"$f":"IF(Parametros[Segmento]=\"Informes\",\"Informes\",W1011)","v":"Informes"},{"$f":"IF(Parametros[Segmento]=\"Informes\",(T1011<>0)*1,1)","v":1},{"$f":"IF(Parametros[Segmento]=\"Informes\",V1011,X1011)","v":30},{"$f":"(AO1011=Parametros[Segmento])*(AP1011>0)*(AQ1011>0)","v":0}]
[{"$nulls":18},"Aportes obligatorios a fondos de pensiones",{"$f":"+' '!F551+' '!F623+' '!F714+' '!F805","v":{"v":0,"d":"$ 0"}},null,30,"Informes",30,{"$nulls":16},{"$f":"IF(Parametros[Segmento]=\"Informes\",\"Informes\",W1012)","v":"Informes"},{"$f":"IF(Parametros[Segmento]=\"Informes\",(T1012<>0)*1,1)","v":1},{"$f":"IF(Parametros[Segmento]=\"Informes\",V1012,X1012)","v":30},{"$f":"(AO1012=Parametros[Segmento])*(AP1012>0)*(AQ1012>0)","v":0}]
[{"$nulls":18},"Aportes a fondo de solidaridad pensional ",{"$f":"+' '!F552+' '!F624+' '!F715+' '!F806+F911","v":{"v":0,"d":"$ 0"}},null,30,"Informes",30,{"$nulls":16},{"$f":"IF(Parametros[Segmento]=\"Informes\",\"Informes\",W1013)","v":"Informes"},{"$f":"IF(Parametros[Segmento]=\"Informes\",(T1013<>0)*1,1)","v":1},{"$f":"IF(Parametros[Segmento]=\"Informes\",V1013,X1013)","v":30},{"$f":"(AO1013=Parametros[Segmento])*(AP1013>0)*(AQ1013>0)","v":0}]
[{"$nulls":18},"Aportes a ARL ",{"$f":"+' '!F553+' '!F625+' '!F716+' '!F807","v":{"v":0,"d":"$ 0"}},null,30,"Informes",30,{"$nulls":16},{"$f":"IF(Parametros[Segmento]=\"Informes\",\"Informes\",W1014)","v":"Informes"},{"$f":"IF(Parametros[Segmento]=\"Informes\",(T1014<>0)*1,1)","v":1},{"$f":"IF(Parametros[Segmento]=\"Informes\",V1014,X1014)","v":30},{"$f":"(AO1014=Parametros[Segmento])*(AP1014>0)*(AQ1014>0)","v":0}]
[{"$nulls":18},"Aportes voluntarios a fondos de pensiones obligatorias ",{"$f":"+' '!F554+' '!F626+' '!F717+' '!F808","v":{"v":0,"d":"$ 0"}},null,30,"Informes",30,{"$nulls":16},{"$f":"IF(Parametros[Segmento]=\"Informes\",\"Informes\",W1015)","v":"Informes"},{"$f":"IF(Parametros[Segmento]=\"Informes\",(T1015<>0)*1,1)","v":1},{"$f":"IF(Parametros[Segmento]=\"Informes\",V1015,X1015)","v":30},{"$f":"(AO1015=Parametros[Segmento])*(AP1015>0)*(AQ1015>0)","v":0}]
[{"$nulls":18},"Apoyos económicos para financiar programas educativos no reembolsables o condonados ",{"$f":"+' '!F555+' '!F811","v":{"v":0,"d":"$ 0"}},null,30,"Informes",30,{"$nulls":16},{"$f":"IF(Parametros[Segmento]=\"Informes\",\"Informes\",W1016)","v":"Informes"},{"$f":"IF(Parametros[Segmento]=\"Informes\",(T1016<>0)*1,1)","v":1},{"$f":"IF(Parametros[Segmento]=\"Informes\",V1016,X1016)","v":30},{"$f":"(AO1016=Parametros[Segmento])*(AP1016>0)*(AQ1016>0)","v":0}]
[{"$nulls":18},"Remuneración por participación en proyectos calificados como de carácter científico, tecnológico o de innovación por el Consejo Nacional de Beneficios Tributarios en Ciencia, Tecnología e Innovación",{"$f":"+' '!F556+' '!F627","v":{"v":0,"d":"$ 0"}},null,39.6,"Informes",30,{"$nulls":16},{"$f":"IF(Parametros[Segmento]=\"Informes\",\"Informes\",W1017)","v":"Informes"},{"$f":"IF(Parametros[Segmento]=\"Informes\",(T1017<>0)*1,1)","v":1},{"$f":"IF(Parametros[Segmento]=\"Informes\",V1017,X1017)","v":30},{"$f":"(AO1017=Parametros[Segmento])*(AP1017>0)*(AQ1017>0)","v":0}]
[{"$nulls":18},"Componente inflacionario de intereses obtenidos en entidades financieras ",{"$f":"+' '!F718","v":{"v":234699,"d":"$ 234,699"}},null,30,"Informes",30,{"$nulls":16},{"$f":"IF(Parametros[Segmento]=\"Informes\",\"Informes\",W1018)","v":"Informes"},{"$f":"IF(Parametros[Segmento]=\"Informes\",(T1018<>0)*1,1)","v":1},{"$f":"IF(Parametros[Segmento]=\"Informes\",V1018,X1018)","v":30},{"$f":"(AO1018=Parametros[Segmento])*(AP1018>0)*(AQ1018>0)","v":0}]
[{"$nulls":18},"Componente inflacionario de intereses obtenidos e fondos de inversión, mutuos de inversión y/o de valores",{"$f":"+' '!F719","v":{"v":0,"d":"$ 0"}},null,30,"Informes",30,{"$nulls":16},{"$f":"IF(Parametros[Segmento]=\"Informes\",\"Informes\",W1019)","v":"Informes"},{"$f":"IF(Parametros[Segmento]=\"Informes\",(T1019<>0)*1,1)","v":1},{"$f":"IF(Parametros[Segmento]=\"Informes\",V1019,X1019)","v":30},{"$f":"(AO1019=Parametros[Segmento])*(AP1019>0)*(AQ1019>0)","v":0}]
[{"$nulls":18},"Indemnizaciones por daño emergente ",{"$f":"+' '!F809","v":{"v":0,"d":"$ 0"}},null,30,"Informes",30,{"$nulls":16},{"$f":"IF(Parametros[Segmento]=\"Informes\",\"Informes\",W1020)","v":"Informes"},{"$f":"IF(Parametros[Segmento]=\"Informes\",(T1020<>0)*1,1)","v":1},{"$f":"IF(Parametros[Segmento]=\"Informes\",V1020,X1020)","v":30},{"$f":"(AO1020=Parametros[Segmento])*(AP1020>0)*(AQ1020>0)","v":0}]
[{"$nulls":18},"Gananciales",{"$f":"+' '!F810","v":{"v":0,"d":"$ 0"}},null,30,"Informes",30,{"$nulls":16},{"$f":"IF(Parametros[Segmento]=\"Informes\",\"Informes\",W1021)","v":"Informes"},{"$f":"IF(Parametros[Segmento]=\"Informes\",(T1021<>0)*1,1)","v":1},{"$f":"IF(Parametros[Segmento]=\"Informes\",V1021,X1021)","v":30},{"$f":"(AO1021=Parametros[Segmento])*(AP1021>0)*(AQ1021>0)","v":0}]
[{"$nulls":18},"Apoyos económicos no reembolsables o condonados entregados por el Estado para financiera programas educativos ",{"$f":"+' '!F811","v":{"v":0,"d":"$ 0"}},null,39.6,"Informes",30,{"$nulls":16},{"$f":"IF(Parametros[Segmento]=\"Informes\",\"Informes\",W1022)","v":"Informes"},{"$f":"IF(Parametros[Segmento]=\"Informes\",(T1022<>0)*1,1)","v":1},{"$f":"IF(Parametros[Segmento]=\"Informes\",V1022,X1022)","v":30},{"$f":"(AO1022=Parametros[Segmento])*(AP1022>0)*(AQ1022>0)","v":0}]
[{"$nulls":18},"Donaciones recibidas para partidos, movimientos y/o campañas políticas ",{"$f":"+' '!F812","v":{"v":0,"d":"$ 0"}},null,30,"Informes",30,{"$nulls":16},{"$f":"IF(Parametros[Segmento]=\"Informes\",\"Informes\",W1023)","v":"Informes"},{"$f":"IF(Parametros[Segmento]=\"Informes\",(T1023<>0)*1,1)","v":1},{"$f":"IF(Parametros[Segmento]=\"Informes\",V1023,X1023)","v":30},{"$f":"(AO1023=Parametros[Segmento])*(AP1023>0)*(AQ1023>0)","v":0}]
[{"$nulls":18},"Subsidios para la producción agropecuaria ",{"$f":"+' '!F813","v":{"v":0,"d":"$ 0"}},null,30,"Informes",30,{"$nulls":16},{"$f":"IF(Parametros[Segmento]=\"Informes\",\"Informes\",W1024)","v":"Informes"},{"$f":"IF(Parametros[Segmento]=\"Informes\",(T1024<>0)*1,1)","v":1},{"$f":"IF(Parametros[Segmento]=\"Informes\",V1024,X1024)","v":30},{"$f":"(AO1024=Parametros[Segmento])*(AP1024>0)*(AQ1024>0)","v":0}]
[{"$nulls":18},"Utilidad en venta de acciones inscritas en BVC, cuando no superen el 10% de las acciones en circulación de la sociedad",{"$f":"+' '!F814+' '!D1128","v":{"v":0,"d":"$ 0"}},null,39.6,"Informes",30,{"$nulls":16},{"$f":"IF(Parametros[Segmento]=\"Informes\",\"Informes\",W1025)","v":"Informes"},{"$f":"IF(Parametros[Segmento]=\"Informes\",(T1025<>0)*1,1)","v":1},{"$f":"IF(Parametros[Segmento]=\"Informes\",V1025,X1025)","v":30},{"$f":"(AO1025=Parametros[Segmento])*(AP1025>0)*(AQ1025>0)","v":0}]
[{"$nulls":18},"Dividendos y participaciones de utilidades generadas en el 2016 y anteriores, distribuidos de acuerdo con el numeral 3 del artículo 49 del ET",{"$f":"D932","v":{"v":0,"d":"$ 0"}},null,40,"Informes",40,{"$nulls":16},{"$f":"IF(Parametros[Segmento]=\"Informes\",\"Informes\",W1026)","v":"Informes"},{"$f":"IF(Parametros[Segmento]=\"Informes\",(T1026<>0)*1,1)","v":1},{"$f":"IF(Parametros[Segmento]=\"Informes\",V1026,X1026)","v":40},{"$f":"(AO1026=Parametros[Segmento])*(AP1026>0)*(AQ1026>0)","v":0}]
[{"$nulls":18},"Capitalizaciones para los socios o accionistas ",{"$f":"D933","v":{"v":0,"d":"$ 0"}},null,30,"Informes",30,{"$nulls":16},{"$f":"IF(Parametros[Segmento]=\"Informes\",\"Informes\",W1027)","v":"Informes"},{"$f":"IF(Parametros[Segmento]=\"Informes\",(T1027<>0)*1,1)","v":1},{"$f":"IF(Parametros[Segmento]=\"Informes\",V1027,X1027)","v":30},{"$f":"(AO1027=Parametros[Segmento])*(AP1027>0)*(AQ1027>0)","v":0}]
[{"$nulls":18},"Dividendos y beneficios distribuidos o repartidos por la ECE, así como los remanentes distribuidos al momento de la liquidación de la ECE, originados en utilidades que estuvieron sometidos a tributación",{"v":0,"d":"$ 0"},null,50,"Informes",50,{"$nulls":16},{"$f":"IF(Parametros[Segmento]=\"Informes\",\"Informes\",W1028)","v":"Informes"},{"$f":"IF(Parametros[Segmento]=\"Informes\",(T1028<>0)*1,1)","v":1},{"$f":"IF(Parametros[Segmento]=\"Informes\",V1028,X1028)","v":50},{"$f":"(AO1028=Parametros[Segmento])*(AP1028>0)*(AQ1028>0)","v":0}]
[{"$nulls":18},"Recompensas ",{"$f":"+' '!D1127","v":{"v":0,"d":"$ 0"}},null,30,"Informes",30,{"$nulls":16},{"$f":"IF(Parametros[Segmento]=\"Informes\",\"Informes\",W1029)","v":"Informes"},{"$f":"IF(Parametros[Segmento]=\"Informes\",(T1029<>0)*1,1)","v":1},{"$f":"IF(Parametros[Segmento]=\"Informes\",V1029,X1029)","v":30},{"$f":"(AO1029=Parametros[Segmento])*(AP1029>0)*(AQ1029>0)","v":0}]
[{"$nulls":18},"Utilidad en venta de casa o apartamento de habitación adquirido con anterioridad al 1 de enero de 1987",{"$f":"+' '!D1129","v":{"v":0,"d":"$ 0"}},null,30,"Informes",30,{"$nulls":16},{"$f":"IF(Parametros[Segmento]=\"Informes\",\"Informes\",W1030)","v":"Informes"},{"$f":"IF(Parametros[Segmento]=\"Informes\",(T1030<>0)*1,1)","v":1},{"$f":"IF(Parametros[Segmento]=\"Informes\",V1030,X1030)","v":30},{"$f":"(AO1030=Parametros[Segmento])*(AP1030>0)*(AQ1030>0)","v":0}]
[{"$nulls":18},"Otros ingresos no gravados",{"$f":"+' '!F815+' '!D1130","v":{"v":0,"d":"$ 0"}},null,30,"Informes",30,{"$nulls":16},{"$f":"IF(Parametros[Segmento]=\"Informes\",\"Informes\",W1031)","v":"Informes"},{"$f":"IF(Parametros[Segmento]=\"Informes\",(T1031<>0)*1,1)","v":1},{"$f":"IF(Parametros[Segmento]=\"Informes\",V1031,X1031)","v":30},{"$f":"(AO1031=Parametros[Segmento])*(AP1031>0)*(AQ1031>0)","v":0}]
[{"$nulls":18},"Total ingresos no constitutivos de renta ni ganancia ocasional 2022 ",{"$f":"SUM(T1011:T1031)","v":{"v":2574699,"d":"$ 2,574,699"}},null,30,"Informes",30,{"$nulls":16},{"$f":"IF(Parametros[Segmento]=\"Informes\",\"Informes\",W1032)","v":"Informes"},1,{"$f":"IF(Parametros[Segmento]=\"Informes\",V1032,X1032)","v":30},{"$f":"(AO1032=Parametros[Segmento])*(AP1032>0)*(AQ1032>0)","v":0}]
[{"$nulls":21},30,"Informes",30,{"$nulls":16},{"$f":"IF(Parametros[Segmento]=\"Informes\",\"Informes\",W1033)","v":"Informes"},1,{"$f":"IF(Parametros[Segmento]=\"Informes\",V1033,X1033)","v":30},{"$f":"(AO1033=Parametros[Segmento])*(AP1033>0)*(AQ1033>0)","v":0}]
[{"$nulls":18},"Costos y gastos procedentes",null,null,30,"Informes",30,{"$nulls":16},{"$f":"IF(Parametros[Segmento]=\"Informes\",\"Informes\",W1034)","v":"Informes"},1,{"$f":"IF(Parametros[Segmento]=\"Informes\",V1034,X1034)","v":30},{"$f":"(AO1034=Parametros[Segmento])*(AP1034>0)*(AQ1034>0)","v":0}]
[{"$nulls":18},"Concepto","Valor",null,30,"Informes",30,{"$nulls":16},{"$f":"IF(Parametros[Segmento]=\"Informes\",\"Informes\",W1035)","v":"Informes"},1,{"$f":"IF(Parametros[Segmento]=\"Informes\",V1035,X1035)","v":30},{"$f":"(AO1035=Parametros[Segmento])*(AP1035>0)*(AQ1035>0)","v":0}]
[{"$nulls":18},"Gastos nómina ",{"$f":"+' '!F632+' '!F724+' '!F820","v":{"v":0,"d":"$ 0"}},null,30,"Informes",30,{"$nulls":16},{"$f":"IF(Parametros[Segmento]=\"Informes\",\"Informes\",W1036)","v":"Informes"},{"$f":"IF(Parametros[Segmento]=\"Informes\",(T1036<>0)*1,1)","v":1},{"$f":"IF(Parametros[Segmento]=\"Informes\",V1036,X1036)","v":30},{"$f":"(AO1036=Parametros[Segmento])*(AP1036>0)*(AQ1036>0)","v":0}]
[{"$nulls":18},"Gastos por honorarios ",{"$f":"+' '!F633+' '!F725+' '!F821","v":{"v":0,"d":"$ 0"}},null,30,"Informes",30,{"$nulls":16},{"$f":"IF(Parametros[Segmento]=\"Informes\",\"Informes\",W1037)","v":"Informes"},{"$f":"IF(Parametros[Segmento]=\"Informes\",(T1037<>0)*1,1)","v":1},{"$f":"IF(Parametros[Segmento]=\"Informes\",V1037,X1037)","v":30},{"$f":"(AO1037=Parametros[Segmento])*(AP1037>0)*(AQ1037>0)","v":0}]
[{"$nulls":18},"Gastos por servicios ",{"$f":"+' '!F634+' '!F726+' '!F822","v":{"v":0,"d":"$ 0"}},null,30,"Informes",30,{"$nulls":16},{"$f":"IF(Parametros[Segmento]=\"Informes\",\"Informes\",W1038)","v":"Informes"},{"$f":"IF(Parametros[Segmento]=\"Informes\",(T1038<>0)*1,1)","v":1},{"$f":"IF(Parametros[Segmento]=\"Informes\",V1038,X1038)","v":30},{"$f":"(AO1038=Parametros[Segmento])*(AP1038>0)*(AQ1038>0)","v":0}]
[{"$nulls":18},"Gastos por arrendamientos ",{"$f":"+' '!F635+' '!F727+' '!F823","v":{"v":0,"d":"$ 0"}},null,30,"Informes",30,{"$nulls":16},{"$f":"IF(Parametros[Segmento]=\"Informes\",\"Informes\",W1039)","v":"Informes"},{"$f":"IF(Parametros[Segmento]=\"Informes\",(T1039<>0)*1,1)","v":1},{"$f":"IF(Parametros[Segmento]=\"Informes\",V1039,X1039)","v":30},{"$f":"(AO1039=Parametros[Segmento])*(AP1039>0)*(AQ1039>0)","v":0}]
[{"$nulls":18},"Gastos por servicios públicos ",{"$f":"+' '!F636+' '!F728+' '!F824","v":{"v":0,"d":"$ 0"}},null,30,"Informes",30,{"$nulls":16},{"$f":"IF(Parametros[Segmento]=\"Informes\",\"Informes\",W1040)","v":"Informes"},{"$f":"IF(Parametros[Segmento]=\"Informes\",(T1040<>0)*1,1)","v":1},{"$f":"IF(Parametros[Segmento]=\"Informes\",V1040,X1040)","v":30},{"$f":"(AO1040=Parametros[Segmento])*(AP1040>0)*(AQ1040>0)","v":0}]
[{"$nulls":18},"Gastos por papelería ",{"$f":"+' '!F637+' '!F729+' '!F825","v":{"v":0,"d":"$ 0"}},null,30,"Informes",30,{"$nulls":16},{"$f":"IF(Parametros[Segmento]=\"Informes\",\"Informes\",W1041)","v":"Informes"},{"$f":"IF(Parametros[Segmento]=\"Informes\",(T1041<>0)*1,1)","v":1},{"$f":"IF(Parametros[Segmento]=\"Informes\",V1041,X1041)","v":30},{"$f":"(AO1041=Parametros[Segmento])*(AP1041>0)*(AQ1041>0)","v":0}]
[{"$nulls":18},"Gastos por publicidad ",{"$f":"+' '!F638+' '!F730+' '!F826","v":{"v":0,"d":"$ 0"}},null,30,"Informes",30,{"$nulls":16},{"$f":"IF(Parametros[Segmento]=\"Informes\",\"Informes\",W1042)","v":"Informes"},{"$f":"IF(Parametros[Segmento]=\"Informes\",(T1042<>0)*1,1)","v":1},{"$f":"IF(Parametros[Segmento]=\"Informes\",V1042,X1042)","v":30},{"$f":"(AO1042=Parametros[Segmento])*(AP1042>0)*(AQ1042>0)","v":0}]
[{"$nulls":18},"Gastos por seguros ",{"$f":"+' '!F639+' '!F731+' '!F827","v":{"v":0,"d":"$ 0"}},null,30,"Informes",30,{"$nulls":16},{"$f":"IF(Parametros[Segmento]=\"Informes\",\"Informes\",W1043)","v":"Informes"},{"$f":"IF(Parametros[Segmento]=\"Informes\",(T1043<>0)*1,1)","v":1},{"$f":"IF(Parametros[Segmento]=\"Informes\",V1043,X1043)","v":30},{"$f":"(AO1043=Parametros[Segmento])*(AP1043>0)*(AQ1043>0)","v":0}]
[{"$nulls":18},"Gastos por mantenimiento y reparaciones",{"$f":"+' '!F640+' '!F732+' '!F828","v":{"v":0,"d":"$ 0"}},null,30,"Informes",30,{"$nulls":16},{"$f":"IF(Parametros[Segmento]=\"Informes\",\"Informes\",W1044)","v":"Informes"},{"$f":"IF(Parametros[Segmento]=\"Informes\",(T1044<>0)*1,1)","v":1},{"$f":"IF(Parametros[Segmento]=\"Informes\",V1044,X1044)","v":30},{"$f":"(AO1044=Parametros[Segmento])*(AP1044>0)*(AQ1044>0)","v":0}]
[{"$nulls":18},"Gastos legales ",{"$f":"+' '!F641+' '!F733+' '!F829","v":{"v":0,"d":"$ 0"}},null,30,"Informes",30,{"$nulls":16},{"$f":"IF(Parametros[Segmento]=\"Informes\",\"Informes\",W1045)","v":"Informes"},{"$f":"IF(Parametros[Segmento]=\"Informes\",(T1045<>0)*1,1)","v":1},{"$f":"IF(Parametros[Segmento]=\"Informes\",V1045,X1045)","v":30},{"$f":"(AO1045=Parametros[Segmento])*(AP1045>0)*(AQ1045>0)","v":0}]
[{"$nulls":18},"Gastos de viaje ",{"$f":"+' '!F642+' '!F734+' '!F830","v":{"v":0,"d":"$ 0"}},null,30,"Informes",30,{"$nulls":16},{"$f":"IF(Parametros[Segmento]=\"Informes\",\"Informes\",W1046)","v":"Informes"},{"$f":"IF(Parametros[Segmento]=\"Informes\",(T1046<>0)*1,1)","v":1},{"$f":"IF(Parametros[Segmento]=\"Informes\",V1046,X1046)","v":30},{"$f":"(AO1046=Parametros[Segmento])*(AP1046>0)*(AQ1046>0)","v":0}]
[{"$nulls":18},"Gastos diversos ",{"$f":"+' '!F643+' '!F735+' '!F831","v":{"v":0,"d":"$ 0"}},null,30,"Informes",30,{"$nulls":16},{"$f":"IF(Parametros[Segmento]=\"Informes\",\"Informes\",W1047)","v":"Informes"},{"$f":"IF(Parametros[Segmento]=\"Informes\",(T1047<>0)*1,1)","v":1},{"$f":"IF(Parametros[Segmento]=\"Informes\",V1047,X1047)","v":30},{"$f":"(AO1047=Parametros[Segmento])*(AP1047>0)*(AQ1047>0)","v":0}]
[{"$nulls":18},"Impuestos pagados, diferentes al ICA y su complementario de avisos y tableros ",{"$f":"+' '!F644+' '!F736+' '!F832","v":{"v":0,"d":"$ 0"}},null,30,"Informes",30,{"$nulls":16},{"$f":"IF(Parametros[Segmento]=\"Informes\",\"Informes\",W1048)","v":"Informes"},{"$f":"IF(Parametros[Segmento]=\"Informes\",(T1048<>0)*1,1)","v":1},{"$f":"IF(Parametros[Segmento]=\"Informes\",V1048,X1048)","v":30},{"$f":"(AO1048=Parametros[Segmento])*(AP1048>0)*(AQ1048>0)","v":0}]
[{"$nulls":18},"Intereses y gastos financieros pagados a entidades financieras ",{"$f":"+' '!F645+' '!F737+' '!F833","v":{"v":0,"d":"$ 0"}},null,30,"Informes",30,{"$nulls":16},{"$f":"IF(Parametros[Segmento]=\"Informes\",\"Informes\",W1049)","v":"Informes"},{"$f":"IF(Parametros[Segmento]=\"Informes\",(T1049<>0)*1,1)","v":1},{"$f":"IF(Parametros[Segmento]=\"Informes\",V1049,X1049)","v":30},{"$f":"(AO1049=Parametros[Segmento])*(AP1049>0)*(AQ1049>0)","v":0}]
[{"$nulls":18},"Intereses y gastos financieros pagados a particulares",{"$f":"F646+F738+F834","v":{"v":0,"d":"$ 0"}},null,30,"Informes",30,{"$nulls":16},{"$f":"IF(Parametros[Segmento]=\"Informes\",\"Informes\",W1050)","v":"Informes"},{"$f":"IF(Parametros[Segmento]=\"Informes\",(T1050<>0)*1,1)","v":1},{"$f":"IF(Parametros[Segmento]=\"Informes\",V1050,X1050)","v":30},{"$f":"(AO1050=Parametros[Segmento])*(AP1050>0)*(AQ1050>0)","v":0}]
[{"$nulls":18},"Intereses y gastos financieros pagados a vinculados económicos",{"$f":"F647+F739+F835","v":{"v":0,"d":"$ 0"}},null,30,"Informes",30,{"$nulls":16},{"$f":"IF(Parametros[Segmento]=\"Informes\",\"Informes\",W1051)","v":"Informes"},{"$f":"IF(Parametros[Segmento]=\"Informes\",(T1051<>0)*1,1)","v":1},{"$f":"IF(Parametros[Segmento]=\"Informes\",V1051,X1051)","v":30},{"$f":"(AO1051=Parametros[Segmento])*(AP1051>0)*(AQ1051>0)","v":0}]
[{"$nulls":18},"Costo venta de mercancías ",{"$f":"+' '!F836","v":{"v":0,"d":"$ 0"}},null,30,"Informes",30,{"$nulls":16},{"$f":"IF(Parametros[Segmento]=\"Informes\",\"Informes\",W1052)","v":"Informes"},{"$f":"IF(Parametros[Segmento]=\"Informes\",(T1052<>0)*1,1)","v":1},{"$f":"IF(Parametros[Segmento]=\"Informes\",V1052,X1052)","v":30},{"$f":"(AO1052=Parametros[Segmento])*(AP1052>0)*(AQ1052>0)","v":0}]
[{"$nulls":18},"Costo de venta de bienes inmuebles poseídos por menos de dos años ",{"$f":"+' '!F837","v":{"v":0,"d":"$ 0"}},null,30,"Informes",30,{"$nulls":16},{"$f":"IF(Parametros[Segmento]=\"Informes\",\"Informes\",W1053)","v":"Informes"},{"$f":"IF(Parametros[Segmento]=\"Informes\",(T1053<>0)*1,1)","v":1},{"$f":"IF(Parametros[Segmento]=\"Informes\",V1053,X1053)","v":30},{"$f":"(AO1053=Parametros[Segmento])*(AP1053>0)*(AQ1053>0)","v":0}]
[{"$nulls":18},"Costo de venta de acciones y/o inversiones poseídos por menos de dos años ",{"$f":"+' '!F838","v":{"v":0,"d":"$ 0"}},null,30,"Informes",30,{"$nulls":16},{"$f":"IF(Parametros[Segmento]=\"Informes\",\"Informes\",W1054)","v":"Informes"},{"$f":"IF(Parametros[Segmento]=\"Informes\",(T1054<>0)*1,1)","v":1},{"$f":"IF(Parametros[Segmento]=\"Informes\",V1054,X1054)","v":30},{"$f":"(AO1054=Parametros[Segmento])*(AP1054>0)*(AQ1054>0)","v":0}]
[{"$nulls":18},"Costo de venta de otros bienes poseídos por menos de dos años ",{"$f":"+' '!F839","v":{"v":0,"d":"$ 0"}},null,30,"Informes",30,{"$nulls":16},{"$f":"IF(Parametros[Segmento]=\"Informes\",\"Informes\",W1055)","v":"Informes"},{"$f":"IF(Parametros[Segmento]=\"Informes\",(T1055<>0)*1,1)","v":1},{"$f":"IF(Parametros[Segmento]=\"Informes\",V1055,X1055)","v":30},{"$f":"(AO1055=Parametros[Segmento])*(AP1055>0)*(AQ1055>0)","v":0}]
[{"$nulls":18},"Costo de venta de bienes inmuebles poseídos por dos años o más ",{"$f":"D965","v":{"v":0,"d":"$ 0"}},null,30,"Informes",30,{"$nulls":16},{"$f":"IF(Parametros[Segmento]=\"Informes\",\"Informes\",W1056)","v":"Informes"},{"$f":"IF(Parametros[Segmento]=\"Informes\",(T1056<>0)*1,1)","v":1},{"$f":"IF(Parametros[Segmento]=\"Informes\",V1056,X1056)","v":30},{"$f":"(AO1056=Parametros[Segmento])*(AP1056>0)*(AQ1056>0)","v":0}]
[{"$nulls":18},"Costo de venta de acciones y/o inversiones poseídas por dos años o más",{"$f":"D966","v":{"v":0,"d":"$ 0"}},null,30,"Informes",30,{"$nulls":16},{"$f":"IF(Parametros[Segmento]=\"Informes\",\"Informes\",W1057)","v":"Informes"},{"$f":"IF(Parametros[Segmento]=\"Informes\",(T1057<>0)*1,1)","v":1},{"$f":"IF(Parametros[Segmento]=\"Informes\",V1057,X1057)","v":30},{"$f":"(AO1057=Parametros[Segmento])*(AP1057>0)*(AQ1057>0)","v":0}]
[{"$nulls":18},"Costo de venta de otros bienes poseídos por dos años o más ",{"v":0,"d":"$ 0"},null,30,"Informes",30,{"$nulls":16},{"$f":"IF(Parametros[Segmento]=\"Informes\",\"Informes\",W1058)","v":"Informes"},{"$f":"IF(Parametros[Segmento]=\"Informes\",(T1058<>0)*1,1)","v":1},{"$f":"IF(Parametros[Segmento]=\"Informes\",V1058,X1058)","v":30},{"$f":"(AO1058=Parametros[Segmento])*(AP1058>0)*(AQ1058>0)","v":0}]
[{"$nulls":18},"Otros gastos no mencionados anteriormente ",{"$f":"+' '!F648+' '!F740+' '!F840","v":{"v":0,"d":"$ 0"}},null,30,"Informes",30,{"$nulls":16},{"$f":"IF(Parametros[Segmento]=\"Informes\",\"Informes\",W1059)","v":"Informes"},{"$f":"IF(Parametros[Segmento]=\"Informes\",(T1059<>0)*1,1)","v":1},{"$f":"IF(Parametros[Segmento]=\"Informes\",V1059,X1059)","v":30},{"$f":"(AO1059=Parametros[Segmento])*(AP1059>0)*(AQ1059>0)","v":0}]
[{"$nulls":18},"Costos y gastos procedentes en que se incurrió durante el 2022 ",{"$f":"SUM(T1036:T1059)","v":{"v":0,"d":"$ 0"}},null,30,"Informes",30,{"$nulls":16},{"$f":"IF(Parametros[Segmento]=\"Informes\",\"Informes\",W1060)","v":"Informes"},1,{"$f":"IF(Parametros[Segmento]=\"Informes\",V1060,X1060)","v":30},{"$f":"(AO1060=Parametros[Segmento])*(AP1060>0)*(AQ1060>0)","v":0}]
[{"$nulls":21},30,"Informes",30,{"$nulls":16},{"$f":"IF(Parametros[Segmento]=\"Informes\",\"Informes\",W1061)","v":"Informes"},1,{"$f":"IF(Parametros[Segmento]=\"Informes\",V1061,X1061)","v":30},{"$f":"(AO1061=Parametros[Segmento])*(AP1061>0)*(AQ1061>0)","v":0}]
[{"$nulls":18},"Deducciones, rentas exentas y descuentos tributarios",null,null,30,"Informes",30,{"$nulls":16},{"$f":"IF(Parametros[Segmento]=\"Informes\",\"Informes\",W1062)","v":"Informes"},1,{"$f":"IF(Parametros[Segmento]=\"Informes\",V1062,X1062)","v":30},{"$f":"(AO1062=Parametros[Segmento])*(AP1062>0)*(AQ1062>0)","v":0}]
[{"$nulls":18},"Deducciones  ",null,null,30,"Informes",30,{"$nulls":16},{"$f":"IF(Parametros[Segmento]=\"Informes\",\"Informes\",W1063)","v":"Informes"},1,{"$f":"IF(Parametros[Segmento]=\"Informes\",V1063,X1063)","v":30},{"$f":"(AO1063=Parametros[Segmento])*(AP1063>0)*(AQ1063>0)","v":0}]
[{"$nulls":18},"Concepto","Valor",null,30,"Informes",30,{"$nulls":16},{"$f":"IF(Parametros[Segmento]=\"Informes\",\"Informes\",W1064)","v":"Informes"},1,{"$f":"IF(Parametros[Segmento]=\"Informes\",V1064,X1064)","v":30},{"$f":"(AO1064=Parametros[Segmento])*(AP1064>0)*(AQ1064>0)","v":0}]
[{"$nulls":18},"Intereses pagados en créditos de vivienda o leasing habitacional ",{"$f":"+' '!F563+' '!F653+' '!F745+' '!F845","v":{"v":0,"d":"$ 0"}},null,30,"Informes",30,{"$nulls":16},{"$f":"IF(Parametros[Segmento]=\"Informes\",\"Informes\",W1065)","v":"Informes"},{"$f":"IF(Parametros[Segmento]=\"Informes\",(T1065<>0)*1,1)","v":1},{"$f":"IF(Parametros[Segmento]=\"Informes\",V1065,X1065)","v":30},{"$f":"(AO1065=Parametros[Segmento])*(AP1065>0)*(AQ1065>0)","v":0}]
[{"$nulls":18},"Planes adicionales de salud ",{"$f":"+' '!F564+' '!F654","v":{"v":0,"d":"$ 0"}},null,30,"Informes",30,{"$nulls":16},{"$f":"IF(Parametros[Segmento]=\"Informes\",\"Informes\",W1066)","v":"Informes"},{"$f":"IF(Parametros[Segmento]=\"Informes\",(T1066<>0)*1,1)","v":1},{"$f":"IF(Parametros[Segmento]=\"Informes\",V1066,X1066)","v":30},{"$f":"(AO1066=Parametros[Segmento])*(AP1066>0)*(AQ1066>0)","v":0}]
[{"$nulls":18},"Intereses pagados en créditos educativos con el ICETEX",{"$f":"+' '!F565+' '!F655+' '!F746+' '!F846","v":{"v":0,"d":"$ 0"}},null,30,"Informes",30,{"$nulls":16},{"$f":"IF(Parametros[Segmento]=\"Informes\",\"Informes\",W1067)","v":"Informes"},{"$f":"IF(Parametros[Segmento]=\"Informes\",(T1067<>0)*1,1)","v":1},{"$f":"IF(Parametros[Segmento]=\"Informes\",V1067,X1067)","v":30},{"$f":"(AO1067=Parametros[Segmento])*(AP1067>0)*(AQ1067>0)","v":0}]
[{"$nulls":18},"Gravamen a los movimientos financieros (4x1000)",{"$f":"+' '!F566+' '!F656+' '!F747+' '!F847","v":{"v":0,"d":"$ 0"}},null,30,"Informes",30,{"$nulls":16},{"$f":"IF(Parametros[Segmento]=\"Informes\",\"Informes\",W1068)","v":"Informes"},{"$f":"IF(Parametros[Segmento]=\"Informes\",(T1068<>0)*1,1)","v":1},{"$f":"IF(Parametros[Segmento]=\"Informes\",V1068,X1068)","v":30},{"$f":"(AO1068=Parametros[Segmento])*(AP1068>0)*(AQ1068>0)","v":0}]
[{"$nulls":18},"Dependientes económicos",{"$f":"+' '!F567+' '!F657","v":{"v":0,"d":"$ 0"}},null,30,"Informes",30,{"$nulls":16},{"$f":"IF(Parametros[Segmento]=\"Informes\",\"Informes\",W1069)","v":"Informes"},{"$f":"IF(Parametros[Segmento]=\"Informes\",(T1069<>0)*1,1)","v":1},{"$f":"IF(Parametros[Segmento]=\"Informes\",V1069,X1069)","v":30},{"$f":"(AO1069=Parametros[Segmento])*(AP1069>0)*(AQ1069>0)","v":0}]
[{"$nulls":18},"Aportes a cesantías como partícipes independientes ",{"$f":"+' '!F568+' '!F658+' '!F748+' '!F848","v":{"v":0,"d":"$ 0"}},null,30,"Informes",30,{"$nulls":16},{"$f":"IF(Parametros[Segmento]=\"Informes\",\"Informes\",W1070)","v":"Informes"},{"$f":"IF(Parametros[Segmento]=\"Informes\",(T1070<>0)*1,1)","v":1},{"$f":"IF(Parametros[Segmento]=\"Informes\",V1070,X1070)","v":30},{"$f":"(AO1070=Parametros[Segmento])*(AP1070>0)*(AQ1070>0)","v":0}]
[{"$nulls":18},"Total deducciones reportadas",{"$f":"SUM(T1065:T1070)","v":{"v":0,"d":"$ 0"}},null,30,"Informes",30,{"$nulls":16},{"$f":"IF(Parametros[Segmento]=\"Informes\",\"Informes\",W1071)","v":"Informes"},1,{"$f":"IF(Parametros[Segmento]=\"Informes\",V1071,X1071)","v":30},{"$f":"(AO1071=Parametros[Segmento])*(AP1071>0)*(AQ1071>0)","v":0}]
[{"$nulls":18},"Rentas exentas ",null,null,30,"Informes",30,{"$nulls":16},{"$f":"IF(Parametros[Segmento]=\"Informes\",\"Informes\",W1072)","v":"Informes"},1,{"$f":"IF(Parametros[Segmento]=\"Informes\",V1072,X1072)","v":30},{"$f":"(AO1072=Parametros[Segmento])*(AP1072>0)*(AQ1072>0)","v":0}]
[{"$nulls":18},"Concepto","Valor",null,30,"Informes",30,{"$nulls":16},{"$f":"IF(Parametros[Segmento]=\"Informes\",\"Informes\",W1073)","v":"Informes"},1,{"$f":"IF(Parametros[Segmento]=\"Informes\",V1073,X1073)","v":30},{"$f":"(AO1073=Parametros[Segmento])*(AP1073>0)*(AQ1073>0)","v":0}]
[{"$nulls":18},"Aportes a fondos de pensiones voluntarias",{"$f":"+' '!F586+' '!F669+' '!F758+' '!F860","v":{"v":0,"d":"$ 0"}},null,30,"Informes",30,{"$nulls":16},{"$f":"IF(Parametros[Segmento]=\"Informes\",\"Informes\",W1074)","v":"Informes"},{"$f":"IF(Parametros[Segmento]=\"Informes\",(T1074<>0)*1,1)","v":1},{"$f":"IF(Parametros[Segmento]=\"Informes\",V1074,X1074)","v":30},{"$f":"(AO1074=Parametros[Segmento])*(AP1074>0)*(AQ1074>0)","v":0}]
[{"$nulls":18},"Aportes a cuentas AFC y/o cuentas AVC ",{"$f":"+' '!F587+' '!F670+' '!F759+' '!F861","v":{"v":0,"d":"$ 0"}},null,30,"Informes",30,{"$nulls":16},{"$f":"IF(Parametros[Segmento]=\"Informes\",\"Informes\",W1075)","v":"Informes"},{"$f":"IF(Parametros[Segmento]=\"Informes\",(T1075<>0)*1,1)","v":1},{"$f":"IF(Parametros[Segmento]=\"Informes\",V1075,X1075)","v":30},{"$f":"(AO1075=Parametros[Segmento])*(AP1075>0)*(AQ1075>0)","v":0}]
[{"$nulls":18},"Cesantías e intereses efectivamente pagados en el año ",{"$f":"+' '!F588","v":{"v":0,"d":"$ 0"}},null,30,"Informes",30,{"$nulls":16},{"$f":"IF(Parametros[Segmento]=\"Informes\",\"Informes\",W1076)","v":"Informes"},{"$f":"IF(Parametros[Segmento]=\"Informes\",(T1076<>0)*1,1)","v":1},{"$f":"IF(Parametros[Segmento]=\"Informes\",V1076,X1076)","v":30},{"$f":"(AO1076=Parametros[Segmento])*(AP1076>0)*(AQ1076>0)","v":0}]
[{"$nulls":18},"Cesantías consignadas en el fondo en el año",{"$f":"+' '!F589","v":{"v":0,"d":"$ 0"}},null,30,"Informes",30,{"$nulls":16},{"$f":"IF(Parametros[Segmento]=\"Informes\",\"Informes\",W1077)","v":"Informes"},{"$f":"IF(Parametros[Segmento]=\"Informes\",(T1077<>0)*1,1)","v":1},{"$f":"IF(Parametros[Segmento]=\"Informes\",V1077,X1077)","v":30},{"$f":"(AO1077=Parametros[Segmento])*(AP1077>0)*(AQ1077>0)","v":0}]
[{"$nulls":18},"Indemnizaciones por accidente de trabajo o enfermedad ",{"$f":"+' '!F590","v":{"v":0,"d":"$ 0"}},null,30,"Informes",30,{"$nulls":16},{"$f":"IF(Parametros[Segmento]=\"Informes\",\"Informes\",W1078)","v":"Informes"},{"$f":"IF(Parametros[Segmento]=\"Informes\",(T1078<>0)*1,1)","v":1},{"$f":"IF(Parametros[Segmento]=\"Informes\",V1078,X1078)","v":30},{"$f":"(AO1078=Parametros[Segmento])*(AP1078>0)*(AQ1078>0)","v":0}]
[{"$nulls":18},"Indemnización por protección a la maternidad ",{"$f":"+' '!F591","v":{"v":0,"d":"$ 0"}},null,30,"Informes",30,{"$nulls":16},{"$f":"IF(Parametros[Segmento]=\"Informes\",\"Informes\",W1079)","v":"Informes"},{"$f":"IF(Parametros[Segmento]=\"Informes\",(T1079<>0)*1,1)","v":1},{"$f":"IF(Parametros[Segmento]=\"Informes\",V1079,X1079)","v":30},{"$f":"(AO1079=Parametros[Segmento])*(AP1079>0)*(AQ1079>0)","v":0}]
[{"$nulls":18},"Gastos de entierro del trabajador ",{"$f":"+' '!F592","v":{"v":0,"d":"$ 0"}},null,30,"Informes",30,{"$nulls":16},{"$f":"IF(Parametros[Segmento]=\"Informes\",\"Informes\",W1080)","v":"Informes"},{"$f":"IF(Parametros[Segmento]=\"Informes\",(T1080<>0)*1,1)","v":1},{"$f":"IF(Parametros[Segmento]=\"Informes\",V1080,X1080)","v":30},{"$f":"(AO1080=Parametros[Segmento])*(AP1080>0)*(AQ1080>0)","v":0}]
[{"$nulls":18},"Bonificación y/o indemnización por plan de retiro de una entidad pública del orden nacional, departamental o municipal ",{"$f":"+' '!F593","v":{"v":0,"d":"$ 0"}},null,39.6,"Informes",30,{"$nulls":16},{"$f":"IF(Parametros[Segmento]=\"Informes\",\"Informes\",W1081)","v":"Informes"},{"$f":"IF(Parametros[Segmento]=\"Informes\",(T1081<>0)*1,1)","v":1},{"$f":"IF(Parametros[Segmento]=\"Informes\",V1081,X1081)","v":30},{"$f":"(AO1081=Parametros[Segmento])*(AP1081>0)*(AQ1081>0)","v":0}]
[{"$nulls":18},"Bonificación por retiro voluntario para ciudadanos colombianos que integran las reservas oficiales de prima y segunda clase de la Armada Nacional ",{"$f":"+' '!F594","v":{"v":0,"d":"$ 0"}},null,39.6,"Informes",30,{"$nulls":16},{"$f":"IF(Parametros[Segmento]=\"Informes\",\"Informes\",W1082)","v":"Informes"},{"$f":"IF(Parametros[Segmento]=\"Informes\",(T1082<>0)*1,1)","v":1},{"$f":"IF(Parametros[Segmento]=\"Informes\",V1082,X1082)","v":30},{"$f":"(AO1082=Parametros[Segmento])*(AP1082>0)*(AQ1082>0)","v":0}]
[{"$nulls":18},"25% de renta exenta laboral ",{"$f":"+' '!F595","v":{"v":0,"d":"$ 0"}},null,30,"Informes",30,{"$nulls":16},{"$f":"IF(Parametros[Segmento]=\"Informes\",\"Informes\",W1083)","v":"Informes"},{"$f":"IF(Parametros[Segmento]=\"Informes\",(T1083<>0)*1,1)","v":1},{"$f":"IF(Parametros[Segmento]=\"Informes\",V1083,X1083)","v":30},{"$f":"(AO1083=Parametros[Segmento])*(AP1083>0)*(AQ1083>0)","v":0}]
[{"$nulls":18},"Cesantías retiradas en el año, que estaban el fondo a 31 de diciembre de 2016 ",{"$f":"+' '!F573","v":{"v":0,"d":"$ 0"}},null,30,"Informes",30,{"$nulls":16},{"$f":"IF(Parametros[Segmento]=\"Informes\",\"Informes\",W1084)","v":"Informes"},{"$f":"IF(Parametros[Segmento]=\"Informes\",(T1084<>0)*1,1)","v":1},{"$f":"IF(Parametros[Segmento]=\"Informes\",V1084,X1084)","v":30},{"$f":"(AO1084=Parametros[Segmento])*(AP1084>0)*(AQ1084>0)","v":0}]
[{"$nulls":18},"El seguro y/o las compensaciones por muerte, y las prestaciones sociales en actividad y en retiro de los miembros de las Fuerzas Militares y de la Policía Nacional",{"$f":"+' '!F574","v":{"v":0,"d":"$ 0"}},null,39.6,"Informes",30,{"$nulls":16},{"$f":"IF(Parametros[Segmento]=\"Informes\",\"Informes\",W1085)","v":"Informes"},{"$f":"IF(Parametros[Segmento]=\"Informes\",(T1085<>0)*1,1)","v":1},{"$f":"IF(Parametros[Segmento]=\"Informes\",V1085,X1085)","v":30},{"$f":"(AO1085=Parametros[Segmento])*(AP1085>0)*(AQ1085>0)","v":0}]
[{"$nulls":18},"Gastos de representación de Magistrados de los Tribunales, sus fiscales y procuradores judiciales ",{"$f":"+' '!F575","v":{"v":0,"d":"$ 0"}},null,30,"Informes",30,{"$nulls":16},{"$f":"IF(Parametros[Segmento]=\"Informes\",\"Informes\",W1086)","v":"Informes"},{"$f":"IF(Parametros[Segmento]=\"Informes\",(T1086<>0)*1,1)","v":1},{"$f":"IF(Parametros[Segmento]=\"Informes\",V1086,X1086)","v":30},{"$f":"(AO1086=Parametros[Segmento])*(AP1086>0)*(AQ1086>0)","v":0}]
[{"$nulls":18},"Gastos de representación de Jueces de la República ",{"$f":"+' '!F576","v":{"v":0,"d":"$ 0"}},null,30,"Informes",30,{"$nulls":16},{"$f":"IF(Parametros[Segmento]=\"Informes\",\"Informes\",W1087)","v":"Informes"},{"$f":"IF(Parametros[Segmento]=\"Informes\",(T1087<>0)*1,1)","v":1},{"$f":"IF(Parametros[Segmento]=\"Informes\",V1087,X1087)","v":30},{"$f":"(AO1087=Parametros[Segmento])*(AP1087>0)*(AQ1087>0)","v":0}]
[{"$nulls":18},"Gastos de representación de los rectores y profesores de universidades públicas",{"$f":"+' '!F577","v":{"v":0,"d":"$ 0"}},null,30,"Informes",30,{"$nulls":16},{"$f":"IF(Parametros[Segmento]=\"Informes\",\"Informes\",W1088)","v":"Informes"},{"$f":"IF(Parametros[Segmento]=\"Informes\",(T1088<>0)*1,1)","v":1},{"$f":"IF(Parametros[Segmento]=\"Informes\",V1088,X1088)","v":30},{"$f":"(AO1088=Parametros[Segmento])*(AP1088>0)*(AQ1088>0)","v":0}]
[{"$nulls":18},"Exceso de salario básico de oficiales, suboficiales y soldados profesionales de las Fuerzas Militares y oficiales, suboficiales, nivel ejecutivo, patrulleros y agentes de la Policía Nacional",{"$f":"+' '!F578","v":{"v":0,"d":"$ 0"}},null,39.6,"Informes",30,{"$nulls":16},{"$f":"IF(Parametros[Segmento]=\"Informes\",\"Informes\",W1089)","v":"Informes"},{"$f":"IF(Parametros[Segmento]=\"Informes\",(T1089<>0)*1,1)","v":1},{"$f":"IF(Parametros[Segmento]=\"Informes\",V1089,X1089)","v":30},{"$f":"(AO1089=Parametros[Segmento])*(AP1089>0)*(AQ1089>0)","v":0}]
[{"$nulls":18},"Prima especial y de costo de vida de diplomáticos, consulares y administrativos del Ministerio de Relaciones Exteriores ",{"$f":"+' '!F579","v":{"v":0,"d":"$ 0"}},null,39.6,"Informes",30,{"$nulls":16},{"$f":"IF(Parametros[Segmento]=\"Informes\",\"Informes\",W1090)","v":"Informes"},{"$f":"IF(Parametros[Segmento]=\"Informes\",(T1090<>0)*1,1)","v":1},{"$f":"IF(Parametros[Segmento]=\"Informes\",V1090,X1090)","v":30},{"$f":"(AO1090=Parametros[Segmento])*(AP1090>0)*(AQ1090>0)","v":0}]
[{"$nulls":18},"Regalías por derechos de autor por libros de carácter científico o cultural, editados e impresos en Colombia ",{"$f":"+' '!F760","v":{"v":0,"d":"$ 0"}},null,30,"Informes",30,{"$nulls":16},{"$f":"IF(Parametros[Segmento]=\"Informes\",\"Informes\",W1091)","v":"Informes"},{"$f":"IF(Parametros[Segmento]=\"Informes\",(T1091<>0)*1,1)","v":1},{"$f":"IF(Parametros[Segmento]=\"Informes\",V1091,X1091)","v":30},{"$f":"(AO1091=Parametros[Segmento])*(AP1091>0)*(AQ1091>0)","v":0}]
[{"$nulls":18},"Regalías por derechos de autor y traducción provenientes de la primera edición y primer tirada de libros, editados e impresos en Colombia",{"$f":"+' '!F761","v":{"v":0,"d":"$ 0"}},null,39.6,"Informes",30,{"$nulls":16},{"$f":"IF(Parametros[Segmento]=\"Informes\",\"Informes\",W1092)","v":"Informes"},{"$f":"IF(Parametros[Segmento]=\"Informes\",(T1092<>0)*1,1)","v":1},{"$f":"IF(Parametros[Segmento]=\"Informes\",V1092,X1092)","v":30},{"$f":"(AO1092=Parametros[Segmento])*(AP1092>0)*(AQ1092>0)","v":0}]
[{"$nulls":18},"Regalías por derechos de autor y traducción provenientes de las ediciones o tiradas posteriores a la primera edición del libro",{"$f":"+' '!F762","v":{"v":0,"d":"$ 0"}},null,39.6,"Informes",30,{"$nulls":16},{"$f":"IF(Parametros[Segmento]=\"Informes\",\"Informes\",W1093)","v":"Informes"},{"$f":"IF(Parametros[Segmento]=\"Informes\",(T1093<>0)*1,1)","v":1},{"$f":"IF(Parametros[Segmento]=\"Informes\",V1093,X1093)","v":30},{"$f":"(AO1093=Parametros[Segmento])*(AP1093>0)*(AQ1093>0)","v":0}]
[{"$nulls":18},"Servicios hoteleros prestados en hoteles que se hayan construido en al menos un 61% entre el 1 de enero de 2003 y el 31 de diciembre de 2017",{"$f":"+' '!F853","v":{"v":0,"d":"$ 0"}},null,39.6,"Informes",30,{"$nulls":16},{"$f":"IF(Parametros[Segmento]=\"Informes\",\"Informes\",W1094)","v":"Informes"},{"$f":"IF(Parametros[Segmento]=\"Informes\",(T1094<>0)*1,1)","v":1},{"$f":"IF(Parametros[Segmento]=\"Informes\",V1094,X1094)","v":30},{"$f":"(AO1094=Parametros[Segmento])*(AP1094>0)*(AQ1094>0)","v":0}]
[{"$nulls":18},"Servicios hoteleros prestados en hoteles que se hayan remodelado y/o ampliado en al menos un 61% entre el 1 de enero de 2003 y el 31 de diciembre de 2017",{"$f":"+' '!F854","v":{"v":0,"d":"$ 0"}},null,39.6,"Informes",30,{"$nulls":16},{"$f":"IF(Parametros[Segmento]=\"Informes\",\"Informes\",W1095)","v":"Informes"},{"$f":"IF(Parametros[Segmento]=\"Informes\",(T1095<>0)*1,1)","v":1},{"$f":"IF(Parametros[Segmento]=\"Informes\",V1095,X1095)","v":30},{"$f":"(AO1095=Parametros[Segmento])*(AP1095>0)*(AQ1095>0)","v":0}]
[{"$nulls":18},"Ingresos recibidos por funcionarios de la ONU o por vinculados con organismos especializados de la ONU con residencia fiscal en Colombia ",{"$f":"+' '!F580+' '!F663","v":{"v":0,"d":"$ 0"}},null,39.6,"Informes",30,{"$nulls":16},{"$f":"IF(Parametros[Segmento]=\"Informes\",\"Informes\",W1096)","v":"Informes"},{"$f":"IF(Parametros[Segmento]=\"Informes\",(T1096<>0)*1,1)","v":1},{"$f":"IF(Parametros[Segmento]=\"Informes\",V1096,X1096)","v":30},{"$f":"(AO1096=Parametros[Segmento])*(AP1096>0)*(AQ1096>0)","v":0}]
[{"$nulls":18},"Pensiones netas obtenidas de acuerdo con la legislación colombiana ",{"$f":"F916","v":{"v":56160000,"d":"$ 56,160,000"}},null,39.6,"Informes",30,{"$nulls":16},{"$f":"IF(Parametros[Segmento]=\"Informes\",\"Informes\",W1097)","v":"Informes"},{"$f":"IF(Parametros[Segmento]=\"Informes\",(T1097<>0)*1,1)","v":1},{"$f":"IF(Parametros[Segmento]=\"Informes\",V1097,X1097)","v":30},{"$f":"(AO1097=Parametros[Segmento])*(AP1097>0)*(AQ1097>0)","v":0}]
[{"$nulls":18},"Ganancias ocasionales exentas",{"$f":"C1165","v":{"v":0,"d":"$ 0"}},null,39.6,"Informes",30,{"$nulls":16},{"$f":"IF(Parametros[Segmento]=\"Informes\",\"Informes\",W1098)","v":"Informes"},{"$f":"IF(Parametros[Segmento]=\"Informes\",(T1098<>0)*1,1)","v":1},{"$f":"IF(Parametros[Segmento]=\"Informes\",V1098,X1098)","v":30},{"$f":"(AO1098=Parametros[Segmento])*(AP1098>0)*(AQ1098>0)","v":0}]
[{"$nulls":18},"Ingresos recibidos en países de la CAN ",{"$f":"+' '!F581+' '!F664+' '!F753+' '!F855+' '!F917+' '!D952","v":{"v":0,"d":"$ 0"}},null,30,"Informes",30,{"$nulls":16},{"$f":"IF(Parametros[Segmento]=\"Informes\",\"Informes\",W1099)","v":"Informes"},{"$f":"IF(Parametros[Segmento]=\"Informes\",(T1099<>0)*1,1)","v":1},{"$f":"IF(Parametros[Segmento]=\"Informes\",V1099,X1099)","v":30},{"$f":"(AO1099=Parametros[Segmento])*(AP1099>0)*(AQ1099>0)","v":0}]
[{"$nulls":18},"Total rentas exentas reportadas",{"$f":"SUM(T1074:T1099)","v":{"v":56160000,"d":"$ 56,160,000"}},null,30,"Informes",30,{"$nulls":16},{"$f":"IF(Parametros[Segmento]=\"Informes\",\"Informes\",W1100)","v":"Informes"},1,{"$f":"IF(Parametros[Segmento]=\"Informes\",V1100,X1100)","v":30},{"$f":"(AO1100=Parametros[Segmento])*(AP1100>0)*(AQ1100>0)","v":0}]
[{"$nulls":18},"Total deducciones y rentas exentas reportadas ",{"$f":"+T1071+T1100","v":{"v":56160000,"d":"$ 56,160,000"}},null,30,"Informes",30,{"$nulls":16},{"$f":"IF(Parametros[Segmento]=\"Informes\",\"Informes\",W1101)","v":"Informes"},1,{"$f":"IF(Parametros[Segmento]=\"Informes\",V1101,X1101)","v":30},{"$f":"(AO1101=Parametros[Segmento])*(AP1101>0)*(AQ1101>0)","v":0}]
[{"$nulls":18},"Total deducciones y rentas exentas efectivamente tomadas (aplicación límite general del 40%)",{"$f":"+SUM(' '!D876:G876)","v":{"v":0,"d":"$ 0"}},null,30,"Informes",30,{"$nulls":16},{"$f":"IF(Parametros[Segmento]=\"Informes\",\"Informes\",W1102)","v":"Informes"},1,{"$f":"IF(Parametros[Segmento]=\"Informes\",V1102,X1102)","v":30},{"$f":"(AO1102=Parametros[Segmento])*(AP1102>0)*(AQ1102>0)","v":0}]
[{"$nulls":18},"Descuentos tributarios ",null,null,30,"Informes",30,{"$nulls":16},{"$f":"IF(Parametros[Segmento]=\"Informes\",\"Informes\",W1103)","v":"Informes"},1,{"$f":"IF(Parametros[Segmento]=\"Informes\",V1103,X1103)","v":30},{"$f":"(AO1103=Parametros[Segmento])*(AP1103>0)*(AQ1103>0)","v":0}]
[{"$nulls":18},"Concepto","Valor",null,30,"Informes",30,{"$nulls":16},{"$f":"IF(Parametros[Segmento]=\"Informes\",\"Informes\",W1104)","v":"Informes"},1,{"$f":"IF(Parametros[Segmento]=\"Informes\",V1104,X1104)","v":30},{"$f":"(AO1104=Parametros[Segmento])*(AP1104>0)*(AQ1104>0)","v":0}]
[{"$nulls":18},"Impuestos pagados en el exterior ",{"$f":"+' '!D1262","v":{"v":0,"d":"$ 0"}},null,30,"Informes",30,{"$nulls":16},{"$f":"IF(Parametros[Segmento]=\"Informes\",\"Informes\",W1105)","v":"Informes"},{"$f":"IF(Parametros[Segmento]=\"Informes\",(T1105<>0)*1,1)","v":1},{"$f":"IF(Parametros[Segmento]=\"Informes\",V1105,X1105)","v":30},{"$f":"(AO1105=Parametros[Segmento])*(AP1105>0)*(AQ1105>0)","v":0}]
[{"$nulls":18},"Donaciones ",{"$f":"+' '!D1287","v":{"v":0,"d":"$ 0"}},null,30,"Informes",30,{"$nulls":16},{"$f":"IF(Parametros[Segmento]=\"Informes\",\"Informes\",W1106)","v":"Informes"},{"$f":"IF(Parametros[Segmento]=\"Informes\",(T1106<>0)*1,1)","v":1},{"$f":"IF(Parametros[Segmento]=\"Informes\",V1106,X1106)","v":30},{"$f":"(AO1106=Parametros[Segmento])*(AP1106>0)*(AQ1106>0)","v":0}]
[{"$nulls":18},"50% del impuesto de industria y comercio pagado ",{"$f":"+' '!D1290","v":{"v":0,"d":"$ 0"}},null,30,"Informes",30,{"$nulls":16},{"$f":"IF(Parametros[Segmento]=\"Informes\",\"Informes\",W1107)","v":"Informes"},{"$f":"IF(Parametros[Segmento]=\"Informes\",(T1107<>0)*1,1)","v":1},{"$f":"IF(Parametros[Segmento]=\"Informes\",V1107,X1107)","v":30},{"$f":"(AO1107=Parametros[Segmento])*(AP1107>0)*(AQ1107>0)","v":0}]
[{"$nulls":18},"IVA pagado en la importación, formación, construcción o adquisición de activos fijos reales productivos",{"$f":"+' '!D1291","v":{"v":0,"d":"$ 0"}},null,30,"Informes",30,{"$nulls":16},{"$f":"IF(Parametros[Segmento]=\"Informes\",\"Informes\",W1108)","v":"Informes"},{"$f":"IF(Parametros[Segmento]=\"Informes\",(T1108<>0)*1,1)","v":1},{"$f":"IF(Parametros[Segmento]=\"Informes\",V1108,X1108)","v":30},{"$f":"(AO1108=Parametros[Segmento])*(AP1108>0)*(AQ1108>0)","v":0}]
[{"$nulls":18},"50% del valor de las donaciones tendientes a lograr la inmunización de la población colombiana frente al COVID-19 y cualquier otra pandemia ",{"$f":"+' '!D1292","v":{"v":0,"d":"$ 0"}},null,30,"Informes",30,{"$nulls":16},{"$f":"IF(Parametros[Segmento]=\"Informes\",\"Informes\",W1109)","v":"Informes"},{"$f":"IF(Parametros[Segmento]=\"Informes\",(T1109<>0)*1,1)","v":1},{"$f":"IF(Parametros[Segmento]=\"Informes\",V1109,X1109)","v":30},{"$f":"(AO1109=Parametros[Segmento])*(AP1109>0)*(AQ1109>0)","v":0}]
[{"$nulls":18},"Otros descuentos tributarios aplicables",{"$f":"+' '!D1293","v":{"v":0,"d":"$ 0"}},null,30,"Informes",30,{"$nulls":16},{"$f":"IF(Parametros[Segmento]=\"Informes\",\"Informes\",W1110)","v":"Informes"},{"$f":"IF(Parametros[Segmento]=\"Informes\",(T1110<>0)*1,1)","v":1},{"$f":"IF(Parametros[Segmento]=\"Informes\",V1110,X1110)","v":30},{"$f":"(AO1110=Parametros[Segmento])*(AP1110>0)*(AQ1110>0)","v":0}]
[{"$nulls":18},"Total descuentos tributarios aplicados ",{"$f":"SUM(T1105:T1110)","v":{"v":0,"d":"$ 0"}},null,30,"Informes",30,{"$nulls":16},{"$f":"IF(Parametros[Segmento]=\"Informes\",\"Informes\",W1111)","v":"Informes"},1,{"$f":"IF(Parametros[Segmento]=\"Informes\",V1111,X1111)","v":30},{"$f":"(AO1111=Parametros[Segmento])*(AP1111>0)*(AQ1111>0)","v":0}]
[{"$nulls":18},"Retenciones en la fuente",null,null,30,"Informes",30,{"$nulls":16},{"$f":"IF(Parametros[Segmento]=\"Informes\",\"Informes\",W1112)","v":"Informes"},1,{"$f":"IF(Parametros[Segmento]=\"Informes\",V1112,X1112)","v":30},{"$f":"(AO1112=Parametros[Segmento])*(AP1112>0)*(AQ1112>0)","v":0}]
[{"$nulls":18},"Concepto","Valor",null,30,"Informes",30,{"$nulls":16},{"$f":"IF(Parametros[Segmento]=\"Informes\",\"Informes\",W1113)","v":"Informes"},1,{"$f":"IF(Parametros[Segmento]=\"Informes\",V1113,X1113)","v":30},{"$f":"(AO1113=Parametros[Segmento])*(AP1113>0)*(AQ1113>0)","v":0}]
[{"$nulls":18},"Retenciones en la fuente pagadas durante el 2022 ",{"$f":"+Resumen!F136","v":{"v":0,"d":"$ 0"}},null,30,"Informes",30,{"$nulls":16},{"$f":"IF(Parametros[Segmento]=\"Informes\",\"Informes\",W1114)","v":"Informes"},1,{"$f":"IF(Parametros[Segmento]=\"Informes\",V1114,X1114)","v":30},{"$f":"(AO1114=Parametros[Segmento])*(AP1114>0)*(AQ1114>0)","v":0}]
[{"$nulls":21},30,"Informes",30,{"$nulls":16},{"$f":"IF(Parametros[Segmento]=\"Informes\",\"Informes\",W1115)","v":"Informes"},1,{"$f":"IF(Parametros[Segmento]=\"Informes\",V1115,X1115)","v":30},{"$f":"(AO1115=Parametros[Segmento])*(AP1115>0)*(AQ1115>0)","v":0}]
[{"$nulls":18},"Saldo a pagar y Sanciones ",null,null,30,"Informes",30,{"$nulls":16},{"$f":"IF(Parametros[Segmento]=\"Informes\",\"Informes\",W1116)","v":"Informes"},1,{"$f":"IF(Parametros[Segmento]=\"Informes\",V1116,X1116)","v":30},{"$f":"(AO1116=Parametros[Segmento])*(AP1116>0)*(AQ1116>0)","v":0}]
[{"$nulls":18},"Concepto","Valor",null,30,"Informes",30,{"$nulls":16},{"$f":"IF(Parametros[Segmento]=\"Informes\",\"Informes\",W1117)","v":"Informes"},1,{"$f":"IF(Parametros[Segmento]=\"Informes\",V1117,X1117)","v":30},{"$f":"(AO1117=Parametros[Segmento])*(AP1117>0)*(AQ1117>0)","v":0}]
[{"$nulls":18},"Anticipo de renta para el año gravable siguiente",{"$f":"+Resumen!F137","v":{"v":0,"d":"$ 0"}},null,30,"Informes",30,{"$nulls":16},{"$f":"IF(Parametros[Segmento]=\"Informes\",\"Informes\",W1118)","v":"Informes"},1,{"$f":"IF(Parametros[Segmento]=\"Informes\",V1118,X1118)","v":30},{"$f":"(AO1118=Parametros[Segmento])*(AP1118>0)*(AQ1118>0)","v":0}]
[{"$nulls":18},"Saldo a pagar por impuesto ",{"$f":"+Resumen!F138","v":{"v":0,"d":"$ 0"}},null,30,"Informes",30,{"$nulls":16},{"$f":"IF(Parametros[Segmento]=\"Informes\",\"Informes\",W1119)","v":"Informes"},1,{"$f":"IF(Parametros[Segmento]=\"Informes\",V1119,X1119)","v":30},{"$f":"(AO1119=Parametros[Segmento])*(AP1119>0)*(AQ1119>0)","v":0}]
[{"$nulls":18},"Sanciones",{"$f":"+Resumen!F139","v":{"v":0,"d":"$ 0"}},null,30,"Informes",30,{"$nulls":16},{"$f":"IF(Parametros[Segmento]=\"Informes\",\"Informes\",W1120)","v":"Informes"},1,{"$f":"IF(Parametros[Segmento]=\"Informes\",V1120,X1120)","v":30},{"$f":"(AO1120=Parametros[Segmento])*(AP1120>0)*(AQ1120>0)","v":0}]
[{"$nulls":18},"Total saldo a pagar ",{"$f":"+Resumen!F140","v":{"v":0,"d":"$ 0"}},null,30,"Informes",30,{"$nulls":16},{"$f":"IF(Parametros[Segmento]=\"Informes\",\"Informes\",W1121)","v":"Informes"},1,{"$f":"IF(Parametros[Segmento]=\"Informes\",V1121,X1121)","v":30},{"$f":"(AO1121=Parametros[Segmento])*(AP1121>0)*(AQ1121>0)","v":0}]
[{"$nulls":18},"Total saldo a favor",{"$f":"+Resumen!F141","v":{"v":0,"d":"$ 0"}},null,30,"Informes",30,{"$nulls":16},{"$f":"IF(Parametros[Segmento]=\"Informes\",\"Informes\",W1122)","v":"Informes"},1,{"$f":"IF(Parametros[Segmento]=\"Informes\",V1122,X1122)","v":30},{"$f":"(AO1122=Parametros[Segmento])*(AP1122>0)*(AQ1122>0)","v":0}]
[{"$nulls":21},30,"Informes",30,{"$nulls":16},{"$f":"IF(Parametros[Segmento]=\"Informes\",\"Informes\",W1123)","v":"Informes"},1,{"$f":"IF(Parametros[Segmento]=\"Informes\",V1123,X1123)","v":30},{"$f":"(AO1123=Parametros[Segmento])*(AP1123>0)*(AQ1123>0)","v":0}]
[{"$nulls":40},"G. Ocasionales",1,30,{"$f":"(AO1124=Parametros[Segmento])*(AP1124>0)*(AQ1124>0)","v":0}]
[null,"Ingresos no constitutivos de ganancia ocasional",{"$nulls":38},"G. Ocasionales",1,30,{"$f":"(AO1125=Parametros[Segmento])*(AP1125>0)*(AQ1125>0)","v":0}]
[null,"Concepto","Subtotal ","Totales",{"$nulls":36},"G. Ocasionales",1,30,{"$f":"(AO1126=Parametros[Segmento])*(AP1126>0)*(AQ1126>0)","v":0}]
[null,"Recompensas ",{"$f":"+C993","v":{"v":0,"d":"$ 0"}},{"$f":"C1127","v":{"v":0,"d":"$ 0"}},{"$nulls":36},"G. Ocasionales",1,30,{"$f":"(AO1127=Parametros[Segmento])*(AP1127>0)*(AQ1127>0)","v":0}]
[null,"Utilidad en venta de acciones inscritas en BVC, cuando no superen el 10% de las acciones en circulación de la \nsociedad",null,{"$f":"C1128","v":{"v":0,"d":"$ 0"}},{"$nulls":36},"G. Ocasionales",1,40,{"$f":"(AO1128=Parametros[Segmento])*(AP1128>0)*(AQ1128>0)","v":0}]
[null,"Utilidad en venta de casa o apartamento de habitación adquirido con anterioridad al 1 de enero de 1987",null,{"$f":"C1129","v":{"v":0,"d":"$ 0"}},{"$nulls":36},"G. Ocasionales",1,30,{"$f":"(AO1129=Parametros[Segmento])*(AP1129>0)*(AQ1129>0)","v":0}]
[null,"Otros ingresos no constitutivos de ganancia ocasional ",null,{"$f":"C1130","v":{"v":0,"d":"$ 0"}},{"$nulls":36},"G. Ocasionales",1,30,{"$f":"(AO1130=Parametros[Segmento])*(AP1130>0)*(AQ1130>0)","v":0}]
[null,"Total de ingresos no constitutivos de ganancia ocasional ",null,{"$f":"SUM(D1127:D1130)","v":{"v":0,"d":"$ 0"}},{"$nulls":36},"G. Ocasionales",1,30,{"$f":"(AO1131=Parametros[Segmento])*(AP1131>0)*(AQ1131>0)","v":0}]
[{"$nulls":40},"G. Ocasionales",1,30,{"$f":"(AO1132=Parametros[Segmento])*(AP1132>0)*(AQ1132>0)","v":0}]
[null,"Ganancias Ocasionales exentas ",{"$nulls":38},"G. Ocasionales",1,30,{"$f":"(AO1133=Parametros[Segmento])*(AP1133>0)*(AQ1133>0)","v":0}]
[null,"Concepto","Subtotal ","Totales",{"$nulls":36},"G. Ocasionales",1,30,{"$f":"(AO1134=Parametros[Segmento])*(AP1134>0)*(AQ1134>0)","v":0}]
[null,"Por herencias, legados y/o porción conyugal ",{"$nulls":38},"G. Ocasionales",1,30,{"$f":"(AO1135=Parametros[Segmento])*(AP1135>0)*(AQ1135>0)","v":0}]
[null,"Las primeras 7.700 UVT del valor de un inmueble de vivienda urbana de propiedad del causante ",{"$f":"C973","v":{"v":0,"d":"$ 0"}},{"$f":"ROUND(IF(C1136>(7700*' '!D112),(7700*' '!D112),C1136),-3)","v":{"v":0,"d":"$ 0"}},{"$nulls":36},"G. Ocasionales",1,30,{"$f":"(AO1136=Parametros[Segmento])*(AP1136>0)*(AQ1136>0)","v":0}]
[null,"Las primeras 7.700 UVT del valor de un inmueble rural del causante destinado a vivienda o a explotación económica, diferente a casa, quintas o fincas de recreo ",{"$f":"C975","v":{"v":0,"d":"$ 0"}},{"$f":"ROUND(IF(C1137>(7700*' '!D112),(7700*' '!D112),C1137),-3)","v":{"v":0,"d":"$ 0"}},{"$nulls":36},"G. Ocasionales",1,40.1,{"$f":"(AO1137=Parametros[Segmento])*(AP1137>0)*(AQ1137>0)","v":0}]
[null,"Los libros, ropa y utensilios de uso personal y el mobiliario de la casa del causante ",{"$f":"+C977","v":{"v":0,"d":"$ 0"}},{"$f":"+C1138","v":{"v":0,"d":"$ 0"}},{"$nulls":36},"G. Ocasionales",1,30,{"$f":"(AO1138=Parametros[Segmento])*(AP1138>0)*(AQ1138>0)","v":0}]
[null,"Las primeras 3.490 UVT del valor de lo recibido como herencia, legado o porción conyugal",{"$f":"(D972-C1136-C1137-C1138)","v":{"v":0,"d":"$ 0"}},{"$f":"+ROUND(IF((C1139)>(3490*' '!D112),(3490*' '!D112),C1139),-3)","v":{"v":0,"d":"$ 0"}},{"$nulls":36},"G. Ocasionales",1,30,{"$f":"(AO1139=Parametros[Segmento])*(AP1139>0)*(AQ1139>0)","v":0}]
[null,"Por bienes y derechos recibidos por personas diferentes de los legitimarios y/o el cónyuge supérstite por herencias y legados",{"$nulls":38},"G. Ocasionales",1,30,{"$f":"(AO1140=Parametros[Segmento])*(AP1140>0)*(AQ1140>0)","v":0}]
[null,"20% de los bienes y derechos recibidos, limitado a 2.290 UVT ",{"$f":"+D979*20%","v":{"v":0,"d":"$ 0"}},{"$f":"+ROUND(IF(C1141>(2290*' '!D112),(2290*' '!D112),C1141),-3)","v":{"v":0,"d":"$ 0"}},{"$nulls":36},"G. Ocasionales",1,30,{"$f":"(AO1141=Parametros[Segmento])*(AP1141>0)*(AQ1141>0)","v":0}]
[null,"Por bienes y derechos recibidos por donaciones y/o por otros actos jurídicos inter vivos celebrados a título gratuito",{"$nulls":38},"G. Ocasionales",1,30,{"$f":"(AO1142=Parametros[Segmento])*(AP1142>0)*(AQ1142>0)","v":0}]
[null,"20% del valor de los bienes y derechos recibidos, limitado a 2.290 UVT ",{"$f":"+C980*20%","v":{"v":0,"d":"$ 0"}},{"$f":"+ROUND(IF(C1143>(2290*' '!D112),(2290*' '!D112),C1143),-3)","v":{"v":0,"d":"$ 0"}},{"$nulls":36},"G. Ocasionales",1,30,{"$f":"(AO1143=Parametros[Segmento])*(AP1143>0)*(AQ1143>0)","v":0}]
[null,"Indemnizaciones por seguros de vida ",{"$f":"+C994","v":{"v":0,"d":"$ 0"}},{"$f":"+ROUND(IF(C1144>0,MIN(C1144,12500*' '!D112),0),-3)","v":{"v":0,"d":"$ 0"}},{"$nulls":36},"G. Ocasionales",1,30,{"$f":"(AO1144=Parametros[Segmento])*(AP1144>0)*(AQ1144>0)","v":0}]
[null,"Primera 7.500 UVT de la utilidad generada en la venda de casa o apartamento de habitación ",null,{"$f":"IF(D959>0,IF(AND(C1146=\"Sí\",C1147=\"Sí\",C1148=\"Sí\"),IF((C1149-C1150)>(7500*' '!D112),(7500*' '!D112),(C1149-C1150)),0),0)","v":{"v":0,"d":"$ 0"}},{"$nulls":36},"G. Ocasionales",1,30,{"$f":"(AO1145=Parametros[Segmento])*(AP1145>0)*(AQ1145>0)","v":0}]
[null,"¿La venta corresponde a la casa o apartamento de habitación del contribuyente?",{"$nulls":38},"G. Ocasionales",1,30,{"$f":"(AO1146=Parametros[Segmento])*(AP1146>0)*(AQ1146>0)","v":0}]
[null,"¿La totalidad de los dineros recibidos por la venta fueron depositados cuentas AFC y sean destinados a la adquisición de otra casa o apartamento de habitación, o se destinaron para el pago total o parcial de uno o más créditos hipotecarios vinculados al bien vendido?",{"$nulls":38},"G. Ocasionales",1,50,{"$f":"(AO1147=Parametros[Segmento])*(AP1147>0)*(AQ1147>0)","v":0}]
[null,"¿El avalúo catastral del bien vendido es igual o menor al equivalente de 15.000 UVT (para el año gravable 2022 es igual a $570.060.000)",{"$nulls":38},"G. Ocasionales",1,40.1,{"$f":"(AO1148=Parametros[Segmento])*(AP1148>0)*(AQ1148>0)","v":0}]
[null,"Precio de venta de la casa o apartamento de habitación enajenada durante el 2022",{"$nulls":38},"G. Ocasionales",1,30,{"$f":"(AO1149=Parametros[Segmento])*(AP1149>0)*(AQ1149>0)","v":0}]
[null,"Costos de venta dela casa o apartamento de habitación enajenado durante el 2022 ",{"$nulls":38},"G. Ocasionales",1,30,{"$f":"(AO1150=Parametros[Segmento])*(AP1150>0)*(AQ1150>0)","v":0}]
[null,"Total ganancias ocasionales exentas ",null,{"$f":"SUM(D1136:D1145)","v":{"v":0,"d":"$ 0"}},{"$nulls":36},"G. Ocasionales",1,30,{"$f":"(AO1151=Parametros[Segmento])*(AP1151>0)*(AQ1151>0)","v":0}]
[{"$nulls":40},"G. Ocasionales",1,30,{"$f":"(AO1152=Parametros[Segmento])*(AP1152>0)*(AQ1152>0)","v":0}]
[null,"Resumen de ganancias ocasionales ",{"$nulls":38},"G. Ocasionales",1,30,{"$f":"(AO1153=Parametros[Segmento])*(AP1153>0)*(AQ1153>0)","v":0}]
[null,"Concepto","Subtotal ","Totales",{"$nulls":36},"G. Ocasionales",1,30,{"$f":"(AO1154=Parametros[Segmento])*(AP1154>0)*(AQ1154>0)","v":0}]
[null,"Ingresos por ganancias ocasionales recibidas en Colombia y en el exterior ",null,{"$f":"SUM(C1156:C1159)","v":{"v":0,"d":"$ 0"}},{"$nulls":36},"G. Ocasionales",1,30,{"$f":"(AO1155=Parametros[Segmento])*(AP1155>0)*(AQ1155>0)","v":0}]
[null,"Venta de bienes poseídos por dos años o más ",{"$f":"+D962","v":{"v":0,"d":"$ 0"}},{"$nulls":37},"G. Ocasionales",1,30,{"$f":"(AO1156=Parametros[Segmento])*(AP1156>0)*(AQ1156>0)","v":0}]
[null,"Herencias, legados, donaciones y/o porción conyugal ",{"$f":"+D981","v":{"v":0,"d":"$ 0"}},{"$nulls":37},"G. Ocasionales",1,30,{"$f":"(AO1157=Parametros[Segmento])*(AP1157>0)*(AQ1157>0)","v":0}]
[null,"Premios obtenidos en juegos de suerte y azar ",{"$f":"+D989","v":{"v":0,"d":"$ 0"}},{"$nulls":37},"G. Ocasionales",1,30,{"$f":"(AO1158=Parametros[Segmento])*(AP1158>0)*(AQ1158>0)","v":0}]
[null,"Otras ganancias ocasionales ",{"$f":"+D998","v":{"v":0,"d":"$ 0"}},{"$nulls":37},"G. Ocasionales",1,30,{"$f":"(AO1159=Parametros[Segmento])*(AP1159>0)*(AQ1159>0)","v":0}]
[null,"Rentas deudoras régimen Ley 1116 de 2006, Decretos 560 y 772 de 2020",null,{"v":0,"d":"$ 0"},{"$nulls":36},"G. Ocasionales",1,30,{"$f":"(AO1160=Parametros[Segmento])*(AP1160>0)*(AQ1160>0)","v":0}]
[null,"Utilización de pérdidas fiscales acumuladas (inc. 2, artículo 15 Decreto 772 de 2020)",null,{"v":0,"d":"$ 0"},{"$nulls":36},"G. Ocasionales",1,30,{"$f":"(AO1161=Parametros[Segmento])*(AP1161>0)*(AQ1161>0)","v":0}]
[null,"Costos por ganancias ocasionales ",null,{"$f":"IF(C1156>0,D968,0)","v":{"v":0,"d":"$ 0"}},{"$nulls":36},"G. Ocasionales",1,30,{"$f":"(AO1162=Parametros[Segmento])*(AP1162>0)*(AQ1162>0)","v":0}]
[null,"Ganancias ocasionales no gravadas y exentas ",null,{"$f":"+C1164+C1165","v":{"v":0,"d":"$ 0"}},{"$nulls":36},"G. Ocasionales",1,30,{"$f":"(AO1163=Parametros[Segmento])*(AP1163>0)*(AQ1163>0)","v":0}]
[null,"Ingresos no constitutivos de ganancia ocasional",{"$f":"+D1131","v":{"v":0,"d":"$ 0"}},{"$nulls":37},"G. Ocasionales",1,30,{"$f":"(AO1164=Parametros[Segmento])*(AP1164>0)*(AQ1164>0)","v":0}]
[null,"Ganancias ocasionales exentas ",{"$f":"+D1151","v":{"v":0,"d":"$ 0"}},{"$nulls":37},"G. Ocasionales",1,30,{"$f":"(AO1165=Parametros[Segmento])*(AP1165>0)*(AQ1165>0)","v":0}]
[null,"Ganancias ocasionales gravables",null,{"$f":"IF(D1155-D1162-D1163>0,D1155-D1162-D1163,0)","v":{"v":0,"d":"$ 0"}},{"$nulls":36},"G. Ocasionales",1,30,{"$f":"(AO1166=Parametros[Segmento])*(AP1166>0)*(AQ1166>0)","v":0}]
[{"$nulls":40},"G. Ocasionales",1,30,{"$f":"(AO1167=Parametros[Segmento])*(AP1167>0)*(AQ1167>0)","v":0}]
[null,"Concepto ","Base ","Tarifa ","Impuesto",{"$nulls":35},"G. Ocasionales",1,30,{"$f":"(AO1168=Parametros[Segmento])*(AP1168>0)*(AQ1168>0)","v":0}]
[null,"Juegos de suerte y azar ",{"$f":"+C1158","v":{"v":0,"d":"$ 0"}},{"v":0.2,"d":"20%"},{"$f":"ROUND((C1169*D1169),-3)","v":{"v":0,"d":"$ 0"}},{"$nulls":35},"G. Ocasionales",1,30,{"$f":"(AO1169=Parametros[Segmento])*(AP1169>0)*(AQ1169>0)","v":0}]
[null,"Otras ganancias ocasionales ",{"$f":"IF((D1166-C1158)>0,(D1166-C1158),0)","v":{"v":0,"d":"$ 0"}},{"v":0.1,"d":"10%"},{"$f":"ROUND((C1170*D1170),-3)","v":{"v":0,"d":"$ 0"}},{"$nulls":35},"G. Ocasionales",1,30,{"$f":"(AO1170=Parametros[Segmento])*(AP1170>0)*(AQ1170>0)","v":0}]
[9.44,115.44,23.67,5,{"$nulls":11},0,0,0,0,0,0,0,0,{"$nulls":17},"Compensaciones",0,15,{"$f":"(AO1171=Parametros[Segmento])*(AP1171>0)*(AQ1171>0)","v":0}]
[{"$nulls":40},"Compensaciones",1,30,{"$f":"(AO1172=Parametros[Segmento])*(AP1172>0)*(AQ1172>0)","v":0}]
[null,"Compensación de pérdidas fiscales años gravables anteriores",{"$nulls":38},"Compensaciones",1,30,{"$f":"(AO1173=Parametros[Segmento])*(AP1173>0)*(AQ1173>0)","v":0}]
[null,"Compensación por pérdidas fiscales de rentas por honorarios y prestación de servicios personales ",{"$nulls":38},"Compensaciones",1,30,{"$f":"(AO1174=Parametros[Segmento])*(AP1174>0)*(AQ1174>0)","v":0}]
[null,"Concepto","Valor ",{"$nulls":37},"Compensaciones",1,30,{"$f":"(AO1175=Parametros[Segmento])*(AP1175>0)*(AQ1175>0)","v":0}]
[null,"Renta líquida ordinaria de honorarios y prestación de servicios personales (Casilla 54)",{"$f":"+Resumen!F38","v":{"v":0,"d":"$ 0"}},{"$nulls":37},"Compensaciones",1,30,{"$f":"(AO1176=Parametros[Segmento])*(AP1176>0)*(AQ1176>0)","v":0}]
[null,"Pérdidas fiscales de rentas por honorarios y compensación por prestación de servicios, años gravables 2019 y siguientes",{"$f":"+' '!D159","v":{"v":0,"d":"$ 0"}},{"$nulls":37},"Compensaciones",1,30,{"$f":"(AO1177=Parametros[Segmento])*(AP1177>0)*(AQ1177>0)","v":0}]
[null,"¿El contribuyente va a compensar estás pérdidas fiscales?",{"$f":"+' '!D160","v":{"v":0,"d":"$ 0"}},{"$nulls":37},"Compensaciones",1,30,{"$f":"(AO1178=Parametros[Segmento])*(AP1178>0)*(AQ1178>0)","v":0}]
[null,"Valor a compensar de rentas por honorarios y prestación de servicios personales ",{"$f":"+IF(AND((C1176>0),C1178=\"Sí\"),IF(C1177<=C1176,C1177,C1176),0)","v":{"v":0,"d":"$ 0"}},{"$nulls":37},"Compensaciones",1,30,{"$f":"(AO1179=Parametros[Segmento])*(AP1179>0)*(AQ1179>0)","v":0}]
[null,"Valor pendiente de compensación ",{"$f":"+C1177-C1179","v":{"v":0,"d":"$ 0"}},{"$nulls":37},"Compensaciones",1,30,{"$f":"(AO1180=Parametros[Segmento])*(AP1180>0)*(AQ1180>0)","v":0}]
[{"$nulls":40},"Compensaciones",1,30,{"$f":"(AO1181=Parametros[Segmento])*(AP1181>0)*(AQ1181>0)","v":0}]
[null,"Compensación por pérdidas fiscales de rentas de capital",{"$nulls":38},"Compensaciones",1,30,{"$f":"(AO1182=Parametros[Segmento])*(AP1182>0)*(AQ1182>0)","v":0}]
[null,"Concepto","Valor ",{"$nulls":37},"Compensaciones",1,30,{"$f":"(AO1183=Parametros[Segmento])*(AP1183>0)*(AQ1183>0)","v":0}]
[null,"Renta líquida ordinaria de capital (Casilla 70)",{"$f":"+Resumen!F58","v":{"v":0,"d":"$ 0"}},{"$nulls":37},"Compensaciones",1,30,{"$f":"(AO1184=Parametros[Segmento])*(AP1184>0)*(AQ1184>0)","v":0}]
[null,"Pérdidas fiscales de rentas de capital, años gravables 2019  y siguientes",{"$f":"+' '!D161","v":{"v":0,"d":"$ 0"}},{"$nulls":37},"Compensaciones",1,30,{"$f":"(AO1185=Parametros[Segmento])*(AP1185>0)*(AQ1185>0)","v":0}]
[null,"¿El contribuyente va a compensar estás pérdidas fiscales?",{"$f":"+' '!D162","v":{"v":0,"d":"$ 0"}},{"$nulls":37},"Compensaciones",1,30,{"$f":"(AO1186=Parametros[Segmento])*(AP1186>0)*(AQ1186>0)","v":0}]
[null,"Valor a compensar por pérdidas de rentas de capital ",{"$f":"+IF(AND((C1184>0),C1186=\"Sí\"),IF(C1185<=C1184,C1185,C1184),0)","v":{"v":0,"d":"$ 0"}},{"$nulls":37},"Compensaciones",1,30,{"$f":"(AO1187=Parametros[Segmento])*(AP1187>0)*(AQ1187>0)","v":0}]
[null,"Valor pendiente de compensación ",{"$f":"+C1185-C1187","v":{"v":0,"d":"$ 0"}},{"$nulls":37},"Compensaciones",1,30,{"$f":"(AO1188=Parametros[Segmento])*(AP1188>0)*(AQ1188>0)","v":0}]
[{"$nulls":40},"Compensaciones",1,30,{"$f":"(AO1189=Parametros[Segmento])*(AP1189>0)*(AQ1189>0)","v":0}]
[null,"Compensación por pérdidas fiscales de rentas no laborales",{"$nulls":38},"Compensaciones",1,30,{"$f":"(AO1190=Parametros[Segmento])*(AP1190>0)*(AQ1190>0)","v":0}]
[null,"Concepto","Valor ",{"$nulls":37},"Compensaciones",1,30,{"$f":"(AO1191=Parametros[Segmento])*(AP1191>0)*(AQ1191>0)","v":0}]
[null,"Renta líquida ordinaria no laboral (Casilla 87)",{"$f":"+Resumen!F79","v":{"v":0,"d":"$ 0"}},{"$nulls":37},"Compensaciones",1,30,{"$f":"(AO1192=Parametros[Segmento])*(AP1192>0)*(AQ1192>0)","v":0}]
[null,"Pérdidas fiscales de rentas no laborales, años gravables 2019 y siguientes",{"$f":"+' '!D163","v":{"v":0,"d":"$ 0"}},{"$nulls":37},"Compensaciones",1,30,{"$f":"(AO1193=Parametros[Segmento])*(AP1193>0)*(AQ1193>0)","v":0}]
[null,"¿El contribuyente va a compensar estás pérdidas fiscales?",{"$f":"+' '!D164","v":{"v":0,"d":"$ 0"}},{"$nulls":37},"Compensaciones",1,30,{"$f":"(AO1194=Parametros[Segmento])*(AP1194>0)*(AQ1194>0)","v":0}]
[null,"Valor a compensar por pérdidas de rentas no laborales",{"$f":"+IF(AND((C1192>0),C1194=\"Sí\"),IF(C1193<=C1192,C1193,C1192),0)","v":{"v":0,"d":"$ 0"}},{"$nulls":37},"Compensaciones",1,30,{"$f":"(AO1195=Parametros[Segmento])*(AP1195>0)*(AQ1195>0)","v":0}]
[null,"Valor pendiente de compensación ",{"$f":"+C1193-C1195","v":{"v":0,"d":"$ 0"}},{"$nulls":37},"Compensaciones",1,30,{"$f":"(AO1196=Parametros[Segmento])*(AP1196>0)*(AQ1196>0)","v":0}]
[{"$nulls":40},"Compensaciones",1,30,{"$f":"(AO1197=Parametros[Segmento])*(AP1197>0)*(AQ1197>0)","v":0}]
[null,"Compensación por pérdidas fiscales año gravable 2018 y anteriores",{"$nulls":38},"Compensaciones",1,30,{"$f":"(AO1198=Parametros[Segmento])*(AP1198>0)*(AQ1198>0)","v":0}]
[null,"Concepto","Valor ",{"$nulls":37},"Compensaciones",1,30,{"$f":"(AO1199=Parametros[Segmento])*(AP1199>0)*(AQ1199>0)","v":0}]
[null,"Renta líquida ordinaria cédula general (Casilla 93)",{"$f":"+Resumen!F85","v":{"v":0,"d":"$ 0"}},{"$nulls":37},"Compensaciones",1,30,{"$f":"(AO1200=Parametros[Segmento])*(AP1200>0)*(AQ1200>0)","v":0}]
[null,"Límite para compensación de pérdidas fiscales del año gravable 2018 y anteriores (Casilla 93 - Renta \nlíquida ordinaria cédula general menos Casilla 42 - Renta líquida ordinaria rentas de trabajo)",{"$f":"+IF(Resumen!F85>0,(Resumen!F85-Resumen!F22),0)","v":{"v":0,"d":"$ 0"}},{"$nulls":37},"Compensaciones",1,40.1,{"$f":"(AO1201=Parametros[Segmento])*(AP1201>0)*(AQ1201>0)","v":0}]
[null,"Pérdidas fiscales acumuladas correspondientes al año gravable 2018 y anteriores, sin compensar",{"$f":"+' '!D165","v":{"v":0,"d":"$ 0"}},{"$nulls":37},"Compensaciones",1,30,{"$f":"(AO1202=Parametros[Segmento])*(AP1202>0)*(AQ1202>0)","v":0}]
[null,"¿El contribuyente va a compensar estás pérdidas fiscales?",{"$f":"+' '!D166","v":{"v":0,"d":"$ 0"}},{"$nulls":37},"Compensaciones",1,30,{"$f":"(AO1203=Parametros[Segmento])*(AP1203>0)*(AQ1203>0)","v":0}]
[null,"Valor a compensar por pérdidas fiscales año gravable 2018 y anteriores",{"$f":"+IF(AND((C1201>0),C1203=\"Sí\"),IF(C1202<=C1201,C1202,C1201),0)","v":{"v":0,"d":"$ 0"}},{"$nulls":37},"Compensaciones",1,30,{"$f":"(AO1204=Parametros[Segmento])*(AP1204>0)*(AQ1204>0)","v":0}]
[null,"     ",{"$f":"C1202-C1204","v":{"v":0,"d":"$ 0"}},{"$nulls":37},"Compensaciones",1,30,{"$f":"(AO1205=Parametros[Segmento])*(AP1205>0)*(AQ1205>0)","v":0}]
[{"$nulls":40},"Compensaciones",1,30,{"$f":"(AO1206=Parametros[Segmento])*(AP1206>0)*(AQ1206>0)","v":0}]
[null,"Compensación por exceso de renta presuntiva",{"$nulls":38},"Compensaciones",1,30,{"$f":"(AO1207=Parametros[Segmento])*(AP1207>0)*(AQ1207>0)","v":0}]
[null,"Concepto","Valor ",{"$nulls":37},"Compensaciones",1,30,{"$f":"(AO1208=Parametros[Segmento])*(AP1208>0)*(AQ1208>0)","v":0}]
[null,"Renta líquida ordinaria cédula general (Casilla 93)",{"$f":"+Resumen!F85","v":{"v":0,"d":"$ 0"}},{"$nulls":37},"Compensaciones",1,30,{"$f":"(AO1209=Parametros[Segmento])*(AP1209>0)*(AQ1209>0)","v":0}]
[null,"Límite para compensación por exceso de renta presuntiva",{"$f":"+IF(AND(C1209>0,C1204>0),(C1209-C1204),C1209)","v":{"v":0,"d":"$ 0"}},{"$nulls":37},"Compensaciones",1,30,{"$f":"(AO1210=Parametros[Segmento])*(AP1210>0)*(AQ1210>0)","v":0}]
[null,"Pérdidas fiscales acumuladas correspondientes al año gravable 2018 y anteriores, sin compensar",{"$f":"+' '!D167","v":{"v":0,"d":"$ 0"}},{"$nulls":37},"Compensaciones",1,30,{"$f":"(AO1211=Parametros[Segmento])*(AP1211>0)*(AQ1211>0)","v":0}]
[null,"¿El contribuyente va a compensar estás pérdidas fiscales?",{"$f":"+' '!D168","v":{"v":0,"d":"$ 0"}},{"$nulls":37},"Compensaciones",1,30,{"$f":"(AO1212=Parametros[Segmento])*(AP1212>0)*(AQ1212>0)","v":0}]
[null,"Valor a compensar por exceso de renta presuntiva",{"$f":"+IF(AND((C1210>0),C1212=\"Sí\"),IF(C1211<=C1210,C1211,C1210),0)","v":{"v":0,"d":"$ 0"}},{"$nulls":37},"Compensaciones",1,30,{"$f":"(AO1213=Parametros[Segmento])*(AP1213>0)*(AQ1213>0)","v":0}]
[null,"Valor pendiente de compensación ",{"$f":"C1211-C1213","v":{"v":0,"d":"$ 0"}},{"$nulls":37},"Compensaciones",1,30,{"$f":"(AO1214=Parametros[Segmento])*(AP1214>0)*(AQ1214>0)","v":0}]
[2.44,4.22,105.11,31.33,5,{"$nulls":10},0,0,0,0,0,0,0,0,{"$nulls":17},"Comparación Patrimonial",0,15,{"$f":"(AO1215=Parametros[Segmento])*(AP1215>0)*(AQ1215>0)","v":0}]
[{"$nulls":40},"Comparación Patrimonial",1,30,{"$f":"(AO1216=Parametros[Segmento])*(AP1216>0)*(AQ1216>0)","v":0}]
[null,"Determinación de renta por comparación patrimonial",{"$nulls":38},"Comparación Patrimonial",1,30,{"$f":"(AO1217=Parametros[Segmento])*(AP1217>0)*(AQ1217>0)","v":0}]
[null,"Comparación patrimonial ",{"$nulls":38},"Comparación Patrimonial",1,30,{"$f":"(AO1218=Parametros[Segmento])*(AP1218>0)*(AQ1218>0)","v":0}]
[null,null,"Patrimonio líquido a 31 de diciembre de 2022",{"$f":"+Resumen!F6","v":{"v":272078000,"d":"$ 272,078,000"}},{"$nulls":36},"Comparación Patrimonial",1,30,{"$f":"(AO1219=Parametros[Segmento])*(AP1219>0)*(AQ1219>0)","v":0}]
[null,"(-)","Valorizaciones ",{"$f":"+' '!M220+' '!O319+' '!K312","v":{"v":8674525,"d":"$ 8,674,525"}},{"$nulls":36},"Comparación Patrimonial",1,30,{"$f":"(AO1220=Parametros[Segmento])*(AP1220>0)*(AQ1220>0)","v":0}]
[null,"(-)","Patrimonio líquido a 31 de diciembre de 2021",{"$f":"+' '!D153","v":{"v":241560000,"d":"$ 241,560,000"}},{"$nulls":36},"Comparación Patrimonial",1,30,{"$f":"(AO1221=Parametros[Segmento])*(AP1221>0)*(AQ1221>0)","v":0}]
[null,"(=)","Variación patrimonial",{"$f":"+D1219-D1220-D1221","v":{"v":21843475,"d":"$ 21,843,475"}},{"$nulls":36},"Comparación Patrimonial",1,30,{"$f":"(AO1222=Parametros[Segmento])*(AP1222>0)*(AQ1222>0)","v":0}]
[null,null,"Renta líquida gravable ",{"$f":"+Resumen!F85+Resumen!F98+Resumen!F103+Resumen!F104+Resumen!F105+Resumen!F106+Resumen!F116","v":{"v":0,"d":"$ 0"}},{"$nulls":36},"Comparación Patrimonial",1,30,{"$f":"(AO1223=Parametros[Segmento])*(AP1223>0)*(AQ1223>0)","v":0}]
[null,"(+)","Rentas exentas ",{"$f":"+Resumen!F16+Resumen!F32+Resumen!F52+Resumen!F73+Resumen!F97+Resumen!F108","v":{"v":56160000,"d":"$ 56,160,000"}},{"$nulls":36},"Comparación Patrimonial",1,30,{"$f":"(AO1224=Parametros[Segmento])*(AP1224>0)*(AQ1224>0)","v":0}]
[null,"(+)","Ingresos no constitutivos de renta ",{"$f":"+Resumen!F11+Resumen!F26+Resumen!F45+Resumen!F66+Resumen!F94+Resumen!F102+Resumen!F115","v":{"v":2575000,"d":"$ 2,575,000"}},{"$nulls":36},"Comparación Patrimonial",1,30,{"$f":"(AO1225=Parametros[Segmento])*(AP1225>0)*(AQ1225>0)","v":0}]
[null,"(-)","Impuesto de renta y complementario pagado durante el 2022",{"$f":"+' '!D155","v":{"v":0,"d":"$ 0"}},{"$nulls":36},"Comparación Patrimonial",1,30,{"$f":"(AO1226=Parametros[Segmento])*(AP1226>0)*(AQ1226>0)","v":0}]
[null,"(-)","Retenciones que le fueron practicadas durante el 2022",{"$f":"+Resumen!F136","v":{"v":0,"d":"$ 0"}},{"$nulls":36},"Comparación Patrimonial",1,30,{"$f":"(AO1227=Parametros[Segmento])*(AP1227>0)*(AQ1227>0)","v":0}]
[null,"(=)","Renta que puede justificar incrementos patrimoniales ",{"$f":"+D1223+D1224+D1225-D1226-D1227","v":{"v":58735000,"d":"$ 58,735,000"}},{"$nulls":36},"Comparación Patrimonial",1,30,{"$f":"(AO1228=Parametros[Segmento])*(AP1228>0)*(AQ1228>0)","v":0}]
[null,"(=)","Renta por comparacion patrimonial ",{"$f":"+IF(D1228<D1222,D1222-D1228,0)","v":{"v":0,"d":"$ 0"}},{"$nulls":36},"Comparación Patrimonial",1,30,{"$f":"(AO1229=Parametros[Segmento])*(AP1229>0)*(AQ1229>0)","v":0}]
[1.67,105.78,19.56,5,{"$nulls":11},0,0,0,0,0,0,0,0,{"$nulls":17},"Retenciones",0,15,{"$f":"(AO1230=Parametros[Segmento])*(AP1230>0)*(AQ1230>0)","v":0}]
[{"$nulls":40},"Retenciones",1,30,{"$f":"(AO1231=Parametros[Segmento])*(AP1231>0)*(AQ1231>0)","v":0}]
[null,"Retenciones en la fuente ",{"$nulls":38},"Retenciones",1,30,{"$f":"(AO1232=Parametros[Segmento])*(AP1232>0)*(AQ1232>0)","v":0}]
[null,"Retenciones en la fuente por Ingresos Ordinarios",{"$nulls":38},"Retenciones",1,30,{"$f":"(AO1233=Parametros[Segmento])*(AP1233>0)*(AQ1233>0)","v":0}]
[null,"Concepto ","Valor",{"$nulls":37},"Retenciones",1,30,{"$f":"(AO1234=Parametros[Segmento])*(AP1234>0)*(AQ1234>0)","v":0}]
[{"$nulls":38},{"$f":"AO1235","v":"Retenciones"},{"$f":"SUBSTITUTE($B$1233,CHAR(10),\"\")","v":"Retenciones en la fuente por Ingresos Ordinarios"},"Retenciones",{"$f":"(AN1235=OFFSET(AN1235,1,0))*1","v":1},30,{"$f":"(AO1235=Parametros[Segmento])*(AP1235>0)*(AQ1235>0)","v":0}]
[{"$nulls":38},{"$f":"AO1236","v":"Retenciones"},{"$f":"SUBSTITUTE($B$1233,CHAR(10),\"\")","v":"Retenciones en la fuente por Ingresos Ordinarios"},"Retenciones",{"$f":"(AN1236=OFFSET(AN1236,1,0))*1","v":0},30,{"$f":"(AO1236=Parametros[Segmento])*(AP1236>0)*(AQ1236>0)","v":0}]
[null,"Total retenciones en la fuente por Ingresos Ordinarios",{"$f":"SUM(C1235:C1236)","v":{"v":0,"d":"$ 0"}},{"$nulls":37},"Retenciones",1,40.1,{"$f":"(AO1237=Parametros[Segmento])*(AP1237>0)*(AQ1237>0)","v":0}]
[{"$nulls":40},"Retenciones",1,0,{"$f":"(AO1238=Parametros[Segmento])*(AP1238>0)*(AQ1238>0)","v":0}]
[null,"Retenciones en la fuente por Ganancias Ocasionales",{"$nulls":38},"Retenciones",1,30,{"$f":"(AO1239=Parametros[Segmento])*(AP1239>0)*(AQ1239>0)","v":0}]
[null,"Concepto ","Valor",{"$nulls":37},"Retenciones",1,30,{"$f":"(AO1240=Parametros[Segmento])*(AP1240>0)*(AQ1240>0)","v":0}]
[{"$nulls":38},{"$f":"AO1241","v":"Retenciones"},{"$f":"SUBSTITUTE($B$1239,CHAR(10),\"\")","v":"Retenciones en la fuente por Ganancias Ocasionales"},"Retenciones",{"$f":"(AN1241=OFFSET(AN1241,1,0))*1","v":1},30,{"$f":"(AO1241=Parametros[Segmento])*(AP1241>0)*(AQ1241>0)","v":0}]
[{"$nulls":38},{"$f":"AO1242","v":"Retenciones"},{"$f":"SUBSTITUTE($B$1239,CHAR(10),\"\")","v":"Retenciones en la fuente por Ganancias Ocasionales"},"Retenciones",{"$f":"(AN1242=OFFSET(AN1242,1,0))*1","v":0},30,{"$f":"(AO1242=Parametros[Segmento])*(AP1242>0)*(AQ1242>0)","v":0}]
[null,"Total retenciones en la fuente por Ganancias Ocasionales",{"$f":"SUM(C1241:C1242)","v":{"v":0,"d":"$ 0"}},{"$nulls":37},"Retenciones",1,40.1,{"$f":"(AO1243=Parametros[Segmento])*(AP1243>0)*(AQ1243>0)","v":0}]
[{"$nulls":40},"Retenciones",1,0,{"$f":"(AO1244=Parametros[Segmento])*(AP1244>0)*(AQ1244>0)","v":0}]
[null,"Total retenciones en la fuente por Ingresos Ordinarios y Ganancias Ocasionales",{"$f":"+C1237+C1243","v":{"v":0,"d":"$ 0"}},{"$nulls":37},"Retenciones",1,30,{"$f":"(AO1245=Parametros[Segmento])*(AP1245>0)*(AQ1245>0)","v":0}]
[8,95.56,19.44,19.44,5,{"$nulls":10},0,0,0,0,0,0,0,0,{"$nulls":17},"Descuentos Tributarios",0,15,{"$f":"(AO1246=Parametros[Segmento])*(AP1246>0)*(AQ1246>0)","v":0}]
[{"$nulls":40},"Descuentos Tributarios",1,30,{"$f":"(AO1247=Parametros[Segmento])*(AP1247>0)*(AQ1247>0)","v":0}]
[null,"Descuentos Tributarios ",{"$nulls":38},"Descuentos Tributarios",1,30,{"$f":"(AO1248=Parametros[Segmento])*(AP1248>0)*(AQ1248>0)","v":0}]
[null,"Impuestos pagados en el exterior ",null,"Valor ",{"$nulls":36},"Descuentos Tributarios",1,30,{"$f":"(AO1249=Parametros[Segmento])*(AP1249>0)*(AQ1249>0)","v":0}]
[null,"Impuestos pagados en el exterior ",{"$nulls":38},"Descuentos Tributarios",1,30,{"$f":"(AO1250=Parametros[Segmento])*(AP1250>0)*(AQ1250>0)","v":0}]
[{"$nulls":38},{"$f":"AO1251","v":"Descuentos Tributarios"},{"$f":"SUBSTITUTE($B$1250,CHAR(10),\"\")","v":"Impuestos pagados en el exterior "},"Descuentos Tributarios",{"$f":"(AN1251=OFFSET(AN1251,1,0))*1","v":1},30,{"$f":"(AO1251=Parametros[Segmento])*(AP1251>0)*(AQ1251>0)","v":0}]
[{"$nulls":38},{"$f":"AO1252","v":"Descuentos Tributarios"},{"$f":"SUBSTITUTE($B$1250,CHAR(10),\"\")","v":"Impuestos pagados en el exterior "},"Descuentos Tributarios",{"$f":"(AN1252=OFFSET(AN1252,1,0))*1","v":0},30,{"$f":"(AO1252=Parametros[Segmento])*(AP1252>0)*(AQ1252>0)","v":0}]
[null,null,"Total impuestos pagados en el exterior ",{"$f":"SUM(C1251:C1252)","v":{"v":0,"d":"$ 0"}},{"$nulls":36},"Descuentos Tributarios",1,30,{"$f":"(AO1253=Parametros[Segmento])*(AP1253>0)*(AQ1253>0)","v":0}]
[null," Impuestos pagados  en el exterior por rentas pasivas - ECE ",{"$nulls":38},"Descuentos Tributarios",1,30,{"$f":"(AO1254=Parametros[Segmento])*(AP1254>0)*(AQ1254>0)","v":0}]
[{"$nulls":38},{"$f":"AO1255","v":"Descuentos Tributarios"},{"$f":"SUBSTITUTE($B$1254,CHAR(10),\"\")","v":" Impuestos pagados  en el exterior por rentas pasivas - ECE "},"Descuentos Tributarios",{"$f":"(AN1255=OFFSET(AN1255,1,0))*1","v":1},30,{"$f":"(AO1255=Parametros[Segmento])*(AP1255>0)*(AQ1255>0)","v":0}]
[{"$nulls":38},{"$f":"AO1256","v":"Descuentos Tributarios"},{"$f":"SUBSTITUTE($B$1254,CHAR(10),\"\")","v":" Impuestos pagados  en el exterior por rentas pasivas - ECE "},"Descuentos Tributarios",{"$f":"(AN1256=OFFSET(AN1256,1,0))*1","v":0},30,{"$f":"(AO1256=Parametros[Segmento])*(AP1256>0)*(AQ1256>0)","v":0}]
[null,null,"Total impuesto pagados en el exterior por rentas pasivas ECE",{"$f":"+SUM(C1255:C1256)","v":{"v":0,"d":"$ 0"}},{"$nulls":36},"Descuentos Tributarios",1,30,{"$f":"(AO1257=Parametros[Segmento])*(AP1257>0)*(AQ1257>0)","v":0}]
[null,null,"Total impuestos pagados en el exterior",{"$f":"+D1253+D1257","v":{"v":0,"d":"$ 0"}},{"$nulls":36},"Descuentos Tributarios",1,30,{"$f":"(AO1258=Parametros[Segmento])*(AP1258>0)*(AQ1258>0)","v":0}]
[null,"Impuesto pagados en el exterior por ganancias ocasionales",{"$nulls":38},"Descuentos Tributarios",1,30,{"$f":"(AO1259=Parametros[Segmento])*(AP1259>0)*(AQ1259>0)","v":0}]
[{"$nulls":38},{"$f":"AO1260","v":"Descuentos Tributarios"},{"$f":"SUBSTITUTE($B$1259,CHAR(10),\"\")","v":"Impuesto pagados en el exterior por ganancias ocasionales"},"Descuentos Tributarios",{"$f":"(AN1260=OFFSET(AN1260,1,0))*1","v":1},30,{"$f":"(AO1260=Parametros[Segmento])*(AP1260>0)*(AQ1260>0)","v":0}]
[{"$nulls":38},{"$f":"AO1261","v":"Descuentos Tributarios"},{"$f":"SUBSTITUTE($B$1259,CHAR(10),\"\")","v":"Impuesto pagados en el exterior por ganancias ocasionales"},"Descuentos Tributarios",{"$f":"(AN1261=OFFSET(AN1261,1,0))*1","v":0},30,{"$f":"(AO1261=Parametros[Segmento])*(AP1261>0)*(AQ1261>0)","v":0}]
[null,null,"Total impuesto pagados en el exterior por ganancias ocasionales",{"$f":"SUM(C1260:C1261)","v":{"v":0,"d":"$ 0"}},{"$nulls":36},"Descuentos Tributarios",1,30,{"$f":"(AO1262=Parametros[Segmento])*(AP1262>0)*(AQ1262>0)","v":0}]
[null,"Donaciones",{"$nulls":38},"Descuentos Tributarios",1,30,{"$f":"(AO1263=Parametros[Segmento])*(AP1263>0)*(AQ1263>0)","v":0}]
[null,"Donaciones o inversiones realizadas en investigación, desarrollo tecnológico o innovación ",{"$nulls":38},"Descuentos Tributarios",1,30,{"$f":"(AO1264=Parametros[Segmento])*(AP1264>0)*(AQ1264>0)","v":0}]
[null,"Valor donado",{"$nulls":38},"Descuentos Tributarios",1,30,{"$f":"(AO1265=Parametros[Segmento])*(AP1265>0)*(AQ1265>0)","v":0}]
[null,"Límite individual ",null,{"v":0.25,"d":"25%"},{"$nulls":36},"Descuentos Tributarios",1,30,{"$f":"(AO1266=Parametros[Segmento])*(AP1266>0)*(AQ1266>0)","v":0}]
[null,"Valor inicialmente permitido como descuento ",null,{"$f":"+D1265*D1266","v":{"v":0,"d":"$ 0"}},{"$nulls":36},"Descuentos Tributarios",1,30,{"$f":"(AO1267=Parametros[Segmento])*(AP1267>0)*(AQ1267>0)","v":0}]
[null,"Donaciones hechas a programas creados por las instituciones de educación superior o por el ICETEX ",{"$nulls":38},"Descuentos Tributarios",1,30,{"$f":"(AO1268=Parametros[Segmento])*(AP1268>0)*(AQ1268>0)","v":0}]
[null,"Valor donado",{"$nulls":38},"Descuentos Tributarios",1,30,{"$f":"(AO1269=Parametros[Segmento])*(AP1269>0)*(AQ1269>0)","v":0}]
[null,"Límite individual ",null,{"v":0.25,"d":"25%"},{"$nulls":36},"Descuentos Tributarios",1,30,{"$f":"(AO1270=Parametros[Segmento])*(AP1270>0)*(AQ1270>0)","v":0}]
[null,"Valor inicialmente permitido como descuento ",null,{"$f":"+D1269*D1270","v":{"v":0,"d":"$ 0"}},{"$nulls":36},"Descuentos Tributarios",1,30,{"$f":"(AO1271=Parametros[Segmento])*(AP1271>0)*(AQ1271>0)","v":0}]
[null,"Donaciones a entidades sin ánimo de lucro pertenecientes al régimen especial ",{"$nulls":38},"Descuentos Tributarios",1,30,{"$f":"(AO1272=Parametros[Segmento])*(AP1272>0)*(AQ1272>0)","v":0}]
[null,"Valor donado",{"$nulls":38},"Descuentos Tributarios",1,30,{"$f":"(AO1273=Parametros[Segmento])*(AP1273>0)*(AQ1273>0)","v":0}]
[null,"Límite individual ",null,{"v":0.25,"d":"25%"},{"$nulls":36},"Descuentos Tributarios",1,30,{"$f":"(AO1274=Parametros[Segmento])*(AP1274>0)*(AQ1274>0)","v":0}]
[null,"Valor inicialmente permitido como descuento ",null,{"$f":"+D1273*D1274","v":{"v":0,"d":"$ 0"}},{"$nulls":36},"Descuentos Tributarios",1,30,{"$f":"(AO1275=Parametros[Segmento])*(AP1275>0)*(AQ1275>0)","v":0}]
[null,"Becas por impuestos",{"$nulls":38},"Descuentos Tributarios",1,30,{"$f":"(AO1276=Parametros[Segmento])*(AP1276>0)*(AQ1276>0)","v":0}]
[null,"Valor donado ",{"$nulls":38},"Descuentos Tributarios",1,30,{"$f":"(AO1277=Parametros[Segmento])*(AP1277>0)*(AQ1277>0)","v":0}]
[null,"Límite individual ",null,{"$f":"IF(D1277>0,Resumen!F124*30%,0)","v":{"v":0,"d":"$ 0"}},{"$nulls":36},"Descuentos Tributarios",1,30,{"$f":"(AO1278=Parametros[Segmento])*(AP1278>0)*(AQ1278>0)","v":0}]
[null,"Valor a tomar inicialmente ",null,{"$f":"IF(D1277>D1278,D1278,D1277)","v":{"v":0,"d":"$ 0"}},{"$nulls":36},"Descuentos Tributarios",1,30,{"$f":"(AO1279=Parametros[Segmento])*(AP1279>0)*(AQ1279>0)","v":0}]
[null,"Donaciones para el financiamiento y sostenimiento de las Instituciones Públicas de Educación Superior",{"$nulls":38},"Descuentos Tributarios",1,30,{"$f":"(AO1280=Parametros[Segmento])*(AP1280>0)*(AQ1280>0)","v":0}]
[null,"Valor donado ",{"$nulls":38},"Descuentos Tributarios",1,30,{"$f":"(AO1281=Parametros[Segmento])*(AP1281>0)*(AQ1281>0)","v":0}]
[null,"Límite individual ",null,{"v":0.25,"d":"25%"},{"$nulls":36},"Descuentos Tributarios",1,30,{"$f":"(AO1282=Parametros[Segmento])*(AP1282>0)*(AQ1282>0)","v":0}]
[null,"Valor a tomar inicialmente ",null,{"$f":"+D1281*D1282","v":{"v":0,"d":"$ 0"}},{"$nulls":36},"Descuentos Tributarios",1,30,{"$f":"(AO1283=Parametros[Segmento])*(AP1283>0)*(AQ1283>0)","v":0}]
[null,"Resumen límite aplicable a descuentos por donaciones",{"$nulls":38},"Descuentos Tributarios",1,30,{"$f":"(AO1284=Parametros[Segmento])*(AP1284>0)*(AQ1284>0)","v":0}]
[null,"Valor conjunto a tomar inicialmente por donaciones ",null,{"$f":"+D1267+D1271+D1275+D1283+D1279","v":{"v":0,"d":"$ 0"}},{"$nulls":36},"Descuentos Tributarios",1,30,{"$f":"(AO1285=Parametros[Segmento])*(AP1285>0)*(AQ1285>0)","v":0}]
[null,"Límite conjunto ",null,{"$f":"Resumen!F124*30%","v":{"v":0,"d":"$ 0"}},{"$nulls":36},"Descuentos Tributarios",1,30,{"$f":"(AO1286=Parametros[Segmento])*(AP1286>0)*(AQ1286>0)","v":0}]
[null,"Valor permitido a tomar como descuento por donaciones ",null,{"$f":"+IF(D1285<=D1286,D1285,D1286)","v":{"v":0,"d":"$ 0"}},{"$nulls":36},"Descuentos Tributarios",1,30,{"$f":"(AO1287=Parametros[Segmento])*(AP1287>0)*(AQ1287>0)","v":0}]
[{"$nulls":40},"Descuentos Tributarios",1,30,{"$f":"(AO1288=Parametros[Segmento])*(AP1288>0)*(AQ1288>0)","v":0}]
[null,"Otros descuentos tributarios ",{"$nulls":38},"Descuentos Tributarios",1,30,{"$f":"(AO1289=Parametros[Segmento])*(AP1289>0)*(AQ1289>0)","v":0}]
[null,"50% del impuesto de industria y comercio pagado ",{"$nulls":38},"Descuentos Tributarios",1,30,{"$f":"(AO1290=Parametros[Segmento])*(AP1290>0)*(AQ1290>0)","v":0}]
[null,"IVA pagado en la importación, formación, construcción o adquisición de activos fijos reales \nproductivos",{"$nulls":38},"Descuentos Tributarios",1,40,{"$f":"(AO1291=Parametros[Segmento])*(AP1291>0)*(AQ1291>0)","v":0}]
[null,"50% del valor de las donaciones tendientes a lograr la inmunización de la población colombiana \nfrente al COVID-19 y cualquier otra pandemia ",{"$nulls":38},"Descuentos Tributarios",1,40,{"$f":"(AO1292=Parametros[Segmento])*(AP1292>0)*(AQ1292>0)","v":0}]
[null,"Otros descuentos tributarios aplicables, no mencionados anteriormente",{"$nulls":38},"Descuentos Tributarios",1,30,{"$f":"(AO1293=Parametros[Segmento])*(AP1293>0)*(AQ1293>0)","v":0}]
[null,null,"Total otros descuentos tributarios ",{"$f":"SUM(D1290:D1293)","v":{"v":0,"d":"$ 0"}},{"$nulls":36},"Descuentos Tributarios",1,30,{"$f":"(AO1294=Parametros[Segmento])*(AP1294>0)*(AQ1294>0)","v":0}]
[null,null,"Subtotal descuentos tributarios ",{"$f":"+D1258+D1287+D1294","v":{"v":0,"d":"$ 0"}},{"$nulls":36},"Descuentos Tributarios",1,30,{"$f":"(AO1295=Parametros[Segmento])*(AP1295>0)*(AQ1295>0)","v":0}]
[null,null,"Límite general de los descuentos tributarios (artículo 259 del ET)",{"$f":"+IF(D1295>Resumen!F124,Resumen!F124,' '!D1295)","v":{"v":0,"d":"$ 0"}},{"$nulls":36},"Descuentos Tributarios",1,30,{"$f":"(AO1296=Parametros[Segmento])*(AP1296>0)*(AQ1296>0)","v":0}]
[0.94,30.67,30.67,15.33,48,18,21,5,{"$nulls":7},0,0,0,0,0,0,0,0,{"$nulls":17},"ImpRentasLíquidasGravab",0,15,{"$f":"(AO1297=Parametros[Segmento])*(AP1297>0)*(AQ1297>0)","v":0}]
[{"$nulls":40},"ImpRentasLíquidasGravab",1,30,{"$f":"(AO1298=Parametros[Segmento])*(AP1298>0)*(AQ1298>0)","v":0}]
[null,"Cálculo de impuestos ",{"$nulls":38},"ImpRentasLíquidasGravab",1,30,{"$f":"(AO1299=Parametros[Segmento])*(AP1299>0)*(AQ1299>0)","v":0}]
[null,"Cédula General y de Pensiones",{"$nulls":38},"ImpRentasLíquidasGravab",1,30,{"$f":"(AO1300=Parametros[Segmento])*(AP1300>0)*(AQ1300>0)","v":0}]
[null,"Renta líquida gravable cédula general y de pensiones en pesos",{"$nulls":4},{"$f":"IF(OR((Resumen!F89>Resumen!F90),(Resumen!F98>Resumen!F90)),(Resumen!F89+Resumen!F98),0)","v":{"v":0,"d":"$ 0"}},{"$nulls":33},"ImpRentasLíquidasGravab",1,30,{"$f":"(AO1301=Parametros[Segmento])*(AP1301>0)*(AQ1301>0)","v":0}]
[null,"Renta presuntiva y de pensiones ",{"$nulls":4},{"$f":"+IF(Resumen!F90>Resumen!F89,Resumen!F90+Resumen!F98,0)","v":{"v":0,"d":"$ 0"}},{"$nulls":33},"ImpRentasLíquidasGravab",1,30,{"$f":"(AO1302=Parametros[Segmento])*(AP1302>0)*(AQ1302>0)","v":0}]
[null,"Renta líquida gravable cédula general y de pensiones en UVT",{"$nulls":4},{"$f":"MAX(G1301,G1302)/' '!D112","v":{"v":0,"d":"0.00"}},{"$nulls":33},"ImpRentasLíquidasGravab",1,30,{"$f":"(AO1303=Parametros[Segmento])*(AP1303>0)*(AQ1303>0)","v":0}]
[null,"Rangos en UVT",null,"Tarifa marginal","Impuesto ","Impuesto en UVT ","Impuesto en pesos ",{"$nulls":33},"ImpRentasLíquidasGravab",1,40.1,{"$f":"(AO1304=Parametros[Segmento])*(AP1304>0)*(AQ1304>0)","v":0}]
[null,0,1090,{"v":0,"d":"0%"},"Ninguna",{"$nulls":35},"ImpRentasLíquidasGravab",1,30,{"$f":"(AO1305=Parametros[Segmento])*(AP1305>0)*(AQ1305>0)","v":0}]
[null,1090,1700,{"v":0.19,"d":"19%"},"(Ingreso laboral gravado expresado en UVT menos 1090 UVT)*19% ",{"$f":"IF(G1303>B1306,IF((G1303<=C1306),(G1303-B1306)*D1306),0)+0","v":{"v":0,"d":"0.00"}},{"$f":"(F1306*' '!D112)+0","v":{"v":0,"d":"$ 0"}},{"$nulls":33},"ImpRentasLíquidasGravab",1,40.1,{"$f":"(AO1306=Parametros[Segmento])*(AP1306>0)*(AQ1306>0)","v":0}]
[null,1700,4100,{"v":0.28,"d":"28%"},"(Ingreso laboral gravado expresado en UVT menos 1700 UVT)*28% más 116 UVT",{"$f":"IF(G1303>B1307,IF((G1303<=C1307),(((G1303-B1307)*D1307)+116)),0)+0","v":{"v":0,"d":"0.00"}},{"$f":"(F1307*' '!D112)+0","v":{"v":0,"d":"$ 0"}},{"$nulls":33},"ImpRentasLíquidasGravab",1,40.1,{"$f":"(AO1307=Parametros[Segmento])*(AP1307>0)*(AQ1307>0)","v":0}]
[null,4100,8670,{"v":0.33,"d":"33%"},"(Ingreso laboral gravado expresado en UVT menos 4100 UVT)*33% más 788 UVT",{"$f":"IF(G1303>B1308,IF((G1303<=C1308),(((G1303-B1308)*D1308)+788)),0)+0","v":{"v":0,"d":"0.00"}},{"$f":"(F1308*' '!D112)+0","v":{"v":0,"d":"$ 0"}},{"$nulls":33},"ImpRentasLíquidasGravab",1,40.1,{"$f":"(AO1308=Parametros[Segmento])*(AP1308>0)*(AQ1308>0)","v":0}]
[null,8670,18970,{"v":0.35,"d":"35%"},"(Ingreso laboral gravado expresado en UVT menos 8670 UVT)*35% más 2296 UVT",{"$f":"IF(G1303>B1309,IF((G1303<=C1309),(((G1303-B1309)*D1309)+2296)),0)+0","v":{"v":0,"d":"0.00"}},{"$f":"(F1309*' '!D112)+0","v":{"v":0,"d":"$ 0"}},{"$nulls":33},"ImpRentasLíquidasGravab",1,40.1,{"$f":"(AO1309=Parametros[Segmento])*(AP1309>0)*(AQ1309>0)","v":0}]
[null,18970,31000,{"v":0.37,"d":"37%"},"(Ingreso laboral gravado expresado en UVT menos 18970 UVT)*37% más 5901 UVT",{"$f":"IF(G1303>B1310,IF((G1303<=C1310),(((G1303-B1310)*D1310)+5901)),0)+0","v":{"v":0,"d":"0.00"}},{"$f":"(F1310*' '!D112)+0","v":{"v":0,"d":"$ 0"}},{"$nulls":33},"ImpRentasLíquidasGravab",1,40.1,{"$f":"(AO1310=Parametros[Segmento])*(AP1310>0)*(AQ1310>0)","v":0}]
[null,31000,"En adelante",{"v":0.39,"d":"39%"},"(Ingreso laboral gravado expresado en UVT menos 3100 UVT)*39% más 10352 UVT",{"$f":"IF(G1303>C1310,(((G1303-B1311)*D1311)+10352),0)+0","v":{"v":0,"d":"0.00"}},{"$f":"(F1311*' '!D112)+0","v":{"v":0,"d":"$ 0"}},{"$nulls":33},"ImpRentasLíquidasGravab",1,40.1,{"$f":"(AO1311=Parametros[Segmento])*(AP1311>0)*(AQ1311>0)","v":0}]
[{"$nulls":40},"ImpRentasLíquidasGravab",1,30,{"$f":"(AO1312=Parametros[Segmento])*(AP1312>0)*(AQ1312>0)","v":0}]
[null,"Dividendos y participaciones de utilidades generadas en 2016 y/o anteriores, distribuidas según el parágrafo 2 del artículo 49 del ET (Gravados)",{"$nulls":38},"ImpRentasLíquidasGravab",1,30,{"$f":"(AO1313=Parametros[Segmento])*(AP1313>0)*(AQ1313>0)","v":0}]
[null,"Renta líquida dividendos y/o participaciones de utilidades generadas en el año gravable 2016 y anteriores en pesos",{"$nulls":4},{"$f":"+Resumen!F103","v":{"v":0,"d":"$ 0"}},{"$nulls":33},"ImpRentasLíquidasGravab",1,30,{"$f":"(AO1314=Parametros[Segmento])*(AP1314>0)*(AQ1314>0)","v":0}]
[null,"Renta líquida dividendos y/o participaciones de utilidades generadas en el año gravable 2016 y anteriores en UVT",{"$nulls":4},{"$f":"G1314/' '!D112","v":{"v":0,"d":"0.00"}},{"$nulls":33},"ImpRentasLíquidasGravab",1,30,{"$f":"(AO1315=Parametros[Segmento])*(AP1315>0)*(AQ1315>0)","v":0}]
[null,"Rangos en UVT",null,"Tarifa marginal","Impuesto ","Impuesto en UVT ","Impuesto en pesos ",{"$nulls":33},"ImpRentasLíquidasGravab",1,40.1,{"$f":"(AO1316=Parametros[Segmento])*(AP1316>0)*(AQ1316>0)","v":0}]
[null,0,1090,{"v":0,"d":"0%"},"Ninguna",{"$nulls":35},"ImpRentasLíquidasGravab",1,30,{"$f":"(AO1317=Parametros[Segmento])*(AP1317>0)*(AQ1317>0)","v":0}]
[null,1090,1700,{"v":0.19,"d":"19%"},"(Ingreso laboral gravado expresado en UVT menos 1090 UVT)*19% ",{"$f":"IF(G1315>B1318,IF((G1315<=C1318),(G1315-B1318)*D1318),0)+0","v":{"v":0,"d":"0.00"}},{"$f":"(F1318*' '!D112)+0","v":{"v":0,"d":"$ 0"}},{"$nulls":33},"ImpRentasLíquidasGravab",1,40.1,{"$f":"(AO1318=Parametros[Segmento])*(AP1318>0)*(AQ1318>0)","v":0}]
[null,1700,4100,{"v":0.28,"d":"28%"},"(Ingreso laboral gravado expresado en UVT menos 1700 UVT)*28% más 116 UVT",{"$f":"IF(G1315>B1319,IF((G1315<=C1319),(((G1315-B1319)*D1319)+116)),0)+0","v":{"v":0,"d":"0.00"}},{"$f":"(F1319*' '!D112)+0","v":{"v":0,"d":"$ 0"}},{"$nulls":33},"ImpRentasLíquidasGravab",1,40.1,{"$f":"(AO1319=Parametros[Segmento])*(AP1319>0)*(AQ1319>0)","v":0}]
[null,4100,"En adelante",{"v":0.33,"d":"33%"},"(Ingreso laboral gravado expresado en UVT menos 4100 UVT)*33% más 788 UVT",{"$f":"IF(G1315>B1320,(((G1315-B1320)*D1320)+788),0)+0","v":{"v":0,"d":"0.00"}},{"$f":"(F1320*' '!D112)+0","v":{"v":0,"d":"$ 0"}},{"$nulls":33},"ImpRentasLíquidasGravab",1,40.1,{"$f":"(AO1320=Parametros[Segmento])*(AP1320>0)*(AQ1320>0)","v":0}]
[{"$nulls":40},"ImpRentasLíquidasGravab",1,30,{"$f":"(AO1321=Parametros[Segmento])*(AP1321>0)*(AQ1321>0)","v":0}]
[null,"Dividendos y participaciones aciones de utilidades generadas en 2017 y siguientes, distribuidos según el numeral 3 del artículo 49 del ET \n(No gravados)",{"$nulls":38},"ImpRentasLíquidasGravab",1,40,{"$f":"(AO1322=Parametros[Segmento])*(AP1322>0)*(AQ1322>0)","v":0}]
[null,"Dividendos y participaciones no gravados, de utilidades generadas en el año gravable 2017 y siguientes, en pesos ",{"$nulls":4},{"$f":"+Resumen!F104","v":{"v":0,"d":"$ 0"}},{"$nulls":33},"ImpRentasLíquidasGravab",1,30,{"$f":"(AO1323=Parametros[Segmento])*(AP1323>0)*(AQ1323>0)","v":0}]
[null,"Dividendos y participaciones no gravadas, de utilidades generadas en el año gravable 2017 y siguientes, en UVT",{"$nulls":4},{"$f":"G1323/' '!D112","v":{"v":0,"d":"0.00"}},{"$nulls":33},"ImpRentasLíquidasGravab",1,30,{"$f":"(AO1324=Parametros[Segmento])*(AP1324>0)*(AQ1324>0)","v":0}]
[null,"Rangos en UVT",null,"Tarifa marginal","Impuesto ","Impuesto en UVT ","Impuesto en pesos ",{"$nulls":33},"ImpRentasLíquidasGravab",1,30,{"$f":"(AO1325=Parametros[Segmento])*(AP1325>0)*(AQ1325>0)","v":0}]
[null,0,300,{"v":0,"d":"0%"},"Ninguna",{"$nulls":35},"ImpRentasLíquidasGravab",1,30,{"$f":"(AO1326=Parametros[Segmento])*(AP1326>0)*(AQ1326>0)","v":0}]
[null,300,"En adelante",{"v":0.1,"d":"10%"},"(Dividendos en UVT menos 300 UVT)*10%",{"$f":"IF(G1324>B1327,((G1324-B1327)*D1327),0)+0","v":{"v":0,"d":"0.00"}},{"$f":"(F1327*' '!D112)+0","v":{"v":0,"d":"$ 0"}},{"$nulls":33},"ImpRentasLíquidasGravab",1,30,{"$f":"(AO1327=Parametros[Segmento])*(AP1327>0)*(AQ1327>0)","v":0}]
[{"$nulls":40},"ImpRentasLíquidasGravab",1,30,{"$f":"(AO1328=Parametros[Segmento])*(AP1328>0)*(AQ1328>0)","v":0}]
[null,"Dividendos y participaciones de utilidades generadas en el 2017 y siguientes, distribuidos según el parágrafo 2 del artículo 49 del ET (Gravados)",{"$nulls":38},"ImpRentasLíquidasGravab",1,30,{"$f":"(AO1329=Parametros[Segmento])*(AP1329>0)*(AQ1329>0)","v":0}]
[null,"Parte 1 ",{"$nulls":38},"ImpRentasLíquidasGravab",1,30,{"$f":"(AO1330=Parametros[Segmento])*(AP1330>0)*(AQ1330>0)","v":0}]
[null,"2a. Subcédula año 2107 y siguientes, parágrafo 2 artículo 49 del ET",{"$nulls":4},{"$f":"+Resumen!F105","v":{"v":0,"d":"$ 0"}},{"$nulls":33},"ImpRentasLíquidasGravab",1,30,{"$f":"(AO1331=Parametros[Segmento])*(AP1331>0)*(AQ1331>0)","v":0}]
[null,"Renta líquida pasiva dividendos - ECE y/o recibidos del exterior ",{"$nulls":4},{"$f":"+Resumen!F106","v":{"v":0,"d":"$ 0"}},{"$nulls":33},"ImpRentasLíquidasGravab",1,30,{"$f":"(AO1332=Parametros[Segmento])*(AP1332>0)*(AQ1332>0)","v":0}]
[null,"Rentas exentas dividendos (de la casilla 109)",{"$nulls":4},{"$f":"+Resumen!F108","v":{"v":0,"d":"$ 0"}},{"$nulls":33},"ImpRentasLíquidasGravab",1,30,{"$f":"(AO1333=Parametros[Segmento])*(AP1333>0)*(AQ1333>0)","v":0}]
[null,"Subtotal 1 ",{"$nulls":4},{"$f":"+G1331+G1332-G1333","v":{"v":0,"d":"$ 0"}},{"$nulls":33},"ImpRentasLíquidasGravab",1,30,{"$f":"(AO1334=Parametros[Segmento])*(AP1334>0)*(AQ1334>0)","v":0}]
[null,"Tarifa del impuesto de renta artículo 240 del ET ",{"$nulls":38},"ImpRentasLíquidasGravab",1,30,{"$f":"(AO1335=Parametros[Segmento])*(AP1335>0)*(AQ1335>0)","v":0}]
[null,"Primera parte del impuesto ",{"$nulls":4},{"$f":"+G1334*G1335","v":{"v":0,"d":"$ 0"}},{"$nulls":33},"ImpRentasLíquidasGravab",1,30,{"$f":"(AO1336=Parametros[Segmento])*(AP1336>0)*(AQ1336>0)","v":0}]
[null,"Parte 2 ",{"$nulls":38},"ImpRentasLíquidasGravab",1,30,{"$f":"(AO1337=Parametros[Segmento])*(AP1337>0)*(AQ1337>0)","v":0}]
[null,"Subtotal 1 (Casillas 108 + 109 -110) - Primera parte del impuesto ",{"$nulls":4},{"$f":"+G1331+G1332-G1333-G1336","v":{"v":0,"d":"$ 0"}},{"$nulls":33},"ImpRentasLíquidasGravab",1,30,{"$f":"(AO1338=Parametros[Segmento])*(AP1338>0)*(AQ1338>0)","v":0}]
[null,"Dividendos y participaciones de utilidades generadas en el 2017 y siguientes, en UVT, no gravados",{"$nulls":4},{"$f":"G1338/' '!D112","v":{"v":0,"d":"0.00"}},{"$nulls":33},"ImpRentasLíquidasGravab",1,30,{"$f":"(AO1339=Parametros[Segmento])*(AP1339>0)*(AQ1339>0)","v":0}]
[null,"Rangos en UVT",null,"Tarifa marginal","Impuesto ","Impuesto en UVT ","Impuesto en pesos ",{"$nulls":33},"ImpRentasLíquidasGravab",1,40.1,{"$f":"(AO1340=Parametros[Segmento])*(AP1340>0)*(AQ1340>0)","v":0}]
[null,0,300,{"v":0,"d":"0%"},"Ninguna",{"$nulls":35},"ImpRentasLíquidasGravab",1,30,{"$f":"(AO1341=Parametros[Segmento])*(AP1341>0)*(AQ1341>0)","v":0}]
[null,300,"En adelante",{"v":0.1,"d":"10%"},"(Dividendos en UVT menos 300 UVT)*10%",{"$f":"IF(G1339>B1342,((G1339-B1342)*D1342),0)+0","v":{"v":0,"d":"0.00"}},{"$f":"(F1342*' '!D112)+0","v":{"v":0,"d":"$ 0"}},{"$nulls":33},"ImpRentasLíquidasGravab",1,30,{"$f":"(AO1342=Parametros[Segmento])*(AP1342>0)*(AQ1342>0)","v":0}]
[null,"Total impuesto a pagar por dividendos y participaciones acionesaciones de utilidades generadas en 2017 y anteriores (Gravados)",{"$nulls":4},{"$f":"+G1336+MAX(G1341,G1342)","v":{"v":0,"d":"$ 0"}},{"$nulls":33},"ImpRentasLíquidasGravab",1,30,{"$f":"(AO1343=Parametros[Segmento])*(AP1343>0)*(AQ1343>0)","v":0}]
[9,4.22,105.11,31.33,5,{"$nulls":10},0,0,0,0,0,0,0,0,{"$nulls":17},"Anticipo Renta",0,15,{"$f":"(AO1344=Parametros[Segmento])*(AP1344>0)*(AQ1344>0)","v":0}]
[{"$nulls":40},"Anticipo Renta",1,30,{"$f":"(AO1345=Parametros[Segmento])*(AP1345>0)*(AQ1345>0)","v":0}]
[null,"Anticipo del impuesto de renta para el año gravable siguiente",{"$nulls":38},"Anticipo Renta",1,30,{"$f":"(AO1346=Parametros[Segmento])*(AP1346>0)*(AQ1346>0)","v":0}]
[null,"Concepto ",null,"Datos",{"$nulls":36},"Anticipo Renta",1,30,{"$f":"(AO1347=Parametros[Segmento])*(AP1347>0)*(AQ1347>0)","v":0}]
[null,"Impuesto neto de renta año gravable 2022",null,{"$f":"+Resumen!F130","v":{"v":0,"d":"$ 0"}},{"$nulls":36},"Anticipo Renta",1,30,{"$f":"(AO1348=Parametros[Segmento])*(AP1348>0)*(AQ1348>0)","v":0}]
[null,"Impuesto neto de renta año gravable 2021",null,{"$f":"+' '!D154","v":{"v":0,"d":"$ 0"}},{"$nulls":36},"Anticipo Renta",1,30,{"$f":"(AO1349=Parametros[Segmento])*(AP1349>0)*(AQ1349>0)","v":0}]
[null,"Promedio impuesto neto de renta ",null,{"$f":"+((D1348+D1349)/2)","v":{"v":0,"d":"$ 0"}},{"$nulls":36},"Anticipo Renta",1,30,{"$f":"(AO1350=Parametros[Segmento])*(AP1350>0)*(AQ1350>0)","v":0}]
[null,"Retenciones en la fuente que le practicaron al contribuyente durante el año gravable 2022",null,{"$f":"+Resumen!F136","v":{"v":0,"d":"$ 0"}},{"$nulls":36},"Anticipo Renta",1,30,{"$f":"(AO1351=Parametros[Segmento])*(AP1351>0)*(AQ1351>0)","v":0}]
[null,{"$f":"+' '!B147","v":"¿Cuántas veces ha presentado la declaración de renta el contribuyente?"},null,{"$f":"+' '!D147","v":"Esta es la tercera vez o más"},{"$nulls":36},"Anticipo Renta",1,30,{"$f":"(AO1352=Parametros[Segmento])*(AP1352>0)*(AQ1352>0)","v":0}]
[{"$nulls":40},"Anticipo Renta",1,30,{"$f":"(AO1353=Parametros[Segmento])*(AP1353>0)*(AQ1353>0)","v":0}]
[null,null,"Resumen ",{"$nulls":37},"Anticipo Renta",1,30,{"$f":"(AO1354=Parametros[Segmento])*(AP1354>0)*(AQ1354>0)","v":0}]
[null,null,"Anticipo de renta por Opción 1",{"$f":"ROUND(MAX(D1365,D1373,D1387),-3)","v":{"v":0,"d":"$ 0"}},{"$nulls":36},"Anticipo Renta",1,30,{"$f":"(AO1355=Parametros[Segmento])*(AP1355>0)*(AQ1355>0)","v":0}]
[null,null,"Anticipo de renta por Opción 2",{"$f":"ROUND(MAX(D1379,D1393),-3)","v":{"v":0,"d":"$ 0"}},{"$nulls":36},"Anticipo Renta",1,30,{"$f":"(AO1356=Parametros[Segmento])*(AP1356>0)*(AQ1356>0)","v":0}]
[null,null,"Seleccione la opción de anticipo de renta que el contribuyente desea reportar en la \ndeclaración de renta",{"$nulls":37},"Anticipo Renta",1,40,{"$f":"(AO1357=Parametros[Segmento])*(AP1357>0)*(AQ1357>0)","v":0}]
[{"$nulls":40},"Anticipo Renta",1,30,{"$f":"(AO1358=Parametros[Segmento])*(AP1358>0)*(AQ1358>0)","v":0}]
[null,"Primer año presentando la declaración de renta ",{"$nulls":38},"Anticipo Renta",1,30,{"$f":"(AO1359=Parametros[Segmento])*(AP1359>0)*(AQ1359>0)","v":0}]
[null,"Opción 1 ",{"$nulls":38},"Anticipo Renta",1,30,{"$f":"(AO1360=Parametros[Segmento])*(AP1360>0)*(AQ1360>0)","v":0}]
[null,null,"Impuesto neto de renta año gravable 2022",{"$f":"+IF(D1352=\"Esta es la primera vez\",D1348,0)","v":{"v":0,"d":"$ 0"}},{"$nulls":36},"Anticipo Renta",1,30,{"$f":"(AO1361=Parametros[Segmento])*(AP1361>0)*(AQ1361>0)","v":0}]
[null,"(*)","Porcentaje de anticipo de renta ",{"$f":"IF(D1352=\"Esta es la primera vez\",25%,0)","v":{"v":0,"d":"0%"}},{"$nulls":36},"Anticipo Renta",1,30,{"$f":"(AO1362=Parametros[Segmento])*(AP1362>0)*(AQ1362>0)","v":0}]
[null,"(=)","Subtotal ",{"$f":"+D1361*D1362","v":{"v":0,"d":"$ 0"}},{"$nulls":36},"Anticipo Renta",1,30,{"$f":"(AO1363=Parametros[Segmento])*(AP1363>0)*(AQ1363>0)","v":0}]
[null,"(-)","Retenciones en la fuente que le practicaron al contribuyente durante el año gravable 2022",{"$f":"+IF(D1352=\"Esta es la primera vez\",D1351,0)","v":{"v":0,"d":"$ 0"}},{"$nulls":36},"Anticipo Renta",1,30,{"$f":"(AO1364=Parametros[Segmento])*(AP1364>0)*(AQ1364>0)","v":0}]
[null,"(=)","Anticipo de renta para el año gravable siguiente ",{"$f":"IF((D1363-D1364)>0,(D1363-D1364),0)","v":{"v":0,"d":"$ 0"}},{"$nulls":36},"Anticipo Renta",1,30,{"$f":"(AO1365=Parametros[Segmento])*(AP1365>0)*(AQ1365>0)","v":0}]
[{"$nulls":40},"Anticipo Renta",1,30,{"$f":"(AO1366=Parametros[Segmento])*(AP1366>0)*(AQ1366>0)","v":0}]
[null,"Segundo año presentando la declaración de renta ",{"$nulls":38},"Anticipo Renta",1,30,{"$f":"(AO1367=Parametros[Segmento])*(AP1367>0)*(AQ1367>0)","v":0}]
[null,"Opción 1 ",{"$nulls":38},"Anticipo Renta",1,30,{"$f":"(AO1368=Parametros[Segmento])*(AP1368>0)*(AQ1368>0)","v":0}]
[null,null,"Impuesto neto de renta año gravable 2022",{"$f":"+IF(D1352=\"Esta es la segunda vez\",D1348,0)","v":{"v":0,"d":"$ 0"}},{"$nulls":36},"Anticipo Renta",1,30,{"$f":"(AO1369=Parametros[Segmento])*(AP1369>0)*(AQ1369>0)","v":0}]
[null,"(*)","Porcentaje de anticipo de renta ",{"$f":"IF(D1352=\"Esta es la segunda vez\",50%,0)","v":{"v":0,"d":"0%"}},{"$nulls":36},"Anticipo Renta",1,30,{"$f":"(AO1370=Parametros[Segmento])*(AP1370>0)*(AQ1370>0)","v":0}]
[null,"(=)","Subtotal ",{"$f":"+D1369*D1370","v":{"v":0,"d":"$ 0"}},{"$nulls":36},"Anticipo Renta",1,30,{"$f":"(AO1371=Parametros[Segmento])*(AP1371>0)*(AQ1371>0)","v":0}]
[null,"(-)","Retenciones en la fuente que le practicaron al contribuyente durante el año gravable 2022",{"$f":"IF(D1352=\"Esta es la segunda vez\",D1351,0)","v":{"v":0,"d":"$ 0"}},{"$nulls":36},"Anticipo Renta",1,30,{"$f":"(AO1372=Parametros[Segmento])*(AP1372>0)*(AQ1372>0)","v":0}]
[null,"(=)","Anticipo de renta para el año gravable siguiente ",{"$f":"IF((D1371-D1372)>0,(D1371-D1372),0)","v":{"v":0,"d":"$ 0"}},{"$nulls":36},"Anticipo Renta",1,30,{"$f":"(AO1373=Parametros[Segmento])*(AP1373>0)*(AQ1373>0)","v":0}]
[null,"Opción 2",{"$nulls":38},"Anticipo Renta",1,30,{"$f":"(AO1374=Parametros[Segmento])*(AP1374>0)*(AQ1374>0)","v":0}]
[null,null,"Promedio impuesto neto de renta de los dos últimos años ",{"$f":"+IF(D1352=\"Esta es la segunda vez\",D1350,0)","v":{"v":0,"d":"$ 0"}},{"$nulls":36},"Anticipo Renta",1,30,{"$f":"(AO1375=Parametros[Segmento])*(AP1375>0)*(AQ1375>0)","v":0}]
[null,"(*)","Porcentaje de anticipo de renta ",{"$f":"IF(D1352=\"Esta es la segunda vez\",50%,0)","v":{"v":0,"d":"0%"}},{"$nulls":36},"Anticipo Renta",1,30,{"$f":"(AO1376=Parametros[Segmento])*(AP1376>0)*(AQ1376>0)","v":0}]
[null,"(=)","Subtotal ",{"$f":"+D1375*D1376","v":{"v":0,"d":"$ 0"}},{"$nulls":36},"Anticipo Renta",1,30,{"$f":"(AO1377=Parametros[Segmento])*(AP1377>0)*(AQ1377>0)","v":0}]
[null,"(-)","Retenciones en la fuente que le practicaron al contribuyente durante el año gravable 2022",{"$f":"IF(D1352=\"Esta es la segunda vez\",D1351,0)","v":{"v":0,"d":"$ 0"}},{"$nulls":36},"Anticipo Renta",1,30,{"$f":"(AO1378=Parametros[Segmento])*(AP1378>0)*(AQ1378>0)","v":0}]
[null,"(=)","Anticipo de renta para el año gravable siguiente ",{"$f":"IF((D1377-D1378)>0,(D1377-D1378),0)","v":{"v":0,"d":"$ 0"}},{"$nulls":36},"Anticipo Renta",1,30,{"$f":"(AO1379=Parametros[Segmento])*(AP1379>0)*(AQ1379>0)","v":0}]
[{"$nulls":40},"Anticipo Renta",1,30,{"$f":"(AO1380=Parametros[Segmento])*(AP1380>0)*(AQ1380>0)","v":0}]
[null,"Tercer año o más presentando la declaración de renta ",{"$nulls":38},"Anticipo Renta",1,30,{"$f":"(AO1381=Parametros[Segmento])*(AP1381>0)*(AQ1381>0)","v":0}]
[null,"Opción 1 ",{"$nulls":38},"Anticipo Renta",1,30,{"$f":"(AO1382=Parametros[Segmento])*(AP1382>0)*(AQ1382>0)","v":0}]
[null,null,"Impuesto neto de renta año gravable 2022",{"$f":"+IF(D1352=\"Esta es la tercera vez o más\",D1348,0)","v":{"v":0,"d":"$ 0"}},{"$nulls":36},"Anticipo Renta",1,30,{"$f":"(AO1383=Parametros[Segmento])*(AP1383>0)*(AQ1383>0)","v":0}]
[null,"(*)","Porcentaje de anticipo de renta ",{"$f":"IF(D1352=\"Esta es la tercera vez o más\",75%,0)","v":{"v":0.75,"d":"75%"}},{"$nulls":36},"Anticipo Renta",1,30,{"$f":"(AO1384=Parametros[Segmento])*(AP1384>0)*(AQ1384>0)","v":0}]
[null,"(=)","Subtotal ",{"$f":"+D1383*D1384","v":{"v":0,"d":"$ 0"}},{"$nulls":36},"Anticipo Renta",1,30,{"$f":"(AO1385=Parametros[Segmento])*(AP1385>0)*(AQ1385>0)","v":0}]
[null,"(-)","Retenciones en la fuente que le practicaron al contribuyente durante el año gravable 2022",{"$f":"IF(D1352=\"Esta es la tercera vez o más\",D1351,0)","v":{"v":0,"d":"$ 0"}},{"$nulls":36},"Anticipo Renta",1,30,{"$f":"(AO1386=Parametros[Segmento])*(AP1386>0)*(AQ1386>0)","v":0}]
[null,"(=)","Anticipo de renta para el año gravable siguiente ",{"$f":"IF((D1385-D1386)>0,(D1385-D1386),0)","v":{"v":0,"d":"$ 0"}},{"$nulls":36},"Anticipo Renta",1,30,{"$f":"(AO1387=Parametros[Segmento])*(AP1387>0)*(AQ1387>0)","v":0}]
[null,"Opción 2",{"$nulls":38},"Anticipo Renta",1,30,{"$f":"(AO1388=Parametros[Segmento])*(AP1388>0)*(AQ1388>0)","v":0}]
[null,null,"Promedio impuesto neto de renta de los dos últimos años ",{"$f":"+IF(D1352=\"Esta es la tercera vez o más\",D1350,0)","v":{"v":0,"d":"$ 0"}},{"$nulls":36},"Anticipo Renta",1,30,{"$f":"(AO1389=Parametros[Segmento])*(AP1389>0)*(AQ1389>0)","v":0}]
[null,"(*)","Porcentaje de anticipo de renta ",{"$f":"IF(D1352=\"Esta es la tercera vez o más\",75%,0)","v":{"v":0.75,"d":"75%"}},{"$nulls":36},"Anticipo Renta",1,30,{"$f":"(AO1390=Parametros[Segmento])*(AP1390>0)*(AQ1390>0)","v":0}]
[null,"(=)","Subtotal ",{"$f":"+D1389*D1390","v":{"v":0,"d":"$ 0"}},{"$nulls":36},"Anticipo Renta",1,30,{"$f":"(AO1391=Parametros[Segmento])*(AP1391>0)*(AQ1391>0)","v":0}]
[null,"(-)","Retenciones en la fuente que le practicaron al contribuyente durante el año gravable 2022",{"$f":"IF(D1352=\"Esta es la tercera vez o más\",D1351,0)","v":{"v":0,"d":"$ 0"}},{"$nulls":36},"Anticipo Renta",1,30,{"$f":"(AO1392=Parametros[Segmento])*(AP1392>0)*(AQ1392>0)","v":0}]
[null,"(=)","Anticipo de renta para el año gravable siguiente ",{"$f":"IF((D1391-D1392)>0,D1391-D1392,0)","v":{"v":0,"d":"$ 0"}},{"$nulls":36},"Anticipo Renta",1,30,{"$f":"(AO1393=Parametros[Segmento])*(AP1393>0)*(AQ1393>0)","v":0}]
[6.78,2.44,2.67,96.44,35.22,5,{"$nulls":9},0,0,0,0,0,0,0,0,{"$nulls":17},"Sanciones",0,15,{"$f":"(AO1394=Parametros[Segmento])*(AP1394>0)*(AQ1394>0)","v":0}]
[{"$nulls":40},"Sanciones",1,30,{"$f":"(AO1395=Parametros[Segmento])*(AP1395>0)*(AQ1395>0)","v":0}]
[null,"Sanciones",{"$nulls":38},"Sanciones",1,30,{"$f":"(AO1396=Parametros[Segmento])*(AP1396>0)*(AQ1396>0)","v":0}]
[null,{"$f":"+' '!B172","v":"Fecha de vencimiento del plazo para presentar la declaración de renta fijada por el Gobierno Nacional"},null,null,{"$f":"+' '!D172","v":"2023-10-17"},{"$nulls":35},"Sanciones",1,30,{"$f":"(AO1397=Parametros[Segmento])*(AP1397>0)*(AQ1397>0)","v":0}]
[null,{"$f":"+' '!B173","v":"Fecha en la cual el contribuyente presentará la declaración de renta"},null,null,{"$f":"IF(' '!D173>0,' '!D173,\"\")","v":"22/08/2023"},{"$nulls":35},"Sanciones",1,30,{"$f":"(AO1398=Parametros[Segmento])*(AP1398>0)*(AQ1398>0)","v":0}]
[null,{"$f":"+' '!B174","v":"Mes o fracción de extemporaneidad"},null,null,{"$f":"+' '!D174","v":{"v":0,"d":"0 "}},{"$nulls":35},"Sanciones",1,30,{"$f":"(AO1399=Parametros[Segmento])*(AP1399>0)*(AQ1399>0)","v":0}]
[null,{"$f":"+' '!B176","v":"¿El contribuyente recibió un emplazamiento por no declarar?"},null,null,{"$f":"IF(' '!D176=\"\",\"\",' '!D176)","v":""},{"$nulls":35},"Sanciones",1,30,{"$f":"(AO1400=Parametros[Segmento])*(AP1400>0)*(AQ1400>0)","v":0}]
[{"$nulls":40},"Sanciones",1,30,{"$f":"(AO1401=Parametros[Segmento])*(AP1401>0)*(AQ1401>0)","v":0}]
[null,"Cálculo de la sanción por extemporaneidad antes del emplazamiento para declarar ",{"$nulls":38},"Sanciones",{"$f":"(E1400=\"No\")*1","v":0},30,{"$f":"(AO1402=Parametros[Segmento])*(AP1402>0)*(AQ1402>0)","v":0}]
[null,"Sanción calculada sobre el impuesto a cargo",null,null,"Total ",{"$nulls":35},"Sanciones",0,30,{"$f":"(AO1403=Parametros[Segmento])*(AP1403>0)*(AQ1403>0)","v":0}]
[null,"Valor impuesto a cargo ",null,null,{"$f":"IF(' '!D174>0,IF(' '!D176=\"No\",Resumen!F133,0),0)","v":{"v":0,"d":"$ 0"}},{"$nulls":35},"Sanciones",0,30,{"$f":"(AO1404=Parametros[Segmento])*(AP1404>0)*(AQ1404>0)","v":0}]
[null,"Porcentaje sanción por cada mes o fracción de mes de extemporaneidad",null,null,{"v":0.05,"d":"5%"},{"$nulls":35},"Sanciones",0,30,{"$f":"(AO1405=Parametros[Segmento])*(AP1405>0)*(AQ1405>0)","v":0}]
[null,"Meses o fracción de meses de extemporaneidad ",null,null,{"$f":"IF(E1404>0,' '!D174,0)","v":0},{"$nulls":35},"Sanciones",0,30,{"$f":"(AO1406=Parametros[Segmento])*(AP1406>0)*(AQ1406>0)","v":0}]
[{"$nulls":3},"Sanción inicial",{"$f":"IF(E1404>0,ROUND(E1404*E1405*E1406,-3),0)","v":{"v":0,"d":"$ 0"}},{"$nulls":35},"Sanciones",0,30,{"$f":"(AO1407=Parametros[Segmento])*(AP1407>0)*(AQ1407>0)","v":0}]
[null,"Condiciones:",{"$nulls":38},"Sanciones",0,30,{"$f":"(AO1408=Parametros[Segmento])*(AP1408>0)*(AQ1408>0)","v":0}]
[null,"La sanción no puede ser mayor al 100% impuesto a cargo, esto es:",null,null,{"$f":"IF(E1404>0,(E1404*100%),0)","v":{"v":0,"d":"$ 0"}},{"$nulls":35},"Sanciones",0,30,{"$f":"(AO1409=Parametros[Segmento])*(AP1409>0)*(AQ1409>0)","v":0}]
[null,"La sanción no puede ser inferior a la mínima señalada en el artículo 639 del ET, esto es:",null,null,{"$f":"IF(E1404>0,ROUND(' '!E112*10,-3),0)","v":{"v":0,"d":"$ 0"}},{"$nulls":35},"Sanciones",0,30,{"$f":"(AO1410=Parametros[Segmento])*(AP1410>0)*(AQ1410>0)","v":0}]
[{"$nulls":3},"Sanción a pagar",{"$f":"IF(E1404>0,IF(E1407>E1410,IF(E1407<=E1409,E1407,E1409),E1410),0)","v":{"v":0,"d":"$ 0"}},{"$nulls":35},"Sanciones",0,30,{"$f":"(AO1411=Parametros[Segmento])*(AP1411>0)*(AQ1411>0)","v":0}]
[null,"Sanción calculada sobre los ingresos brutos ",null,null,"Total ",{"$nulls":35},"Sanciones",0,30,{"$f":"(AO1412=Parametros[Segmento])*(AP1412>0)*(AQ1412>0)","v":0}]
[null,"Valor de los ingresos brutos percibidos por el contribuyente en el periodo de declaración",null,null,{"$f":"IF(' '!D174>0,IF(' '!D176=\"No\",IF(E1404>0,0,(Resumen!F10+Resumen!F25+Resumen!F44+Resumen!F48+Resumen!F64+Resumen!F69+Resumen!F93+Resumen!F101+Resumen!F104+Resumen!F105+Resumen!F111+Resumen!F112)),0),0)","v":{"v":0,"d":"$ 0"}},{"$nulls":35},"Sanciones",0,30,{"$f":"(AO1413=Parametros[Segmento])*(AP1413>0)*(AQ1413>0)","v":0}]
[null,"Porcentaje sanción por cada mes o fracción de mes de extemporaneidad",null,null,{"v":0.005,"d":"0.5%"},{"$nulls":35},"Sanciones",0,30,{"$f":"(AO1414=Parametros[Segmento])*(AP1414>0)*(AQ1414>0)","v":0}]
[null,"Meses o fracción de meses de extemporaneidad ",null,null,{"$f":"IF(E1413>0,' '!D174,0)","v":0},{"$nulls":35},"Sanciones",0,30,{"$f":"(AO1415=Parametros[Segmento])*(AP1415>0)*(AQ1415>0)","v":0}]
[{"$nulls":3},"Sanción inicial",{"$f":"IF(E1415>0,ROUND(E1413*E1414*E1415,-3),0)","v":{"v":0,"d":"$ 0"}},{"$nulls":35},"Sanciones",0,30,{"$f":"(AO1416=Parametros[Segmento])*(AP1416>0)*(AQ1416>0)","v":0}]
[null,"Condiciones",{"$nulls":38},"Sanciones",0,30,{"$f":"(AO1417=Parametros[Segmento])*(AP1417>0)*(AQ1417>0)","v":0}]
[null,"La sanción no puede exceder el 5% del valor de los ingresos brutos",null,null,{"$f":"IF(E1413>0,(E1413*5%),0)","v":{"v":0,"d":"$ 0"}},{"$nulls":35},"Sanciones",0,30,{"$f":"(AO1418=Parametros[Segmento])*(AP1418>0)*(AQ1418>0)","v":0}]
[null,"La sanción tampoco puede exceder el doble del saldo a favor, si lo hay, o el equivalente a 2.500 UVT, si no hay saldo a favor",null,null,{"$f":"IF(OR(E1404>0,E1423>0,E1435>0,E1444>0,E1454>0),0,IF(AND(E1413>0,' '!D156>0),(' '!D156*2),(' '!E112*2500)))","v":{"v":106030000,"d":"$ 106,030,000"}},{"$nulls":35},"Sanciones",0,30,{"$f":"(AO1419=Parametros[Segmento])*(AP1419>0)*(AQ1419>0)","v":0}]
[null,"La sanción no puede ser inferior a la mínima señalada en el artículo 639 del ET",null,null,{"$f":"IF(E1413>0,ROUND(' '!E112*10,-3),0)","v":{"v":0,"d":"$ 0"}},{"$nulls":35},"Sanciones",0,30,{"$f":"(AO1420=Parametros[Segmento])*(AP1420>0)*(AQ1420>0)","v":0}]
[{"$nulls":3},"Sanción a pagar",{"$f":"IF(E1416>E1420,IF(E1416<MIN(E1418,E1419),E1416,MIN(E1418,E1419)),E1420)","v":{"v":0,"d":"$ 0"}},{"$nulls":35},"Sanciones",0,30,{"$f":"(AO1421=Parametros[Segmento])*(AP1421>0)*(AQ1421>0)","v":0}]
[null,"Sanción calculada sobre el patrimonio líquido ",null,null,"Total ",{"$nulls":35},"Sanciones",0,30,{"$f":"(AO1422=Parametros[Segmento])*(AP1422>0)*(AQ1422>0)","v":0}]
[null,"Valor del patrimonio líquido del año inmediatamente anterior ",null,null,{"$f":"IF(' '!D174>0,IF(' '!D176=\"No\",IF(OR(E1404>0,E1413>0),0,' '!D153),0),0)","v":{"v":0,"d":"$ 0"}},{"$nulls":35},"Sanciones",0,30,{"$f":"(AO1423=Parametros[Segmento])*(AP1423>0)*(AQ1423>0)","v":0}]
[null,"Porcentaje sanción por cada mes o fracción de mes de extemporaneidad",null,null,{"v":0.01,"d":"1.0%"},{"$nulls":35},"Sanciones",0,30,{"$f":"(AO1424=Parametros[Segmento])*(AP1424>0)*(AQ1424>0)","v":0}]
[null,"Meses o fracción de meses de extemporaneidad ",null,null,{"$f":"IF(E1423>0,' '!D174,0)","v":0},{"$nulls":35},"Sanciones",0,30,{"$f":"(AO1425=Parametros[Segmento])*(AP1425>0)*(AQ1425>0)","v":0}]
[{"$nulls":3},"Sanción inicial",{"$f":"IF(E1423>0,ROUND(E1423*E1424*E1425,-3),0)","v":{"v":0,"d":"$ 0"}},{"$nulls":35},"Sanciones",0,30,{"$f":"(AO1426=Parametros[Segmento])*(AP1426>0)*(AQ1426>0)","v":0}]
[null,"Condiciones",{"$nulls":38},"Sanciones",0,30,{"$f":"(AO1427=Parametros[Segmento])*(AP1427>0)*(AQ1427>0)","v":0}]
[null,"La sanción no puede exceder el 10% del patrimonio líquido del año inmediatamente anterior",null,null,{"$f":"IF(E1423>0,(E1423*10%),0)","v":{"v":0,"d":"$ 0"}},{"$nulls":35},"Sanciones",0,30,{"$f":"(AO1428=Parametros[Segmento])*(AP1428>0)*(AQ1428>0)","v":0}]
[null,"La sanción tampoco puede exceder el doble del saldo a favor, si lo hay; o el equivalente a 2.500 UVT, si no hay saldo a favor",null,null,{"$f":"IF(OR(E1404>0,E1413>0,E1435>0,E1444>0,E1454>0),0,IF(AND(E1423>0,(Resumen!F134+Resumen!F135+Resumen!F136-Resumen!F133-Resumen!F137)>0),((Resumen!F134+Resumen!F135+Resumen!F136-Resumen!F133-Resumen!F137)*2),(2500*' '!E112)))","v":{"v":106030000,"d":"$ 106,030,000"}},{"$nulls":35},"Sanciones",0,30,{"$f":"(AO1429=Parametros[Segmento])*(AP1429>0)*(AQ1429>0)","v":0}]
[null,"La sanción no puede ser inferior a la mínima señalada en el artículo 639 del ET",null,null,{"$f":"IF(E1423>0,ROUND(' '!E112*10,-3),0)","v":0},{"$nulls":35},"Sanciones",0,30,{"$f":"(AO1430=Parametros[Segmento])*(AP1430>0)*(AQ1430>0)","v":0}]
[{"$nulls":3},"Sanción a pagar",{"$f":"IF(E1426>E1430,IF((E1426<MIN(E1428,E1429)),E1426,MIN(E1428,E1429)),E1430)","v":{"v":0,"d":"$ 0"}},{"$nulls":35},"Sanciones",0,30,{"$f":"(AO1431=Parametros[Segmento])*(AP1431>0)*(AQ1431>0)","v":0}]
[{"$nulls":40},"Sanciones",0,30,{"$f":"(AO1432=Parametros[Segmento])*(AP1432>0)*(AQ1432>0)","v":0}]
[null,"Cálculo de la sanción por extemporaneidad después del emplazamiento por no declarar ",{"$nulls":38},"Sanciones",{"$f":"(E1430=\"Sí\")*1","v":0},30,{"$f":"(AO1433=Parametros[Segmento])*(AP1433>0)*(AQ1433>0)","v":0}]
[null,"Sanción calculada sobre el impuesto a cargo",null,null,"Total ",{"$nulls":35},"Sanciones",0,30,{"$f":"(AO1434=Parametros[Segmento])*(AP1434>0)*(AQ1434>0)","v":0}]
[null,"Valor impuesto a cargo ",null,null,{"$f":"IF(' '!D174>0,IF(' '!D176=\"Sí\",Resumen!F133,0),0)","v":{"v":0,"d":"$ 0"}},{"$nulls":35},"Sanciones",0,30,{"$f":"(AO1435=Parametros[Segmento])*(AP1435>0)*(AQ1435>0)","v":0}]
[null,"Porcentaje sanción por cada mes o fracción de mes de extemporaneidad",null,null,{"v":0.1,"d":"10%"},{"$nulls":35},"Sanciones",0,30,{"$f":"(AO1436=Parametros[Segmento])*(AP1436>0)*(AQ1436>0)","v":0}]
[null,"Meses o fracción de meses de extemporaneidad ",null,null,{"$f":"IF(E1435>0,' '!D174,0)","v":0},{"$nulls":35},"Sanciones",0,30,{"$f":"(AO1437=Parametros[Segmento])*(AP1437>0)*(AQ1437>0)","v":0}]
[{"$nulls":3},"Sanción inicial",{"$f":"IF(E1435>0,ROUND(E1435*E1436*E1437,-3),0)","v":{"v":0,"d":"$ 0"}},{"$nulls":35},"Sanciones",0,30,{"$f":"(AO1438=Parametros[Segmento])*(AP1438>0)*(AQ1438>0)","v":0}]
[null,"Condiciones:",{"$nulls":38},"Sanciones",0,30,{"$f":"(AO1439=Parametros[Segmento])*(AP1439>0)*(AQ1439>0)","v":0}]
[null,"La sanción no puede ser mayor al 200% impuesto a cargo ",null,null,{"$f":"IF(E1435>0,(E1435*200%),0)","v":{"v":0,"d":"$ 0"}},{"$nulls":35},"Sanciones",0,30,{"$f":"(AO1440=Parametros[Segmento])*(AP1440>0)*(AQ1440>0)","v":0}]
[null,"La sanción no puede ser inferior a la mínima señalada en el artículo 639 del ET",null,null,{"$f":"IF(E1435>0,ROUND(' '!E112*10,-3),0)","v":{"v":0,"d":"$ 0"}},{"$nulls":35},"Sanciones",0,30,{"$f":"(AO1441=Parametros[Segmento])*(AP1441>0)*(AQ1441>0)","v":0}]
[{"$nulls":3},"Sanción a pagar",{"$f":"IF(E1435>0,IF(E1438>E1441,IF(E1438<=E1440,E1438,E1440),E1441),0)","v":{"v":0,"d":"$ 0"}},{"$nulls":35},"Sanciones",0,30,{"$f":"(AO1442=Parametros[Segmento])*(AP1442>0)*(AQ1442>0)","v":0}]
[null,"Sanción calculada sobre los ingresos brutos",null,null,"Total ",{"$nulls":35},"Sanciones",0,30,{"$f":"(AO1443=Parametros[Segmento])*(AP1443>0)*(AQ1443>0)","v":0}]
[null,"Valor de los ingresos brutos percibidos por el contribuyente en el periodo de declaración",null,null,{"$f":"IF(' '!D174>0,IF(' '!D176=\"Sí\",IF(E1435>0,0,(Resumen!F10+Resumen!F25+Resumen!F44+Resumen!F48+Resumen!F64+Resumen!F69+Resumen!F93+Resumen!F101+Resumen!F104+Resumen!F105+Resumen!F111+Resumen!F112)),0),0)","v":{"v":0,"d":"$ 0"}},{"$nulls":35},"Sanciones",0,30,{"$f":"(AO1444=Parametros[Segmento])*(AP1444>0)*(AQ1444>0)","v":0}]
[null,"Porcentaje sanción por cada mes o fracción de mes de extemporaneidad",null,null,{"v":0.01,"d":"1.0%"},{"$nulls":35},"Sanciones",0,30,{"$f":"(AO1445=Parametros[Segmento])*(AP1445>0)*(AQ1445>0)","v":0}]
[null,"Meses o fracción de meses de extemporaneidad ",null,null,{"$f":"IF(E1444>0,' '!D174,0)","v":0},{"$nulls":35},"Sanciones",0,30,{"$f":"(AO1446=Parametros[Segmento])*(AP1446>0)*(AQ1446>0)","v":0}]
[{"$nulls":3},"Sanción inicial",{"$f":"IF(E1446>0,ROUND(E1444*E1445*E1446,-3),0)","v":{"v":0,"d":"$ 0"}},{"$nulls":35},"Sanciones",0,30,{"$f":"(AO1447=Parametros[Segmento])*(AP1447>0)*(AQ1447>0)","v":0}]
[null,"Condiciones",{"$nulls":38},"Sanciones",0,30,{"$f":"(AO1448=Parametros[Segmento])*(AP1448>0)*(AQ1448>0)","v":0}]
[null,"La sanción no puede exceder el 10% del valor de los ingresos brutos",null,null,{"$f":"IF(E1444>0,(E1444*10%),0)","v":{"v":0,"d":"$ 0"}},{"$nulls":35},"Sanciones",0,30,{"$f":"(AO1449=Parametros[Segmento])*(AP1449>0)*(AQ1449>0)","v":0}]
[null,"La sanción tampoco puede exceder el equivalente a cuatro veces saldo a favor, si lo hay, o el equivalente a 5.000 UVT, si no hay saldo a favor",null,null,{"$f":"IF(OR(E1435>0,E1454>0,E1404>0,E1413>0,E1423>0),0,IF(AND(E1444>0,(Resumen!F134+Resumen!F135+Resumen!F136-Resumen!F133-Resumen!F137)>0),((Resumen!F134+Resumen!F135+Resumen!F136-Resumen!F133-Resumen!F137)*4),(' '!E112*5000)))","v":{"v":212060000,"d":"$ 212,060,000"}},{"$nulls":35},"Sanciones",0,30,{"$f":"(AO1450=Parametros[Segmento])*(AP1450>0)*(AQ1450>0)","v":0}]
[null,"La sanción no puede ser inferior a la mínima señalada en el artículo 639 del ET",null,null,{"$f":"IF(E1444>0,ROUND(' '!E112*10,-3),0)","v":{"v":0,"d":"$ 0"}},{"$nulls":35},"Sanciones",0,30,{"$f":"(AO1451=Parametros[Segmento])*(AP1451>0)*(AQ1451>0)","v":0}]
[{"$nulls":3},"Sanción a pagar",{"$f":"IF(E1447>E1451,IF((E1447<MIN(E1449,E1450)),E1447,MIN(E1449,E1450)),E1451)","v":{"v":0,"d":"$ 0"}},{"$nulls":35},"Sanciones",0,30,{"$f":"(AO1452=Parametros[Segmento])*(AP1452>0)*(AQ1452>0)","v":0}]
[null,"Sanción calculada sobre el patrimonio líquido",null,null,"Total ",{"$nulls":35},"Sanciones",0,30,{"$f":"(AO1453=Parametros[Segmento])*(AP1453>0)*(AQ1453>0)","v":0}]
[null,"Valor del patrimonio líquido del año inmediatamente anterior ",null,null,{"$f":"IF(' '!D174>0,IF(' '!D176=\"Sí\",IF(OR(E1435>0,E1444>0),0,' '!D153),0),0)","v":{"v":0,"d":"$ 0"}},{"$nulls":35},"Sanciones",0,30,{"$f":"(AO1454=Parametros[Segmento])*(AP1454>0)*(AQ1454>0)","v":0}]
[null,"Porcentaje sanción por cada mes o fracción de mes de extemporaneidad",null,null,{"v":0.02,"d":"2.0%"},{"$nulls":35},"Sanciones",0,30,{"$f":"(AO1455=Parametros[Segmento])*(AP1455>0)*(AQ1455>0)","v":0}]
[null,"Meses o fracción de meses de extemporaneidad ",null,null,{"$f":"+IF(E1454>0,' '!D174,0)","v":0},{"$nulls":35},"Sanciones",0,30,{"$f":"(AO1456=Parametros[Segmento])*(AP1456>0)*(AQ1456>0)","v":0}]
[{"$nulls":3},"Sanción inicial",{"$f":"IF(E1454>0,ROUND(E1454*E1455*E1456,-3),0)","v":{"v":0,"d":"$ 0"}},{"$nulls":35},"Sanciones",0,30,{"$f":"(AO1457=Parametros[Segmento])*(AP1457>0)*(AQ1457>0)","v":0}]
[null,"Condiciones",{"$nulls":38},"Sanciones",0,30,{"$f":"(AO1458=Parametros[Segmento])*(AP1458>0)*(AQ1458>0)","v":0}]
[null,"La sanción no puede exceder el 20% del patrimonio líquido del año inmediatamente anterior",null,null,{"$f":"IF(E1454>0,(E1454*20%),0)","v":{"v":0,"d":"$ 0"}},{"$nulls":35},"Sanciones",0,30,{"$f":"(AO1459=Parametros[Segmento])*(AP1459>0)*(AQ1459>0)","v":0}]
[null,"La sanción tampoco puede exceder el equivalente a cuatro veces saldo a favor, si lo hay, o el equivalente a 5.000 UVT, si no hay saldo a favor",null,null,{"$f":"IF(OR(E1404>0,E1413>0,E1423>0,E1435>0,E1444>0),0,IF(AND(E1454>0,(Resumen!F134+Resumen!F135+Resumen!F136-Resumen!F133-Resumen!F137)>0),((Resumen!F134+Resumen!F135+Resumen!F136-Resumen!F133-Resumen!F137)*4),(5000*' '!E112)))","v":{"v":212060000,"d":"$ 212,060,000"}},{"$nulls":35},"Sanciones",0,30,{"$f":"(AO1460=Parametros[Segmento])*(AP1460>0)*(AQ1460>0)","v":0}]
[null,"La sanción no puede ser inferior a la mínima señalada en el artículo 639 del ET",null,null,{"$f":"IF(E1454>0,ROUND(' '!E112*10,-3),0)","v":0},{"$nulls":35},"Sanciones",0,30,{"$f":"(AO1461=Parametros[Segmento])*(AP1461>0)*(AQ1461>0)","v":0}]
[{"$nulls":3},"Sanción a pagar",{"$f":"IF(E1457>E1461,IF((E1457<MIN(E1459,E1460)),E1457,MIN(E1459,E1460)),E1461)","v":{"v":0,"d":"$ 0"}},{"$nulls":35},"Sanciones",0,30,{"$f":"(AO1462=Parametros[Segmento])*(AP1462>0)*(AQ1462>0)","v":0}]
[{"$nulls":3},"Sanción calculada a pagar ",{"$f":"+IF(' '!D174>0,MAX(' '!E1411,' '!E1421,' '!E1431,' '!E1442,' '!E1452,' '!E1462),0)","v":{"v":0,"d":"$ 0"}},{"$nulls":35},"Sanciones",{"$f":"(E1460=\"Sí\")*1+(E1430=\"No\")*1","v":0},30,{"$f":"(AO1463=Parametros[Segmento])*(AP1463>0)*(AQ1463>0)","v":0}]
[{"$nulls":40},"Sanciones",1,30,{"$f":"(AO1464=Parametros[Segmento])*(AP1464>0)*(AQ1464>0)","v":0}]
[null,"Reducción de la sanción aplicando el artículo 640 del ET ",{"$nulls":38},"Sanciones",1,30,{"$f":"(AO1465=Parametros[Segmento])*(AP1465>0)*(AQ1465>0)","v":0}]
[null,"¿La sanción es liquidada por el contribuyente?",{"$nulls":38},"Sanciones",1,30,{"$f":"(AO1466=Parametros[Segmento])*(AP1466>0)*(AQ1466>0)","v":0}]
[null,"¿En los dos años anteriores a la generación de esta sanción por extemporaneidad, el \ncontribuyente incurrió en la misma conducta sancionable?",{"$nulls":38},"Sanciones",{"$f":"($E$1466=\"Sí\")*1","v":0},40,{"$f":"(AO1467=Parametros[Segmento])*(AP1467>0)*(AQ1467>0)","v":0}]
[null,"¿En el año anterior a la generación de esta sanción por extemporaneidad, el contribuyente incurrió en la misma conducta sancionable?",{"$nulls":38},"Sanciones",{"$f":"($E$1467=\"Sí\")*AP1467","v":0},40,{"$f":"(AO1468=Parametros[Segmento])*(AP1468>0)*(AQ1468>0)","v":0}]
[null,"¿La DIAN ha proferido pliego de cargos, requerimiento especial o emplazamiento previo por no declarar?",null,null,{"$f":"+IF(E1400=\"Sí\",\"Sí\",\"No\")","v":"No"},{"$nulls":35},"Sanciones",{"$f":"($E$1466=\"Sí\")*1","v":0},30,{"$f":"(AO1469=Parametros[Segmento])*(AP1469>0)*(AQ1469>0)","v":0}]
[null,"Resumen",{"$nulls":38},"Sanciones",0,30,{"$f":"(AO1470=Parametros[Segmento])*(AP1470>0)*(AQ1470>0)","v":0}]
[null,"Valor de la sanción calculado inicialmente ",null,null,{"$f":"IF(OR(E1466=\"\",E1466=\"No\"),0,E1463)","v":{"v":0,"d":"$ 0"}},{"$nulls":35},"Sanciones",0,30,{"$f":"(AO1471=Parametros[Segmento])*(AP1471>0)*(AQ1471>0)","v":0}]
[null,"¿Aplica reducción de la sanción al 50%? ",null,null,{"$f":"+IF(AND(E1466=\"Sí\",E1467=\"No\",E1469=\"No\"),\"Si\",\"No\")","v":"No"},{"$nulls":35},"Sanciones",0,30,{"$f":"(AO1472=Parametros[Segmento])*(AP1472>0)*(AQ1472>0)","v":0}]
[null,"¿Aplica reducción de la sanción al 75%? ",null,null,{"$f":"+IF(E1472=\"Si\",\"No aplica\",IF(AND(E1466=\"Sí\",E1468=\"No\",E1469=\"No\"),\"Si\",\"No\"))","v":"No"},{"$nulls":35},"Sanciones",0,30,{"$f":"(AO1473=Parametros[Segmento])*(AP1473>0)*(AQ1473>0)","v":0}]
[{"$nulls":3},"Valor de la sanción reducida ",{"$f":"+IF(E1472=\"Si\",(E1471*50%),IF(E1473=\"Si\",(E1471*75%),E1471))","v":{"v":0,"d":"$ 0"}},{"$nulls":35},"Sanciones",0,30,{"$f":"(AO1474=Parametros[Segmento])*(AP1474>0)*(AQ1474>0)","v":0}]
[{"$nulls":3},"Valor de la sanción reducida a pagar ",{"$f":"ROUND(IF(AND(E1466=\"Sí\",E1471>0),IF(E1474>(' '!E112*10),E1474,(' '!E112*10)),0),-3)","v":{"v":0,"d":"$ 0"}},{"$nulls":35},"Sanciones",0,30,{"$f":"(AO1475=Parametros[Segmento])*(AP1475>0)*(AQ1475>0)","v":0}]
[null,"¿La sanción fue propuesta o determinada por la DIAN?",{"$nulls":38},"Sanciones",1,30,{"$f":"(AO1476=Parametros[Segmento])*(AP1476>0)*(AQ1476>0)","v":0}]
[null,"¿Dentro de los cuatro (4) años anteriores a la generación de esta sanción por extemporaneidad, el \ncontribuyente incurrió en la misma conducta sancionable, y esta fue sancionada mediante acto \nadministrativo en firme?",{"$nulls":38},"Sanciones",{"$f":"($E$1476=\"Sí\")*1","v":0},50,{"$f":"(AO1477=Parametros[Segmento])*(AP1477>0)*(AQ1477>0)","v":0}]
[null,"¿Dentro de los dos (2) años anteriores a la generación de esta sanción por extemporaneidad, \nel contribuyente incurrió en la misma conducta sancionable, y esta fue sancionada mediante \nacto administrativo en firme?",{"$nulls":38},"Sanciones",{"$f":"($E$1477=\"Sí\")*AP1477","v":0},50,{"$f":"(AO1478=Parametros[Segmento])*(AP1478>0)*(AQ1478>0)","v":0}]
[null,"¿La sanción es aceptada y la infracción subsanada por el contribuyente, de acuerdo con lo \nestablecido en el tipo sancionatorio correspondiente?",{"$nulls":38},"Sanciones",{"$f":"($E$1476=\"Sí\")*1","v":0},40.1,{"$f":"(AO1479=Parametros[Segmento])*(AP1479>0)*(AQ1479>0)","v":0}]
[null,"Resumen",{"$nulls":38},"Sanciones",0,30,{"$f":"(AO1480=Parametros[Segmento])*(AP1480>0)*(AQ1480>0)","v":0}]
[null,"Valor de la sanción calculado inicialmente ",null,null,{"$f":"IF(OR(E1476=\"\",E1476=\"No\"),0,E1463)","v":{"v":0,"d":"$ 0"}},{"$nulls":35},"Sanciones",0,30,{"$f":"(AO1481=Parametros[Segmento])*(AP1481>0)*(AQ1481>0)","v":0}]
[null,"¿Aplica reducción de la sanción al 50%? ",null,null,{"$f":"+IF(AND(E1476=\"Sí\",E1477=\"No\",E1479=\"Sí\"),\"Sí\",\"No\")","v":"No"},{"$nulls":35},"Sanciones",0,30,{"$f":"(AO1482=Parametros[Segmento])*(AP1482>0)*(AQ1482>0)","v":0}]
[null,"¿Aplica reducción de la sanción al 75%? ",null,null,{"$f":"+IF(E1482=\"Sí\",\"No aplica\",IF(AND(E1476=\"Sí\",E1478=\"No\",E1479=\"Sí\"),\"SÍ\",\"No\"))","v":"No"},{"$nulls":35},"Sanciones",0,30,{"$f":"(AO1483=Parametros[Segmento])*(AP1483>0)*(AQ1483>0)","v":0}]
[{"$nulls":3},"Valor de la sanción reducida ",{"$f":"+IF(E1482=\"Si\",(E1481*50%),IF(E1483=\"Si\",(E1481*75%),E1481))","v":{"v":0,"d":"$ 0"}},{"$nulls":35},"Sanciones",0,30,{"$f":"(AO1484=Parametros[Segmento])*(AP1484>0)*(AQ1484>0)","v":0}]
[{"$nulls":3},"Valor de la sanción reducida a pagar ",{"$f":"ROUND(IF(AND(E1476=\"Sí\",E1481>0),IF(E1484>(' '!E112*10),E1484,(' '!E112*10)),0),-3)","v":{"v":0,"d":"$ 0"}},{"$nulls":35},"Sanciones",0,30,{"$f":"(AO1485=Parametros[Segmento])*(AP1485>0)*(AQ1485>0)","v":0}]
[2,5,2.78,19,4,3,3,3,2.78,2.78,5,3.44,4.22,5,4,3,3,2.78,6.67,5,4.44,3.44,5,4,3.44,3.44,6,14.56,2.89,4,4,4,4,11,11.56,{"$nulls":5},"F210",0,15,{"$f":"(AO1486=Parametros[Segmento])*(AP1486>0)*(AQ1486>0)","v":0}]
[{"$nulls":40},"F210",1,15,{"$f":"(AO1487=Parametros[Segmento])*(AP1487>0)*(AQ1487>0)","v":0}]
[{"$nulls":10},"Declaración de renta y complementarios personas naturales y asimiladas residentes y sucesiones ilíquidas de causantes residentes",{"$nulls":29},"F210",1,6.6,{"$f":"(AO1488=Parametros[Segmento])*(AP1488>0)*(AQ1488>0)","v":0}]
[{"$nulls":40},"F210",1,23.3,{"$f":"(AO1489=Parametros[Segmento])*(AP1489>0)*(AQ1489>0)","v":0}]
[{"$nulls":40},"F210",1,23.3,{"$f":"(AO1490=Parametros[Segmento])*(AP1490>0)*(AQ1490>0)","v":0}]
[{"$nulls":40},"F210",1,42,{"$f":"(AO1491=Parametros[Segmento])*(AP1491>0)*(AQ1491>0)","v":0}]
[{"$nulls":40},"F210",1,5.6,{"$f":"(AO1492=Parametros[Segmento])*(AP1492>0)*(AQ1492>0)","v":0}]
[{"$nulls":3},"1. Año",2,0,2,2,{"$nulls":32},"F210",1,18,{"$f":"(AO1493=Parametros[Segmento])*(AP1493>0)*(AQ1493>0)","v":0}]
[{"$nulls":20},"4. Número de formulario",{"$nulls":19},"F210",1,15,{"$f":"(AO1494=Parametros[Segmento])*(AP1494>0)*(AQ1494>0)","v":0}]
[null,"Espacio reservado para la DIAN",{"$nulls":38},"F210",1,13.5,{"$f":"(AO1495=Parametros[Segmento])*(AP1495>0)*(AQ1495>0)","v":0}]
[{"$nulls":40},"F210",1,23.3,{"$f":"(AO1496=Parametros[Segmento])*(AP1496>0)*(AQ1496>0)","v":0}]
[{"$nulls":40},"F210",1,12,{"$f":"(AO1497=Parametros[Segmento])*(AP1497>0)*(AQ1497>0)","v":0}]
[{"$nulls":40},"F210",1,27,{"$f":"(AO1498=Parametros[Segmento])*(AP1498>0)*(AQ1498>0)","v":0}]
[null,"Datos del declarante","5. Número de Identificación Tributaria (NIT)",{"$nulls":9},"6.DV","7. Primer apellido",{"$nulls":5},"8. Segundo apellido ",{"$nulls":5},"9. Primer nombre",null,null,"10. Otros nombres ",{"$nulls":5},"12.Cod. Direc. Seccional",{"$nulls":5},"F210",1,18,{"$f":"(AO1499=Parametros[Segmento])*(AP1499>0)*(AQ1499>0)","v":0}]
[{"$nulls":40},"F210",1,4.1,{"$f":"(AO1500=Parametros[Segmento])*(AP1500>0)*(AQ1500>0)","v":0}]
[null,null,{"$f":"+IF(' '!D133=\"\",\"\",' '!D133)","v":1112674696},{"$nulls":9},{"$f":"+IF(' '!D134=\"\",\"\",' '!D134)","v":5},{"$f":"+IF(' '!D131=\"\",\"\",' '!D131)","v":"Julián "},{"$nulls":5},{"$f":"IF(' '!D132=\"\",\"\",' '!D132)","v":"Martínez"},{"$nulls":5},{"$f":"+IF(' '!D129=\"\",\"\",' '!D129)","v":"Andrés"},null,null,{"$f":"+IF(' '!D130=\"\",\"\",' '!D130)","v":""},{"$nulls":5},{"$f":"+IF(' '!D137=\"\",\"\",' '!D137)","v":"05"},{"$nulls":5},"F210",1,19.5,{"$f":"(AO1501=Parametros[Segmento])*(AP1501>0)*(AQ1501>0)","v":0}]
[{"$nulls":40},"F210",1,4.1,{"$f":"(AO1502=Parametros[Segmento])*(AP1502>0)*(AQ1502>0)","v":0}]
[null,"24. Actividad económica principal",null,null,{"$f":"+IF(' '!D136=\"\",\"\",' '!D136)","v":"0020"},null,null,"Si es una corrección indique:",{"$nulls":3}," 25 Cód.",null,null,"26. No. Formulario anterior",{"$nulls":5},"27. Fracción de año gravable siguiente",{"$nulls":6},"28. Pérdidas fiscales acumuladas años anteriores sin compensar",{"$nulls":12},"F210",1,28.1,{"$f":"(AO1503=Parametros[Segmento])*(AP1503>0)*(AQ1503>0)","v":0}]
[null,"Patrimonio",null,null,"Total patrimonio bruto",{"$nulls":4},29,{"$f":"+Resumen!F4","v":{"v":287776000,"d":"$ 287,776,000"}},{"$nulls":6},"Deudas",null,30,{"$f":"+Resumen!F5","v":{"v":15698000,"d":"$ 15,698,000"}},{"$nulls":6},"Total patrimonio líquido",null,31,{"$f":"+Resumen!F6","v":{"v":272078000,"d":"$ 272,078,000"}},{"$nulls":9},"F210",1,30,{"$f":"(AO1504=Parametros[Segmento])*(AP1504>0)*(AQ1504>0)","v":0}]
[null,"Cédula General","Concepto/rentas",{"$nulls":5},"Rentas de trabajo",{"$nulls":8},"Rentas por honorarios y comp. de serv. personales sujetos a costos y gastos y NO a las rentas exentas núm.. 10 art. 206 ET",{"$nulls":6},"Rentas de capital",{"$nulls":5},"Rentas no laborales",{"$nulls":9},"F210",1,33,{"$f":"(AO1505=Parametros[Segmento])*(AP1505>0)*(AQ1505>0)","v":0}]
[null,null,"Ingresos brutos",{"$nulls":5},32,{"$f":"+Resumen!F10","v":{"v":0,"d":"$ 0"}},{"$nulls":7},43,{"$f":"+Resumen!F25","v":{"v":0,"d":"$ 0"}},{"$nulls":5},58,{"$f":"+Resumen!F44","v":{"v":235000,"d":"$ 235,000"}},{"$nulls":4},74,{"$f":"+Resumen!F64","v":{"v":0,"d":"$ 0"}},{"$nulls":8},"F210",1,24,{"$f":"(AO1506=Parametros[Segmento])*(AP1506>0)*(AQ1506>0)","v":0}]
[null,null,"Devoluciones, rebajas y descuentos",{"$nulls":27},75,{"$f":"+Resumen!F65","v":{"v":0,"d":"$ 0"}},{"$nulls":8},"F210",1,24,{"$f":"(AO1507=Parametros[Segmento])*(AP1507>0)*(AQ1507>0)","v":0}]
[null,null,"Ingresos no constitutivos de renta",{"$nulls":5},33,{"$f":"+Resumen!F11","v":{"v":0,"d":"$ 0"}},{"$nulls":7},44,{"$f":"+Resumen!F26","v":{"v":0,"d":"$ 0"}},{"$nulls":5},59,{"$f":"+Resumen!F45","v":{"v":235000,"d":"$ 235,000"}},{"$nulls":4},76,{"$f":"+Resumen!F66","v":{"v":0,"d":"$ 0"}},{"$nulls":8},"F210",1,24,{"$f":"(AO1508=Parametros[Segmento])*(AP1508>0)*(AQ1508>0)","v":0}]
[null,null,"Costos y deducciones procedentes",{"$nulls":14},45,{"$f":"+Resumen!F27","v":{"v":0,"d":"$ 0"}},{"$nulls":5},60,{"$f":"+Resumen!F46","v":{"v":0,"d":"$ 0"}},{"$nulls":4},77,{"$f":"+Resumen!F67","v":{"v":0,"d":"$ 0"}},{"$nulls":8},"F210",1,24,{"$f":"(AO1509=Parametros[Segmento])*(AP1509>0)*(AQ1509>0)","v":0}]
[null,null,"Renta líquida",{"$nulls":5},34,{"$f":"+Resumen!F12","v":{"v":0,"d":"$ 0"}},{"$nulls":7},46,{"$f":"+Resumen!F28","v":{"v":0,"d":"$ 0"}},{"$nulls":5},61,{"$f":"+Resumen!F47","v":{"v":0,"d":"$ 0"}},{"$nulls":4},78,{"$f":"+Resumen!F68","v":{"v":0,"d":"$ 0"}},{"$nulls":8},"F210",1,24,{"$f":"(AO1510=Parametros[Segmento])*(AP1510>0)*(AQ1510>0)","v":0}]
[null,null,"Rentas líquidas pasivas - ECE",{"$nulls":21},62,{"$f":"+Resumen!F48","v":{"v":0,"d":"$ 0"}},{"$nulls":4},79,{"$f":"+Resumen!F69","v":{"v":0,"d":"$ 0"}},{"$nulls":8},"F210",1,24,{"$f":"(AO1511=Parametros[Segmento])*(AP1511>0)*(AQ1511>0)","v":0}]
[null,null,"Rentas exentas","Aportes voluntarios AFC, FVP y/o AVC",{"$nulls":4},35,{"$f":"+Resumen!F14","v":{"v":0,"d":"$ 0"}},{"$nulls":7},47,{"$f":"+Resumen!F30","v":{"v":0,"d":"$ 0"}},{"$nulls":5},63,{"$f":"+Resumen!F50","v":{"v":0,"d":"$ 0"}},{"$nulls":4},80,{"$f":"+Resumen!F71","v":{"v":0,"d":"$ 0"}},{"$nulls":8},"F210",1,24,{"$f":"(AO1512=Parametros[Segmento])*(AP1512>0)*(AQ1512>0)","v":0}]
[{"$nulls":3},"Otras rentas exentas",{"$nulls":4},36,{"$f":"+Resumen!F15","v":{"v":0,"d":"$ 0"}},{"$nulls":7},48,{"$f":"+Resumen!F31","v":{"v":0,"d":"$ 0"}},{"$nulls":5},64,{"$f":"+Resumen!F51","v":{"v":0,"d":"$ 0"}},{"$nulls":4},81,{"$f":"+Resumen!F72","v":{"v":0,"d":"$ 0"}},{"$nulls":8},"F210",1,24,{"$f":"(AO1513=Parametros[Segmento])*(AP1513>0)*(AQ1513>0)","v":0}]
[{"$nulls":3},"Total rentas exentas",{"$nulls":4},37,{"$f":"+Resumen!F16","v":{"v":0,"d":"$ 0"}},{"$nulls":7},49,{"$f":"+Resumen!F32","v":{"v":0,"d":"$ 0"}},{"$nulls":5},65,{"$f":"+Resumen!F52","v":{"v":0,"d":"$ 0"}},{"$nulls":4},82,{"$f":"+Resumen!F73","v":{"v":0,"d":"$ 0"}},{"$nulls":8},"F210",1,24,{"$f":"(AO1514=Parametros[Segmento])*(AP1514>0)*(AQ1514>0)","v":0}]
[null,null,"Deducciones imputables","Intereses de vivienda",{"$nulls":4},38,{"$f":"+Resumen!F18","v":{"v":0,"d":"$ 0"}},{"$nulls":7},50,{"$f":"+Resumen!F34","v":{"v":0,"d":"$ 0"}},{"$nulls":5},66,{"$f":"+Resumen!F54","v":{"v":0,"d":"$ 0"}},{"$nulls":4},83,{"$f":"+Resumen!F75","v":{"v":0,"d":"$ 0"}},{"$nulls":8},"F210",1,24,{"$f":"(AO1515=Parametros[Segmento])*(AP1515>0)*(AQ1515>0)","v":0}]
[{"$nulls":3},"Otras deducciones imputables",{"$nulls":4},39,{"$f":"+Resumen!F19","v":{"v":0,"d":"$ 0"}},{"$nulls":7},51,{"$f":"+Resumen!F35","v":{"v":0,"d":"$ 0"}},{"$nulls":5},67,{"$f":"+Resumen!F55","v":{"v":0,"d":"$ 0"}},{"$nulls":4},84,{"$f":"+Resumen!F76","v":{"v":0,"d":"$ 0"}},{"$nulls":8},"F210",1,24,{"$f":"(AO1516=Parametros[Segmento])*(AP1516>0)*(AQ1516>0)","v":0}]
[{"$nulls":3},"Total deducciones imputables",{"$nulls":4},40,{"$f":"+Resumen!F20","v":{"v":0,"d":"$ 0"}},{"$nulls":7},52,{"$f":"+Resumen!F36","v":{"v":0,"d":"$ 0"}},{"$nulls":5},68,{"$f":"+Resumen!F56","v":{"v":0,"d":"$ 0"}},{"$nulls":4},85,{"$f":"+Resumen!F77","v":{"v":0,"d":"$ 0"}},{"$nulls":8},"F210",1,24,{"$f":"(AO1517=Parametros[Segmento])*(AP1517>0)*(AQ1517>0)","v":0}]
[null,null,"Rentas exentas y deducciones imputables limitadas ",{"$nulls":5},41,{"$f":"+Resumen!F21","v":{"v":0,"d":"$ 0"}},{"$nulls":7},53,{"$f":"+Resumen!F37","v":{"v":0,"d":"$ 0"}},{"$nulls":5},69,{"$f":"+Resumen!F57","v":{"v":0,"d":"$ 0"}},{"$nulls":4},86,{"$f":"+Resumen!F78","v":{"v":0,"d":"$ 0"}},{"$nulls":8},"F210",1,31.5,{"$f":"(AO1518=Parametros[Segmento])*(AP1518>0)*(AQ1518>0)","v":0}]
[null,null,"Renta líquida ordinaria del ejercicio",{"$nulls":5}," ",{"$nulls":8},54,{"$f":"+Resumen!F38","v":{"v":0,"d":"$ 0"}},{"$nulls":5},70,{"$f":"+Resumen!F58","v":{"v":0,"d":"$ 0"}},{"$nulls":4},87,{"$f":"+Resumen!F79","v":{"v":0,"d":"$ 0"}},{"$nulls":8},"F210",1,24,{"$f":"(AO1519=Parametros[Segmento])*(AP1519>0)*(AQ1519>0)","v":0}]
[null,null,"Pérdida líquida del ejercicio",{"$nulls":14},55,{"$f":"+Resumen!F39","v":{"v":0,"d":"$ 0"}},{"$nulls":5},71,{"$f":"+Resumen!F59","v":{"v":0,"d":"$ 0"}},{"$nulls":4},88,{"$f":"+Resumen!F80","v":{"v":0,"d":"$ 0"}},{"$nulls":8},"F210",1,24,{"$f":"(AO1520=Parametros[Segmento])*(AP1520>0)*(AQ1520>0)","v":0}]
[null,null,"Compensaciones por pérdidas",{"$nulls":14},56,{"$f":"+Resumen!F40","v":{"v":0,"d":"$ 0"}},{"$nulls":5},72,{"$f":"+Resumen!F60","v":{"v":0,"d":"$ 0"}},{"$nulls":4},89,{"$f":"+Resumen!F81","v":{"v":0,"d":"$ 0"}},{"$nulls":8},"F210",1,24,{"$f":"(AO1521=Parametros[Segmento])*(AP1521>0)*(AQ1521>0)","v":0}]
[null,null,"Renta líquida ordinaria",{"$nulls":5},42,{"$f":"+Resumen!F22","v":0},{"$nulls":7},57,{"$f":"+Resumen!F41","v":{"v":0,"d":"$ 0"}},{"$nulls":5},73,{"$f":"+Resumen!F61","v":{"v":0,"d":"$ 0"}},{"$nulls":4},90,{"$f":"+Resumen!F82","v":{"v":0,"d":"$ 0"}},{"$nulls":8},"F210",1,24,{"$f":"(AO1522=Parametros[Segmento])*(AP1522>0)*(AQ1522>0)","v":0}]
[null,null,"Ren. Líquida cédula general ",null,91,{"$f":"+Resumen!F83","v":{"v":0,"d":"$ 0"}},{"$nulls":5},"Ren. Exentas y ded. Imp. Li.",null,null,92,{"$f":"+Resumen!F84","v":{"v":0,"d":"$ 0"}},{"$nulls":4},"R. líq. Ord. cédula general",{"$nulls":3},93,{"$f":"+Resumen!F85","v":{"v":0,"d":"$ 0"}},null,null,"Comp. pérdidas año 2018 y ant.",{"$nulls":3},94,{"$f":"+Resumen!F86","v":{"v":0,"d":"$ 0"}},{"$nulls":6},"F210",1,29.6,{"$f":"(AO1523=Parametros[Segmento])*(AP1523>0)*(AQ1523>0)","v":0}]
[null,null,"Comp. por exceso de Renta presuntiva",null,95,{"$f":"+Resumen!F87","v":{"v":0,"d":"$ 0"}},{"$nulls":5},"Rentas gravables",null,null,96,{"$f":"+Resumen!F88","v":{"v":0,"d":"$ 0"}},{"$nulls":4},"R. líq. gravable cédula general",{"$nulls":3},97,{"$f":"+Resumen!F89","v":{"v":0,"d":"$ 0"}},null,null,"Renta presuntiva",{"$nulls":3},98,{"$f":"+Resumen!F90","v":{"v":0,"d":"$ 0"}},{"$nulls":6},"F210",1,29.6,{"$f":"(AO1524=Parametros[Segmento])*(AP1524>0)*(AQ1524>0)","v":0}]
[null,"Cédula de pensiones","Ingresos brutos por rentas de pensiones del país y del exterior",{"$nulls":8},99,{"$f":"+Resumen!F93","v":{"v":58500000,"d":"$ 58,500,000"}},{"$nulls":7},"Ganancias ocasionales gravables ",{"$nulls":8},116,{"$f":"+Resumen!F116","v":{"v":0,"d":"$ 0"}},{"$nulls":9},"F210",1,29.1,{"$f":"(AO1525=Parametros[Segmento])*(AP1525>0)*(AQ1525>0)","v":0}]
[null,null,"Ingresos no constitutivos de renta",{"$nulls":8},100,{"$f":"+Resumen!F94","v":{"v":2340000,"d":"$ 2,340,000"}},{"$nulls":7},"Liquidación privada","Impuesto sobre las rentas líquidas gravables","General y de pensiones ",{"$nulls":6},117,{"$f":"+Resumen!F119","v":{"v":0,"d":"$ 0"}},{"$nulls":9},"F210",1,27,{"$f":"(AO1526=Parametros[Segmento])*(AP1526>0)*(AQ1526>0)","v":0}]
[null,null,"Renta líquida",{"$nulls":8},101,{"$f":"+Resumen!F95","v":{"v":56160000,"d":"$ 56,160,000"}},{"$nulls":9},"Renta presuntiva y de pensiones ",{"$nulls":6},118,{"$f":"+Resumen!F120","v":{"v":0,"d":"$ 0"}},{"$nulls":9},"F210",1,27,{"$f":"(AO1527=Parametros[Segmento])*(AP1527>0)*(AQ1527>0)","v":0}]
[null,null,"Rentas exentas de pensiones",{"$nulls":8},102,{"$f":"+Resumen!F97","v":{"v":56160000,"d":"$ 56,160,000"}},{"$nulls":9},"Por dividendos y participaciones año 2016",{"$nulls":6},119,{"$f":"+Resumen!F121","v":{"v":0,"d":"$ 0"}},{"$nulls":9},"F210",1,27,{"$f":"(AO1528=Parametros[Segmento])*(AP1528>0)*(AQ1528>0)","v":0}]
[null,null,"Renta líquida gravable cédula de pensiones",{"$nulls":8},103,{"$f":"+Resumen!F98","v":{"v":0,"d":"$ 0"}},{"$nulls":9},"Por dividendos y participaciones año 2017 y siguientes, 1a Subcédula",{"$nulls":6},120,{"$f":"+Resumen!F122","v":{"v":0,"d":"$ 0"}},{"$nulls":9},"F210",1,26.6,{"$f":"(AO1529=Parametros[Segmento])*(AP1529>0)*(AQ1529>0)","v":0}]
[null,"Cédula de dividendos y participaciones","Dividendos y participaciones 2016 y anteriores, y otros",{"$nulls":8},104,{"$f":"+Resumen!F101","v":{"v":0,"d":"$ 0"}},{"$nulls":9},"Por dividendos y participaciones año 2017 y siguientes, 2a Subcédula y otros",{"$nulls":6},121,{"$f":"+Resumen!F123","v":{"v":0,"d":"$ 0"}},{"$nulls":9},"F210",1,27,{"$f":"(AO1530=Parametros[Segmento])*(AP1530>0)*(AQ1530>0)","v":0}]
[null,null,"Ingresos no constitutivos de renta",{"$nulls":8},105,{"$f":"+Resumen!F102","v":{"v":0,"d":"$ 0"}},{"$nulls":9},"Total impuesto sobre las rentas líquidas cedulares",{"$nulls":6},122,{"$f":"+Resumen!F124","v":{"v":0,"d":"$ 0"}},{"$nulls":9},"F210",1,27,{"$f":"(AO1531=Parametros[Segmento])*(AP1531>0)*(AQ1531>0)","v":0}]
[null,null,"Renta líquida ordinaria año 2016 y anteriores ",{"$nulls":8},106,{"$f":"+Resumen!F103","v":{"v":0,"d":"$ 0"}},{"$nulls":8},"Descuentos","Imp. pagados en el exterior",null,null,123,{"$f":"+Resumen!F126","v":{"v":0,"d":"$ 0"}},null,null,"Donaciones",null,null,124,{"$f":"+Resumen!F127","v":{"v":0,"d":"$ 0"}},{"$nulls":6},"F210",1,27,{"$f":"(AO1532=Parametros[Segmento])*(AP1532>0)*(AQ1532>0)","v":0}]
[null,null,"1a. Subcédula año 2017 y siguientes numeral 3 art. 49 del ET",{"$nulls":8},107,{"$f":"+Resumen!F104","v":{"v":0,"d":"$ 0"}},{"$nulls":9},"Otros",null,null,125,{"$f":"+Resumen!F128","v":{"v":0,"d":"$ 0"}},null,null,"Total Desc. Tributarios",null,null,126,{"$f":"+Resumen!F129","v":{"v":0,"d":"$ 0"}},{"$nulls":6},"F210",1,27,{"$f":"(AO1533=Parametros[Segmento])*(AP1533>0)*(AQ1533>0)","v":0}]
[null,null,"2a. Subcédula año 2017 y siguientes parágrafo 2 art. 49 del ET",{"$nulls":8},108,{"$f":"+Resumen!F105","v":{"v":0,"d":"$ 0"}},{"$nulls":8},"Impuesto neto de renta",{"$nulls":7},127,{"$f":"+Resumen!F130","v":{"v":0,"d":"$ 0"}},{"$nulls":9},"F210",1,27,{"$f":"(AO1534=Parametros[Segmento])*(AP1534>0)*(AQ1534>0)","v":0}]
[null,null,"Renta líquida pasiva dividendos-ECE y/o recibidos del exterior",{"$nulls":8},109,{"$f":"+Resumen!F106","v":{"v":0,"d":"$ 0"}},{"$nulls":8},"Impuesto de ganancias ocasionales",{"$nulls":7},128,{"$f":"+Resumen!F131","v":{"v":0,"d":"$ 0"}},{"$nulls":9},"F210",1,27,{"$f":"(AO1535=Parametros[Segmento])*(AP1535>0)*(AQ1535>0)","v":0}]
[null,null,"Rentas exentas de la casilla 109",{"$nulls":8},110,{"$f":"+Resumen!F108","v":{"v":0,"d":"$ 0"}},{"$nulls":8},"Descuento por impuestos pagados en el exterior por ganancias ocasionales",{"$nulls":7},129,{"$f":"+Resumen!F132","v":{"v":0,"d":"$ 0"}},{"$nulls":9},"F210",1,27,{"$f":"(AO1536=Parametros[Segmento])*(AP1536>0)*(AQ1536>0)","v":0}]
[null,"Ganancias ocasionales","Ingresos por ganancias ocasionales del país y del exterior",{"$nulls":8},111,{"$f":"+Resumen!F111","v":{"v":0,"d":"$ 0"}},{"$nulls":8},"Total impuesto a cargo",{"$nulls":7},130,{"$f":"+Resumen!F133","v":{"v":0,"d":"$ 0"}},{"$nulls":9},"F210",1,27,{"$f":"(AO1537=Parametros[Segmento])*(AP1537>0)*(AQ1537>0)","v":0}]
[null,null,"Rentas deudores régimen Ley 1116 de 2006, Decretos 560 y 772 de 2020",{"$nulls":8},112,{"$f":"+Resumen!F112","v":{"v":0,"d":"$ 0"}},{"$nulls":8},"Anticipo renta liquidado año gravable anterior",{"$nulls":7},131,{"$f":"+Resumen!F134","v":{"v":0,"d":"$ 0"}},{"$nulls":9},"F210",1,27,{"$f":"(AO1538=Parametros[Segmento])*(AP1538>0)*(AQ1538>0)","v":0}]
[null,null,"Utilización pérdidas fiscales acumuladas (Inc. 2, art. 15 Decreto 772 de 2020)",{"$nulls":8},113,{"$f":"+Resumen!F113","v":{"v":0,"d":"$ 0"}},{"$nulls":8},"Saldo a favor del año gravable anterior sin solicitud de devolución y/o compensación",{"$nulls":7},132,{"$f":"+Resumen!F135","v":{"v":0,"d":"$ 0"}},{"$nulls":9},"F210",1,35.1,{"$f":"(AO1539=Parametros[Segmento])*(AP1539>0)*(AQ1539>0)","v":0}]
[null,null,"Costos por ganancias ocasionales",{"$nulls":8},114,{"$f":"+Resumen!F114","v":{"v":0,"d":"$ 0"}},{"$nulls":8},"Retenciones año gravable a declarar y/o abono por inexequibilidad impuesto solidario por COVID 19",{"$nulls":7},133,{"$f":"+Resumen!F136","v":{"v":0,"d":"$ 0"}},{"$nulls":9},"F210",1,34.1,{"$f":"(AO1540=Parametros[Segmento])*(AP1540>0)*(AQ1540>0)","v":0}]
[null,null,"Ganancias ocasionales no gravadas y exentas",{"$nulls":8},115,{"$f":"+Resumen!F115","v":{"v":0,"d":"$ 0"}},{"$nulls":8},"Anticipo renta para el año gravable siguiente",{"$nulls":7},134,{"$f":"+Resumen!F137","v":{"v":0,"d":"$ 0"}},{"$nulls":9},"F210",1,27,{"$f":"(AO1541=Parametros[Segmento])*(AP1541>0)*(AQ1541>0)","v":0}]
[null,"Saldo a pagar por impuesto",null,null,135,{"$f":"+Resumen!F138","v":{"v":0,"d":"$ 0"}},{"$nulls":5},"Sanciones",null,null,136,{"$f":"+Resumen!F139","v":{"v":0,"d":"$ 0"}},{"$nulls":4},"Total saldo a pagar",{"$nulls":3},137,{"$f":"+Resumen!F140","v":{"v":0,"d":"$ 0"}},null,null,"Total saldo a favor ",null,null,138,{"$f":"+Resumen!F141","v":{"v":0,"d":"$ 0"}},{"$nulls":7},"F210",1,35,{"$f":"(AO1542=Parametros[Segmento])*(AP1542>0)*(AQ1542>0)","v":0}]
[{"$nulls":40},"F210",1,30,{"$f":"(AO1543=Parametros[Segmento])*(AP1543>0)*(AQ1543>0)","v":0}]
[{"$nulls":40},"F210",1,28.1,{"$f":"(AO1544=Parametros[Segmento])*(AP1544>0)*(AQ1544>0)","v":0}]
[{"$nulls":40},"F210",1,32.1,{"$f":"(AO1545=Parametros[Segmento])*(AP1545>0)*(AQ1545>0)","v":0}]
[{"$nulls":40},"F210",1,45,{"$f":"(AO1546=Parametros[Segmento])*(AP1546>0)*(AQ1546>0)","v":0}]
[null,"981. Cód. Representación",{"$nulls":4},"Firma del declarante o de quien lo",{"$nulls":6},"997. Espacio exclusivo para el sello de la entidad recaudadora",{"$nulls":26},"F210",1,14,{"$f":"(AO1547=Parametros[Segmento])*(AP1547>0)*(AQ1547>0)","v":0}]
[{"$nulls":6},"representa",{"$nulls":33},"F210",1,13.8,{"$f":"(AO1548=Parametros[Segmento])*(AP1548>0)*(AQ1548>0)","v":0}]
[{"$nulls":27},"980. Pago Total  $",{"$nulls":3},{"$f":"+IF(' '!D174<=0,Z1542,0)","v":{"v":0,"d":"$ 0"}},{"$nulls":8},"F210",1,13.8,{"$f":"(AO1549=Parametros[Segmento])*(AP1549>0)*(AQ1549>0)","v":0}]
[{"$nulls":40},"F210",1,13.8,{"$f":"(AO1550=Parametros[Segmento])*(AP1550>0)*(AQ1550>0)","v":0}]
[null,"982 Código Contador",{"$nulls":5},"994. Con salvedades",{"$nulls":32},"F210",1,13.8,{"$f":"(AO1551=Parametros[Segmento])*(AP1551>0)*(AQ1551>0)","v":0}]
[{"$nulls":26},"996. Espacio para el número interno de la DIAN/Autoadhesivo",{"$nulls":13},"F210",1,13.8,{"$f":"(AO1552=Parametros[Segmento])*(AP1552>0)*(AQ1552>0)","v":0}]
[null,"983. No. Tarjeta Profesional",{"$nulls":38},"F210",1,32,{"$f":"(AO1553=Parametros[Segmento])*(AP1553>0)*(AQ1553>0)","v":0}]
[10.11,80.33,24.89,24.89,24.89,5,{"$nulls":9},0,0,0,0,0,0,0,0,{"$nulls":17},"Informe Costos",0,15,{"$f":"(AO1554=Parametros[Segmento])*(AP1554>0)*(AQ1554>0)","v":0}]
[{"$nulls":40},"Informe Costos",1,30,{"$f":"(AO1555=Parametros[Segmento])*(AP1555>0)*(AQ1555>0)","v":0}]
[null,"Costos y gastos procedentes",{"$nulls":38},"Informe Costos",1,30,{"$f":"(AO1556=Parametros[Segmento])*(AP1556>0)*(AQ1556>0)","v":0}]
[null,"Concepto ","Rentas por honorarios y servicios ","Rentas de capital ","Rentas no laborales",{"$nulls":35},"Informe Costos",1,40.1,{"$f":"(AO1557=Parametros[Segmento])*(AP1557>0)*(AQ1557>0)","v":0}]
[null,"Gastos nómina ",{"$f":"+' '!F632","v":{"v":0,"d":"$ 0"}},{"$f":"+' '!F724","v":{"v":0,"d":"$ 0"}},{"$f":"+' '!F820","v":{"v":0,"d":"$ 0"}},{"$nulls":35},"Informe Costos",1,30,{"$f":"(AO1558=Parametros[Segmento])*(AP1558>0)*(AQ1558>0)","v":0}]
[null,"Gastos por honorarios ",{"$f":"+' '!F633","v":{"v":0,"d":"$ 0"}},{"$f":"+' '!F725","v":{"v":0,"d":"$ 0"}},{"$f":"+' '!F821","v":{"v":0,"d":"$ 0"}},{"$nulls":35},"Informe Costos",1,30,{"$f":"(AO1559=Parametros[Segmento])*(AP1559>0)*(AQ1559>0)","v":0}]
[null,"Gastos por servicios ",{"$f":"+' '!F634","v":{"v":0,"d":"$ 0"}},{"$f":"+' '!F726","v":{"v":0,"d":"$ 0"}},{"$f":"+' '!F822","v":{"v":0,"d":"$ 0"}},{"$nulls":35},"Informe Costos",1,30,{"$f":"(AO1560=Parametros[Segmento])*(AP1560>0)*(AQ1560>0)","v":0}]
[null,"Gastos por arrendamientos ",{"$f":"+' '!F635","v":{"v":0,"d":"$ 0"}},{"$f":"+' '!F727","v":{"v":0,"d":"$ 0"}},{"$f":"+' '!F823","v":{"v":0,"d":"$ 0"}},{"$nulls":35},"Informe Costos",1,30,{"$f":"(AO1561=Parametros[Segmento])*(AP1561>0)*(AQ1561>0)","v":0}]
[null,"Gastos por servicios públicos ",{"$f":"+' '!F636","v":{"v":0,"d":"$ 0"}},{"$f":"+' '!F728","v":{"v":0,"d":"$ 0"}},{"$f":"+' '!F824","v":{"v":0,"d":"$ 0"}},{"$nulls":35},"Informe Costos",1,30,{"$f":"(AO1562=Parametros[Segmento])*(AP1562>0)*(AQ1562>0)","v":0}]
[null,"Gastos por papelería ",{"$f":"+' '!F637","v":{"v":0,"d":"$ 0"}},{"$f":"+' '!F729","v":{"v":0,"d":"$ 0"}},{"$f":"+' '!F825","v":{"v":0,"d":"$ 0"}},{"$nulls":35},"Informe Costos",1,30,{"$f":"(AO1563=Parametros[Segmento])*(AP1563>0)*(AQ1563>0)","v":0}]
[null,"Gastos por publicidad ",{"$f":"+' '!F638","v":{"v":0,"d":"$ 0"}},{"$f":"+' '!F730","v":{"v":0,"d":"$ 0"}},{"$f":"+' '!F826","v":{"v":0,"d":"$ 0"}},{"$nulls":35},"Informe Costos",1,30,{"$f":"(AO1564=Parametros[Segmento])*(AP1564>0)*(AQ1564>0)","v":0}]
[null,"Gastos por seguros ",{"$f":"+' '!F639","v":{"v":0,"d":"$ 0"}},{"$f":"+' '!F731","v":{"v":0,"d":"$ 0"}},{"$f":"+' '!F827","v":{"v":0,"d":"$ 0"}},{"$nulls":35},"Informe Costos",1,30,{"$f":"(AO1565=Parametros[Segmento])*(AP1565>0)*(AQ1565>0)","v":0}]
[null,"Gastos por mantenimiento y reparaciones",{"$f":"+' '!F640","v":{"v":0,"d":"$ 0"}},{"$f":"+' '!F732","v":{"v":0,"d":"$ 0"}},{"$f":"+' '!F828","v":{"v":0,"d":"$ 0"}},{"$nulls":35},"Informe Costos",1,30,{"$f":"(AO1566=Parametros[Segmento])*(AP1566>0)*(AQ1566>0)","v":0}]
[null,"Gastos legales ",{"$f":"+' '!F641","v":{"v":0,"d":"$ 0"}},{"$f":"+' '!F733","v":{"v":0,"d":"$ 0"}},{"$f":"+' '!F829","v":{"v":0,"d":"$ 0"}},{"$nulls":35},"Informe Costos",1,30,{"$f":"(AO1567=Parametros[Segmento])*(AP1567>0)*(AQ1567>0)","v":0}]
[null,"Gastos de viaje ",{"$f":"+' '!F642","v":{"v":0,"d":"$ 0"}},{"$f":"+' '!F734","v":{"v":0,"d":"$ 0"}},{"$f":"+' '!F830","v":{"v":0,"d":"$ 0"}},{"$nulls":35},"Informe Costos",1,30,{"$f":"(AO1568=Parametros[Segmento])*(AP1568>0)*(AQ1568>0)","v":0}]
[null,"Gastos diversos ",{"$f":"+' '!F643","v":{"v":0,"d":"$ 0"}},{"$f":"+' '!F735","v":{"v":0,"d":"$ 0"}},{"$f":"+' '!F831","v":{"v":0,"d":"$ 0"}},{"$nulls":35},"Informe Costos",1,30,{"$f":"(AO1569=Parametros[Segmento])*(AP1569>0)*(AQ1569>0)","v":0}]
[null,"Impuestos pagados, diferentes al ICA y su complementario de avisos y tableros ",{"$f":"+' '!F644","v":{"v":0,"d":"$ 0"}},{"$f":"+' '!F736","v":{"v":0,"d":"$ 0"}},{"$f":"+' '!F832","v":{"v":0,"d":"$ 0"}},{"$nulls":35},"Informe Costos",1,30,{"$f":"(AO1570=Parametros[Segmento])*(AP1570>0)*(AQ1570>0)","v":0}]
[null,"Intereses y gastos financieros pagados a entidades financieras ",{"$f":"+' '!F645","v":{"v":0,"d":"$ 0"}},{"$f":"+' '!F737","v":{"v":0,"d":"$ 0"}},{"$f":"+' '!F833","v":{"v":0,"d":"$ 0"}},{"$nulls":35},"Informe Costos",1,30,{"$f":"(AO1571=Parametros[Segmento])*(AP1571>0)*(AQ1571>0)","v":0}]
[null,"Intereses y gastos financieros pagados a particulares",{"$f":"+' '!F646","v":{"v":0,"d":"$ 0"}},{"$f":"+' '!F738","v":{"v":0,"d":"$ 0"}},{"$f":"+' '!F834","v":{"v":0,"d":"$ 0"}},{"$nulls":35},"Informe Costos",1,30,{"$f":"(AO1572=Parametros[Segmento])*(AP1572>0)*(AQ1572>0)","v":0}]
[null,"Intereses y gastos financieros pagados a vinculados económicos",{"$f":"+' '!F647","v":{"v":0,"d":"$ 0"}},{"$f":"+' '!F739","v":{"v":0,"d":"$ 0"}},{"$f":"+' '!F835","v":{"v":0,"d":"$ 0"}},{"$nulls":35},"Informe Costos",1,30,{"$f":"(AO1573=Parametros[Segmento])*(AP1573>0)*(AQ1573>0)","v":0}]
[null,"Costo venta de mercancías ",null,null,{"$f":"+' '!F836","v":{"v":0,"d":"$ 0"}},{"$nulls":35},"Informe Costos",1,30,{"$f":"(AO1574=Parametros[Segmento])*(AP1574>0)*(AQ1574>0)","v":0}]
[null,"Costo de venta de bienes inmuebles poseídos por menos de dos años ",null,null,{"$f":"+' '!F837","v":{"v":0,"d":"$ 0"}},{"$nulls":35},"Informe Costos",1,30,{"$f":"(AO1575=Parametros[Segmento])*(AP1575>0)*(AQ1575>0)","v":0}]
[null,"Costo de venta de acciones y/o inversiones poseídos por menos de dos años ",null,null,{"$f":"+' '!F838","v":{"v":0,"d":"$ 0"}},{"$nulls":35},"Informe Costos",1,30,{"$f":"(AO1576=Parametros[Segmento])*(AP1576>0)*(AQ1576>0)","v":0}]
[null,"Costo de venta de otros bienes poseídos por menos de dos años ",null,null,{"$f":"+' '!F839","v":{"v":0,"d":"$ 0"}},{"$nulls":35},"Informe Costos",1,30,{"$f":"(AO1577=Parametros[Segmento])*(AP1577>0)*(AQ1577>0)","v":0}]
[null,"Otros gastos no mencionados anteriormente ",{"$f":"+' '!F648","v":{"v":0,"d":"$ 0"}},{"$f":"+' '!F740","v":{"v":0,"d":"$ 0"}},{"$f":"+' '!F840","v":{"v":0,"d":"$ 0"}},{"$nulls":35},"Informe Costos",1,30,{"$f":"(AO1578=Parametros[Segmento])*(AP1578>0)*(AQ1578>0)","v":0}]
[null,"Total costos y gastos procedentes",{"$f":"+ROUND(SUM(C1558:C1578),-3)","v":{"v":0,"d":"$ 0"}},{"$f":"+ROUND(SUM(D1558:D1578),-3)","v":{"v":0,"d":"$ 0"}},{"$f":"+ROUND(SUM(E1558:E1578),-3)","v":{"v":0,"d":"$ 0"}},{"$nulls":35},"Informe Costos",1,30,{"$f":"(AO1579=Parametros[Segmento])*(AP1579>0)*(AQ1579>0)","v":0}]
[null,"Costos efectivamente tomados en la declaración de renta ",{"$f":"+' '!E871","v":{"v":0,"d":"$ 0"}},{"$f":"+' '!F871","v":{"v":0,"d":"$ 0"}},{"$f":"+' '!G871","v":{"v":0,"d":"$ 0"}},{"$nulls":35},"Informe Costos",1,30,{"$f":"(AO1580=Parametros[Segmento])*(AP1580>0)*(AQ1580>0)","v":0}]
[null,"Costos que ocasionaron pérdida fiscal, a ser compensada en periodos futuros",{"$f":"+C1579-C1580","v":{"v":0,"d":"$ 0"}},{"$f":"+D1579-D1580","v":{"v":0,"d":"$ 0"}},{"$f":"+E1579-E1580","v":{"v":0,"d":"$ 0"}},{"$nulls":35},"Informe Costos",1,30,{"$f":"(AO1581=Parametros[Segmento])*(AP1581>0)*(AQ1581>0)","v":0}]
[2,105.11,19.22,5,{"$nulls":11},0,0,0,0,0,0,0,0,{"$nulls":17},"Beneficio Auditoría",0,15,{"$f":"(AO1582=Parametros[Segmento])*(AP1582>0)*(AQ1582>0)","v":0}]
[{"$nulls":40},"Beneficio Auditoría",1,30,{"$f":"(AO1583=Parametros[Segmento])*(AP1583>0)*(AQ1583>0)","v":0}]
[null,"Aplicación del Beneficio de Auditoría",{"$nulls":38},"Beneficio Auditoría",1,30,{"$f":"(AO1584=Parametros[Segmento])*(AP1584>0)*(AQ1584>0)","v":0}]
[null,"Descripción","Valores",{"$nulls":37},"Beneficio Auditoría",1,30,{"$f":"(AO1585=Parametros[Segmento])*(AP1585>0)*(AQ1585>0)","v":0}]
[null,"Impuesto neto de renta año gravable 2022",{"$f":"+Resumen!F130","v":{"v":0,"d":"$ 0"}},{"$nulls":37},"Beneficio Auditoría",1,30,{"$f":"(AO1586=Parametros[Segmento])*(AP1586>0)*(AQ1586>0)","v":0}]
[null,"Impuesto neto de renta año gravable 2021",{"$f":"+' '!D154","v":{"v":0,"d":"$ 0"}},{"$nulls":37},"Beneficio Auditoría",1,30,{"$f":"(AO1587=Parametros[Segmento])*(AP1587>0)*(AQ1587>0)","v":0}]
[null,"Requisitos",{"$nulls":38},"Beneficio Auditoría",1,30,{"$f":"(AO1588=Parametros[Segmento])*(AP1588>0)*(AQ1588>0)","v":0}]
[null,"Incremento del impuesto neto de renta del año gravable 2022 con respecto al impuesto neto de renta del año gravable 2021",{"$f":"IFERROR(((C1586-C1587)/C1587),0)","v":{"v":0,"d":"0.00%"}},{"$nulls":37},"Beneficio Auditoría",1,40.1,{"$f":"(AO1589=Parametros[Segmento])*(AP1589>0)*(AQ1589>0)","v":0}]
[null,"¿El impuesto neto de renta del año gravable 2020 es igual o superior al equivalente de 71 UVT?",{"$f":"+IF(C1587>=(71*' '!D112),\"Sí\",\"No\")","v":"No"},{"$nulls":37},"Beneficio Auditoría",1,30,{"$f":"(AO1590=Parametros[Segmento])*(AP1590>0)*(AQ1590>0)","v":0}]
[null,"¿La declaración de renta del año gravable 2022 se presentó de forma oportuna, es decir, dentro del plazo establecido en la norma?",{"$nulls":38},"Beneficio Auditoría",1,40.1,{"$f":"(AO1591=Parametros[Segmento])*(AP1591>0)*(AQ1591>0)","v":0}]
[null,"¿El impuesto de renta del año gravable 2022 se pagó de forma oportuna, es decir, dentro del plazo establecido en la norma?",{"$nulls":38},"Beneficio Auditoría",1,40.1,{"$f":"(AO1592=Parametros[Segmento])*(AP1592>0)*(AQ1592>0)","v":0}]
[null,"Firmeza",{"$nulls":38},"Beneficio Auditoría",1,30,{"$f":"(AO1593=Parametros[Segmento])*(AP1593>0)*(AQ1593>0)","v":0}]
[null,"¿La declaración de renta del año gravable del 2022 puede quedar en firme dentro de los \n6 meses siguientes a su presentación?",{"$f":"+IF(AND(C1590=\"Sí\",C1591=\"Sí\",C1592=\"Sí\"),IF((C1589>=35%),\"Sí\",\"No\"),\"No\")","v":"No"},{"$nulls":37},"Beneficio Auditoría",1,40.1,{"$f":"(AO1594=Parametros[Segmento])*(AP1594>0)*(AQ1594>0)","v":0}]
[null,"¿La declaración de renta del año gravable del 2022 puede quedar en firme dentro de los \n12 meses siguientes a su presentación?",{"$f":"+IF(AND(C1590=\"Sí\",C1591=\"Sí\",C1592=\"Sí\"),IF(AND(C1589>=25%,C1589<35%),\"Sí\",\"No\"),\"No\")","v":"No"},{"$nulls":37},"Beneficio Auditoría",1,40.1,{"$f":"(AO1595=Parametros[Segmento])*(AP1595>0)*(AQ1595>0)","v":0}]
[null,{"$f":"+IF(OR(C1594=\"Sí\",C1595=\"Sí\"),\"Sí aplica el beneficio de Auditoría\",\"No aplica el beneficio de Auditoría\")","v":"No aplica el beneficio de Auditoría"},{"$nulls":38},"Beneficio Auditoría",1,30,{"$f":"(AO1596=Parametros[Segmento])*(AP1596>0)*(AQ1596>0)","v":0}]
[3.67,26.56,24.89,43.33,26.22,24.89,5,{"$nulls":8},0,0,0,0,0,0,0,0,{"$nulls":17},"Info. Activos Ext.",0,15,{"$f":"(AO1597=Parametros[Segmento])*(AP1597>0)*(AQ1597>0)","v":0}]
[{"$nulls":40},"Info. Activos Ext.",1,30,{"$f":"(AO1598=Parametros[Segmento])*(AP1598>0)*(AQ1598>0)","v":0}]
[null,"Información de los activos poseídos en el exterior por el contribuyente",{"$nulls":38},"Info. Activos Ext.",1,30,{"$f":"(AO1599=Parametros[Segmento])*(AP1599>0)*(AQ1599>0)","v":0}]
[null,"País o territorio en el cual se ubica el bien","Naturaleza del activo","Tipo de Activo","Identificación del bien","Valor patrimonial",{"$nulls":34},"Info. Activos Ext.",1,40.1,{"$f":"(AO1600=Parametros[Segmento])*(AP1600>0)*(AQ1600>0)","v":0}]
[{"$nulls":38},{"$f":"AO1601","v":"Info. Activos Ext."},{"$f":"SUBSTITUTE($B$1599,CHAR(10),\"\")","v":"Información de los activos poseídos en el exterior por el contribuyente"},"Info. Activos Ext.",{"$f":"(AN1601=OFFSET(AN1601,1,0))*1","v":1},30,{"$f":"(AO1601=Parametros[Segmento])*(AP1601>0)*(AQ1601>0)","v":0}]
[{"$nulls":38},"Info. Activos Ext.","Información de los activos poseídos en el exterior por el contribuyente","Info. Activos Ext.",1,30,{"$f":"(AO1602=Parametros[Segmento])*(AP1602>0)*(AQ1602>0)","v":0}]
[{"$nulls":38},"Info. Activos Ext.","Información de los activos poseídos en el exterior por el contribuyente","Info. Activos Ext.",1,30,{"$f":"(AO1603=Parametros[Segmento])*(AP1603>0)*(AQ1603>0)","v":0}]
[{"$nulls":38},"Info. Activos Ext.","Información de los activos poseídos en el exterior por el contribuyente","Info. Activos Ext.",1,30,{"$f":"(AO1604=Parametros[Segmento])*(AP1604>0)*(AQ1604>0)","v":0}]
[{"$nulls":38},"Info. Activos Ext.","Información de los activos poseídos en el exterior por el contribuyente","Info. Activos Ext.",1,30,{"$f":"(AO1605=Parametros[Segmento])*(AP1605>0)*(AQ1605>0)","v":0}]
[{"$nulls":38},"Info. Activos Ext.","Información de los activos poseídos en el exterior por el contribuyente","Info. Activos Ext.",1,30,{"$f":"(AO1606=Parametros[Segmento])*(AP1606>0)*(AQ1606>0)","v":0}]
[{"$nulls":38},"Info. Activos Ext.","Información de los activos poseídos en el exterior por el contribuyente","Info. Activos Ext.",1,30,{"$f":"(AO1607=Parametros[Segmento])*(AP1607>0)*(AQ1607>0)","v":0}]
[{"$nulls":38},"Info. Activos Ext.","Información de los activos poseídos en el exterior por el contribuyente","Info. Activos Ext.",1,30,{"$f":"(AO1608=Parametros[Segmento])*(AP1608>0)*(AQ1608>0)","v":0}]
[{"$nulls":38},"Info. Activos Ext.","Información de los activos poseídos en el exterior por el contribuyente","Info. Activos Ext.",1,30,{"$f":"(AO1609=Parametros[Segmento])*(AP1609>0)*(AQ1609>0)","v":0}]
[{"$nulls":38},"Info. Activos Ext.","Información de los activos poseídos en el exterior por el contribuyente","Info. Activos Ext.",1,30,{"$f":"(AO1610=Parametros[Segmento])*(AP1610>0)*(AQ1610>0)","v":0}]
[{"$nulls":38},"Info. Activos Ext.","Información de los activos poseídos en el exterior por el contribuyente","Info. Activos Ext.",1,30,{"$f":"(AO1611=Parametros[Segmento])*(AP1611>0)*(AQ1611>0)","v":0}]
[{"$nulls":38},"Info. Activos Ext.","Información de los activos poseídos en el exterior por el contribuyente","Info. Activos Ext.",1,30,{"$f":"(AO1612=Parametros[Segmento])*(AP1612>0)*(AQ1612>0)","v":0}]
[{"$nulls":38},"Info. Activos Ext.","Información de los activos poseídos en el exterior por el contribuyente","Info. Activos Ext.",1,30,{"$f":"(AO1613=Parametros[Segmento])*(AP1613>0)*(AQ1613>0)","v":0}]
[{"$nulls":38},"Info. Activos Ext.","Información de los activos poseídos en el exterior por el contribuyente","Info. Activos Ext.",1,30,{"$f":"(AO1614=Parametros[Segmento])*(AP1614>0)*(AQ1614>0)","v":0}]
[{"$nulls":38},"Info. Activos Ext.","Información de los activos poseídos en el exterior por el contribuyente","Info. Activos Ext.",1,30,{"$f":"(AO1615=Parametros[Segmento])*(AP1615>0)*(AQ1615>0)","v":0}]
[{"$nulls":38},"Info. Activos Ext.","Información de los activos poseídos en el exterior por el contribuyente","Info. Activos Ext.",1,30,{"$f":"(AO1616=Parametros[Segmento])*(AP1616>0)*(AQ1616>0)","v":0}]
[{"$nulls":38},"Info. Activos Ext.","Información de los activos poseídos en el exterior por el contribuyente","Info. Activos Ext.",1,30,{"$f":"(AO1617=Parametros[Segmento])*(AP1617>0)*(AQ1617>0)","v":0}]
[{"$nulls":38},"Info. Activos Ext.","Información de los activos poseídos en el exterior por el contribuyente","Info. Activos Ext.",1,30,{"$f":"(AO1618=Parametros[Segmento])*(AP1618>0)*(AQ1618>0)","v":0}]
[{"$nulls":38},"Info. Activos Ext.","Información de los activos poseídos en el exterior por el contribuyente","Info. Activos Ext.",1,30,{"$f":"(AO1619=Parametros[Segmento])*(AP1619>0)*(AQ1619>0)","v":0}]
[{"$nulls":38},"Info. Activos Ext.","Información de los activos poseídos en el exterior por el contribuyente","Info. Activos Ext.",1,30,{"$f":"(AO1620=Parametros[Segmento])*(AP1620>0)*(AQ1620>0)","v":0}]
[{"$nulls":38},{"$f":"AO1621","v":"Info. Activos Ext."},{"$f":"SUBSTITUTE($B$1599,CHAR(10),\"\")","v":"Información de los activos poseídos en el exterior por el contribuyente"},"Info. Activos Ext.",{"$f":"(AN1621=OFFSET(AN1621,1,0))*1","v":0},30,{"$f":"(AO1621=Parametros[Segmento])*(AP1621>0)*(AQ1621>0)","v":0}]
[{"$nulls":5},{"$f":"SUM(F1601:F1621)","v":{"v":0,"d":"$ 0"}},{"$nulls":34},"Info. Activos Ext.",1,30,{"$f":"(AO1622=Parametros[Segmento])*(AP1622>0)*(AQ1622>0)","v":0}]
[{"$nulls":40},"Info. Activos Ext.",1,30,{"$f":"(AO1623=Parametros[Segmento])*(AP1623>0)*(AQ1623>0)","v":0}]
[{"$nulls":40},"Info. Activos Ext.",0,30,{"$f":"(AO1624=Parametros[Segmento])*(AP1624>0)*(AQ1624>0)","v":0}]
[null,"Naturaleza del activo","Naturaleza del activo",{"$nulls":37},"Info. Activos Ext.",0,30,{"$f":"(AO1625=Parametros[Segmento])*(AP1625>0)*(AQ1625>0)","v":0}]
[null,"Fijo","Movible",{"$nulls":37},"Info. Activos Ext.",0,30,{"$f":"(AO1626=Parametros[Segmento])*(AP1626>0)*(AQ1626>0)","v":0}]
[6.78,2.44,2.67,96.44,35.22,5,{"$nulls":9},0,0,0,0,0,0,0,0,{"$nulls":17},"Sanciones Act. Ext",0,15,{"$f":"(AO1627=Parametros[Segmento])*(AP1627>0)*(AQ1627>0)","v":0}]
[{"$nulls":40},"Sanciones Act. Ext",1,30,{"$f":"(AO1628=Parametros[Segmento])*(AP1628>0)*(AQ1628>0)","v":0}]
[null,"Sanciones por extemporaneidad - Declaración Activos en el Exterior",{"$nulls":38},"Sanciones Act. Ext",1,30,{"$f":"(AO1629=Parametros[Segmento])*(AP1629>0)*(AQ1629>0)","v":0}]
[null,{"$f":"+' '!B172","v":"Fecha de vencimiento del plazo para presentar la declaración de renta fijada por el Gobierno Nacional"},null,null,{"$f":"+' '!D172","v":"2023-10-17"},{"$nulls":35},"Sanciones Act. Ext",1,30,{"$f":"(AO1630=Parametros[Segmento])*(AP1630>0)*(AQ1630>0)","v":0}]
[null,"Fecha en la cual el contribuyente presentará la declaración de activos en el exterior",{"$nulls":38},"Sanciones Act. Ext",1,30,{"$f":"(AO1631=Parametros[Segmento])*(AP1631>0)*(AQ1631>0)","v":0}]
[null,{"$f":"+' '!B174","v":"Mes o fracción de extemporaneidad"},null,null,{"$f":"IFERROR(IF(ROUNDUP((DAYS360(E1630,IF(DAY(E1631)=31,E1631+1,E1631))/30),0)>0,ROUNDUP((DAYS360(E1630,IF(DAY(E1631)=31,E1631+1,E1631))/30),0),0),0)","v":{"v":0,"d":"0 "}},{"$nulls":35},"Sanciones Act. Ext",1,30,{"$f":"(AO1632=Parametros[Segmento])*(AP1632>0)*(AQ1632>0)","v":0}]
[null,{"$f":"+' '!B176","v":"¿El contribuyente recibió un emplazamiento por no declarar?"},{"$nulls":38},"Sanciones Act. Ext",1,30,{"$f":"(AO1633=Parametros[Segmento])*(AP1633>0)*(AQ1633>0)","v":0}]
[{"$nulls":40},"Sanciones Act. Ext",1,30,{"$f":"(AO1634=Parametros[Segmento])*(AP1634>0)*(AQ1634>0)","v":0}]
[null,"Cálculo de la sanción por extemporaneidad antes del emplazamiento para declarar ",{"$nulls":38},"Sanciones Act. Ext",1,30,{"$f":"(AO1635=Parametros[Segmento])*(AP1635>0)*(AQ1635>0)","v":0}]
[null,"Valor de los activos poseídos en el exterior ",null,null,{"$f":"IF(AND($E$1632>0,$E$1633=\"No\"),IF(' '!$F$1622>0,' '!$F$1622,0),0)","v":{"v":0,"d":"$ 0"}},{"$nulls":35},"Sanciones Act. Ext",1,30,{"$f":"(AO1636=Parametros[Segmento])*(AP1636>0)*(AQ1636>0)","v":0}]
[null,"Porcentaje sanción por cada mes o fracción de mes de extemporaneidad",null,null,{"$f":"+IF(E1636>0,0.5%,0)","v":{"v":0,"d":"0.0%"}},{"$nulls":35},"Sanciones Act. Ext",1,30,{"$f":"(AO1637=Parametros[Segmento])*(AP1637>0)*(AQ1637>0)","v":0}]
[null,"Meses o fracción de meses de extemporaneidad ",null,null,{"$f":"IF(E1636>0,E1632,0)","v":0},{"$nulls":35},"Sanciones Act. Ext",1,30,{"$f":"(AO1638=Parametros[Segmento])*(AP1638>0)*(AQ1638>0)","v":0}]
[{"$nulls":3},"Sanción inicial",{"$f":"IF(E1636>0,ROUND(E1636*E1637*E1638,-3),0)","v":{"v":0,"d":"$ 0"}},{"$nulls":35},"Sanciones Act. Ext",1,30,{"$f":"(AO1639=Parametros[Segmento])*(AP1639>0)*(AQ1639>0)","v":0}]
[null,"Condiciones:",{"$nulls":38},"Sanciones Act. Ext",1,30,{"$f":"(AO1640=Parametros[Segmento])*(AP1640>0)*(AQ1640>0)","v":0}]
[null,"La sanción no puede ser mayor al 10% de los activos poseídos en el exterior",null,null,{"$f":"IF(E1636>0,(E1636*10%),0)","v":{"v":0,"d":"$ 0"}},{"$nulls":35},"Sanciones Act. Ext",1,30,{"$f":"(AO1641=Parametros[Segmento])*(AP1641>0)*(AQ1641>0)","v":0}]
[null,"La sanción no puede ser inferior a la mínima señalada en el artículo 639 del ET, esto es:",null,null,{"$f":"IF(E1636>0,ROUND(' '!E112*10,-3),0)","v":{"v":0,"d":"$ 0"}},{"$nulls":35},"Sanciones Act. Ext",1,30,{"$f":"(AO1642=Parametros[Segmento])*(AP1642>0)*(AQ1642>0)","v":0}]
[{"$nulls":3},"Sanción a pagar",{"$f":"IF(E1636>0,IF(E1639>E1642,IF(E1639<=E1641,E1639,E1641),E1642),0)","v":{"v":0,"d":"$ 0"}},{"$nulls":35},"Sanciones Act. Ext",1,30,{"$f":"(AO1643=Parametros[Segmento])*(AP1643>0)*(AQ1643>0)","v":0}]
[{"$nulls":40},"Sanciones Act. Ext",1,30,{"$f":"(AO1644=Parametros[Segmento])*(AP1644>0)*(AQ1644>0)","v":0}]
[null,"Cálculo de la sanción por extemporaneidad después del emplazamiento por no declarar ",{"$nulls":38},"Sanciones Act. Ext",1,30,{"$f":"(AO1645=Parametros[Segmento])*(AP1645>0)*(AQ1645>0)","v":0}]
[null,"Valor de los activos poseídos en el exterior ",null,null,{"$f":"IF(AND($E$1632>0,$E$1633=\"Sí\"),IF(' '!$F$1622>0,' '!$F$1622,0),0)","v":{"v":0,"d":"$ 0"}},{"$nulls":35},"Sanciones Act. Ext",1,30,{"$f":"(AO1646=Parametros[Segmento])*(AP1646>0)*(AQ1646>0)","v":0}]
[null,"Porcentaje sanción por cada mes o fracción de mes de extemporaneidad",null,null,{"$f":"+IF(E1646>0,1%,0)","v":{"v":0,"d":"0%"}},{"$nulls":35},"Sanciones Act. Ext",1,30,{"$f":"(AO1647=Parametros[Segmento])*(AP1647>0)*(AQ1647>0)","v":0}]
[null,"Meses o fracción de meses de extemporaneidad ",null,null,{"$f":"IF(E1646>0,E1632,0)","v":0},{"$nulls":35},"Sanciones Act. Ext",1,30,{"$f":"(AO1648=Parametros[Segmento])*(AP1648>0)*(AQ1648>0)","v":0}]
[{"$nulls":3},"Sanción inicial",{"$f":"IF(E1646>0,ROUND(E1646*E1647*E1648,-3),0)","v":{"v":0,"d":"$ 0"}},{"$nulls":35},"Sanciones Act. Ext",1,30,{"$f":"(AO1649=Parametros[Segmento])*(AP1649>0)*(AQ1649>0)","v":0}]
[null,"Condiciones:",{"$nulls":38},"Sanciones Act. Ext",1,30,{"$f":"(AO1650=Parametros[Segmento])*(AP1650>0)*(AQ1650>0)","v":0}]
[null,"La sanción no puede ser mayor al 10% de los activos poseídos en el exterior",null,null,{"$f":"IF(E1646>0,(E1646*10%),0)","v":{"v":0,"d":"$ 0"}},{"$nulls":35},"Sanciones Act. Ext",1,30,{"$f":"(AO1651=Parametros[Segmento])*(AP1651>0)*(AQ1651>0)","v":0}]
[null,"La sanción no puede ser inferior a la mínima señalada en el artículo 639 del ET, esto es:",null,null,{"$f":"IF(E1646>0,ROUND(' '!E112*10,-3),0)","v":{"v":0,"d":"$ 0"}},{"$nulls":35},"Sanciones Act. Ext",1,30,{"$f":"(AO1652=Parametros[Segmento])*(AP1652>0)*(AQ1652>0)","v":0}]
[{"$nulls":3},"Sanción a pagar",{"$f":"IF(E1646>0,IF(E1649>E1652,IF(E1649<=E1651,E1649,E1651),E1652),0)","v":{"v":0,"d":"$ 0"}},{"$nulls":35},"Sanciones Act. Ext",1,30,{"$f":"(AO1653=Parametros[Segmento])*(AP1653>0)*(AQ1653>0)","v":0}]
[{"$nulls":3},"Sanción calculada a pagar ",{"$f":"+IF(E1632>0,MAX(E1643,E1653),0)","v":{"v":0,"d":"$ 0"}},{"$nulls":35},"Sanciones Act. Ext",1,30,{"$f":"(AO1654=Parametros[Segmento])*(AP1654>0)*(AQ1654>0)","v":0}]
[{"$nulls":40},"Sanciones Act. Ext",1,30,{"$f":"(AO1655=Parametros[Segmento])*(AP1655>0)*(AQ1655>0)","v":0}]
[null,"Reducción de la sanción aplicando el artículo 640 del ET ",{"$nulls":38},"Sanciones Act. Ext",1,30,{"$f":"(AO1656=Parametros[Segmento])*(AP1656>0)*(AQ1656>0)","v":0}]
[null,"¿La sanción es liquidada por el contribuyente?",{"$nulls":38},"Sanciones Act. Ext",1,30,{"$f":"(AO1657=Parametros[Segmento])*(AP1657>0)*(AQ1657>0)","v":0}]
[null,"¿En los dos años anteriores a la generación de esta sanción por extemporaneidad, el \ncontribuyente incurrió en la misma conducta sancionable?",{"$nulls":38},"Sanciones Act. Ext",{"$f":"($E$1657=\"Sí\")*1","v":0},40,{"$f":"(AO1658=Parametros[Segmento])*(AP1658>0)*(AQ1658>0)","v":0}]
[null,"¿En el año anterior a la generación de esta sanción por extemporaneidad, el \ncontribuyente incurrió en la misma conducta sancionable?",{"$nulls":38},"Sanciones Act. Ext",{"$f":"($E$1658=\"Sí\")*AP1658","v":0},40.1,{"$f":"(AO1659=Parametros[Segmento])*(AP1659>0)*(AQ1659>0)","v":0}]
[null,"¿La DIAN ha proferido pliego de cargos, requerimiento especial o emplazamiento previo por no declarar?",null,null,{"$f":"+IF(E1633=\"Sí\",\"Sí\",\"No\")","v":"No"},{"$nulls":35},"Sanciones Act. Ext",{"$f":"($E$1657=\"Sí\")*1","v":0},30,{"$f":"(AO1660=Parametros[Segmento])*(AP1660>0)*(AQ1660>0)","v":0}]
[null,"Resumen",{"$nulls":38},"Sanciones Act. Ext",0,30,{"$f":"(AO1661=Parametros[Segmento])*(AP1661>0)*(AQ1661>0)","v":0}]
[null,"Valor de la sanción calculado inicialmente ",null,null,{"$f":"IF(OR(E1657=\"\",E1657=\"No\"),0,E1654)","v":{"v":0,"d":"$ 0"}},{"$nulls":35},"Sanciones Act. Ext",0,30,{"$f":"(AO1662=Parametros[Segmento])*(AP1662>0)*(AQ1662>0)","v":0}]
[null,"¿Aplica reducción de la sanción al 50%? ",null,null,{"$f":"+IF(AND(E1657=\"Sí\",E1658=\"No\",E1660=\"No\"),\"Si\",\"No\")","v":"No"},{"$nulls":35},"Sanciones Act. Ext",0,30,{"$f":"(AO1663=Parametros[Segmento])*(AP1663>0)*(AQ1663>0)","v":0}]
[null,"¿Aplica reducción de la sanción al 75%? ",null,null,{"$f":"+IF(E1663=\"Si\",\"No aplica\",IF(AND(E1657=\"Sí\",E1659=\"No\",E1660=\"No\"),\"Si\",\"No\"))","v":"No"},{"$nulls":35},"Sanciones Act. Ext",0,30,{"$f":"(AO1664=Parametros[Segmento])*(AP1664>0)*(AQ1664>0)","v":0}]
[{"$nulls":3},"Valor de la sanción reducida ",{"$f":"+IF(E1663=\"Si\",(E1662*50%),IF(E1664=\"Si\",(E1662*75%),E1662))","v":{"v":0,"d":"$ 0"}},{"$nulls":35},"Sanciones Act. Ext",0,30,{"$f":"(AO1665=Parametros[Segmento])*(AP1665>0)*(AQ1665>0)","v":0}]
[{"$nulls":3},"Valor de la sanción reducida a pagar ",{"$f":"ROUND(IF(AND(E1657=\"Sí\",E1662>0),IF(E1665>(' '!E112*10),E1665,(' '!E112*10)),0),-3)","v":{"v":0,"d":"$ 0"}},{"$nulls":35},"Sanciones Act. Ext",0,30,{"$f":"(AO1666=Parametros[Segmento])*(AP1666>0)*(AQ1666>0)","v":0}]
[null,"¿La sanción fue propuesta o determinada por la DIAN?",{"$nulls":38},"Sanciones Act. Ext",1,30,{"$f":"(AO1667=Parametros[Segmento])*(AP1667>0)*(AQ1667>0)","v":0}]
[null,"¿Dentro de los cuatro (4) años anteriores a la generación de esta sanción por extemporaneidad, el contribuyente incurrió en la misma conducta sancionable, y esta fue sancionada mediante acto administrativo en firme?",{"$nulls":38},"Sanciones Act. Ext",{"$f":"($E$1667=\"Sí\")*1","v":0},50,{"$f":"(AO1668=Parametros[Segmento])*(AP1668>0)*(AQ1668>0)","v":0}]
[null,"¿Dentro de los dos (2) años anteriores a la generación de esta sanción por extemporaneidad, el contribuyente incurrió en la misma conducta sancionable, y esta fue sancionada mediante acto administrativo en firme?",{"$nulls":38},"Sanciones Act. Ext",{"$f":"($E$1668=\"Sí\")*AP1668","v":0},50,{"$f":"(AO1669=Parametros[Segmento])*(AP1669>0)*(AQ1669>0)","v":0}]
[null,"¿La sanción es aceptada y la infracción subsanada por el contribuyente, de acuerdo con lo establecido en el tipo sancionatorio correspondiente?",{"$nulls":38},"Sanciones Act. Ext",{"$f":"($E$1667=\"Sí\")*1","v":0},40.1,{"$f":"(AO1670=Parametros[Segmento])*(AP1670>0)*(AQ1670>0)","v":0}]
[null,"Resumen",{"$nulls":38},"Sanciones Act. Ext",0,30,{"$f":"(AO1671=Parametros[Segmento])*(AP1671>0)*(AQ1671>0)","v":0}]
[null,"Valor de la sanción calculado inicialmente ",null,null,{"$f":"IF(OR(E1667=\"\",E1667=\"No\"),0,E1654)","v":{"v":0,"d":"$ 0"}},{"$nulls":35},"Sanciones Act. Ext",0,30,{"$f":"(AO1672=Parametros[Segmento])*(AP1672>0)*(AQ1672>0)","v":0}]
[null,"¿Aplica reducción de la sanción al 50%? ",null,null,{"$f":"+IF(AND(E1667=\"Sí\",E1668=\"No\",E1670=\"No\"),\"Si\",\"No\")","v":"No"},{"$nulls":35},"Sanciones Act. Ext",0,30,{"$f":"(AO1673=Parametros[Segmento])*(AP1673>0)*(AQ1673>0)","v":0}]
[null,"¿Aplica reducción de la sanción al 75%? ",null,null,{"$f":"+IF(E1673=\"Si\",\"No aplica\",IF(AND(E1667=\"Sí\",E1669=\"No\",E1670=\"No\"),\"Si\",\"No\"))","v":"No"},{"$nulls":35},"Sanciones Act. Ext",0,30,{"$f":"(AO1674=Parametros[Segmento])*(AP1674>0)*(AQ1674>0)","v":0}]
[{"$nulls":3},"Valor de la sanción reducida ",{"$f":"+IF(E1673=\"Si\",(E1672*50%),IF(E1674=\"Si\",(E1672*75%),E1672))","v":{"v":0,"d":"$ 0"}},{"$nulls":35},"Sanciones Act. Ext",0,30,{"$f":"(AO1675=Parametros[Segmento])*(AP1675>0)*(AQ1675>0)","v":0}]
[{"$nulls":3},"Valor de la sanción reducida a pagar ",{"$f":"ROUND(IF(AND(E1667=\"Sí\",E1672>0),IF(E1675>(' '!E112*10),E1675,(' '!E112*10)),0),-3)","v":{"v":0,"d":"$ 0"}},{"$nulls":35},"Sanciones Act. Ext",0,30,{"$f":"(AO1676=Parametros[Segmento])*(AP1676>0)*(AQ1676>0)","v":0}]
[5,2.44,1.89,2.78,2.78,2.78,2.78,3,3,3,3,14,2.78,3.67,2.89,4.22,4.89,3.44,23,2.78,23,2.44,6,12.56,2.89,7.56,2.89,2.89,3,3.56,1,4,3.56,{"$nulls":7},"F160 H1",0,15,{"$f":"(AO1677=Parametros[Segmento])*(AP1677>0)*(AQ1677>0)","v":0}]
[{"$nulls":40},"F160 H1",1,15,{"$f":"(AO1678=Parametros[Segmento])*(AP1678>0)*(AQ1678>0)","v":0}]
[{"$nulls":12},"Declaración Anual de Activos en el Exterior",{"$nulls":10},"Privada",{"$nulls":16},"F160 H1",1,6.8,{"$f":"(AO1679=Parametros[Segmento])*(AP1679>0)*(AQ1679>0)","v":0}]
[{"$nulls":40},"F160 H1",1,23.3,{"$f":"(AO1680=Parametros[Segmento])*(AP1680>0)*(AQ1680>0)","v":0}]
[{"$nulls":40},"F160 H1",1,23.3,{"$f":"(AO1681=Parametros[Segmento])*(AP1681>0)*(AQ1681>0)","v":0}]
[{"$nulls":40},"F160 H1",1,42,{"$f":"(AO1682=Parametros[Segmento])*(AP1682>0)*(AQ1682>0)","v":0}]
[{"$nulls":40},"F160 H1",1,5.6,{"$f":"(AO1683=Parametros[Segmento])*(AP1683>0)*(AQ1683>0)","v":0}]
[{"$nulls":4},"1. Año",null,null,2,"0",2,3,{"$nulls":29},"F160 H1",1,20,{"$f":"(AO1684=Parametros[Segmento])*(AP1684>0)*(AQ1684>0)","v":0}]
[{"$nulls":20},"4. Número de formulario",{"$nulls":19},"F160 H1",1,28,{"$f":"(AO1685=Parametros[Segmento])*(AP1685>0)*(AQ1685>0)","v":0}]
[{"$nulls":40},"F160 H1",1,30,{"$f":"(AO1686=Parametros[Segmento])*(AP1686>0)*(AQ1686>0)","v":0}]
[null,"POR UNA COLOMBIA MÁS HONESTA",{"$nulls":38},"F160 H1",1,23.3,{"$f":"(AO1687=Parametros[Segmento])*(AP1687>0)*(AQ1687>0)","v":0}]
[{"$nulls":40},"F160 H1",1,12,{"$f":"(AO1688=Parametros[Segmento])*(AP1688>0)*(AQ1688>0)","v":0}]
[{"$nulls":40},"F160 H1",1,27,{"$f":"(AO1689=Parametros[Segmento])*(AP1689>0)*(AQ1689>0)","v":0}]
[{"$nulls":6},"Lea cuidadosamente las instrucciones",{"$nulls":33},"F160 H1",1,27,{"$f":"(AO1690=Parametros[Segmento])*(AP1690>0)*(AQ1690>0)","v":0}]
[null,"Datos del declarante",null,"5. Número de Identificación Tributaria (NIT)",{"$nulls":11},"6.DV","7. Primer apellido",null,null,"8. Segundo apellido ",null,null,"9. Primer nombre",{"$nulls":3},"10. Otros nombres ",{"$nulls":13},"F160 H1",1,18,{"$f":"(AO1691=Parametros[Segmento])*(AP1691>0)*(AQ1691>0)","v":0}]
[{"$nulls":40},"F160 H1",1,4.1,{"$f":"(AO1692=Parametros[Segmento])*(AP1692>0)*(AQ1692>0)","v":0}]
[{"$nulls":4},{"$f":"+IF(' '!F1622>(' '!E112*2000),' '!D133,\"\")","v":""},{"$nulls":10},{"$f":"+IF(' '!F1622>(' '!E112*2000),' '!D134,\"\")","v":""},{"$f":"+IF(' '!F1622>(' '!E112*2000),' '!D131,\"\")","v":""},null,null,{"$f":"+IF(' '!F1622>(' '!E112*2000),' '!D132,\"\")","v":""},null,null,{"$f":"+IF(' '!F1622>(' '!E112*2000),' '!D129,\"\")","v":""},{"$nulls":3},{"$f":"+IF(' '!F1622>(' '!E112*2000),' '!D132,\"\")","v":""},{"$nulls":13},"F160 H1",1,25,{"$f":"(AO1693=Parametros[Segmento])*(AP1693>0)*(AQ1693>0)","v":0}]
[{"$nulls":3},"11.  Razón social",{"$nulls":27},"12.Cod. Direc. Seccional",{"$nulls":8},"F160 H1",1,25,{"$f":"(AO1694=Parametros[Segmento])*(AP1694>0)*(AQ1694>0)","v":0}]
[{"$nulls":40},"F160 H1",1,4.1,{"$f":"(AO1695=Parametros[Segmento])*(AP1695>0)*(AQ1695>0)","v":0}]
[{"$nulls":31},{"$f":"+IF(' '!F1622>(' '!E112*2000),' '!D137,\"\")","v":""},{"$nulls":8},"F160 H1",1,25,{"$f":"(AO1696=Parametros[Segmento])*(AP1696>0)*(AQ1696>0)","v":0}]
[{"$nulls":40},"F160 H1",1,4.1,{"$f":"(AO1697=Parametros[Segmento])*(AP1697>0)*(AQ1697>0)","v":0}]
[null,"Si es una corrección indique:     25 Cód.",{"$nulls":13},"26. No. Formulario anterior",{"$nulls":6},"27. Valor patrimonial superior a 3.580 UVT?",{"$nulls":5},"SI",{"$f":"+IF(' '!F1622>(' '!E112*3580),\"X\",\"\")","v":""},null,"NO",{"$f":"+IF(' '!F1622<=(' '!E112*3580),\"X\",\"\")","v":"X"},{"$nulls":7},"F160 H1",1,25,{"$f":"(AO1698=Parametros[Segmento])*(AP1698>0)*(AQ1698>0)","v":0}]
[{"$nulls":40},"F160 H1",1,4.1,{"$f":"(AO1699=Parametros[Segmento])*(AP1699>0)*(AQ1699>0)","v":0}]
[null,"Activos poseídos en el exterior con valor patrimonial superior a 3.580 UVT",{"$nulls":38},"F160 H1",1,25,{"$f":"(AO1700=Parametros[Segmento])*(AP1700>0)*(AQ1700>0)","v":0}]
[null,"Naturaleza del activo",{"$nulls":22},"Valor patrimonial $",{"$nulls":15},"F160 H1",1,25,{"$f":"(AO1701=Parametros[Segmento])*(AP1701>0)*(AQ1701>0)","v":0}]
[null,"Activos fijos ",{"$nulls":22},28,{"$f":"ROUND(IF(' '!F1622>(' '!E112*3580),DSUM(' '!C1600:F1621,' '!F1600,' '!B1625:B1626),0),-3)","v":{"v":0,"d":"$ 0"}},{"$nulls":14},"F160 H1",1,25,{"$f":"(AO1702=Parametros[Segmento])*(AP1702>0)*(AQ1702>0)","v":0}]
[null,"Activos movibles",{"$nulls":22},29,{"$f":"ROUND(IF(' '!F1622>(' '!E112*3580),DSUM(' '!C1600:F1621,' '!F1600,' '!C1625:C1626),0),-3)","v":{"v":0,"d":"$ 0"}},{"$nulls":14},"F160 H1",1,25,{"$f":"(AO1703=Parametros[Segmento])*(AP1703>0)*(AQ1703>0)","v":0}]
[null,"Total activo s con valores > 3580 UVT",{"$nulls":22},30,{"$f":"+Z1702+Z1703","v":{"v":0,"d":"$ 0"}},{"$nulls":14},"F160 H1",1,25,{"$f":"(AO1704=Parametros[Segmento])*(AP1704>0)*(AQ1704>0)","v":0}]
[null,"Activos poseídos en el exterior con valor patrimonial igual o menor a 3.580 UVT",{"$nulls":38},"F160 H1",1,25,{"$f":"(AO1705=Parametros[Segmento])*(AP1705>0)*(AQ1705>0)","v":0}]
[null,"Naturaleza del activo",{"$nulls":38},"F160 H1",1,25,{"$f":"(AO1706=Parametros[Segmento])*(AP1706>0)*(AQ1706>0)","v":0}]
[null,"Activos fijos ",{"$nulls":22},31,{"$f":"IFERROR(ROUND(IF(' '!F1622<=(' '!E112*3580),DSUM(' '!C1600:F1621,' '!F1600,' '!B1625:B1626),0),-3),\"\")","v":{"v":0,"d":"$ 0"}},{"$nulls":14},"F160 H1",1,25,{"$f":"(AO1707=Parametros[Segmento])*(AP1707>0)*(AQ1707>0)","v":0}]
[null,"Activos movibles",{"$nulls":22},32,{"$f":"ROUND(IF(' '!F1622<=(' '!E112*3580),DSUM(' '!C1600:F1621,' '!F1600,' '!C1625:C1626),0),-3)","v":{"v":0,"d":"$ 0"}},{"$nulls":14},"F160 H1",1,25,{"$f":"(AO1708=Parametros[Segmento])*(AP1708>0)*(AQ1708>0)","v":0}]
[null,"Total activo s con valores = o < 3580 UVT",{"$nulls":22},33,{"$f":"+Z1707+Z1708","v":{"v":0,"d":"$ 0"}},{"$nulls":14},"F160 H1",1,25,{"$f":"(AO1709=Parametros[Segmento])*(AP1709>0)*(AQ1709>0)","v":0}]
[null,"Liquidación sanción de extemporaneidad en la presentación de la declaración",{"$nulls":38},"F160 H1",1,25,{"$f":"(AO1710=Parametros[Segmento])*(AP1710>0)*(AQ1710>0)","v":0}]
[null,"Sanción por extemporaniedad (Parágrafo 1 del artículo 641 del ET)",{"$nulls":22},34,{"$f":"+IF(OR(' '!E1657=\"Sí\",' '!E1667=\"Sí\"),IF(' '!E1657=\"Sí\",' '!E1666,IF(' '!E1667=\"Sí\",' '!E1676,' '!E1654)),' '!E1654)","v":{"v":0,"d":"$ 0"}},{"$nulls":14},"F160 H1",1,25,{"$f":"(AO1711=Parametros[Segmento])*(AP1711>0)*(AQ1711>0)","v":0}]
[{"$nulls":40},"F160 H1",1,25,{"$f":"(AO1712=Parametros[Segmento])*(AP1712>0)*(AQ1712>0)","v":0}]
[{"$nulls":40},"F160 H1",1,25,{"$f":"(AO1713=Parametros[Segmento])*(AP1713>0)*(AQ1713>0)","v":0}]
[{"$nulls":40},"F160 H1",1,25,{"$f":"(AO1714=Parametros[Segmento])*(AP1714>0)*(AQ1714>0)","v":0}]
[{"$nulls":40},"F160 H1",1,25,{"$f":"(AO1715=Parametros[Segmento])*(AP1715>0)*(AQ1715>0)","v":0}]
[{"$nulls":40},"F160 H1",1,25,{"$f":"(AO1716=Parametros[Segmento])*(AP1716>0)*(AQ1716>0)","v":0}]
[{"$nulls":40},"F160 H1",1,25,{"$f":"(AO1717=Parametros[Segmento])*(AP1717>0)*(AQ1717>0)","v":0}]
[{"$nulls":40},"F160 H1",1,25,{"$f":"(AO1718=Parametros[Segmento])*(AP1718>0)*(AQ1718>0)","v":0}]
[{"$nulls":40},"F160 H1",1,25,{"$f":"(AO1719=Parametros[Segmento])*(AP1719>0)*(AQ1719>0)","v":0}]
[{"$nulls":40},"F160 H1",1,25,{"$f":"(AO1720=Parametros[Segmento])*(AP1720>0)*(AQ1720>0)","v":0}]
[{"$nulls":40},"F160 H1",1,25,{"$f":"(AO1721=Parametros[Segmento])*(AP1721>0)*(AQ1721>0)","v":0}]
[{"$nulls":40},"F160 H1",1,25,{"$f":"(AO1722=Parametros[Segmento])*(AP1722>0)*(AQ1722>0)","v":0}]
[{"$nulls":40},"F160 H1",1,25,{"$f":"(AO1723=Parametros[Segmento])*(AP1723>0)*(AQ1723>0)","v":0}]
[{"$nulls":40},"F160 H1",1,25,{"$f":"(AO1724=Parametros[Segmento])*(AP1724>0)*(AQ1724>0)","v":0}]
[{"$nulls":40},"F160 H1",1,25,{"$f":"(AO1725=Parametros[Segmento])*(AP1725>0)*(AQ1725>0)","v":0}]
[{"$nulls":40},"F160 H1",1,25,{"$f":"(AO1726=Parametros[Segmento])*(AP1726>0)*(AQ1726>0)","v":0}]
[{"$nulls":40},"F160 H1",1,25,{"$f":"(AO1727=Parametros[Segmento])*(AP1727>0)*(AQ1727>0)","v":0}]
[{"$nulls":40},"F160 H1",1,25,{"$f":"(AO1728=Parametros[Segmento])*(AP1728>0)*(AQ1728>0)","v":0}]
[{"$nulls":40},"F160 H1",1,25,{"$f":"(AO1729=Parametros[Segmento])*(AP1729>0)*(AQ1729>0)","v":0}]
[{"$nulls":40},"F160 H1",1,25,{"$f":"(AO1730=Parametros[Segmento])*(AP1730>0)*(AQ1730>0)","v":0}]
[{"$nulls":40},"F160 H1",1,25,{"$f":"(AO1731=Parametros[Segmento])*(AP1731>0)*(AQ1731>0)","v":0}]
[{"$nulls":40},"F160 H1",1,25,{"$f":"(AO1732=Parametros[Segmento])*(AP1732>0)*(AQ1732>0)","v":0}]
[null,"35. No. Identificación signatario",{"$nulls":16},"36. DV",{"$nulls":21},"F160 H1",1,25,{"$f":"(AO1733=Parametros[Segmento])*(AP1733>0)*(AQ1733>0)","v":0}]
[{"$nulls":40},"F160 H1",1,4.1,{"$f":"(AO1734=Parametros[Segmento])*(AP1734>0)*(AQ1734>0)","v":0}]
[null,"981. Cód. Representación",{"$nulls":14},"997. Espacio exclusivo para el sello de la entidad recaudadora",{"$nulls":23},"F160 H1",1,14,{"$f":"(AO1735=Parametros[Segmento])*(AP1735>0)*(AQ1735>0)","v":0}]
[null,"Firma del declarante o de quien lo representa",{"$nulls":23},{"v":0,"d":"$ 0"},{"$nulls":14},"F160 H1",1,35,{"$f":"(AO1736=Parametros[Segmento])*(AP1736>0)*(AQ1736>0)","v":0}]
[{"$nulls":40},"F160 H1",1,14,{"$f":"(AO1737=Parametros[Segmento])*(AP1737>0)*(AQ1737>0)","v":0}]
[{"$nulls":40},"F160 H1",1,14,{"$f":"(AO1738=Parametros[Segmento])*(AP1738>0)*(AQ1738>0)","v":0}]
[{"$nulls":21},"996. Espacio para el número interno de la DIAN/Autoadhesivo",{"$nulls":18},"F160 H1",1,14,{"$f":"(AO1739=Parametros[Segmento])*(AP1739>0)*(AQ1739>0)","v":0}]
[{"$nulls":40},"F160 H1",1,60,{"$f":"(AO1740=Parametros[Segmento])*(AP1740>0)*(AQ1740>0)","v":0}]
[{"$nulls":40},"F160 H1",1,60,{"$f":"(AO1741=Parametros[Segmento])*(AP1741>0)*(AQ1741>0)","v":0}]
[{"$nulls":40},"F160 H1",1,60,{"$f":"(AO1742=Parametros[Segmento])*(AP1742>0)*(AQ1742>0)","v":0}]
[{"$nulls":40},"F160 H1",1,15,{"$f":"(AO1743=Parametros[Segmento])*(AP1743>0)*(AQ1743>0)","v":0}]
[5,2.44,16,3,3,3,3,14,29.56,16,2.78,2.78,30,2.78,19,3.78,2.89,2.89,8.56,8.56,1.44,{"$nulls":19},"F160 H2",0,15,{"$f":"(AO1744=Parametros[Segmento])*(AP1744>0)*(AQ1744>0)","v":0}]
[{"$nulls":40},"F160 H2",1,15,{"$f":"(AO1745=Parametros[Segmento])*(AP1745>0)*(AQ1745>0)","v":0}]
[{"$nulls":8},"Declaración Anual de Activos en el Exterior",{"$nulls":5},"Privada",{"$nulls":25},"F160 H2",1,6.8,{"$f":"(AO1746=Parametros[Segmento])*(AP1746>0)*(AQ1746>0)","v":0}]
[{"$nulls":40},"F160 H2",1,23.3,{"$f":"(AO1747=Parametros[Segmento])*(AP1747>0)*(AQ1747>0)","v":0}]
[{"$nulls":40},"F160 H2",1,23.3,{"$f":"(AO1748=Parametros[Segmento])*(AP1748>0)*(AQ1748>0)","v":0}]
[{"$nulls":40},"F160 H2",1,42,{"$f":"(AO1749=Parametros[Segmento])*(AP1749>0)*(AQ1749>0)","v":0}]
[{"$nulls":40},"F160 H2",1,5.6,{"$f":"(AO1750=Parametros[Segmento])*(AP1750>0)*(AQ1750>0)","v":0}]
[null,null,"1. Año",2,"0",2,3,{"$nulls":8},"Página",null,null,"de","Hoja No. ",2,{"$nulls":19},"F160 H2",1,22,{"$f":"(AO1751=Parametros[Segmento])*(AP1751>0)*(AQ1751>0)","v":0}]
[{"$nulls":12},"4. Número de formulario",{"$nulls":27},"F160 H2",1,15,{"$f":"(AO1752=Parametros[Segmento])*(AP1752>0)*(AQ1752>0)","v":0}]
[{"$nulls":40},"F160 H2",1,30,{"$f":"(AO1753=Parametros[Segmento])*(AP1753>0)*(AQ1753>0)","v":0}]
[null,"POR UNA COLOMBIA MÁS HONESTA",{"$nulls":38},"F160 H2",1,23.3,{"$f":"(AO1754=Parametros[Segmento])*(AP1754>0)*(AQ1754>0)","v":0}]
[{"$nulls":40},"F160 H2",1,12,{"$f":"(AO1755=Parametros[Segmento])*(AP1755>0)*(AQ1755>0)","v":0}]
[{"$nulls":40},"F160 H2",1,27,{"$f":"(AO1756=Parametros[Segmento])*(AP1756>0)*(AQ1756>0)","v":0}]
[null,"Relación de Activos en el Exterior",{"$nulls":38},"F160 H2",1,24,{"$f":"(AO1757=Parametros[Segmento])*(AP1757>0)*(AQ1757>0)","v":0}]
[null,"37. Jurisdicción",{"$nulls":6},"38. Naturaleza del activo","39. Tipo del activo",{"$nulls":4},"40. Identificación del activo",null,null,"41. Valor patrimonial $",{"$nulls":22},"F160 H2",1,24,{"$f":"(AO1758=Parametros[Segmento])*(AP1758>0)*(AQ1758>0)","v":0}]
[null,1,{"$f":"IF(' '!$F$1622>(' '!$E$112*2000),IF(OR(OFFSET(' '!$B$1600,$B1759,0)=\"\",OFFSET(' '!$AN$1600,$B1759,0)<>$B$1599),\"\",OFFSET(' '!$B$1600,$B1759,0)),\"\")","v":""},{"$nulls":5},{"$f":"IF(' '!$F$1622>(' '!$E$112*2000),IF(OR(OFFSET(' '!$C$1600,$B1759,0)=\"\",OFFSET(' '!$AN$1600,$B1759,0)<>$B$1599),\"\",OFFSET(' '!$C$1600,$B1759,0)),\"\")","v":""},{"$f":"IF(' '!$F$1622>(' '!$E$112*3580),IF(OR(OFFSET(' '!$D$1600,$B1759,0)=\"\",OFFSET(' '!$AN$1600,$B1759,0)<>$B$1599),\"\",OFFSET(' '!$D$1600,$B1759,0)),\"\")","v":""},{"$nulls":4},{"$f":"IF(' '!$F$1622>(' '!$E$112*3580),IF(OR(OFFSET(' '!$E$1600,$B1759,0)=\"\",OFFSET(' '!$AN$1600,$B1759,0)<>$B$1599),\"\",OFFSET(' '!$E$1600,$B1759,0)),\"\")","v":""},null,null,{"$f":"IF(' '!$F$1622>(' '!$E$112*2000),IF(OR(OFFSET(' '!$F$1600,$B1759,0)=\"\",OFFSET(' '!$AN$1600,$B1759,0)<>$B$1599),\"\",OFFSET(' '!$F$1600,$B1759,0)),\"\")","v":""},{"$nulls":22},"F160 H2",1,24,{"$f":"(AO1759=Parametros[Segmento])*(AP1759>0)*(AQ1759>0)","v":0}]
[null,2,{"$f":"IF(' '!$F$1622>(' '!$E$112*2000),IF(OR(OFFSET(' '!$B$1600,$B1760,0)=\"\",OFFSET(' '!$AN$1600,$B1760,0)<>$B$1599),\"\",OFFSET(' '!$B$1600,$B1760,0)),\"\")","v":""},{"$nulls":5},{"$f":"IF(' '!$F$1622>(' '!$E$112*2000),IF(OR(OFFSET(' '!$C$1600,$B1760,0)=\"\",OFFSET(' '!$AN$1600,$B1760,0)<>$B$1599),\"\",OFFSET(' '!$C$1600,$B1760,0)),\"\")","v":""},{"$f":"IF(' '!$F$1622>(' '!$E$112*3580),IF(OR(OFFSET(' '!$D$1600,$B1760,0)=\"\",OFFSET(' '!$AN$1600,$B1760,0)<>$B$1599),\"\",OFFSET(' '!$D$1600,$B1760,0)),\"\")","v":""},{"$nulls":4},{"$f":"IF(' '!$F$1622>(' '!$E$112*3580),IF(OR(OFFSET(' '!$E$1600,$B1760,0)=\"\",OFFSET(' '!$AN$1600,$B1760,0)<>$B$1599),\"\",OFFSET(' '!$E$1600,$B1760,0)),\"\")","v":""},null,null,{"$f":"IF(' '!$F$1622>(' '!$E$112*2000),IF(OR(OFFSET(' '!$F$1600,$B1760,0)=\"\",OFFSET(' '!$AN$1600,$B1760,0)<>$B$1599),\"\",OFFSET(' '!$F$1600,$B1760,0)),\"\")","v":""},{"$nulls":22},"F160 H2",1,24,{"$f":"(AO1760=Parametros[Segmento])*(AP1760>0)*(AQ1760>0)","v":0}]
[null,3,{"$f":"IF(' '!$F$1622>(' '!$E$112*2000),IF(OR(OFFSET(' '!$B$1600,$B1761,0)=\"\",OFFSET(' '!$AN$1600,$B1761,0)<>$B$1599),\"\",OFFSET(' '!$B$1600,$B1761,0)),\"\")","v":""},{"$nulls":5},{"$f":"IF(' '!$F$1622>(' '!$E$112*2000),IF(OR(OFFSET(' '!$C$1600,$B1761,0)=\"\",OFFSET(' '!$AN$1600,$B1761,0)<>$B$1599),\"\",OFFSET(' '!$C$1600,$B1761,0)),\"\")","v":""},{"$f":"IF(' '!$F$1622>(' '!$E$112*3580),IF(OR(OFFSET(' '!$D$1600,$B1761,0)=\"\",OFFSET(' '!$AN$1600,$B1761,0)<>$B$1599),\"\",OFFSET(' '!$D$1600,$B1761,0)),\"\")","v":""},{"$nulls":4},{"$f":"IF(' '!$F$1622>(' '!$E$112*3580),IF(OR(OFFSET(' '!$E$1600,$B1761,0)=\"\",OFFSET(' '!$AN$1600,$B1761,0)<>$B$1599),\"\",OFFSET(' '!$E$1600,$B1761,0)),\"\")","v":""},null,null,{"$f":"IF(' '!$F$1622>(' '!$E$112*2000),IF(OR(OFFSET(' '!$F$1600,$B1761,0)=\"\",OFFSET(' '!$AN$1600,$B1761,0)<>$B$1599),\"\",OFFSET(' '!$F$1600,$B1761,0)),\"\")","v":""},{"$nulls":22},"F160 H2",1,24,{"$f":"(AO1761=Parametros[Segmento])*(AP1761>0)*(AQ1761>0)","v":0}]
[null,4,{"$f":"IF(' '!$F$1622>(' '!$E$112*2000),IF(OR(OFFSET(' '!$B$1600,$B1762,0)=\"\",OFFSET(' '!$AN$1600,$B1762,0)<>$B$1599),\"\",OFFSET(' '!$B$1600,$B1762,0)),\"\")","v":""},{"$nulls":5},{"$f":"IF(' '!$F$1622>(' '!$E$112*2000),IF(OR(OFFSET(' '!$C$1600,$B1762,0)=\"\",OFFSET(' '!$AN$1600,$B1762,0)<>$B$1599),\"\",OFFSET(' '!$C$1600,$B1762,0)),\"\")","v":""},{"$f":"IF(' '!$F$1622>(' '!$E$112*3580),IF(OR(OFFSET(' '!$D$1600,$B1762,0)=\"\",OFFSET(' '!$AN$1600,$B1762,0)<>$B$1599),\"\",OFFSET(' '!$D$1600,$B1762,0)),\"\")","v":""},{"$nulls":4},{"$f":"IF(' '!$F$1622>(' '!$E$112*3580),IF(OR(OFFSET(' '!$E$1600,$B1762,0)=\"\",OFFSET(' '!$AN$1600,$B1762,0)<>$B$1599),\"\",OFFSET(' '!$E$1600,$B1762,0)),\"\")","v":""},null,null,{"$f":"IF(' '!$F$1622>(' '!$E$112*2000),IF(OR(OFFSET(' '!$F$1600,$B1762,0)=\"\",OFFSET(' '!$AN$1600,$B1762,0)<>$B$1599),\"\",OFFSET(' '!$F$1600,$B1762,0)),\"\")","v":""},{"$nulls":22},"F160 H2",1,24,{"$f":"(AO1762=Parametros[Segmento])*(AP1762>0)*(AQ1762>0)","v":0}]
[null,5,{"$f":"IF(' '!$F$1622>(' '!$E$112*2000),IF(OR(OFFSET(' '!$B$1600,$B1763,0)=\"\",OFFSET(' '!$AN$1600,$B1763,0)<>$B$1599),\"\",OFFSET(' '!$B$1600,$B1763,0)),\"\")","v":""},{"$nulls":5},{"$f":"IF(' '!$F$1622>(' '!$E$112*2000),IF(OR(OFFSET(' '!$C$1600,$B1763,0)=\"\",OFFSET(' '!$AN$1600,$B1763,0)<>$B$1599),\"\",OFFSET(' '!$C$1600,$B1763,0)),\"\")","v":""},{"$f":"IF(' '!$F$1622>(' '!$E$112*3580),IF(OR(OFFSET(' '!$D$1600,$B1763,0)=\"\",OFFSET(' '!$AN$1600,$B1763,0)<>$B$1599),\"\",OFFSET(' '!$D$1600,$B1763,0)),\"\")","v":""},{"$nulls":4},{"$f":"IF(' '!$F$1622>(' '!$E$112*3580),IF(OR(OFFSET(' '!$E$1600,$B1763,0)=\"\",OFFSET(' '!$AN$1600,$B1763,0)<>$B$1599),\"\",OFFSET(' '!$E$1600,$B1763,0)),\"\")","v":""},null,null,{"$f":"IF(' '!$F$1622>(' '!$E$112*2000),IF(OR(OFFSET(' '!$F$1600,$B1763,0)=\"\",OFFSET(' '!$AN$1600,$B1763,0)<>$B$1599),\"\",OFFSET(' '!$F$1600,$B1763,0)),\"\")","v":""},{"$nulls":22},"F160 H2",1,24,{"$f":"(AO1763=Parametros[Segmento])*(AP1763>0)*(AQ1763>0)","v":0}]
[null,6,{"$f":"IF(' '!$F$1622>(' '!$E$112*2000),IF(OR(OFFSET(' '!$B$1600,$B1764,0)=\"\",OFFSET(' '!$AN$1600,$B1764,0)<>$B$1599),\"\",OFFSET(' '!$B$1600,$B1764,0)),\"\")","v":""},{"$nulls":5},{"$f":"IF(' '!$F$1622>(' '!$E$112*2000),IF(OR(OFFSET(' '!$C$1600,$B1764,0)=\"\",OFFSET(' '!$AN$1600,$B1764,0)<>$B$1599),\"\",OFFSET(' '!$C$1600,$B1764,0)),\"\")","v":""},{"$f":"IF(' '!$F$1622>(' '!$E$112*3580),IF(OR(OFFSET(' '!$D$1600,$B1764,0)=\"\",OFFSET(' '!$AN$1600,$B1764,0)<>$B$1599),\"\",OFFSET(' '!$D$1600,$B1764,0)),\"\")","v":""},{"$nulls":4},{"$f":"IF(' '!$F$1622>(' '!$E$112*3580),IF(OR(OFFSET(' '!$E$1600,$B1764,0)=\"\",OFFSET(' '!$AN$1600,$B1764,0)<>$B$1599),\"\",OFFSET(' '!$E$1600,$B1764,0)),\"\")","v":""},null,null,{"$f":"IF(' '!$F$1622>(' '!$E$112*2000),IF(OR(OFFSET(' '!$F$1600,$B1764,0)=\"\",OFFSET(' '!$AN$1600,$B1764,0)<>$B$1599),\"\",OFFSET(' '!$F$1600,$B1764,0)),\"\")","v":""},{"$nulls":22},"F160 H2",1,24,{"$f":"(AO1764=Parametros[Segmento])*(AP1764>0)*(AQ1764>0)","v":0}]
[null,7,{"$f":"IF(' '!$F$1622>(' '!$E$112*2000),IF(OR(OFFSET(' '!$B$1600,$B1765,0)=\"\",OFFSET(' '!$AN$1600,$B1765,0)<>$B$1599),\"\",OFFSET(' '!$B$1600,$B1765,0)),\"\")","v":""},{"$nulls":5},{"$f":"IF(' '!$F$1622>(' '!$E$112*2000),IF(OR(OFFSET(' '!$C$1600,$B1765,0)=\"\",OFFSET(' '!$AN$1600,$B1765,0)<>$B$1599),\"\",OFFSET(' '!$C$1600,$B1765,0)),\"\")","v":""},{"$f":"IF(' '!$F$1622>(' '!$E$112*3580),IF(OR(OFFSET(' '!$D$1600,$B1765,0)=\"\",OFFSET(' '!$AN$1600,$B1765,0)<>$B$1599),\"\",OFFSET(' '!$D$1600,$B1765,0)),\"\")","v":""},{"$nulls":4},{"$f":"IF(' '!$F$1622>(' '!$E$112*3580),IF(OR(OFFSET(' '!$E$1600,$B1765,0)=\"\",OFFSET(' '!$AN$1600,$B1765,0)<>$B$1599),\"\",OFFSET(' '!$E$1600,$B1765,0)),\"\")","v":""},null,null,{"$f":"IF(' '!$F$1622>(' '!$E$112*2000),IF(OR(OFFSET(' '!$F$1600,$B1765,0)=\"\",OFFSET(' '!$AN$1600,$B1765,0)<>$B$1599),\"\",OFFSET(' '!$F$1600,$B1765,0)),\"\")","v":""},{"$nulls":22},"F160 H2",1,24,{"$f":"(AO1765=Parametros[Segmento])*(AP1765>0)*(AQ1765>0)","v":0}]
[null,8,{"$f":"IF(' '!$F$1622>(' '!$E$112*2000),IF(OR(OFFSET(' '!$B$1600,$B1766,0)=\"\",OFFSET(' '!$AN$1600,$B1766,0)<>$B$1599),\"\",OFFSET(' '!$B$1600,$B1766,0)),\"\")","v":""},{"$nulls":5},{"$f":"IF(' '!$F$1622>(' '!$E$112*2000),IF(OR(OFFSET(' '!$C$1600,$B1766,0)=\"\",OFFSET(' '!$AN$1600,$B1766,0)<>$B$1599),\"\",OFFSET(' '!$C$1600,$B1766,0)),\"\")","v":""},{"$f":"IF(' '!$F$1622>(' '!$E$112*3580),IF(OR(OFFSET(' '!$D$1600,$B1766,0)=\"\",OFFSET(' '!$AN$1600,$B1766,0)<>$B$1599),\"\",OFFSET(' '!$D$1600,$B1766,0)),\"\")","v":""},{"$nulls":4},{"$f":"IF(' '!$F$1622>(' '!$E$112*3580),IF(OR(OFFSET(' '!$E$1600,$B1766,0)=\"\",OFFSET(' '!$AN$1600,$B1766,0)<>$B$1599),\"\",OFFSET(' '!$E$1600,$B1766,0)),\"\")","v":""},null,null,{"$f":"IF(' '!$F$1622>(' '!$E$112*2000),IF(OR(OFFSET(' '!$F$1600,$B1766,0)=\"\",OFFSET(' '!$AN$1600,$B1766,0)<>$B$1599),\"\",OFFSET(' '!$F$1600,$B1766,0)),\"\")","v":""},{"$nulls":22},"F160 H2",1,24,{"$f":"(AO1766=Parametros[Segmento])*(AP1766>0)*(AQ1766>0)","v":0}]
[null,9,{"$f":"IF(' '!$F$1622>(' '!$E$112*2000),IF(OR(OFFSET(' '!$B$1600,$B1767,0)=\"\",OFFSET(' '!$AN$1600,$B1767,0)<>$B$1599),\"\",OFFSET(' '!$B$1600,$B1767,0)),\"\")","v":""},{"$nulls":5},{"$f":"IF(' '!$F$1622>(' '!$E$112*2000),IF(OR(OFFSET(' '!$C$1600,$B1767,0)=\"\",OFFSET(' '!$AN$1600,$B1767,0)<>$B$1599),\"\",OFFSET(' '!$C$1600,$B1767,0)),\"\")","v":""},{"$f":"IF(' '!$F$1622>(' '!$E$112*3580),IF(OR(OFFSET(' '!$D$1600,$B1767,0)=\"\",OFFSET(' '!$AN$1600,$B1767,0)<>$B$1599),\"\",OFFSET(' '!$D$1600,$B1767,0)),\"\")","v":""},{"$nulls":4},{"$f":"IF(' '!$F$1622>(' '!$E$112*3580),IF(OR(OFFSET(' '!$E$1600,$B1767,0)=\"\",OFFSET(' '!$AN$1600,$B1767,0)<>$B$1599),\"\",OFFSET(' '!$E$1600,$B1767,0)),\"\")","v":""},null,null,{"$f":"IF(' '!$F$1622>(' '!$E$112*2000),IF(OR(OFFSET(' '!$F$1600,$B1767,0)=\"\",OFFSET(' '!$AN$1600,$B1767,0)<>$B$1599),\"\",OFFSET(' '!$F$1600,$B1767,0)),\"\")","v":""},{"$nulls":22},"F160 H2",1,24,{"$f":"(AO1767=Parametros[Segmento])*(AP1767>0)*(AQ1767>0)","v":0}]
[null,10,{"$f":"IF(' '!$F$1622>(' '!$E$112*2000),IF(OR(OFFSET(' '!$B$1600,$B1768,0)=\"\",OFFSET(' '!$AN$1600,$B1768,0)<>$B$1599),\"\",OFFSET(' '!$B$1600,$B1768,0)),\"\")","v":""},{"$nulls":5},{"$f":"IF(' '!$F$1622>(' '!$E$112*2000),IF(OR(OFFSET(' '!$C$1600,$B1768,0)=\"\",OFFSET(' '!$AN$1600,$B1768,0)<>$B$1599),\"\",OFFSET(' '!$C$1600,$B1768,0)),\"\")","v":""},{"$f":"IF(' '!$F$1622>(' '!$E$112*3580),IF(OR(OFFSET(' '!$D$1600,$B1768,0)=\"\",OFFSET(' '!$AN$1600,$B1768,0)<>$B$1599),\"\",OFFSET(' '!$D$1600,$B1768,0)),\"\")","v":""},{"$nulls":4},{"$f":"IF(' '!$F$1622>(' '!$E$112*3580),IF(OR(OFFSET(' '!$E$1600,$B1768,0)=\"\",OFFSET(' '!$AN$1600,$B1768,0)<>$B$1599),\"\",OFFSET(' '!$E$1600,$B1768,0)),\"\")","v":""},null,null,{"$f":"IF(' '!$F$1622>(' '!$E$112*2000),IF(OR(OFFSET(' '!$F$1600,$B1768,0)=\"\",OFFSET(' '!$AN$1600,$B1768,0)<>$B$1599),\"\",OFFSET(' '!$F$1600,$B1768,0)),\"\")","v":""},{"$nulls":22},"F160 H2",1,24,{"$f":"(AO1768=Parametros[Segmento])*(AP1768>0)*(AQ1768>0)","v":0}]
[null,11,{"$f":"IF(' '!$F$1622>(' '!$E$112*2000),IF(OR(OFFSET(' '!$B$1600,$B1769,0)=\"\",OFFSET(' '!$AN$1600,$B1769,0)<>$B$1599),\"\",OFFSET(' '!$B$1600,$B1769,0)),\"\")","v":""},{"$nulls":5},{"$f":"IF(' '!$F$1622>(' '!$E$112*2000),IF(OR(OFFSET(' '!$C$1600,$B1769,0)=\"\",OFFSET(' '!$AN$1600,$B1769,0)<>$B$1599),\"\",OFFSET(' '!$C$1600,$B1769,0)),\"\")","v":""},{"$f":"IF(' '!$F$1622>(' '!$E$112*3580),IF(OR(OFFSET(' '!$D$1600,$B1769,0)=\"\",OFFSET(' '!$AN$1600,$B1769,0)<>$B$1599),\"\",OFFSET(' '!$D$1600,$B1769,0)),\"\")","v":""},{"$nulls":4},{"$f":"IF(' '!$F$1622>(' '!$E$112*3580),IF(OR(OFFSET(' '!$E$1600,$B1769,0)=\"\",OFFSET(' '!$AN$1600,$B1769,0)<>$B$1599),\"\",OFFSET(' '!$E$1600,$B1769,0)),\"\")","v":""},null,null,{"$f":"IF(' '!$F$1622>(' '!$E$112*2000),IF(OR(OFFSET(' '!$F$1600,$B1769,0)=\"\",OFFSET(' '!$AN$1600,$B1769,0)<>$B$1599),\"\",OFFSET(' '!$F$1600,$B1769,0)),\"\")","v":""},{"$nulls":22},"F160 H2",1,24,{"$f":"(AO1769=Parametros[Segmento])*(AP1769>0)*(AQ1769>0)","v":0}]
[null,12,{"$f":"IF(' '!$F$1622>(' '!$E$112*2000),IF(OR(OFFSET(' '!$B$1600,$B1770,0)=\"\",OFFSET(' '!$AN$1600,$B1770,0)<>$B$1599),\"\",OFFSET(' '!$B$1600,$B1770,0)),\"\")","v":""},{"$nulls":5},{"$f":"IF(' '!$F$1622>(' '!$E$112*2000),IF(OR(OFFSET(' '!$C$1600,$B1770,0)=\"\",OFFSET(' '!$AN$1600,$B1770,0)<>$B$1599),\"\",OFFSET(' '!$C$1600,$B1770,0)),\"\")","v":""},{"$f":"IF(' '!$F$1622>(' '!$E$112*3580),IF(OR(OFFSET(' '!$D$1600,$B1770,0)=\"\",OFFSET(' '!$AN$1600,$B1770,0)<>$B$1599),\"\",OFFSET(' '!$D$1600,$B1770,0)),\"\")","v":""},{"$nulls":4},{"$f":"IF(' '!$F$1622>(' '!$E$112*3580),IF(OR(OFFSET(' '!$E$1600,$B1770,0)=\"\",OFFSET(' '!$AN$1600,$B1770,0)<>$B$1599),\"\",OFFSET(' '!$E$1600,$B1770,0)),\"\")","v":""},null,null,{"$f":"IF(' '!$F$1622>(' '!$E$112*2000),IF(OR(OFFSET(' '!$F$1600,$B1770,0)=\"\",OFFSET(' '!$AN$1600,$B1770,0)<>$B$1599),\"\",OFFSET(' '!$F$1600,$B1770,0)),\"\")","v":""},{"$nulls":22},"F160 H2",1,24,{"$f":"(AO1770=Parametros[Segmento])*(AP1770>0)*(AQ1770>0)","v":0}]
[null,13,{"$f":"IF(' '!$F$1622>(' '!$E$112*2000),IF(OR(OFFSET(' '!$B$1600,$B1771,0)=\"\",OFFSET(' '!$AN$1600,$B1771,0)<>$B$1599),\"\",OFFSET(' '!$B$1600,$B1771,0)),\"\")","v":""},{"$nulls":5},{"$f":"IF(' '!$F$1622>(' '!$E$112*2000),IF(OR(OFFSET(' '!$C$1600,$B1771,0)=\"\",OFFSET(' '!$AN$1600,$B1771,0)<>$B$1599),\"\",OFFSET(' '!$C$1600,$B1771,0)),\"\")","v":""},{"$f":"IF(' '!$F$1622>(' '!$E$112*3580),IF(OR(OFFSET(' '!$D$1600,$B1771,0)=\"\",OFFSET(' '!$AN$1600,$B1771,0)<>$B$1599),\"\",OFFSET(' '!$D$1600,$B1771,0)),\"\")","v":""},{"$nulls":4},{"$f":"IF(' '!$F$1622>(' '!$E$112*3580),IF(OR(OFFSET(' '!$E$1600,$B1771,0)=\"\",OFFSET(' '!$AN$1600,$B1771,0)<>$B$1599),\"\",OFFSET(' '!$E$1600,$B1771,0)),\"\")","v":""},null,null,{"$f":"IF(' '!$F$1622>(' '!$E$112*2000),IF(OR(OFFSET(' '!$F$1600,$B1771,0)=\"\",OFFSET(' '!$AN$1600,$B1771,0)<>$B$1599),\"\",OFFSET(' '!$F$1600,$B1771,0)),\"\")","v":""},{"$nulls":22},"F160 H2",1,24,{"$f":"(AO1771=Parametros[Segmento])*(AP1771>0)*(AQ1771>0)","v":0}]
[null,14,{"$f":"IF(' '!$F$1622>(' '!$E$112*2000),IF(OR(OFFSET(' '!$B$1600,$B1772,0)=\"\",OFFSET(' '!$AN$1600,$B1772,0)<>$B$1599),\"\",OFFSET(' '!$B$1600,$B1772,0)),\"\")","v":""},{"$nulls":5},{"$f":"IF(' '!$F$1622>(' '!$E$112*2000),IF(OR(OFFSET(' '!$C$1600,$B1772,0)=\"\",OFFSET(' '!$AN$1600,$B1772,0)<>$B$1599),\"\",OFFSET(' '!$C$1600,$B1772,0)),\"\")","v":""},{"$f":"IF(' '!$F$1622>(' '!$E$112*3580),IF(OR(OFFSET(' '!$D$1600,$B1772,0)=\"\",OFFSET(' '!$AN$1600,$B1772,0)<>$B$1599),\"\",OFFSET(' '!$D$1600,$B1772,0)),\"\")","v":""},{"$nulls":4},{"$f":"IF(' '!$F$1622>(' '!$E$112*3580),IF(OR(OFFSET(' '!$E$1600,$B1772,0)=\"\",OFFSET(' '!$AN$1600,$B1772,0)<>$B$1599),\"\",OFFSET(' '!$E$1600,$B1772,0)),\"\")","v":""},null,null,{"$f":"IF(' '!$F$1622>(' '!$E$112*2000),IF(OR(OFFSET(' '!$F$1600,$B1772,0)=\"\",OFFSET(' '!$AN$1600,$B1772,0)<>$B$1599),\"\",OFFSET(' '!$F$1600,$B1772,0)),\"\")","v":""},{"$nulls":22},"F160 H2",1,24,{"$f":"(AO1772=Parametros[Segmento])*(AP1772>0)*(AQ1772>0)","v":0}]
[null,15,{"$f":"IF(' '!$F$1622>(' '!$E$112*2000),IF(OR(OFFSET(' '!$B$1600,$B1773,0)=\"\",OFFSET(' '!$AN$1600,$B1773,0)<>$B$1599),\"\",OFFSET(' '!$B$1600,$B1773,0)),\"\")","v":""},{"$nulls":5},{"$f":"IF(' '!$F$1622>(' '!$E$112*2000),IF(OR(OFFSET(' '!$C$1600,$B1773,0)=\"\",OFFSET(' '!$AN$1600,$B1773,0)<>$B$1599),\"\",OFFSET(' '!$C$1600,$B1773,0)),\"\")","v":""},{"$f":"IF(' '!$F$1622>(' '!$E$112*3580),IF(OR(OFFSET(' '!$D$1600,$B1773,0)=\"\",OFFSET(' '!$AN$1600,$B1773,0)<>$B$1599),\"\",OFFSET(' '!$D$1600,$B1773,0)),\"\")","v":""},{"$nulls":4},{"$f":"IF(' '!$F$1622>(' '!$E$112*3580),IF(OR(OFFSET(' '!$E$1600,$B1773,0)=\"\",OFFSET(' '!$AN$1600,$B1773,0)<>$B$1599),\"\",OFFSET(' '!$E$1600,$B1773,0)),\"\")","v":""},null,null,{"$f":"IF(' '!$F$1622>(' '!$E$112*2000),IF(OR(OFFSET(' '!$F$1600,$B1773,0)=\"\",OFFSET(' '!$AN$1600,$B1773,0)<>$B$1599),\"\",OFFSET(' '!$F$1600,$B1773,0)),\"\")","v":""},{"$nulls":22},"F160 H2",1,24,{"$f":"(AO1773=Parametros[Segmento])*(AP1773>0)*(AQ1773>0)","v":0}]
[null,16,{"$f":"IF(' '!$F$1622>(' '!$E$112*2000),IF(OR(OFFSET(' '!$B$1600,$B1774,0)=\"\",OFFSET(' '!$AN$1600,$B1774,0)<>$B$1599),\"\",OFFSET(' '!$B$1600,$B1774,0)),\"\")","v":""},{"$nulls":5},{"$f":"IF(' '!$F$1622>(' '!$E$112*2000),IF(OR(OFFSET(' '!$C$1600,$B1774,0)=\"\",OFFSET(' '!$AN$1600,$B1774,0)<>$B$1599),\"\",OFFSET(' '!$C$1600,$B1774,0)),\"\")","v":""},{"$f":"IF(' '!$F$1622>(' '!$E$112*3580),IF(OR(OFFSET(' '!$D$1600,$B1774,0)=\"\",OFFSET(' '!$AN$1600,$B1774,0)<>$B$1599),\"\",OFFSET(' '!$D$1600,$B1774,0)),\"\")","v":""},{"$nulls":4},{"$f":"IF(' '!$F$1622>(' '!$E$112*3580),IF(OR(OFFSET(' '!$E$1600,$B1774,0)=\"\",OFFSET(' '!$AN$1600,$B1774,0)<>$B$1599),\"\",OFFSET(' '!$E$1600,$B1774,0)),\"\")","v":""},null,null,{"$f":"IF(' '!$F$1622>(' '!$E$112*2000),IF(OR(OFFSET(' '!$F$1600,$B1774,0)=\"\",OFFSET(' '!$AN$1600,$B1774,0)<>$B$1599),\"\",OFFSET(' '!$F$1600,$B1774,0)),\"\")","v":""},{"$nulls":22},"F160 H2",1,24,{"$f":"(AO1774=Parametros[Segmento])*(AP1774>0)*(AQ1774>0)","v":0}]
[null,17,{"$f":"IF(' '!$F$1622>(' '!$E$112*2000),IF(OR(OFFSET(' '!$B$1600,$B1775,0)=\"\",OFFSET(' '!$AN$1600,$B1775,0)<>$B$1599),\"\",OFFSET(' '!$B$1600,$B1775,0)),\"\")","v":""},{"$nulls":5},{"$f":"IF(' '!$F$1622>(' '!$E$112*2000),IF(OR(OFFSET(' '!$C$1600,$B1775,0)=\"\",OFFSET(' '!$AN$1600,$B1775,0)<>$B$1599),\"\",OFFSET(' '!$C$1600,$B1775,0)),\"\")","v":""},{"$f":"IF(' '!$F$1622>(' '!$E$112*3580),IF(OR(OFFSET(' '!$D$1600,$B1775,0)=\"\",OFFSET(' '!$AN$1600,$B1775,0)<>$B$1599),\"\",OFFSET(' '!$D$1600,$B1775,0)),\"\")","v":""},{"$nulls":4},{"$f":"IF(' '!$F$1622>(' '!$E$112*3580),IF(OR(OFFSET(' '!$E$1600,$B1775,0)=\"\",OFFSET(' '!$AN$1600,$B1775,0)<>$B$1599),\"\",OFFSET(' '!$E$1600,$B1775,0)),\"\")","v":""},null,null,{"$f":"IF(' '!$F$1622>(' '!$E$112*2000),IF(OR(OFFSET(' '!$F$1600,$B1775,0)=\"\",OFFSET(' '!$AN$1600,$B1775,0)<>$B$1599),\"\",OFFSET(' '!$F$1600,$B1775,0)),\"\")","v":""},{"$nulls":22},"F160 H2",1,24,{"$f":"(AO1775=Parametros[Segmento])*(AP1775>0)*(AQ1775>0)","v":0}]
[null,18,{"$f":"IF(' '!$F$1622>(' '!$E$112*2000),IF(OR(OFFSET(' '!$B$1600,$B1776,0)=\"\",OFFSET(' '!$AN$1600,$B1776,0)<>$B$1599),\"\",OFFSET(' '!$B$1600,$B1776,0)),\"\")","v":""},{"$nulls":5},{"$f":"IF(' '!$F$1622>(' '!$E$112*2000),IF(OR(OFFSET(' '!$C$1600,$B1776,0)=\"\",OFFSET(' '!$AN$1600,$B1776,0)<>$B$1599),\"\",OFFSET(' '!$C$1600,$B1776,0)),\"\")","v":""},{"$f":"IF(' '!$F$1622>(' '!$E$112*3580),IF(OR(OFFSET(' '!$D$1600,$B1776,0)=\"\",OFFSET(' '!$AN$1600,$B1776,0)<>$B$1599),\"\",OFFSET(' '!$D$1600,$B1776,0)),\"\")","v":""},{"$nulls":4},{"$f":"IF(' '!$F$1622>(' '!$E$112*3580),IF(OR(OFFSET(' '!$E$1600,$B1776,0)=\"\",OFFSET(' '!$AN$1600,$B1776,0)<>$B$1599),\"\",OFFSET(' '!$E$1600,$B1776,0)),\"\")","v":""},null,null,{"$f":"IF(' '!$F$1622>(' '!$E$112*2000),IF(OR(OFFSET(' '!$F$1600,$B1776,0)=\"\",OFFSET(' '!$AN$1600,$B1776,0)<>$B$1599),\"\",OFFSET(' '!$F$1600,$B1776,0)),\"\")","v":""},{"$nulls":22},"F160 H2",1,24,{"$f":"(AO1776=Parametros[Segmento])*(AP1776>0)*(AQ1776>0)","v":0}]
[null,19,{"$f":"IF(' '!$F$1622>(' '!$E$112*2000),IF(OR(OFFSET(' '!$B$1600,$B1777,0)=\"\",OFFSET(' '!$AN$1600,$B1777,0)<>$B$1599),\"\",OFFSET(' '!$B$1600,$B1777,0)),\"\")","v":""},{"$nulls":5},{"$f":"IF(' '!$F$1622>(' '!$E$112*2000),IF(OR(OFFSET(' '!$C$1600,$B1777,0)=\"\",OFFSET(' '!$AN$1600,$B1777,0)<>$B$1599),\"\",OFFSET(' '!$C$1600,$B1777,0)),\"\")","v":""},{"$f":"IF(' '!$F$1622>(' '!$E$112*3580),IF(OR(OFFSET(' '!$D$1600,$B1777,0)=\"\",OFFSET(' '!$AN$1600,$B1777,0)<>$B$1599),\"\",OFFSET(' '!$D$1600,$B1777,0)),\"\")","v":""},{"$nulls":4},{"$f":"IF(' '!$F$1622>(' '!$E$112*3580),IF(OR(OFFSET(' '!$E$1600,$B1777,0)=\"\",OFFSET(' '!$AN$1600,$B1777,0)<>$B$1599),\"\",OFFSET(' '!$E$1600,$B1777,0)),\"\")","v":""},null,null,{"$f":"IF(' '!$F$1622>(' '!$E$112*2000),IF(OR(OFFSET(' '!$F$1600,$B1777,0)=\"\",OFFSET(' '!$AN$1600,$B1777,0)<>$B$1599),\"\",OFFSET(' '!$F$1600,$B1777,0)),\"\")","v":""},{"$nulls":22},"F160 H2",1,24,{"$f":"(AO1777=Parametros[Segmento])*(AP1777>0)*(AQ1777>0)","v":0}]
[null,20,{"$f":"IF(' '!$F$1622>(' '!$E$112*2000),IF(OR(OFFSET(' '!$B$1600,$B1778,0)=\"\",OFFSET(' '!$AN$1600,$B1778,0)<>$B$1599),\"\",OFFSET(' '!$B$1600,$B1778,0)),\"\")","v":""},{"$nulls":5},{"$f":"IF(' '!$F$1622>(' '!$E$112*2000),IF(OR(OFFSET(' '!$C$1600,$B1778,0)=\"\",OFFSET(' '!$AN$1600,$B1778,0)<>$B$1599),\"\",OFFSET(' '!$C$1600,$B1778,0)),\"\")","v":""},{"$f":"IF(' '!$F$1622>(' '!$E$112*3580),IF(OR(OFFSET(' '!$D$1600,$B1778,0)=\"\",OFFSET(' '!$AN$1600,$B1778,0)<>$B$1599),\"\",OFFSET(' '!$D$1600,$B1778,0)),\"\")","v":""},{"$nulls":4},{"$f":"IF(' '!$F$1622>(' '!$E$112*3580),IF(OR(OFFSET(' '!$E$1600,$B1778,0)=\"\",OFFSET(' '!$AN$1600,$B1778,0)<>$B$1599),\"\",OFFSET(' '!$E$1600,$B1778,0)),\"\")","v":""},null,null,{"$f":"IF(' '!$F$1622>(' '!$E$112*2000),IF(OR(OFFSET(' '!$F$1600,$B1778,0)=\"\",OFFSET(' '!$AN$1600,$B1778,0)<>$B$1599),\"\",OFFSET(' '!$F$1600,$B1778,0)),\"\")","v":""},{"$nulls":22},"F160 H2",1,24,{"$f":"(AO1778=Parametros[Segmento])*(AP1778>0)*(AQ1778>0)","v":0}]
[null,21,{"$f":"IF(' '!$F$1622>(' '!$E$112*2000),IF(OR(OFFSET(' '!$B$1600,$B1779,0)=\"\",OFFSET(' '!$AN$1600,$B1779,0)<>$B$1599),\"\",OFFSET(' '!$B$1600,$B1779,0)),\"\")","v":""},{"$nulls":5},{"$f":"IF(' '!$F$1622>(' '!$E$112*2000),IF(OR(OFFSET(' '!$C$1600,$B1779,0)=\"\",OFFSET(' '!$AN$1600,$B1779,0)<>$B$1599),\"\",OFFSET(' '!$C$1600,$B1779,0)),\"\")","v":""},{"$f":"IF(' '!$F$1622>(' '!$E$112*3580),IF(OR(OFFSET(' '!$D$1600,$B1779,0)=\"\",OFFSET(' '!$AN$1600,$B1779,0)<>$B$1599),\"\",OFFSET(' '!$D$1600,$B1779,0)),\"\")","v":""},{"$nulls":4},{"$f":"IF(' '!$F$1622>(' '!$E$112*3580),IF(OR(OFFSET(' '!$E$1600,$B1779,0)=\"\",OFFSET(' '!$AN$1600,$B1779,0)<>$B$1599),\"\",OFFSET(' '!$E$1600,$B1779,0)),\"\")","v":""},null,null,{"$f":"IF(' '!$F$1622>(' '!$E$112*2000),IF(OR(OFFSET(' '!$F$1600,$B1779,0)=\"\",OFFSET(' '!$AN$1600,$B1779,0)<>$B$1599),\"\",OFFSET(' '!$F$1600,$B1779,0)),\"\")","v":""},{"$nulls":22},"F160 H2",1,24,{"$f":"(AO1779=Parametros[Segmento])*(AP1779>0)*(AQ1779>0)","v":0}]
[null,22,{"$f":"IF(' '!$F$1622>(' '!$E$112*2000),IF(OR(OFFSET(' '!$B$1600,$B1780,0)=\"\",OFFSET(' '!$AN$1600,$B1780,0)<>$B$1599),\"\",OFFSET(' '!$B$1600,$B1780,0)),\"\")","v":""},{"$nulls":5},{"$f":"IF(' '!$F$1622>(' '!$E$112*2000),IF(OR(OFFSET(' '!$C$1600,$B1780,0)=\"\",OFFSET(' '!$AN$1600,$B1780,0)<>$B$1599),\"\",OFFSET(' '!$C$1600,$B1780,0)),\"\")","v":""},{"$f":"IF(' '!$F$1622>(' '!$E$112*3580),IF(OR(OFFSET(' '!$D$1600,$B1780,0)=\"\",OFFSET(' '!$AN$1600,$B1780,0)<>$B$1599),\"\",OFFSET(' '!$D$1600,$B1780,0)),\"\")","v":""},{"$nulls":4},{"$f":"IF(' '!$F$1622>(' '!$E$112*3580),IF(OR(OFFSET(' '!$E$1600,$B1780,0)=\"\",OFFSET(' '!$AN$1600,$B1780,0)<>$B$1599),\"\",OFFSET(' '!$E$1600,$B1780,0)),\"\")","v":""},null,null,{"$f":"IF(' '!$F$1622>(' '!$E$112*2000),IF(OR(OFFSET(' '!$F$1600,$B1780,0)=\"\",OFFSET(' '!$AN$1600,$B1780,0)<>$B$1599),\"\",OFFSET(' '!$F$1600,$B1780,0)),\"\")","v":""},{"$nulls":22},"F160 H2",1,24,{"$f":"(AO1780=Parametros[Segmento])*(AP1780>0)*(AQ1780>0)","v":0}]
[null,23,{"$f":"IF(' '!$F$1622>(' '!$E$112*2000),IF(OR(OFFSET(' '!$B$1600,$B1781,0)=\"\",OFFSET(' '!$AN$1600,$B1781,0)<>$B$1599),\"\",OFFSET(' '!$B$1600,$B1781,0)),\"\")","v":""},{"$nulls":5},{"$f":"IF(' '!$F$1622>(' '!$E$112*2000),IF(OR(OFFSET(' '!$C$1600,$B1781,0)=\"\",OFFSET(' '!$AN$1600,$B1781,0)<>$B$1599),\"\",OFFSET(' '!$C$1600,$B1781,0)),\"\")","v":""},{"$f":"IF(' '!$F$1622>(' '!$E$112*3580),IF(OR(OFFSET(' '!$D$1600,$B1781,0)=\"\",OFFSET(' '!$AN$1600,$B1781,0)<>$B$1599),\"\",OFFSET(' '!$D$1600,$B1781,0)),\"\")","v":""},{"$nulls":4},{"$f":"IF(' '!$F$1622>(' '!$E$112*3580),IF(OR(OFFSET(' '!$E$1600,$B1781,0)=\"\",OFFSET(' '!$AN$1600,$B1781,0)<>$B$1599),\"\",OFFSET(' '!$E$1600,$B1781,0)),\"\")","v":""},null,null,{"$f":"IF(' '!$F$1622>(' '!$E$112*2000),IF(OR(OFFSET(' '!$F$1600,$B1781,0)=\"\",OFFSET(' '!$AN$1600,$B1781,0)<>$B$1599),\"\",OFFSET(' '!$F$1600,$B1781,0)),\"\")","v":""},{"$nulls":22},"F160 H2",1,24,{"$f":"(AO1781=Parametros[Segmento])*(AP1781>0)*(AQ1781>0)","v":0}]
[null,24,{"$f":"IF(' '!$F$1622>(' '!$E$112*2000),IF(OR(OFFSET(' '!$B$1600,$B1782,0)=\"\",OFFSET(' '!$AN$1600,$B1782,0)<>$B$1599),\"\",OFFSET(' '!$B$1600,$B1782,0)),\"\")","v":""},{"$nulls":5},{"$f":"IF(' '!$F$1622>(' '!$E$112*2000),IF(OR(OFFSET(' '!$C$1600,$B1782,0)=\"\",OFFSET(' '!$AN$1600,$B1782,0)<>$B$1599),\"\",OFFSET(' '!$C$1600,$B1782,0)),\"\")","v":""},{"$f":"IF(' '!$F$1622>(' '!$E$112*3580),IF(OR(OFFSET(' '!$D$1600,$B1782,0)=\"\",OFFSET(' '!$AN$1600,$B1782,0)<>$B$1599),\"\",OFFSET(' '!$D$1600,$B1782,0)),\"\")","v":""},{"$nulls":4},{"$f":"IF(' '!$F$1622>(' '!$E$112*3580),IF(OR(OFFSET(' '!$E$1600,$B1782,0)=\"\",OFFSET(' '!$AN$1600,$B1782,0)<>$B$1599),\"\",OFFSET(' '!$E$1600,$B1782,0)),\"\")","v":""},null,null,{"$f":"IF(' '!$F$1622>(' '!$E$112*2000),IF(OR(OFFSET(' '!$F$1600,$B1782,0)=\"\",OFFSET(' '!$AN$1600,$B1782,0)<>$B$1599),\"\",OFFSET(' '!$F$1600,$B1782,0)),\"\")","v":""},{"$nulls":22},"F160 H2",1,24,{"$f":"(AO1782=Parametros[Segmento])*(AP1782>0)*(AQ1782>0)","v":0}]
[null,25,{"$f":"IF(' '!$F$1622>(' '!$E$112*2000),IF(OR(OFFSET(' '!$B$1600,$B1783,0)=\"\",OFFSET(' '!$AN$1600,$B1783,0)<>$B$1599),\"\",OFFSET(' '!$B$1600,$B1783,0)),\"\")","v":""},{"$nulls":5},{"$f":"IF(' '!$F$1622>(' '!$E$112*2000),IF(OR(OFFSET(' '!$C$1600,$B1783,0)=\"\",OFFSET(' '!$AN$1600,$B1783,0)<>$B$1599),\"\",OFFSET(' '!$C$1600,$B1783,0)),\"\")","v":""},{"$f":"IF(' '!$F$1622>(' '!$E$112*3580),IF(OR(OFFSET(' '!$D$1600,$B1783,0)=\"\",OFFSET(' '!$AN$1600,$B1783,0)<>$B$1599),\"\",OFFSET(' '!$D$1600,$B1783,0)),\"\")","v":""},{"$nulls":4},{"$f":"IF(' '!$F$1622>(' '!$E$112*3580),IF(OR(OFFSET(' '!$E$1600,$B1783,0)=\"\",OFFSET(' '!$AN$1600,$B1783,0)<>$B$1599),\"\",OFFSET(' '!$E$1600,$B1783,0)),\"\")","v":""},null,null,{"$f":"IF(' '!$F$1622>(' '!$E$112*2000),IF(OR(OFFSET(' '!$F$1600,$B1783,0)=\"\",OFFSET(' '!$AN$1600,$B1783,0)<>$B$1599),\"\",OFFSET(' '!$F$1600,$B1783,0)),\"\")","v":""},{"$nulls":22},"F160 H2",1,24,{"$f":"(AO1783=Parametros[Segmento])*(AP1783>0)*(AQ1783>0)","v":0}]
[null,26,{"$f":"IF(' '!$F$1622>(' '!$E$112*2000),IF(OR(OFFSET(' '!$B$1600,$B1784,0)=\"\",OFFSET(' '!$AN$1600,$B1784,0)<>$B$1599),\"\",OFFSET(' '!$B$1600,$B1784,0)),\"\")","v":""},{"$nulls":5},{"$f":"IF(' '!$F$1622>(' '!$E$112*2000),IF(OR(OFFSET(' '!$C$1600,$B1784,0)=\"\",OFFSET(' '!$AN$1600,$B1784,0)<>$B$1599),\"\",OFFSET(' '!$C$1600,$B1784,0)),\"\")","v":""},{"$f":"IF(' '!$F$1622>(' '!$E$112*3580),IF(OR(OFFSET(' '!$D$1600,$B1784,0)=\"\",OFFSET(' '!$AN$1600,$B1784,0)<>$B$1599),\"\",OFFSET(' '!$D$1600,$B1784,0)),\"\")","v":""},{"$nulls":4},{"$f":"IF(' '!$F$1622>(' '!$E$112*3580),IF(OR(OFFSET(' '!$E$1600,$B1784,0)=\"\",OFFSET(' '!$AN$1600,$B1784,0)<>$B$1599),\"\",OFFSET(' '!$E$1600,$B1784,0)),\"\")","v":""},null,null,{"$f":"IF(' '!$F$1622>(' '!$E$112*2000),IF(OR(OFFSET(' '!$F$1600,$B1784,0)=\"\",OFFSET(' '!$AN$1600,$B1784,0)<>$B$1599),\"\",OFFSET(' '!$F$1600,$B1784,0)),\"\")","v":""},{"$nulls":22},"F160 H2",1,24,{"$f":"(AO1784=Parametros[Segmento])*(AP1784>0)*(AQ1784>0)","v":0}]
[null,27,{"$f":"IF(' '!$F$1622>(' '!$E$112*2000),IF(OR(OFFSET(' '!$B$1600,$B1785,0)=\"\",OFFSET(' '!$AN$1600,$B1785,0)<>$B$1599),\"\",OFFSET(' '!$B$1600,$B1785,0)),\"\")","v":""},{"$nulls":5},{"$f":"IF(' '!$F$1622>(' '!$E$112*2000),IF(OR(OFFSET(' '!$C$1600,$B1785,0)=\"\",OFFSET(' '!$AN$1600,$B1785,0)<>$B$1599),\"\",OFFSET(' '!$C$1600,$B1785,0)),\"\")","v":""},{"$f":"IF(' '!$F$1622>(' '!$E$112*3580),IF(OR(OFFSET(' '!$D$1600,$B1785,0)=\"\",OFFSET(' '!$AN$1600,$B1785,0)<>$B$1599),\"\",OFFSET(' '!$D$1600,$B1785,0)),\"\")","v":""},{"$nulls":4},{"$f":"IF(' '!$F$1622>(' '!$E$112*3580),IF(OR(OFFSET(' '!$E$1600,$B1785,0)=\"\",OFFSET(' '!$AN$1600,$B1785,0)<>$B$1599),\"\",OFFSET(' '!$E$1600,$B1785,0)),\"\")","v":""},null,null,{"$f":"IF(' '!$F$1622>(' '!$E$112*2000),IF(OR(OFFSET(' '!$F$1600,$B1785,0)=\"\",OFFSET(' '!$AN$1600,$B1785,0)<>$B$1599),\"\",OFFSET(' '!$F$1600,$B1785,0)),\"\")","v":""},{"$nulls":22},"F160 H2",1,24,{"$f":"(AO1785=Parametros[Segmento])*(AP1785>0)*(AQ1785>0)","v":0}]
[null,28,{"$f":"IF(' '!$F$1622>(' '!$E$112*2000),IF(OR(OFFSET(' '!$B$1600,$B1786,0)=\"\",OFFSET(' '!$AN$1600,$B1786,0)<>$B$1599),\"\",OFFSET(' '!$B$1600,$B1786,0)),\"\")","v":""},{"$nulls":5},{"$f":"IF(' '!$F$1622>(' '!$E$112*2000),IF(OR(OFFSET(' '!$C$1600,$B1786,0)=\"\",OFFSET(' '!$AN$1600,$B1786,0)<>$B$1599),\"\",OFFSET(' '!$C$1600,$B1786,0)),\"\")","v":""},{"$f":"IF(' '!$F$1622>(' '!$E$112*3580),IF(OR(OFFSET(' '!$D$1600,$B1786,0)=\"\",OFFSET(' '!$AN$1600,$B1786,0)<>$B$1599),\"\",OFFSET(' '!$D$1600,$B1786,0)),\"\")","v":""},{"$nulls":4},{"$f":"IF(' '!$F$1622>(' '!$E$112*3580),IF(OR(OFFSET(' '!$E$1600,$B1786,0)=\"\",OFFSET(' '!$AN$1600,$B1786,0)<>$B$1599),\"\",OFFSET(' '!$E$1600,$B1786,0)),\"\")","v":""},null,null,{"$f":"IF(' '!$F$1622>(' '!$E$112*2000),IF(OR(OFFSET(' '!$F$1600,$B1786,0)=\"\",OFFSET(' '!$AN$1600,$B1786,0)<>$B$1599),\"\",OFFSET(' '!$F$1600,$B1786,0)),\"\")","v":""},{"$nulls":22},"F160 H2",1,24,{"$f":"(AO1786=Parametros[Segmento])*(AP1786>0)*(AQ1786>0)","v":0}]
[null,29,{"$f":"IF(' '!$F$1622>(' '!$E$112*2000),IF(OR(OFFSET(' '!$B$1600,$B1787,0)=\"\",OFFSET(' '!$AN$1600,$B1787,0)<>$B$1599),\"\",OFFSET(' '!$B$1600,$B1787,0)),\"\")","v":""},{"$nulls":5},{"$f":"IF(' '!$F$1622>(' '!$E$112*2000),IF(OR(OFFSET(' '!$C$1600,$B1787,0)=\"\",OFFSET(' '!$AN$1600,$B1787,0)<>$B$1599),\"\",OFFSET(' '!$C$1600,$B1787,0)),\"\")","v":""},{"$f":"IF(' '!$F$1622>(' '!$E$112*3580),IF(OR(OFFSET(' '!$D$1600,$B1787,0)=\"\",OFFSET(' '!$AN$1600,$B1787,0)<>$B$1599),\"\",OFFSET(' '!$D$1600,$B1787,0)),\"\")","v":""},{"$nulls":4},{"$f":"IF(' '!$F$1622>(' '!$E$112*3580),IF(OR(OFFSET(' '!$E$1600,$B1787,0)=\"\",OFFSET(' '!$AN$1600,$B1787,0)<>$B$1599),\"\",OFFSET(' '!$E$1600,$B1787,0)),\"\")","v":""},null,null,{"$f":"IF(' '!$F$1622>(' '!$E$112*2000),IF(OR(OFFSET(' '!$F$1600,$B1787,0)=\"\",OFFSET(' '!$AN$1600,$B1787,0)<>$B$1599),\"\",OFFSET(' '!$F$1600,$B1787,0)),\"\")","v":""},{"$nulls":22},"F160 H2",1,24,{"$f":"(AO1787=Parametros[Segmento])*(AP1787>0)*(AQ1787>0)","v":0}]
[null,30,{"$f":"IF(' '!$F$1622>(' '!$E$112*2000),IF(OR(OFFSET(' '!$B$1600,$B1788,0)=\"\",OFFSET(' '!$AN$1600,$B1788,0)<>$B$1599),\"\",OFFSET(' '!$B$1600,$B1788,0)),\"\")","v":""},{"$nulls":5},{"$f":"IF(' '!$F$1622>(' '!$E$112*2000),IF(OR(OFFSET(' '!$C$1600,$B1788,0)=\"\",OFFSET(' '!$AN$1600,$B1788,0)<>$B$1599),\"\",OFFSET(' '!$C$1600,$B1788,0)),\"\")","v":""},{"$f":"IF(' '!$F$1622>(' '!$E$112*3580),IF(OR(OFFSET(' '!$D$1600,$B1788,0)=\"\",OFFSET(' '!$AN$1600,$B1788,0)<>$B$1599),\"\",OFFSET(' '!$D$1600,$B1788,0)),\"\")","v":""},{"$nulls":4},{"$f":"IF(' '!$F$1622>(' '!$E$112*3580),IF(OR(OFFSET(' '!$E$1600,$B1788,0)=\"\",OFFSET(' '!$AN$1600,$B1788,0)<>$B$1599),\"\",OFFSET(' '!$E$1600,$B1788,0)),\"\")","v":""},null,null,{"$f":"IF(' '!$F$1622>(' '!$E$112*2000),IF(OR(OFFSET(' '!$F$1600,$B1788,0)=\"\",OFFSET(' '!$AN$1600,$B1788,0)<>$B$1599),\"\",OFFSET(' '!$F$1600,$B1788,0)),\"\")","v":""},{"$nulls":22},"F160 H2",1,24,{"$f":"(AO1788=Parametros[Segmento])*(AP1788>0)*(AQ1788>0)","v":0}]
[null,31,{"$f":"IF(' '!$F$1622>(' '!$E$112*2000),IF(OR(OFFSET(' '!$B$1600,$B1789,0)=\"\",OFFSET(' '!$AN$1600,$B1789,0)<>$B$1599),\"\",OFFSET(' '!$B$1600,$B1789,0)),\"\")","v":""},{"$nulls":5},{"$f":"IF(' '!$F$1622>(' '!$E$112*2000),IF(OR(OFFSET(' '!$C$1600,$B1789,0)=\"\",OFFSET(' '!$AN$1600,$B1789,0)<>$B$1599),\"\",OFFSET(' '!$C$1600,$B1789,0)),\"\")","v":""},{"$f":"IF(' '!$F$1622>(' '!$E$112*3580),IF(OR(OFFSET(' '!$D$1600,$B1789,0)=\"\",OFFSET(' '!$AN$1600,$B1789,0)<>$B$1599),\"\",OFFSET(' '!$D$1600,$B1789,0)),\"\")","v":""},{"$nulls":4},{"$f":"IF(' '!$F$1622>(' '!$E$112*3580),IF(OR(OFFSET(' '!$E$1600,$B1789,0)=\"\",OFFSET(' '!$AN$1600,$B1789,0)<>$B$1599),\"\",OFFSET(' '!$E$1600,$B1789,0)),\"\")","v":""},null,null,{"$f":"IF(' '!$F$1622>(' '!$E$112*2000),IF(OR(OFFSET(' '!$F$1600,$B1789,0)=\"\",OFFSET(' '!$AN$1600,$B1789,0)<>$B$1599),\"\",OFFSET(' '!$F$1600,$B1789,0)),\"\")","v":""},{"$nulls":22},"F160 H2",1,24,{"$f":"(AO1789=Parametros[Segmento])*(AP1789>0)*(AQ1789>0)","v":0}]
[null,32,{"$f":"IF(' '!$F$1622>(' '!$E$112*2000),IF(OR(OFFSET(' '!$B$1600,$B1790,0)=\"\",OFFSET(' '!$AN$1600,$B1790,0)<>$B$1599),\"\",OFFSET(' '!$B$1600,$B1790,0)),\"\")","v":""},{"$nulls":5},{"$f":"IF(' '!$F$1622>(' '!$E$112*2000),IF(OR(OFFSET(' '!$C$1600,$B1790,0)=\"\",OFFSET(' '!$AN$1600,$B1790,0)<>$B$1599),\"\",OFFSET(' '!$C$1600,$B1790,0)),\"\")","v":""},{"$f":"IF(' '!$F$1622>(' '!$E$112*3580),IF(OR(OFFSET(' '!$D$1600,$B1790,0)=\"\",OFFSET(' '!$AN$1600,$B1790,0)<>$B$1599),\"\",OFFSET(' '!$D$1600,$B1790,0)),\"\")","v":""},{"$nulls":4},{"$f":"IF(' '!$F$1622>(' '!$E$112*3580),IF(OR(OFFSET(' '!$E$1600,$B1790,0)=\"\",OFFSET(' '!$AN$1600,$B1790,0)<>$B$1599),\"\",OFFSET(' '!$E$1600,$B1790,0)),\"\")","v":""},null,null,{"$f":"IF(' '!$F$1622>(' '!$E$112*2000),IF(OR(OFFSET(' '!$F$1600,$B1790,0)=\"\",OFFSET(' '!$AN$1600,$B1790,0)<>$B$1599),\"\",OFFSET(' '!$F$1600,$B1790,0)),\"\")","v":""},{"$nulls":22},"F160 H2",1,24,{"$f":"(AO1790=Parametros[Segmento])*(AP1790>0)*(AQ1790>0)","v":0}]
[null,33,{"$f":"IF(' '!$F$1622>(' '!$E$112*2000),IF(OR(OFFSET(' '!$B$1600,$B1791,0)=\"\",OFFSET(' '!$AN$1600,$B1791,0)<>$B$1599),\"\",OFFSET(' '!$B$1600,$B1791,0)),\"\")","v":""},{"$nulls":5},{"$f":"IF(' '!$F$1622>(' '!$E$112*2000),IF(OR(OFFSET(' '!$C$1600,$B1791,0)=\"\",OFFSET(' '!$AN$1600,$B1791,0)<>$B$1599),\"\",OFFSET(' '!$C$1600,$B1791,0)),\"\")","v":""},{"$f":"IF(' '!$F$1622>(' '!$E$112*3580),IF(OR(OFFSET(' '!$D$1600,$B1791,0)=\"\",OFFSET(' '!$AN$1600,$B1791,0)<>$B$1599),\"\",OFFSET(' '!$D$1600,$B1791,0)),\"\")","v":""},{"$nulls":4},{"$f":"IF(' '!$F$1622>(' '!$E$112*3580),IF(OR(OFFSET(' '!$E$1600,$B1791,0)=\"\",OFFSET(' '!$AN$1600,$B1791,0)<>$B$1599),\"\",OFFSET(' '!$E$1600,$B1791,0)),\"\")","v":""},null,null,{"$f":"IF(' '!$F$1622>(' '!$E$112*2000),IF(OR(OFFSET(' '!$F$1600,$B1791,0)=\"\",OFFSET(' '!$AN$1600,$B1791,0)<>$B$1599),\"\",OFFSET(' '!$F$1600,$B1791,0)),\"\")","v":""},{"$nulls":22},"F160 H2",1,24,{"$f":"(AO1791=Parametros[Segmento])*(AP1791>0)*(AQ1791>0)","v":0}]
[null,34,{"$f":"IF(' '!$F$1622>(' '!$E$112*2000),IF(OR(OFFSET(' '!$B$1600,$B1792,0)=\"\",OFFSET(' '!$AN$1600,$B1792,0)<>$B$1599),\"\",OFFSET(' '!$B$1600,$B1792,0)),\"\")","v":""},{"$nulls":5},{"$f":"IF(' '!$F$1622>(' '!$E$112*2000),IF(OR(OFFSET(' '!$C$1600,$B1792,0)=\"\",OFFSET(' '!$AN$1600,$B1792,0)<>$B$1599),\"\",OFFSET(' '!$C$1600,$B1792,0)),\"\")","v":""},{"$f":"IF(' '!$F$1622>(' '!$E$112*3580),IF(OR(OFFSET(' '!$D$1600,$B1792,0)=\"\",OFFSET(' '!$AN$1600,$B1792,0)<>$B$1599),\"\",OFFSET(' '!$D$1600,$B1792,0)),\"\")","v":""},{"$nulls":4},{"$f":"IF(' '!$F$1622>(' '!$E$112*3580),IF(OR(OFFSET(' '!$E$1600,$B1792,0)=\"\",OFFSET(' '!$AN$1600,$B1792,0)<>$B$1599),\"\",OFFSET(' '!$E$1600,$B1792,0)),\"\")","v":""},null,null,{"$f":"IF(' '!$F$1622>(' '!$E$112*2000),IF(OR(OFFSET(' '!$F$1600,$B1792,0)=\"\",OFFSET(' '!$AN$1600,$B1792,0)<>$B$1599),\"\",OFFSET(' '!$F$1600,$B1792,0)),\"\")","v":""},{"$nulls":22},"F160 H2",1,24,{"$f":"(AO1792=Parametros[Segmento])*(AP1792>0)*(AQ1792>0)","v":0}]
[null,35,{"$f":"IF(' '!$F$1622>(' '!$E$112*2000),IF(OR(OFFSET(' '!$B$1600,$B1793,0)=\"\",OFFSET(' '!$AN$1600,$B1793,0)<>$B$1599),\"\",OFFSET(' '!$B$1600,$B1793,0)),\"\")","v":""},{"$nulls":5},{"$f":"IF(' '!$F$1622>(' '!$E$112*2000),IF(OR(OFFSET(' '!$C$1600,$B1793,0)=\"\",OFFSET(' '!$AN$1600,$B1793,0)<>$B$1599),\"\",OFFSET(' '!$C$1600,$B1793,0)),\"\")","v":""},{"$f":"IF(' '!$F$1622>(' '!$E$112*3580),IF(OR(OFFSET(' '!$D$1600,$B1793,0)=\"\",OFFSET(' '!$AN$1600,$B1793,0)<>$B$1599),\"\",OFFSET(' '!$D$1600,$B1793,0)),\"\")","v":""},{"$nulls":4},{"$f":"IF(' '!$F$1622>(' '!$E$112*3580),IF(OR(OFFSET(' '!$E$1600,$B1793,0)=\"\",OFFSET(' '!$AN$1600,$B1793,0)<>$B$1599),\"\",OFFSET(' '!$E$1600,$B1793,0)),\"\")","v":""},null,null,{"$f":"IF(' '!$F$1622>(' '!$E$112*2000),IF(OR(OFFSET(' '!$F$1600,$B1793,0)=\"\",OFFSET(' '!$AN$1600,$B1793,0)<>$B$1599),\"\",OFFSET(' '!$F$1600,$B1793,0)),\"\")","v":""},{"$nulls":22},"F160 H2",1,24,{"$f":"(AO1793=Parametros[Segmento])*(AP1793>0)*(AQ1793>0)","v":0}]
[null,36,{"$f":"IF(' '!$F$1622>(' '!$E$112*2000),IF(OR(OFFSET(' '!$B$1600,$B1794,0)=\"\",OFFSET(' '!$AN$1600,$B1794,0)<>$B$1599),\"\",OFFSET(' '!$B$1600,$B1794,0)),\"\")","v":""},{"$nulls":5},{"$f":"IF(' '!$F$1622>(' '!$E$112*2000),IF(OR(OFFSET(' '!$C$1600,$B1794,0)=\"\",OFFSET(' '!$AN$1600,$B1794,0)<>$B$1599),\"\",OFFSET(' '!$C$1600,$B1794,0)),\"\")","v":""},{"$f":"IF(' '!$F$1622>(' '!$E$112*3580),IF(OR(OFFSET(' '!$D$1600,$B1794,0)=\"\",OFFSET(' '!$AN$1600,$B1794,0)<>$B$1599),\"\",OFFSET(' '!$D$1600,$B1794,0)),\"\")","v":""},{"$nulls":4},{"$f":"IF(' '!$F$1622>(' '!$E$112*3580),IF(OR(OFFSET(' '!$E$1600,$B1794,0)=\"\",OFFSET(' '!$AN$1600,$B1794,0)<>$B$1599),\"\",OFFSET(' '!$E$1600,$B1794,0)),\"\")","v":""},null,null,{"$f":"IF(' '!$F$1622>(' '!$E$112*2000),IF(OR(OFFSET(' '!$F$1600,$B1794,0)=\"\",OFFSET(' '!$AN$1600,$B1794,0)<>$B$1599),\"\",OFFSET(' '!$F$1600,$B1794,0)),\"\")","v":""},{"$nulls":22},"F160 H2",1,24,{"$f":"(AO1794=Parametros[Segmento])*(AP1794>0)*(AQ1794>0)","v":0}]
[null,37,{"$f":"IF(' '!$F$1622>(' '!$E$112*2000),IF(OR(OFFSET(' '!$B$1600,$B1795,0)=\"\",OFFSET(' '!$AN$1600,$B1795,0)<>$B$1599),\"\",OFFSET(' '!$B$1600,$B1795,0)),\"\")","v":""},{"$nulls":5},{"$f":"IF(' '!$F$1622>(' '!$E$112*2000),IF(OR(OFFSET(' '!$C$1600,$B1795,0)=\"\",OFFSET(' '!$AN$1600,$B1795,0)<>$B$1599),\"\",OFFSET(' '!$C$1600,$B1795,0)),\"\")","v":""},{"$f":"IF(' '!$F$1622>(' '!$E$112*3580),IF(OR(OFFSET(' '!$D$1600,$B1795,0)=\"\",OFFSET(' '!$AN$1600,$B1795,0)<>$B$1599),\"\",OFFSET(' '!$D$1600,$B1795,0)),\"\")","v":""},{"$nulls":4},{"$f":"IF(' '!$F$1622>(' '!$E$112*3580),IF(OR(OFFSET(' '!$E$1600,$B1795,0)=\"\",OFFSET(' '!$AN$1600,$B1795,0)<>$B$1599),\"\",OFFSET(' '!$E$1600,$B1795,0)),\"\")","v":""},null,null,{"$f":"IF(' '!$F$1622>(' '!$E$112*2000),IF(OR(OFFSET(' '!$F$1600,$B1795,0)=\"\",OFFSET(' '!$AN$1600,$B1795,0)<>$B$1599),\"\",OFFSET(' '!$F$1600,$B1795,0)),\"\")","v":""},{"$nulls":22},"F160 H2",1,24,{"$f":"(AO1795=Parametros[Segmento])*(AP1795>0)*(AQ1795>0)","v":0}]
[null,38,{"$f":"IF(' '!$F$1622>(' '!$E$112*2000),IF(OR(OFFSET(' '!$B$1600,$B1796,0)=\"\",OFFSET(' '!$AN$1600,$B1796,0)<>$B$1599),\"\",OFFSET(' '!$B$1600,$B1796,0)),\"\")","v":""},{"$nulls":5},{"$f":"IF(' '!$F$1622>(' '!$E$112*2000),IF(OR(OFFSET(' '!$C$1600,$B1796,0)=\"\",OFFSET(' '!$AN$1600,$B1796,0)<>$B$1599),\"\",OFFSET(' '!$C$1600,$B1796,0)),\"\")","v":""},{"$f":"IF(' '!$F$1622>(' '!$E$112*3580),IF(OR(OFFSET(' '!$D$1600,$B1796,0)=\"\",OFFSET(' '!$AN$1600,$B1796,0)<>$B$1599),\"\",OFFSET(' '!$D$1600,$B1796,0)),\"\")","v":""},{"$nulls":4},{"$f":"IF(' '!$F$1622>(' '!$E$112*3580),IF(OR(OFFSET(' '!$E$1600,$B1796,0)=\"\",OFFSET(' '!$AN$1600,$B1796,0)<>$B$1599),\"\",OFFSET(' '!$E$1600,$B1796,0)),\"\")","v":""},null,null,{"$f":"IF(' '!$F$1622>(' '!$E$112*2000),IF(OR(OFFSET(' '!$F$1600,$B1796,0)=\"\",OFFSET(' '!$AN$1600,$B1796,0)<>$B$1599),\"\",OFFSET(' '!$F$1600,$B1796,0)),\"\")","v":""},{"$nulls":22},"F160 H2",1,24,{"$f":"(AO1796=Parametros[Segmento])*(AP1796>0)*(AQ1796>0)","v":0}]
[null,39,{"$f":"IF(' '!$F$1622>(' '!$E$112*2000),IF(OR(OFFSET(' '!$B$1600,$B1797,0)=\"\",OFFSET(' '!$AN$1600,$B1797,0)<>$B$1599),\"\",OFFSET(' '!$B$1600,$B1797,0)),\"\")","v":""},{"$nulls":5},{"$f":"IF(' '!$F$1622>(' '!$E$112*2000),IF(OR(OFFSET(' '!$C$1600,$B1797,0)=\"\",OFFSET(' '!$AN$1600,$B1797,0)<>$B$1599),\"\",OFFSET(' '!$C$1600,$B1797,0)),\"\")","v":""},{"$f":"IF(' '!$F$1622>(' '!$E$112*3580),IF(OR(OFFSET(' '!$D$1600,$B1797,0)=\"\",OFFSET(' '!$AN$1600,$B1797,0)<>$B$1599),\"\",OFFSET(' '!$D$1600,$B1797,0)),\"\")","v":""},{"$nulls":4},{"$f":"IF(' '!$F$1622>(' '!$E$112*3580),IF(OR(OFFSET(' '!$E$1600,$B1797,0)=\"\",OFFSET(' '!$AN$1600,$B1797,0)<>$B$1599),\"\",OFFSET(' '!$E$1600,$B1797,0)),\"\")","v":""},null,null,{"$f":"IF(' '!$F$1622>(' '!$E$112*2000),IF(OR(OFFSET(' '!$F$1600,$B1797,0)=\"\",OFFSET(' '!$AN$1600,$B1797,0)<>$B$1599),\"\",OFFSET(' '!$F$1600,$B1797,0)),\"\")","v":""},{"$nulls":22},"F160 H2",1,24,{"$f":"(AO1797=Parametros[Segmento])*(AP1797>0)*(AQ1797>0)","v":0}]
[null,40,{"$f":"IF(' '!$F$1622>(' '!$E$112*2000),IF(OR(OFFSET(' '!$B$1600,$B1798,0)=\"\",OFFSET(' '!$AN$1600,$B1798,0)<>$B$1599),\"\",OFFSET(' '!$B$1600,$B1798,0)),\"\")","v":""},{"$nulls":5},{"$f":"IF(' '!$F$1622>(' '!$E$112*2000),IF(OR(OFFSET(' '!$C$1600,$B1798,0)=\"\",OFFSET(' '!$AN$1600,$B1798,0)<>$B$1599),\"\",OFFSET(' '!$C$1600,$B1798,0)),\"\")","v":""},{"$f":"IF(' '!$F$1622>(' '!$E$112*3580),IF(OR(OFFSET(' '!$D$1600,$B1798,0)=\"\",OFFSET(' '!$AN$1600,$B1798,0)<>$B$1599),\"\",OFFSET(' '!$D$1600,$B1798,0)),\"\")","v":""},{"$nulls":4},{"$f":"IF(' '!$F$1622>(' '!$E$112*3580),IF(OR(OFFSET(' '!$E$1600,$B1798,0)=\"\",OFFSET(' '!$AN$1600,$B1798,0)<>$B$1599),\"\",OFFSET(' '!$E$1600,$B1798,0)),\"\")","v":""},null,null,{"$f":"IF(' '!$F$1622>(' '!$E$112*2000),IF(OR(OFFSET(' '!$F$1600,$B1798,0)=\"\",OFFSET(' '!$AN$1600,$B1798,0)<>$B$1599),\"\",OFFSET(' '!$F$1600,$B1798,0)),\"\")","v":""},{"$nulls":22},"F160 H2",1,24,{"$f":"(AO1798=Parametros[Segmento])*(AP1798>0)*(AQ1798>0)","v":0}]
[null,41,{"$f":"IF(' '!$F$1622>(' '!$E$112*2000),IF(OR(OFFSET(' '!$B$1600,$B1799,0)=\"\",OFFSET(' '!$AN$1600,$B1799,0)<>$B$1599),\"\",OFFSET(' '!$B$1600,$B1799,0)),\"\")","v":""},{"$nulls":5},{"$f":"IF(' '!$F$1622>(' '!$E$112*2000),IF(OR(OFFSET(' '!$C$1600,$B1799,0)=\"\",OFFSET(' '!$AN$1600,$B1799,0)<>$B$1599),\"\",OFFSET(' '!$C$1600,$B1799,0)),\"\")","v":""},{"$f":"IF(' '!$F$1622>(' '!$E$112*3580),IF(OR(OFFSET(' '!$D$1600,$B1799,0)=\"\",OFFSET(' '!$AN$1600,$B1799,0)<>$B$1599),\"\",OFFSET(' '!$D$1600,$B1799,0)),\"\")","v":""},{"$nulls":4},{"$f":"IF(' '!$F$1622>(' '!$E$112*3580),IF(OR(OFFSET(' '!$E$1600,$B1799,0)=\"\",OFFSET(' '!$AN$1600,$B1799,0)<>$B$1599),\"\",OFFSET(' '!$E$1600,$B1799,0)),\"\")","v":""},null,null,{"$f":"IF(' '!$F$1622>(' '!$E$112*2000),IF(OR(OFFSET(' '!$F$1600,$B1799,0)=\"\",OFFSET(' '!$AN$1600,$B1799,0)<>$B$1599),\"\",OFFSET(' '!$F$1600,$B1799,0)),\"\")","v":""},{"$nulls":22},"F160 H2",1,24,{"$f":"(AO1799=Parametros[Segmento])*(AP1799>0)*(AQ1799>0)","v":0}]
[null,42,{"$f":"IF(' '!$F$1622>(' '!$E$112*2000),IF(OR(OFFSET(' '!$B$1600,$B1800,0)=\"\",OFFSET(' '!$AN$1600,$B1800,0)<>$B$1599),\"\",OFFSET(' '!$B$1600,$B1800,0)),\"\")","v":""},{"$nulls":5},{"$f":"IF(' '!$F$1622>(' '!$E$112*2000),IF(OR(OFFSET(' '!$C$1600,$B1800,0)=\"\",OFFSET(' '!$AN$1600,$B1800,0)<>$B$1599),\"\",OFFSET(' '!$C$1600,$B1800,0)),\"\")","v":""},{"$f":"IF(' '!$F$1622>(' '!$E$112*3580),IF(OR(OFFSET(' '!$D$1600,$B1800,0)=\"\",OFFSET(' '!$AN$1600,$B1800,0)<>$B$1599),\"\",OFFSET(' '!$D$1600,$B1800,0)),\"\")","v":""},{"$nulls":4},{"$f":"IF(' '!$F$1622>(' '!$E$112*3580),IF(OR(OFFSET(' '!$E$1600,$B1800,0)=\"\",OFFSET(' '!$AN$1600,$B1800,0)<>$B$1599),\"\",OFFSET(' '!$E$1600,$B1800,0)),\"\")","v":""},null,null,{"$f":"IF(' '!$F$1622>(' '!$E$112*2000),IF(OR(OFFSET(' '!$F$1600,$B1800,0)=\"\",OFFSET(' '!$AN$1600,$B1800,0)<>$B$1599),\"\",OFFSET(' '!$F$1600,$B1800,0)),\"\")","v":""},{"$nulls":22},"F160 H2",1,24,{"$f":"(AO1800=Parametros[Segmento])*(AP1800>0)*(AQ1800>0)","v":0}]
[null,43,{"$f":"IF(' '!$F$1622>(' '!$E$112*2000),IF(OR(OFFSET(' '!$B$1600,$B1801,0)=\"\",OFFSET(' '!$AN$1600,$B1801,0)<>$B$1599),\"\",OFFSET(' '!$B$1600,$B1801,0)),\"\")","v":""},{"$nulls":5},{"$f":"IF(' '!$F$1622>(' '!$E$112*2000),IF(OR(OFFSET(' '!$C$1600,$B1801,0)=\"\",OFFSET(' '!$AN$1600,$B1801,0)<>$B$1599),\"\",OFFSET(' '!$C$1600,$B1801,0)),\"\")","v":""},{"$f":"IF(' '!$F$1622>(' '!$E$112*3580),IF(OR(OFFSET(' '!$D$1600,$B1801,0)=\"\",OFFSET(' '!$AN$1600,$B1801,0)<>$B$1599),\"\",OFFSET(' '!$D$1600,$B1801,0)),\"\")","v":""},{"$nulls":4},{"$f":"IF(' '!$F$1622>(' '!$E$112*3580),IF(OR(OFFSET(' '!$E$1600,$B1801,0)=\"\",OFFSET(' '!$AN$1600,$B1801,0)<>$B$1599),\"\",OFFSET(' '!$E$1600,$B1801,0)),\"\")","v":""},null,null,{"$f":"IF(' '!$F$1622>(' '!$E$112*2000),IF(OR(OFFSET(' '!$F$1600,$B1801,0)=\"\",OFFSET(' '!$AN$1600,$B1801,0)<>$B$1599),\"\",OFFSET(' '!$F$1600,$B1801,0)),\"\")","v":""},{"$nulls":22},"F160 H2",1,24,{"$f":"(AO1801=Parametros[Segmento])*(AP1801>0)*(AQ1801>0)","v":0}]
[null,44,{"$f":"IF(' '!$F$1622>(' '!$E$112*2000),IF(OR(OFFSET(' '!$B$1600,$B1802,0)=\"\",OFFSET(' '!$AN$1600,$B1802,0)<>$B$1599),\"\",OFFSET(' '!$B$1600,$B1802,0)),\"\")","v":""},{"$nulls":5},{"$f":"IF(' '!$F$1622>(' '!$E$112*2000),IF(OR(OFFSET(' '!$C$1600,$B1802,0)=\"\",OFFSET(' '!$AN$1600,$B1802,0)<>$B$1599),\"\",OFFSET(' '!$C$1600,$B1802,0)),\"\")","v":""},{"$f":"IF(' '!$F$1622>(' '!$E$112*3580),IF(OR(OFFSET(' '!$D$1600,$B1802,0)=\"\",OFFSET(' '!$AN$1600,$B1802,0)<>$B$1599),\"\",OFFSET(' '!$D$1600,$B1802,0)),\"\")","v":""},{"$nulls":4},{"$f":"IF(' '!$F$1622>(' '!$E$112*3580),IF(OR(OFFSET(' '!$E$1600,$B1802,0)=\"\",OFFSET(' '!$AN$1600,$B1802,0)<>$B$1599),\"\",OFFSET(' '!$E$1600,$B1802,0)),\"\")","v":""},null,null,{"$f":"IF(' '!$F$1622>(' '!$E$112*2000),IF(OR(OFFSET(' '!$F$1600,$B1802,0)=\"\",OFFSET(' '!$AN$1600,$B1802,0)<>$B$1599),\"\",OFFSET(' '!$F$1600,$B1802,0)),\"\")","v":""},{"$nulls":22},"F160 H2",1,24,{"$f":"(AO1802=Parametros[Segmento])*(AP1802>0)*(AQ1802>0)","v":0}]
[null,45,{"$f":"IF(' '!$F$1622>(' '!$E$112*2000),IF(OR(OFFSET(' '!$B$1600,$B1803,0)=\"\",OFFSET(' '!$AN$1600,$B1803,0)<>$B$1599),\"\",OFFSET(' '!$B$1600,$B1803,0)),\"\")","v":""},{"$nulls":5},{"$f":"IF(' '!$F$1622>(' '!$E$112*2000),IF(OR(OFFSET(' '!$C$1600,$B1803,0)=\"\",OFFSET(' '!$AN$1600,$B1803,0)<>$B$1599),\"\",OFFSET(' '!$C$1600,$B1803,0)),\"\")","v":""},{"$f":"IF(' '!$F$1622>(' '!$E$112*3580),IF(OR(OFFSET(' '!$D$1600,$B1803,0)=\"\",OFFSET(' '!$AN$1600,$B1803,0)<>$B$1599),\"\",OFFSET(' '!$D$1600,$B1803,0)),\"\")","v":""},{"$nulls":4},{"$f":"IF(' '!$F$1622>(' '!$E$112*3580),IF(OR(OFFSET(' '!$E$1600,$B1803,0)=\"\",OFFSET(' '!$AN$1600,$B1803,0)<>$B$1599),\"\",OFFSET(' '!$E$1600,$B1803,0)),\"\")","v":""},null,null,{"$f":"IF(' '!$F$1622>(' '!$E$112*2000),IF(OR(OFFSET(' '!$F$1600,$B1803,0)=\"\",OFFSET(' '!$AN$1600,$B1803,0)<>$B$1599),\"\",OFFSET(' '!$F$1600,$B1803,0)),\"\")","v":""},{"$nulls":22},"F160 H2",1,24,{"$f":"(AO1803=Parametros[Segmento])*(AP1803>0)*(AQ1803>0)","v":0}]
[null,46,{"$f":"IF(' '!$F$1622>(' '!$E$112*2000),IF(OR(OFFSET(' '!$B$1600,$B1804,0)=\"\",OFFSET(' '!$AN$1600,$B1804,0)<>$B$1599),\"\",OFFSET(' '!$B$1600,$B1804,0)),\"\")","v":""},{"$nulls":5},{"$f":"IF(' '!$F$1622>(' '!$E$112*2000),IF(OR(OFFSET(' '!$C$1600,$B1804,0)=\"\",OFFSET(' '!$AN$1600,$B1804,0)<>$B$1599),\"\",OFFSET(' '!$C$1600,$B1804,0)),\"\")","v":""},{"$f":"IF(' '!$F$1622>(' '!$E$112*3580),IF(OR(OFFSET(' '!$D$1600,$B1804,0)=\"\",OFFSET(' '!$AN$1600,$B1804,0)<>$B$1599),\"\",OFFSET(' '!$D$1600,$B1804,0)),\"\")","v":""},{"$nulls":4},{"$f":"IF(' '!$F$1622>(' '!$E$112*3580),IF(OR(OFFSET(' '!$E$1600,$B1804,0)=\"\",OFFSET(' '!$AN$1600,$B1804,0)<>$B$1599),\"\",OFFSET(' '!$E$1600,$B1804,0)),\"\")","v":""},null,null,{"$f":"IF(' '!$F$1622>(' '!$E$112*2000),IF(OR(OFFSET(' '!$F$1600,$B1804,0)=\"\",OFFSET(' '!$AN$1600,$B1804,0)<>$B$1599),\"\",OFFSET(' '!$F$1600,$B1804,0)),\"\")","v":""},{"$nulls":22},"F160 H2",1,24,{"$f":"(AO1804=Parametros[Segmento])*(AP1804>0)*(AQ1804>0)","v":0}]
[null,47,{"$f":"IF(' '!$F$1622>(' '!$E$112*2000),IF(OR(OFFSET(' '!$B$1600,$B1805,0)=\"\",OFFSET(' '!$AN$1600,$B1805,0)<>$B$1599),\"\",OFFSET(' '!$B$1600,$B1805,0)),\"\")","v":""},{"$nulls":5},{"$f":"IF(' '!$F$1622>(' '!$E$112*2000),IF(OR(OFFSET(' '!$C$1600,$B1805,0)=\"\",OFFSET(' '!$AN$1600,$B1805,0)<>$B$1599),\"\",OFFSET(' '!$C$1600,$B1805,0)),\"\")","v":""},{"$f":"IF(' '!$F$1622>(' '!$E$112*3580),IF(OR(OFFSET(' '!$D$1600,$B1805,0)=\"\",OFFSET(' '!$AN$1600,$B1805,0)<>$B$1599),\"\",OFFSET(' '!$D$1600,$B1805,0)),\"\")","v":""},{"$nulls":4},{"$f":"IF(' '!$F$1622>(' '!$E$112*3580),IF(OR(OFFSET(' '!$E$1600,$B1805,0)=\"\",OFFSET(' '!$AN$1600,$B1805,0)<>$B$1599),\"\",OFFSET(' '!$E$1600,$B1805,0)),\"\")","v":""},null,null,{"$f":"IF(' '!$F$1622>(' '!$E$112*2000),IF(OR(OFFSET(' '!$F$1600,$B1805,0)=\"\",OFFSET(' '!$AN$1600,$B1805,0)<>$B$1599),\"\",OFFSET(' '!$F$1600,$B1805,0)),\"\")","v":""},{"$nulls":22},"F160 H2",1,24,{"$f":"(AO1805=Parametros[Segmento])*(AP1805>0)*(AQ1805>0)","v":0}]
[null,48,{"$f":"IF(' '!$F$1622>(' '!$E$112*2000),IF(OR(OFFSET(' '!$B$1600,$B1806,0)=\"\",OFFSET(' '!$AN$1600,$B1806,0)<>$B$1599),\"\",OFFSET(' '!$B$1600,$B1806,0)),\"\")","v":""},{"$nulls":5},{"$f":"IF(' '!$F$1622>(' '!$E$112*2000),IF(OR(OFFSET(' '!$C$1600,$B1806,0)=\"\",OFFSET(' '!$AN$1600,$B1806,0)<>$B$1599),\"\",OFFSET(' '!$C$1600,$B1806,0)),\"\")","v":""},{"$f":"IF(' '!$F$1622>(' '!$E$112*3580),IF(OR(OFFSET(' '!$D$1600,$B1806,0)=\"\",OFFSET(' '!$AN$1600,$B1806,0)<>$B$1599),\"\",OFFSET(' '!$D$1600,$B1806,0)),\"\")","v":""},{"$nulls":4},{"$f":"IF(' '!$F$1622>(' '!$E$112*3580),IF(OR(OFFSET(' '!$E$1600,$B1806,0)=\"\",OFFSET(' '!$AN$1600,$B1806,0)<>$B$1599),\"\",OFFSET(' '!$E$1600,$B1806,0)),\"\")","v":""},null,null,{"$f":"IF(' '!$F$1622>(' '!$E$112*2000),IF(OR(OFFSET(' '!$F$1600,$B1806,0)=\"\",OFFSET(' '!$AN$1600,$B1806,0)<>$B$1599),\"\",OFFSET(' '!$F$1600,$B1806,0)),\"\")","v":""},{"$nulls":22},"F160 H2",1,24,{"$f":"(AO1806=Parametros[Segmento])*(AP1806>0)*(AQ1806>0)","v":0}]
[null,49,{"$f":"IF(' '!$F$1622>(' '!$E$112*2000),IF(OR(OFFSET(' '!$B$1600,$B1807,0)=\"\",OFFSET(' '!$AN$1600,$B1807,0)<>$B$1599),\"\",OFFSET(' '!$B$1600,$B1807,0)),\"\")","v":""},{"$nulls":5},{"$f":"IF(' '!$F$1622>(' '!$E$112*2000),IF(OR(OFFSET(' '!$C$1600,$B1807,0)=\"\",OFFSET(' '!$AN$1600,$B1807,0)<>$B$1599),\"\",OFFSET(' '!$C$1600,$B1807,0)),\"\")","v":""},{"$f":"IF(' '!$F$1622>(' '!$E$112*3580),IF(OR(OFFSET(' '!$D$1600,$B1807,0)=\"\",OFFSET(' '!$AN$1600,$B1807,0)<>$B$1599),\"\",OFFSET(' '!$D$1600,$B1807,0)),\"\")","v":""},{"$nulls":4},{"$f":"IF(' '!$F$1622>(' '!$E$112*3580),IF(OR(OFFSET(' '!$E$1600,$B1807,0)=\"\",OFFSET(' '!$AN$1600,$B1807,0)<>$B$1599),\"\",OFFSET(' '!$E$1600,$B1807,0)),\"\")","v":""},null,null,{"$f":"IF(' '!$F$1622>(' '!$E$112*2000),IF(OR(OFFSET(' '!$F$1600,$B1807,0)=\"\",OFFSET(' '!$AN$1600,$B1807,0)<>$B$1599),\"\",OFFSET(' '!$F$1600,$B1807,0)),\"\")","v":""},{"$nulls":22},"F160 H2",1,24,{"$f":"(AO1807=Parametros[Segmento])*(AP1807>0)*(AQ1807>0)","v":0}]
[{"$nulls":40},"F160 H2",1,24,{"$f":"(AO1808=Parametros[Segmento])*(AP1808>0)*(AQ1808>0)","v":0}]
[2,11,2.57,9,2.57,9,2.57,9,2.57,9,2.57,9,2.57,9,2.57,9,6.71,20,45,5,0,0,0,{"$nulls":17},"Vencimientos",0,15,{"$f":"(AO1809=Parametros[Segmento])*(AP1809>0)*(AQ1809>0)","v":0}]
[{"$nulls":17},"Fil_Ven",1,{"$nulls":21},"Vencimientos",0,0,{"$f":"(AO1810=Parametros[Segmento])*(AP1810>0)*(AQ1810>0)","v":0}]
[{"$nulls":40},"Vencimientos",1,20,{"$f":"(AO1811=Parametros[Segmento])*(AP1811>0)*(AQ1811>0)","v":0}]
[null,"Mes","Lunes",null,"Martes",null,"Miércoles",null,"Jueves",null,"Viernes",null,"Sábado",null,"Domingo",null,null,"NIT","Nombre",{"$nulls":21},"Vencimientos",1,20,{"$f":"(AO1812=Parametros[Segmento])*(AP1812>0)*(AQ1812>0)","v":0}]
[null,"Ago. 2023",null,"","2023-08-01","","2023-08-02","","2023-08-03","","2023-08-04","","2023-08-05","","2023-08-06","",null,{"v":1098655744,"d":"1,098,655,744"},"Alexander Duque",{"$nulls":21},"Vencimientos",1,20,{"$f":"(AO1813=Parametros[Segmento])*(AP1813>0)*(AQ1813>0)","v":0}]
[{"$nulls":40},"Vencimientos",1,20,{"$f":"(AO1814=Parametros[Segmento])*(AP1814>0)*(AQ1814>0)","v":0}]
[null,null,"2023-08-07","","2023-08-08","","2023-08-09","01-02","2023-08-10","03-04","2023-08-11","05-06","2023-08-12",null,"2023-08-13","",{"$nulls":24},"Vencimientos",1,20,{"$f":"(AO1815=Parametros[Segmento])*(AP1815>0)*(AQ1815>0)","v":0}]
[null,null,{"$f":"IF(COUNTIF(Contribuyentes[Vencimiento],C1815)=0,\"\",COUNTIF(Contribuyentes[Vencimiento],C1815))","v":""},null,{"$f":"IF(COUNTIF(Contribuyentes[Vencimiento],E1815)=0,\"\",COUNTIF(Contribuyentes[Vencimiento],E1815))","v":""},null,{"$f":"IF(COUNTIF(Contribuyentes[Vencimiento],G1815)=0,\"\",COUNTIF(Contribuyentes[Vencimiento],G1815))","v":""},null,{"$f":"IF(COUNTIF(Contribuyentes[Vencimiento],I1815)=0,\"\",COUNTIF(Contribuyentes[Vencimiento],I1815))","v":""},null,{"$f":"IF(COUNTIF(Contribuyentes[Vencimiento],K1815)=0,\"\",COUNTIF(Contribuyentes[Vencimiento],K1815))","v":""},null," ",null," ",{"$nulls":25},"Vencimientos",1,20,{"$f":"(AO1816=Parametros[Segmento])*(AP1816>0)*(AQ1816>0)","v":0}]
[{"$nulls":40},"Vencimientos",1,20,{"$f":"(AO1817=Parametros[Segmento])*(AP1817>0)*(AQ1817>0)","v":0}]
[null,null,"2023-08-14","07-08","2023-08-15","09-10","2023-08-16","11-12","2023-08-17","13-14","2023-08-18","15-16","2023-08-19",null,"2023-08-20","",{"$nulls":24},"Vencimientos",1,20,{"$f":"(AO1818=Parametros[Segmento])*(AP1818>0)*(AQ1818>0)","v":0}]
[null,null,"",null,{"$f":"IF(COUNTIF(Contribuyentes[Vencimiento],E1818)=0,\"\",COUNTIF(Contribuyentes[Vencimiento],E1818))","v":""},null,{"$f":"IF(COUNTIF(Contribuyentes[Vencimiento],G1818)=0,\"\",COUNTIF(Contribuyentes[Vencimiento],G1818))","v":""},null,{"$f":"IF(COUNTIF(Contribuyentes[Vencimiento],I1818)=0,\"\",COUNTIF(Contribuyentes[Vencimiento],I1818))","v":""},null,{"$f":"IF(COUNTIF(Contribuyentes[Vencimiento],K1818)=0,\"\",COUNTIF(Contribuyentes[Vencimiento],K1818))","v":""},null," ",null," ",{"$nulls":25},"Vencimientos",1,20,{"$f":"(AO1819=Parametros[Segmento])*(AP1819>0)*(AQ1819>0)","v":0}]
[{"$nulls":40},"Vencimientos",1,20,{"$f":"(AO1820=Parametros[Segmento])*(AP1820>0)*(AQ1820>0)","v":0}]
[null,null,"2023-08-21",null,"2023-08-22","17-18","2023-08-23","19-20","2023-08-24","21-22","2023-08-25","23-24","2023-08-26",null,"2023-08-27","",{"$nulls":24},"Vencimientos",1,20,{"$f":"(AO1821=Parametros[Segmento])*(AP1821>0)*(AQ1821>0)","v":0}]
[null,null,{"$f":"IF(COUNTIF(Contribuyentes[Vencimiento],C1821)=0,\"\",COUNTIF(Contribuyentes[Vencimiento],C1821))","v":""},null,{"$f":"IF(COUNTIF(Contribuyentes[Vencimiento],E1821)=0,\"\",COUNTIF(Contribuyentes[Vencimiento],E1821))","v":""},null,{"$f":"IF(COUNTIF(Contribuyentes[Vencimiento],G1821)=0,\"\",COUNTIF(Contribuyentes[Vencimiento],G1821))","v":""},null,{"$f":"IF(COUNTIF(Contribuyentes[Vencimiento],I1821)=0,\"\",COUNTIF(Contribuyentes[Vencimiento],I1821))","v":""},null,{"$f":"IF(COUNTIF(Contribuyentes[Vencimiento],K1821)=0,\"\",COUNTIF(Contribuyentes[Vencimiento],K1821))","v":""},null," ",null," ",{"$nulls":25},"Vencimientos",1,20,{"$f":"(AO1822=Parametros[Segmento])*(AP1822>0)*(AQ1822>0)","v":0}]
[{"$nulls":40},"Vencimientos",1,20,{"$f":"(AO1823=Parametros[Segmento])*(AP1823>0)*(AQ1823>0)","v":0}]
[null,null,"2023-08-28","25-26","2023-08-29","27-28","2023-08-30","29-30","2023-08-31","31-32","2023-09-01","33-34","2023-09-02",null,"2023-09-03","",{"$nulls":24},"Vencimientos",1,20,{"$f":"(AO1824=Parametros[Segmento])*(AP1824>0)*(AQ1824>0)","v":0}]
[null,null,{"$f":"IF(COUNTIF(Contribuyentes[Vencimiento],C1824)=0,\"\",COUNTIF(Contribuyentes[Vencimiento],C1824))","v":""},null,{"$f":"IF(COUNTIF(Contribuyentes[Vencimiento],E1824)=0,\"\",COUNTIF(Contribuyentes[Vencimiento],E1824))","v":""},null,{"$f":"IF(COUNTIF(Contribuyentes[Vencimiento],G1824)=0,\"\",COUNTIF(Contribuyentes[Vencimiento],G1824))","v":""},null,{"$f":"IF(COUNTIF(Contribuyentes[Vencimiento],I1824)=0,\"\",COUNTIF(Contribuyentes[Vencimiento],I1824))","v":""},null,{"$f":"IF(COUNTIF(Contribuyentes[Vencimiento],K1824)=0,\"\",COUNTIF(Contribuyentes[Vencimiento],K1824))","v":""},null," ",null," ",{"$nulls":25},"Vencimientos",1,20,{"$f":"(AO1825=Parametros[Segmento])*(AP1825>0)*(AQ1825>0)","v":0}]
[{"$nulls":40},"Vencimientos",1,20,{"$f":"(AO1826=Parametros[Segmento])*(AP1826>0)*(AQ1826>0)","v":0}]
[null,"Sep. 2023","2023-09-04","35-36","2023-09-05","37-38","2023-09-06","39-40","2023-09-07","41-42","2023-09-08","43-44","2023-09-09",null,"2023-09-10","",{"$nulls":24},"Vencimientos",1,20,{"$f":"(AO1827=Parametros[Segmento])*(AP1827>0)*(AQ1827>0)","v":0}]
[null,null,{"$f":"IF(COUNTIF(Contribuyentes[Vencimiento],C1827)=0,\"\",COUNTIF(Contribuyentes[Vencimiento],C1827))","v":""},null,{"$f":"IF(COUNTIF(Contribuyentes[Vencimiento],E1827)=0,\"\",COUNTIF(Contribuyentes[Vencimiento],E1827))","v":""},null,{"$f":"IF(COUNTIF(Contribuyentes[Vencimiento],G1827)=0,\"\",COUNTIF(Contribuyentes[Vencimiento],G1827))","v":""},null,{"$f":"IF(COUNTIF(Contribuyentes[Vencimiento],I1827)=0,\"\",COUNTIF(Contribuyentes[Vencimiento],I1827))","v":""},null,{"$f":"IF(COUNTIF(Contribuyentes[Vencimiento],K1827)=0,\"\",COUNTIF(Contribuyentes[Vencimiento],K1827))","v":""},null," ",null," ",{"$nulls":25},"Vencimientos",1,20,{"$f":"(AO1828=Parametros[Segmento])*(AP1828>0)*(AQ1828>0)","v":0}]
[{"$nulls":40},"Vencimientos",1,20,{"$f":"(AO1829=Parametros[Segmento])*(AP1829>0)*(AQ1829>0)","v":0}]
[null,null,"2023-09-11","45-46","2023-09-12","47-48","2023-09-13","49-50","2023-09-14","51-52","2023-09-15","53-54","2023-09-16",null,"2023-09-17","",{"$nulls":24},"Vencimientos",1,20,{"$f":"(AO1830=Parametros[Segmento])*(AP1830>0)*(AQ1830>0)","v":0}]
[null,null,{"$f":"IF(COUNTIF(Contribuyentes[Vencimiento],C1830)=0,\"\",COUNTIF(Contribuyentes[Vencimiento],C1830))","v":""},null,{"$f":"IF(COUNTIF(Contribuyentes[Vencimiento],E1830)=0,\"\",COUNTIF(Contribuyentes[Vencimiento],E1830))","v":""},null,{"$f":"IF(COUNTIF(Contribuyentes[Vencimiento],G1830)=0,\"\",COUNTIF(Contribuyentes[Vencimiento],G1830))","v":""},null,{"$f":"IF(COUNTIF(Contribuyentes[Vencimiento],I1830)=0,\"\",COUNTIF(Contribuyentes[Vencimiento],I1830))","v":""},null,{"$f":"IF(COUNTIF(Contribuyentes[Vencimiento],K1830)=0,\"\",COUNTIF(Contribuyentes[Vencimiento],K1830))","v":""},null," ",null," ",{"$nulls":25},"Vencimientos",1,20,{"$f":"(AO1831=Parametros[Segmento])*(AP1831>0)*(AQ1831>0)","v":0}]
[{"$nulls":40},"Vencimientos",1,20,{"$f":"(AO1832=Parametros[Segmento])*(AP1832>0)*(AQ1832>0)","v":0}]
[null,null,"2023-09-18","55-56","2023-09-19","57-58","2023-09-20","59-60","2023-09-21","61-62","2023-09-22","63-64","2023-09-23",null,"2023-09-24","",{"$nulls":24},"Vencimientos",1,20,{"$f":"(AO1833=Parametros[Segmento])*(AP1833>0)*(AQ1833>0)","v":0}]
[null,null,{"$f":"IF(COUNTIF(Contribuyentes[Vencimiento],C1833)=0,\"\",COUNTIF(Contribuyentes[Vencimiento],C1833))","v":""},null,{"$f":"IF(COUNTIF(Contribuyentes[Vencimiento],E1833)=0,\"\",COUNTIF(Contribuyentes[Vencimiento],E1833))","v":""},null,{"$f":"IF(COUNTIF(Contribuyentes[Vencimiento],G1833)=0,\"\",COUNTIF(Contribuyentes[Vencimiento],G1833))","v":""},null,{"$f":"IF(COUNTIF(Contribuyentes[Vencimiento],I1833)=0,\"\",COUNTIF(Contribuyentes[Vencimiento],I1833))","v":""},null,{"$f":"IF(COUNTIF(Contribuyentes[Vencimiento],K1833)=0,\"\",COUNTIF(Contribuyentes[Vencimiento],K1833))","v":""},null," ",null," ",{"$nulls":25},"Vencimientos",1,20,{"$f":"(AO1834=Parametros[Segmento])*(AP1834>0)*(AQ1834>0)","v":0}]
[{"$nulls":40},"Vencimientos",1,20,{"$f":"(AO1835=Parametros[Segmento])*(AP1835>0)*(AQ1835>0)","v":0}]
[null,null,"2023-09-25","65-66","2023-09-26","67-68","2023-09-27","69-70","2023-09-28","71-72","2023-09-29","73-74","2023-09-30",null,"2023-10-01","",{"$nulls":24},"Vencimientos",1,20,{"$f":"(AO1836=Parametros[Segmento])*(AP1836>0)*(AQ1836>0)","v":0}]
[null,null,{"$f":"IF(COUNTIF(Contribuyentes[Vencimiento],C1836)=0,\"\",COUNTIF(Contribuyentes[Vencimiento],C1836))","v":""},null,{"$f":"IF(COUNTIF(Contribuyentes[Vencimiento],E1836)=0,\"\",COUNTIF(Contribuyentes[Vencimiento],E1836))","v":""},null,{"$f":"IF(COUNTIF(Contribuyentes[Vencimiento],G1836)=0,\"\",COUNTIF(Contribuyentes[Vencimiento],G1836))","v":""},null,{"$f":"IF(COUNTIF(Contribuyentes[Vencimiento],I1836)=0,\"\",COUNTIF(Contribuyentes[Vencimiento],I1836))","v":""},null,{"$f":"IF(COUNTIF(Contribuyentes[Vencimiento],K1836)=0,\"\",COUNTIF(Contribuyentes[Vencimiento],K1836))","v":""},null," ",null," ",{"$nulls":25},"Vencimientos",1,20,{"$f":"(AO1837=Parametros[Segmento])*(AP1837>0)*(AQ1837>0)","v":0}]
[{"$nulls":40},"Vencimientos",1,20,{"$f":"(AO1838=Parametros[Segmento])*(AP1838>0)*(AQ1838>0)","v":0}]
[null,"Oct. 2023","2023-10-02","75-76","2023-10-03","77-78","2023-10-04","79-80","2023-10-05","81-82","2023-10-06","83-84","2023-10-07",null,"2023-10-08","",{"$nulls":24},"Vencimientos",1,20,{"$f":"(AO1839=Parametros[Segmento])*(AP1839>0)*(AQ1839>0)","v":0}]
[null,null,{"$f":"IF(COUNTIF(Contribuyentes[Vencimiento],C1839)=0,\"\",COUNTIF(Contribuyentes[Vencimiento],C1839))","v":""},null,{"$f":"IF(COUNTIF(Contribuyentes[Vencimiento],E1839)=0,\"\",COUNTIF(Contribuyentes[Vencimiento],E1839))","v":""},null,{"$f":"IF(COUNTIF(Contribuyentes[Vencimiento],G1839)=0,\"\",COUNTIF(Contribuyentes[Vencimiento],G1839))","v":""},null,{"$f":"IF(COUNTIF(Contribuyentes[Vencimiento],I1839)=0,\"\",COUNTIF(Contribuyentes[Vencimiento],I1839))","v":""},null,{"$f":"IF(COUNTIF(Contribuyentes[Vencimiento],K1839)=0,\"\",COUNTIF(Contribuyentes[Vencimiento],K1839))","v":""},null," ",null," ",{"$nulls":25},"Vencimientos",1,20,{"$f":"(AO1840=Parametros[Segmento])*(AP1840>0)*(AQ1840>0)","v":0}]
[{"$nulls":40},"Vencimientos",1,20,{"$f":"(AO1841=Parametros[Segmento])*(AP1841>0)*(AQ1841>0)","v":0}]
[null,null,"2023-10-09","85-86","2023-10-10","87-88","2023-10-11","89-90","2023-10-12","91-92","2023-10-13","93-94","2023-10-14",null,"2023-10-15","",{"$nulls":24},"Vencimientos",1,20,{"$f":"(AO1842=Parametros[Segmento])*(AP1842>0)*(AQ1842>0)","v":0}]
[null,null,{"$f":"IF(COUNTIF(Contribuyentes[Vencimiento],C1842)=0,\"\",COUNTIF(Contribuyentes[Vencimiento],C1842))","v":""},null,{"$f":"IF(COUNTIF(Contribuyentes[Vencimiento],E1842)=0,\"\",COUNTIF(Contribuyentes[Vencimiento],E1842))","v":""},null,{"$f":"IF(COUNTIF(Contribuyentes[Vencimiento],G1842)=0,\"\",COUNTIF(Contribuyentes[Vencimiento],G1842))","v":""},null,{"$f":"IF(COUNTIF(Contribuyentes[Vencimiento],I1842)=0,\"\",COUNTIF(Contribuyentes[Vencimiento],I1842))","v":""},null,{"$f":"IF(COUNTIF(Contribuyentes[Vencimiento],K1842)=0,\"\",COUNTIF(Contribuyentes[Vencimiento],K1842))","v":""},null," ",null," ",{"$nulls":25},"Vencimientos",1,20,{"$f":"(AO1843=Parametros[Segmento])*(AP1843>0)*(AQ1843>0)","v":0}]
[{"$nulls":40},"Vencimientos",1,20,{"$f":"(AO1844=Parametros[Segmento])*(AP1844>0)*(AQ1844>0)","v":0}]
[null,null,"2023-10-16","","2023-10-17","95-96","2023-10-18","97-98","2023-10-19","99-00","2023-10-20","","2023-10-21","","2023-10-22","",{"$nulls":24},"Vencimientos",1,20,{"$f":"(AO1845=Parametros[Segmento])*(AP1845>0)*(AQ1845>0)","v":0}]
[null,null,"",null," ",null," ",null," ",null," ",null," ",null," ",{"$nulls":25},"Vencimientos",1,20,{"$f":"(AO1846=Parametros[Segmento])*(AP1846>0)*(AQ1846>0)","v":0}]
[{"$nulls":40},"Vencimientos",1,20,{"$f":"(AO1847=Parametros[Segmento])*(AP1847>0)*(AQ1847>0)","v":0}]
[null,null,"2023-10-23",null,"2023-10-24",null,"2023-10-25","","2023-10-26","","2023-10-27","","2023-10-28","","2023-10-29","",{"$nulls":24},"Vencimientos",1,20,{"$f":"(AO1848=Parametros[Segmento])*(AP1848>0)*(AQ1848>0)","v":0}]
[null,null," ",null," ",null," ",null," ",null," ",null," ",null," ",{"$nulls":25},"Vencimientos",1,20,{"$f":"(AO1849=Parametros[Segmento])*(AP1849>0)*(AQ1849>0)","v":0}]
[null,null,"2023-10-30",null,"2023-10-31",{"$nulls":35},"Vencimientos",1,20,{"$f":"(AO1850=Parametros[Segmento])*(AP1850>0)*(AQ1850>0)","v":0}]
[null,null," ",null," ",{"$nulls":35},"Vencimientos",1,20,{"$f":"(AO1851=Parametros[Segmento])*(AP1851>0)*(AQ1851>0)","v":0}]
[{"$nulls":40},"Vencimientos",1,20,{"$f":"(AO1852=Parametros[Segmento])*(AP1852>0)*(AQ1852>0)","v":0}]
[{"$nulls":40},"Vencimientos",1,20,{"$f":"(AO1853=Parametros[Segmento])*(AP1853>0)*(AQ1853>0)","v":0}]
[{"$nulls":40},"Vencimientos",1,20,{"$f":"(AO1854=Parametros[Segmento])*(AP1854>0)*(AQ1854>0)","v":0}]
[null,"Vencimientos presentación declaración de renta año gravable 2022",{"$nulls":38},"Vencimientos",1,30,{"$f":"(AO1855=Parametros[Segmento])*(AP1855>0)*(AQ1855>0)","v":0}]
[null,"Impuesto de renta año gravable 2022 - Personas naturales",{"$nulls":38},"Vencimientos",1,30,{"$f":"(AO1856=Parametros[Segmento])*(AP1856>0)*(AQ1856>0)","v":0}]
[null,"Concepto ",{"$nulls":4},"Último dígito del NIT ",{"$nulls":4},"Fecha límite ",{"$nulls":28},"Vencimientos",1,30,{"$f":"(AO1857=Parametros[Segmento])*(AP1857>0)*(AQ1857>0)","v":0}]
[null,"Declaración y pago",{"$nulls":4},"01",{"$nulls":4},"2023-08-09",{"$nulls":28},"Vencimientos",1,30,{"$f":"(AO1858=Parametros[Segmento])*(AP1858>0)*(AQ1858>0)","v":0}]
[null,"Declaración y pago",{"$nulls":4},"02",{"$nulls":4},"2023-08-09",{"$nulls":28},"Vencimientos",1,30,{"$f":"(AO1859=Parametros[Segmento])*(AP1859>0)*(AQ1859>0)","v":0}]
[null,"Declaración y pago",{"$nulls":4},"03",{"$nulls":4},"2023-08-10",{"$nulls":28},"Vencimientos",1,30,{"$f":"(AO1860=Parametros[Segmento])*(AP1860>0)*(AQ1860>0)","v":0}]
[null,"Declaración y pago",{"$nulls":4},"04",{"$nulls":4},"2023-08-10",{"$nulls":28},"Vencimientos",1,30,{"$f":"(AO1861=Parametros[Segmento])*(AP1861>0)*(AQ1861>0)","v":0}]
[null,"Declaración y pago",{"$nulls":4},"05",{"$nulls":4},"2023-08-11",{"$nulls":28},"Vencimientos",1,30,{"$f":"(AO1862=Parametros[Segmento])*(AP1862>0)*(AQ1862>0)","v":0}]
[null,"Declaración y pago",{"$nulls":4},"06",{"$nulls":4},"2023-08-11",{"$nulls":28},"Vencimientos",1,30,{"$f":"(AO1863=Parametros[Segmento])*(AP1863>0)*(AQ1863>0)","v":0}]
[null,"Declaración y pago",{"$nulls":4},"07",{"$nulls":4},"2023-08-14",{"$nulls":28},"Vencimientos",1,30,{"$f":"(AO1864=Parametros[Segmento])*(AP1864>0)*(AQ1864>0)","v":0}]
[null,"Declaración y pago",{"$nulls":4},"08",{"$nulls":4},"2023-08-14",{"$nulls":28},"Vencimientos",1,30,{"$f":"(AO1865=Parametros[Segmento])*(AP1865>0)*(AQ1865>0)","v":0}]
[null,"Declaración y pago",{"$nulls":4},"09",{"$nulls":4},"2023-08-15",{"$nulls":28},"Vencimientos",1,30,{"$f":"(AO1866=Parametros[Segmento])*(AP1866>0)*(AQ1866>0)","v":0}]
[null,"Declaración y pago",{"$nulls":4},"10",{"$nulls":4},"2023-08-15",{"$nulls":28},"Vencimientos",1,30,{"$f":"(AO1867=Parametros[Segmento])*(AP1867>0)*(AQ1867>0)","v":0}]
[null,"Declaración y pago",{"$nulls":4},"11",{"$nulls":4},"2023-08-16",{"$nulls":28},"Vencimientos",1,30,{"$f":"(AO1868=Parametros[Segmento])*(AP1868>0)*(AQ1868>0)","v":0}]
[null,"Declaración y pago",{"$nulls":4},"12",{"$nulls":4},"2023-08-16",{"$nulls":28},"Vencimientos",1,30,{"$f":"(AO1869=Parametros[Segmento])*(AP1869>0)*(AQ1869>0)","v":0}]
[null,"Declaración y pago",{"$nulls":4},"13",{"$nulls":4},"2023-08-17",{"$nulls":28},"Vencimientos",1,30,{"$f":"(AO1870=Parametros[Segmento])*(AP1870>0)*(AQ1870>0)","v":0}]
[null,"Declaración y pago",{"$nulls":4},"14",{"$nulls":4},"2023-08-17",{"$nulls":28},"Vencimientos",1,30,{"$f":"(AO1871=Parametros[Segmento])*(AP1871>0)*(AQ1871>0)","v":0}]
[null,"Declaración y pago",{"$nulls":4},"15",{"$nulls":4},"2023-08-18",{"$nulls":28},"Vencimientos",1,30,{"$f":"(AO1872=Parametros[Segmento])*(AP1872>0)*(AQ1872>0)","v":0}]
[null,"Declaración y pago",{"$nulls":4},"16",{"$nulls":4},"2023-08-18",{"$nulls":28},"Vencimientos",1,30,{"$f":"(AO1873=Parametros[Segmento])*(AP1873>0)*(AQ1873>0)","v":0}]
[null,"Declaración y pago",{"$nulls":4},"17",{"$nulls":4},"2023-08-22",{"$nulls":28},"Vencimientos",1,30,{"$f":"(AO1874=Parametros[Segmento])*(AP1874>0)*(AQ1874>0)","v":0}]
[null,"Declaración y pago",{"$nulls":4},"18",{"$nulls":4},"2023-08-22",{"$nulls":28},"Vencimientos",1,30,{"$f":"(AO1875=Parametros[Segmento])*(AP1875>0)*(AQ1875>0)","v":0}]
[null,"Declaración y pago",{"$nulls":4},"19",{"$nulls":4},"2023-08-23",{"$nulls":28},"Vencimientos",1,30,{"$f":"(AO1876=Parametros[Segmento])*(AP1876>0)*(AQ1876>0)","v":0}]
[null,"Declaración y pago",{"$nulls":4},"20",{"$nulls":4},"2023-08-23",{"$nulls":28},"Vencimientos",1,30,{"$f":"(AO1877=Parametros[Segmento])*(AP1877>0)*(AQ1877>0)","v":0}]
[null,"Declaración y pago",{"$nulls":4},"21",{"$nulls":4},"2023-08-24",{"$nulls":28},"Vencimientos",1,30,{"$f":"(AO1878=Parametros[Segmento])*(AP1878>0)*(AQ1878>0)","v":0}]
[null,"Declaración y pago",{"$nulls":4},"22",{"$nulls":4},"2023-08-24",{"$nulls":28},"Vencimientos",1,30,{"$f":"(AO1879=Parametros[Segmento])*(AP1879>0)*(AQ1879>0)","v":0}]
[null,"Declaración y pago",{"$nulls":4},"23",{"$nulls":4},"2023-08-25",{"$nulls":28},"Vencimientos",1,30,{"$f":"(AO1880=Parametros[Segmento])*(AP1880>0)*(AQ1880>0)","v":0}]
[null,"Declaración y pago",{"$nulls":4},"24",{"$nulls":4},"2023-08-25",{"$nulls":28},"Vencimientos",1,30,{"$f":"(AO1881=Parametros[Segmento])*(AP1881>0)*(AQ1881>0)","v":0}]
[null,"Declaración y pago",{"$nulls":4},"25",{"$nulls":4},"2023-08-28",{"$nulls":28},"Vencimientos",1,30,{"$f":"(AO1882=Parametros[Segmento])*(AP1882>0)*(AQ1882>0)","v":0}]
[null,"Declaración y pago",{"$nulls":4},"26",{"$nulls":4},"2023-08-28",{"$nulls":28},"Vencimientos",1,30,{"$f":"(AO1883=Parametros[Segmento])*(AP1883>0)*(AQ1883>0)","v":0}]
[null,"Declaración y pago",{"$nulls":4},"27",{"$nulls":4},"2023-08-29",{"$nulls":28},"Vencimientos",1,30,{"$f":"(AO1884=Parametros[Segmento])*(AP1884>0)*(AQ1884>0)","v":0}]
[null,"Declaración y pago",{"$nulls":4},"28",{"$nulls":4},"2023-08-29",{"$nulls":28},"Vencimientos",1,30,{"$f":"(AO1885=Parametros[Segmento])*(AP1885>0)*(AQ1885>0)","v":0}]
[null,"Declaración y pago",{"$nulls":4},"29",{"$nulls":4},"2023-08-30",{"$nulls":28},"Vencimientos",1,30,{"$f":"(AO1886=Parametros[Segmento])*(AP1886>0)*(AQ1886>0)","v":0}]
[null,"Declaración y pago",{"$nulls":4},"30",{"$nulls":4},"2023-08-30",{"$nulls":28},"Vencimientos",1,30,{"$f":"(AO1887=Parametros[Segmento])*(AP1887>0)*(AQ1887>0)","v":0}]
[null,"Declaración y pago",{"$nulls":4},"31",{"$nulls":4},"2023-08-31",{"$nulls":28},"Vencimientos",1,30,{"$f":"(AO1888=Parametros[Segmento])*(AP1888>0)*(AQ1888>0)","v":0}]
[null,"Declaración y pago",{"$nulls":4},"32",{"$nulls":4},"2023-08-31",{"$nulls":28},"Vencimientos",1,30,{"$f":"(AO1889=Parametros[Segmento])*(AP1889>0)*(AQ1889>0)","v":0}]
[null,"Declaración y pago",{"$nulls":4},"33",{"$nulls":4},"2023-09-01",{"$nulls":28},"Vencimientos",1,30,{"$f":"(AO1890=Parametros[Segmento])*(AP1890>0)*(AQ1890>0)","v":0}]
[null,"Declaración y pago",{"$nulls":4},"34",{"$nulls":4},"2023-09-01",{"$nulls":28},"Vencimientos",1,30,{"$f":"(AO1891=Parametros[Segmento])*(AP1891>0)*(AQ1891>0)","v":0}]
[null,"Declaración y pago",{"$nulls":4},"35",{"$nulls":4},"2023-09-04",{"$nulls":28},"Vencimientos",1,30,{"$f":"(AO1892=Parametros[Segmento])*(AP1892>0)*(AQ1892>0)","v":0}]
[null,"Declaración y pago",{"$nulls":4},"36",{"$nulls":4},"2023-09-04",{"$nulls":28},"Vencimientos",1,30,{"$f":"(AO1893=Parametros[Segmento])*(AP1893>0)*(AQ1893>0)","v":0}]
[null,"Declaración y pago",{"$nulls":4},"37",{"$nulls":4},"2023-09-05",{"$nulls":28},"Vencimientos",1,30,{"$f":"(AO1894=Parametros[Segmento])*(AP1894>0)*(AQ1894>0)","v":0}]
[null,"Declaración y pago",{"$nulls":4},"38",{"$nulls":4},"2023-09-05",{"$nulls":28},"Vencimientos",1,30,{"$f":"(AO1895=Parametros[Segmento])*(AP1895>0)*(AQ1895>0)","v":0}]
[null,"Declaración y pago",{"$nulls":4},"39",{"$nulls":4},"2023-09-06",{"$nulls":28},"Vencimientos",1,30,{"$f":"(AO1896=Parametros[Segmento])*(AP1896>0)*(AQ1896>0)","v":0}]
[null,"Declaración y pago",{"$nulls":4},"40",{"$nulls":4},"2023-09-06",{"$nulls":28},"Vencimientos",1,30,{"$f":"(AO1897=Parametros[Segmento])*(AP1897>0)*(AQ1897>0)","v":0}]
[null,"Declaración y pago",{"$nulls":4},"41",{"$nulls":4},"2023-09-07",{"$nulls":28},"Vencimientos",1,30,{"$f":"(AO1898=Parametros[Segmento])*(AP1898>0)*(AQ1898>0)","v":0}]
[null,"Declaración y pago",{"$nulls":4},"42",{"$nulls":4},"2023-09-07",{"$nulls":28},"Vencimientos",1,30,{"$f":"(AO1899=Parametros[Segmento])*(AP1899>0)*(AQ1899>0)","v":0}]
[null,"Declaración y pago",{"$nulls":4},"43",{"$nulls":4},"2023-09-08",{"$nulls":28},"Vencimientos",1,30,{"$f":"(AO1900=Parametros[Segmento])*(AP1900>0)*(AQ1900>0)","v":0}]
[null,"Declaración y pago",{"$nulls":4},"44",{"$nulls":4},"2023-09-08",{"$nulls":28},"Vencimientos",1,30,{"$f":"(AO1901=Parametros[Segmento])*(AP1901>0)*(AQ1901>0)","v":0}]
[null,"Declaración y pago",{"$nulls":4},"45",{"$nulls":4},"2023-09-11",{"$nulls":28},"Vencimientos",1,30,{"$f":"(AO1902=Parametros[Segmento])*(AP1902>0)*(AQ1902>0)","v":0}]
[null,"Declaración y pago",{"$nulls":4},"46",{"$nulls":4},"2023-09-11",{"$nulls":28},"Vencimientos",1,30,{"$f":"(AO1903=Parametros[Segmento])*(AP1903>0)*(AQ1903>0)","v":0}]
[null,"Declaración y pago",{"$nulls":4},"47",{"$nulls":4},"2023-09-12",{"$nulls":28},"Vencimientos",1,30,{"$f":"(AO1904=Parametros[Segmento])*(AP1904>0)*(AQ1904>0)","v":0}]
[null,"Declaración y pago",{"$nulls":4},"48",{"$nulls":4},"2023-09-12",{"$nulls":28},"Vencimientos",1,30,{"$f":"(AO1905=Parametros[Segmento])*(AP1905>0)*(AQ1905>0)","v":0}]
[null,"Declaración y pago",{"$nulls":4},"49",{"$nulls":4},"2023-09-13",{"$nulls":28},"Vencimientos",1,30,{"$f":"(AO1906=Parametros[Segmento])*(AP1906>0)*(AQ1906>0)","v":0}]
[null,"Declaración y pago",{"$nulls":4},"50",{"$nulls":4},"2023-09-13",{"$nulls":28},"Vencimientos",1,30,{"$f":"(AO1907=Parametros[Segmento])*(AP1907>0)*(AQ1907>0)","v":0}]
[null,"Declaración y pago",{"$nulls":4},"51",{"$nulls":4},"2023-09-14",{"$nulls":28},"Vencimientos",1,30,{"$f":"(AO1908=Parametros[Segmento])*(AP1908>0)*(AQ1908>0)","v":0}]
[null,"Declaración y pago",{"$nulls":4},"52",{"$nulls":4},"2023-09-14",{"$nulls":28},"Vencimientos",1,30,{"$f":"(AO1909=Parametros[Segmento])*(AP1909>0)*(AQ1909>0)","v":0}]
[null,"Declaración y pago",{"$nulls":4},"53",{"$nulls":4},"2023-09-15",{"$nulls":28},"Vencimientos",1,30,{"$f":"(AO1910=Parametros[Segmento])*(AP1910>0)*(AQ1910>0)","v":0}]
[null,"Declaración y pago",{"$nulls":4},"54",{"$nulls":4},"2023-09-15",{"$nulls":28},"Vencimientos",1,30,{"$f":"(AO1911=Parametros[Segmento])*(AP1911>0)*(AQ1911>0)","v":0}]
[null,"Declaración y pago",{"$nulls":4},"55",{"$nulls":4},"2023-09-18",{"$nulls":28},"Vencimientos",1,30,{"$f":"(AO1912=Parametros[Segmento])*(AP1912>0)*(AQ1912>0)","v":0}]
[null,"Declaración y pago",{"$nulls":4},"56",{"$nulls":4},"2023-09-18",{"$nulls":28},"Vencimientos",1,30,{"$f":"(AO1913=Parametros[Segmento])*(AP1913>0)*(AQ1913>0)","v":0}]
[null,"Declaración y pago",{"$nulls":4},"57",{"$nulls":4},"2023-09-19",{"$nulls":28},"Vencimientos",1,30,{"$f":"(AO1914=Parametros[Segmento])*(AP1914>0)*(AQ1914>0)","v":0}]
[null,"Declaración y pago",{"$nulls":4},"58",{"$nulls":4},"2023-09-19",{"$nulls":28},"Vencimientos",1,30,{"$f":"(AO1915=Parametros[Segmento])*(AP1915>0)*(AQ1915>0)","v":0}]
[null,"Declaración y pago",{"$nulls":4},"59",{"$nulls":4},"2023-09-20",{"$nulls":28},"Vencimientos",1,30,{"$f":"(AO1916=Parametros[Segmento])*(AP1916>0)*(AQ1916>0)","v":0}]
[null,"Declaración y pago",{"$nulls":4},"60",{"$nulls":4},"2023-09-20",{"$nulls":28},"Vencimientos",1,30,{"$f":"(AO1917=Parametros[Segmento])*(AP1917>0)*(AQ1917>0)","v":0}]
[null,"Declaración y pago",{"$nulls":4},"61",{"$nulls":4},"2023-09-21",{"$nulls":28},"Vencimientos",1,30,{"$f":"(AO1918=Parametros[Segmento])*(AP1918>0)*(AQ1918>0)","v":0}]
[null,"Declaración y pago",{"$nulls":4},"62",{"$nulls":4},"2023-09-21",{"$nulls":28},"Vencimientos",1,30,{"$f":"(AO1919=Parametros[Segmento])*(AP1919>0)*(AQ1919>0)","v":0}]
[null,"Declaración y pago",{"$nulls":4},"63",{"$nulls":4},"2023-09-22",{"$nulls":28},"Vencimientos",1,30,{"$f":"(AO1920=Parametros[Segmento])*(AP1920>0)*(AQ1920>0)","v":0}]
[null,"Declaración y pago",{"$nulls":4},"64",{"$nulls":4},"2023-09-22",{"$nulls":28},"Vencimientos",1,30,{"$f":"(AO1921=Parametros[Segmento])*(AP1921>0)*(AQ1921>0)","v":0}]
[null,"Declaración y pago",{"$nulls":4},"65",{"$nulls":4},"2023-09-25",{"$nulls":28},"Vencimientos",1,30,{"$f":"(AO1922=Parametros[Segmento])*(AP1922>0)*(AQ1922>0)","v":0}]
[null,"Declaración y pago",{"$nulls":4},"66",{"$nulls":4},"2023-09-25",{"$nulls":28},"Vencimientos",1,30,{"$f":"(AO1923=Parametros[Segmento])*(AP1923>0)*(AQ1923>0)","v":0}]
[null,"Declaración y pago",{"$nulls":4},"67",{"$nulls":4},"2023-09-26",{"$nulls":28},"Vencimientos",1,30,{"$f":"(AO1924=Parametros[Segmento])*(AP1924>0)*(AQ1924>0)","v":0}]
[null,"Declaración y pago",{"$nulls":4},"68",{"$nulls":4},"2023-09-26",{"$nulls":28},"Vencimientos",1,30,{"$f":"(AO1925=Parametros[Segmento])*(AP1925>0)*(AQ1925>0)","v":0}]
[null,"Declaración y pago",{"$nulls":4},"69",{"$nulls":4},"2023-09-27",{"$nulls":28},"Vencimientos",1,30,{"$f":"(AO1926=Parametros[Segmento])*(AP1926>0)*(AQ1926>0)","v":0}]
[null,"Declaración y pago",{"$nulls":4},"70",{"$nulls":4},"2023-09-27",{"$nulls":28},"Vencimientos",1,30,{"$f":"(AO1927=Parametros[Segmento])*(AP1927>0)*(AQ1927>0)","v":0}]
[null,"Declaración y pago",{"$nulls":4},"71",{"$nulls":4},"2023-09-28",{"$nulls":28},"Vencimientos",1,30,{"$f":"(AO1928=Parametros[Segmento])*(AP1928>0)*(AQ1928>0)","v":0}]
[null,"Declaración y pago",{"$nulls":4},"72",{"$nulls":4},"2023-09-28",{"$nulls":28},"Vencimientos",1,30,{"$f":"(AO1929=Parametros[Segmento])*(AP1929>0)*(AQ1929>0)","v":0}]
[null,"Declaración y pago",{"$nulls":4},"73",{"$nulls":4},"2023-09-29",{"$nulls":28},"Vencimientos",1,30,{"$f":"(AO1930=Parametros[Segmento])*(AP1930>0)*(AQ1930>0)","v":0}]
[null,"Declaración y pago",{"$nulls":4},"74",{"$nulls":4},"2023-09-29",{"$nulls":28},"Vencimientos",1,30,{"$f":"(AO1931=Parametros[Segmento])*(AP1931>0)*(AQ1931>0)","v":0}]
[null,"Declaración y pago",{"$nulls":4},"75",{"$nulls":4},"2023-10-02",{"$nulls":28},"Vencimientos",1,30,{"$f":"(AO1932=Parametros[Segmento])*(AP1932>0)*(AQ1932>0)","v":0}]
[null,"Declaración y pago",{"$nulls":4},"76",{"$nulls":4},"2023-10-02",{"$nulls":28},"Vencimientos",1,30,{"$f":"(AO1933=Parametros[Segmento])*(AP1933>0)*(AQ1933>0)","v":0}]
[null,"Declaración y pago",{"$nulls":4},"77",{"$nulls":4},"2023-10-03",{"$nulls":28},"Vencimientos",1,30,{"$f":"(AO1934=Parametros[Segmento])*(AP1934>0)*(AQ1934>0)","v":0}]
[null,"Declaración y pago",{"$nulls":4},"78",{"$nulls":4},"2023-10-03",{"$nulls":28},"Vencimientos",1,30,{"$f":"(AO1935=Parametros[Segmento])*(AP1935>0)*(AQ1935>0)","v":0}]
[null,"Declaración y pago",{"$nulls":4},"79",{"$nulls":4},"2023-10-04",{"$nulls":28},"Vencimientos",1,30,{"$f":"(AO1936=Parametros[Segmento])*(AP1936>0)*(AQ1936>0)","v":0}]
[null,"Declaración y pago",{"$nulls":4},"80",{"$nulls":4},"2023-10-04",{"$nulls":28},"Vencimientos",1,30,{"$f":"(AO1937=Parametros[Segmento])*(AP1937>0)*(AQ1937>0)","v":0}]
[null,"Declaración y pago",{"$nulls":4},"81",{"$nulls":4},"2023-10-05",{"$nulls":28},"Vencimientos",1,30,{"$f":"(AO1938=Parametros[Segmento])*(AP1938>0)*(AQ1938>0)","v":0}]
[null,"Declaración y pago",{"$nulls":4},"82",{"$nulls":4},"2023-10-05",{"$nulls":28},"Vencimientos",1,30,{"$f":"(AO1939=Parametros[Segmento])*(AP1939>0)*(AQ1939>0)","v":0}]
[null,"Declaración y pago",{"$nulls":4},"83",{"$nulls":4},"2023-10-06",{"$nulls":28},"Vencimientos",1,30,{"$f":"(AO1940=Parametros[Segmento])*(AP1940>0)*(AQ1940>0)","v":0}]
[null,"Declaración y pago",{"$nulls":4},"84",{"$nulls":4},"2023-10-06",{"$nulls":28},"Vencimientos",1,30,{"$f":"(AO1941=Parametros[Segmento])*(AP1941>0)*(AQ1941>0)","v":0}]
[null,"Declaración y pago",{"$nulls":4},"85",{"$nulls":4},"2023-10-09",{"$nulls":28},"Vencimientos",1,30,{"$f":"(AO1942=Parametros[Segmento])*(AP1942>0)*(AQ1942>0)","v":0}]
[null,"Declaración y pago",{"$nulls":4},"86",{"$nulls":4},"2023-10-09",{"$nulls":28},"Vencimientos",1,30,{"$f":"(AO1943=Parametros[Segmento])*(AP1943>0)*(AQ1943>0)","v":0}]
[null,"Declaración y pago",{"$nulls":4},"87",{"$nulls":4},"2023-10-10",{"$nulls":28},"Vencimientos",1,30,{"$f":"(AO1944=Parametros[Segmento])*(AP1944>0)*(AQ1944>0)","v":0}]
[null,"Declaración y pago",{"$nulls":4},"88",{"$nulls":4},"2023-10-10",{"$nulls":28},"Vencimientos",1,30,{"$f":"(AO1945=Parametros[Segmento])*(AP1945>0)*(AQ1945>0)","v":0}]
[null,"Declaración y pago",{"$nulls":4},"89",{"$nulls":4},"2023-10-11",{"$nulls":28},"Vencimientos",1,30,{"$f":"(AO1946=Parametros[Segmento])*(AP1946>0)*(AQ1946>0)","v":0}]
[null,"Declaración y pago",{"$nulls":4},"90",{"$nulls":4},"2023-10-11",{"$nulls":28},"Vencimientos",1,30,{"$f":"(AO1947=Parametros[Segmento])*(AP1947>0)*(AQ1947>0)","v":0}]
[null,"Declaración y pago",{"$nulls":4},"91",{"$nulls":4},"2023-10-12",{"$nulls":28},"Vencimientos",1,30,{"$f":"(AO1948=Parametros[Segmento])*(AP1948>0)*(AQ1948>0)","v":0}]
[null,"Declaración y pago",{"$nulls":4},"92",{"$nulls":4},"2023-10-12",{"$nulls":28},"Vencimientos",1,30,{"$f":"(AO1949=Parametros[Segmento])*(AP1949>0)*(AQ1949>0)","v":0}]
[null,"Declaración y pago",{"$nulls":4},"93",{"$nulls":4},"2023-10-13",{"$nulls":28},"Vencimientos",1,30,{"$f":"(AO1950=Parametros[Segmento])*(AP1950>0)*(AQ1950>0)","v":0}]
[null,"Declaración y pago",{"$nulls":4},"94",{"$nulls":4},"2023-10-13",{"$nulls":28},"Vencimientos",1,30,{"$f":"(AO1951=Parametros[Segmento])*(AP1951>0)*(AQ1951>0)","v":0}]
[null,"Declaración y pago",{"$nulls":4},"95",{"$nulls":4},"2023-10-17",{"$nulls":28},"Vencimientos",1,30,{"$f":"(AO1952=Parametros[Segmento])*(AP1952>0)*(AQ1952>0)","v":0}]
[null,"Declaración y pago",{"$nulls":4},"96",{"$nulls":4},"2023-10-17",{"$nulls":28},"Vencimientos",1,30,{"$f":"(AO1953=Parametros[Segmento])*(AP1953>0)*(AQ1953>0)","v":0}]
[null,"Declaración y pago",{"$nulls":4},"97",{"$nulls":4},"2023-10-18",{"$nulls":28},"Vencimientos",1,30,{"$f":"(AO1954=Parametros[Segmento])*(AP1954>0)*(AQ1954>0)","v":0}]
[null,"Declaración y pago",{"$nulls":4},"98",{"$nulls":4},"2023-10-18",{"$nulls":28},"Vencimientos",1,30,{"$f":"(AO1955=Parametros[Segmento])*(AP1955>0)*(AQ1955>0)","v":0}]
[null,"Declaración y pago",{"$nulls":4},"99",{"$nulls":4},"2023-10-19",{"$nulls":28},"Vencimientos",1,30,{"$f":"(AO1956=Parametros[Segmento])*(AP1956>0)*(AQ1956>0)","v":0}]
[null,"Declaración y pago",{"$nulls":4},"00",{"$nulls":4},"2023-10-19",{"$nulls":28},"Vencimientos",1,30,{"$f":"(AO1957=Parametros[Segmento])*(AP1957>0)*(AQ1957>0)","v":0}]
[2,19,25,25,25,25,3,25,8,5,{"$nulls":5},0,0,0,0,0,0,0,0,{"$nulls":17},"Gráficos",0,15,{"$f":"(AO1958=Parametros[Segmento])*(AP1958>0)*(AQ1958>0)","v":0}]
[{"$nulls":40},"Gráficos",1,20,{"$f":"(AO1959=Parametros[Segmento])*(AP1959>0)*(AQ1959>0)","v":0}]
[{"$nulls":40},"Gráficos",1,20,{"$f":"(AO1960=Parametros[Segmento])*(AP1960>0)*(AQ1960>0)","v":0}]
[{"$nulls":40},"Gráficos",1,20,{"$f":"(AO1961=Parametros[Segmento])*(AP1961>0)*(AQ1961>0)","v":0}]
[{"$nulls":40},"Gráficos",1,20,{"$f":"(AO1962=Parametros[Segmento])*(AP1962>0)*(AQ1962>0)","v":0}]
[{"$nulls":40},"Gráficos",1,20,{"$f":"(AO1963=Parametros[Segmento])*(AP1963>0)*(AQ1963>0)","v":0}]
[{"$nulls":40},"Gráficos",1,20,{"$f":"(AO1964=Parametros[Segmento])*(AP1964>0)*(AQ1964>0)","v":0}]
[{"$nulls":40},"Gráficos",1,20,{"$f":"(AO1965=Parametros[Segmento])*(AP1965>0)*(AQ1965>0)","v":0}]
[{"$nulls":40},"Gráficos",1,20,{"$f":"(AO1966=Parametros[Segmento])*(AP1966>0)*(AQ1966>0)","v":0}]
[{"$nulls":40},"Gráficos",1,20,{"$f":"(AO1967=Parametros[Segmento])*(AP1967>0)*(AQ1967>0)","v":0}]
[{"$nulls":40},"Gráficos",1,20,{"$f":"(AO1968=Parametros[Segmento])*(AP1968>0)*(AQ1968>0)","v":0}]
[{"$nulls":40},"Gráficos",1,20,{"$f":"(AO1969=Parametros[Segmento])*(AP1969>0)*(AQ1969>0)","v":0}]
[{"$nulls":40},"Gráficos",1,20,{"$f":"(AO1970=Parametros[Segmento])*(AP1970>0)*(AQ1970>0)","v":0}]
[{"$nulls":40},"Gráficos",1,20,{"$f":"(AO1971=Parametros[Segmento])*(AP1971>0)*(AQ1971>0)","v":0}]
[{"$nulls":40},"Gráficos",1,20,{"$f":"(AO1972=Parametros[Segmento])*(AP1972>0)*(AQ1972>0)","v":0}]
[{"$nulls":40},"Gráficos",1,20,{"$f":"(AO1973=Parametros[Segmento])*(AP1973>0)*(AQ1973>0)","v":0}]
[{"$nulls":40},"Gráficos",1,20,{"$f":"(AO1974=Parametros[Segmento])*(AP1974>0)*(AQ1974>0)","v":0}]
[{"$nulls":40},"Gráficos",1,20,{"$f":"(AO1975=Parametros[Segmento])*(AP1975>0)*(AQ1975>0)","v":0}]
[{"$nulls":40},"Gráficos",1,20,{"$f":"(AO1976=Parametros[Segmento])*(AP1976>0)*(AQ1976>0)","v":0}]
[{"$nulls":40},"Gráficos",1,20,{"$f":"(AO1977=Parametros[Segmento])*(AP1977>0)*(AQ1977>0)","v":0}]
[{"$nulls":40},"Gráficos",1,20,{"$f":"(AO1978=Parametros[Segmento])*(AP1978>0)*(AQ1978>0)","v":0}]
[{"$nulls":40},"Gráficos",1,20,{"$f":"(AO1979=Parametros[Segmento])*(AP1979>0)*(AQ1979>0)","v":0}]
[{"$nulls":40},"Gráficos",1,20,{"$f":"(AO1980=Parametros[Segmento])*(AP1980>0)*(AQ1980>0)","v":0}]
[{"$nulls":40},"Gráficos",1,20,{"$f":"(AO1981=Parametros[Segmento])*(AP1981>0)*(AQ1981>0)","v":0}]
[{"$nulls":40},"Gráficos",1,20,{"$f":"(AO1982=Parametros[Segmento])*(AP1982>0)*(AQ1982>0)","v":0}]
[{"$nulls":40},"Gráficos",1,20,{"$f":"(AO1983=Parametros[Segmento])*(AP1983>0)*(AQ1983>0)","v":0}]
[{"$nulls":40},"Gráficos",1,20,{"$f":"(AO1984=Parametros[Segmento])*(AP1984>0)*(AQ1984>0)","v":0}]
[{"$nulls":40},"Gráficos",1,20,{"$f":"(AO1985=Parametros[Segmento])*(AP1985>0)*(AQ1985>0)","v":0}]
[{"$nulls":40},"Gráficos",1,13,{"$f":"(AO1986=Parametros[Segmento])*(AP1986>0)*(AQ1986>0)","v":0}]
[{"$nulls":40},"Gráficos",1,20,{"$f":"(AO1987=Parametros[Segmento])*(AP1987>0)*(AQ1987>0)","v":0}]
[{"$nulls":40},"Gráficos",1,20,{"$f":"(AO1988=Parametros[Segmento])*(AP1988>0)*(AQ1988>0)","v":0}]
[{"$nulls":40},"Gráficos",1,20,{"$f":"(AO1989=Parametros[Segmento])*(AP1989>0)*(AQ1989>0)","v":0}]
[{"$nulls":40},"Gráficos",1,20,{"$f":"(AO1990=Parametros[Segmento])*(AP1990>0)*(AQ1990>0)","v":0}]
[{"$nulls":40},"Gráficos",1,20,{"$f":"(AO1991=Parametros[Segmento])*(AP1991>0)*(AQ1991>0)","v":0}]
[{"$nulls":40},"Gráficos",1,20,{"$f":"(AO1992=Parametros[Segmento])*(AP1992>0)*(AQ1992>0)","v":0}]
[{"$nulls":40},"Gráficos",1,20,{"$f":"(AO1993=Parametros[Segmento])*(AP1993>0)*(AQ1993>0)","v":0}]
[{"$nulls":40},"Gráficos",1,20,{"$f":"(AO1994=Parametros[Segmento])*(AP1994>0)*(AQ1994>0)","v":0}]
[{"$nulls":40},"Gráficos",1,20,{"$f":"(AO1995=Parametros[Segmento])*(AP1995>0)*(AQ1995>0)","v":0}]
[{"$nulls":40},"Gráficos",1,20,{"$f":"(AO1996=Parametros[Segmento])*(AP1996>0)*(AQ1996>0)","v":0}]
[{"$nulls":40},"Gráficos",1,20,{"$f":"(AO1997=Parametros[Segmento])*(AP1997>0)*(AQ1997>0)","v":0}]
[{"$nulls":40},"Gráficos",1,20,{"$f":"(AO1998=Parametros[Segmento])*(AP1998>0)*(AQ1998>0)","v":0}]
[{"$nulls":40},"Gráficos",1,20,{"$f":"(AO1999=Parametros[Segmento])*(AP1999>0)*(AQ1999>0)","v":0}]
[{"$nulls":40},"Gráficos",1,20,{"$f":"(AO2000=Parametros[Segmento])*(AP2000>0)*(AQ2000>0)","v":0}]
[{"$nulls":40},"Gráficos",1,20,{"$f":"(AO2001=Parametros[Segmento])*(AP2001>0)*(AQ2001>0)","v":0}]
[{"$nulls":40},"Gráficos",1,20,{"$f":"(AO2002=Parametros[Segmento])*(AP2002>0)*(AQ2002>0)","v":0}]
[{"$nulls":40},"Gráficos",1,20,{"$f":"(AO2003=Parametros[Segmento])*(AP2003>0)*(AQ2003>0)","v":0}]
[{"$nulls":40},"Gráficos",1,20,{"$f":"(AO2004=Parametros[Segmento])*(AP2004>0)*(AQ2004>0)","v":0}]
[{"$nulls":40},"Gráficos",1,20,{"$f":"(AO2005=Parametros[Segmento])*(AP2005>0)*(AQ2005>0)","v":0}]
[{"$nulls":40},"Gráficos",1,20,{"$f":"(AO2006=Parametros[Segmento])*(AP2006>0)*(AQ2006>0)","v":0}]
[{"$nulls":40},"Gráficos",1,20,{"$f":"(AO2007=Parametros[Segmento])*(AP2007>0)*(AQ2007>0)","v":0}]
[{"$nulls":40},"Gráficos",1,20,{"$f":"(AO2008=Parametros[Segmento])*(AP2008>0)*(AQ2008>0)","v":0}]
[{"$nulls":40},"Gráficos",1,20,{"$f":"(AO2009=Parametros[Segmento])*(AP2009>0)*(AQ2009>0)","v":0}]
[{"$nulls":40},"Gráficos",1,20,{"$f":"(AO2010=Parametros[Segmento])*(AP2010>0)*(AQ2010>0)","v":0}]
[{"$nulls":40},"Gráficos",1,20,{"$f":"(AO2011=Parametros[Segmento])*(AP2011>0)*(AQ2011>0)","v":0}]
[{"$nulls":40},"Gráficos",1,20,{"$f":"(AO2012=Parametros[Segmento])*(AP2012>0)*(AQ2012>0)","v":0}]
[{"$nulls":40},"Gráficos",1,20,{"$f":"(AO2013=Parametros[Segmento])*(AP2013>0)*(AQ2013>0)","v":0}]
[{"$nulls":40},"Gráficos",1,20,{"$f":"(AO2014=Parametros[Segmento])*(AP2014>0)*(AQ2014>0)","v":0}]
[{"$nulls":40},"Gráficos",1,20,{"$f":"(AO2015=Parametros[Segmento])*(AP2015>0)*(AQ2015>0)","v":0}]
[{"$nulls":40},"Gráficos",1,20,{"$f":"(AO2016=Parametros[Segmento])*(AP2016>0)*(AQ2016>0)","v":0}]
[{"$nulls":40},"Gráficos",1,20,{"$f":"(AO2017=Parametros[Segmento])*(AP2017>0)*(AQ2017>0)","v":0}]
[{"$nulls":40},"Gráficos",1,20,{"$f":"(AO2018=Parametros[Segmento])*(AP2018>0)*(AQ2018>0)","v":0}]
[{"$nulls":40},"Gráficos",1,20,{"$f":"(AO2019=Parametros[Segmento])*(AP2019>0)*(AQ2019>0)","v":0}]
[{"$nulls":40},"Gráficos",1,20,{"$f":"(AO2020=Parametros[Segmento])*(AP2020>0)*(AQ2020>0)","v":0}]
[{"$nulls":40},"Gráficos",1,20,{"$f":"(AO2021=Parametros[Segmento])*(AP2021>0)*(AQ2021>0)","v":0}]
[{"$nulls":40},"Gráficos",1,20,{"$f":"(AO2022=Parametros[Segmento])*(AP2022>0)*(AQ2022>0)","v":0}]
[{"$nulls":40},"Gráficos",1,20,{"$f":"(AO2023=Parametros[Segmento])*(AP2023>0)*(AQ2023>0)","v":0}]
[{"$nulls":40},"Gráficos",1,20,{"$f":"(AO2024=Parametros[Segmento])*(AP2024>0)*(AQ2024>0)","v":0}]
[{"$nulls":40},"Gráficos",1,20,{"$f":"(AO2025=Parametros[Segmento])*(AP2025>0)*(AQ2025>0)","v":0}]
[{"$nulls":40},"Gráficos",1,20,{"$f":"(AO2026=Parametros[Segmento])*(AP2026>0)*(AQ2026>0)","v":0}]
[{"$nulls":40},"Gráficos",1,20,{"$f":"(AO2027=Parametros[Segmento])*(AP2027>0)*(AQ2027>0)","v":0}]
[{"$nulls":40},"Gráficos",1,20,{"$f":"(AO2028=Parametros[Segmento])*(AP2028>0)*(AQ2028>0)","v":0}]
[{"$nulls":40},"Gráficos",1,20,{"$f":"(AO2029=Parametros[Segmento])*(AP2029>0)*(AQ2029>0)","v":0}]
[{"$nulls":40},"Gráficos",1,20,{"$f":"(AO2030=Parametros[Segmento])*(AP2030>0)*(AQ2030>0)","v":0}]
[1,3,35,11,4,10,5,11,11,11,12,10,13,13,20,11,3,11,{"$nulls":22},{"$f":"IF(Parametros[Certi_Depend]=1,\"Fondo_Menu\",\"Certificaco_Dep\")","v":"Certificaco_Dep"},0,15,{"$f":"(AO2031=Parametros[Segmento])*(AP2031>0)*(AQ2031>0)","v":0}]
[null,{"$f":"IFERROR(VLOOKUP(Relacion_Certificacion,Cuerpo_Certificaciones,5,0),\"No ha indicado la Relacion con el Dependiente\")","v":"No ha indicado la Relacion con el Dependiente"},{"$nulls":38},{"$f":"IF(Parametros[Certi_Depend]=1,\"Fondo_Menu\",\"Certificaco_Dep\")","v":"Certificaco_Dep"},1,20,{"$f":"(AO2032=Parametros[Segmento])*(AP2032>0)*(AQ2032>0)","v":0}]
[{"$nulls":40},{"$f":"IF(Parametros[Certi_Depend]=1,\"Fondo_Menu\",\"Certificaco_Dep\")","v":"Certificaco_Dep"},1,20,{"$f":"(AO2033=Parametros[Segmento])*(AP2033>0)*(AQ2033>0)","v":0}]
[{"$nulls":40},{"$f":"IF(Parametros[Certi_Depend]=1,\"Fondo_Menu\",\"Certificaco_Dep\")","v":"Certificaco_Dep"},1,20,{"$f":"(AO2034=Parametros[Segmento])*(AP2034>0)*(AQ2034>0)","v":0}]
[{"$nulls":40},{"$f":"IF(Parametros[Certi_Depend]=1,\"Fondo_Menu\",\"Certificaco_Dep\")","v":"Certificaco_Dep"},1,20,{"$f":"(AO2035=Parametros[Segmento])*(AP2035>0)*(AQ2035>0)","v":0}]
[{"$nulls":40},{"$f":"IF(Parametros[Certi_Depend]=1,\"Fondo_Menu\",\"Certificaco_Dep\")","v":"Certificaco_Dep"},1,20,{"$f":"(AO2036=Parametros[Segmento])*(AP2036>0)*(AQ2036>0)","v":0}]
[{"$nulls":40},{"$f":"IF(Parametros[Certi_Depend]=1,\"Fondo_Menu\",\"Certificaco_Dep\")","v":"Certificaco_Dep"},1,20,{"$f":"(AO2037=Parametros[Segmento])*(AP2037>0)*(AQ2037>0)","v":0}]
[{"$nulls":40},{"$f":"IF(Parametros[Certi_Depend]=1,\"Fondo_Menu\",\"Certificaco_Dep\")","v":"Certificaco_Dep"},1,20,{"$f":"(AO2038=Parametros[Segmento])*(AP2038>0)*(AQ2038>0)","v":0}]
[{"$nulls":40},{"$f":"IF(Parametros[Certi_Depend]=1,\"Fondo_Menu\",\"Certificaco_Dep\")","v":"Certificaco_Dep"},1,20,{"$f":"(AO2039=Parametros[Segmento])*(AP2039>0)*(AQ2039>0)","v":0}]
[{"$nulls":40},{"$f":"IF(Parametros[Certi_Depend]=1,\"Fondo_Menu\",\"Certificaco_Dep\")","v":"Certificaco_Dep"},1,20,{"$f":"(AO2040=Parametros[Segmento])*(AP2040>0)*(AQ2040>0)","v":0}]
[null,{"$f":"IFERROR(VLOOKUP(Relacion_Certificacion,Cuerpo_Certificaciones,2,0),\"No ha indicado la Relacion con el Dependiente\")","v":"No ha indicado la Relacion con el Dependiente"},{"$nulls":38},{"$f":"IF(Parametros[Certi_Depend]=1,\"Fondo_Menu\",\"Certificaco_Dep\")","v":"Certificaco_Dep"},1,20,{"$f":"(AO2041=Parametros[Segmento])*(AP2041>0)*(AQ2041>0)","v":0}]
[{"$nulls":40},{"$f":"IF(Parametros[Certi_Depend]=1,\"Fondo_Menu\",\"Certificaco_Dep\")","v":"Certificaco_Dep"},1,20,{"$f":"(AO2042=Parametros[Segmento])*(AP2042>0)*(AQ2042>0)","v":0}]
[{"$nulls":40},{"$f":"IF(Parametros[Certi_Depend]=1,\"Fondo_Menu\",\"Certificaco_Dep\")","v":"Certificaco_Dep"},1,20,{"$f":"(AO2043=Parametros[Segmento])*(AP2043>0)*(AQ2043>0)","v":0}]
[{"$nulls":40},{"$f":"IF(Parametros[Certi_Depend]=1,\"Fondo_Menu\",\"Certificaco_Dep\")","v":"Certificaco_Dep"},1,20,{"$f":"(AO2044=Parametros[Segmento])*(AP2044>0)*(AQ2044>0)","v":0}]
[{"$nulls":40},{"$f":"IF(Parametros[Certi_Depend]=1,\"Fondo_Menu\",\"Certificaco_Dep\")","v":"Certificaco_Dep"},1,20,{"$f":"(AO2045=Parametros[Segmento])*(AP2045>0)*(AQ2045>0)","v":0}]
[{"$nulls":40},{"$f":"IF(Parametros[Certi_Depend]=1,\"Fondo_Menu\",\"Certificaco_Dep\")","v":"Certificaco_Dep"},1,20,{"$f":"(AO2046=Parametros[Segmento])*(AP2046>0)*(AQ2046>0)","v":0}]
[{"$nulls":40},{"$f":"IF(Parametros[Certi_Depend]=1,\"Fondo_Menu\",\"Certificaco_Dep\")","v":"Certificaco_Dep"},1,20,{"$f":"(AO2047=Parametros[Segmento])*(AP2047>0)*(AQ2047>0)","v":0}]
[{"$nulls":40},{"$f":"IF(Parametros[Certi_Depend]=1,\"Fondo_Menu\",\"Certificaco_Dep\")","v":"Certificaco_Dep"},1,20,{"$f":"(AO2048=Parametros[Segmento])*(AP2048>0)*(AQ2048>0)","v":0}]
[{"$nulls":40},{"$f":"IF(Parametros[Certi_Depend]=1,\"Fondo_Menu\",\"Certificaco_Dep\")","v":"Certificaco_Dep"},1,20,{"$f":"(AO2049=Parametros[Segmento])*(AP2049>0)*(AQ2049>0)","v":0}]
[{"$nulls":40},{"$f":"IF(Parametros[Certi_Depend]=1,\"Fondo_Menu\",\"Certificaco_Dep\")","v":"Certificaco_Dep"},1,20,{"$f":"(AO2050=Parametros[Segmento])*(AP2050>0)*(AQ2050>0)","v":0}]
[{"$nulls":40},{"$f":"IF(Parametros[Certi_Depend]=1,\"Fondo_Menu\",\"Certificaco_Dep\")","v":"Certificaco_Dep"},1,20,{"$f":"(AO2051=Parametros[Segmento])*(AP2051>0)*(AQ2051>0)","v":0}]
[{"$nulls":40},{"$f":"IF(Parametros[Certi_Depend]=1,\"Fondo_Menu\",\"Certificaco_Dep\")","v":"Certificaco_Dep"},1,20,{"$f":"(AO2052=Parametros[Segmento])*(AP2052>0)*(AQ2052>0)","v":0}]
[{"$nulls":40},{"$f":"IF(Parametros[Certi_Depend]=1,\"Fondo_Menu\",\"Certificaco_Dep\")","v":"Certificaco_Dep"},1,20,{"$f":"(AO2053=Parametros[Segmento])*(AP2053>0)*(AQ2053>0)","v":0}]
[{"$nulls":40},{"$f":"IF(Parametros[Certi_Depend]=1,\"Fondo_Menu\",\"Certificaco_Dep\")","v":"Certificaco_Dep"},1,20,{"$f":"(AO2054=Parametros[Segmento])*(AP2054>0)*(AQ2054>0)","v":0}]
[{"$nulls":40},{"$f":"IF(Parametros[Certi_Depend]=1,\"Fondo_Menu\",\"Certificaco_Dep\")","v":"Certificaco_Dep"},1,20,{"$f":"(AO2055=Parametros[Segmento])*(AP2055>0)*(AQ2055>0)","v":0}]
[{"$nulls":40},{"$f":"IF(Parametros[Certi_Depend]=1,\"Fondo_Menu\",\"Certificaco_Dep\")","v":"Certificaco_Dep"},1,20,{"$f":"(AO2056=Parametros[Segmento])*(AP2056>0)*(AQ2056>0)","v":0}]
[{"$nulls":40},{"$f":"IF(Parametros[Certi_Depend]=1,\"Fondo_Menu\",\"Certificaco_Dep\")","v":"Certificaco_Dep"},1,20,{"$f":"(AO2057=Parametros[Segmento])*(AP2057>0)*(AQ2057>0)","v":0}]
[{"$nulls":40},{"$f":"IF(Parametros[Certi_Depend]=1,\"Fondo_Menu\",\"Certificaco_Dep\")","v":"Certificaco_Dep"},1,20,{"$f":"(AO2058=Parametros[Segmento])*(AP2058>0)*(AQ2058>0)","v":0}]
[{"$nulls":40},{"$f":"IF(Parametros[Certi_Depend]=1,\"Fondo_Menu\",\"Certificaco_Dep\")","v":"Certificaco_Dep"},1,20,{"$f":"(AO2059=Parametros[Segmento])*(AP2059>0)*(AQ2059>0)","v":0}]
[null,{"$f":"IFERROR(VLOOKUP(Relacion_Certificacion,Cuerpo_Certificaciones,4,0),\"No ha indicado la Relacion con el Dependiente\")","v":"No ha indicado la Relacion con el Dependiente"},{"$nulls":38},{"$f":"IF(Parametros[Certi_Depend]=1,\"Fondo_Menu\",\"Certificaco_Dep\")","v":"Certificaco_Dep"},1,20,{"$f":"(AO2060=Parametros[Segmento])*(AP2060>0)*(AQ2060>0)","v":0}]
[{"$nulls":40},{"$f":"IF(Parametros[Certi_Depend]=1,\"Fondo_Menu\",\"Certificaco_Dep\")","v":"Certificaco_Dep"},1,20,{"$f":"(AO2061=Parametros[Segmento])*(AP2061>0)*(AQ2061>0)","v":0}]
[{"$nulls":40},{"$f":"IF(Parametros[Certi_Depend]=1,\"Fondo_Menu\",\"Certificaco_Dep\")","v":"Certificaco_Dep"},1,20,{"$f":"(AO2062=Parametros[Segmento])*(AP2062>0)*(AQ2062>0)","v":0}]
[{"$nulls":40},{"$f":"IF(Parametros[Certi_Depend]=1,\"Fondo_Menu\",\"Certificaco_Dep\")","v":"Certificaco_Dep"},1,20,{"$f":"(AO2063=Parametros[Segmento])*(AP2063>0)*(AQ2063>0)","v":0}]
[{"$nulls":40},{"$f":"IF(Parametros[Certi_Depend]=1,\"Fondo_Menu\",\"Certificaco_Dep\")","v":"Certificaco_Dep"},1,20,{"$f":"(AO2064=Parametros[Segmento])*(AP2064>0)*(AQ2064>0)","v":0}]
[3,50,20,6,16,13,15,20,25,17,17,15,15,0,0,0,0,0,{"$nulls":22},"Contribuyentes",0,15,{"$f":"(AO2065=Parametros[Segmento])*(AP2065>0)*(AQ2065>0)","v":0}]
[{"$nulls":40},"Contribuyentes",{"$f":"(ROW()<=Parametros[Contribuyentes])*1","v":0},20,{"$f":"(AO2066=Parametros[Segmento])*(AP2066>0)*(AQ2066>0)","v":0}]
[null,"Hoja de Control del Contador - Contribuyente",{"$nulls":38},"Contribuyentes",{"$f":"(ROW()<=Parametros[Contribuyentes])*1+(OFFSET(AO2067,1,0)=\"\")*(Parametros[Segmento]=\"Contribuyentes\")","v":0},30,{"$f":"(AO2067=Parametros[Segmento])*(AP2067>0)*(AQ2067>0)","v":0}]
[{"$nulls":40},"Contribuyentes",{"$f":"(ROW()<=Parametros[Contribuyentes])*1+(OFFSET(AO2068,1,0)=\"\")*(Parametros[Segmento]=\"Contribuyentes\")","v":0},20,{"$f":"(AO2068=Parametros[Segmento])*(AP2068>0)*(AQ2068>0)","v":0}]
[null,"Nombre del contador ",{"$nulls":38},"Contribuyentes",{"$f":"(ROW()<=Parametros[Contribuyentes])*1+(OFFSET(AO2069,1,0)=\"\")*(Parametros[Segmento]=\"Contribuyentes\")","v":0},30,{"$f":"(AO2069=Parametros[Segmento])*(AP2069>0)*(AQ2069>0)","v":0}]
[null,"Documento de Indentidad",{"$nulls":38},"Contribuyentes",{"$f":"(ROW()<=Parametros[Contribuyentes])*1+(OFFSET(AO2070,1,0)=\"\")*(Parametros[Segmento]=\"Contribuyentes\")","v":0},30,{"$f":"(AO2070=Parametros[Segmento])*(AP2070>0)*(AQ2070>0)","v":0}]
[null,"Tarjeta Profesional ",{"$nulls":38},"Contribuyentes",{"$f":"(ROW()<=Parametros[Contribuyentes])*1+(OFFSET(AO2071,1,0)=\"\")*(Parametros[Segmento]=\"Contribuyentes\")","v":0},30,{"$f":"(AO2071=Parametros[Segmento])*(AP2071>0)*(AQ2071>0)","v":0}]
[null,{"$f":"TRIM(IF(' '!$D$129=\"\",\"\",' '!$D$129)&\" \"&IF(' '!$D$130=\"\",\"\",' '!$D$130)&\" \"&IF(' '!$D$131=\"\",\"\",' '!$D$131)&\" \"&IF(' '!$D$132=\"\",\"\",' '!$D$132))","v":"Andrés Julián Martínez"},{"$f":"IF(' '!$D$133=\"\",\"\",' '!$D$133)","v":1112674696},{"$nulls":3},{"$f":"IF($D$173=\"\",\"\",$D$173)","v":"22/08/2023"},{"$nulls":33},"Contribuyentes",{"$f":"(ROW()<=Parametros[Contribuyentes])*1+(OFFSET(AO2072,1,0)=\"\")*(Parametros[Segmento]=\"Contribuyentes\")","v":0},20,{"$f":"(AO2072=Parametros[Segmento])*(AP2072>0)*(AQ2072>0)","v":0}]
[null,"Nombre","NIT","DV","Vencimiento","Dias Restantes","Fecha Presentación","Número de contacto ","E-Mail","Clave DIAN ","Clave Firma Electrónica ","Honorarios Contador","Pagado","Data_Celdas","Bloques","Data_Bloques","Seleccionado","Fil_Ven",{"$nulls":22},"Contribuyentes",{"$f":"(ROW()<=Parametros[Contribuyentes])*1+(OFFSET(AO2073,1,0)=\"\")*(Parametros[Segmento]=\"Contribuyentes\")","v":0},39.6,{"$f":"(AO2073=Parametros[Segmento])*(AP2073>0)*(AQ2073>0)","v":0}]
[{"$nulls":3},{"$f":"modOnce(Contribuyentes[[#This Row],[NIT]])","v":0},{"$f":"IFERROR(VLOOKUP(RIGHT(Contribuyentes[[#This Row],[NIT]],2),$G$1857:$P$1957,6,0),\"\")","v":""},{"$f":"IF(Contribuyentes[[#This Row],[Vencimiento]]=\"\",\"\",Contribuyentes[[#This Row],[Vencimiento]]-TODAY())","v":""},{"$nulls":10},{"$f":"ROW()=ROW(Contribuyentes[#Headers])+Parametros[Actual]","v":false},{"$f":"(Contribuyentes[[#This Row],[Vencimiento]]=Parametros[Fecha_Seleccion_Vencimiento])*1","v":0},{"$nulls":22},"Contribuyentes",{"$f":"(ROW()<=Parametros[Contribuyentes])*1+(OFFSET(AO2074,1,0)=\"\")*(Parametros[Segmento]=\"Contribuyentes\")","v":0},30,{"$f":"(AO2074=Parametros[Segmento])*(AP2074>0)*(AQ2074>0)","v":0}]
[{"$nulls":40},"Contribuyentes",{"$f":"(ROW()<=Parametros[Contribuyentes])*1+(OFFSET(AO2075,1,0)=\"\")*(Parametros[Segmento]=\"Contribuyentes\")","v":0},30,{"$f":"(AO2075=Parametros[Segmento])*(AP2075>0)*(AQ2075>0)","v":0}]

{"sheet":"Resumen","index":4,"n_rows":196,"n_cols":6,"rows_kept":196,"hidden":true}
[]
[null,"Resumen de información F210"]
[null,"Patrimonio "]
[{"$nulls":3},"Patrimonio Bruto",29,{"$f":"+ROUND(' '!E412,-3)","v":{"v":287776000,"d":"$ 287,776,000"}}]
[{"$nulls":3},"Deudas ",30,{"$f":"+ROUND(' '!E497,-3)","v":{"v":15698000,"d":"$ 15,698,000"}}]
[{"$nulls":3},"Total patrimonio líquido ",31,{"$f":"ROUND(IF((F4-F5)>0,(F4-F5),0),-3)","v":{"v":272078000,"d":"$ 272,078,000"}}]
[null,"Cédula General"]
[null,"Rentas de trabajo "]
[null,null,"Ingresos "]
[{"$nulls":3},"Ingresos brutos ",32,{"$f":"ROUND(' '!D868,-3)","v":{"v":0,"d":"$ 0"}}]
[{"$nulls":3},"Ingresos no constitutivos de renta ",33,{"$f":"ROUND(' '!D870,-3)","v":{"v":0,"d":"$ 0"}}]
[{"$nulls":3},"Renta líquida ",34,{"$f":"ROUND(IF((F10-F11)>=0,(F10-F11),0),-3)","v":{"v":0,"d":"$ 0"}}]
[null,null,"Rentas exentas "]
[{"$nulls":3},"Aportes voluntarios AFC, FVP y/o AVC",35,{"$f":"ROUND(IF(F12>0,' '!F586+' '!F587,0),-3)","v":{"v":0,"d":"$ 0"}}]
[{"$nulls":3},"Otras rentas exentas ",36,{"$f":"ROUND(IF(F12>0,' '!F582+SUM(' '!F588:F595),0),-3)","v":{"v":0,"d":"$ 0"}}]
[{"$nulls":3},"Total rentas exentas ",37,{"$f":"ROUND(SUM(F14:F15),-3)","v":{"v":0,"d":"$ 0"}}]
[null,null,"Deducciones imputables "]
[{"$nulls":3},"Intereses de vivienda ",38,{"$f":"ROUND(IF(F12>0,' '!F563,0),-3)","v":{"v":0,"d":"$ 0"}}]
[{"$nulls":3},"Otras deducciones imputables ",39,{"$f":"ROUND(IF(F12>0,SUM(' '!F564:F568),0),-3)","v":{"v":0,"d":"$ 0"}}]
[{"$nulls":3},"Total deducciones imputables ",40,{"$f":"ROUND(SUM(F18:F19),-3)","v":{"v":0,"d":"$ 0"}}]
[null,null,"Rentas exentas y/o deducciones imputables limitadas",null,41,{"$f":"ROUND(' '!D876,-3)","v":{"v":0,"d":"$ 0"}}]
[null,null,"Renta líquida ordinaria",null,42,{"$f":"ROUND(IF((F12-F21)>0,F12-F21,0),-3)","v":{"v":0,"d":"$ 0"}}]
[null,"Rentas por honorarios y prestación de servicios personales sujetos a costos y gastos"]
[null,null,"Ingresos "]
[{"$nulls":3},"Ingresos brutos ",43,{"$f":"ROUND(' '!E868,-3)","v":{"v":0,"d":"$ 0"}}]
[{"$nulls":3},"Ingresos no constitutivos de renta ",44,{"$f":"ROUND(' '!E870,-3)","v":{"v":0,"d":"$ 0"}}]
[{"$nulls":3},"Costos y deducciones procedentes",45,{"$f":"ROUND(' '!E871,-3)","v":{"v":0,"d":"$ 0"}}]
[{"$nulls":3},"Renta líquida ",46,{"$f":"ROUND(IF((F25-F26-F27)>=0,(F25-F26-F27),0),-3)","v":{"v":0,"d":"$ 0"}}]
[null,null,"Rentas exentas "]
[{"$nulls":3},"Aportes voluntarios AFC, FVP y/o AVC",47,{"$f":"ROUND(IF(F28>0,' '!F669+' '!F670,0),-3)","v":{"v":0,"d":"$ 0"}}]
[{"$nulls":3},"Otras rentas exentas ",48,{"$f":"ROUND(IF(F28>0,' '!F665,0),-3)","v":{"v":0,"d":"$ 0"}}]
[{"$nulls":3},"Total rentas exentas ",49,{"$f":"ROUND(SUM(F30:F31),-3)","v":{"v":0,"d":"$ 0"}}]
[null,null,"Deducciones imputables "]
[{"$nulls":3},"Intereses de vivienda ",50,{"$f":"ROUND(IF(F28>0,' '!F653,0),-3)","v":{"v":0,"d":"$ 0"}}]
[{"$nulls":3},"Otras deducciones imputables ",51,{"$f":"ROUND(IF(F28>0,SUM(' '!F654:F658),0),-3)","v":{"v":0,"d":"$ 0"}}]
[{"$nulls":3},"Total deducciones imputables ",52,{"$f":"ROUND(SUM(F34:F35),-3)","v":{"v":0,"d":"$ 0"}}]
[null,null,"Rentas exentas y/o deducciones imputables limitadas",null,53,{"$f":"ROUND(' '!E876,-3)","v":{"v":0,"d":"$ 0"}}]
[null,null,"Renta líquida ordinaria del ejercicio",null,54,{"$f":"ROUND(IF((F25-F26-F27-F37)>=0,F25-F26-F27-F37,0),-3)","v":{"v":0,"d":"$ 0"}}]
[null,null,"Pérdida líquida del ejercicio ",null,55,{"$f":"ROUND(IF((F26+F27-F25)>0,(F26+F27-F25),0),-3)","v":{"v":0,"d":"$ 0"}}]
[null,null,"Compensaciones por pérdidas ",null,56,{"$f":"ROUND(' '!C1179,-3)","v":{"v":0,"d":"$ 0"}}]
[null,null,"Renta líquida ordinaria",null,57,{"$f":"ROUND(IF((F38-F40)>0,(F38-F40),0),-3)","v":{"v":0,"d":"$ 0"}}]
[null,"Rentas de Capital "]
[null,null,"Ingresos "]
[{"$nulls":3},"Ingresos brutos ",58,{"$f":"ROUND(' '!F868,-3)","v":{"v":235000,"d":"$ 235,000"}}]
[{"$nulls":3},"Ingresos no constitutivos de renta ",59,{"$f":"+ROUND(+' '!F870,-3)","v":{"v":235000,"d":"$ 235,000"}}]
[{"$nulls":3},"Costos y deducciones procedentes",60,{"$f":"ROUND(' '!F871,-3)","v":{"v":0,"d":"$ 0"}}]
[{"$nulls":3},"Renta líquida ",61,{"$f":"ROUND(IF((F44-F45-F46)>=0,(F44-F45-F46),0),-3)","v":{"v":0,"d":"$ 0"}}]
[{"$nulls":3},"Renta líquidas pasivas - ECE ",62,{"$f":"+ROUND(' '!F873,-3)","v":{"v":0,"d":"$ 0"}}]
[null,null,"Rentas exentas "]
[{"$nulls":3},"Aportes voluntarios AFC, FVP y/o AVC",63,{"$f":"ROUND(IF(F47>0,' '!F758+' '!F759,0),-3)","v":{"v":0,"d":"$ 0"}}]
[{"$nulls":3},"Otras rentas exentas ",64,{"$f":"ROUND(IF(F47>0,' '!F754+SUM(' '!F760:F762),0),-3)","v":{"v":0,"d":"$ 0"}}]
[{"$nulls":3},"Total rentas exentas ",65,{"$f":"ROUND(SUM(F50:F51),-3)","v":{"v":0,"d":"$ 0"}}]
[null,null,"Deducciones imputables "]
[{"$nulls":3},"Intereses de vivienda ",66,{"$f":"ROUND(IF(F47>0,' '!F745,0),-3)","v":{"v":0,"d":"$ 0"}}]
[{"$nulls":3},"Otras deducciones imputables ",67,{"$f":"ROUND(IF(F47>0,SUM(' '!F746:F748),0),-3)","v":{"v":0,"d":"$ 0"}}]
[{"$nulls":3},"Total deducciones imputables ",68,{"$f":"ROUND(SUM(F54:F55),-3)","v":{"v":0,"d":"$ 0"}}]
[null,null,"Rentas exentas y/o deducciones imputables limitadas",null,69,{"$f":"ROUND(' '!F876,-3)","v":{"v":0,"d":"$ 0"}}]
[null,null,"Renta líquida ordinaria del ejercicio",null,70,{"$f":"ROUND(IF((F44+F48-F45-F46-F57)>=0,(F44+F48-F45-F46-F57),0),-3)","v":{"v":0,"d":"$ 0"}}]
[null,null,"Pérdida líquida del ejercicio ",null,71,{"$f":"ROUND(IF((F45+F46-F44-F48)>0,(F45+F46-F44-F48),0),-3)","v":{"v":0,"d":"$ 0"}}]
[null,null,"Compensaciones por pérdidas ",null,72,{"$f":"ROUND(' '!C1187,-3)","v":{"v":0,"d":"$ 0"}}]
[null,null,"Renta líquida ordinaria",null,73,{"$f":"ROUND(IF((F58-F60)>0,(F58-F60),0),-3)","v":{"v":0,"d":"$ 0"}}]
[null,"Rentas No Laborales"]
[null,null,"Ingresos "]
[{"$nulls":3},"Ingresos brutos ",74,{"$f":"ROUND(' '!G868,-3)","v":{"v":0,"d":"$ 0"}}]
[{"$nulls":3},"Devoluciones, rebajas y descuentos",75,{"$f":"ROUND(' '!G869,-3)","v":{"v":0,"d":"$ 0"}}]
[{"$nulls":3},"Ingresos no constitutivos de renta ",76,{"$f":"ROUND(' '!G870,-3)","v":{"v":0,"d":"$ 0"}}]
[{"$nulls":3},"Costos y deducciones procedentes",77,{"$f":"ROUND(' '!G871,-3)","v":{"v":0,"d":"$ 0"}}]
[{"$nulls":3},"Renta líquida ",78,{"$f":"ROUND(IF((F64-F65-F66-F67)>=0,(F64-F65-F66-F67),0),-3)","v":{"v":0,"d":"$ 0"}}]
[{"$nulls":3},"Renta liquidas pasivas - ECE ",79,{"$f":"ROUND(' '!G873,-3)","v":{"v":0,"d":"$ 0"}}]
[null,null,"Rentas exentas "]
[{"$nulls":3},"Aportes voluntarios AFC, FVP y/o AVC",80,{"$f":"ROUND(IF(F68>0,' '!F860+' '!F861,0),-3)","v":{"v":0,"d":"$ 0"}}]
[{"$nulls":3},"Otras rentas exentas ",81,{"$f":"ROUND(IF(F68>0,' '!F856+SUM(' '!F862:F862),0),-3)","v":{"v":0,"d":"$ 0"}}]
[{"$nulls":3},"Total rentas exentas ",82,{"$f":"ROUND(SUM(F71:F72),-3)","v":{"v":0,"d":"$ 0"}}]
[null,null,"Deducciones imputables "]
[{"$nulls":3},"Intereses de vivienda ",83,{"$f":"ROUND(IF(F68>0,' '!F845,0),-3)","v":{"v":0,"d":"$ 0"}}]
[{"$nulls":3},"Otras deducciones imputables ",84,{"$f":"ROUND(IF(F68>0,SUM(' '!F846:F848),0),-3)","v":{"v":0,"d":"$ 0"}}]
[{"$nulls":3},"Total deducciones imputables ",85,{"$f":"ROUND(SUM(F75:F76),-3)","v":{"v":0,"d":"$ 0"}}]
[null,null,"Rentas exentas y/o deducciones imputables limitadas",null,86,{"$f":"ROUND(' '!G876,-3)","v":{"v":0,"d":"$ 0"}}]
[null,null,"Renta líquida ordinaria del ejercicio",null,87,{"$f":"ROUND(IF((F64+F69-F65-F66-F67-F78)>0,(F64+F69-F65-F66-F67-F78),0),-3)","v":{"v":0,"d":"$ 0"}}]
[null,null,"Pérdida líquida del ejercicio ",null,88,{"$f":"ROUND(IF((F65+F66+F67-F64-F69)>0,(F65+F66+F67-F64-F69),0),-3)","v":{"v":0,"d":"$ 0"}}]
[null,null,"Compensaciones por pérdidas ",null,89,{"$f":"ROUND(' '!C1195,-3)","v":{"v":0,"d":"$ 0"}}]
[null,null,"Renta líquida ordinaria",null,90,{"$f":"ROUND(IF((F79-F81)>0,(F79-F81),0),-3)","v":{"v":0,"d":"$ 0"}}]
[null,null,"Renta líquida cédula general ",null,91,{"$f":"ROUND(F21+F22+F37+F41+F57+F61+F78+F82,-3)","v":{"v":0,"d":"$ 0"}}]
[null,null,"Rentas exentas y deducciones imputables limitadas ",null,92,{"$f":"ROUND(F21+F37+F57+F78,-3)","v":{"v":0,"d":"$ 0"}}]
[null,null,"Renta líquida ordinaria cédula general ",null,93,{"$f":"ROUND(IF((F83-F84)>0,(F83-F84),0),-3)","v":{"v":0,"d":"$ 0"}}]
[null,null,"Compensaciones pérdidas fiscales año 2018 y anteriores ",null,94,{"$f":"ROUND(' '!C1204,-3)","v":{"v":0,"d":"$ 0"}}]
[null,null,"Compensación por exceso renta presuntiva ",null,95,{"$f":"ROUND(' '!C1213,-3)","v":{"v":0,"d":"$ 0"}}]
[null,null,"Rentas gravables ",null,96,{"$f":"ROUND(' '!D1229,-3)","v":{"v":0,"d":"$ 0"}}]
[null,null,"Renta líquida gravable cédula general",null,97,{"$f":"ROUND(IF((F85+F88-F86-F87)>0,(F85+F88-F86-F87),0),-3)","v":{"v":0,"d":"$ 0"}}]
[null,null,"Renta presuntiva ",null,98,{"v":0,"d":"$ 0"}]
[null,"Cédula de Pensiones"]
[null,null,"Ingresos "]
[{"$nulls":3},"Ingresos brutos por rentas de pensiones del país y del exterior ",99,{"$f":"ROUND(' '!F906,-3)","v":{"v":58500000,"d":"$ 58,500,000"}}]
[{"$nulls":3},"Ingresos no constitutivos de renta ",100,{"$f":"ROUND(' '!F912,-3)","v":{"v":2340000,"d":"$ 2,340,000"}}]
[{"$nulls":3},"Renta líquida ",101,{"$f":"ROUND(IF((F93-F94)>0,(F93-F94),0),-3)","v":{"v":56160000,"d":"$ 56,160,000"}}]
[null,null,"Rentas exentas  "]
[{"$nulls":3},"Rentas exentas de pensiones ",102,{"$f":"ROUND(' '!F918,-3)","v":{"v":56160000,"d":"$ 56,160,000"}}]
[null,null,"Renta líquida gravable cédula de pensiones",null,103,{"$f":"ROUND(IF((F95-F97)>0,(F95-F97),0),-3)","v":{"v":0,"d":"$ 0"}}]
[null,"Cédula de dividendos y participaciones",{"$nulls":3},"     "]
[null,null,"Ingresos"]
[{"$nulls":3},"Dividendos y participaciones 2016 y anteriores, y otros ",104,{"$f":"ROUND(' '!D928,-3)","v":{"v":0,"d":"$ 0"}}]
[{"$nulls":3},"Ingresos no constitutivos de renta ",105,{"$f":"ROUND(' '!D935,-3)","v":{"v":0,"d":"$ 0"}}]
[{"$nulls":3},"Renta líquida ordinaria año 2016 y anteriores",106,{"$f":"ROUND(IF((F101-F102)>0,(F101-F102),0),-3)","v":{"v":0,"d":"$ 0"}}]
[{"$nulls":3},"1a. Subcédula año 2017 y siguientes numeral 3 artículo 49 del ET ",107,{"$f":"ROUND(' '!D939,-3)","v":{"v":0,"d":"$ 0"}}]
[{"$nulls":3},"2a. Subcédula año 2017 y siguientes parágrafo 2 artículo 49 del ET ",108,{"$f":"ROUND(' '!D940,-3)","v":{"v":0,"d":"$ 0"}}]
[{"$nulls":3},"Renta líquida pasiva dividendos - ECE y/o recibidos del exterior ",109,{"$f":"ROUND(' '!D948,-3)","v":{"v":0,"d":"$ 0"}}]
[null,null,"Rentas exentas "]
[{"$nulls":3},"Rentas exentas de la casilla 109 ",110,{"$f":"ROUND(' '!D953,-3)","v":{"v":0,"d":"$ 0"}}]
[null,"Ganancias Ocasionales "]
[null,null,"Ingresos "]
[{"$nulls":3},"Ingresos por ganancias ocasionales en el país y del exterior ",111,{"$f":"ROUND(' '!D1155,-3)","v":{"v":0,"d":"$ 0"}}]
[{"$nulls":3},"Rentas deudores régimen Ley 1116 de 2006; Decretos 560 y 772 de 2020",112,{"$f":"ROUND(' '!D1160,-3)","v":{"v":0,"d":"$ 0"}}]
[{"$nulls":3},"Utilización pérdidas fiscales acumuladas (inciso 2 del artículo 15 del Decreto 772 de 2020)",113,{"$f":"ROUND(' '!D1161,-3)","v":{"v":0,"d":"$ 0"}}]
[{"$nulls":3},"Costos por ganancias ocasionales ",114,{"$f":"ROUND(' '!D1162,-3)","v":{"v":0,"d":"$ 0"}}]
[{"$nulls":3},"Ganancias ocasionales no gravadas y exentas ",115,{"$f":"ROUND(' '!D1163,-3)","v":{"v":0,"d":"$ 0"}}]
[{"$nulls":3},"Ganancias ocasionales gravables",116,{"$f":"+' '!D1166","v":{"v":0,"d":"$ 0"}}]
[null,"Liquidación Privada "]
[null,null,"Impuesto sobre las rentas líquidas gravables"]
[{"$nulls":3},"General y de pensiones ",117,{"$f":"ROUND(IF(OR(F89>0,F98>0),MAX(' '!G1305,' '!G1306,' '!G1307,' '!G1308,' '!G1309,' '!G1310,' '!G1311),0),-3)","v":{"v":0,"d":"$ 0"}}]
[{"$nulls":3},"Rentas presuntivas y de pensiones",118,{"$f":"ROUND(IF(F90>F89,MAX(' '!G1305,' '!G1306,' '!G1307,' '!G1308,' '!G1309,' '!G1310,' '!G1311),0),-3)","v":{"v":0,"d":"$ 0"}}]
[{"$nulls":3},"Por dividendos y participaciones año 2016 ",119,{"$f":"ROUND(IF(F103>0,MAX(' '!G1317,' '!G1318,' '!G1319,' '!G1320),0),-3)","v":{"v":0,"d":"$ 0"}}]
[{"$nulls":3},"Por dividendos y participaciones año 2017 y siguientes, 1a. subcédula ",120,{"$f":"ROUND(IF(F104>0,MAX(' '!G1326,' '!G1327),0),-3)","v":{"v":0,"d":"$ 0"}}]
[{"$nulls":3},"Por dividendos y participaciones año 2017 y siguientes, 2a. Subcédula, y otros ",121,{"$f":"ROUND(IF((F105+F106-F108)>0,' '!G1343,0),-3)","v":{"v":0,"d":"$ 0"}}]
[{"$nulls":3},"Total impuesto sobre las rentas líquidas gravables",122,{"$f":"ROUND(SUM(F119:F123),-3)","v":{"v":0,"d":"$ 0"}}]
[null,null,"Descuentos "]
[{"$nulls":3},"Impuestos pagados en el exterior ",123,{"$f":"ROUND(' '!D1258,-3)","v":{"v":0,"d":"$ 0"}}]
[{"$nulls":3},"Donaciones",124,{"$f":"ROUND(' '!D1287,-3)","v":{"v":0,"d":"$ 0"}}]
[{"$nulls":3},"Otros ",125,{"$f":"ROUND(' '!D1294,-3)","v":{"v":0,"d":"$ 0"}}]
[{"$nulls":3},"Total descuentos tributarios ",126,{"$f":"ROUND(SUM(F126:F128),-3)","v":{"v":0,"d":"$ 0"}}]
[null,null,"Impuesto neto de renta ",null,127,{"$f":"ROUND(IF((F124-F129)>0,(F124-F129),0),-3)","v":{"v":0,"d":"$ 0"}}]
[null,null,"Impuesto de ganancias ocasionales ",null,128,{"$f":"ROUND(' '!E1169+' '!E1170,-3)","v":{"v":0,"d":"$ 0"}}]
[null,null,"Descuento por impuestos pagados en el exterior por ganancias ocasionales ",null,129,{"$f":"ROUND(IF(' '!D1262>F131,F131,' '!D1262),-3)","v":{"v":0,"d":"$ 0"}}]
[null,null,"Total impuesto a cargo ",null,130,{"$f":"ROUND(F130+F131-F132,-3)","v":{"v":0,"d":"$ 0"}}]
[null,null,"Anticipo de renta liquidado año gravable anterior ",null,131,{"$f":"ROUND(' '!D158,-3)","v":{"v":0,"d":"$ 0"}}]
[null,null,"Saldo a favor del año gravable anterior, sin solicitud de devolución y/o compensación ",null,132,{"$f":"ROUND(' '!D157,-3)","v":{"v":0,"d":"$ 0"}}]
[null,null,"Retenciones año gravable a declarar ",null,133,{"$f":"ROUND(ROUND(' '!C1245,-3),-3)","v":{"v":0,"d":"$ 0"}}]
[null,null,"Anticipo de renta para el año gravable siguiente",null,134,{"$f":"ROUND(IF(' '!D1357=\" \",MIN(' '!D1355,' '!D1356),IF(' '!D1357=\"Opción 1\",' '!D1355,' '!D1356)),-3)","v":{"v":0,"d":"$ 0"}}]
[null,null,"Saldo a pagar por impuesto ",null,135,{"$f":"ROUND(IF((F133+F137-F134-F135-F136)>0,(F133+F137-F134-F135-F136),0),-3)","v":{"v":0,"d":"$ 0"}}]
[null,null,"Sanciones",null,136,{"$f":"ROUND(IF(OR(' '!E1466=\"Sí\",' '!E1476=\"Sí\"),IF(' '!E1466=\"Sí\",' '!E1475,IF(' '!E1476=\"Sí\",' '!E1485,' '!E1463)),' '!E1463),-3)","v":{"v":0,"d":"$ 0"}}]
[null,null,"Total saldo a pagar ",null,137,{"$f":"+IF((F133+F137+F139-F134-F135-F136)>0,(F133+F137+F139-F134-F135-F136),0)","v":{"v":0,"d":"$ 0"}}]
[null,null,"Total saldo a favor",null,138,{"$f":"+ROUND(IF((F134+F135+F136-F133-F137-F139)>0,(F134+F135+F136-F133-F137-F139),0),-3)","v":{"v":0,"d":"$ 0"}}]
{"$rows_empty":12}
[{"$nulls":3},"NO BORRAR, TABLAS PARA LOS GRAFICOS"]
[]
[{"$nulls":3},"Descripción","Total"]
[{"$nulls":3},"Total disponible a 31 de diciembre de 2022 ",{"$f":"' '!$U$211","v":{"v":14351000,"d":"$ 14,351,000"}},{"$f":"IFERROR(TEXT(E157,\"$ #.##0\")&\" - \"&TEXT(E157/SUM($E$157:$E$162),\"0,0%\"),\"0  -  0,0%\")","v":"$ 14.351.000 - 5,0%"}]
[{"$nulls":3},"Total acciones, aportes sociales y/o inversiones a 31 de diciembre de 2022 ",{"$f":"' '!$U$240","v":{"v":0,"d":"$ 0"}},"$ 0 - 0,0%"]
[{"$nulls":3},"Total cuentas por cobrar a 31 de diciembre de 2022 ",{"$f":"' '!$U$288","v":{"v":0,"d":"$ 0"}},"$ 0 - 0,0%"]
[{"$nulls":3},"Total inventarios a 31 de diciembre de 2022 ",{"$f":"' '!$U$296","v":{"v":0,"d":"$ 0"}},"$ 0 - 0,0%"]
[{"$nulls":3},"Total propiedad, planta y equipo a 31 de diciembre de 2022 ",{"$f":"' '!$U$394","v":{"v":273424525,"d":"$ 273,424,525"}},"$ 273.424.525 - 95,0%"]
[{"$nulls":3},"Total intangibles y otros bienes a 31 de diciembre de 2022 ",{"$f":"' '!$U$410","v":{"v":0,"d":"$ 0"}},"$ 0 - 0,0%"]
[]
[{"$nulls":3},"Descripción","Total"]
[{"$nulls":3},"Total tarjetas de crédito",{"$f":"' '!$U$421","v":{"v":1378000,"d":"$ 1,378,000"}},{"$f":"IFERROR(TEXT(E165,\"$ #.##0\")&\" - \"&TEXT(E165/SUM($E$165:$E$171),\"0,0%\"),\"0  -  0,0%\")","v":"$ 1.378.000 - 8,8%"}]
[{"$nulls":3},"Total créditos con entidades financieras ",{"$f":"' '!$U$425","v":{"v":14320000,"d":"$ 14,320,000"}},"$ 14.320.000 - 91,2%"]
[{"$nulls":3},"Total créditos con cooperativas ",{"$f":"' '!$U$429","v":{"v":0,"d":"$ 0"}},"$ 0 - 0,0%"]
[{"$nulls":3},"Total cuentas por pagar a particulares ",{"$f":"' '!$U$433","v":{"v":0,"d":"$ 0"}},"$ 0 - 0,0%"]
[{"$nulls":3},"Total cuentas por pagar a vinculados económicos ",{"$f":"' '!$U$441","v":{"v":0,"d":"$ 0"}},"$ 0 - 0,0%"]
[{"$nulls":3},"Total impuestos por pagar ",{"$f":"' '!$U$492","v":{"v":0,"d":"$ 0"}},"$ 0 - 0,0%"]
[{"$nulls":3},"Total otros pasivos y/o obligaciones",{"$f":"' '!$U$496","v":{"v":0,"d":"$ 0"}},"$ 0 - 0,0%"]
[]
[]
[]
[{"$nulls":3},"Concepto","Valor"]
[{"$nulls":3},"Bienes     "]
[{"$nulls":3},"Deudas     "]
[{"$nulls":3},"Patrimonio líquido     "]
[]
[]
[{"$nulls":3},"Ingresos "]
[{"$nulls":3},"Ingresos Ordinarios "]
[{"$nulls":3},"Concepto","Valor"]
[{"$nulls":3},"Rentas de trabajo ",{"$f":"+Resumen!F10","v":{"v":0,"d":"$ 0"}},{"$f":"IFERROR(TEXT(E184,\"$ #.##0\")&\" - \"&TEXT(E184/SUM($E$184:$E$190),\"0,0%\"),\"0  -  0,0%\")","v":"$ 0 - 0,0%"}]
[{"$nulls":3},"Rentas por honorarios y servicios",{"$f":"+Resumen!F25","v":{"v":0,"d":"$ 0"}},"$ 0 - 0,0%"]
[{"$nulls":3},"Rentas de capital",{"$f":"+Resumen!F44+Resumen!F48","v":{"v":235000,"d":"$ 235,000"}},"$ 235.000 - 0,4%"]
[{"$nulls":3},"Rentas no laborales",{"$f":"+Resumen!F64+Resumen!F69","v":{"v":0,"d":"$ 0"}},"$ 0 - 0,0%"]
[{"$nulls":3},"Rentas por pensiones",{"$f":"+Resumen!F93","v":{"v":58500000,"d":"$ 58,500,000"}},"$ 58.500.000 - 99,6%"]
[{"$nulls":3},"Dividendos ",{"$f":"+Resumen!F101+Resumen!F104+Resumen!F105+Resumen!F106","v":{"v":0,"d":"$ 0"}},"$ 0 - 0,0%"]
[{"$nulls":3},"Ganancias ocasionales",{"$f":"+Resumen!F111","v":{"v":0,"d":"$ 0"}},"$ 0 - 0,0%"]
[]
[{"$nulls":3},"Concepto","Valor"]
[{"$nulls":3},"Ingresos no gravados ",{"$f":"+Resumen!F11+Resumen!F26+Resumen!F45+Resumen!F66+Resumen!F94+Resumen!F102","v":{"v":2575000,"d":"$ 2,575,000"}},{"$f":"IFERROR(TEXT(E193,\"$ #.##0\")&\" - \"&TEXT(E193/SUM($E$193:$E$196),\"0,0%\"),\"0  -  0,0%\")","v":"$ 2.575.000 - 4,4%"}]
[{"$nulls":3},"Deducciones ",{"$f":"+Resumen!F20+Resumen!F36+Resumen!F56+Resumen!G78","v":{"v":0,"d":"$ 0"}},{"$f":"IFERROR(TEXT(E194,\"$ #.##0\")&\" - \"&TEXT(E194/SUM($E$193:$E$196),\"0,0%\"),\"0  -  0,0%\")","v":"$ 0 - 0,0%"}]
[{"$nulls":3},"Rentas exentas ",{"$f":"+Resumen!F16+Resumen!F32+Resumen!F52+Resumen!F73+Resumen!F97+Resumen!F108+Resumen!F115","v":{"v":56160000,"d":"$ 56,160,000"}},{"$f":"IFERROR(TEXT(E195,\"$ #.##0\")&\" - \"&TEXT(E195/SUM($E$193:$E$196),\"0,0%\"),\"0  -  0,0%\")","v":"$ 56.160.000 - 95,6%"}]
[{"$nulls":3},"Descuentos tributarios",{"$f":"+Resumen!F129+Resumen!F132","v":{"v":0,"d":"$ 0"}},{"$f":"IFERROR(TEXT(E196,\"$ #.##0\")&\" - \"&TEXT(E196/SUM($E$193:$E$196),\"0,0%\"),\"0  -  0,0%\")","v":"$ 0 - 0,0%"}]

{"sheet":"Listas","index":5,"n_rows":824,"n_cols":20,"rows_kept":824,"hidden":true}
[]
[null,"Sí",null,"Colombia ","Pago pendiente ",{"$nulls":12},{"$f":"' '!D148","v":0}]
[null,"No",null,"Exterior ","Pago realizado",{"$nulls":12},{"$f":"+R2/' '!D112","v":0}]
[null,"N/A"]
[null,"Lista de países",null,"Lista de actividades económicas ",null,null,"Códigos direcciones seccionales DIAN",{"$nulls":9},0,350,{"v":1,"d":"100%"},{"$f":"+IF(R3>Q5,IF((R3<=R5),S5,0),0)","v":{"v":0,"d":"0%"}}]
[{"$nulls":9},"Dígito de verificación",{"$nulls":6},350,410,{"v":0.9,"d":"90%"},{"$f":"+IF(R3>Q6,IF((R3<=R6),S6,0),0)","v":{"v":0,"d":"0%"}}]
[null,"No Aplica",{"$f":"+CONCATENATE(D7,\" - \",E7)","v":"0010 - Asalariados"},"0010","Asalariados",null,"Código","Lugares Administrativos",null,"0",null,null,"Esta es la primera vez",{"$nulls":3},410,470,{"v":0.8,"d":"80%"},{"$f":"+IF(R3>Q7,IF((R3<=R7),S7,0),0)","v":{"v":0,"d":"0%"}}]
[null,"Afganistán","0020 - Pensionados","0020","Pensionados",{"$f":"+CONCATENATE(G8,\" - \",H8)","v":"00 - Nivel Central"},"00","Nivel Central",null,1,null,null,"Esta es la segunda vez",{"$nulls":3},470,530,{"v":0.6,"d":"60%"},{"$f":"+IF(R3>Q8,IF((R3<=R8),S8,0),0)","v":{"v":0,"d":"0%"}}]
[null,"Albania","0081 - Personas naturales y sucesiones ilíquidas sin actividad económica","0081","Personas naturales y sucesiones ilíquidas sin actividad económica","01 - Dirección Seccional de Impuestos y Aduanas de Armenia","01","Dirección Seccional de Impuestos y Aduanas de Armenia",null,2,null,null,"Esta es la tercera vez o más",{"$nulls":3},530,590,{"v":0.4,"d":"40%"},{"$f":"+IF(R3>Q9,IF((R3<=R9),S9,0),0)","v":{"v":0,"d":"0%"}}]
[null,"Alemania","0082 - Personas naturales subsidiadas por terceros","0082","Personas naturales subsidiadas por terceros","02 - Dirección Seccional de Impuestos de Barranquilla","02","Dirección Seccional de Impuestos de Barranquilla",null,3,{"$nulls":6},590,650,{"v":0.2,"d":"20%"},{"$f":"+IF(R3>Q10,IF((R3<=R10),S10,0),0)","v":{"v":0,"d":"0%"}}]
[null,"Andorra","0090 - Rentistas de Capital, solo para personas naturales y sucesiones ilíquidas.","0090","Rentistas de Capital, solo para personas naturales y sucesiones ilíquidas.","03 - Dirección Seccional de Aduanas de Bogotá – Aeropuerto El Dorado","03","Dirección Seccional de Aduanas de Bogotá – Aeropuerto El Dorado",null,4,{"$nulls":6},650,null,{"v":0,"d":"0%"},{"$f":"+IF(R3>Q11,S11,0)","v":{"v":0,"d":"0%"}}]
[null,"Angola","0111 - Cultivo de cereales (excepto arroz), legumbres y semillas oleaginosas.","0111","Cultivo de cereales (excepto arroz), legumbres y semillas oleaginosas.","04 - Dirección Seccional de Impuestos y Aduanas de Bucaramanga","04","Dirección Seccional de Impuestos y Aduanas de Bucaramanga",null,5]
[null,"Antigua y Barbuda","0112 - Cultivo de arroz.","0112","Cultivo de arroz.","05 - Dirección Seccional de Impuestos de Cali","05","Dirección Seccional de Impuestos de Cali",null,6]
[null,"Arabia Saudita","0113 - Cultivo de hortalizas, raíces y tubérculos.","0113","Cultivo de hortalizas, raíces y tubérculos.","06 - Dirección Seccional de Impuestos de Cartagena","06","Dirección Seccional de Impuestos de Cartagena",null,7,null,null,"Opción 1"]
[null,"Argelia","0114 - Cultivo de tabaco.","0114","Cultivo de tabaco.","07 - Dirección Seccional de Impuestos de Cúcuta","07","Dirección Seccional de Impuestos de Cúcuta",null,8,null,null,"Opción 2"]
[null,"Argentina","0115 - Cultivo de plantas textiles.","0115","Cultivo de plantas textiles.","08 - Dirección Seccional de Impuestos y Aduanas de Girardot","08","Dirección Seccional de Impuestos y Aduanas de Girardot",null,9]
[null,"Armenia","0119 - Otros cultivos transitorios n.c.p.","0119","Otros cultivos transitorios n.c.p.","09 - Dirección Seccional de Impuestos y Aduanas de Ibagué","09","Dirección Seccional de Impuestos y Aduanas de Ibagué",{"$nulls":4},"Rentas - Honorarios"]
[null,"Australia","0121 - Cultivo de frutas tropicales y subtropicales.","0121","Cultivo de frutas tropicales y subtropicales.","10 - Dirección Seccional de Impuestos y Aduanas de Manizales",10,"Dirección Seccional de Impuestos y Aduanas de Manizales",null,"Utilidad en casa o apartamento de habitación",null,null,"Rentas de capital "]
[null,"Austria","0122 - Cultivo de plátano y banano.","0122","Cultivo de plátano y banano.","11 - Dirección Seccional de Impuestos de Medellín",11,"Dirección Seccional de Impuestos de Medellín",null,1986,{"v":0.1,"d":"10%"},null,"Rentas no laborales"]
[null,"Azerbaiyán","0123 - Cultivo de café.","0123","Cultivo de café.","12 - Dirección Seccional de Impuestos y Aduanas de Montería",12,"Dirección Seccional de Impuestos y Aduanas de Montería",null,1985,{"v":0.2,"d":"20%"}]
[null,"Bahamas","0124 - Cultivo de caña de azúcar.","0124","Cultivo de caña de azúcar.","13 - Dirección Seccional de Impuestos y Aduanas de Neiva",13,"Dirección Seccional de Impuestos y Aduanas de Neiva",null,1984,{"v":0.3,"d":"30%"}]
[null,"Bangladés","0125 - Cultivo de flor de corte.","0125","Cultivo de flor de corte.","14 - Dirección Seccional de Impuestos y Aduanas de Pasto",14,"Dirección Seccional de Impuestos y Aduanas de Pasto",null,1983,{"v":0.4,"d":"40%"},null,"Colombia"]
[null,"Barbados","0126 - Cultivo de palma para aceite (palma africana) y otros frutos oleaginosos.","0126","Cultivo de palma para aceite (palma africana) y otros frutos oleaginosos.","15 - Dirección Seccional de Impuestos y Aduanas de Palmira",15,"Dirección Seccional de Impuestos y Aduanas de Palmira",null,1982,{"v":0.5,"d":"50%"},null,"CAN"]
[null,"Baréin","0127 - Cultivo de plantas con las que se preparan bebidas.","0127","Cultivo de plantas con las que se preparan bebidas.","16 - Dirección Seccional de Impuestos y Aduanas de Pereira",16,"Dirección Seccional de Impuestos y Aduanas de Pereira",null,1981,{"v":0.6,"d":"60%"},null,"Otros países exterior "]
[null,"Bélgica","0128 - Cultivo de especias y de plantas aromáticas y medicinales.","0128","Cultivo de especias y de plantas aromáticas y medicinales.","17 - Dirección Seccional de Impuestos y Aduanas de Popayán",17,"Dirección Seccional de Impuestos y Aduanas de Popayán",null,1980,{"v":0.7,"d":"70%"}]
[null,"Belice","0129 - Otros cultivos permanentes n.c.p.","0129","Otros cultivos permanentes n.c.p.","18 - Dirección Seccional de Impuestos y Aduanas de Quibdó",18,"Dirección Seccional de Impuestos y Aduanas de Quibdó",null,1979,{"v":0.8,"d":"80%"}]
[null,"Benín","0130 - Propagación de plantas (actividades de los viveros, excepto viveros forestales).","0130","Propagación de plantas (actividades de los viveros, excepto viveros forestales).","19 - Dirección Seccional de Impuestos y Aduanas de Santa Marta",19,"Dirección Seccional de Impuestos y Aduanas de Santa Marta",null,1978,{"v":0.9,"d":"90%"}]
[null,"Bielorrusia","0141 - Cría de ganado bovino y bufalino.","0141","Cría de ganado bovino y bufalino.","20 - Dirección Seccional de Impuestos y Aduanas de Tunja",20,"Dirección Seccional de Impuestos y Aduanas de Tunja",null,1977,{"v":1,"d":"100%"}]
[null,"Birmania","0142 - Cría de caballos y otros equinos.","0142","Cría de caballos y otros equinos.","21 - Dirección Seccional de Impuestos y Aduanas de Tuluá",21,"Dirección Seccional de Impuestos y Aduanas de Tuluá"]
[null,"Bolivia","0143 - Cría de ovejas y cabras.","0143","Cría de ovejas y cabras.","22 - Dirección Seccional de Impuestos y Aduanas de Villavicencio",22,"Dirección Seccional de Impuestos y Aduanas de Villavicencio"]
[null,"Bosnia-Herzegovina","0144 - Cría de ganado porcino.","0144","Cría de ganado porcino.","23 - Dirección Seccional de Impuestos y Aduanas de Sincelejo",23,"Dirección Seccional de Impuestos y Aduanas de Sincelejo"]
[null,"Botsuana","0145 - Cría de aves de corral.","0145","Cría de aves de corral.","24 - Dirección Seccional de Impuestos y Aduanas de Valledupar",24,"Dirección Seccional de Impuestos y Aduanas de Valledupar"]
[null,"Brasil","0149 - Cría de otros animales n.c.p.","0149","Cría de otros animales n.c.p.","25 - Dirección Seccional de Impuestos y Aduanas de Riohacha",25,"Dirección Seccional de Impuestos y Aduanas de Riohacha"]
[null,"Brunéi","0150 - Explotación mixta (agrícola y pecuaria).","0150","Explotación mixta (agrícola y pecuaria).","26 - Dirección Seccional de Impuestos y Aduanas de Sogamoso",26,"Dirección Seccional de Impuestos y Aduanas de Sogamoso"]
[null,"Bulgaria","0161 - Actividades de apoyo a la agricultura.","0161","Actividades de apoyo a la agricultura.","27 - Dirección Seccional de Impuestos y Aduanas de San Andrés",27,"Dirección Seccional de Impuestos y Aduanas de San Andrés"]
[null,"Burkina Faso","0162 - Actividades de apoyo a la ganadería.","0162","Actividades de apoyo a la ganadería.","28 - Dirección Seccional de Impuestos y Aduanas de Florencia",28,"Dirección Seccional de Impuestos y Aduanas de Florencia"]
[null,"Burundi","0163 - Actividades posteriores a la cosecha.","0163","Actividades posteriores a la cosecha.","29 - Dirección Seccional de Impuestos y Aduanas de Barrancabermeja",29,"Dirección Seccional de Impuestos y Aduanas de Barrancabermeja"]
[null,"Bután","0164 - Tratamiento de semillas para propagación.","0164","Tratamiento de semillas para propagación.","31 - Dirección Operativa de Grandes Contribuyentes",31,"Dirección Operativa de Grandes Contribuyentes"]
[null,"Cabo Verde","0170 - Caza ordinaria y mediante trampas y actividades de servicios conexas.","0170","Caza ordinaria y mediante trampas y actividades de servicios conexas.","32 - Dirección Seccional de Impuestos de Bogotá",32,"Dirección Seccional de Impuestos de Bogotá"]
[null,"Camboya","0210 - Silvicultura y otras actividades forestales.","0210","Silvicultura y otras actividades forestales.","34 - Dirección Seccional de Impuestos y Aduanas de Arauca",34,"Dirección Seccional de Impuestos y Aduanas de Arauca"]
[null,"Camerún","0220 - Extracción de madera.","0220","Extracción de madera.","35 - Dirección Seccional de Impuestos y Aduanas de Buenaventura",35,"Dirección Seccional de Impuestos y Aduanas de Buenaventura"]
[null,"Canadá","0230 - Recolección de productos forestales diferentes a la madera.","0230","Recolección de productos forestales diferentes a la madera.","37 - Dirección Seccional de Impuestos y Aduanas de Ipiales",37,"Dirección Seccional de Impuestos y Aduanas de Ipiales"]
[null,"Catar","0240 - Servicios de apoyo a la silvicultura.","0240","Servicios de apoyo a la silvicultura.","38 - Dirección Seccional de Impuestos y Aduanas de Leticia",38,"Dirección Seccional de Impuestos y Aduanas de Leticia"]
[null,"Chad","0311 - Pesca marítima.","0311","Pesca marítima.","39 - Dirección Seccional de Impuestos y Aduanas de Maicao",39,"Dirección Seccional de Impuestos y Aduanas de Maicao"]
[null,"Chile","0312 - Pesca de agua dulce.","0312","Pesca de agua dulce.","40 - Dirección Seccional de Impuestos y Aduanas de Tumaco",40,"Dirección Seccional de Impuestos y Aduanas de Tumaco"]
[null,"China","0321 - Acuicultura marítima.","0321","Acuicultura marítima.","41 - Dirección Seccional de Impuestos y Aduanas de Urabá",41,"Dirección Seccional de Impuestos y Aduanas de Urabá"]
[null,"Chipre","0322 - Acuicultura de agua dulce.","0322","Acuicultura de agua dulce.","42 - Dirección Seccional Delegada de Impuestos y Aduanas de Puerto Carreño",42,"Dirección Seccional Delegada de Impuestos y Aduanas de Puerto Carreño"]
[null,"Colombia","0510 - Extracción de hulla (carbón de piedra).","0510","Extracción de hulla (carbón de piedra).","43 - Dirección Seccional Delegada de Impuestos y Aduanas de Puerto Inírida",43,"Dirección Seccional Delegada de Impuestos y Aduanas de Puerto Inírida"]
[null,"Comoras","0520 - Extracción de carbón lignito.","0520","Extracción de carbón lignito.","44 - Dirección Seccional de Impuestos y Aduanas de Yopal",44,"Dirección Seccional de Impuestos y Aduanas de Yopal"]
[null,"Congo","0610 - Extracción de petróleo crudo.","0610","Extracción de petróleo crudo.","45 - Dirección Seccional Delegada de Impuestos y Aduanas Mitú",45,"Dirección Seccional Delegada de Impuestos y Aduanas Mitú"]
[null,"Corea del Norte","0620 - Extracción de gas natural.","0620","Extracción de gas natural.","46 - Dirección Seccional de Impuestos y Aduanas de Puerto Asís",46,"Dirección Seccional de Impuestos y Aduanas de Puerto Asís"]
[null,"Corea del Sur","0710 - Extracción de minerales de hierro.","0710","Extracción de minerales de hierro.","48 - Dirección Seccional de Aduanas de Cartagena",48,"Dirección Seccional de Aduanas de Cartagena"]
[null,"Costa de Marfil","0721 - Extracción de minerales de uranio y de torio.","0721","Extracción de minerales de uranio y de torio.","78 - Dirección Seccional Delegada de Impuestos y Aduanas de San José de Guaviare",78,"Dirección Seccional Delegada de Impuestos y Aduanas de San José de Guaviare"]
[null,"Costa Rica","0722 - Extracción de oro y otros metales preciosos.","0722","Extracción de oro y otros metales preciosos.","86 - Dirección Seccional Delegada de Impuestos y Aduanas de Pamplona",86,"Dirección Seccional Delegada de Impuestos y Aduanas de Pamplona"]
[null,"Croacia","0723 - Extracción de minerales de níquel.","0723","Extracción de minerales de níquel.","87 - Dirección Seccional de Aduanas de Barranquilla",87,"Dirección Seccional de Aduanas de Barranquilla"]
[null,"Cuba","0729 - Extracción de otros minerales metalíferos no ferrosos n.c.p.","0729","Extracción de otros minerales metalíferos no ferrosos n.c.p.","88 - Dirección Seccional de Aduanas de Cali",88,"Dirección Seccional de Aduanas de Cali"]
[null,"Dinamarca","0811 - Extracción de piedra, arena, arcillas comunes, yeso y anhidrita.","0811","Extracción de piedra, arena, arcillas comunes, yeso y anhidrita.","89 - Dirección Seccional de Aduanas de Cúcuta",89,"Dirección Seccional de Aduanas de Cúcuta"]
[null,"Dominica","0812 - Extracción de arcillas de uso industrial, caliza, caolín y bentonitas.","0812","Extracción de arcillas de uso industrial, caliza, caolín y bentonitas.","90 - Dirección Seccional de Aduanas de Medellín",90,"Dirección Seccional de Aduanas de Medellín"]
[null,"Ecuador","0820 - Extracción de esmeraldas, piedras preciosas y semipreciosas.","0820","Extracción de esmeraldas, piedras preciosas y semipreciosas.","91 - Dirección Seccional de Aduanas de Bogotá",91,"Dirección Seccional de Aduanas de Bogotá"]
[null,"Egipto","0891 - Extracción de minerales para la fabricación de abonos y productos químicos.","0891","Extracción de minerales para la fabricación de abonos y productos químicos."]
[null,"El Salvador","0892 - Extracción de halita (sal).","0892","Extracción de halita (sal)."]
[null,"Emiratos Árabes Unidos","0899 - Extracción de otros minerales no metálicos n.c.p.","0899","Extracción de otros minerales no metálicos n.c.p.",null,"Relación de dependencia económica"]
[null,"Eritrea","0910 - Actividades de apoyo para la extracción de petróleo y de gas natural.","0910","Actividades de apoyo para la extracción de petróleo y de gas natural.",null,"Hijo del contribuyente de 18 años de edad o menos. ",{"$f":"\"Yo, \"&' '!$B$2072&\", identificado(a) con cédula de ciudadanía No. \"&TEXT(' '!$C$2072,\"#.##0\")&\", para efectos de la norma establecida en el numeral 1 del parágrafo 2 del artículo 387 del Estatuto Tributario, manifiesto bajo gravedad de juramento que:\n\nMi hijo(a) \"&Dependintes_Ecnomicos_Nombre&\", identificado(a) con \"&IF(Dependintes_Ecnomicos_Tipo_Doc=\"\",\"\",Dependintes_Ecnomicos_Tipo_Doc)&\" No. \"&TEXT(Dependintes_Ecnomicos_Documento,\"#.##0\")&\", cumple los criterios para figurar como mi dependiente, y como constancia se anexa copia del registro civil y documento de identidad del dependiente.\n\n\"&\"En constancia de lo anterior, firmo a los \"&TEXT(TODAY(),\"dd\")&\" días de \"&TEXT(TODAY(),\"mmmm\")&\" de \"&TEXT(TODAY(),\"yyyy\")&\".\"","v":"Yo, Andrés Julián Martínez, identificado(a) con cédula de ciudadanía No. 1.112.674.696, para efectos de la norma establecida en el numeral 1 del parágrafo 2 del artículo 387 del Estatuto Tributario, manifiesto bajo gravedad de juramento que:\n\nMi hijo(a) , identificado(a) con  No. 0, cumple los criterios para figurar como mi dependiente, y como constancia se anexa copia del registro civil y documento de identidad del dependiente.\n\nEn constancia de lo anterior, firmo a los 05 días de julio de 2023."},30,{"$f":"' '!$B$2072&CHAR(10)&TEXT(' '!$C$2072,\"#.##0\")&CHAR(10)&IFERROR(INDEX(Contribuyentes[[Número de contacto ]],Parametros[Actual]),\"\")","v":"Andrés Julián Martínez\n1.112.674.696\n"}," \nCERTIFICACIÓN DE DEPENDENCIA ECONÓMICA\n \n\n \nCERTIFICACIÓN BAJO LA GRAVEDAD DE JURAMENTO"]
[null,"Eslovaquia","0990 - Actividades de apoyo para otras actividades de explotación de minas y canteras.","0990","Actividades de apoyo para otras actividades de explotación de minas y canteras.",null,"Hijo del contribuyente con edad entre 18 y 23 años, a quien le financia su educación superior.",{"$f":"\"Yo, \"&' '!$B$2072&\", identificado(a) con cédula de ciudadanía No. \"&TEXT(' '!$C$2072,\"#.##0\")&\", para efectos de la norma establecida en el numeral 2 del parágrafo 2 del artículo 387 del Estatuto Tributario, manifiesto bajo gravedad de juramento que:\n\nMi hijo(a) \"&Dependintes_Ecnomicos_Nombre&\", identificado(a) con \"&IF(Dependintes_Ecnomicos_Tipo_Doc=\"\",\"\",Dependintes_Ecnomicos_Tipo_Doc)&\" No. \"&TEXT(Dependintes_Ecnomicos_Documento,\"#.##0\")&\", cumple los criterios para figurar como mi dependiente, y como constancia se anexa copia del registro civil, documento de identidad del dependiente y certificado de estudio.\n\n\"&\"En constancia de lo anterior, firmo a los \"&TEXT(TODAY(),\"dd\")&\" días de \"&TEXT(TODAY(),\"mmmm\")&\" de \"&TEXT(TODAY(),\"yyyy\")&\".\"","v":"Yo, Andrés Julián Martínez, identificado(a) con cédula de ciudadanía No. 1.112.674.696, para efectos de la norma establecida en el numeral 2 del parágrafo 2 del artículo 387 del Estatuto Tributario, manifiesto bajo gravedad de juramento que:\n\nMi hijo(a) , identificado(a) con  No. 0, cumple los criterios para figurar como mi dependiente, y como constancia se anexa copia del registro civil, documento de identidad del dependiente y certificado de estudio.\n\nEn constancia de lo anterior, firmo a los 05 días de julio de 2023."},30,{"$f":"' '!$B$2072&CHAR(10)&TEXT(' '!$C$2072,\"#.##0\")&CHAR(10)&IFERROR(INDEX(Contribuyentes[[Número de contacto ]],Parametros[Actual]),\"\")","v":"Andrés Julián Martínez\n1.112.674.696\n"}," \nCERTIFICACIÓN DE DEPENDENCIA ECONÓMICA\n \n\n \nCERTIFICACIÓN BAJO LA GRAVEDAD DE JURAMENTO"]
[null,"Eslovenia","1011 - Procesamiento y conservación de carne y productos cárnicos.",1011,"Procesamiento y conservación de carne y productos cárnicos.",null,"Hijo del contribuyente mayor de 23 años dependiente por factores físicos o psicológicos.",{"$f":"\"Yo, \"&' '!$B$2072&\", identificado(a) con cédula de ciudadanía No. \"&TEXT(' '!$C$2072,\"#.##0\")&\", para efectos de la norma establecida en el numeral 3 del parágrafo 2 del artículo 387 del Estatuto Tributario, manifiesto bajo gravedad de juramento que:\n\nMi hijo(a) \"&Dependintes_Ecnomicos_Nombre&\", identificado(a) con \"&IF(Dependintes_Ecnomicos_Tipo_Doc=\"\",\"\",Dependintes_Ecnomicos_Tipo_Doc)&\" No. \"&TEXT(Dependintes_Ecnomicos_Documento,\"#.##0\")&\", cumple los criterios para figurar como mi dependiente, y como constancia se anexa copia del registro civil, documento de identidad del dependiente y certificado de medicina legal. \n\n\"&\"En constancia de lo anterior, firmo a los \"&TEXT(TODAY(),\"dd\")&\" días de \"&TEXT(TODAY(),\"mmmm\")&\" de \"&TEXT(TODAY(),\"yyyy\")&\".\"","v":"Yo, Andrés Julián Martínez, identificado(a) con cédula de ciudadanía No. 1.112.674.696, para efectos de la norma establecida en el numeral 3 del parágrafo 2 del artículo 387 del Estatuto Tributario, manifiesto bajo gravedad de juramento que:\n\nMi hijo(a) , identificado(a) con  No. 0, cumple los criterios para figurar como mi dependiente, y como constancia se anexa copia del registro civil, documento de identidad del dependiente y certificado de medicina legal. \n\nEn constancia de lo anterior, firmo a los 05 días de julio de 2023."},30,{"$f":"' '!$B$2072&CHAR(10)&TEXT(' '!$C$2072,\"#.##0\")&CHAR(10)&IFERROR(INDEX(Contribuyentes[[Número de contacto ]],Parametros[Actual]),\"\")","v":"Andrés Julián Martínez\n1.112.674.696\n"}," \nCERTIFICACIÓN DE DEPENDENCIA ECONÓMICA\n \n\n \nCERTIFICACIÓN BAJO LA GRAVEDAD DE JURAMENTO"]
[null,"España","1012 - Procesamiento y conservación de pescados, crustáceos y moluscos.",1012,"Procesamiento y conservación de pescados, crustáceos y moluscos.",null,"Cónyuge o compañero permanente del contribuyente, dependiente por factores físicos o psicológicos, por ausencia de ingresos o por ingresos inferiores a 260 UVT",{"$f":"\"Que para efectos de la norma establecida en el numeral 4 del parágrafo 2 del artículo 387 del Estatuto Tributario, el (la) señor(a) \"&Dependintes_Ecnomicos_Nombre&\", identificado(a) con \"&IF(Dependintes_Ecnomicos_Tipo_Doc=\"\",\"\",Dependintes_Ecnomicos_Tipo_Doc)&\" No. \"&TEXT(Dependintes_Ecnomicos_Documento,\"#.##0\")&\", es dependiente económico del (de la) señor(a) \"&' '!$B$2072&\", identificado(a) con cédula de ciudadanía No. \"&TEXT(' '!$C$2072,\"#.##0\")&\". \n\nQue en la actualidad el (la) señor(a) \"&Dependintes_Ecnomicos_Nombre&\" obtiene ingresos inferiores a 260 UVT, por lo cual cumple los criterios para figurar como dependiente del (de la) señor(a) \"&' '!$B$2072&\". \n\n\"&\"En constancia de lo anterior, firmo a los \"&TEXT(TODAY(),\"dd\")&\" días de \"&TEXT(TODAY(),\"mmmm\")&\" de \"&TEXT(TODAY(),\"yyyy\")&\".\"","v":"Que para efectos de la norma establecida en el numeral 4 del parágrafo 2 del artículo 387 del Estatuto Tributario, el (la) señor(a) , identificado(a) con  No. 0, es dependiente económico del (de la) señor(a) Andrés Julián Martínez, identificado(a) con cédula de ciudadanía No. 1.112.674.696. \n\nQue en la actualidad el (la) señor(a)  obtiene ingresos inferiores a 260 UVT, por lo cual cumple los criterios para figurar como dependiente del (de la) señor(a) Andrés Julián Martínez. \n\nEn constancia de lo anterior, firmo a los 05 días de julio de 2023."},40,{"$f":"' '!$C$2069&CHAR(10)&TEXT(' '!$C$2070,\"#.##0\")&CHAR(10)&' '!$C$2071","v":"\n0\n"},"CERTIFICACIÓN DE DEPENDENCIA ECONÓMICA\n\n\nEL SUSCRITO CONTADOR PÚBLICO \n\n\nCERTIFICA"]
[null,"Estados Unidos","1020 - Procesamiento y conservación de frutas, legumbres, hortalizas y tubérculos.",1020,"Procesamiento y conservación de frutas, legumbres, hortalizas y tubérculos.",null,"Padres y los hermanos del contribuyente, dependientes por factores físicos o psicológicos, por ausencia de ingresos o por ingresos inferiores a 260 UVT",{"$f":"\"Que para efectos de la norma establecida en el numeral 5 del parágrafo 2 del artículo 387 del Estatuto Tributario, el (la) señor(a) \"&Dependintes_Ecnomicos_Nombre&\", identificado(a) con \"&IF(Dependintes_Ecnomicos_Tipo_Doc=\"\",\"\",Dependintes_Ecnomicos_Tipo_Doc)&\" No. \"&TEXT(Dependintes_Ecnomicos_Documento,\"#.##0\")&\", es dependiente económico del (de la) señor(a) \"&' '!$B$2072&\", identificado(a) con cédula de ciudadanía No. \"&TEXT(' '!$C$2072,\"#.##0\")&\". \n\nQue en la actualidad el (la) señor(a) \"&Dependintes_Ecnomicos_Nombre&\" obtiene ingresos inferiores a 260 UVT, por lo cual cumple los criterios para figurar como dependiente del (de la) señor(a) \"&' '!$B$2072&\". \n\n\"&\"En constancia de lo anterior, firmo a los \"&TEXT(TODAY(),\"dd\")&\" días de \"&TEXT(TODAY(),\"mmmm\")&\" de \"&TEXT(TODAY(),\"yyyy\")&\".\"","v":"Que para efectos de la norma establecida en el numeral 5 del parágrafo 2 del artículo 387 del Estatuto Tributario, el (la) señor(a) , identificado(a) con  No. 0, es dependiente económico del (de la) señor(a) Andrés Julián Martínez, identificado(a) con cédula de ciudadanía No. 1.112.674.696. \n\nQue en la actualidad el (la) señor(a)  obtiene ingresos inferiores a 260 UVT, por lo cual cumple los criterios para figurar como dependiente del (de la) señor(a) Andrés Julián Martínez. \n\nEn constancia de lo anterior, firmo a los 05 días de julio de 2023."},40,{"$f":"' '!$C$2069&CHAR(10)&TEXT(' '!$C$2070,\"#.##0\")&CHAR(10)&' '!$C$2071","v":"\n0\n"},"CERTIFICACIÓN DE DEPENDENCIA ECONÓMICA\n\n\nEL SUSCRITO CONTADOR PÚBLICO \n\n\nCERTIFICA"]
[null,"Estonia","1030 - Elaboración de aceites y grasas de origen vegetal y animal.",1030,"Elaboración de aceites y grasas de origen vegetal y animal."]
[null,"Esuatini","1040 - Elaboración de productos lácteos.",1040,"Elaboración de productos lácteos."]
[null,"Etiopía","1051 - Elaboración de productos de molinería.",1051,"Elaboración de productos de molinería."]
[null,"Filipinas",{"$f":"+CONCATENATE(D71,\" - \",E71)","v":"1052 - Elaboración de almidones y productos derivados del almidón."},1052,"Elaboración de almidones y productos derivados del almidón."]
[null,"Finlandia","1061 - Trilla de café.",1061,"Trilla de café."]
[null,"Fiyi","1062 - Descafeinado, tostión y molienda del café.",1062,"Descafeinado, tostión y molienda del café."]
[null,"Francia","1063 - Otros derivados del café.",1063,"Otros derivados del café."]
[null,"Gabón","1071 - Elaboración y refinación de azúcar.",1071,"Elaboración y refinación de azúcar."]
[null,"Gambia","1072 - Elaboración de panela.",1072,"Elaboración de panela."]
[null,"Georgia","1081 - Elaboración de productos de panadería.",1081,"Elaboración de productos de panadería."]
[null,"Ghana","1082 - Elaboración de cacao, chocolate y productos de confitería.",1082,"Elaboración de cacao, chocolate y productos de confitería."]
[null,"Granada","1083 - Elaboración de macarrones, fideos, alcuzcuz y productos farináceos similares.",1083,"Elaboración de macarrones, fideos, alcuzcuz y productos farináceos similares."]
[null,"Grecia","1084 - Elaboración de comidas y platos preparados.",1084,"Elaboración de comidas y platos preparados."]
[null,"Guatemala","1089 - Elaboración de otros productos alimenticios n.c.p.",1089,"Elaboración de otros productos alimenticios n.c.p."]
[null,"Guinea","1090 - Elaboración de alimentos preparados para animales.",1090,"Elaboración de alimentos preparados para animales."]
[null,"Guinea Ecuatorial","1101 - Destilación, rectificación y mezcla de bebidas alcohólicas.","1101","Destilación, rectificación y mezcla de bebidas alcohólicas."]
[null,"Guinea-Bisáu","1102 - Elaboración de bebidas fermentadas no destiladas.","1102","Elaboración de bebidas fermentadas no destiladas."]
[null,"Guyana","1103 - Producción de malta, elaboración de cervezas y otras bebidas malteadas.","1103","Producción de malta, elaboración de cervezas y otras bebidas malteadas."]
[null,"Haití","1104 - Elaboración de bebidas no alcohólicas, producción de aguas minerales y otras aguas embotelladas.","1104","Elaboración de bebidas no alcohólicas, producción de aguas minerales y otras aguas embotelladas."]
[null,"Honduras","1200 - Elaboración de productos de tabaco.","1200","Elaboración de productos de tabaco."]
[null,"Hungría","1311 - Preparación e hilatura de fibras textiles.",1311,"Preparación e hilatura de fibras textiles."]
[null,"India","1312 - Tejeduría de productos textiles.",1312,"Tejeduría de productos textiles."]
[null,"Indonesia","1313 - Acabado de productos textiles.",1313,"Acabado de productos textiles."]
[null,"Irak","1391 - Fabricación de tejidos de punto y ganchillo.",1391,"Fabricación de tejidos de punto y ganchillo."]
[null,"Irán","1392 - Confección de artículos con materiales textiles, excepto prendas de vestir.",1392,"Confección de artículos con materiales textiles, excepto prendas de vestir."]
[null,"Irlanda","1393 - Fabricación de tapetes y alfombras para pisos.",1393,"Fabricación de tapetes y alfombras para pisos."]
[null,"Islandia","1394 - Fabricación de cuerdas, cordeles, cables, bramantes y redes.",1394,"Fabricación de cuerdas, cordeles, cables, bramantes y redes."]
[null,"Islas Marshall","1399 - Fabricación de otros artículos textiles n.c.p.",1399,"Fabricación de otros artículos textiles n.c.p."]
[null,"Islas Salomón","1410 - Confección de prendas de vestir, excepto prendas de piel.",1410,"Confección de prendas de vestir, excepto prendas de piel."]
[null,"Israel","1420 - Fabricación de artículos de piel.",1420,"Fabricación de artículos de piel."]
[null,"Italia","1430 - Fabricación de artículos de punto y ganchillo.",1430,"Fabricación de artículos de punto y ganchillo."]
[null,"Jamaica","1511 - Curtido y recurtido de cueros; recurtido y teñido de pieles.","1511","Curtido y recurtido de cueros; recurtido y teñido de pieles."]
[null,"Japón","1512 - Fabricación de artículos de viaje, bolsos de mano y artículos similares elaborados en cuero, y fabricación de artículos de talabartería y guarnicionería.",1512,"Fabricación de artículos de viaje, bolsos de mano y artículos similares elaborados en cuero, y fabricación de artículos de talabartería y guarnicionería."]
[null,"Jordania","1513 - Fabricación de artículos de viaje, bolsos de mano y artículos similares; artículos de talabartería y guarnicionería elaborados en otros materiales.",1513,"Fabricación de artículos de viaje, bolsos de mano y artículos similares; artículos de talabartería y guarnicionería elaborados en otros materiales."]
[null,"Kazajistán","1521 - Fabricación de calzado de cuero y piel, con cualquier tipo de suela.",1521,"Fabricación de calzado de cuero y piel, con cualquier tipo de suela."]
[null,"Kenia","1522 - Fabricación de otros tipos de calzado, excepto calzado de cuero y piel.",1522,"Fabricación de otros tipos de calzado, excepto calzado de cuero y piel."]
[null,"Kirguistán","1523 - Fabricación de partes del calzado.",1523,"Fabricación de partes del calzado."]
[null,"Kiribati","1610 - Aserrado, acepillado e impregnación de la madera.",1610,"Aserrado, acepillado e impregnación de la madera."]
[null,"Kosovo","1620 - Fabricación   de   hojas   de   madera   para   enchapado;   fabricación   de   tableros contrachapados,  tableros  laminados,  tableros  de  partículas  y  otros  tableros  y paneles.","1620","Fabricación   de   hojas   de   madera   para   enchapado;   fabricación   de   tableros contrachapados,  tableros  laminados,  tableros  de  partículas  y  otros  tableros  y paneles."]
[null,"Kuwait","1630 - Fabricación  de  partes  y  piezas  de  madera,  de  carpintería  y  ebanistería  para  la construcción.",1630,"Fabricación  de  partes  y  piezas  de  madera,  de  carpintería  y  ebanistería  para  la construcción."]
[null,"Laos","1640 - Fabricación de recipientes de madera.",1640,"Fabricación de recipientes de madera."]
[null,"Lesoto","1690 - Fabricación  de  otros  productos  de  madera;  fabricación  de  artículos  de  corcho, cestería y espartería.",1690,"Fabricación  de  otros  productos  de  madera;  fabricación  de  artículos  de  corcho, cestería y espartería."]
[null,"Letonia","1701 - Fabricación de pulpas (pastas) celulósicas; papel y cartón.",1701,"Fabricación de pulpas (pastas) celulósicas; papel y cartón."]
[null,"Líbano","1702 - Fabricación  de  papel  y  cartón  ondulado  (corrugado);  fabricación  de  envases, empaques y de embalajes de papel y cartón.",1702,"Fabricación  de  papel  y  cartón  ondulado  (corrugado);  fabricación  de  envases, empaques y de embalajes de papel y cartón."]
[null,"Liberia","1709 - Fabricación de otros artículos de papel y cartón.",1709,"Fabricación de otros artículos de papel y cartón."]
[null,"Libia","1811 - Actividades de impresión.",1811,"Actividades de impresión."]
[null,"Liechtenstein","1812 - Actividades de servicios relacionados con la impresión.",1812,"Actividades de servicios relacionados con la impresión."]
[null,"Lituania","1820 - Producción de copias a partir de grabaciones originales.",1820,"Producción de copias a partir de grabaciones originales."]
[null,"Luxemburgo","1910 - Fabricación de productos de hornos de coque.",1910,"Fabricación de productos de hornos de coque."]
[null,"Macedonia del Norte","1921 - Fabricación de productos de la refinación del petróleo.",1921,"Fabricación de productos de la refinación del petróleo."]
[null,"Madagascar","1922 - Actividad de mezcla de combustibles.",1922,"Actividad de mezcla de combustibles."]
[null,"Malasia","2011 - Fabricación de sustancias y productos químicos básicos.",2011,"Fabricación de sustancias y productos químicos básicos."]
[null,"Malaui","2012 - Fabricación de abonos y compuestos inorgánicos nitrogenados.",2012,"Fabricación de abonos y compuestos inorgánicos nitrogenados."]
[null,"Maldivas","2013 - Fabricación de plásticos en formas primarias.",2013,"Fabricación de plásticos en formas primarias."]
[null,"Malí","2014 - Fabricación de caucho sintético en formas primarias.",2014,"Fabricación de caucho sintético en formas primarias."]
[null,"Malta","2021 - Fabricación de plaguicidas y otros productos químicos de uso agropecuario.",2021,"Fabricación de plaguicidas y otros productos químicos de uso agropecuario."]
[null,"Marruecos","2022 - Fabricación de pinturas, barnices y revestimientos similares, tintas para impresión y masillas.",2022,"Fabricación de pinturas, barnices y revestimientos similares, tintas para impresión y masillas."]
[null,"Mauricio","2023 - Fabricación de jabones y detergentes, preparados para limpiar y pulir; perfumes y preparados de tocador.",2023,"Fabricación de jabones y detergentes, preparados para limpiar y pulir; perfumes y preparados de tocador."]
[null,"Mauritania","2029 - Fabricación de otros productos químicos n.c.p.",2029,"Fabricación de otros productos químicos n.c.p."]
[null,"México","2030 - Fabricación de fibras sintéticas y artificiales.",2030,"Fabricación de fibras sintéticas y artificiales."]
[null,"Micronesia","2100 - Fabricación de productos farmacéuticos, sustancias químicas medicinales y productos botánicos de uso farmacéutico.","2100","Fabricación de productos farmacéuticos, sustancias químicas medicinales y productos botánicos de uso farmacéutico."]
[null,"Moldavia","2211 - Fabricación de llantas y neumáticos de caucho.",2211,"Fabricación de llantas y neumáticos de caucho."]
[null,"Mónaco","2212 - Reencauche de llantas usadas.",2212,"Reencauche de llantas usadas."]
[null,"Mongolia","2219 - Fabricación de formas básicas de caucho y otros productos de caucho n.c.p.",2219,"Fabricación de formas básicas de caucho y otros productos de caucho n.c.p."]
[null,"Montenegro","2221 - Fabricación de formas básicas de plástico.",2221,"Fabricación de formas básicas de plástico."]
[null,"Mozambique","2229 - Fabricación de artículos de plástico n.c.p.",2229,"Fabricación de artículos de plástico n.c.p."]
[null,"Namibia","2310 - Fabricación de vidrio y productos de vidrio.",2310,"Fabricación de vidrio y productos de vidrio."]
[null,"Nauru",{"$f":"+CONCATENATE(D135,\" - \",E135)","v":"2391 - Fabricación de productos refractarios."},2391,"Fabricación de productos refractarios."]
[null,"Nepal","2392 - Fabricación de materiales de arcilla para la construcción.",2392,"Fabricación de materiales de arcilla para la construcción."]
[null,"Nicaragua","2393 - Fabricación de otros productos de cerámica y porcelana.",2393,"Fabricación de otros productos de cerámica y porcelana."]
[null,"Níger","2394 - Fabricación de cemento, cal y yeso.",2394,"Fabricación de cemento, cal y yeso."]
[null,"Nigeria","2395 - Fabricación de artículos de hormigón, cemento y yeso.",2395,"Fabricación de artículos de hormigón, cemento y yeso."]
[null,"Noruega","2396 - Corte, tallado y acabado de la piedra.",2396,"Corte, tallado y acabado de la piedra."]
[null,"Nueva Zelanda","2399 - Fabricación de otros productos minerales no metálicos n.c.p.",2399,"Fabricación de otros productos minerales no metálicos n.c.p."]
[null,"Omán","2410 - Industrias básicas de hierro y de acero.",2410,"Industrias básicas de hierro y de acero."]
[null,"Países Bajos","2421 - Industrias básicas de metales preciosos.",2421,"Industrias básicas de metales preciosos."]
[null,"Pakistán","2429 - Industrias básicas de otros metales no ferrosos.",2429,"Industrias básicas de otros metales no ferrosos."]
[null,"Palaos","2431 - Fundición de hierro y de acero.",2431,"Fundición de hierro y de acero."]
[null,"Palestina","2432 - Fundición de metales no ferrosos.",2432,"Fundición de metales no ferrosos."]
[null,"Panamá","2511 - Fabricación de productos metálicos para uso estructural.",2511,"Fabricación de productos metálicos para uso estructural."]
[null,"Papúa Nueva Guinea","2512 - Fabricación de tanques, depósitos y recipientes de metal, excepto los utilizados para el envase o el transporte de mercancías.",2512,"Fabricación de tanques, depósitos y recipientes de metal, excepto los utilizados para el envase o el transporte de mercancías."]
[null,"Paraguay","2513 - Fabricación de generadores de vapor, excepto calderas de agua caliente para calefacción central.",2513,"Fabricación de generadores de vapor, excepto calderas de agua caliente para calefacción central."]
[null,"Perú","2520 - Fabricación de armas y municiones.",2520,"Fabricación de armas y municiones."]
[null,"Polonia","2591 - Forja, prensado, estampado y laminado de metal; pulvimetalurgia.",2591,"Forja, prensado, estampado y laminado de metal; pulvimetalurgia."]
[null,"Portugal","2592 - Tratamiento y revestimiento de metales; mecanizado.",2592,"Tratamiento y revestimiento de metales; mecanizado."]
[null,"Reino Unido","2593 - Fabricación de artículos de cuchillería, herramientas de mano y artículos de ferretería.",2593,"Fabricación de artículos de cuchillería, herramientas de mano y artículos de ferretería."]
[null,"República Centroafricana","2599 - Fabricación de otros productos elaborados de metal n.c.p.",2599,"Fabricación de otros productos elaborados de metal n.c.p."]
[null,"República Checa","2610 - Fabricación de componentes y tableros electrónicos.",2610,"Fabricación de componentes y tableros electrónicos."]
[null,"República Democrática del Congo","2620 - Fabricación de computadoras y de equipo periférico.",2620,"Fabricación de computadoras y de equipo periférico."]
[null,"República Dominicana","2630 - Fabricación de equipos de comunicación.",2630,"Fabricación de equipos de comunicación."]
[null,"Ruanda","2640 - Fabricación de aparatos electrónicos de consumo.",2640,"Fabricación de aparatos electrónicos de consumo."]
[null,"Rumania","2651 - Fabricación de equipo de medición, prueba, navegación y control.",2651,"Fabricación de equipo de medición, prueba, navegación y control."]
[null,"Rusia","2652 - Fabricación de relojes.",2652,"Fabricación de relojes."]
[null,"Samoa","2660 - Fabricación de equipo de irradiación y equipo electrónico de uso médico y terapéutico.","2660","Fabricación de equipo de irradiación y equipo electrónico de uso médico y terapéutico."]
[null,"San Cristóbal y Nieves","2670 - Fabricación de instrumentos ópticos y equipo fotográfico.",2670,"Fabricación de instrumentos ópticos y equipo fotográfico."]
[null,"San Marino","2680 - Fabricación de medios magnéticos y ópticos para almacenamiento de datos.",2680,"Fabricación de medios magnéticos y ópticos para almacenamiento de datos."]
[null,"San Vicente y las Granadinas","2711 - Fabricación de motores, generadores y transformadores eléctricos.",2711,"Fabricación de motores, generadores y transformadores eléctricos."]
[null,"Santa Lucía","2712 - Fabricación de aparatos de distribución y control de la energía eléctrica.",2712,"Fabricación de aparatos de distribución y control de la energía eléctrica."]
[null,"Santo Tomé y Príncipe","2720 - Fabricación de pilas, baterías y acumuladores eléctricos.",2720,"Fabricación de pilas, baterías y acumuladores eléctricos."]
[null,"Senegal","2731 - Fabricación de hilos y cables eléctricos y de fibra óptica.",2731,"Fabricación de hilos y cables eléctricos y de fibra óptica."]
[null,"Serbia","2732 - Fabricación de dispositivos de cableado.",2732,"Fabricación de dispositivos de cableado."]
[null,"Seychelles","2740 - Fabricación de equipos eléctricos de iluminación.",2740,"Fabricación de equipos eléctricos de iluminación."]
[null,"Sierra Leona","2750 - Fabricación de aparatos de uso doméstico.","2750","Fabricación de aparatos de uso doméstico."]
[null,"Singapur","2790 - Fabricación de otros tipos de equipo eléctrico n.c.p.","2790","Fabricación de otros tipos de equipo eléctrico n.c.p."]
[null,"Siria","2811 - Fabricación de motores, turbinas, y partes para motores de combustión interna.",2811,"Fabricación de motores, turbinas, y partes para motores de combustión interna."]
[null,"Somalia","2812 - Fabricación de equipos de potencia hidráulica y neumática.",2812,"Fabricación de equipos de potencia hidráulica y neumática."]
[null,"Sri Lanka","2813 - Fabricación de otras bombas, compresores, grifos y válvulas.",2813,"Fabricación de otras bombas, compresores, grifos y válvulas."]
[null,"Sudáfrica","2814 - Fabricación de cojinetes, engranajes, trenes de engranajes y piezas de transmisión.",2814,"Fabricación de cojinetes, engranajes, trenes de engranajes y piezas de transmisión."]
[null,"Sudán","2815 - Fabricación de hornos, hogares y quemadores industriales.",2815,"Fabricación de hornos, hogares y quemadores industriales."]
[null,"Sudán del Sur","2816 - Fabricación de equipo de elevación y manipulación.",2816,"Fabricación de equipo de elevación y manipulación."]
[null,"Suecia","2817 - Fabricación de maquinaria y equipo de oficina (excepto computadoras y equipo periférico).",2817,"Fabricación de maquinaria y equipo de oficina (excepto computadoras y equipo periférico)."]
[null,"Suiza","2818 - Fabricación de herramientas manuales con motor.",2818,"Fabricación de herramientas manuales con motor."]
[null,"Surinam","2819 - Fabricación de otros tipos de maquinaria y equipo de uso general n.c.p.",2819,"Fabricación de otros tipos de maquinaria y equipo de uso general n.c.p."]
[null,"Tailandia","2821 - Fabricación de maquinaria agropecuaria y forestal.",2821,"Fabricación de maquinaria agropecuaria y forestal."]
[null,"Taiwán","2822 - Fabricación de máquinas formadoras de metal y de máquinas herramienta.",2822,"Fabricación de máquinas formadoras de metal y de máquinas herramienta."]
[null,"Tanzania","2823 - Fabricación de maquinaria para la metalurgia.",2823,"Fabricación de maquinaria para la metalurgia."]
[null,"Tayikistán","2824 - Fabricación de maquinaria para explotación de minas y canteras y para obras de construcción.",2824,"Fabricación de maquinaria para explotación de minas y canteras y para obras de construcción."]
[null,"Timor Oriental","2825 - Fabricación de maquinaria para la elaboración de alimentos, bebidas y tabaco.",2825,"Fabricación de maquinaria para la elaboración de alimentos, bebidas y tabaco."]
[null,"Togo","2826 - Fabricación de maquinaria para la elaboración de productos textiles, prendas de vestir y cueros.",2826,"Fabricación de maquinaria para la elaboración de productos textiles, prendas de vestir y cueros."]
[null,"Tonga","2829 - Fabricación de otros tipos de maquinaria y equipo de uso especial n.c.p.",2829,"Fabricación de otros tipos de maquinaria y equipo de uso especial n.c.p."]
[null,"Trinidad y Tobago","2910 - Fabricación de vehículos automotores y sus motores.",2910,"Fabricación de vehículos automotores y sus motores."]
[null,"Túnez","2920 - Fabricación de carrocerías para vehículos automotores; fabricación de remolques y semirremolques.",2920,"Fabricación de carrocerías para vehículos automotores; fabricación de remolques y semirremolques."]
[null,"Turkmenistán","2930 - Fabricación de partes, piezas (autopartes) y accesorios (lujos) para vehículos automotores.",2930,"Fabricación de partes, piezas (autopartes) y accesorios (lujos) para vehículos automotores."]
[null,"Turquía","3011 - Construcción de barcos y de estructuras flotantes.",3011,"Construcción de barcos y de estructuras flotantes."]
[null,"Tuvalu","3012 - Construcción de embarcaciones de recreo y deporte.",3012,"Construcción de embarcaciones de recreo y deporte."]
[null,"Ucrania","3020 - Fabricación de locomotoras y de material rodante para ferrocarriles.",3020,"Fabricación de locomotoras y de material rodante para ferrocarriles."]
[null,"Uganda","3030 - Fabricación de aeronaves, naves espaciales y de maquinaria conexa.",3030,"Fabricación de aeronaves, naves espaciales y de maquinaria conexa."]
[null,"Uruguay","3040 - Fabricación de vehículos militares de combate.",3040,"Fabricación de vehículos militares de combate."]
[null,"Uzbekistán","3091 - Fabricación de motocicletas.",3091,"Fabricación de motocicletas."]
[null,"Vanuatu","3092 - Fabricación de bicicletas y de sillas de ruedas para personas con discapacidad.",3092,"Fabricación de bicicletas y de sillas de ruedas para personas con discapacidad."]
[null,"Vaticano","3099 - Fabricación de otros tipos de equipo de transporte n.c.p.",3099,"Fabricación de otros tipos de equipo de transporte n.c.p."]
[null,"Venezuela",{"$f":"+CONCATENATE(D199,\" - \",E199)","v":"3110 - Fabricación de muebles."},3110,"Fabricación de muebles."]
[null,"Vietnam","3120 - Fabricación de colchones y somieres.",3120,"Fabricación de colchones y somieres."]
[null,"Yemen","3210 - Fabricación de joyas, bisutería y artículos conexos.",3210,"Fabricación de joyas, bisutería y artículos conexos."]
[null,"Yibuti","3220 - Fabricación de instrumentos musicales.",3220,"Fabricación de instrumentos musicales."]
[null,"Zambia","3230 - Fabricación de artículos y equipo para la práctica del deporte.",3230,"Fabricación de artículos y equipo para la práctica del deporte."]
[null,"Zimbabue","3240 - Fabricación de juegos, juguetes y rompecabezas.",3240,"Fabricación de juegos, juguetes y rompecabezas."]
[null,null,"3250 - Fabricación de instrumentos, aparatos y materiales médicos y odontológicos (incluido mobiliario).",3250,"Fabricación de instrumentos, aparatos y materiales médicos y odontológicos (incluido mobiliario)."]
[null,null,"3290 - Otras industrias manufactureras n.c.p.","3290","Otras industrias manufactureras n.c.p."]
[null,null,"3311 - Mantenimiento y reparación especializado de productos elaborados en metal.",3311,"Mantenimiento y reparación especializado de productos elaborados en metal."]
[null,null,"3312 - Mantenimiento y reparación especializado de maquinaria y equipo.",3312,"Mantenimiento y reparación especializado de maquinaria y equipo."]
[null,null,"3313 - Mantenimiento y reparación especializado de equipo electrónico y óptico.",3313,"Mantenimiento y reparación especializado de equipo electrónico y óptico."]
[null,null,"3314 - Mantenimiento y reparación especializado de equipo eléctrico.",3314,"Mantenimiento y reparación especializado de equipo eléctrico."]
[null,null,"3315 - Mantenimiento y reparación especializado de equipo de transporte, excepto los vehículos automotores, motocicletas y bicicletas.",3315,"Mantenimiento y reparación especializado de equipo de transporte, excepto los vehículos automotores, motocicletas y bicicletas."]
[null,null,"3319 - Mantenimiento y reparación de otros tipos de equipos y sus componentes n.c.p.",3319,"Mantenimiento y reparación de otros tipos de equipos y sus componentes n.c.p."]
[null,null,"3320 - Instalación especializada de maquinaria y equipo industrial.",3320,"Instalación especializada de maquinaria y equipo industrial."]
[null,null,"3511 - Generación de energía eléctrica.",3511,"Generación de energía eléctrica."]
[null,null,"3512 - Transmisión de energía eléctrica.",3512,"Transmisión de energía eléctrica."]
[null,null,"3513 - Distribución de energía eléctrica.",3513,"Distribución de energía eléctrica."]
[null,null,"3514 - Comercialización de energía eléctrica.",3514,"Comercialización de energía eléctrica."]
[null,null,"3520 - Producción de gas; distribución de combustibles gaseosos por tuberías.",3520,"Producción de gas; distribución de combustibles gaseosos por tuberías."]
[null,null,"3530 - Suministro de vapor y aire acondicionado.",3530,"Suministro de vapor y aire acondicionado."]
[null,null,"3600 - Captación, tratamiento y distribución de agua.","3600","Captación, tratamiento y distribución de agua."]
[null,null,"3700 - Evacuación y tratamiento de aguas residuales.","3700","Evacuación y tratamiento de aguas residuales."]
[null,null,"3811 - Recolección de desechos no peligrosos.",3811,"Recolección de desechos no peligrosos."]
[null,null,"3812 - Recolección de desechos peligrosos.",3812,"Recolección de desechos peligrosos."]
[null,null,"3821 - Tratamiento y disposición de desechos no peligrosos.",3821,"Tratamiento y disposición de desechos no peligrosos."]
[null,null,"3822 - Tratamiento y disposición de desechos peligrosos.",3822,"Tratamiento y disposición de desechos peligrosos."]
[null,null,"3830 - Recuperación de materiales.",3830,"Recuperación de materiales."]
[null,null,"3900 - Actividades de saneamiento ambiental y otros servicios de gestión de desechos.","3900","Actividades de saneamiento ambiental y otros servicios de gestión de desechos."]
[null,null,"4111 - Construcción de edificios residenciales.",4111,"Construcción de edificios residenciales."]
[null,null,"4112 - Construcción de edificios no residenciales.",4112,"Construcción de edificios no residenciales."]
[null,null,"4210 - Construcción de carreteras y vías de ferrocarril.",4210,"Construcción de carreteras y vías de ferrocarril."]
[null,null,"4220 - Construcción de proyectos de servicio público.",4220,"Construcción de proyectos de servicio público."]
[null,null,"4290 - Construcción de otras obras de ingeniería civil.",4290,"Construcción de otras obras de ingeniería civil."]
[null,null,"4311 - Demolición.",4311,"Demolición."]
[null,null,"4312 - Preparación del terreno.",4312,"Preparación del terreno."]
[null,null,"4321 - Instalaciones eléctricas.",4321,"Instalaciones eléctricas."]
[null,null,"4322 - Instalaciones de fontanería, calefacción y aire acondicionado.",4322,"Instalaciones de fontanería, calefacción y aire acondicionado."]
[null,null,"4329 - Otras instalaciones especializadas.",4329,"Otras instalaciones especializadas."]
[null,null,"4330 - Terminación y acabado de edificios y obras de ingeniería civil.",4330,"Terminación y acabado de edificios y obras de ingeniería civil."]
[null,null,"4390 - Otras actividades especializadas para la construcción de edificios y obras de ingeniería civil.",4390,"Otras actividades especializadas para la construcción de edificios y obras de ingeniería civil."]
[null,null,"4511 - Comercio de vehículos automotores nuevos.",4511,"Comercio de vehículos automotores nuevos."]
[null,null,"4512 - Comercio de vehículos automotores usados.",4512,"Comercio de vehículos automotores usados."]
[null,null,"4520 - Mantenimiento y reparación de vehículos automotores.",4520,"Mantenimiento y reparación de vehículos automotores."]
[null,null,"4530 - Comercio de partes, piezas (autopartes) y accesorios (lujos) para vehículos automotores.",4530,"Comercio de partes, piezas (autopartes) y accesorios (lujos) para vehículos automotores."]
[null,null,"4541 - Comercio de motocicletas y de sus partes, piezas y accesorios.",4541,"Comercio de motocicletas y de sus partes, piezas y accesorios."]
[null,null,"4542 - Mantenimiento y reparación de motocicletas y de sus partes y piezas.",4542,"Mantenimiento y reparación de motocicletas y de sus partes y piezas."]
[null,null,"4610 - Comercio al por mayor a cambio de una retribución o por contrata.",4610,"Comercio al por mayor a cambio de una retribución o por contrata."]
[null,null,"4620 - Comercio al por mayor de materias primas agropecuarias; animales vivos.",4620,"Comercio al por mayor de materias primas agropecuarias; animales vivos."]
[null,null,"4631 - Comercio al por mayor de productos alimenticios.",4631,"Comercio al por mayor de productos alimenticios."]
[null,null,"4632 - Comercio al por mayor de bebidas y tabaco.",4632,"Comercio al por mayor de bebidas y tabaco."]
[null,null,"4641 - Comercio al por mayor de productos textiles, productos confeccionados para uso doméstico.",4641,"Comercio al por mayor de productos textiles, productos confeccionados para uso doméstico."]
[null,null,"4642 - Comercio al por mayor de prendas de vestir.",4642,"Comercio al por mayor de prendas de vestir."]
[null,null,"4643 - Comercio al por mayor de calzado.",4643,"Comercio al por mayor de calzado."]
[null,null,"4644 - Comercio al por mayor de aparatos y equipo de uso doméstico.",4644,"Comercio al por mayor de aparatos y equipo de uso doméstico."]
[null,null,"4645 - Comercio al por mayor de productos farmacéuticos, medicinales, cosméticos y de tocador.",4645,"Comercio al por mayor de productos farmacéuticos, medicinales, cosméticos y de tocador."]
[null,null,"4649 - Comercio al por mayor de otros utensilios domésticos n.c.p.",4649,"Comercio al por mayor de otros utensilios domésticos n.c.p."]
[null,null,"4651 - Comercio al por mayor de computadores, equipo periférico y programas de informática.",4651,"Comercio al por mayor de computadores, equipo periférico y programas de informática."]
[null,null,"4652 - Comercio al por mayor de equipo, partes y piezas electrónicos y de telecomunicaciones.",4652,"Comercio al por mayor de equipo, partes y piezas electrónicos y de telecomunicaciones."]
[null,null,"4653 - Comercio al por mayor de maquinaria y equipo agropecuarios.",4653,"Comercio al por mayor de maquinaria y equipo agropecuarios."]
[null,null,"4659 - Comercio al por mayor de otros tipos de maquinaria y equipo n.c.p.",4659,"Comercio al por mayor de otros tipos de maquinaria y equipo n.c.p."]
[null,null,"4661 - Comercio  al  por  mayor  de  combustibles  sólidos,  líquidos,  gaseosos  y  productos conexos.",4661,"Comercio  al  por  mayor  de  combustibles  sólidos,  líquidos,  gaseosos  y  productos conexos."]
[null,null,"4662 - Comercio al por mayor de metales y productos metalíferos.",4662,"Comercio al por mayor de metales y productos metalíferos."]
[null,null,"4663 - Comercio al por mayor de materiales de construcción, artículos de ferretería, pinturas, productos de vidrio, equipo y materiales de fontanería y calefacción.",4663,"Comercio al por mayor de materiales de construcción, artículos de ferretería, pinturas, productos de vidrio, equipo y materiales de fontanería y calefacción."]
[null,null,{"$f":"+CONCATENATE(D263,\" - \",E263)","v":"4664 - Comercio al por mayor de productos químicos básicos, cauchos y plásticos en formas primarias y productos químicos de uso agropecuario."},4664,"Comercio al por mayor de productos químicos básicos, cauchos y plásticos en formas primarias y productos químicos de uso agropecuario."]
[null,null,"4665 - Comercio al por mayor de desperdicios, desechos y chatarra.",4665,"Comercio al por mayor de desperdicios, desechos y chatarra."]
[null,null,"4669 - Comercio al por mayor de otros productos n.c.p.",4669,"Comercio al por mayor de otros productos n.c.p."]
[null,null,"4690 - Comercio al por mayor no especializado.",4690,"Comercio al por mayor no especializado."]
[null,null,"4711 - Comercio al por menor en establecimientos no especializados con surtido compuesto principalmente por alimentos, bebidas (alcohólicas y no alcohólicas) o tabaco.","4711","Comercio al por menor en establecimientos no especializados con surtido compuesto principalmente por alimentos, bebidas (alcohólicas y no alcohólicas) o tabaco."]
[null,null,"4719 - Comercio al por menor en establecimientos no especializados, con surtido compuesto principalmente por productos diferentes de alimentos (víveres en general), bebidas (alcohólicas y no alcohólicas) y tabaco.","4719","Comercio al por menor en establecimientos no especializados, con surtido compuesto principalmente por productos diferentes de alimentos (víveres en general), bebidas (alcohólicas y no alcohólicas) y tabaco."]
[null,null,"4721 - Comercio al por menor de productos agrícolas para el consumo en establecimientos especializados.","4721","Comercio al por menor de productos agrícolas para el consumo en establecimientos especializados."]
[null,null,"4722 - Comercio al por menor de leche, productos lácteos y huevos, en establecimientos especializados.","4722","Comercio al por menor de leche, productos lácteos y huevos, en establecimientos especializados."]
[null,null,"4723 - Comercio al por menor de carnes (incluye aves de corral), productos cárnicos, pescados y productos de mar, en establecimientos especializados.","4723","Comercio al por menor de carnes (incluye aves de corral), productos cárnicos, pescados y productos de mar, en establecimientos especializados."]
[null,null,"4724 - Comercio al por menor de bebidas y productos del tabaco, en establecimientos especializados.","4724","Comercio al por menor de bebidas y productos del tabaco, en establecimientos especializados."]
[null,null,"4729 - Comercio al por menor de otros productos alimenticios n.c.p., en establecimientos especializados.","4729","Comercio al por menor de otros productos alimenticios n.c.p., en establecimientos especializados."]
[null,null,"4731 - Comercio al por menor de combustible para automotores.","4731","Comercio al por menor de combustible para automotores."]
[null,null,"4732 - Comercio al por menor de lubricantes (aceites, grasas), aditivos y productos de limpieza para vehículos automotores.","4732","Comercio al por menor de lubricantes (aceites, grasas), aditivos y productos de limpieza para vehículos automotores."]
[null,null,"4741 - Comercio al por menor de computadores, equipos periféricos, programas de informática y equipos de telecomunicaciones en establecimientos especializados.","4741","Comercio al por menor de computadores, equipos periféricos, programas de informática y equipos de telecomunicaciones en establecimientos especializados."]
[null,null,"4742 - Comercio al por menor de equipos y aparatos de sonido y de video, en establecimientos especializados.","4742","Comercio al por menor de equipos y aparatos de sonido y de video, en establecimientos especializados."]
[null,null,"4751 - Comercio al por menor de productos textiles en establecimientos especializados.","4751","Comercio al por menor de productos textiles en establecimientos especializados."]
[null,null,"4752 - Comercio al por menor de artículos de ferretería, pinturas y productos de vidrio en establecimientos especializados.","4752","Comercio al por menor de artículos de ferretería, pinturas y productos de vidrio en establecimientos especializados."]
[null,null,"4753 - Comercio al por menor de tapices, alfombras y recubrimientos para paredes y pisos en establecimientos especializados.","4753","Comercio al por menor de tapices, alfombras y recubrimientos para paredes y pisos en establecimientos especializados."]
[null,null,"4754 - Comercio al por menor de electrodomésticos y gasodomésticos de uso doméstico, muebles y equipos de iluminación en establecimientos especializados.","4754","Comercio al por menor de electrodomésticos y gasodomésticos de uso doméstico, muebles y equipos de iluminación en establecimientos especializados."]
[null,null,"4755 - Comercio al por menor de artículos y utensilios de uso doméstico en establecimientos especializados.",4755,"Comercio al por menor de artículos y utensilios de uso doméstico en establecimientos especializados."]
[null,null,"4759 - Comercio al por menor de otros artículos domésticos en establecimientos especializados.",4759,"Comercio al por menor de otros artículos domésticos en establecimientos especializados."]
[null,null,"4761 - Comercio al por menor de libros, periódicos, materiales y artículos de papelería y escritorio, en establecimientos especializados.",4761,"Comercio al por menor de libros, periódicos, materiales y artículos de papelería y escritorio, en establecimientos especializados."]
[null,null,"4762 - Comercio al por menor de artículos deportivos, en establecimientos especializados.",4762,"Comercio al por menor de artículos deportivos, en establecimientos especializados."]
[null,null,"4769 - Comercio al por menor de otros artículos culturales y de entretenimiento n.c.p. en establecimientos especializados.",4769,"Comercio al por menor de otros artículos culturales y de entretenimiento n.c.p. en establecimientos especializados."]
[null,null,"4771 - Comercio al por menor de prendas de vestir y sus accesorios (incluye artículos de piel) en establecimientos especializados.",4771,"Comercio al por menor de prendas de vestir y sus accesorios (incluye artículos de piel) en establecimientos especializados."]
[null,null,"4772 - Comercio al por menor de todo tipo de calzado y artículos de cuero y sucedáneos del cuero en establecimientos especializados.","4772","Comercio al por menor de todo tipo de calzado y artículos de cuero y sucedáneos del cuero en establecimientos especializados."]
[null,null,"4773 - Comercio al por menor de productos farmacéuticos y medicinales, cosméticos y artículos de tocador en establecimientos especializados.","4773","Comercio al por menor de productos farmacéuticos y medicinales, cosméticos y artículos de tocador en establecimientos especializados."]
[null,null,"4774 - Comercio al por menor de otros productos nuevos en establecimientos especializados.","4774","Comercio al por menor de otros productos nuevos en establecimientos especializados."]
[null,null,"4775 - Comercio al por menor de artículos de segunda mano.",4775,"Comercio al por menor de artículos de segunda mano."]
[null,null,"4781 - Comercio al por menor de alimentos, bebidas y tabaco, en puestos de venta móviles.",4781,"Comercio al por menor de alimentos, bebidas y tabaco, en puestos de venta móviles."]
[null,null,"4782 - Comercio al por menor de productos textiles, prendas de vestir y calzado, en puestos de venta móviles.",4782,"Comercio al por menor de productos textiles, prendas de vestir y calzado, en puestos de venta móviles."]
[null,null,"4789 - Comercio al por menor de otros productos en puestos de venta móviles.",4789,"Comercio al por menor de otros productos en puestos de venta móviles."]
[null,null,"4791 - Comercio al por menor realizado a través de Internet.",4791,"Comercio al por menor realizado a través de Internet."]
[null,null,"4792 - Comercio al por menor realizado a través de casas de venta o por correo.",4792,"Comercio al por menor realizado a través de casas de venta o por correo."]
[null,null,"4799 - Otros tipos de comercio al por menor no realizado en establecimientos, puestos de venta o mercados.",4799,"Otros tipos de comercio al por menor no realizado en establecimientos, puestos de venta o mercados."]
[null,null,"4911 - Transporte férreo de pasajeros.","4911","Transporte férreo de pasajeros."]
[null,null,"4912 - Transporte férreo de carga.","4912","Transporte férreo de carga."]
[null,null,"4921 - Transporte de pasajeros.",4921,"Transporte de pasajeros."]
[null,null,"4922 - Transporte mixto.",4922,"Transporte mixto."]
[null,null,"4923 - Transporte de carga por carretera.",4923,"Transporte de carga por carretera."]
[null,null,"4930 - Transporte por tuberías.",4930,"Transporte por tuberías."]
[null,null,"5011 - Transporte de pasajeros marítimo y de cabotaje.",5011,"Transporte de pasajeros marítimo y de cabotaje."]
[null,null,"5012 - Transporte de carga marítimo y de cabotaje.",5012,"Transporte de carga marítimo y de cabotaje."]
[null,null,"5021 - Transporte fluvial de pasajeros.",5021,"Transporte fluvial de pasajeros."]
[null,null,"5022 - Transporte fluvial de carga.",5022,"Transporte fluvial de carga."]
[null,null,"5111 - Transporte aéreo nacional de pasajeros.",5111,"Transporte aéreo nacional de pasajeros."]
[null,null,"5112 - Transporte aéreo internacional de pasajeros.",5112,"Transporte aéreo internacional de pasajeros."]
[null,null,"5121 - Transporte aéreo nacional de carga.",5121,"Transporte aéreo nacional de carga."]
[null,null,"5122 - Transporte aéreo internacional de carga.",5122,"Transporte aéreo internacional de carga."]
[null,null,"5210 - Almacenamiento y depósito.",5210,"Almacenamiento y depósito."]
[null,null,"5221 - Actividades de estaciones, vías y servicios complementarios para el transporte terrestre.","5221","Actividades de estaciones, vías y servicios complementarios para el transporte terrestre."]
[null,null,"5222 - Actividades de puertos y servicios complementarios para el transporte acuático.","5222","Actividades de puertos y servicios complementarios para el transporte acuático."]
[null,null,"5223 - Actividades de aeropuertos, servicios de navegación aérea y demás actividades conexas al transporte aéreo.","5223","Actividades de aeropuertos, servicios de navegación aérea y demás actividades conexas al transporte aéreo."]
[null,null,"5224 - Manipulación de carga.","5224","Manipulación de carga."]
[null,null,"5229 - Otras actividades complementarias al transporte.",5229,"Otras actividades complementarias al transporte."]
[null,null,"5310 - Actividades postales nacionales.","5310","Actividades postales nacionales."]
[null,null,"5320 - Actividades de mensajería.","5320","Actividades de mensajería."]
[null,null,"5511 - Alojamiento en hoteles.",5511,"Alojamiento en hoteles."]
[null,null,"5512 - Alojamiento en apartahoteles.",5512,"Alojamiento en apartahoteles."]
[null,null,"5513 - Alojamiento en centros vacacionales.",5513,"Alojamiento en centros vacacionales."]
[null,null,"5514 - Alojamiento rural.",5514,"Alojamiento rural."]
[null,null,"5519 - Otros tipos de alojamiento para visitantes.",5519,"Otros tipos de alojamiento para visitantes."]
[null,null,"5520 - Actividades de zonas de camping y parques para vehículos recreacionales.",5520,"Actividades de zonas de camping y parques para vehículos recreacionales."]
[null,null,"5530 - Servicio de estancia por horas.",5530,"Servicio de estancia por horas."]
[null,null,{"$f":"+CONCATENATE(D327,\" - \",E327)","v":"5590 - Otros tipos de alojamiento n.c.p."},5590,"Otros tipos de alojamiento n.c.p."]
[null,null,"5611 - Expendio a la mesa de comidas preparadas.",5611,"Expendio a la mesa de comidas preparadas."]
[null,null,"5612 - Expendio por autoservicio de comidas preparadas.",5612,"Expendio por autoservicio de comidas preparadas."]
[null,null,"5613 - Expendio de comidas preparadas en cafeterías.",5613,"Expendio de comidas preparadas en cafeterías."]
[null,null,"5619 - Otros tipos de expendio de comidas preparadas n.c.p.",5619,"Otros tipos de expendio de comidas preparadas n.c.p."]
[null,null,"5621 - Catering para eventos.",5621,"Catering para eventos."]
[null,null,"5629 - Actividades de otros servicios de comidas.",5629,"Actividades de otros servicios de comidas."]
[null,null,"5630 - Expendio de bebidas alcohólicas para el consumo dentro del establecimiento.",5630,"Expendio de bebidas alcohólicas para el consumo dentro del establecimiento."]
[null,null,"5811 - Edición de libros.",5811,"Edición de libros."]
[null,null,"5812 - Edición de directorios y listas de correo.",5812,"Edición de directorios y listas de correo."]
[null,null,"5813 - Edición de periódicos, revistas y otras publicaciones periódicas.",5813,"Edición de periódicos, revistas y otras publicaciones periódicas."]
[null,null,"5819 - Otros trabajos de edición.",5819,"Otros trabajos de edición."]
[null,null,"5820 - Edición de programas de informática (software).",5820,"Edición de programas de informática (software)."]
[null,null,"5911 - Actividades de producción de películas cinematográficas, videos, programas, anuncios y comerciales de televisión.",5911,"Actividades de producción de películas cinematográficas, videos, programas, anuncios y comerciales de televisión."]
[null,null,"5912 - Actividades de postproducción de películas cinematográficas, videos, programas, anuncios y comerciales de televisión.",5912,"Actividades de postproducción de películas cinematográficas, videos, programas, anuncios y comerciales de televisión."]
[null,null,"5913 - Actividades de distribución de películas cinematográficas, videos, programas, anuncios y comerciales de televisión.",5913,"Actividades de distribución de películas cinematográficas, videos, programas, anuncios y comerciales de televisión."]
[null,null,"5914 - Actividades de exhibición de películas cinematográficas y videos.",5914,"Actividades de exhibición de películas cinematográficas y videos."]
[null,null,"5920 - Actividades de grabación de sonido y edición de música.",5920,"Actividades de grabación de sonido y edición de música."]
[null,null,"6010 - Actividades de programación y transmisión en el servicio de radiodifusión sonora.",6010,"Actividades de programación y transmisión en el servicio de radiodifusión sonora."]
[null,null,"6020 - Actividades de programación y transmisión de televisión.",6020,"Actividades de programación y transmisión de televisión."]
[null,null,"6110 - Actividades de telecomunicaciones alámbricas.",6110,"Actividades de telecomunicaciones alámbricas."]
[null,null,"6120 - Actividades de telecomunicaciones inalámbricas.",6120,"Actividades de telecomunicaciones inalámbricas."]
[null,null,"6130 - Actividades de telecomunicación satelital.",6130,"Actividades de telecomunicación satelital."]
[null,null,"6190 - Otras actividades de telecomunicaciones.","6190","Otras actividades de telecomunicaciones."]
[null,null,"6201 - Actividades de desarrollo de sistemas informáticos (planificación, análisis, diseño, programación, pruebas).","6201","Actividades de desarrollo de sistemas informáticos (planificación, análisis, diseño, programación, pruebas)."]
[null,null,"6202 - Actividades de consultoría informática y actividades de administración de instalaciones informáticas.","6202","Actividades de consultoría informática y actividades de administración de instalaciones informáticas."]
[null,null,"6209 - Otras actividades de tecnologías de información y actividades de servicios informáticos.","6209","Otras actividades de tecnologías de información y actividades de servicios informáticos."]
[null,null,"6311 - Procesamiento de datos, alojamiento (hosting) y actividades relacionadas.",6311,"Procesamiento de datos, alojamiento (hosting) y actividades relacionadas."]
[null,null,"6312 - Portales web.",6312,"Portales web."]
[null,null,"6391 - Actividades de agencias de noticias.",6391,"Actividades de agencias de noticias."]
[null,null,"6399 - Otras actividades de servicios de información n.c.p.",6399,"Otras actividades de servicios de información n.c.p."]
[null,null,"6411 - Banco Central.",6411,"Banco Central."]
[null,null,"6412 - Bancos comerciales.",6412,"Bancos comerciales."]
[null,null,"6421 - Actividades de las corporaciones financieras.",6421,"Actividades de las corporaciones financieras."]
[null,null,"6422 - Actividades de las compañías de financiamiento.",6422,"Actividades de las compañías de financiamiento."]
[null,null,"6423 - Banca de segundo piso.",6423,"Banca de segundo piso."]
[null,null,"6424 - Actividades de las cooperativas financieras.",6424,"Actividades de las cooperativas financieras."]
[null,null,"6431 - Fideicomisos, fondos y entidades financieras similares.",6431,"Fideicomisos, fondos y entidades financieras similares."]
[null,null,"6432 - Fondos de cesantías.",6432,"Fondos de cesantías."]
[null,null,"6491 - Leasing financiero (arrendamiento financiero).",6491,"Leasing financiero (arrendamiento financiero)."]
[null,null,"6492 - Actividades financieras de fondos de empleados y otras formas asociativas del sector solidario.",6492,"Actividades financieras de fondos de empleados y otras formas asociativas del sector solidario."]
[null,null,"6493 - Actividades de compra de cartera o factoring.",6493,"Actividades de compra de cartera o factoring."]
[null,null,"6494 - Otras actividades de distribución de fondos.",6494,"Otras actividades de distribución de fondos."]
[null,null,"6495 - Instituciones especiales oficiales.",6495,"Instituciones especiales oficiales."]
[null,null,"6496 - Capitalización",6496,"Capitalización"]
[null,null,"6499 - Otras actividades de servicio financiero, excepto las de seguros y pensiones n.c.p.",6499,"Otras actividades de servicio financiero, excepto las de seguros y pensiones n.c.p."]
[null,null,"6511 - Seguros generales.",6511,"Seguros generales."]
[null,null,"6512 - Seguros de vida.",6512,"Seguros de vida."]
[null,null,"6513 - Reaseguros.",6513,"Reaseguros."]
[null,null,"6515 - Seguros de salud.",6515,"Seguros de salud."]
[null,null,"6521 - Servicios de seguros sociales de salud.",6521,"Servicios de seguros sociales de salud."]
[null,null,"6522 - Servicios de seguros sociales en riesgos laborales.",6522,"Servicios de seguros sociales en riesgos laborales."]
[null,null,"6523 - Servicios de seguros sociales en riesgos familia.",6523,"Servicios de seguros sociales en riesgos familia."]
[null,null,"6531 - Régimen de prima media con prestación definida (RPM).","6531","Régimen de prima media con prestación definida (RPM)."]
[null,null,"6532 - Régimen de ahorro con solidaridad (RAIS).","6532","Régimen de ahorro con solidaridad (RAIS)."]
[null,null,"6611 - Administración de mercados financieros.",6611,"Administración de mercados financieros."]
[null,null,"6612 - Corretaje de valores y de contratos de productos básicos.",6612,"Corretaje de valores y de contratos de productos básicos."]
[null,null,"6613 - Otras actividades relacionadas con el mercado de valores.",6613,"Otras actividades relacionadas con el mercado de valores."]
[null,null,"6614 - Actividades de las sociedades de intermediación cambiaria y de servicios financieros especiales.",6614,"Actividades de las sociedades de intermediación cambiaria y de servicios financieros especiales."]
[null,null,"6615 - Actividades de los profesionales de compra y venta de divisas.",6615,"Actividades de los profesionales de compra y venta de divisas."]
[null,null,"6619 - Otras actividades auxiliares de las actividades de servicios financieros n.c.p.",6619,"Otras actividades auxiliares de las actividades de servicios financieros n.c.p."]
[null,null,"6621 - Actividades de agentes y corredores de seguros.",6621,"Actividades de agentes y corredores de seguros."]
[null,null,"6629 - Evaluación de riesgos y daños, y otras actividades de servicios auxiliares.",6629,"Evaluación de riesgos y daños, y otras actividades de servicios auxiliares."]
[null,null,"6630 - Actividades de administración de fondos.",6630,"Actividades de administración de fondos."]
[null,null,{"$f":"+CONCATENATE(D391,\" - \",E391)","v":"6810 - Actividades inmobiliarias realizadas con bienes propios o arrendados."},6810,"Actividades inmobiliarias realizadas con bienes propios o arrendados."]
[null,null,"6820 - Actividades inmobiliarias realizadas a cambio de una retribución o por contrata.",6820,"Actividades inmobiliarias realizadas a cambio de una retribución o por contrata."]
[null,null,"6910 - Actividades jurídicas.","6910","Actividades jurídicas."]
[null,null,"6920 - Actividades  de  contabilidad,  teneduría  de  libros,  auditoría  financiera  y  asesoría tributaria.","6920","Actividades  de  contabilidad,  teneduría  de  libros,  auditoría  financiera  y  asesoría tributaria."]
[null,null,"7010 - Actividades de administración empresarial.","7010","Actividades de administración empresarial."]
[null,null,"7020 - Actividades de consultoría de gestión.","7020","Actividades de consultoría de gestión."]
[null,null,"7111 - Actividades de arquitectura.","7111","Actividades de arquitectura."]
[null,null,"7112 - Actividades de ingeniería y otras actividades conexas de consultoría técnica.","7112","Actividades de ingeniería y otras actividades conexas de consultoría técnica."]
[null,null,"7120 - Ensayos y análisis técnicos.","7120","Ensayos y análisis técnicos."]
[null,null,"7210 - Investigaciones y desarrollo experimental en el campo de las ciencias naturales y la ingeniería.",7210,"Investigaciones y desarrollo experimental en el campo de las ciencias naturales y la ingeniería."]
[null,null,"7220 - Investigaciones y desarrollo experimental en el campo de las ciencias sociales y las humanidades.",7220,"Investigaciones y desarrollo experimental en el campo de las ciencias sociales y las humanidades."]
[null,null,"7310 - Publicidad.",7310,"Publicidad."]
[null,null,"7320 - Estudios de mercado y realización de encuestas de opinión pública.",7320,"Estudios de mercado y realización de encuestas de opinión pública."]
[null,null,"7410 - Actividades especializadas de diseño.",7410,"Actividades especializadas de diseño."]
[null,null,"7420 - Actividades de fotografía.",7420,"Actividades de fotografía."]
[null,null,"7490 - Otras actividades profesionales, científicas y técnicas n.c.p.",7490,"Otras actividades profesionales, científicas y técnicas n.c.p."]
[null,null,"7500 - Actividades veterinarias.","7500","Actividades veterinarias."]
[null,null,"7710 - Alquiler y arrendamiento de vehículos automotores.",7710,"Alquiler y arrendamiento de vehículos automotores."]
[null,null,"7721 - Alquiler y arrendamiento de equipo recreativo y deportivo.",7721,"Alquiler y arrendamiento de equipo recreativo y deportivo."]
[null,null,"7722 - Alquiler de videos y discos.",7722,"Alquiler de videos y discos."]
[null,null,"7729 - Alquiler y arrendamiento de otros efectos personales y enseres domésticos n.c.p.",7729,"Alquiler y arrendamiento de otros efectos personales y enseres domésticos n.c.p."]
[null,null,"7730 - Alquiler y arrendamiento de otros tipos de maquinaria, equipo y bienes tangibles n.c.p.",7730,"Alquiler y arrendamiento de otros tipos de maquinaria, equipo y bienes tangibles n.c.p."]
[null,null,"7740 - Arrendamiento de propiedad intelectual y productos similares, excepto obras protegidas por derechos de autor.",7740,"Arrendamiento de propiedad intelectual y productos similares, excepto obras protegidas por derechos de autor."]
[null,null,"7810 - Actividades de agencias de gestión y colocación empleo.",7810,"Actividades de agencias de gestión y colocación empleo."]
[null,null,"7820 - Actividades de empresas de servicios temporales.",7820,"Actividades de empresas de servicios temporales."]
[null,null,"7830 - Otras actividades de provisión de talento humano.",7830,"Otras actividades de provisión de talento humano."]
[null,null,"7911 - Actividades de las agencias de viaje.",7911,"Actividades de las agencias de viaje."]
[null,null,"7912 - Actividades de operadores turísticos.",7912,"Actividades de operadores turísticos."]
[null,null,"7990 - Otros servicios de reserva y actividades relacionadas.",7990,"Otros servicios de reserva y actividades relacionadas."]
[null,null,"8010 - Actividades de seguridad privada.",8010,"Actividades de seguridad privada."]
[null,null,"8020 - Actividades de servicios de sistemas de seguridad.",8020,"Actividades de servicios de sistemas de seguridad."]
[null,null,"8030 - Actividades de detectives e investigadores privados.",8030,"Actividades de detectives e investigadores privados."]
[null,null,"8110 - Actividades combinadas de apoyo a instalaciones.",8110,"Actividades combinadas de apoyo a instalaciones."]
[null,null,"8121 - Limpieza general interior de edificios.",8121,"Limpieza general interior de edificios."]
[null,null,"8129 - Otras actividades de limpieza de edificios e instalaciones industriales.",8129,"Otras actividades de limpieza de edificios e instalaciones industriales."]
[null,null,"8130 - Actividades de paisajismo y servicios de mantenimiento conexos.",8130,"Actividades de paisajismo y servicios de mantenimiento conexos."]
[null,null,"8211 - Actividades combinadas de servicios administrativos de oficina.",8211,"Actividades combinadas de servicios administrativos de oficina."]
[null,null,"8219 - Fotocopiado,  preparación  de  documentos  y  otras  actividades  especializadas apoyo a oficina.",8219,"Fotocopiado,  preparación  de  documentos  y  otras  actividades  especializadas apoyo a oficina."]
[null,null,"8220 - Actividades de centros de llamadas (call center).",8220,"Actividades de centros de llamadas (call center)."]
[null,null,"8230 - Organización de convenciones y eventos comerciales.",8230,"Organización de convenciones y eventos comerciales."]
[null,null,"8291 - Actividades de agencias de cobranza y oficinas de calificación crediticia.",8291,"Actividades de agencias de cobranza y oficinas de calificación crediticia."]
[null,null,"8292 - Actividades de envase y empaque.",8292,"Actividades de envase y empaque."]
[null,null,"8299 - Otras actividades de servicio de apoyo a las empresas n.c.p.",8299,"Otras actividades de servicio de apoyo a las empresas n.c.p."]
[null,null,"8411 - Actividades legislativas de la administración pública.","8411","Actividades legislativas de la administración pública."]
[null,null,"8412 - Actividades ejecutivas de la administración pública.","8412","Actividades ejecutivas de la administración pública."]
[null,null,"8413 - Regulación de las actividades de organismos que prestan servicios de salud, educativos, culturales y otros servicios sociales, excepto servicios de seguridad social.","8413","Regulación de las actividades de organismos que prestan servicios de salud, educativos, culturales y otros servicios sociales, excepto servicios de seguridad social."]
[null,null,"8414 - Actividades reguladoras y facilitadoras de la actividad económica.",8414,"Actividades reguladoras y facilitadoras de la actividad económica."]
[null,null,"8415 - Actividades de los órganos de control y otras instituciones.",8415,"Actividades de los órganos de control y otras instituciones."]
[null,null,"8421 - Relaciones exteriores.",8421,"Relaciones exteriores."]
[null,null,"8422 - Actividades de defensa.",8422,"Actividades de defensa."]
[null,null,"8423 - Orden público y actividades de seguridad.",8423,"Orden público y actividades de seguridad."]
[null,null,"8424 - Administración de justicia.",8424,"Administración de justicia."]
[null,null,"8430 - Actividades de planes de seguridad social de afiliación obligatoria.",8430,"Actividades de planes de seguridad social de afiliación obligatoria."]
[null,null,"8511 - Educación de la primera infancia.",8511,"Educación de la primera infancia."]
[null,null,"8512 - Educación preescolar.",8512,"Educación preescolar."]
[null,null,"8513 - Educación básica primaria.",8513,"Educación básica primaria."]
[null,null,"8521 - Educación básica secundaria.",8521,"Educación básica secundaria."]
[null,null,"8522 - Educación media académica.",8522,"Educación media académica."]
[null,null,"8523 - Educación media técnica.",8523,"Educación media técnica."]
[null,null,"8530 - Establecimientos que combinan diferentes niveles de educación.",8530,"Establecimientos que combinan diferentes niveles de educación."]
[null,null,"8541 - Educación técnica profesional.",8541,"Educación técnica profesional."]
[null,null,"8542 - Educación tecnológica.",8542,"Educación tecnológica."]
[null,null,"8543 - Educación de instituciones universitarias o de escuelas tecnológicas.",8543,"Educación de instituciones universitarias o de escuelas tecnológicas."]
[null,null,"8544 - Educación de universidades.",8544,"Educación de universidades."]
[null,null,{"$f":"+CONCATENATE(D455,\" - \",E455)","v":"8551 - Formación para el trabajo."},8551,"Formación para el trabajo."]
[null,null,"8552 - Enseñanza deportiva y recreativa.",8552,"Enseñanza deportiva y recreativa."]
[null,null,"8553 - Enseñanza cultural.",8553,"Enseñanza cultural."]
[null,null,"8559 - Otros tipos de educación n.c.p.",8559,"Otros tipos de educación n.c.p."]
[null,null,"8560 - Actividades de apoyo a la educación.",8560,"Actividades de apoyo a la educación."]
[null,null,"8610 - Actividades de hospitales y clínicas, con internación.",8610,"Actividades de hospitales y clínicas, con internación."]
[null,null,"8621 - Actividades de la práctica médica, sin internación.",8621,"Actividades de la práctica médica, sin internación."]
[null,null,"8622 - Actividades de la práctica odontológica.",8622,"Actividades de la práctica odontológica."]
[null,null,"8691 - Actividades de apoyo diagnóstico.",8691,"Actividades de apoyo diagnóstico."]
[null,null,"8692 - Actividades de apoyo terapéutico.",8692,"Actividades de apoyo terapéutico."]
[null,null,"8699 - Otras actividades de atención de la salud humana.",8699,"Otras actividades de atención de la salud humana."]
[null,null,"8710 - Actividades de atención residencial medicalizada de tipo general.",8710,"Actividades de atención residencial medicalizada de tipo general."]
[null,null,"8720 - Actividades de atención residencial, para el cuidado de pacientes con retardo mental, enfermedad mental y consumo de sustancias psicoactivas.",8720,"Actividades de atención residencial, para el cuidado de pacientes con retardo mental, enfermedad mental y consumo de sustancias psicoactivas."]
[null,null,"8730 - Actividades de atención en instituciones para el cuidado de personas mayores y/o discapacitadas.","8730","Actividades de atención en instituciones para el cuidado de personas mayores y/o discapacitadas."]
[null,null,"8790 - Otras actividades de atención en instituciones con alojamiento.",8790,"Otras actividades de atención en instituciones con alojamiento."]
[null,null,"8810 - Actividades de asistencia social sin alojamiento para personas mayores y discapacitadas.",8810,"Actividades de asistencia social sin alojamiento para personas mayores y discapacitadas."]
[null,null,"8891 - Actividades de guarderías para niños y niñas.",8891,"Actividades de guarderías para niños y niñas."]
[null,null,"8899 - Otras actividades de asistencia social n.c.p.",8899,"Otras actividades de asistencia social n.c.p."]
[null,null,"9001 - Creación literaria.",9001,"Creación literaria."]
[null,null,"9002 - Creación musical.",9002,"Creación musical."]
[null,null,"9003 - Creación teatral.",9003,"Creación teatral."]
[null,null,"9004 - Creación audiovisual.",9004,"Creación audiovisual."]
[null,null,"9005 - Artes plásticas y visuales.",9005,"Artes plásticas y visuales."]
[null,null,"9006 - Actividades teatrales.",9006,"Actividades teatrales."]
[null,null,"9007 - Actividades de espectáculos musicales en vivo.",9007,"Actividades de espectáculos musicales en vivo."]
[null,null,"9008 - Otras actividades de espectáculos en vivo n.c.p.",9008,"Otras actividades de espectáculos en vivo n.c.p."]
[null,null,"9101 - Actividades de bibliotecas y archivos.",9101,"Actividades de bibliotecas y archivos."]
[null,null,"9102 - Actividades   y   funcionamiento   de   museos,   conservación   de   edificios   y   sitios históricos.",9102,"Actividades   y   funcionamiento   de   museos,   conservación   de   edificios   y   sitios históricos."]
[null,null,"9103 - Actividades de jardines botánicos, zoológicos y reservas naturales.",9103,"Actividades de jardines botánicos, zoológicos y reservas naturales."]
[null,null,"9200 - Actividades de juegos de azar y apuestas.","9200","Actividades de juegos de azar y apuestas."]
[null,null,"9311 - Gestión de instalaciones deportivas.",9311,"Gestión de instalaciones deportivas."]
[null,null,"9312 - Actividades de clubes deportivos.",9312,"Actividades de clubes deportivos."]
[null,null,"9319 - Otras actividades deportivas.",9319,"Otras actividades deportivas."]
[null,null,"9321 - Actividades de parques de atracciones y parques temáticos.",9321,"Actividades de parques de atracciones y parques temáticos."]
[null,null,"9329 - Otras actividades recreativas y de esparcimiento n.c.p.",9329,"Otras actividades recreativas y de esparcimiento n.c.p."]
[null,null,"9411 - Actividades de asociaciones empresariales y de empleadores.",9411,"Actividades de asociaciones empresariales y de empleadores."]
[null,null,"9412 - Actividades de asociaciones profesionales.",9412,"Actividades de asociaciones profesionales."]
[null,null,"9420 - Actividades de sindicatos de empleados.",9420,"Actividades de sindicatos de empleados."]
[null,null,"9491 - Actividades de asociaciones religiosas.",9491,"Actividades de asociaciones religiosas."]
[null,null,"9492 - Actividades de asociaciones políticas.","9492","Actividades de asociaciones políticas."]
[null,null,"9499 - Actividades de otras asociaciones n.c.p.",9499,"Actividades de otras asociaciones n.c.p."]
[null,null,"9511 - Mantenimiento y reparación de computadores y de equipo periférico.",9511,"Mantenimiento y reparación de computadores y de equipo periférico."]
[null,null,"9512 - Mantenimiento y reparación de equipos de comunicación.",9512,"Mantenimiento y reparación de equipos de comunicación."]
[null,null,"9521 - Mantenimiento y reparación de aparatos electrónicos de consumo.",9521,"Mantenimiento y reparación de aparatos electrónicos de consumo."]
[null,null,"9522 - Mantenimiento y reparación de aparatos y equipos domésticos y de jardinería.",9522,"Mantenimiento y reparación de aparatos y equipos domésticos y de jardinería."]
[null,null,"9523 - Reparación de calzado y artículos de cuero.",9523,"Reparación de calzado y artículos de cuero."]
[null,null,"9524 - Reparación de muebles y accesorios para el hogar.",9524,"Reparación de muebles y accesorios para el hogar."]
[null,null,"9529 - Mantenimiento y reparación de otros efectos personales y enseres domésticos.",9529,"Mantenimiento y reparación de otros efectos personales y enseres domésticos."]
[null,null,"9601 - Lavado y limpieza, incluso la limpieza en seco, de productos textiles y de piel.","9601","Lavado y limpieza, incluso la limpieza en seco, de productos textiles y de piel."]
[null,null,"9602 - Peluquería y otros tratamientos de belleza.","9602","Peluquería y otros tratamientos de belleza."]
[null,null,"9603 - Pompas fúnebres y actividades relacionadas.","9603","Pompas fúnebres y actividades relacionadas."]
[null,null,"9609 - Otras actividades de servicios personales n.c.p.","9609","Otras actividades de servicios personales n.c.p."]
[null,null,"9700 - Actividades de los hogares individuales como empleadores de personal doméstico.","9700","Actividades de los hogares individuales como empleadores de personal doméstico."]
[null,null,"9810 - Actividades no diferenciadas de los hogares individuales como productores de bienes para uso propio.","9810","Actividades no diferenciadas de los hogares individuales como productores de bienes para uso propio."]
[null,"Fijo ","9820 - Actividades no diferenciadas de los hogares individuales como productores de servicios para uso propio.","9820","Actividades no diferenciadas de los hogares individuales como productores de servicios para uso propio."]
[null,"Movible","9900 - Actividades de organizaciones y entidades extraterritoriales.","9900","Actividades de organizaciones y entidades extraterritoriales."]
[]
[]
[null,"37. Jurisdicción",null,null,"39. Tipo de activo","39. Tipo de activo"]
[null,"Afganistán","Afganistán",null,"A casa matriz, subsidiarias, relacionadas y asociadas – sector financiero","A casa matriz, subsidiarias, relacionadas y asociadas – sector financiero"]
[null,"Albania","Albania",null,"A directores – sector financiero","A directores – sector financiero"]
[null,"Alemania","Alemania",null,"A empleados – sector financiero","A empleados – sector financiero"]
[null,"Armenia","Armenia",null,"A retrogarantes – sector financiero","A retrogarantes – sector financiero"]
[null,"Aruba","Aruba",null,"A socios y accionistas – sector financiero","A socios y accionistas – sector financiero"]
[null,"Bosnia-Herzegovina","Bosnia-Herzegovina",null,"Aeronaves","AERONAVES"]
[null,"Burkina Fasso","Burkina Fasso",null,"Acciones","Acciones"]
[null,"Andorra","Andorra",null,"Aceptaciones bancarias o financieras","Aceptaciones bancarias o financieras"]
[null,"Angola","Angola",null,"Actividades en operaciones conjuntas – sector financiero","Actividades en operaciones conjuntas – sector financiero"]
[null,"Anguilla","Anguilla",null,"Activos biológicos – sector financiero","Activos biológicos – sector financiero"]
[null,"Antigua Y Barbuda","Antigua Y Barbuda",null,"Activos intangibles distintos a la plusvalía","Activos intangibles distintos a la plusvalía"]
[null,"Antillas Holandesas","Antillas Holandesas",null,"Activos intangibles – sector financiero","Activos intangibles – sector financiero"]
[null,"Arabia Saudita","Arabia Saudita",null,"Activos no corrientes mantenidos para distribuir a los propietarios","Activos no corrientes mantenidos para distribuir a los propietarios"]
[null,"Argelia","Argelia",null,"Activos no corrientes mantenidos para distribuir a los propietarios – sector financiero","Activos no corrientes mantenidos para distribuir a los propietarios – sector financiero"]
[null,"Argentina","Argentina",null,"Activos no corrientes mantenidos para la venta","Activos no corrientes mantenidos para la venta"]
[null,"Australia","Australia",null,"Activos plan de beneficios a empleados","Activos plan de beneficios a empleados"]
[null,"Austria","Austria",null,"Acueductos, plantas y redes","Acueductos, plantas y redes"]
[null,"Azerbaiyán","Azerbaiyán",null,"Acuerdos de concesión de servicios – sector financiero","Acuerdos de concesión de servicios – sector financiero"]
[null,"Bahamas","Bahamas",null,"Administración de liquidez – sector financiero","Administración de liquidez – sector financiero"]
[null,"Bahrein","Bahrein",null,"Animales vivos medidos al costo","Animales vivos medidos al costo"]
[null,"Bangladesh","Bangladesh",null,"Animales vivos medidos al valor razonable menos costos de venta","Animales vivos medidos al valor razonable menos costos de venta"]
[null,"Barbados","Barbados",null,"Anticipo de impuestos y contribuciones","Anticipo de impuestos y contribuciones"]
[null,"Belgica","Belgica",null,"Anticipo de impuestos y contribuciones o saldos a favor","Anticipo de impuestos y contribuciones o saldos a favor"]
[null,"Belice","Belice",null,"Anticipos a contratos y proveedores – sector financiero","Anticipos a contratos y proveedores – sector financiero"]
[null,"Bermudas","Bermudas",null,"Anticipos y avances","Anticipos y avances"]
[null,"Belarus","Belarus",null,"Aportes en organismos y entidades internacionales","Aportes en organismos y entidades internacionales"]
[null,"Birmania (Myanmar)","Birmania (Myanmar)",null,"Aportes en organismos y entidades internacionales – sector financiero","Aportes en organismos y entidades internacionales – sector financiero"]
[null,"Bolivia","Bolivia",null,"Aportes por cobrar","Aportes por cobrar"]
[null,"Botswana","Botswana",null,"Aportes por cobrar – sector financiero","Aportes por cobrar – sector financiero"]
[null,"Brasil","Brasil",null,"Armamento de vigilancia","Armamento de vigilancia"]
[null,"Brunei Darussalam","Brunei Darussalam",null,"Arrendamientos – sector financiero","Arrendamientos – sector financiero"]
[null,"Bulgaria","Bulgaria",null,"Arrendamientos financieros por cobrar a partes no relacionadas","Arrendamientos financieros por cobrar a partes no relacionadas"]
[null,"Burundi","Burundi",null,"Arrendamientos financieros por cobrar a partes relacionadas","Arrendamientos financieros por cobrar a partes relacionadas"]
[null,"Butan","Butan",null,"Bancos","Bancos"]
[null,"Cabo Verde","Cabo Verde",null,"Bancos y otras entidades financieras","Bancos y otras entidades financieras"]
[null,"Caiman, Islas","Caiman, Islas",null,"Bancos y otras entidades financieras – sector financiero","Bancos y otras entidades financieras – sector financiero"]
[null,"Camboya (Kampuchea)","Camboya (Kampuchea)",null,"Bienes de arte y cultura","Bienes de arte y cultura"]
[null,"Camerun, Republica Unida Del","Camerun, Republica Unida Del",null,"Bienes de arte y cultura – sector financiero","Bienes de arte y cultura – sector financiero"]
[null,"Canada","Canada",null,"Bienes entregados a terceros – sector financiero","Bienes entregados a terceros – sector financiero"]
[null,"Santa Sede","Santa Sede",null,"Bienes producidos – sector financiero","Bienes producidos – sector financiero"]
[null,"Cocos (Keeling), Islas","Cocos (Keeling), Islas",null,"Bienes raíces","Bienes raíces"]
[null,"Colombia","Colombia",null,"Bienes raíces para la venta","Bienes raíces para la venta"]
[null,"Comoras","Comoras",null,"Bienes raíces para la venta – sector financiero","Bienes raíces para la venta – sector financiero"]
[null,"Congo","Congo",null,"Bienes recibidos en pago – sector financiero","Bienes recibidos en pago – sector financiero"]
[null,"Cook, Islas","Cook, Islas",null,"Bienes restituidos de contratos de leasing – sector financiero","Bienes restituidos de contratos de leasing – sector financiero"]
[null,"Corea (Norte), Republica Popular Democratica De","Corea (Norte), Republica Popular Democratica De",null,"Bienes terminados – sector financiero","Bienes terminados – sector financiero"]
[null,"Corea (Sur), Republica De","Corea (Sur), Republica De",null,"Bolsa de valores y agropecuarias – sector financiero","Bolsa de valores y agropecuarias – sector financiero"]
[null,"Costa De Marfil","Costa De Marfil",null,"Bonos","Bonos"]
[null,"Costa Rica","Costa Rica",null,"Caja","Caja"]
[null,"Croacia","Croacia",null,"Caja – sector financiero","Caja – sector financiero"]
[null,"Cuba","Cuba",null,"Canje – sector financiero","Canje – sector financiero"]
[null,"Chad","Chad",null,"Cargos diferidos","Cargos diferidos"]
[null,"Chile","Chile",null,"Cartas de crédito de pago diferido – sector financiero","Cartas de crédito de pago diferido – sector financiero"]
[null,"China","China",null,"Cartera de crédito (préstamos bancarios)","Cartera de crédito (préstamos bancarios)"]
[null,"Taiwan (Formosa)","Taiwan (Formosa)",null,"Cartera de créditos por actividad aseguradora – sector financiero","Cartera de créditos por actividad aseguradora – sector financiero"]
[null,"Chipre","Chipre",null,"Cartera de vivienda y operaciones de leasing habitacional – sector financiero","Cartera de vivienda y operaciones de leasing habitacional – sector financiero"]
[null,"Benin","Benin",null,"Cartera y leasing de microcréditos – sector financiero","Cartera y leasing de microcréditos – sector financiero"]
[null,"Dinamarca","Dinamarca",null,"Cartera y operaciones de leasing comerciales – sector financiero","Cartera y operaciones de leasing comerciales – sector financiero"]
[null,"Dominica","Dominica",null,"Cartera y operaciones de leasing de consumo – sector financiero","Cartera y operaciones de leasing de consumo – sector financiero"]
[null,"Ecuador","Ecuador",null,"Certificados de depósito, de cambio, etc.","Certificados de depósito, de cambio, etc."]
[null,"Egipto","Egipto",null,"Certificados de cambio en administración – sector financiero","Certificados de cambio en administración – sector financiero"]
[null,"El Salvador","El Salvador",null,"Cesantías causadas sector público","Cesantías causadas sector público"]
[null,"Eritrea","Eritrea",null,"Cesantías causadas sector público – sector financiero","Cesantías causadas sector público – sector financiero"]
[null,"Emiratos Arabes Unidos","Emiratos Arabes Unidos",null,"Clientes","Clientes"]
[null,"España","España",null,"Clientes – sector financiero","Clientes – sector financiero"]
[null,"Eslovaquia","Eslovaquia",null,"Coaseguradores cuenta corriente aceptados – sector financiero","Coaseguradores cuenta corriente aceptados – sector financiero"]
[null,"Eslovenia","Eslovenia",null,"Coaseguradores cuenta corriente cedidos – sector financiero","Coaseguradores cuenta corriente cedidos – sector financiero"]
[null,"Estados Unidos","Estados Unidos",null,"Comisiones – sector financiero","Comisiones – sector financiero"]
[null,"Estonia","Estonia",null,"Comisionistas de bolsas de valores y agropecuarios – sector financiero","Comisionistas de bolsas de valores y agropecuarios – sector financiero"]
[null,"Etiopia","Etiopia",null,"Compañías cedentes exterior cuenta corriente – sector financiero","Compañías cedentes exterior cuenta corriente – sector financiero"]
[null,"Feroe, Islas","Feroe, Islas",null,"Compañías cedentes interior cuenta corriente – sector financiero","Compañías cedentes interior cuenta corriente – sector financiero"]
[null,"Filipinas","Filipinas",null,"Componente financiero operaciones de leasing financiero – sector financiero","Componente financiero operaciones de leasing financiero – sector financiero"]
[null,"Finlandia","Finlandia",null,"Con garantía hipotecaria (capitalizadoras) – sector financiero","Con garantía hipotecaria (capitalizadoras) – sector financiero"]
[null,"Francia","Francia",null,"Concesiones y franquicias","Concesiones y franquicias"]
[null,"Gabon","Gabon",null,"Construcciones en curso","Construcciones en curso"]
[null,"Gambia","Gambia",null,"Construcciones en curso – sector financiero","Construcciones en curso – sector financiero"]
[null,"Georgia","Georgia",null,"Contratos de futuros de cobertura – sector financiero","Contratos de futuros de cobertura – sector financiero"]
[null,"Ghana","Ghana",null,"Contratos de futuros de negociación – sector financiero","Contratos de futuros de negociación – sector financiero"]
[null,"Gibraltar","Gibraltar",null,"Contratos forward de cobertura – sector financiero","Contratos forward de cobertura – sector financiero"]
[null,"Granada","Granada",null,"Contratos forward de negociación – sector financiero","Contratos forward de negociación – sector financiero"]
[null,"Grecia","Grecia",null,"Costos de exploración por amortizar","Costos de exploración por amortizar"]
[null,"Groenlandia","Groenlandia",null,"Costos de explotación y desarrollo","Costos de explotación y desarrollo"]
[null,"Guadalupe","Guadalupe",null,"Crédito mercantil","Crédito mercantil"]
[null,"Guam","Guam",null,"Cuentas corrientes comerciales","Cuentas corrientes comerciales"]
[null,"Guatemala","Guatemala",null,"Cuentas corrientes comerciales – sector financiero","Cuentas corrientes comerciales – sector financiero"]
[null,"Guayana Francesa","Guayana Francesa",null,"Cuentas de ahorro","Cuentas de ahorro"]
[null,"Guinea","Guinea",null,"Cuentas de operación conjunta","Cuentas de operación conjunta"]
[null,"Guinea Ecuatorial","Guinea Ecuatorial",null,"Cuentas en participación","Cuentas en participación"]
[null,"Guinea-Bissau","Guinea-Bissau",null,"Cuentas por cobrar a casa matriz","Cuentas por cobrar a casa matriz"]
[null,"Guyana","Guyana",null,"Cuentas por cobrar a directores","Cuentas por cobrar a directores"]
[null,"Haiti","Haiti",null,"Cuentas por cobrar a socios y accionistas","Cuentas por cobrar a socios y accionistas"]
[null,"Honduras","Honduras",null,"Cuentas por cobrar a socios y accionistas o participes","Cuentas por cobrar a socios y accionistas o participes"]
[null,"Hong Kong","Hong Kong",null,"Cuentas por cobrar a trabajadores","Cuentas por cobrar a trabajadores"]
[null,"Hungria","Hungria",null,"Cuentas por cobrar a vinculados económicos","Cuentas por cobrar a vinculados económicos"]
[null,"India","India",null,"Cuentas por cobrar en acuerdos de concesión de servicios (modelo del activo financiero)","Cuentas por cobrar en acuerdos de concesión de servicios (modelo del activo financiero)"]
[null,"Indonesia","Indonesia",null,"Cuentas y documentos comerciales por cobrar","Cuentas y documentos comerciales por cobrar"]
[null,"Irak","Irak",null,"Cuentas y documentos por cobrar a otras partes relacionadas y asociadas","Cuentas y documentos por cobrar a otras partes relacionadas y asociadas"]
[null,"Iran, Republica Islamica Del","Iran, Republica Islamica Del",null,"Cultivos en desarrollo","Cultivos en desarrollo"]
[null,"Irlanda (Eire)","Irlanda (Eire)",null,"Cultivos en desarrollo – sector financiero","Cultivos en desarrollo – sector financiero"]
[null,"Islandia","Islandia",null,"Cuotas o partes de interés social","Cuotas o partes de interés social"]
[null,"Israel","Israel",null,"Cánones de bienes dados en leasing operacional – sector financiero","Cánones de bienes dados en leasing operacional – sector financiero"]
[null,"Italia","Italia",null,"Cedulas (de capitalización, hipotecarias, de inversión, etc.)","Cedulas (de capitalización, hipotecarias, de inversión, etc.)"]
[null,"Jamaica","Jamaica",null,"De empresas patrocinadoras – sector financiero","De empresas patrocinadoras – sector financiero"]
[null,"Japon","Japon",null,"Depósitos de reservas a reaseguradores del exterior – sector financiero","Depósitos de reservas a reaseguradores del exterior – sector financiero"]
[null,"Jordania","Jordania",null,"Depósitos","Depósitos"]
[null,"Kazajstan","Kazajstan",null,"Depósitos – sector financiero","Depósitos – sector financiero"]
[null,"Kenia","Kenia",null,"Depósitos en poder de cedentes del exterior – sector financiero","Depósitos en poder de cedentes del exterior – sector financiero"]
[null,"Kiribati","Kiribati",null,"Depósitos en poder de cedentes interior – sector financiero","Depósitos en poder de cedentes interior – sector financiero"]
[null,"Kirguizistan","Kirguizistan",null,"Depósitos provisionales banco de la república – sector financiero","Depósitos provisionales banco de la república – sector financiero"]
[null,"Kuwait","Kuwait",null,"Derechos","Derechos"]
[null,"Laos, Republica Popular Democratica De","Laos, Republica Popular Democratica De",null,"Derechos de recompra de cartera negociada","Derechos de recompra de cartera negociada"]
[null,"Lesotho","Lesotho",null,"Derechos de recompra de cartera negociada – sector financiero","Derechos de recompra de cartera negociada – sector financiero"]
[null,"Letonia","Letonia",null,"Derechos de recompra de inversiones","Derechos de recompra de inversiones"]
[null,"Libano","Libano",null,"Derechos de recompra de inversiones negociadas REPOS","Derechos de recompra de inversiones negociadas REPOS"]
[null,"Liberia","Liberia",null,"Derechos de transferencia de cartera de créditos por operaciones de apoyos transitorios de liquidez – sector financiero","Derechos de transferencia de cartera de créditos por operaciones de apoyos transitorios de liquidez – sector financiero"]
[null,"Libia (Incluye Fezzan)","Libia (Incluye Fezzan)",null,"Derechos en acuerdos de concesión (modelo del activo intangible)","Derechos en acuerdos de concesión (modelo del activo intangible)"]
[null,"Liechtenstein","Liechtenstein",null,"Derechos fiduciarios","Derechos fiduciarios"]
[null,"Lituania","Lituania",null,"Deudas de difícil cobro","Deudas de difícil cobro"]
[null,"Luxemburgo","Luxemburgo",null,"Deudores – sector financiero","Deudores – sector financiero"]
[null,"Macao","Macao",null,"Deudores varios","Deudores varios"]
[null,"Macedonia","Macedonia",null,"Diversas – sector financiero","Diversas – sector financiero"]
[null,"Madagascar","Madagascar",null,"Dividendos y participaciones – sector financiero","Dividendos y participaciones – sector financiero"]
[null,"Malaysia","Malaysia",null,"Dividendos y participaciones por cobrar","Dividendos y participaciones por cobrar"]
[null,"Malawi","Malawi",null,"Efectivo","EFECTIVO"]
[null,"Maldivas","Maldivas",null,"Efectivo restringido – sector financiero","Efectivo restringido – sector financiero"]
[null,"Mali","Mali",null,"Edificios medidos por el modelo del costo","Edificios medidos por el modelo del costo"]
[null,"Malta","Malta",null,"Edificios medidos por el modelo del valor razonable","Edificios medidos por el modelo del valor razonable"]
[null,"Marianas Del Norte, Islas","Marianas Del Norte, Islas",null,"Edificios medidos por el modelo del valor razonable","Edificios medidos por el modelo del valor razonable"]
[null,"Marshall, Islas","Marshall, Islas",null,"Edificios medidos por el modelo del valor revaluado","Edificios medidos por el modelo del valor revaluado"]
[null,"Marruecos","Marruecos",null,"Emisores de valores y de títulos valores sobre productos agropecuarios y agroindustriales – sector financiero","Emisores de valores y de títulos valores sobre productos agropecuarios y agroindustriales – sector financiero"]
[null,"Martinica","Martinica",null,"En operaciones conjuntas – sector financiero","En operaciones conjuntas – sector financiero"]
[null,"Mauricio","Mauricio",null,"En poder de terceros","En poder de terceros"]
[null,"Mauritania","Mauritania",null,"Entidades en intervención – sector financiero","Entidades en intervención – sector financiero"]
[null,"Mexico","Mexico",null,"Envases y empaques","Envases y empaques"]
[null,"Micronesia, Estados Federados De","Micronesia, Estados Federados De",null,"Envases y empaques – sector financiero","Envases y empaques – sector financiero"]
[null,"Moldavia","Moldavia",null,"Equipos de computación y comunicación","Equipos de computación y comunicación"]
[null,"Mongolia","Mongolia",null,"Equipo de hoteles y restaurantes","Equipo de hoteles y restaurantes"]
[null,"Monaco","Monaco",null,"Equipo de oficina","Equipo de oficina"]
[null,"Monserrat, Isla","Monserrat, Isla",null,"Equipo médico científico","Equipo médico científico"]
[null,"Mozambique","Mozambique",null,"Equivalentes al efectivo","Equivalentes al efectivo"]
[null,"Namibia","Namibia",null,"Especies valoradas – sector financiero","Especies valoradas – sector financiero"]
[null,"Nauru","Nauru",null,"Flota y equipo aéreo","Flota y equipo aéreo"]
[null,"Navidad (Christmas), Islas","Navidad (Christmas), Islas",null,"Flota y equipo de transporte","Flota y equipo de transporte"]
[null,"Nepal","Nepal",null,"Flota y equipo fluvial o marítimo","Flota y equipo fluvial o marítimo"]
[null,"Nicaragua","Nicaragua",null,"Flota y equipo férreo","Flota y equipo férreo"]
[null,"Niger","Niger",null,"Fondos","Fondos"]
[null,"Nigeria","Nigeria",null,"Fondos de garantías – sector financiero","Fondos de garantías – sector financiero"]
[null,"Niue, Isla","Niue, Isla",null,"Fondos especiales – sector financiero","Fondos especiales – sector financiero"]
[null,"Norfolk, Isla","Norfolk, Isla",null,"Fondos interasociados activos – sector financiero","Fondos interasociados activos – sector financiero"]
[null,"Noruega","Noruega",null,"Gastos pagados por anticipado","Gastos pagados por anticipado"]
[null,"Nueva Caledonia","Nueva Caledonia",null,"Gastos pagados por anticipado – sector financiero","Gastos pagados por anticipado – sector financiero"]
[null,"Papuasia Nueva Guinea","Papuasia Nueva Guinea",null,"Inversiones","INVERSIONES"]
[null,"Nueva Zelandia","Nueva Zelandia",null,"Inversiones en derechos fiduciarios – sector financiero","Inversiones en derechos fiduciarios – sector financiero"]
[null,"Vanuatu","Vanuatu",null,"Importaciones en curso – sector financiero","Importaciones en curso – sector financiero"]
[null,"Oman","Oman",null,"Impuesto diferido","Impuesto diferido"]
[null,"Pacifico, Islas (Usa)","Pacifico, Islas (Usa)",null,"Impuesto diferido – sector financiero","Impuesto diferido – sector financiero"]
[null,"Paises Bajos (Holanda)","Paises Bajos (Holanda)",null,"Impuestos – sector financiero","Impuestos – sector financiero"]
[null,"Pakistan","Pakistan",null,"Ingresos por cobrar","Ingresos por cobrar"]
[null,"Palau, Islas","Palau, Islas",null,"Inmuebles, construcciones o edificaciones","Inmuebles, construcciones o edificaciones"]
[null,"Panama","Panama",null,"Instrumentos de patrimonio a valor razonable con cambios en el ORI – sector financiero","Instrumentos de patrimonio a valor razonable con cambios en el ORI – sector financiero"]
[null,"Paraguay","Paraguay",null,"Instrumentos financieros derivados con fines de cobertura","Instrumentos financieros derivados con fines de cobertura"]
[null,"Peru","Peru",null,"Instrumentos financieros derivados con fines de negociación (especulación)","Instrumentos financieros derivados con fines de negociación (especulación)"]
[null,"Pitcairn, Isla","Pitcairn, Isla",null,"Intangibles","Intangibles"]
[null,"Polinesia Francesa","Polinesia Francesa",null,"Intereses – sector financiero","Intereses – sector financiero"]
[null,"Polonia","Polonia",null,"Intermediarios de seguros – sector financiero","Intermediarios de seguros – sector financiero"]
[null,"Portugal","Portugal",null,"Inventario que surge de la actividad de extracción","Inventario que surge de la actividad de extracción"]
[null,"Puerto Rico","Puerto Rico",null,"Inventarios de operaciones conjuntas – sector financiero","Inventarios de operaciones conjuntas – sector financiero"]
[null,"Qatar","Qatar",null,"Inventarios en poder de terceros – sector financiero","Inventarios en poder de terceros – sector financiero"]
[null,"Reino Unido","Reino Unido",null,"Inventarios en proceso de producción (diferentes de obras o inmuebles en construcción para la venta)","Inventarios en proceso de producción (diferentes de obras o inmuebles en construcción para la venta)"]
[null,"Republica Centroafricana","Republica Centroafricana",null,"Inventarios en tránsito – sector financiero","Inventarios en tránsito – sector financiero"]
[null,"Republica Checa","Republica Checa",null,"Inventarios en transito","Inventarios en transito"]
[null,"Republica Dominicana","Republica Dominicana",null,"Inventarios para la venta no producidos por la empresa (comercio)","Inventarios para la venta no producidos por la empresa (comercio)"]
[null,"Reunion","Reunion",null,"Inventarios para ser consumidos en la prestación de servicios o proceso de producción (materias primas, suministros, materiales, entre otros)","Inventarios para ser consumidos en la prestación de servicios o proceso de producción (materias primas, suministros, materiales, entre otros)"]
[null,"Zimbabwe","Zimbabwe",null,"Inventarios producto terminado (diferentes de obras o inmuebles terminados para la venta)","Inventarios producto terminado (diferentes de obras o inmuebles terminados para la venta)"]
[null,"Rumania","Rumania",null,"Inversiones obligatorias","Inversiones obligatorias"]
[null,"Ruanda","Ruanda",null,"Inversiones a costo amortizado – sector financiero","Inversiones a costo amortizado – sector financiero"]
[null,"Rusia","Rusia",null,"Inversiones a costo amortizado con cambios en resultados entregados – sector financiero","Inversiones a costo amortizado con cambios en resultados entregados – sector financiero"]
[null,"Salomon, Islas","Salomon, Islas",null,"Inversiones a valor razonable con cambios en el ORI entregados en – sector financiero","Inversiones a valor razonable con cambios en el ORI entregados en – sector financiero"]
[null,"Sahara Occidental","Sahara Occidental",null,"Inversiones a costo amortizado con cambios en resultados – sector financiero","Inversiones a costo amortizado con cambios en resultados – sector financiero"]
[null,"Samoa","Samoa",null,"Inversiones en asociadas y participaciones en negocios conjuntos – sector financiero","Inversiones en asociadas y participaciones en negocios conjuntos – sector financiero"]
[null,"Samoa Norteamericana","Samoa Norteamericana",null,"Inversiones en instrumentos de deuda o costo amortizado","Inversiones en instrumentos de deuda o costo amortizado"]
[null,"San Cristobal Y Nieves","San Cristobal Y Nieves",null,"Inversiones en instrumentos de deuda o patrimonio a valor razonable con cambios en otro resultado integral","Inversiones en instrumentos de deuda o patrimonio a valor razonable con cambios en otro resultado integral"]
[null,"San Marino","San Marino",null,"Inversiones en instrumentos de deuda o patrimonio al costo","Inversiones en instrumentos de deuda o patrimonio al costo"]
[null,"San Pedro Y Miguelon","San Pedro Y Miguelon",null,"Inversiones en instrumentos de deuda o patrimonio al valor razonable con cambios en resultados","Inversiones en instrumentos de deuda o patrimonio al valor razonable con cambios en resultados"]
[null,"San Vicente Y Las Granadinas","San Vicente Y Las Granadinas",null,"Inversiones en operaciones conjuntas – sector financiero","Inversiones en operaciones conjuntas – sector financiero"]
[null,"Santa Elena","Santa Elena",null,"Inversiones en subsidiarias y filiales – sector financiero","Inversiones en subsidiarias y filiales – sector financiero"]
[null,"Santa Lucia","Santa Lucia",null,"Inversiones en subsidiarias, asociadas y negocios conjuntos, al costo","Inversiones en subsidiarias, asociadas y negocios conjuntos, al costo"]
[null,"Santo Tome Y Principe","Santo Tome Y Principe",null,"Inversiones en subsidiarias, asociadas y negocios conjuntos, al valor razonable con cambios en resultados","Inversiones en subsidiarias, asociadas y negocios conjuntos, al valor razonable con cambios en resultados"]
[null,"Senegal","Senegal",null,"Inversiones en subsidiarias, asociadas y negocios conjuntos, por el método de la participación","Inversiones en subsidiarias, asociadas y negocios conjuntos, por el método de la participación"]
[null,"Seychelles","Seychelles",null,"Inversiones en títulos sobre productos y en productos agropecuarios y agroindustriales – mercado secundario – sector financiero","Inversiones en títulos sobre productos y en productos agropecuarios y agroindustriales – mercado secundario – sector financiero"]
[null,"Sierra Leona","Sierra Leona",null,"Inversiones patrimoniales en entidades en liquidación – sector financiero","Inversiones patrimoniales en entidades en liquidación – sector financiero"]
[null,"Singapur","Singapur",null,"Know how","Know how"]
[null,"Siria, Republica Arabe De","Siria, Republica Arabe De",null,"Licencias","Licencias"]
[null,"Somalia","Somalia",null,"Liquidación y compensación – sector financiero","Liquidación y compensación – sector financiero"]
[null,"Sri Lanka","Sri Lanka",null,"Maquinaria y equipo","Maquinaria y equipo"]
[null,"Sudafrica, Republica De","Sudafrica, Republica De",null,"Maquinaria y equipos en montaje","Maquinaria y equipos en montaje"]
[null,"Sudan","Sudan",null,"Marcas","Marcas"]
[null,"Suecia","Suecia",null,"Marcas, patentes y otros derechos medidos por el modelo del costo","Marcas, patentes y otros derechos medidos por el modelo del costo"]
[null,"Suiza","Suiza",null,"Marcas, patentes y otros derechos medidos por el modelo del valor revaluado","Marcas, patentes y otros derechos medidos por el modelo del valor revaluado"]
[null,"Surinam","Surinam",null,"Materiales proyectos petroleros","Materiales proyectos petroleros"]
[null,"Swazilandia","Swazilandia",null,"Materiales, repuestos y accesorios","Materiales, repuestos y accesorios"]
[null,"Tadjikistan","Tadjikistan",null,"Materiales, repuestos y accesorios – sector financiero","Materiales, repuestos y accesorios – sector financiero"]
[null,"Tailandia","Tailandia",null,"Materias primas","Materias primas"]
[null,"Tanzania, Republica Unida De","Tanzania, Republica Unida De",null,"Materias primas – sector financiero","Materias primas – sector financiero"]
[null,"Djibouti","Djibouti",null,"Mecanismos especiales de pagos internacionales – sector financiero","Mecanismos especiales de pagos internacionales – sector financiero"]
[null,"Territorio Britanico Del Oceano Indico","Territorio Britanico Del Oceano Indico",null,"Mejoras en propiedades ajenas","Mejoras en propiedades ajenas"]
[null,"Timor Del Este","Timor Del Este",null,"Mejoras en propiedades ajenas – sector financiero","Mejoras en propiedades ajenas – sector financiero"]
[null,"Togo","Togo",null,"Mercancías no fabricadas por la empresa","Mercancías no fabricadas por la empresa"]
[null,"Tokelau","Tokelau",null,"Mercancías no fabricadas por la empresa – sector financiero","Mercancías no fabricadas por la empresa – sector financiero"]
[null,"Tonga","Tonga",null,"Metales preciosos – sector financiero","Metales preciosos – sector financiero"]
[null,"Trinidad Y Tobago","Trinidad Y Tobago",null,"Minas y canteras","Minas y canteras"]
[null,"Tunicia","Tunicia",null,"Obras de construcción en curso","Obras de construcción en curso"]
[null,"Turcas Y Caicos, Islas","Turcas Y Caicos, Islas",null,"Obras de construcción en curso – sector financiero","Obras de construcción en curso – sector financiero"]
[null,"Turkmenistan","Turkmenistan",null,"Obras de urbanismo","Obras de urbanismo"]
[null,"Turquia","Turquia",null,"Obras de urbanismo – sector financiero","Obras de urbanismo – sector financiero"]
[null,"Tuvalu","Tuvalu",null,"Obras o inmuebles en construcción para la venta","Obras o inmuebles en construcción para la venta"]
[null,"Ucrania","Ucrania",null,"Obras o inmuebles terminados para la venta","Obras o inmuebles terminados para la venta"]
[null,"Uganda","Uganda",null,"Opciones de cobertura – sector financiero","Opciones de cobertura – sector financiero"]
[null,"Uruguay","Uruguay",null,"Opciones de negociación – sector financiero","Opciones de negociación – sector financiero"]
[null,"Uzbekistan","Uzbekistan",null,"Operaciones carrusel – sector financiero","Operaciones carrusel – sector financiero"]
[null,"Venezuela","Venezuela",null,"Operaciones de apoyo a entidades inscritas – sector financiero","Operaciones de apoyo a entidades inscritas – sector financiero"]
[null,"Viet Nam","Viet Nam",null,"Operaciones de contado – sector financiero","Operaciones de contado – sector financiero"]
[null,"Virgenes, Islas (Britanicas)","Virgenes, Islas (Britanicas)",null,"Operaciones de reporto o repo – sector financiero","Operaciones de reporto o repo – sector financiero"]
[null,"Virgenes, Islas (Norteamericanas)","Virgenes, Islas (Norteamericanas)",null,"Operaciones de reservas internacionales – sector financiero","Operaciones de reservas internacionales – sector financiero"]
[null,"Fiji","Fiji",null,"Operaciones de transferencias temporal de valores – sector financiero","Operaciones de transferencias temporal de valores – sector financiero"]
[null,"Wallis Y Fortuna, Islas","Wallis Y Fortuna, Islas",null,"Operaciones discontinuadas – sector financiero","Operaciones discontinuadas – sector financiero"]
[null,"Yemen","Yemen",null,"Operaciones simultaneas – sector financiero","Operaciones simultaneas – sector financiero"]
[null,"Yugoslavia","Yugoslavia",null,"Otra cartera de créditos administrada en negocios fiduciarios – sector financiero","Otra cartera de créditos administrada en negocios fiduciarios – sector financiero"]
[null,"Zaire","Zaire",null,"Otras actividad aseguradora – sector financiero","Otras actividad aseguradora – sector financiero"]
[null,"Zambia","Zambia",null,"Otras cuentas y documentos por cobrar","Otras cuentas y documentos por cobrar"]
[null,"Zona Neutral Palestina","Zona Neutral Palestina",null,"Otras inversiones","Otras inversiones"]
[{"$nulls":4},"Otras inversiones de las reservas internacionales – sector financiero","Otras inversiones de las reservas internacionales – sector financiero"]
[{"$nulls":4},"Otras inversiones e instrumentos financieros","Otras inversiones e instrumentos financieros"]
[{"$nulls":4},"Otras operaciones equivalentes a efectivo – sector financiero","Otras operaciones equivalentes a efectivo – sector financiero"]
[{"$nulls":4},"Otras propiedades y equipo – sector financiero","Otras propiedades y equipo – sector financiero"]
[{"$nulls":4},"Otras propiedades, planta y equipo medidas por el modelo del costo","Otras propiedades, planta y equipo medidas por el modelo del costo"]
[{"$nulls":4},"Otras propiedades, planta y equipo medidas por el modelo del valor revaluado","Otras propiedades, planta y equipo medidas por el modelo del valor revaluado"]
[{"$nulls":4},"Otros activos","Otros activos"]
[{"$nulls":4},"Otros activos intangibles medidos por el modelo del costo","Otros activos intangibles medidos por el modelo del costo"]
[{"$nulls":4},"Otros activos intangibles medidos por el modelo del valor revaluado","Otros activos intangibles medidos por el modelo del valor revaluado"]
[{"$nulls":4},"Otros conceptos – actividad aseguradora – sector financiero","Otros conceptos – actividad aseguradora – sector financiero"]
[{"$nulls":4},"Otros gastos pagados por anticipado","Otros gastos pagados por anticipado"]
[{"$nulls":4},"Otros inventarios – sector financiero","Otros inventarios – sector financiero"]
[{"$nulls":4},"Pagos por cuenta de clientes – sector financiero","Pagos por cuenta de clientes – sector financiero"]
[{"$nulls":4},"Pagos por cuenta de clientes, comercial – sector financiero","Pagos por cuenta de clientes, comercial – sector financiero"]
[{"$nulls":4},"Pagos por cuenta de clientes, consumo – sector financiero","Pagos por cuenta de clientes, consumo – sector financiero"]
[{"$nulls":4},"Pagos por cuenta de clientes, microcrédito – sector financiero","Pagos por cuenta de clientes, microcrédito – sector financiero"]
[{"$nulls":4},"Pagos por cuenta de clientes, vivienda – sector financiero","Pagos por cuenta de clientes, vivienda – sector financiero"]
[{"$nulls":4},"Papeles comerciales","Papeles comerciales"]
[{"$nulls":4},"Para alcanzar rentabilidad mínima – fondos de pensiones – seg. Social – sector financiero","Para alcanzar rentabilidad mínima – fondos de pensiones – seg. Social – sector financiero"]
[{"$nulls":4},"Participantes – sector financiero","Participantes – sector financiero"]
[{"$nulls":4},"Patentes","Patentes"]
[{"$nulls":4},"Piezas de repuesto y equipo auxiliar clasificados como inventarios","Piezas de repuesto y equipo auxiliar clasificados como inventarios"]
[{"$nulls":4},"Plantaciones agrícolas","Plantaciones agrícolas"]
[{"$nulls":4},"Plantaciones agrícolas y forestales","Plantaciones agrícolas y forestales"]
[{"$nulls":4},"Plantas consumibles y frutos en crecimiento al costo","Plantas consumibles y frutos en crecimiento al costo"]
[{"$nulls":4},"Plantas consumibles y frutos en crecimiento al valor razonable menos los costos de venta","Plantas consumibles y frutos en crecimiento al valor razonable menos los costos de venta"]
[{"$nulls":4},"Plantas productos medidos por el modelo del costo","Plantas productos medidos por el modelo del costo"]
[{"$nulls":4},"Plantas productos medidos por el modelo del valor revaluado","Plantas productos medidos por el modelo del valor revaluado"]
[{"$nulls":4},"Plusvalía o Good Will (crédito mercantil)","Plusvalía o Good Will (crédito mercantil)"]
[{"$nulls":4},"Por administración – sector financiero","Por administración – sector financiero"]
[{"$nulls":4},"Por contratos de colocación – sector financiero","Por contratos de colocación – sector financiero"]
[{"$nulls":4},"Por liquidación de operaciones con derivados – sector financiero","Por liquidación de operaciones con derivados – sector financiero"]
[{"$nulls":4},"Pozos artesianos","Pozos artesianos"]
[{"$nulls":4},"Prestación de servicios – sector financiero","Prestación de servicios – sector financiero"]
[{"$nulls":4},"Primas de seguros","Primas de seguros"]
[{"$nulls":4},"Primas por recaudar – sector financiero","Primas por recaudar – sector financiero"]
[{"$nulls":4},"Proceso de titularización – sector financiero","Proceso de titularización – sector financiero"]
[{"$nulls":4},"Productos en proceso","Productos en proceso"]
[{"$nulls":4},"Productos en proceso – sector financiero","Productos en proceso – sector financiero"]
[{"$nulls":4},"Productos terminados","Productos terminados"]
[{"$nulls":4},"Productos terminados – sector financiero","Productos terminados – sector financiero"]
[{"$nulls":4},"Promesas de compraventa","Promesas de compraventa"]
[{"$nulls":4},"Promesas de compraventa – sector financiero","Promesas de compraventa – sector financiero"]
[{"$nulls":4},"Propiedad, planta y equipo","Propiedad, planta y equipo"]
[{"$nulls":4},"Propiedad, planta y equipo – sector financiero","Propiedad, planta y equipo – sector financiero"]
[{"$nulls":4},"Propiedades planta y equipo no explotados – sector financiero","Propiedades planta y equipo no explotados – sector financiero"]
[{"$nulls":4},"Propiedad y equipo en arrendamiento operativo – sector financiero","Propiedad y equipo en arrendamiento operativo – sector financiero"]
[{"$nulls":4},"Préstamos a empleados – sector financiero","Préstamos a empleados – sector financiero"]
[{"$nulls":4},"Préstamos a particulares","Préstamos a particulares"]
[{"$nulls":4},"Publicidad","Publicidad"]
[{"$nulls":4},"Reaseguradores exterior cuenta corriente – sector financiero","Reaseguradores exterior cuenta corriente – sector financiero"]
[{"$nulls":4},"Reaseguradores interior cuenta corriente – sector financiero","Reaseguradores interior cuenta corriente – sector financiero"]
[{"$nulls":4},"Reclamaciones","Reclamaciones"]
[{"$nulls":4},"Reclamaciones – sector financiero","Reclamaciones – sector financiero"]
[{"$nulls":4},"Recursos entregados en administración – sector financiero","Recursos entregados en administración – sector financiero"]
[{"$nulls":4},"Remuneración de intermediación – sector financiero","Remuneración de intermediación – sector financiero"]
[{"$nulls":4},"Reservas técnicas parte reaseguradores – sector financiero","Reservas técnicas parte reaseguradores – sector financiero"]
[{"$nulls":4},"Retención sobre contratos","Retención sobre contratos"]
[{"$nulls":4},"Retención sobre contratos – sector financiero","Retención sobre contratos – sector financiero"]
[{"$nulls":4},"Revaluación de otros activos – sector financiero","Revaluación de otros activos – sector financiero"]
[{"$nulls":4},"Saldos a favor","Saldos a favor"]
[{"$nulls":4},"Seguro de crédito a la exportación cuenta corriente – sector financiero","Seguro de crédito a la exportación cuenta corriente – sector financiero"]
[{"$nulls":4},"Semovientes","Semovientes"]
[{"$nulls":4},"Semovientes – sector financiero","Semovientes – sector financiero"]
[{"$nulls":4},"Servicios de almacenaje – sector financiero","Servicios de almacenaje – sector financiero"]
[{"$nulls":4},"Siniestros pendientes garantizados por la nación – sector financiero","Siniestros pendientes garantizados por la nación – sector financiero"]
[{"$nulls":4},"Sistema general de riesgos laborales – sector financiero","Sistema general de riesgos laborales – sector financiero"]
[{"$nulls":4},"Sobre pólizas – sector financiero","Sobre pólizas – sector financiero"]
[{"$nulls":4},"Sobre títulos de capitalización – sector financiero","Sobre títulos de capitalización – sector financiero"]
[{"$nulls":4},"Swaps de cobertura – sector financiero","Swaps de cobertura – sector financiero"]
[{"$nulls":4},"Swaps de negociación -sector financiero","Swaps de negociación -sector financiero"]
[{"$nulls":4},"Tangibles","Tangibles"]
[{"$nulls":4},"Terrenos – sector financiero","Terrenos – sector financiero"]
[{"$nulls":4},"Terrenos, fincas o lotes, etc.","Terrenos, fincas o lotes, etc."]
[{"$nulls":4},"Transferencia anual a cargo de las empresas – sector financiero","Transferencia anual a cargo de las empresas – sector financiero"]
[{"$nulls":4},"Títulos","Títulos"]
[{"$nulls":4},"Títulos BEPS – incentivo periódico – sector financiero","Títulos BEPS – incentivo periódico – sector financiero"]
[{"$nulls":4},"Vehículos","Vehículos"]
[{"$nulls":4},"Ventas de bienes y servicios – sector financiero","Ventas de bienes y servicios – sector financiero"]
[{"$nulls":4},"Vías de comunicación","Vías de comunicación"]