{"text_format":"3","workbook":"xlsx","n_sheets":10,"sheets":["Campos_Ingreso_Datos","Comentarios","Desarrollador"," ","Pegar_Especial","Alertas","Campos_x_Formato","Terceros","Listas","Tabla_Formatos_x_Informante"],"not_rendered":{"images":38,"macros":1,"defined_names":14},"read":"whole","date_system":"1900"}

{"sheet":"Campos_Ingreso_Datos","index":0,"n_rows":5,"n_cols":9,"rows_kept":5,"hidden":true}
["SEGMENTO","Vinculo","Rango","Formato","Lista","Lista2","Restablacer","Combinada","Ajuste_Filas_Cols"]
["Datos Contribuyente",{"$f":"' '!D137","v":0},{"$f":"IFERROR(_xlfn.FORMULATEXT(Campos_Ingreso_Datos[[#This Row],[Vinculo]]),\"\")","v":"=' '!D137"},"General",{"$nulls":4},{"$f":"ROW(' '!D137)&\"_\"&COLUMN(' '!D137)","v":"137_4"}]
["Datos Contribuyente",{"$f":"' '!D138","v":0},{"$f":"IFERROR(_xlfn.FORMULATEXT(Campos_Ingreso_Datos[[#This Row],[Vinculo]]),\"\")","v":"=' '!D138"},"#,##0",{"$nulls":4},{"$f":"ROW(' '!D138)&\"_\"&COLUMN(' '!D138)","v":"138_4"}]
["Datos Contribuyente",{"$f":"' '!D149","v":"00:00:00"},{"$f":"IFERROR(_xlfn.FORMULATEXT(Campos_Ingreso_Datos[[#This Row],[Vinculo]]),\"\")","v":"=' '!D149"},"dd/mm/yyyy;@","2022-01-01","2100-12-31",null,null,{"$f":"ROW(' '!D149)&\"_\"&COLUMN(' '!D149)","v":"149_4"}]
["Datos Contribuyente",{"$f":"' '!D157","v":"2023-07-03"},{"$f":"IFERROR(_xlfn.FORMULATEXT(Campos_Ingreso_Datos[[#This Row],[Vinculo]]),\"\")","v":"=' '!D157"},"dd/mm/yyyy;@","2022-01-01","2100-12-31",null,null,{"$f":"ROW(' '!D157)&\"_\"&COLUMN(' '!D157)","v":"157_4"}]

{"sheet":"Comentarios","index":1,"n_rows":30,"n_cols":6,"rows_kept":30,"hidden":true}
["RUTA","Formulada","Comentario","Largo","Segmento","Color"]
[{"$f":"SUBSTITUTE(SUBSTITUTE(_xlfn.FORMULATEXT(B2),\"=\",\"\"),\"'\",\"\")","v":" !B137"},{"$f":"' '!B137","v":"Razón social del contribuyente "},"Esta información debe coincidir con los datos consignados en la casilla 35 del RUT (actualizado)",null,{"$f":"OFFSET(Ref_Segmento,ROW(INDIRECT(IF(SUBSTITUTE(Comentarios[[#This Row],[RUTA]],\" \",\"\")=Comentarios[[#This Row],[RUTA]],Comentarios[[#This Row],[RUTA]],\"'\"&SUBSTITUTE(Comentarios[[#This Row],[RUTA]],\"!\",\"'!\"))))-1,0)","v":"Datos Contribuyente"},"Azul"]
[" !B277",{"$f":"' '!B277","v":"Descripción del dato y/o formato"},"Registre la información que va a presentar de manera extemporánea sobre la cual se puede establecer una cuantía o valor.",null,{"$f":"OFFSET(Ref_Segmento,ROW(INDIRECT(IF(SUBSTITUTE(Comentarios[[#This Row],[RUTA]],\" \",\"\")=Comentarios[[#This Row],[RUTA]],Comentarios[[#This Row],[RUTA]],\"'\"&SUBSTITUTE(Comentarios[[#This Row],[RUTA]],\"!\",\"'!\"))))-1,0)","v":"Sanciones extemporaneidad"},"Azul"]
[" !B285",{"$f":"' '!B285","v":"Descripción del dato y/o formato"},"Registre la información que va a presentar de manera extemporánea sobre la cual NO se puede establecer una cuantía o valor.",null,{"$f":"OFFSET(Ref_Segmento,ROW(INDIRECT(IF(SUBSTITUTE(Comentarios[[#This Row],[RUTA]],\" \",\"\")=Comentarios[[#This Row],[RUTA]],Comentarios[[#This Row],[RUTA]],\"'\"&SUBSTITUTE(Comentarios[[#This Row],[RUTA]],\"!\",\"'!\"))))-1,0)","v":"Sanciones extemporaneidad"},"Azul"]
[" !B314",{"$f":"' '!B314","v":"¿Aplica reducción de la sanción al 10%?"},"De acuerdo con el parágrafo 1 del artículo 651 del ET, el obligado a informar podrá subsanar de manera voluntaria las faltas señaladas en el artículo en mención, antes de que la Administración Tributaria profiera pliego de cargos, en cuyo caso deberá liquidar y pagar la sanción correspondiente reducida al diez por ciento (10%).\n",null,{"$f":"OFFSET(Ref_Segmento,ROW(INDIRECT(IF(SUBSTITUTE(Comentarios[[#This Row],[RUTA]],\" \",\"\")=Comentarios[[#This Row],[RUTA]],Comentarios[[#This Row],[RUTA]],\"'\"&SUBSTITUTE(Comentarios[[#This Row],[RUTA]],\"!\",\"'!\"))))-1,0)","v":"Sanciones extemporaneidad"},"Azul"]
[" !B315",{"$f":"' '!B315","v":"¿Aplica reducción de la sanción al 50%? "},"De acuerdo con el artículo 651 del ET, la sanción liquidada podrá ser reducida al cincuenta por ciento (50%) de la suma determinada, si la omisión es subsanada antes de que se notifique la imposición de la sanción por parte de la Administración Tributaria. \n Para tal efecto, se deberá presentar ante la oficina que está conociendo de la investigación, un memorial de aceptación de la sanción reducida en el cual se acredite que la omisión fue subsanada, así como el pago o acuerdo de pago de la misma.",null,{"$f":"OFFSET(Ref_Segmento,ROW(INDIRECT(IF(SUBSTITUTE(Comentarios[[#This Row],[RUTA]],\" \",\"\")=Comentarios[[#This Row],[RUTA]],Comentarios[[#This Row],[RUTA]],\"'\"&SUBSTITUTE(Comentarios[[#This Row],[RUTA]],\"!\",\"'!\"))))-1,0)","v":"Sanciones extemporaneidad"},"Azul"]
[" !B316",{"$f":"' '!B316","v":"¿Aplica reducción de la sanción al 70%? "},"De acuerdo con el artículo 651 del ET la sanción liquidada podrá ser reducida al setenta por ciento (70%) de la suma determinada, si la omisión es subsanada dentro de los dos (2) meses siguientes a la fecha en que se notifique la sanción.\nPara tal efecto, se deberá presentar ante la oficina que está conociendo de la investigación, un memorial de aceptación de la sanción reducida en el cual se acredite que la omisión fue subsanada, así como el pago o acuerdo de pago de la misma.",null,{"$f":"OFFSET(Ref_Segmento,ROW(INDIRECT(IF(SUBSTITUTE(Comentarios[[#This Row],[RUTA]],\" \",\"\")=Comentarios[[#This Row],[RUTA]],Comentarios[[#This Row],[RUTA]],\"'\"&SUBSTITUTE(Comentarios[[#This Row],[RUTA]],\"!\",\"'!\"))))-1,0)","v":"Sanciones extemporaneidad"},"Azul"]
[" !B322",{"$f":"' '!B322","v":"¿En los dos años anteriores a la generación de esta sanción por extemporaneidad, \nel contribuyente incurrió en la misma conducta sancionable?"},"Mediante el numeral 1.1 del Concepto 14116 de 2017 (Concepto Unificado sobre Procedimiento Tributario), la DIAN precisa que en lo correspondiente a las sanciones por extemporaneidad (artículos 641, 642 y 645 del ET), por no declarar (artículo 643 del ET) y por corrección (artículos 644, 645 y 647-1 del ET), para efectos de la aplicación del artículo 640 del ET, es necesario verificar si la misma conducta sancionable se cometió en el pasado, independientemente del impuesto sobre el cual versa la declaración tributaria. ",null,{"$f":"OFFSET(Ref_Segmento,ROW(INDIRECT(IF(SUBSTITUTE(Comentarios[[#This Row],[RUTA]],\" \",\"\")=Comentarios[[#This Row],[RUTA]],Comentarios[[#This Row],[RUTA]],\"'\"&SUBSTITUTE(Comentarios[[#This Row],[RUTA]],\"!\",\"'!\"))))-1,0)","v":"Sanciones extemporaneidad"},"Azul"]
[" !B327",{"$f":"' '!B327","v":"¿Aplica reducción de la sanción al 50%? "},"De acuerdo con el numeral 1 del artículo 640 del ET, cuando la sanción deba ser liquidada por el contribuyente, podrá ser reducida al 50%, siempre y cuando se cumplan las siguientes condiciones: \n- Que dentro de los dos (2) años anteriores a la fecha de la comisión de la conducta sancionable no se hubiere cometido la misma; y\n- Que la Administración Tributaria no haya proferido pliego de cargos, requerimiento especial o emplazamiento previo por no declarar, según el caso.\nEn caso de que no se cumplan las dos condiciones, el contribuyente no podrá acogerse al beneficio de la reducción de la sanción al 50%. ",null,{"$f":"OFFSET(Ref_Segmento,ROW(INDIRECT(IF(SUBSTITUTE(Comentarios[[#This Row],[RUTA]],\" \",\"\")=Comentarios[[#This Row],[RUTA]],Comentarios[[#This Row],[RUTA]],\"'\"&SUBSTITUTE(Comentarios[[#This Row],[RUTA]],\"!\",\"'!\"))))-1,0)","v":"Sanciones extemporaneidad"},"Azul"]
[" !B328",{"$f":"' '!B328","v":"¿Aplica reducción de la sanción al 75%? "},"El numeral 2 del artículo 640 del ET establece que, cuando la sanción deba ser liquidada por el contribuyente, podrá ser reducida al 75%, siempre y cuando se cumplan las siguientes condiciones: \n- Que dentro del año (1) año anterior a la fecha de la comisión de la conducta sancionable no se hubiere cometido la misma; y\n- Que la Administración Tributaria no haya proferido pliego de cargos, requerimiento especial o emplazamiento previo por no declarar, según el caso.\nEn caso de que no se cumplan las dos condiciones, el contribuyente no podrá acogerse al beneficio de la reducción de la sanción al 75%. ",null,{"$f":"OFFSET(Ref_Segmento,ROW(INDIRECT(IF(SUBSTITUTE(Comentarios[[#This Row],[RUTA]],\" \",\"\")=Comentarios[[#This Row],[RUTA]],Comentarios[[#This Row],[RUTA]],\"'\"&SUBSTITUTE(Comentarios[[#This Row],[RUTA]],\"!\",\"'!\"))))-1,0)","v":"Sanciones extemporaneidad"},"Azul"]
[" !B338",{"$f":"' '!B338","v":"¿Aplica reducción de la sanción al 50%? "},"De acuerdo con el numeral 3 del artículo 640 del ET, cuando la sanción sea propuesta o determinada por la DIAN, podrá ser reducida al 50%, siempre y cuando se cumplan las siguientes condiciones: \n- Que dentro de los cuatro (4) años anteriores a la fecha de la comisión de la conducta sancionable no se hubiere cometido la misma, y esta se hubiere sancionado mediante acto administrativo en firme; y\n- Que la sanción sea aceptada y la infracción subsanada de conformidad con lo establecido en el tipo sancionatorio correspondiente.\nEn caso de que no se cumplan las dos condiciones, el contribuyente no podrá acogerse al beneficio de la reducción de la sanción al 50%. ",null,{"$f":"OFFSET(Ref_Segmento,ROW(INDIRECT(IF(SUBSTITUTE(Comentarios[[#This Row],[RUTA]],\" \",\"\")=Comentarios[[#This Row],[RUTA]],Comentarios[[#This Row],[RUTA]],\"'\"&SUBSTITUTE(Comentarios[[#This Row],[RUTA]],\"!\",\"'!\"))))-1,0)","v":"Sanciones extemporaneidad"},"Azul"]
[" !B339",{"$f":"' '!B339","v":"¿Aplica reducción de la sanción al 75%? "},"El numeral 4 del artículo 640 del ET establece que, cuando la sanción sea propuesta o liquidada por la DIAN, podrá ser reducida al 75%, siempre y cuando se cumplan las siguientes condiciones: \n- Que dentro de los dos (2) años anteriores a la fecha de la comisión de la conducta sancionable no se hubiere cometido la misma, y esta se hubiere sancionado mediante acto administrativo en firme; y\n- Que la sanción sea aceptada y la infracción subsanada de conformidad con lo establecido en el tipo sancionatorio correspondiente.\nEn caso de que no se cumplan las dos condiciones, el contribuyente no podrá acogerse al beneficio de la reducción de la sanción al 75%. ",null,{"$f":"OFFSET(Ref_Segmento,ROW(INDIRECT(IF(SUBSTITUTE(Comentarios[[#This Row],[RUTA]],\" \",\"\")=Comentarios[[#This Row],[RUTA]],Comentarios[[#This Row],[RUTA]],\"'\"&SUBSTITUTE(Comentarios[[#This Row],[RUTA]],\"!\",\"'!\"))))-1,0)","v":"Sanciones extemporaneidad"},"Azul"]
[" !B349",{"$f":"' '!B349","v":"Descripción del dato y/o formato"},"Registre la información que se reportó de manera errónea e incluya también la información correcta, sobre la cual se puede establecer una cuantía o valor.",null,{"$f":"OFFSET(Ref_Segmento,ROW(INDIRECT(IF(SUBSTITUTE(Comentarios[[#This Row],[RUTA]],\" \",\"\")=Comentarios[[#This Row],[RUTA]],Comentarios[[#This Row],[RUTA]],\"'\"&SUBSTITUTE(Comentarios[[#This Row],[RUTA]],\"!\",\"'!\"))))-1,0)","v":"Sanción por corrección"},"Azul"]
[" !B357",{"$f":"' '!B357","v":"Descripción del dato y/o formato"},"Registre la información que se reportó de manera errónea, sobre la cual NO se puede establecer una cuantía o valor.",null,{"$f":"OFFSET(Ref_Segmento,ROW(INDIRECT(IF(SUBSTITUTE(Comentarios[[#This Row],[RUTA]],\" \",\"\")=Comentarios[[#This Row],[RUTA]],Comentarios[[#This Row],[RUTA]],\"'\"&SUBSTITUTE(Comentarios[[#This Row],[RUTA]],\"!\",\"'!\"))))-1,0)","v":"Sanción por corrección"},"Azul"]
[" !B386",{"$f":"' '!B386","v":"¿Aplica reducción de la sanción al 10%?"},"De acuerdo con el parágrafo 1 del artículo 651 del ET, el obligado a informar podrá subsanar de manera voluntaria las faltas señaladas en el artículo en mención, antes de que la Administración Tributaria profiera pliego de cargos, en cuyo caso deberá liquidar y pagar la sanción correspondiente reducida al diez por ciento (10%).\n",null,{"$f":"OFFSET(Ref_Segmento,ROW(INDIRECT(IF(SUBSTITUTE(Comentarios[[#This Row],[RUTA]],\" \",\"\")=Comentarios[[#This Row],[RUTA]],Comentarios[[#This Row],[RUTA]],\"'\"&SUBSTITUTE(Comentarios[[#This Row],[RUTA]],\"!\",\"'!\"))))-1,0)","v":"Sanción por corrección"},"Azul"]
[" !B387",{"$f":"' '!B387","v":"¿Aplica reducción de la sanción al 50%? "},"De acuerdo con el artículo 651 del ET, la sanción liquidada podrá ser reducida al cincuenta por ciento (50%) de la suma determinada, si la omisión es subsanada antes de que se notifique la imposición de la sanción por parte de la Administración Tributaria. \n Para tal efecto, se deberá presentar ante la oficina que está conociendo de la investigación, un memorial de aceptación de la sanción reducida en el cual se acredite que la omisión fue subsanada, así como el pago o acuerdo de pago de la misma.",null,{"$f":"OFFSET(Ref_Segmento,ROW(INDIRECT(IF(SUBSTITUTE(Comentarios[[#This Row],[RUTA]],\" \",\"\")=Comentarios[[#This Row],[RUTA]],Comentarios[[#This Row],[RUTA]],\"'\"&SUBSTITUTE(Comentarios[[#This Row],[RUTA]],\"!\",\"'!\"))))-1,0)","v":"Sanción por corrección"},"Azul"]
[" !B388",{"$f":"' '!B388","v":"¿Aplica reducción de la sanción al 70%? "},"De acuerdo con el artículo 651 del ET la sanción liquidada podrá ser reducida al setenta por ciento (70%) de la suma determinada, si la omisión es subsanada dentro de los dos (2) meses siguientes a la fecha en que se notifique la sanción.\nPara tal efecto, se deberá presentar ante la oficina que está conociendo de la investigación, un memorial de aceptación de la sanción reducida en el cual se acredite que la omisión fue subsanada, así como el pago o acuerdo de pago de la misma.",null,{"$f":"OFFSET(Ref_Segmento,ROW(INDIRECT(IF(SUBSTITUTE(Comentarios[[#This Row],[RUTA]],\" \",\"\")=Comentarios[[#This Row],[RUTA]],Comentarios[[#This Row],[RUTA]],\"'\"&SUBSTITUTE(Comentarios[[#This Row],[RUTA]],\"!\",\"'!\"))))-1,0)","v":"Sanción por corrección"},"Azul"]
[" !B394",{"$f":"' '!B394","v":"¿En los dos años anteriores a la generación de esta sanción por extemporaneidad, \nel contribuyente incurrió en la misma conducta sancionable?"},"Mediante el numeral 1.1 del Concepto 14116 de 2017 (Concepto Unificado sobre Procedimiento Tributario), la DIAN precisa que en lo correspondiente a las sanciones por extemporaneidad (artículos 641, 642 y 645 del ET), por no declarar (artículo 643 del ET) y por corrección (artículos 644, 645 y 647-1 del ET), para efectos de la aplicación del artículo 640 del ET, es necesario verificar si la misma conducta sancionable se cometió en el pasado, independientemente del impuesto sobre el cual versa la declaración tributaria. ",null,{"$f":"OFFSET(Ref_Segmento,ROW(INDIRECT(IF(SUBSTITUTE(Comentarios[[#This Row],[RUTA]],\" \",\"\")=Comentarios[[#This Row],[RUTA]],Comentarios[[#This Row],[RUTA]],\"'\"&SUBSTITUTE(Comentarios[[#This Row],[RUTA]],\"!\",\"'!\"))))-1,0)","v":"Sanción por corrección"},"Azul"]
[" !B399",{"$f":"' '!B399","v":"¿Aplica reducción de la sanción al 50%? "},"De acuerdo con el numeral 1 del artículo 640 del ET, cuando la sanción deba ser liquidada por el contribuyente, podrá ser reducida al 50%, siempre y cuando se cumplan las siguientes condiciones: \n- Que dentro de los dos (2) años anteriores a la fecha de la comisión de la conducta sancionable no se hubiere cometido la misma; y\n- Que la Administración Tributaria no haya proferido pliego de cargos, requerimiento especial o emplazamiento previo por no declarar, según el caso.\nEn caso de que no se cumplan las dos condiciones, el contribuyente no podrá acogerse al beneficio de la reducción de la sanción al 50%. ",null,{"$f":"OFFSET(Ref_Segmento,ROW(INDIRECT(IF(SUBSTITUTE(Comentarios[[#This Row],[RUTA]],\" \",\"\")=Comentarios[[#This Row],[RUTA]],Comentarios[[#This Row],[RUTA]],\"'\"&SUBSTITUTE(Comentarios[[#This Row],[RUTA]],\"!\",\"'!\"))))-1,0)","v":"Sanción por corrección"},"Azul"]
[" !B400",{"$f":"' '!B400","v":"¿Aplica reducción de la sanción al 75%? "},"El numeral 2 del artículo 640 del ET establece que, cuando la sanción deba ser liquidada por el contribuyente, podrá ser reducida al 75%, siempre y cuando se cumplan las siguientes condiciones: \n- Que dentro del año (1) año anterior a la fecha de la comisión de la conducta sancionable no se hubiere cometido la misma; y\n- Que la Administración Tributaria no haya proferido pliego de cargos, requerimiento especial o emplazamiento previo por no declarar, según el caso.\nEn caso de que no se cumplan las dos condiciones, el contribuyente no podrá acogerse al beneficio de la reducción de la sanción al 75%. ",null,{"$f":"OFFSET(Ref_Segmento,ROW(INDIRECT(IF(SUBSTITUTE(Comentarios[[#This Row],[RUTA]],\" \",\"\")=Comentarios[[#This Row],[RUTA]],Comentarios[[#This Row],[RUTA]],\"'\"&SUBSTITUTE(Comentarios[[#This Row],[RUTA]],\"!\",\"'!\"))))-1,0)","v":"Sanción por corrección"},"Azul"]
[" !B410",{"$f":"' '!B410","v":"¿Aplica reducción de la sanción al 50%? "},"De acuerdo con el numeral 3 del artículo 640 del ET, cuando la sanción sea propuesta o determinada por la DIAN, podrá ser reducida al 50%, siempre y cuando se cumplan las siguientes condiciones: \n- Que dentro de los cuatro (4) años anteriores a la fecha de la comisión de la conducta sancionable no se hubiere cometido la misma, y esta se hubiere sancionado mediante acto administrativo en firme; y\n- Que la sanción sea aceptada y la infracción subsanada de conformidad con lo establecido en el tipo sancionatorio correspondiente.\nEn caso de que no se cumplan las dos condiciones, el contribuyente no podrá acogerse al beneficio de la reducción de la sanción al 50%. ",null,{"$f":"OFFSET(Ref_Segmento,ROW(INDIRECT(IF(SUBSTITUTE(Comentarios[[#This Row],[RUTA]],\" \",\"\")=Comentarios[[#This Row],[RUTA]],Comentarios[[#This Row],[RUTA]],\"'\"&SUBSTITUTE(Comentarios[[#This Row],[RUTA]],\"!\",\"'!\"))))-1,0)","v":"Sanción por corrección"},"Azul"]
[" !B411",{"$f":"' '!B411","v":"¿Aplica reducción de la sanción al 75%? "},"El numeral 4 del artículo 640 del ET establece que, cuando la sanción sea propuesta o liquidada por la DIAN, podrá ser reducida al 75%, siempre y cuando se cumplan las siguientes condiciones: \n- Que dentro de los dos (2) años anteriores a la fecha de la comisión de la conducta sancionable no se hubiere cometido la misma, y esta se hubiere sancionado mediante acto administrativo en firme; y\n- Que la sanción sea aceptada y la infracción subsanada de conformidad con lo establecido en el tipo sancionatorio correspondiente.\nEn caso de que no se cumplan las dos condiciones, el contribuyente no podrá acogerse al beneficio de la reducción de la sanción al 75%. ",null,{"$f":"OFFSET(Ref_Segmento,ROW(INDIRECT(IF(SUBSTITUTE(Comentarios[[#This Row],[RUTA]],\" \",\"\")=Comentarios[[#This Row],[RUTA]],Comentarios[[#This Row],[RUTA]],\"'\"&SUBSTITUTE(Comentarios[[#This Row],[RUTA]],\"!\",\"'!\"))))-1,0)","v":"Sanción por corrección"},"Azul"]
[" !B421",{"$f":"' '!B421","v":"Descripción del dato y/o formato"},"Registre la información que va a presentar de manera extemporánea sobre la cual se puede establecer una cuantía o valor.",null,{"$f":"OFFSET(Ref_Segmento,ROW(INDIRECT(IF(SUBSTITUTE(Comentarios[[#This Row],[RUTA]],\" \",\"\")=Comentarios[[#This Row],[RUTA]],Comentarios[[#This Row],[RUTA]],\"'\"&SUBSTITUTE(Comentarios[[#This Row],[RUTA]],\"!\",\"'!\"))))-1,0)","v":"Sanción no envío info"},"Azul"]
[" !B430",{"$f":"' '!B430","v":"Descripción del dato y/o formato"},"Registre la información que va a presentar de manera extemporánea sobre la cual NO se puede establecer una cuantía o valor.",null,{"$f":"OFFSET(Ref_Segmento,ROW(INDIRECT(IF(SUBSTITUTE(Comentarios[[#This Row],[RUTA]],\" \",\"\")=Comentarios[[#This Row],[RUTA]],Comentarios[[#This Row],[RUTA]],\"'\"&SUBSTITUTE(Comentarios[[#This Row],[RUTA]],\"!\",\"'!\"))))-1,0)","v":"Sanción no envío info"},"Azul"]
[" !B457",{"$f":"' '!B457","v":"¿Aplica reducción de la sanción al 70%? "},"De acuerdo con el artículo 651 del ET la sanción liquidada podrá ser reducida al setenta por ciento (70%) de la suma determinada, si la omisión es subsanada dentro de los dos (2) meses siguientes a la fecha en que se notifique la sanción.\nPara tal efecto, se deberá presentar ante la oficina que está conociendo de la investigación, un memorial de aceptación de la sanción reducida en el cual se acredite que la omisión fue subsanada, así como el pago o acuerdo de pago de la misma.",null,{"$f":"OFFSET(Ref_Segmento,ROW(INDIRECT(IF(SUBSTITUTE(Comentarios[[#This Row],[RUTA]],\" \",\"\")=Comentarios[[#This Row],[RUTA]],Comentarios[[#This Row],[RUTA]],\"'\"&SUBSTITUTE(Comentarios[[#This Row],[RUTA]],\"!\",\"'!\"))))-1,0)","v":"Sanción no envío info"},"Azul"]
[" !B463",{"$f":"' '!B463","v":"¿En los dos años anteriores a la generación de esta sanción por extemporaneidad, \nel contribuyente incurrió en la misma conducta sancionable?"},"Mediante el numeral 1.1 del Concepto 14116 de 2017 (Concepto Unificado sobre Procedimiento Tributario), la DIAN precisa que en lo correspondiente a las sanciones por extemporaneidad (artículos 641, 642 y 645 del ET), por no declarar (artículo 643 del ET) y por corrección (artículos 644, 645 y 647-1 del ET), para efectos de la aplicación del artículo 640 del ET, es necesario verificar si la misma conducta sancionable se cometió en el pasado, independientemente del impuesto sobre el cual versa la declaración tributaria. ",null,{"$f":"OFFSET(Ref_Segmento,ROW(INDIRECT(IF(SUBSTITUTE(Comentarios[[#This Row],[RUTA]],\" \",\"\")=Comentarios[[#This Row],[RUTA]],Comentarios[[#This Row],[RUTA]],\"'\"&SUBSTITUTE(Comentarios[[#This Row],[RUTA]],\"!\",\"'!\"))))-1,0)","v":"Sanción no envío info"},"Azul"]
[" !B468",{"$f":"' '!B468","v":"¿Aplica reducción de la sanción al 50%? "},"De acuerdo con el numeral 1 del artículo 640 del ET, cuando la sanción deba ser liquidada por el contribuyente, podrá ser reducida al 50%, siempre y cuando se cumplan las siguientes condiciones: \n- Que dentro de los dos (2) años anteriores a la fecha de la comisión de la conducta sancionable no se hubiere cometido la misma; y\n- Que la Administración Tributaria no haya proferido pliego de cargos, requerimiento especial o emplazamiento previo por no declarar, según el caso.\nEn caso de que no se cumplan las dos condiciones, el contribuyente no podrá acogerse al beneficio de la reducción de la sanción al 50%. ",null,{"$f":"OFFSET(Ref_Segmento,ROW(INDIRECT(IF(SUBSTITUTE(Comentarios[[#This Row],[RUTA]],\" \",\"\")=Comentarios[[#This Row],[RUTA]],Comentarios[[#This Row],[RUTA]],\"'\"&SUBSTITUTE(Comentarios[[#This Row],[RUTA]],\"!\",\"'!\"))))-1,0)","v":"Sanción no envío info"},"Azul"]
[" !B469",{"$f":"' '!B469","v":"¿Aplica reducción de la sanción al 75%? "},"El numeral 2 del artículo 640 del ET establece que, cuando la sanción deba ser liquidada por el contribuyente, podrá ser reducida al 75%, siempre y cuando se cumplan las siguientes condiciones: \n- Que dentro del año (1) año anterior a la fecha de la comisión de la conducta sancionable no se hubiere cometido la misma; y\n- Que la Administración Tributaria no haya proferido pliego de cargos, requerimiento especial o emplazamiento previo por no declarar, según el caso.\nEn caso de que no se cumplan las dos condiciones, el contribuyente no podrá acogerse al beneficio de la reducción de la sanción al 75%. ",null,{"$f":"OFFSET(Ref_Segmento,ROW(INDIRECT(IF(SUBSTITUTE(Comentarios[[#This Row],[RUTA]],\" \",\"\")=Comentarios[[#This Row],[RUTA]],Comentarios[[#This Row],[RUTA]],\"'\"&SUBSTITUTE(Comentarios[[#This Row],[RUTA]],\"!\",\"'!\"))))-1,0)","v":"Sanción no envío info"},"Azul"]
[" !B479",{"$f":"' '!B479","v":"¿Aplica reducción de la sanción al 50%? "},"De acuerdo con el numeral 3 del artículo 640 del ET, cuando la sanción sea propuesta o determinada por la DIAN, podrá ser reducida al 50%, siempre y cuando se cumplan las siguientes condiciones: \n- Que dentro de los cuatro (4) años anteriores a la fecha de la comisión de la conducta sancionable no se hubiere cometido la misma, y esta se hubiere sancionado mediante acto administrativo en firme; y\n- Que la sanción sea aceptada y la infracción subsanada de conformidad con lo establecido en el tipo sancionatorio correspondiente.\nEn caso de que no se cumplan las dos condiciones, el contribuyente no podrá acogerse al beneficio de la reducción de la sanción al 50%. ",null,{"$f":"OFFSET(Ref_Segmento,ROW(INDIRECT(IF(SUBSTITUTE(Comentarios[[#This Row],[RUTA]],\" \",\"\")=Comentarios[[#This Row],[RUTA]],Comentarios[[#This Row],[RUTA]],\"'\"&SUBSTITUTE(Comentarios[[#This Row],[RUTA]],\"!\",\"'!\"))))-1,0)","v":"Sanción no envío info"},"Azul"]
[" !B480",{"$f":"' '!B480","v":"¿Aplica reducción de la sanción al 75%? "},"El numeral 4 del artículo 640 del ET establece que, cuando la sanción sea propuesta o liquidada por la DIAN, podrá ser reducida al 75%, siempre y cuando se cumplan las siguientes condiciones: \n- Que dentro de los dos (2) años anteriores a la fecha de la comisión de la conducta sancionable no se hubiere cometido la misma, y esta se hubiere sancionado mediante acto administrativo en firme; y\n- Que la sanción sea aceptada y la infracción subsanada de conformidad con lo establecido en el tipo sancionatorio correspondiente.\nEn caso de que no se cumplan las dos condiciones, el contribuyente no podrá acogerse al beneficio de la reducción de la sanción al 75%. ",null,{"$f":"OFFSET(Ref_Segmento,ROW(INDIRECT(IF(SUBSTITUTE(Comentarios[[#This Row],[RUTA]],\" \",\"\")=Comentarios[[#This Row],[RUTA]],Comentarios[[#This Row],[RUTA]],\"'\"&SUBSTITUTE(Comentarios[[#This Row],[RUTA]],\"!\",\"'!\"))))-1,0)","v":"Sanción no envío info"},"Azul"]

{"sheet":"Desarrollador","index":2,"n_rows":61,"n_cols":23,"rows_kept":61,"hidden":true}
["Accion","Grupo","Tipo","Imagen","Left","Top","Height","Width","Visible",null,null,"Segmento","Fila","Alto","Herramienta","Version","Formato_Editar","Avisos","Alertas","ESTADO_VALIDACION","Tipo","Inicio","Hijos"]
["Siempre",null,"Imagen","Titulo_Segmento",{"$f":"E4+G4+20","v":218},10,90,600,{"$f":"IF(Parametros[Segmento]=\"Fondo_Menu\",1,0)","v":1},null,null,"Fondo_Menu",{"$f":"IFERROR(MATCH(Parametros[[#This Row],[Segmento]],' '!$P:$P,0),0)","v":6},{"$f":"IFERROR(COUNTIF(OFFSET(Ref_Segmento,0,0,100000),Parametros[[#This Row],[Segmento]]),0)","v":35},"Actualicese Exógena",2023050311,null,0,{"$nulls":3},{"v":45061.61518518518,"d":"45061.62"},{"$f":"IFERROR(IF(INDEX(Tabla_Formatos_x_Informante[Hijos],MATCH(SUBSTITUTE(Parametros[[#This Row],[Segmento]],\"Formato_\",\"\"),Tabla_Formatos_x_Informante[Número],0))=\"\",\"\",INDEX(Tabla_Formatos_x_Informante[Hijos],MATCH(SUBSTITUTE(Parametros[[#This Row],[Segmento]],\"Formato_\",\"\"),Tabla_Formatos_x_Informante[Número],0))),\"\")","v":""}]
["Siempre",null,"Imagen","Logo",28,18,73.5,171,1,null,null,{"$f":"IF(Parametros[Segmento]=\"Fondo_Menu\",\"Preparación de la información exógena \naño gravable 2022\",\"\")","v":"Preparación de la información exógena \naño gravable 2022"},{"$nulls":9},{"$f":"TEXT(MAX(Parametros[Inicio]+10/(24*60)-NOW(),0),\"mm:ss\")","v":"00:00"}]
["Siempre",null,"Imagen","Division_1",190,50,8,84,1,null,null,{"$f":"IFERROR(SUBSTITUTE(VLOOKUP(SUBSTITUTE(Parametros[Segmento],\"Formato_\",\"\")&\" - \"&\"*\",Tabla_Formatos_x_Informante[Listado],1,0),\" - \",CHAR(13)),\"\")","v":""}]
[null,null,"Imagen","Division_2",{"$f":"IF(I44=1,E44+H44,IF(I43=1,E43+H43,$E$33+H33))+5","v":1146},50,8,84,{"$f":"(LEFT(Parametros[Segmento],8)=\"Formato_\")*1","v":0}]
[null,null,"Imagen","Guardar",{"$f":"$E$4+70","v":260},26,47,150,{"$f":"IFERROR((Parametros[Segmento]<>\"Fondo_Menu\")*1,1)","v":0}]
[null,null,"Imagen","Regresar_Al_Menu",{"$f":"$E$6+H6+20","v":430},{"$f":"$F$6","v":26},47,150,{"$f":"IFERROR((Parametros[Segmento]<>\"Fondo_Menu\")*(COUNTIF(Hijos[Hijo],SUBSTITUTE(Parametros[Segmento],\"Formato_\",\"\"))=0),1)","v":0}]
[null,null,"Imagen","Barra Horizontal",55,550,14,950,{"$f":"IFERROR((Parametros[Segmento]=\"Fondo_Menu\")*1,0)","v":1}]
[null,null,"Imagen","Exportar_PDF",721.2999877929688,26.450000762939453,45.28590393066406,160]
[null,null,"Imagen","Ajustar_Filas",{"$f":"$E$7+H7+20","v":600},{"$f":"$F$6","v":26},45.28590393066406,175,{"$f":"(OR(LEFT(Parametros[Segmento],8)=\"Formato_\",Parametros[Segmento]=\"Consultas_Manuales_RUT\")*1)","v":0}]
[null,null,"Imagen","Importar",604.5735473632812,26.75,45.28590393066406,160]
[null,null,"Imagen","Cronometro",312.6499938964844,27.049999237060547,47.900001525878906,72.1500015258789]
[{"$nulls":11},"m","s","l","a"]
[null,null,"Imagen","Info de Orientacion",36,130,65,214,{"$f":"IFERROR((Parametros[Segmento]=\"Fondo_Menu\")*1,0)","v":1}]
[null,null,"Imagen","Obligados",{"$f":"$E$14","v":36},{"$f":"$F$14+$G$14+14","v":209},50,199,{"$f":"IFERROR((Parametros[Segmento]=\"Fondo_Menu\")*1,0)","v":1}]
[null,null,"Imagen","Formatos según informante",{"$f":"$E$14","v":36},{"$f":"F15+G15+10","v":269},50,199,{"$f":"IFERROR((Parametros[Segmento]=\"Fondo_Menu\")*1,0)","v":1}]
[null,null,"Imagen","Consultas_Manuales_RUT",{"$f":"$E$14","v":36},{"$f":"F16+G16+10","v":329},35,199,{"$f":"IFERROR((Parametros[Segmento]=\"Fondo_Menu\")*1,0)","v":1}]
[null,{"$f":"IF(Parametros[Tipo]=2,\"Esta sección no está disponible en la versión de prueba de Actualícese 110.xls.\n\nSi quieres realizar tu declaración de renta de personas jurídicas de forma rápida y en solo 3 pasos, adquiere nuestra herramienta ingresando a:\",\"\")","v":""},"Imagen","Información del Contribuyente",314,{"$f":"$F$14","v":130},66,216,{"$f":"IFERROR((Parametros[Segmento]=\"Fondo_Menu\")*1,0)","v":1}]
[null,null,"Imagen","Datos Contribuyente",{"$f":"$E$18","v":314},{"$f":"F18+G18+14","v":210},33,200,{"$f":"IFERROR((Parametros[Segmento]=\"Fondo_Menu\")*1,0)","v":1}]
[null,{"$f":"IF(Parametros[Tipo]=2,\"Esta sección no está disponible en la versión de prueba de Actualícese 110.xls.\n\nSi quieres realizar tu declaración de renta de personas jurídicas de forma rápida y en solo 3 pasos, adquiere nuestra herramienta ingresando a:\",\"\")","v":""},"Imagen","Formatos",{"$f":"$E$18","v":314},{"$f":"F19+G19+27","v":270},66,217,{"$f":"IFERROR((Parametros[Segmento]=\"Fondo_Menu\")*1,0)","v":1}]
[null,{"$f":"IF(Parametros[Tipo]=2,\"Esta sección no está disponible en la versión de prueba de Actualícese 110.xls.\n\nSi quieres realizar tu declaración de renta de personas jurídicas de forma rápida y en solo 3 pasos, adquiere nuestra herramienta ingresando a:\",\"\")","v":""},"Imagen","Consultar_Formato",{"$f":"$E$18","v":314},{"$f":"F20+G20+14","v":350},35,201,{"$f":"IFERROR((Parametros[Segmento]=\"Fondo_Menu\")*1,0)","v":1}]
[null,{"$f":"IF(Parametros[Tipo]=2,\"Esta sección no está disponible en la versión de prueba de Actualícese 110.xls.\n\nSi quieres realizar tu declaración de renta de personas jurídicas de forma rápida y en solo 3 pasos, adquiere nuestra herramienta ingresando a:\",\"\")","v":""},"Imagen","Crear_Formato",{"$f":"$E$18","v":314},{"$f":"F21+G21+10","v":395},36,199,{"$f":"IFERROR((Parametros[Segmento]=\"Fondo_Menu\")*1,0)","v":1}]
[null,null,"Imagen","Sanciones",613,{"$f":"$F$14","v":130},66,213,{"$f":"IFERROR((Parametros[Segmento]=\"Fondo_Menu\")*1,0)","v":1}]
[null,null,"Imagen","Vencimientos",{"$f":"$E$23","v":613},{"$f":"F23+G23+14","v":210},35,197,{"$f":"IFERROR((Parametros[Segmento]=\"Fondo_Menu\")*1,0)","v":1}]
[null,null,"Imagen","Sanciones2",{"$f":"$E$23","v":613},{"$f":"F24+G24+10","v":255},37,202,{"$f":"IFERROR((Parametros[Segmento]=\"Fondo_Menu\")*1,0)","v":1}]
[null,null,"Imagen","Sanciones extemporaneidad",{"$f":"$E$23","v":613},{"$f":"F25+G25+10","v":302},33,200,{"$f":"IFERROR((Parametros[Segmento]=\"Fondo_Menu\")*1,0)","v":1}]
[null,null,"Imagen","Sanción por corrección",{"$f":"$E$23","v":613},{"$f":"F26+G26+10","v":345},33,200,{"$f":"IFERROR((Parametros[Segmento]=\"Fondo_Menu\")*1,0)","v":1}]
[null,{"$f":"IF(Parametros[Tipo]=2,\"Esta sección no está disponible en la versión de prueba de Actualícese 110.xls.\n\nSi quieres realizar tu declaración de renta de personas jurídicas de forma rápida y en solo 3 pasos, adquiere nuestra herramienta ingresando a:\",\"\")","v":""},"Imagen","Sanción no envío info",{"$f":"$E$23","v":613},{"$f":"F27+G27+10","v":388},47,200,{"$f":"IFERROR((Parametros[Segmento]=\"Fondo_Menu\")*1,0)","v":1}]
[null,null,"Imagen","Validar_XML_a_Cargar",{"$f":"$E$18","v":314},{"$f":"F22+G22+10","v":441},36,199,{"$f":"IFERROR((Parametros[Segmento]=\"Fondo_Menu\")*1,0)","v":1}]
[]
[null,null,"Imagen","Comentarios_Desactivar",{"$f":"$E$10+H10+28","v":803},29,42,140,{"$f":"(LEFT(Parametros[Segmento],8)=\"Formato_\")*1","v":0}]
[null,null,"Imagen","Comentarios_Activar",{"$f":"$E$10+H10+28","v":803},29,42,140,{"$f":"(LEFT(Parametros[Segmento],8)=\"Formato_\")*1","v":0}]
[null,null,"Imagen","Consultar_Validacion",{"$f":"$E$31+H31+23","v":966},{"$f":"$F$6","v":26},47,175,{"$f":"IF(LEFT(Parametros[Segmento],8)=\"Formato_\",IF(OR(Parametros[ESTADO_VALIDACION]=\"REVALIDAR ALERTAS\",Parametros[ESTADO_VALIDACION]=\"\"),0,(COUNTIF(Hijos[Hijo],MID(Parametros[Segmento],9,4)&\"*\")=0)*1),0)","v":0}]
[null,null,"Imagen","Generar_XML",{"$f":"$E$31+H31+23","v":966},{"$f":"$F$6","v":26},47,175,{"$f":"($I$33=0)*(COUNTIF(Hijos[Hijo],MID(Parametros[Segmento],9,4)&\"*\")=0)*(LEFT(Parametros[Segmento],8)=\"Formato_\")","v":0}]
[]
[null,null,"Imagen","Cargar_XML",{"$f":"$E$7+H7+20","v":600},{"$f":"$F$6","v":26},47,160,{"$f":"IF(Parametros[Segmento]=\"Datos_Encabezados_Cargar\",(COUNTIF(Hijos[Hijo],MID(Parametros[Segmento],9,4)&\"*\")=0)*1,0)","v":0}]
[null,null,"Imagen","Export_XML",{"$f":"$E$7+H7+20","v":600},{"$f":"$F$6","v":26},47,160,{"$f":"IF(Parametros[Segmento]=\"Datos_Encabezados\",(COUNTIF(Hijos[Hijo],MID(Parametros[Segmento],9,4)&\"*\")=0)*1,0)","v":0}]
[null,null,"Imagen","Validacion_Desactivar",{"$f":"$E$33+H33+20","v":1161},{"$f":"$F$6","v":26},47,175,0]
[null,null,"Imagen","Validacion_Activar",{"$f":"$E$33+H33+20","v":1161},{"$f":"$F$6","v":26},47,175,0]
[]
[null,null,"Imagen","Formato_Actual",{"$f":"$E$5+H5+20","v":1250},18,null,null,{"$f":"(LEFT(Parametros[Segmento],8)=\"Formato_\")*1","v":0}]
[null,null,"Imagen","Padre",{"$f":"$E$6+H6+20","v":430},{"$f":"$F$6","v":26},47,130,{"$f":"IFERROR((Parametros[Segmento]<>\"Fondo_Menu\")*(COUNTIF(Hijos[Hijo],SUBSTITUTE(Parametros[Segmento],\"Formato_\",\"\"))>0),0)","v":0}]
[{"$f":"IFERROR(VLOOKUP(SUBSTITUTE(Parametros[Segmento],\"Formato_\",\"\")&\"D\",Hijos[],3,0),\"\")","v":""},null,"Imagen","Hijo_1",{"$f":"$E$31+H31+23","v":966},29,41,{"$f":"IF(LEN(Botones_e_Imagenes[[#This Row],[Accion]])>30,250,170)","v":170},{"$f":"IF(Botones_e_Imagenes[[#This Row],[Accion]]=\"\",0,1)","v":0}]
[{"$f":"IF(Parametros[Segmento]=\"Formato_1032\",$D$55,IF(Parametros[Segmento]=\"Formato_1159D\",$D$58,\"\"))","v":""},null,"Imagen","Hijo_2",{"$f":"IF(I43=1,E43+H43+27,$E$31+H31+23)","v":966},29,41,{"$f":"IF(LEN(Botones_e_Imagenes[[#This Row],[Accion]])>30,250,170)","v":170},{"$f":"IF(Botones_e_Imagenes[[#This Row],[Accion]]=\"\",0,1)","v":0}]
[null,null,"Imagen","Consultar_Detener",{"$f":"$E$10+H10+28","v":803},29,41,130,{"$f":"IFERROR((Parametros[Segmento]=\"Consultas_Manuales_RUT\")*1,0)","v":0}]
[]
[]
[]
[null,"Hijo","Descripcion","Botón"]
[null,"1019D","1019\nInformación de Titulares Secundarios y/o firmas autorizadas para \ncuentas corrientes y/o cuentas de ahorro.","Registros secundarios"]
[null,"1020D","1020\nTitulares secundarios en CDT","Registros secundarios"]
[null,"1021D","1021\nTitulares secundarios para inversiones en fondos con más de un titular","Registros secundarios"]
[null,"1022D","1022\nAPORTES VOLUNTARIOS A PENSIONES, CUENTAS DE AHORRO AFC Y CUENTAS DE AHORRO AVC","Registros secundarios"]
[null,"1032D","1032 \nInformación Enajenates Secundarios","Enajenante secundarios"]
[null,"1032E","1032\nInformación de Adquirientes Secundarios","Adquirientes secundarios"]
[null,"1038D","1038\nInformación de sociedades creadas - Socios\nCámaras de Comercio","Registros secundarios"]
[null,"1159D","1159\nInformación de los contratos celebrados de cada uno de los convenios","Registros de contratos"]
[null,"1159E","1159\nInformación de los pagos o abono en cuenta efectuados en el año","Registro de pagos"]
[null,"2273D","2273\nInformación de los otros inversionistas o mancomunados registrados de cada cuenta","Información inversionista o mancumunados"]
[null,"2274D","2274\nFondo de Cesantías","Registros secundarios"]
[null,"2683D","2683\nDatos de los representantes legales e integrantes de los órganos directivos","Registros secundarios"]

{"sheet":" ","index":3,"n_rows":716,"n_cols":19,"rows_kept":716,"merged":[[42,1,42,2],[68,3,68,12],[70,3,70,7],[72,3,73,3],[72,4,72,12],[74,3,80,3],[84,3,85,3],[104,3,109,3],[110,3,112,3],[115,3,117,3],[119,3,123,3],[151,1,151,2],[159,1,159,2],[163,1,163,4],[164,1,164,2],[164,3,164,4],[269,1,269,2],[292,1,292,2],[307,1,307,2],[319,1,319,2],[330,1,330,2],[344,1,344,2],[364,1,364,2],[379,1,379,2],[391,1,391,2],[402,1,402,2],[416,1,416,2],[437,1,437,2],[452,1,452,2],[460,1,460,2],[471,1,471,2],[488,1,488,4],[489,1,489,2],[489,3,489,4],[490,1,490,2],[490,3,490,4],[491,1,491,2],[491,3,491,4],[492,1,492,2],[492,3,492,4],[493,1,493,2],[493,3,493,4],[494,1,494,2],[494,3,494,4],[495,1,495,2],[495,3,495,4],[496,1,496,2],[496,3,496,4],[498,1,498,4],[499,1,499,3],[500,1,500,3],[501,2,501,3],[503,1,503,4],[504,1,504,2],[504,3,504,4],[505,1,505,2],[505,3,505,4],[506,1,506,2],[506,3,506,4],[507,1,507,2],[507,3,507,4],[508,1,508,2],[508,3,508,4],[509,1,509,2],[509,3,509,4],[510,1,510,2],[510,3,510,4],[511,1,511,2],[511,3,511,4],[513,1,513,4],[514,2,514,3],[515,2,515,3],[516,2,516,3],[517,2,517,3],[518,2,518,3],[519,2,519,3],[520,2,520,3],[521,2,521,3],[522,2,522,3],[523,2,523,3],[524,2,524,3],[525,2,525,3],[526,2,526,3],[527,2,527,3],[528,2,528,3],[529,2,529,3],[530,2,530,3],[531,2,531,3],[532,2,532,3],[533,2,533,3],[534,2,534,3],[535,2,535,3],[536,2,536,3],[537,2,537,3],[538,2,538,3],[539,2,539,3],[540,2,540,3],[541,2,541,3],[542,2,542,3],[543,2,543,3],[544,2,544,3],[545,2,545,3],[546,2,546,3],[547,2,547,3],[548,2,548,3],[549,2,549,3],[550,2,550,3],[551,2,551,3],[552,2,552,3],[553,2,553,3],[554,2,554,3],[555,2,555,3],[556,2,556,3],[557,2,557,3],[558,2,558,3],[559,2,559,3],[560,2,560,3],[561,2,561,3],[562,2,562,3],[563,2,563,3],[564,2,564,3],[565,2,565,3],[566,2,566,3],[567,2,567,3],[568,2,568,3],[569,2,569,3],[570,2,570,3],[571,2,571,3],[572,2,572,3],[573,2,573,3],[574,2,574,3],[575,2,575,3],[576,2,576,3],[577,2,577,3],[578,2,578,3],[579,2,579,3],[580,2,580,3],[581,2,581,3],[582,2,582,3],[583,2,583,3],[584,2,584,3],[585,2,585,3],[586,2,586,3],[587,2,587,3],[588,2,588,3],[589,2,589,3],[590,2,590,3],[591,2,591,3],[592,2,592,3],[593,2,593,3],[594,2,594,3],[595,2,595,3],[596,2,596,3],[597,2,597,3],[598,2,598,3],[599,2,599,3],[600,2,600,3],[601,2,601,3],[602,2,602,3],[603,2,603,3],[604,2,604,3],[605,2,605,3],[606,2,606,3],[607,2,607,3],[608,2,608,3],[609,2,609,3],[610,2,610,3],[611,2,611,3],[612,2,612,3],[613,2,613,3],[614,2,614,3],[615,2,615,3],[616,2,616,3],[617,2,617,3],[618,2,618,3],[619,2,619,3],[620,2,620,3],[621,2,621,3],[622,2,622,3],[623,2,623,3],[624,2,624,3],[625,2,625,3],[626,2,626,3],[627,2,627,3],[628,2,628,3],[629,2,629,3],[630,2,630,3],[631,2,631,3],[632,2,632,3],[633,2,633,3],[634,2,634,3],[635,2,635,3],[636,2,636,3],[637,2,637,3],[638,2,638,3],[639,2,639,3],[640,2,640,3],[641,2,641,3],[642,2,642,3],[643,2,643,3],[644,2,644,3],[645,2,645,3],[646,2,646,3],[647,2,647,3],[648,2,648,3],[649,2,649,3],[650,2,650,3],[651,2,651,3],[652,2,652,3],[653,2,653,3],[654,2,654,3],[655,2,655,3],[656,2,656,3],[657,2,657,3],[658,2,658,3],[659,2,659,3],[660,2,660,3],[661,2,661,3],[662,2,662,3],[663,2,663,3],[664,2,664,3],[665,2,665,3],[666,2,666,3],[667,2,667,3],[668,2,668,3],[669,2,669,3],[670,2,670,3],[671,2,671,3],[672,2,672,3],[673,2,673,3],[674,2,674,3],[675,2,675,3],[676,2,676,3],[677,2,677,3],[678,2,678,3],[679,2,679,3],[680,2,680,3],[681,2,681,3],[682,2,682,3],[683,2,683,3],[684,2,684,3],[685,2,685,3],[686,2,686,3],[687,2,687,3],[688,2,688,3],[689,2,689,3],[690,2,690,3],[691,2,691,3],[692,2,692,3],[693,2,693,3],[694,2,694,3],[695,2,695,3],[696,2,696,3],[697,2,697,3],[698,2,698,3],[699,2,699,3],[700,2,700,3],[701,2,701,3],[702,2,702,3],[703,2,703,3],[704,2,704,3],[705,2,705,3],[706,2,706,3],[707,2,707,3],[708,2,708,3],[709,2,709,3],[710,2,710,3],[711,2,711,3],[712,2,712,3],[713,2,713,3],[714,2,714,3]]}
[{"$nulls":14},"Conteo","Segmento","Visible","Alto_Celdas","Celda_Filtro"]
[{"$nulls":16},1,15,1]
[{"$nulls":16},1,15,1]
[{"$nulls":16},1,15,1]
[{"$nulls":16},1,12,1]
[1,3,35,11,4,10,5,11,11,11,12,10,13,50,null,"Fondo_Menu",0,null,{"$f":"(P6=Parametros[Segmento])*(Q6>0)*(R6>0)","v":0}]
[{"$nulls":15},"Fondo_Menu",0,20,{"$f":"(P7=Parametros[Segmento])*(Q7>0)*(R7>0)","v":0}]
[{"$nulls":15},"Fondo_Menu",1,10,{"$f":"(P8=Parametros[Segmento])*(Q8>0)*(R8>0)","v":1}]
[{"$nulls":15},"Fondo_Menu",1,20,{"$f":"(P9=Parametros[Segmento])*(Q9>0)*(R9>0)","v":1}]
[{"$nulls":15},"Fondo_Menu",1,20,{"$f":"(P10=Parametros[Segmento])*(Q10>0)*(R10>0)","v":1}]
[{"$nulls":15},"Fondo_Menu",1,20,{"$f":"(P11=Parametros[Segmento])*(Q11>0)*(R11>0)","v":1}]
[{"$nulls":15},"Fondo_Menu",1,20,{"$f":"(P12=Parametros[Segmento])*(Q12>0)*(R12>0)","v":1}]
[{"$nulls":15},"Fondo_Menu",1,20,{"$f":"(P13=Parametros[Segmento])*(Q13>0)*(R13>0)","v":1}]
[{"$nulls":15},"Fondo_Menu",1,20,{"$f":"(P14=Parametros[Segmento])*(Q14>0)*(R14>0)","v":1}]
[{"$nulls":15},"Fondo_Menu",1,20,{"$f":"(P15=Parametros[Segmento])*(Q15>0)*(R15>0)","v":1}]
[{"$nulls":15},"Fondo_Menu",1,20,{"$f":"(P16=Parametros[Segmento])*(Q16>0)*(R16>0)","v":1}]
[{"$nulls":15},"Fondo_Menu",1,20,{"$f":"(P17=Parametros[Segmento])*(Q17>0)*(R17>0)","v":1}]
[{"$nulls":15},"Fondo_Menu",1,20,{"$f":"(P18=Parametros[Segmento])*(Q18>0)*(R18>0)","v":1}]
[{"$nulls":15},"Fondo_Menu",1,20,{"$f":"(P19=Parametros[Segmento])*(Q19>0)*(R19>0)","v":1}]
[{"$nulls":15},"Fondo_Menu",1,20,{"$f":"(P20=Parametros[Segmento])*(Q20>0)*(R20>0)","v":1}]
[{"$nulls":15},"Fondo_Menu",1,20,{"$f":"(P21=Parametros[Segmento])*(Q21>0)*(R21>0)","v":1}]
[{"$nulls":15},"Fondo_Menu",1,20,{"$f":"(P22=Parametros[Segmento])*(Q22>0)*(R22>0)","v":1}]
[{"$nulls":15},"Fondo_Menu",1,20,{"$f":"(P23=Parametros[Segmento])*(Q23>0)*(R23>0)","v":1}]
[{"$nulls":15},"Fondo_Menu",1,20,{"$f":"(P24=Parametros[Segmento])*(Q24>0)*(R24>0)","v":1}]
[{"$nulls":15},"Fondo_Menu",1,20,{"$f":"(P25=Parametros[Segmento])*(Q25>0)*(R25>0)","v":1}]
[{"$nulls":15},"Fondo_Menu",1,20,{"$f":"(P26=Parametros[Segmento])*(Q26>0)*(R26>0)","v":1}]
[{"$nulls":15},"Fondo_Menu",1,20,{"$f":"(P27=Parametros[Segmento])*(Q27>0)*(R27>0)","v":1}]
[{"$nulls":15},"Fondo_Menu",1,20,{"$f":"(P28=Parametros[Segmento])*(Q28>0)*(R28>0)","v":1}]
[{"$nulls":15},"Fondo_Menu",1,20,{"$f":"(P29=Parametros[Segmento])*(Q29>0)*(R29>0)","v":1}]
[{"$nulls":15},"Fondo_Menu",1,20,{"$f":"(P30=Parametros[Segmento])*(Q30>0)*(R30>0)","v":1}]
[{"$nulls":15},"Fondo_Menu",1,20,{"$f":"(P31=Parametros[Segmento])*(Q31>0)*(R31>0)","v":1}]
[{"$nulls":15},"Fondo_Menu",1,20,{"$f":"(P32=Parametros[Segmento])*(Q32>0)*(R32>0)","v":1}]
[{"$nulls":15},"Fondo_Menu",1,20,{"$f":"(P33=Parametros[Segmento])*(Q33>0)*(R33>0)","v":1}]
[{"$nulls":15},"Fondo_Menu",1,20,{"$f":"(P34=Parametros[Segmento])*(Q34>0)*(R34>0)","v":1}]
[{"$nulls":15},"Fondo_Menu",1,20,{"$f":"(P35=Parametros[Segmento])*(Q35>0)*(R35>0)","v":1}]
[{"$nulls":15},"Fondo_Menu",1,20,{"$f":"(P36=Parametros[Segmento])*(Q36>0)*(R36>0)","v":1}]
[{"$nulls":15},"Fondo_Menu",1,20,{"$f":"(P37=Parametros[Segmento])*(Q37>0)*(R37>0)","v":1}]
[{"$nulls":15},"Fondo_Menu",1,20,{"$f":"(P38=Parametros[Segmento])*(Q38>0)*(R38>0)","v":1}]
[{"$nulls":15},"Fondo_Menu",1,20,{"$f":"(P39=Parametros[Segmento])*(Q39>0)*(R39>0)","v":1}]
[{"$nulls":15},"Fondo_Menu",1,20,{"$f":"(P40=Parametros[Segmento])*(Q40>0)*(R40>0)","v":1}]
[3.78,109.44,45,10,{"$nulls":11},"Obligados",0,20,{"$f":"(P41=Parametros[Segmento])*(Q41>0)*(R41>0)","v":0}]
[{"$nulls":15},"Obligados",1,30,{"$f":"(P42=Parametros[Segmento])*(Q42>0)*(R42>0)","v":0}]
[null,"Obligados a presentar información exógena por el año gravable 2022",{"$nulls":13},"Obligados",1,30,{"$f":"(P43=Parametros[Segmento])*(Q43>0)*(R43>0)","v":0}]
[null,"Condición contribuyente","Norma ",{"$nulls":12},"Obligados",1,30,{"$f":"(P44=Parametros[Segmento])*(Q44>0)*(R44>0)","v":0}]
[null,"Las entidades públicas o privadas que celebren convenios de cooperación y asistencia técnica para el apoyo y ejecución de sus programas o proyectos, con organismos internacionales. ","Literal a) del artículo 1 de la Resolución DIAN 000124 de 2021",{"$nulls":12},"Obligados",1,40.1,{"$f":"(P45=Parametros[Segmento])*(Q45>0)*(R45>0)","v":0}]
[null,"Las entidades vigiladas por la Superintendencia Financiera de Colombia, las cooperativas de ahorro y crédito, los organismos cooperativos de grado superior, las instituciones auxiliares del cooperativismo, las cooperativas multiactivas e integrales y los fondos de empleados que realicen actividades financieras.","Literal b) del artículo 1 de la Resolución DIAN 000124 de 2022",{"$nulls":12},"Obligados",1,40.1,{"$f":"(P46=Parametros[Segmento])*(Q46>0)*(R46>0)","v":0}]
[null,"Las bolsas de valores y los comisionistas de bolsa. ","Literal c) del artículo 1 de la Resolución DIAN 000124 de 2023",{"$nulls":12},"Obligados",1,40.1,{"$f":"(P47=Parametros[Segmento])*(Q47>0)*(R47>0)","v":0}]
[null,"Las personas naturales y sus asimiladas que durante el año gravable 2021 o en el año gravable 2022 hayan obtenido ingresos brutos superiores a quinientos millones de pesos ($500.000.000) y que la suma de los Ingresos brutos obtenidos por rentas capital y/o rentas no laborales durante el año gravable 2022 superen los cien millones de pesos ($100.000.000).\nDebe tenerse en cuenta que, los ingresos brutos incluyen todos los ingresos ordinarios, extraordinarios y los correspondientes a las ganancias ocasionales. Adicionalmente, la información a reportar será la correspondiente a las rentas de capital y/o rentas no laborales. ","Literal d) y parágrafo 1 y 3 del artículo 1 de la Resolución DIAN 000124 de 2024",{"$nulls":12},"Obligados",1,120,{"$f":"(P48=Parametros[Segmento])*(Q48>0)*(R48>0)","v":0}]
[null,"Los contribuyentes personas naturales del régimen simple de tributación -SIMPLE que durante el año gravable 2021 o en el año gravable 2022, hayan obtenido ingresos brutos superiores a quinientos millones de pesos ($500.000.000), sin considerar el tipo de ingreso.\nDebe tenerse en cuenta que, los ingresos brutos incluyen todos los ingresos ordinarios, extraordinarios y los correspondientes a las ganancias ocasionales.","Literal d) y parágrafo 1 del artículo 1 de la Resolución DIAN 000124 de 2025",{"$nulls":12},"Obligados",1,100.1,{"$f":"(P49=Parametros[Segmento])*(Q49>0)*(R49>0)","v":0}]
[null,"Las personas jurídicas y sus asimiladas y demás entidades públicas y privadas que en el año gravable 2021 o en el año gravable 2022 hayan obtenido ingresos brutos superiores a cien millones de pesos ($100.000.000).","Literal e) del artículo 1 de la Resolución DIAN 000124 de 2026",{"$nulls":12},"Obligados",1,40.1,{"$f":"(P50=Parametros[Segmento])*(Q50>0)*(R50>0)","v":0}]
[null,"Las personas naturales y sus asimiladas, las personas jurídicas y sus asimiladas, entidades públicas y privadas, y demás obligados a practicar retenciones y autorretenciones en la fuente a título del impuesto sobre la renta, impuesto sobre las ventas (IVA) y Timbre, durante el año gravable 2022.\nRespecto a las personas naturales debe tenerse en cuenta que, la información a reportar será la correspondiente a las rentas de capital y/o rentas no laborales. ","Literal f) y parágrafo 3 del artículo 1 de la Resolución DIAN 000124 de 2027",{"$nulls":12},"Obligados",1,100.1,{"$f":"(P51=Parametros[Segmento])*(Q51>0)*(R51>0)","v":0}]
[null,"Establecimientos permanentes de personas naturales no residentes y de personas jurídicas y entidades extranjeras.","Literal g) del artículo 1 de la Resolución DIAN 000124 de 2028",{"$nulls":12},"Obligados",1,40.1,{"$f":"(P52=Parametros[Segmento])*(Q52>0)*(R52>0)","v":0}]
[null,"Las personas o entidades que celebren contratos de colaboración tales como, consorcios, uniones temporales, contratos de mandato, administración delegada, contratos de exploración y explotación de hidrocarburos, gases y minerales, joint venture, cuentas en participación y convenios de cooperación con entidades públicas.","Literal h) del artículo 1 de la Resolución DIAN 000124 de 2029",{"$nulls":12},"Obligados",1,60,{"$f":"(P53=Parametros[Segmento])*(Q53>0)*(R53>0)","v":0}]
[null,"Los entes públicos del Nivel Nacional y Territorial del orden central y descentralizado, contemplados en el artículo 22 del Estatuto Tributario, no obligados a presentar declaración de ingresos y patrimonio. ","Literal i) del artículo 1 de la Resolución DIAN 000124 de 2030",{"$nulls":12},"Obligados",1,40.1,{"$f":"(P54=Parametros[Segmento])*(Q54>0)*(R54>0)","v":0}]
[null,"Los Secretarios Generales o quienes hagan sus veces de los órganos que financien gastos con recursos del Tesoro Nacional.","Literal j) del artículo 1 de la Resolución DIAN 000124 de 2031",{"$nulls":12},"Obligados",1,40.1,{"$f":"(P55=Parametros[Segmento])*(Q55>0)*(R55>0)","v":0}]
[null,"Los obligados a presentar estados financieros consolidados. ","Literal k) del artículo 1 de la Resolución DIAN 000124 de 2032",{"$nulls":12},"Obligados",1,40.1,{"$f":"(P56=Parametros[Segmento])*(Q56>0)*(R56>0)","v":0}]
[null,"Las Cámaras de Comercio.","Literal l) del artículo 1 de la Resolución DIAN 000124 de 2033",{"$nulls":12},"Obligados",1,40.1,{"$f":"(P57=Parametros[Segmento])*(Q57>0)*(R57>0)","v":0}]
[null,"La Registraduría Nacional del Estado Civil. ","Literal m) del artículo 1 de la Resolución DIAN 000124 de 2034",{"$nulls":12},"Obligados",1,40.1,{"$f":"(P58=Parametros[Segmento])*(Q58>0)*(R58>0)","v":0}]
[null,"Los Notarios con relación a las operaciones realizadas durante el ejercicio de sus funciones.","Literal n) del artículo 1 de la Resolución DIAN 000124 de 2035",{"$nulls":12},"Obligados",1,40.1,{"$f":"(P59=Parametros[Segmento])*(Q59>0)*(R59>0)","v":0}]
[null,"Las personas o entidades que elaboren facturas de venta o documentos equivalentes.","Literal o) del artículo 1 de la Resolución DIAN 000124 de 2036",{"$nulls":12},"Obligados",1,40.1,{"$f":"(P60=Parametros[Segmento])*(Q60>0)*(R60>0)","v":0}]
[null,"Las alcaldías, los distritos y las gobernaciones.","Literal p) del artículo 1 de la Resolución DIAN 000124 de 2037",{"$nulls":12},"Obligados",1,40.1,{"$f":"(P61=Parametros[Segmento])*(Q61>0)*(R61>0)","v":0}]
[null,"Las autoridades catastrales.","Literal q) del artículo 1 de la Resolución DIAN 000124 de 2038",{"$nulls":12},"Obligados",1,40.1,{"$f":"(P62=Parametros[Segmento])*(Q62>0)*(R62>0)","v":0}]
[null,"Los responsables del Impuesto Nacional al Carbono.","Literal r) del artículo 1 de la Resolución DIAN 000124 de 2039",{"$nulls":12},"Obligados",1,40.1,{"$f":"(P63=Parametros[Segmento])*(Q63>0)*(R63>0)","v":0}]
[null,"Las entidades que otorgan, reconocen, registran, cancelan o suspenden personerías jurídicas.","Literal s) del artículo 1 de la Resolución DIAN 000124 de 2040",{"$nulls":12},"Obligados",1,40.1,{"$f":"(P64=Parametros[Segmento])*(Q64>0)*(R64>0)","v":0}]
[null,"Nota: No estarán obligadas a presentar la información que establece la presente Resolución las personas naturales y sus asimiladas, las personas jurídicas y sus asimiladas y, demás entidades que durante el año gravable 2022 adelanten el trámite de cancelación del Registro Único Tributario - RUT de oficio o a solicitud de parte, de acuerdo con lo establecido en los artículos 1.6.1.2.18. y siguientes del Decreto 1625 de 2016 Único Reglamentario en Materia Tributaria.\n\nEn el caso de que la cancelación del Registro Único Tributario - RUT corresponda a un contrato de colaboración empresarial, las operaciones del contrato deberán ser informadas a nombre propio por los partícipes ocultos, consorciados, unidos temporalmente, mandantes, contratantes, asociados, ventures o demás partes de los contratos, de acuerdo con lo especificado en el artículo 27 y los plazos establecidos en la presente Resolución. ","Literal 2) del artículo 1 de la Resolución DIAN 000124 de 2041",{"$nulls":12},"Obligados",1,180,{"$f":"(P65=Parametros[Segmento])*(Q65>0)*(R65>0)","v":0}]
[{"$nulls":15},"Obligados",1,30,{"$f":"(P66=Parametros[Segmento])*(Q66>0)*(R66>0)","v":0}]
[2.44,2.44,0,55.33,33.44,10.67,10.44,16.11,83,16.22,17,17.78,16.22,10.67,null,"Formatos según informante",0,20,{"$f":"(P67=Parametros[Segmento])*(Q67>0)*(R67>0)","v":0}]
[{"$nulls":15},"Formatos según informante",1,30,{"$f":"(P68=Parametros[Segmento])*(Q68>0)*(R68>0)","v":0}]
[{"$nulls":3},"Formatos de acuerdo con el informante",{"$nulls":11},"Formatos según informante",1,35,{"$f":"(P69=Parametros[Segmento])*(Q69>0)*(R69>0)","v":0}]
[{"$nulls":15},"Formatos según informante",1,10.1,{"$f":"(P70=Parametros[Segmento])*(Q70>0)*(R70>0)","v":0}]
[{"$nulls":3},"Selecciona la categoría de la persona o entidad informante",{"$nulls":4},"Informantes Tributarios",{"$nulls":6},"Formatos según informante",1,30,{"$f":"(P71=Parametros[Segmento])*(Q71>0)*(R71>0)","v":0}]
[{"$nulls":15},"Formatos según informante",1,10.1,{"$f":"(P72=Parametros[Segmento])*(Q72>0)*(R72>0)","v":0}]
[{"$nulls":3},"Persona o entidad informante","Formatos para utilizar ",{"$nulls":10},"Formatos según informante",1,30,{"$f":"(P73=Parametros[Segmento])*(Q73>0)*(R73>0)","v":0}]
[{"$nulls":4},"Nombre del formato","Número","Versión","¿Cambió la versión para el reporte de este año?","Información que debe reportarse en cada formato","Corte con que se debe elaborar el formato","Artículos de la Resolución  000124 que mencionan la exigencia de los reportes","Artículos del Estatuto Tributario que son la base para solicitar la información","Prevalidador que contiene a dicho formato",null,null,"Formatos según informante",1,130.8,{"$f":"(P74=Parametros[Segmento])*(Q74>0)*(R74>0)","v":0}]
[null,null,"Entidades financieras","Entidades vigiladas por la Superintendencia Financiera, las cooperativas de ahorro y crédito, los organismos cooperativos de grado superior, las instituciones auxiliares del cooperativismo, las cooperativas multiactivas e integrales y los fondos de empleados que realicen actividades financieras.","Movimiento en cuenta corriente y/o ahorro",1019,9,"No","Se debe reportar el valor mensual acumulado de los movimientos de naturaleza crédito de las cuentas corrientes y/o de ahorro sea superior a un millón de pesos ($1.000.000) o cuando el saldo por el periodo a reportar de cada una o varias cuentas corrientes y/o de ahorro de un mismo cuentahabiente sea igual o superior a un millón de pesos ($1.000.000), aunque al discriminar por cuenta, los valores a reportar sean menores.","Anual por periodos mensuales","Artículo 3","Literal a) del 623, 623-2, 623-3 y 631-3","Prevalidador de Entidades financieras",null,null,"Formatos según informante",1,124.2,{"$f":"(P75=Parametros[Segmento])*(Q75>0)*(R75>0)","v":0}]
[null,null,"Entidades financieras",null,"Información de inversiones en CDT",1020,8,"No","Se deben reportar los datos de cada una de las personas o entidades a quienes durante el mes, se les haya emitido, renovado, cancelado o tengan vigente a su favor uno o más certificados fijos y/o cualquier otro título, sin importar la cuantía. ","Anual por periodos mensuales","Artículo 4","Literal a) del 623 y 631-3","Prevalidador de Entidades financieras",null,null,"Formatos según informante",1,88.8,{"$f":"(P76=Parametros[Segmento])*(Q76>0)*(R76>0)","v":0}]
[null,null,"Entidades financieras",null,"Información de fondos de inversión colectiva",1021,7,"No","Las administradores de los fondos de inversión colectiva deben reportar la información de cada uno de los inversionistas y/o partícipes y/o ahorradores que hayan suscrito a su favor uno o más contratos y/o ahorros, sin importar su cuantía. Se deberá informar: el valor del saldo inicial, el valor de las inversiones y/o ahorros efectuados, los rendimientos y/o utilidades causados, los rendimientos y/o utilidades pagados, retención en la fuente practicada, el saldo final, el número del título o contrato y el tipo de fondo, independientemente de que a treinta y uno (31) de diciembre dichos títulos y/o contratos se hubieren cancelado.","Anual","Artículo 9","Literal a) del 623 y 631-3","Prevalidador de Entidades financieras",null,null,"Formatos según informante",1,179.4,{"$f":"(P77=Parametros[Segmento])*(Q77>0)*(R77>0)","v":0}]
[null,null,"Entidades financieras",null,"Aportes voluntarios a pensiones, cuentas de ahorro AFC y cuentas de ahorro AVC",1022,9,"No","Se debe reportar la información de los aportes voluntarios realizados en fondos de pensiones y/o a cuentas AFC y/o AVC junto con sus respectivos retiros gravados y no gravados, sin importar su cuantía. Adicionalmente, se deberán reportar los rendimientos del año y el saldo en el fondo a diciembre 31 de 2022. Debe tenerse en cuenta que, la casilla “número de la cuenta” se debe diligenciar indicando el número de identificación del afiliado.","Anual","Numeral 10.2 del artículo 10 y artículo 11","Literal a) del 623 y 631-3","Prevalidador de Entidades Financieras",null,null,"Formatos según informante",1,125.4,{"$f":"(P78=Parametros[Segmento])*(Q78>0)*(R78>0)","v":0}]
[null,null,"Entidades financieras",null,"Consumos con tarjeta de crédito",1023,6,"No","Se debe reportar el valor de las adquisiciones, consumos, avances o gastos realizados con tarjetas de crédito, cuando el valor anual acumulado sea superior a un millón de pesos ($1.000.000), aunque al discriminar por tarjeta los valores a reportar sean menores, indicando del valor total del movimiento realizado durante el año.","Anual","Artículo 6","Literal b) del 623","Prevalidador de Entidades financieras",null,null,"Formatos según informante",1,108.6,{"$f":"(P79=Parametros[Segmento])*(Q79>0)*(R79>0)","v":0}]
[null,null,"Entidades financieras",null,"Ventas con tarjeta de crédito",1024,6,"No","Se debe reportar la información de las personas o entidades que durante el respectivo año hayan efectuado ventas o prestación de servicios con tarjeta de crédito, que en general hayan recibido ingresos a través del sistema de tarjetas de crédito, cuando la cuantía sea superior a un millón de pesos ($1.000.000), indicando el valor total del movimiento acumulado de las ventas y/o prestación de servicios efectuados durante el año y el valor del impuesto sobre las ventas.","Anual","Artículo 7","Literal c) del 623","Prevalidador de Entidades Financieras",null,null,"Formatos según informante",1,130.2,{"$f":"(P80=Parametros[Segmento])*(Q80>0)*(R80>0)","v":0}]
[null,null,"Entidades financieras",null,"Préstamos bancarios otorgados",1026,6,"No","Se deben reportar la información de cada una de las personas o entidades a las cuales se les hayan efectuado préstamos cuyo valor anual acumulado sea superior a un millón de pesos ($1.000.000), sin importar que, al discriminar cada préstamo, los valores parciales a reportar sean menores.","Anual","Artículo 8","623-2 (sic)","Prevalidador de Entidades Financieras",null,null,"Formatos según informante",1,94.2,{"$f":"(P81=Parametros[Segmento])*(Q81>0)*(R81>0)","v":0}]
[null,null,"Deceval","Sociedad Administradora del Depósito Centralizado de Valores - Deceval ","Depósitos de títulos valores y rendimientos o dividendos cancelados",2273,2,"No","Se deberán reportar los datos, sin importar el monto, de las personas o entidades que realizaron a través de ella depósitos de títulos valores e instrumentos financieros, se encuentren o no inscritos en el registro nacional de valores e intermediarios, sean emitidos en Colombia o en el exterior.","Anual por periodos mensuales","Artículo 5","631-3","Prevalidador de Deceval",null,null,"Formatos según informante",1,90.6,{"$f":"(P82=Parametros[Segmento])*(Q82>0)*(R82>0)","v":0}]
[null,null,"Entidades financieras","Fondos de cesantías ","Fondo de Cesantías",2274,2,"Sí","Los fondos de cesantías deberán reportar, sin importar el monto, todos los datos sobre saldos iniciales, movimientos, rendimientos, retenciones en la fuente y saldos finales que se tengan en todos los fondos de cesantías.\n\nCabe mencionar que, en este formato se debe detallar si los retiros realizados durante el año correspondían a cesantías acumuladas a diciembre de 2016 o si correspondían a cesantías depositadas durante los años 2017 y siguientes. De igual manera, se debe detallar el valor del saldo final a diciembre 31 de 2022  que corresponde a cesantías de los años 2016 y anteriores y el valor que pertenece a cesantías de los años 2017 y siguientes.","Anual","Artículo 12","631-3","Prevalidador de Entidades Financieras",null,null,"Formatos según informante",1,203.6,{"$f":"(P83=Parametros[Segmento])*(Q83>0)*(R83>0)","v":0}]
[null,null,"Entidades financieras","Fondos de pensiones obligatorias ","Fondos de Pensiones Obligatorias",2277,1,"No","Se debe reportar el valor de los aportes obligatorios realizados en el año por todo tipo de partícipe. Los aportes obligatorios se deben reportar cuando la suma anual de los aportes realizados por el empleador más los aportes efectuados por el trabajador o partícipe independiente o patrocinador, por este concepto, sea superior a cuatro millones de pesos ($4.000.000). ","Anual","Numeral 10.1 del artículo 10","Literal a) del 623 y 631-3","Prevalidador de Entidades Financieras",null,null,"Formatos según informante",1,106.2,{"$f":"(P84=Parametros[Segmento])*(Q84>0)*(R84>0)","v":0}]
[null,null,"Otros informantes","Cámaras de comercio","Información de las sociedades creadas",1038,6,"No","Se debe reportar la información de las sociedades creadas durante el 2022, incluyendo los datos de sus socios o accionistas.","Anual","Numeral 31.1 del artículo 31",624,"Prevalidador de Otros",null,null,"Formatos según informante",1,55.2,{"$f":"(P85=Parametros[Segmento])*(Q85>0)*(R85>0)","v":0}]
[null,null,"Otros informantes",null,"Sociedades liquidadas",1039,6,"No","Se debe reportar la información de las sociedades liquidadas durante el 2022.","Anual","Numeral 31.2 del artículo 31",624,"Prevalidador de Otros",null,null,"Formatos según informante",1,55.2,{"$f":"(P86=Parametros[Segmento])*(Q86>0)*(R86>0)","v":0}]
[null,null,"Entidades financieras","La Bolsa de Valores de Colombia, la Bolsa Mercantil de Colombia y las demás bolsas de valores","Información de Bolsa de Valores",1041,6,"No","La Bolsa de Valores de Colombia, la Bolsa Mercantil de Colombia y las demás bolsas de valores, deberán informar de cada uno de los comisionistas de bolsa, el valor total acumulado de las adquisiciones y enajenaciones realizadas durante el respectivo año gravable, por operaciones propias o a nombre de terceros.","Anual","Artículo 13 y 44 al 51",625,"Prevalidador de Entidades Financieras",null,null,"Formatos según informante",1,108,{"$f":"(P87=Parametros[Segmento])*(Q87>0)*(R87>0)","v":0}]
[null,null,"Otros informantes","Registraduría Nacional ","Personas Fallecidas",1028,7,"No","Se debe suministrar la información de los documentos de identidad y otros datos correspondientes a las personas colombianas fallecidas durante el año 2022.","Anual","Artículo 32",627,"Prevalidador de Otros",null,null,"Formatos según informante",1,72,{"$f":"(P88=Parametros[Segmento])*(Q88>0)*(R88>0)","v":0}]
[null,null,"Entidades financieras","Comisionistas de bolsa de valores ","Información de Comisionistas de Bolsas",1042,7,"No","Las comisionistas de bolsa deben reportar la información de las transacciones realizadas a nombre propio y la información de cada una de las personas o entidades que realizaron, a través de ellos, enajenaciones o adquisiciones de acciones y demás papeles transados en bolsa cuyo valor acumulado sea superior a un millón de pesos ($1.000.000), indicando el valor total acumulado de dichas operaciones.","Anual","Artículos 14 y 45 al 52",628,"Prevalidador de Entidades Financieras",null,null,"Formatos según informante",1,125.4,{"$f":"(P89=Parametros[Segmento])*(Q89>0)*(R89>0)","v":0}]
[null,null,"Otros informantes","Notarios ","Información de Enajenaciones de Bienes y Derechos a través de Notarias",1032,10,"No","Se debe reportar la información relativa a las operaciones realizadas en el ejercicio de sus funciones, suministrando los datos de cada una de las personas o entidades que efectuaron enajenación de bienes o derechos a título oneroso o gratuito, durante el año, independientemente del valor de la transacción.","Anual","Artículo 33","629 y 631-3","Prevalidador de Otros",null,null,"Formatos según informante",1,95.4,{"$f":"(P90=Parametros[Segmento])*(Q90>0)*(R90>0)","v":0}]
[null,null,"Otros informantes","Tipógrafos elaboradores de facturas de venta","Elaboración de facturación por litógrafos y tipógrafos",1037,7,"No","Se deben reportar los datos de cada una de las personas o entidades a quienes se elaboraron trabajos de impresión de facturas. ","Anual","Artículo 34","629-1","Prevalidador de Otros",null,null,"Formatos según informante",1,56.4,{"$f":"(P91=Parametros[Segmento])*(Q91>0)*(R91>0)","v":0}]
[null,null,"Informantes tributarios","Las personas jurídicas y sus asimiladas con ánimo de lucro, las cooperativas y los fondos de empleados, obligadas a presentar información de acuerdo con los literal e) y f) del artículo 1 de la Resolución 000124 de 2021","Información de socios, accionistas, comuneros y/o cooperados",1010,8,"No","Se debe reportar la información de los socios, accionistas, comuneros, cooperados y asociados de los fondos de empleados, a diciembre 31 de 2022, cuando el monto de sus aportes sociales a diciembre 31 de 2022 sea superior a $3.000.000. \n\nPara los socios, accionistas, comuneros, asociados y/o cooperados que sean entidades o sociedades del exterior, al reportar el número de identificación se debe diligenciar con el número, código o clave de identificación fiscal tributaria, tal como figura en el registro fiscal del país de residencia o domicilio y tipo de documento 42. Cuando en dicho país no se utilice número, código o clave fiscal, se debe informar con identificación 444444001 en forma ascendente, variando consecutivamente en una unidad hasta el 444449999 y con tipo de documento 43. Los campos de dirección, departamento y municipio no se deben registrar.","Anual","Artículos 1 y 6","Literal a) del 631","Prevalidador de Informantes tributarios",null,null,"Formatos según informante",1,250.8,{"$f":"(P92=Parametros[Segmento])*(Q92>0)*(R92>0)","v":0}]
[null,null,"Informantes tributarios","Las personas naturales y sus asimiladas, las personas jurídicas y sus asimiladas y, demás entidades públicas y privadas enunciadas en los literales d), e), f), g) e i) del artículo 1 de la Resolución 000124 de 2021","Pagos o abonos en cuenta y retenciones practicadas",1001,10,"No","Se deben informar los apellidos y nombres o razón social, identificación, dirección y país de residencia o domicilio de cada una de las personas o entidades beneficiarias de los pagos o abonos en cuenta (devengo) que constituyan costo o deducción o den derecho a impuesto descontable, incluida la compra de activos fijos o movibles y los pagos o abonos en cuenta (devengo) no solicitados fiscalmente como costo o deducción, los valores de las retenciones en la fuente practicadas o asumidas a título de los impuestos sobre la Renta, IVA y Timbre, según el concepto contable a que corresponda.\nSe reporta en forma individualizada a los terceros que superan los $100.000 de pagos o abonos en cuenta por todo concepto. A los terceros que no superen dicho monto se les puede agrupar en un solo registro, por cada diferente concepto diseñado por la Dian, utilizando el seudo-NIT 222222222 y el tipo de documento \"43\" (para uso definido por la Dian). Sin embargo, en el caso de las personas y entidades a las que les aplique el ítem 3 de este subgrupo de informantes (es decir, los que solo fueron agentes de retención durante el 2022), ellos sí reportarán la totalidad de los pagos o abonos en cuenta a terceros sin importar la cuantía.","Anual","Artículos 1 y 17","Literales b) y e) del 631","Prevalidador de Informantes tributarios",null,null,"Formatos según informante",1,321,{"$f":"(P93=Parametros[Segmento])*(Q93>0)*(R93>0)","v":0}]
[null,null,"Informantes tributarios","Las personas naturales y sus asimiladas, las personas jurídicas y sus asimiladas y, demás entidades públicas y privadas enunciadas en los literales d), e) y g) del artículo 1 de la Resolución 000124 de 2021","Impuesto a las Ventas por Pagar (Descontable)",1005,7,"No","Se debe reportar el valor del impuesto sobre las ventas - IVA descontable y el valor del impuesto sobre las ventas - IVA resultante por devoluciones en ventas anuladas, rescindidas o resueltas, correspondientes al año gravable, indicando los apellidos y nombres o razón social e identificación de cada uno de los terceros.","Anual","Numeral 20.1 del artículo 20","Literales e) y f) del 631 y 631-3","Prevalidador de Informantes Tributarios",null,null,"Formatos según informante",1,109.2,{"$f":"(P94=Parametros[Segmento])*(Q94>0)*(R94>0)","v":0}]
[null,null,"Informantes tributarios","Las personas naturales y sus asimiladas, las personas jurídicas y sus asimiladas y demás entidades públicas y privadas enunciadas en los literales d), e) y g) del artículo 1 de la Resolución 000124 de 2021","Retenciones en la fuente que le practicaron",1003,7,"No","Se deben reportar los apellidos y nombres o razón social, identificación y dirección de cada una de las personas o entidades que les practicaron retención en la fuente en el año gravable, con indicación del concepto, valor acumulado del pago o abono en cuenta, de las transacciones sobre las cuales le practicaron la retención, y el valor de la retención que le practicaron.","Anual","Artículos 1 y 18","Literal c) del 631","Prevalidador de Informantes Tributarios",null,null,"Formatos según informante",1,112.2,{"$f":"(P95=Parametros[Segmento])*(Q95>0)*(R95>0)","v":0}]
[null,null,"Informantes tributarios","Las personas naturales y sus asimiladas, las personas jurídicas y sus asimiladas y, demás entidades públicas y privadas enunciadas en los literales), e), f) y g) del artículo 1 de la Resolución 000124 de 2021","Descuentos Tributarios Solicitados",1004,8,"No","Se deberá suministrar la información de los terceros y los valores que dieron lugar a la solicitud de descuentos tributarios en la declaración de renta o en la declaración anual consolidada del Régimen Simple del año gravable.","Anual","Artículos 1 y Numeral 26.1 del artículo 26","Literal d) y k) del 631","Prevalidador de Informantes Tributarios",null,null,"Formatos según informante",1,107.4,{"$f":"(P96=Parametros[Segmento])*(Q96>0)*(R96>0)","v":0}]
[null,null,"Informantes tributarios","Las personas naturales y sus asimiladas, las personas jurídicas y sus asimiladas y, demás entidades públicas y privadas enunciadas en los literales d), e) y g) del artículo 1 de la Resolución 000124 de 2021.","Impuesto a las Ventas por Pagar (Generado) e Impuesto al Consumo",1006,8,"No","Se debe reportar el valor del impuesto sobre las ventas - IVA generado y/o el impuesto nacional al consumo y el valor del impuesto sobre las ventas - IVA recuperado en devoluciones en compras anuladas, rescindidas o resueltas, correspondientes al año gravable, se debe reportar indicando los apellidos y nombres o razón social e identificación de cada uno de los terceros.","Anual","Artículos 1 y 19","Literal f) del 631","Prevalidador de Informantes Tributarios",null,null,"Formatos según informante",1,108.6,{"$f":"(P97=Parametros[Segmento])*(Q97>0)*(R97>0)","v":0}]
[null,null,"Informantes tributarios","Las personas naturales y sus asimiladas, las personas jurídicas y sus asimiladas y, demás entidades públicas y privadas enunciadas en los literales d), e) y g) del artículo 1 de la Resolución 000124 de 2021","Ingresos Recibidos",1007,9,"No","Se debe reportar el valor del impuesto sobre las ventas - IVA descontable y el valor del impuesto sobre las ventas - IVA resultante por devoluciones en ventas anuladas, rescindidas o resueltas, correspondientes al año gravable, indicando los apellidos y nombres o razón social e identificación de cada uno de los terceros.","Anual",null,null,"Prevalidador de Informantes Tributarios",null,null,"Formatos según informante",1,112.8,{"$f":"(P98=Parametros[Segmento])*(Q98>0)*(R98>0)","v":0}]
[null,null,"Informantes tributarios","Las personas naturales y sus asimiladas, las personas jurídicas y sus asimiladas y demás entidades públicas y privadas enunciadas en los literales d), e), f) y g) del artículo 1 de la Resolución 000124 de 2021","Ingresos Recibidos para Terceros",1647,2,"No","Se deberán reportar apellidos y nombres o razón social, identificación y país de residencia o domicilio de cada una de las personas o entidades nacionales o extranjeras, de quienes se recibieron ingresos para terceros y los apellidos y nombres o razón social, identificación, dirección y país de residencia o domicilio de cada una de las personas o entidades nacionales o extranjeras del tercero para quien se recibió el ingreso, indicando el valor total de la operación, el valor de los ingresos reintegrados, transferidos o distribuidos al tercero y el valor de la retención en la fuente transferida o distribuida al tercero, con el concepto 4070.\n\nEl valor mínimo a reportar corresponderá al valor anual acumulado de los ingresos recibidos para terceros, reintegrados, transferidos o distribuidos a cada beneficiario cuando la cuantía sea superior a un millón de pesos ($1.000.000).\n\nPara los ingresos obtenidos de entidades o sociedades del exterior, al reportar el número de identificación se debe diligenciar con el número, código o clave de identificación, tal como figura en el registro fiscal tributario del país de residencia o domicilio y tipo de documento 42. Cuando en dicho país no se utilice número, código o clave fiscal, se debe informar con identificación 444444001 en forma ascendente, variando consecutivamente en una unidad hasta el 444449999 y con tipo de documento 43.","Anual","Artículo 24","Literal g) del 631","Prevalidador de Informantes Tributarios",null,null,"Formatos según informante",1,412.2,{"$f":"(P99=Parametros[Segmento])*(Q99>0)*(R99>0)","v":0}]
[null,null,"Informantes tributarios","Las personas naturales y sus asimiladas, las personas jurídicas y sus asimiladas y, demás entidades públicas y privadas enunciadas en los literales d), e), g) e i) del artículo 1 de la Resolución 000124 de 2021","Saldos de cuentas por pagar al 31 de diciembre",1009,7,"No","Se debe reportar la información de los acreedores por pasivos de cualquier índole a 31 de diciembre de 2022, cuando el saldo acumulado por acreedor sea igual o superior a quinientos mil pesos ($500.000).\n\nLos saldos de los pasivos cuya cuantía sea menor a quinientos mil pesos ($500.000) se informarán acumulados en un solo registro con identificación 222222222, razón social “CUANTIAS MENORES” y tipo documento 43, en el concepto a que correspondan, reportando la dirección del informante. Para el saldo de los pasivos con entidades o sociedades del exterior, al reportar el número de identificación se debe diligenciar con el número, código o clave de identificación, tal como figura en el registro fiscal tributario del país de residencia o domicilio y tipo de documento 42. Cuando en dicho país no se utilice número, código o clave fiscal, se debe informar con identificación 444444001 en forma ascendente, variando consecutivamente en una unidad hasta el 444449999 y con tipo de documento 43. Los campos de dirección, departamento, y municipio no se deben diligenciar.","Anual","Artículo 21","Literal h) del 631","Prevalidador de Informantes Tributarios",null,null,"Formatos según informante",1,307.2,{"$f":"(P100=Parametros[Segmento])*(Q100>0)*(R100>0)","v":0}]
[null,null,"Informantes tributarios","Las personas naturales y sus asimiladas, las personas jurídicas\ny sus asimiladas y, demás entidades públicas y privadas enunciadas en los literales d), e) y g) del artículo 1 de la Resolución 000124 de 2021","Saldos de cuentas por cobrar al 31 de diciembre",1008,7,"No","Se debe reportar la información de los deudores de créditos activos a 31 de diciembre de 2022, cuando el saldo acumulado por deudor sea igual o superior a quinientos mil pesos ($500.000).\n\nLos saldos de los créditos cuya cuantía sea menor a quinientos mil pesos ($500.000) se informarán acumulados en un solo registro con identificación 222222222, razón social “CUANTIAS MENORES” y tipo documento 43, en el concepto a que correspondan, reportando la dirección del informante. Para saldo de los deudores que sean entidades o sociedades del exterior, al reportar el número de identificación se debe diligenciar con el número, código o clave de identificación, tal como figura en el registro fiscal tributario del país de residencia o domicilio y tipo de documento 42. Cuando en dicho país no se utilice número, código o clave fiscal, se debe informar con identificación 444444001 en forma ascendente, variando consecutivamente en una unidad hasta el 444449999 y con tipo de documento 43. Los campos de dirección, departamento, y municipio no se deben diligenciar.","Anual","Artículos 1 y 22","Literal i) del 631","Prevalidador de Informantes Tributarios",null,null,"Formatos según informante",1,303,{"$f":"(P101=Parametros[Segmento])*(Q101>0)*(R101>0)","v":0}]
[null,null,"Informantes tributarios","Las personas naturales y sus asimiladas, las personas jurídicas y sus asimiladas y, demás entidades públicas y privadas enunciadas en los literales d), e), f), g), h) e i) del artículo 1 de la Resolución 000124 de 2021","Información de las Declaraciones Tributarias",1011,6,"No","Se deben reportar el detalle de \"otros datos\" (sin importar su monto) tomados de las declaraciones de renta, o de ingresos y patrimonio del año gravable 2022, como algunos costos y deducciones especiales tomados en la declaración, y detalle de algunas rentas exentas tomadas en la declaración; no exige el detalle de los \"ingresos no gravados\", los cuales solo se reportarán en el formato 2275). También exige el detalle de algunos ingresos facturados como excluidos del IVA, exentos del IVA o gravados con IVA del 5 % llevados a las declaraciones del IVA del 2022. ","Anual","Numerales 25.3 a 25.8 del artículo 25","Literal k) del 631","Prevalidador de Informantes Tributarios",null,null,"Formatos según informante",1,160.2,{"$f":"(P102=Parametros[Segmento])*(Q102>0)*(R102>0)","v":0}]
[null,null,"Informantes tributarios","Las personas naturales y sus asimiladas, las personas jurídicas y sus asimiladas y, demás entidades públicas y privadas enunciadas en los literales d), e), f), g), h) e i) del artículo 1 de la Resolución 000124 de 2021","Información de las declaraciones tributarias, acciones y aportes e inversiones en bonos, certificados, títulos y demás inversiones tributarias",1012,7,"No","Se debe reportar el detalle de los saldos fiscales a diciembre 31 de 2022 en bancos e inversiones financieras (en Colombia y en el exterior), al igual que el saldo a diciembre 31 de 2022 por bonos, CDT, títulos, derechos fiduciarios y demás inversiones (incluidas las acciones o cuotas en sociedades), y que se hayan llevado a la declaración de renta o de ingresos y patrimonio 2022 o la declaración anual del régimen simple del año gravable 2022.","Anual","Numerales 25.1 y 25.2 del artículo 25","Literal k) del 631","Prevalidador de Informantes Tributarios",null,null,"Formatos según informante",1,126.6,{"$f":"(P103=Parametros[Segmento])*(Q103>0)*(R103>0)","v":0}]
[null,null,"Informantes tributarios","Las personas naturales y sus asimiladas, las personas jurídicas y sus asimiladas y, demás entidades públicas y privadas enunciadas en los literales d), e), f) y g) del artículo 1 de la Resolución 000124 de 2021","Ingresos no Constitutivos de renta ni ganancia ocasional",2275,2,"No","Se debe reportar la información de los terceros que dieron lugar a la solicitud de ingresos no constitutivos de renta o ganancia ocasional en la declaración de renta o, en la declaración anual consolidada del Régimen Simple de Tributación - SIMPLE del año gravable.","Anual","Numeral 26.1 del artículo 26","Literal k) del 631","Prevalidador de Informantes Tributarios",null,null,"Formatos según informante",1,112.2,{"$f":"(P104=Parametros[Segmento])*(Q104>0)*(R104>0)","v":0}]
[null,null,"Contratos de cooperación empresarial","Contratos de Colaboración Empresarial ","Pagos o abonos en cuenta y retenciones practicadas en contratos de colaboración empresarial",5247,1,"No","Se debe reportar el valor total de las operaciones realizadas durante el año gravable inherentes a las actividades ejecutadas en desarrollo de cada uno de los contratos de colaboración, tales como, consorcios o uniones temporales, contratos de mandato o administración delegada, contratos de exploración y explotación de hidrocarburos, gases y minerales, joint venture, cuentas en participación y convenios de cooperación con entidades públicas.","Anual","Artículo 27","Literales b), e), f), h) e i) del 631","Prevalidador de CCE - Contratos, Consorcios y Exploración",null,null,"Formatos según informante",1,124.1,{"$f":"(P105=Parametros[Segmento])*(Q105>0)*(R105>0)","v":0}]
[null,null,"Contratos de cooperación empresarial",null,"Ingresos recibidos en contratos de colaboración empresarial",5248,1,"No","Se deben reportar los ingresos recibidos (facturados) y las devoluciones, rebajas y descuentos, por cuenta de los miembros del contrato de colaboración. ","Anual","Artículos 27 y 19","Literales b), e), f), h) e i) del 631","Prevalidador de CCE - Contratos, Consorcios y Exploración",null,null,"Formatos según informante",1,109.2,{"$f":"(P106=Parametros[Segmento])*(Q106>0)*(R106>0)","v":0}]
[null,null,"Contratos de cooperación empresarial",null,"IVA descontable en contratos de colaboración empresarial",5249,1,"No","Se debe informar el IVA de los costos y gastos cubiertos por cuenta de los miembros del contrato de colaboración detallando cuál miembro del consorcio o unión temporal o mandante, etc., lo tomó como IVA descontable. Se reporta la totalidad de los IVA descontables. También se debe reportar el valor de IVA resultante por devoluciones en ventas anuladas, rescindidas o resueltas.","Anual","Artículo 27 y numeral 20.1 del artículo 20","Literales b), e), f), h) e i) del 631","Prevalidador de CCE - Contratos, Consorcios y Exploración",null,null,"Formatos según informante",1,117.5,{"$f":"(P107=Parametros[Segmento])*(Q107>0)*(R107>0)","v":0}]
[null,null,"Contratos de cooperación empresarial",null,"IVA generado en contratos de colaboración empresarial",5250,1,"No","Se debe reportar la información del IVA generado, o del Impuesto Nacional al Consumo generado, cobrado en los ingresos facturados por cuenta de los miembros del contrato de colaboración. Se debe indicar cuál miembro lo debió declarar como IVA generado o como INC generado. Se reporta al tercero en forma individualizada sin importar el monto del ingreso sobre el cual se generó el IVA o el INC.","Anual","Artículo 27 y numeral 20.2 del artículo 20","Literales b), e), f), h) e i) del 631","Prevalidador de CCE - Contratos, Consorcios y Exploración",null,null,"Formatos según informante",1,124.1,{"$f":"(P108=Parametros[Segmento])*(Q108>0)*(R108>0)","v":0}]
[null,null,"Contratos de cooperación empresarial",null,"Saldos Cuentas por cobrar a 31 de diciembre en contratos de colaboración empresarial",5251,1,"No","Se debe reportar la información de cuentas por cobrar a diciembre 31 de 2022 a favor del consorcio o a favor del mandante, etc., detallando cuál miembro del contrato de colaboración es el verdadero dueño de esa cuenta por cobrar. Sin importar el monto total de las cuentas por cobrar a diciembre 31, se deberán reportar los terceros con saldos totales superiores a $500.000.","Anual","Artículos 27 y 22","Literales b), e), f), h) e i) del 631","Prevalidador de CCE - Contratos, Consorcios y Exploración",null,null,"Formatos según informante",1,111,{"$f":"(P109=Parametros[Segmento])*(Q109>0)*(R109>0)","v":0}]
[null,null,"Contratos de cooperación empresarial",null,"Saldos de cuentas por pagar al 31 de diciembre en contratos de colaboración empresarial",5252,1,"No","Se debe reportar la información  de cuentas por pagar a diciembre 31 de 2022 a cargo del consorcio o del mandante, etc., detallando cuál miembro es el verdadero responsable de esa deuda. Sin importar el monto total de sus pasivos fiscales a diciembre 31, se deberán reportar los terceros con saldos totales superiores a $500.000.","Anual","Artículos 27 y 21","Literales b), e), f), h) e i) del 631","Prevalidador de CCE - Contratos, Consorcios y Exploración",null,null,"Formatos según informante",1,113.6,{"$f":"(P110=Parametros[Segmento])*(Q110>0)*(R110>0)","v":0}]
[null,null,"Entidades financieras","Sociedades fiduciarias administradas por patrimonios autónomos","Información de los fideicomisos que se administran",1013,9,"No","Se debe informar debe especificar la identificación, apellidos y nombres o razón social, dirección física y electrónica, país de residencia o domicilio del fideicomitente o fiduciante y el número del fideicomiso mediante el cual se informa a la Superintendencia Financiera de Colombia, los tipos y subtipos del fideicomiso, de acuerdo a la clasificación de negocios fiduciarios, el valor patrimonial de los derechos fiduciarios, el valor de los aportes efectuados en el año al fideicomiso y el valor total de las utilidades causadas.\n\nCuando los fideicomitentes, fiduciantes o beneficiarios diferentes a los fideicomitentes, sean entidades o sociedades del exterior, al reportar el número de identificación se debe diligenciar con el número, código o clave de identificación, tal como figura en el registro fiscal tributario del país de residencia o domicilio y tipo de documento 42. Cuando en dicho país no se utilice número, código o clave fiscal, se debe informar con identificación 444444001 en forma ascendente, variando consecutivamente en una unidad hasta el 444449999 y con tipo de documento 43. Los campos de dirección, departamento, y municipio no se deben diligenciar.","Anual","Numeral 15.1 del artículo 15","Literales b), e) y f) del 631","Prevalidador de Entidades Financieras",null,null,"Formatos según informante",1,330.5,{"$f":"(P111=Parametros[Segmento])*(Q111>0)*(R111>0)","v":0}]
[null,null,"Entidades financieras",null,"Pagos o abonos en cuenta y retenciones practicadas con recursos del fideicomiso",1014,2,"No","Se deben reportar los pagos o abonos en cuenta realizados con recursos del fideicomiso y las retenciones de renta, IVA o timbre practicadas o asumidas durante el año. A los terceros se les reporta en forma individualizada si superan los $100.000 por todo concepto y usando los mismos conceptos con los que se elabora el formato 1001. ","Anual","Numeral 15.3 del artículo 15","Literales b), e) y f) del 631","Prevalidador de Entidades financieras",null,null,"Formatos según informante",1,106.1,{"$f":"(P112=Parametros[Segmento])*(Q112>0)*(R112>0)","v":0}]
[null,null,"Entidades financieras",null,"Ingresos recibidos con cargo al fideicomiso o patrimonio autónomo",1058,9,"No","Se debe reportar el valor de los ingresos recibidos (facturados) a favor del  fideicomiso utilizando el concepto 4060. ","Anual","Numeral 15.2 del artículo 15","Literales b), e) y f) del 631","Prevalidador de Entidades Financieras",null,null,"Formatos según informante",1,70.1,{"$f":"(P113=Parametros[Segmento])*(Q113>0)*(R113>0)","v":0}]
[null,null,"Informantes tributarios","Los Secretarios Generales de los órganos que financien gastos con recursos del Tesoro Nacional, o quienes hagan sus veces","Pagos o abonos en cuenta por secretarios generales que administran recursos del tesoro",1056,10,"No","Se deben reportar los pagos o abonos en cuenta efectuados a terceros (en Colombia o en el exterior) y los valores de las retenciones a título de renta, IVA o timbre  practicadas a tales terceros (incluyendo las direcciones del tercero). Se reportan en forma individualizada a los terceros que superan los $100.000 por todo concepto y usando los mismos conceptos del formato 1001. A los que no superen dicho monto se les puede agrupar en un solo registro, por cada diferente concepto, utilizando el seudo-NIT 222222222.  ","Anual","Artículo 23","Literales b) y 3) del 631","Prevalidador de Informantes Tributarios",null,null,"Formatos según informante",1,142.8,{"$f":"(P114=Parametros[Segmento])*(Q114>0)*(R114>0)","v":0}]
[{"$nulls":3},"Entidades públicas o privadas que celebren convenios de cooperación y asistencia técnica para el apoyo y ejecución de sus programas o proyectos con organismos internacionales","Información de Convenios de Cooperación con Organismos Internacionales",1159,10,"Sí","Se debe reportar la relación anual de pagos de todos los contratos vigentes en el año gravable con cargo a los convenios de cooperación y asistencia técnica para el apoyo y ejecución de sus programas o proyectos con organismos internacionales (incluyendo retenciones e IVA).","Anual","Artículos 2 y 44 al 51","Literales b) y e) del 631","Prevalidador de Convenios de cooperación",null,null,"Formatos según informante",1,93,{"$f":"(P115=Parametros[Segmento])*(Q115>0)*(R115>0)","v":0}]
[null,null,"Otros informantes","Todos los obligados a expedir estados financieros consolidados, y sin importar si existe o no un grupo económico o un grupo empresarial","Información de estados financieros consolidados",1034,6,"No","Se debe reportar la información de los estados financieros consolidados a diciembre 31 de 2022 conforme las normas vigentes en Colombia.","Anual","Artículo 28","631-1","Prevalidador de Otros",null,null,"Formatos según informante",1,54.6,{"$f":"(P116=Parametros[Segmento])*(Q116>0)*(R116>0)","v":0}]
[null,null,"Otros informantes",null,"Información de vinculados económicos",1035,8,"Sí","Se debe reportar la información de las compañías subordinadas nacionales a diciembre 31 de 2022. En la nueva versión se pide reportar el \"Tipo de Aportante\", \"Tipo de documento del vinculado\" y si \"¿Es un vinculado incluido en el estado financiero consolidado?\".","Anual","Numeral 29.1 del artículo 29","631-3","Prevalidador de Otros",null,null,"Formatos según informante",1,89.4,{"$f":"(P117=Parametros[Segmento])*(Q117>0)*(R117>0)","v":0}]
[null,null,"Otros informantes",null,"Información de subordinadas, vinculadas del exterior o controladas del exterior sin residencia fiscal en Colombia - ECE",1036,9,"Sí","Se debe reportar la información de las compañías subordinadas del exterior a diciembre 31 de 2022. En la nueva versión se pide reportar el \"Tipo de persona\".","Anual","Numeral 29.2 del artículo 29","631-3","Prevalidador de Otros",null,null,"Formatos según informante",1,103.2,{"$f":"(P118=Parametros[Segmento])*(Q118>0)*(R118>0)","v":0}]
[null,null,"Informantes tributarios","Reportantes que deben presentar cualquiera de los demás formatos mencionados dentro de la Resolución 000124 de 2021 y que durante el 2022 hayan realizado pagos o abonos en cuenta por rentas de trabajo","Información de rentas de trabajo y pensiones",2276,4,"Sí","Se debe reportar la información de las personas naturales a las cuales se les haya pagado o abonado en cuenta cualquier valor por concepto de rentas de trabajo (salarios, honorarios, servicios, emolumentos, compensaciones, etc.) y que hayan quedado certificados en los formularios 220 del año gravable 2022. En el caso de los asalariados, solo se reportan valores efectivamente pagados. Para aquellos que no tengan vínculo laboral y a los cuales se haya decidido entregarles también un formulario 220, se reportaría el valor pagado o abonado en cuenta. ","Anual","Artículo 35","631-3","Prevalidador de Informantes Tributarios",null,null,"Formatos según informante",1,160.8,{"$f":"(P119=Parametros[Segmento])*(Q119>0)*(R119>0)","v":0}]
[null,null,"Gobernaciones y Alcaldías","Alcaldías, Distritos y Gobernaciones","Información de registros catastrales",1406,10,"Sí","Se debe reportar la información detallada de todos y cada uno de los predios sobre los cuales se recaudó el impuesto predial de la vigencia 2022. A través de la Resolución 000124 de 2021, se introdujo un parágrafo 5 que indica que el formato 1406 debe ser utilizado por los demás distritos y municipios diferentes a Bogotá, Medellín y Cali, para reportar la información del avalúo catastral.","Anual","Artículos 1 y 36.2","631-3","Prevalidador de Gobernaciones y Alcaldías",null,null,"Formatos según informante",1,109.2,{"$f":"(P120=Parametros[Segmento])*(Q120>0)*(R120>0)","v":0}]
[null,null,"Gobernaciones y Alcaldías",null,"Información de registros catastrales",1476,12,"Sí","Se debe reportar la información detallada de todos y cada uno de los predios sobre los cuales se recaudó el impuesto predial de la vigencia 2022. A través de la Resolución 000124 de 2021, se introdujo un parágrafo 5 que indica que \"la casilla de “avalúo catastral” del formato 1476 solo debe ser diligenciada por el Distrito de Bogotá y los municipios de Cali y Medellín, los demás municipios o distritos deberán diligenciar esta casilla en cero (0). Para los demás municipios o distritos el avaluó catastral será reportado por la autoridad catastral correspondiente en el formato 1406.","Anual","Artículos 1 y 36.1","631-3","Prevalidador de Gobernaciones y Alcaldías",null,null,"Formatos según informante",1,159,{"$f":"(P121=Parametros[Segmento])*(Q121>0)*(R121>0)","v":0}]
[null,null,"Gobernaciones y Alcaldías",null,"Información de vehículos",1480,10,"No","Se debe reportar la información detallada de todos los vehículos sobre los cuales se recaudó el impuesto de vehículos de la vigencia 2022. ","Anual","Artículos 1 y 36.3","631-3","Prevalidador de Gobernaciones y Alcaldías",null,null,"Formatos según informante",1,95.4,{"$f":"(P122=Parametros[Segmento])*(Q122>0)*(R122>0)","v":0}]
[null,null,"Gobernaciones y Alcaldías",null,"Impuesto de Industria y Comercio, Avisos y Tableros - ICA",1481,10,"No","Se debe reportar en forma consolidada las declaraciones iniciales, o las correcciones que presenten los contribuyentes respecto del año gravable a informar. En caso de existir correcciones a las declaraciones se debe tomar únicamente la última declaración de corrección presentada y cuyo estado sea vigente o válido.","Anual","Artículos 1 y 36.4","631-3","Prevalidador de Gobernaciones y Alcaldías",null,null,"Formatos según informante",1,106.2,{"$f":"(P123=Parametros[Segmento])*(Q123>0)*(R123>0)","v":0}]
[null,null,"Gobernaciones y Alcaldías",null,"Información de resoluciones administrativas relacionadas con obligaciones tributarias del orden municipal o distrital",2631,1,"No","Se deben reportar los actos administrativos por incumplimiento de obligaciones tributarias expedidos durante 2022 por las autoridades municipales o distritales, ya sean liquidaciones oficiales relacionadas con el impuesto de industria y comercio, avisos y tableros y la sobretasa bomberil, o resoluciones que imponen sanciones por el incumplimiento de obligaciones tributarias del orden territorial, así como aprobaciones de devoluciones y/o compensaciones por concepto del impuesto de industria y comercio consolidado. Solo se solicitan los actos administrativos relacionados con contribuyentes que en el año 2022 hayan obtenido ingresos brutos inferiores a 80.000 UVT.","Anual","Artículos 36 y 36.5","631-3","Prevalidador de Gobernaciones y Alcaldías",null,null,"Formatos según informante",1,178.2,{"$f":"(P124=Parametros[Segmento])*(Q124>0)*(R124>0)","v":0}]
[null,null,"Otros informantes","Todos los reportantes señalados en el artículo 1 de la Resolución 000124 de 2021, que durante el 2022 hayan dado empleo a mujeres víctimas de la violencia y hayan utilizado el beneficio de la deducción especial en el impuesto de renta.","Deducciones empleadas victimas violencia",2280,1,"No","Se debe reportar la identificación, cargo, salario y otros datos de todas las mujeres sobre las cuales se haya usado el beneficio tributario del artículo 23 de la Ley 1257 de 2008.","Anual","Artículo 40","631-3","Prevalidador de Otros",null,null,"Formatos según informante",1,112.2,{"$f":"(P125=Parametros[Segmento])*(Q125>0)*(R125>0)","v":0}]
[null,null,"Otros informantes","Entidades públicas (de nivel nacional o territorial) que hayan tenido que elaborar alguno o varios de los reportes mencionados en la Resolución 000124 de 2021.","Código Único Institucional (CUIN) Entidades Públicas",2279,2,"No","Todas las entidades públicas obligadas a reportar información de acuerdo con el artículo 1 de la Resolución 000124 de 2021, deberán informar el correspondiente Código Único Institucional (CUIN), asignado por la Contaduría General de la Nación.","Anual","Artículo 41","631-3","Prevalidador de Otros",null,null,"Formatos según informante",1,91.2,{"$f":"(P126=Parametros[Segmento])*(Q126>0)*(R126>0)","v":0}]
[null,null,"Otros informantes","Responsables del impuesto nacional al carbono ","Información de no causación del impuesto al carbono por certificación de carbono neutro",2574,2,"No","Los responsables del Impuesto Nacional al Carbono deberán presentar la información en relación con la documentación que acompaña la solicitud de no causación del impuesto por parte de los sujetos pasivos que certifiquen ser carbono neutro.","Anual","Artículo 43","631-3","Prevalidador de Otros",null,null,"Formatos según informante",1,90.6,{"$f":"(P127=Parametros[Segmento])*(Q127>0)*(R127>0)","v":0}]
[null,null,"Otros informantes","Todas las entidades señaladas en los artículos 22 y 23 del ET que durante el 2022 recibieron donaciones y hayan sido certificadas.","Donaciones recibidas y certificadas por entidades no contribuyentes",2575,1,"No","Las entidades señaladas en los artículos 22 y 23 del Estatuto Tributario deberán informar las donaciones recibidas durante el 2022, que fueron debidamente certificadas a los donantes. Si una misma persona natural o jurídica realizó donaciones en diferentes formas, debe relacionar al donante tantas veces como formas de donación haya efectuado.","Anual","Artículo 42","631-3","Prevalidador de Otros",null,null,"Formatos según informante",1,108.6,{"$f":"(P128=Parametros[Segmento])*(Q128>0)*(R128>0)","v":0}]
[null,null,"Otros informantes","Personas o entidades que actuaron durante el 2022 como representantes de concesiones o asociaciones público-privadas –APP–.","Información de Concesiones y Asociaciones Público-Privadas - APP",2625,1,"No","Las personas o entidades que actúen como representantes de Concesiones o Asociaciones Público-Privadas – APP, debe reportar la información financiera relacionada con cada proyecto ejecutado durante el año 2022 bajo la figura de las APP.  ","Anual","Artículo 39","631-3","Prevalidador de Otros",null,null,"Formatos según informante",1,91.2,{"$f":"(P129=Parametros[Segmento])*(Q129>0)*(R129>0)","v":0}]
[null,null,"Otros informantes","Entidades que otorgan, cancelan o suspenden personerías jurídicas ","Información de las entidades que otorgan, reconocen, registran, cancelan o suspenden personerías jurídicas",2683,1,"No","Se debe reportar la información de las entidades a las que se les haya otorgado, cancelado o suspendido la personería jurídica, así como la de las personas que actúan como representantes legales y de las que integran los órganos directivos. La información a reportar por el año gravable 2022 debe corresponder a la totalidad de las entidades a quienes se les otorga, reconoce, registra, cancela o suspende la personería jurídica en el respectivo año gravable.","Anual","Artículo 37","631-3","Prevalidador de Otros",null,null,"Formatos según informante",1,143.4,{"$f":"(P130=Parametros[Segmento])*(Q130>0)*(R130>0)","v":0}]
[null,null,"Otros informantes","Propiedades horizontales comerciales, industriales y mixtas que hayan obtenido ingresos brutos superiores a cien millones de pesos ($100.000.000) durante el año gravable 2022, y/o que hubiesen esta obligados a practicar retenciones y autorretenciones en la fuente a título del impuesto de renta, impuesto sobre las ventas (IVA) y Timbre, durante el año gravable 2022.","Información de los bienes y áreas comunes destinados a la explotación comercial, industrial o mixta de la propiedad horizontal",2743,1,"Nuevo","Las propiedades horizontales comerciales, industriales y mixtas obligadas a presentar información de acuerdo con los literales e) y f) del artículo 1 de la Resolución 000124 de 2021, deberán reportar la información de los bienes o áreas comunes destinados a la explotación comercial, industrial o mixta.","Anual","Artículo 38","631-3","Prevalidador de Otros",null,null,"Formatos según informante",1,164.4,{"$f":"(P131=Parametros[Segmento])*(Q131>0)*(R131>0)","v":0}]
[{"$nulls":15},"Formatos según informante",1,30,{"$f":"(P132=Parametros[Segmento])*(Q132>0)*(R132>0)","v":0}]
[3.78,2,124,50,10,{"$nulls":10},"Datos Contribuyente",0,20,{"$f":"(P133=Parametros[Segmento])*(Q133>0)*(R133>0)","v":0}]
[{"$nulls":15},"Datos Contribuyente",1,30,{"$f":"(P134=Parametros[Segmento])*(Q134>0)*(R134>0)","v":0}]
[null,"Datos básicos del contribuyente",{"$nulls":13},"Datos Contribuyente",1,30,{"$f":"(P135=Parametros[Segmento])*(Q135>0)*(R135>0)","v":0}]
[null,"Concepto ",null,"Datos",{"$nulls":11},"Datos Contribuyente",1,30,{"$f":"(P136=Parametros[Segmento])*(Q136>0)*(R136>0)","v":0}]
[null,"Razón social del contribuyente ",{"$nulls":13},"Datos Contribuyente",1,30,{"$f":"(P137=Parametros[Segmento])*(Q137>0)*(R137>0)","v":0}]
[null,"NIT del contribuyente ",{"$nulls":13},"Datos Contribuyente",1,30,{"$f":"(P138=Parametros[Segmento])*(Q138>0)*(R138>0)","v":0}]
[null,"Dígito de verificación",null,{"$f":"IF(MOD((VALUE(MID(TEXT(D138,\"000000000000000\"),15,1))*3+VALUE(MID(TEXT(D138,\"000000000000000\"),14,1))*7+VALUE(MID(TEXT(D138,\"000000000000000\"),13,1))*13+VALUE(MID(TEXT(D138,\"000000000000000\"),12,1))*17+VALUE(MID(TEXT(D138,\"000000000000000\"),11,1))*19+VALUE(MID(TEXT(D138,\"000000000000000\"),10,1))*23+VALUE(MID(TEXT(D138,\"000000000000000\"),9,1))*29+VALUE(MID(TEXT(D138,\"000000000000000\"),8,1))*37+VALUE(MID(TEXT(D138,\"000000000000000\"),7,1))*41+VALUE(MID(TEXT(D138,\"000000000000000\"),6,1))*43+VALUE(MID(TEXT(D138,\"000000000000000\"),5,1))*47+VALUE(MID(TEXT(D138,\"000000000000000\"),4,1))*53+VALUE(MID(TEXT(D138,\"000000000000000\"),3,1))*59+VALUE(MID(TEXT(D138,\"000000000000000\"),2,1))*67+VALUE(MID(TEXT(D138,\"000000000000000\"),1,1))*71),11)=0,0,IF(MOD((VALUE(MID(TEXT(D138,\"000000000000000\"),15,1))*3+VALUE(MID(TEXT(D138,\"000000000000000\"),14,1))*7+VALUE(MID(TEXT(D138,\"000000000000000\"),13,1))*13+VALUE(MID(TEXT(D138,\"000000000000000\"),12,1))*17+VALUE(MID(TEXT(D138,\"000000000000000\"),11,1))*19+VALUE(MID(TEXT(D138,\"000000000000000\"),10,1))*23+VALUE(MID(TEXT(D138,\"000000000000000\"),9,1))*29+VALUE(MID(TEXT(D138,\"000000000000000\"),8,1))*37+VALUE(MID(TEXT(D138,\"000000000000000\"),7,1))*41+VALUE(MID(TEXT(D138,\"000000000000000\"),6,1))*43+VALUE(MID(TEXT(D138,\"000000000000000\"),5,1))*47+VALUE(MID(TEXT(D138,\"000000000000000\"),4,1))*53+VALUE(MID(TEXT(D138,\"000000000000000\"),3,1))*59+VALUE(MID(TEXT(D138,\"000000000000000\"),2,1))*67+VALUE(MID(TEXT(D138,\"000000000000000\"),1,1))*71),11)=1,1,11-(MOD((VALUE(MID(TEXT(D138,\"000000000000000\"),15,1))*3+VALUE(MID(TEXT(D138,\"000000000000000\"),14,1))*7+VALUE(MID(TEXT(D138,\"000000000000000\"),13,1))*13+VALUE(MID(TEXT(D138,\"000000000000000\"),12,1))*17+VALUE(MID(TEXT(D138,\"000000000000000\"),11,1))*19+VALUE(MID(TEXT(D138,\"000000000000000\"),10,1))*23+VALUE(MID(TEXT(D138,\"000000000000000\"),9,1))*29+VALUE(MID(TEXT(D138,\"000000000000000\"),8,1))*37+VALUE(MID(TEXT(D138,\"000000000000000\"),7,1))*41+VALUE(MID(TEXT(D138,\"000000000000000\"),6,1))*43+VALUE(MID(TEXT(D138,\"000000000000000\"),5,1))*47+VALUE(MID(TEXT(D138,\"000000000000000\"),4,1))*53+VALUE(MID(TEXT(D138,\"000000000000000\"),3,1))*59+VALUE(MID(TEXT(D138,\"000000000000000\"),2,1))*67+VALUE(MID(TEXT(D138,\"000000000000000\"),1,1))*71),11))))","v":0},{"$nulls":11},"Datos Contribuyente",1,30,{"$f":"(P139=Parametros[Segmento])*(Q139>0)*(R139>0)","v":0}]
[null,"Último dígito del NIT",null,{"$f":"+RIGHT(D138,1)","v":""},{"$nulls":11},"Datos Contribuyente",0,30,{"$f":"(P140=Parametros[Segmento])*(Q140>0)*(R140>0)","v":0}]
[null,"Últimos dos dígitos del NIT ",null,{"$f":"+RIGHT(D138,2)","v":""},{"$nulls":11},"Datos Contribuyente",0,30,{"$f":"(P141=Parametros[Segmento])*(Q141>0)*(R141>0)","v":0}]
[null,"Actividad principal del contribuyente ",{"$nulls":13},"Datos Contribuyente",1,{"$f":"30+(INT(LEN($D$142)/30))*12","v":30},{"$f":"(P142=Parametros[Segmento])*(Q142>0)*(R142>0)","v":0}]
[null,"Dirección seccional DIAN",{"$nulls":13},"Datos Contribuyente",1,{"$f":"30+(INT(LEN($D$143)/30))*12","v":30},{"$f":"(P143=Parametros[Segmento])*(Q143>0)*(R143>0)","v":0}]
[null,"El contribuyente es Gran Contribuyente",null,"No",{"$nulls":11},"Datos Contribuyente",1,30,{"$f":"(P144=Parametros[Segmento])*(Q144>0)*(R144>0)","v":0}]
[{"$nulls":15},"Datos Contribuyente",1,30,{"$f":"(P145=Parametros[Segmento])*(Q145>0)*(R145>0)","v":0}]
[null,"Plazo para presentar la declaración y pagar el impuesto de renta - Personas Jurídicas y Naturales",{"$nulls":13},"Datos Contribuyente",{"$f":"IF(Obligatorio_Gran_Contribuyente=\"No\",1,0)","v":1},30,{"$f":"(P146=Parametros[Segmento])*(Q146>0)*(R146>0)","v":0}]
[null,"Concepto ",null,"Datos",{"$nulls":11},"Datos Contribuyente",{"$f":"IF(Obligatorio_Gran_Contribuyente=\"No\",1,0)","v":1},30,{"$f":"(P147=Parametros[Segmento])*(Q147>0)*(R147>0)","v":0}]
[null,"Fecha de vencimiento para presentar la información exógena del año gravable 2022",null,{"$f":"IF(D144=\"No\",IF(D138>0,VLOOKUP(D141,' '!B167:C266,2,0),\"\"),\"\")","v":""},{"$nulls":11},"Datos Contribuyente",{"$f":"IF(Obligatorio_Gran_Contribuyente=\"No\",1,0)","v":1},30,{"$f":"(P148=Parametros[Segmento])*(Q148>0)*(R148>0)","v":0}]
[null,"Fecha en la cual el contribuyente presentará la información exógena del año gravable 2022 ",{"$nulls":13},"Datos Contribuyente",{"$f":"IF(Obligatorio_Gran_Contribuyente=\"No\",1,0)","v":1},30,{"$f":"(P149=Parametros[Segmento])*(Q149>0)*(R149>0)","v":0}]
[{"$nulls":3},{"$f":"IFERROR(IF(ROUNDUP((DAYS360(D148,IF(DAY(D149)=31,D149+1,D149))/30),0)>0,ROUNDUP((DAYS360(D148,IF(DAY(D149)=31,D149+1,D149))/30),0),0),0)","v":0},{"$nulls":11},"Datos Contribuyente",0,30,{"$f":"(P150=Parametros[Segmento])*(Q150>0)*(R150>0)","v":0}]
[null,"La información exógena del año gravable 2022 se presentará de forma extemporánea ",null,{"$f":"+IF(D150=\"\",\"\",IF(D150<=0,\"No\",\"Sí\"))","v":"No"},{"$nulls":11},"Datos Contribuyente",{"$f":"IF(Obligatorio_Gran_Contribuyente=\"No\",1,0)","v":1},30,{"$f":"(P151=Parametros[Segmento])*(Q151>0)*(R151>0)","v":0}]
[null,"¿El contribuyente recibió un emplazamiento por no declarar?",{"$nulls":13},"Datos Contribuyente",{"$f":"IF($D$151=\"Sí\",IF(Obligatorio_Gran_Contribuyente=\"No\",1,0),0)","v":0},30,{"$f":"(P152=Parametros[Segmento])*(Q152>0)*(R152>0)","v":0}]
[{"$nulls":15},"Datos Contribuyente",1,30,{"$f":"(P153=Parametros[Segmento])*(Q153>0)*(R153>0)","v":0}]
[null,"Plazo para presentar la información exógena del año gravable 2022 - Grandes Contribuyentes",{"$nulls":13},"Datos Contribuyente",{"$f":"IF(Obligatorio_Gran_Contribuyente=\"Sí\",1,0)","v":0},30,{"$f":"(P154=Parametros[Segmento])*(Q154>0)*(R154>0)","v":0}]
[null,"Concepto ",null,"Datos",{"$nulls":11},"Datos Contribuyente",{"$f":"IF(Obligatorio_Gran_Contribuyente=\"Sí\",1,0)","v":0},30,{"$f":"(P155=Parametros[Segmento])*(Q155>0)*(R155>0)","v":0}]
[null,"Fecha de vencimiento para presentar la información exógena del año gravable 2022",null,{"$f":"+IF(D144=\"Sí\",IF(D138>0,VLOOKUP(D140,' '!D167:E176,2,0),\"\"),\"\")","v":""},{"$nulls":11},"Datos Contribuyente",{"$f":"IF(Obligatorio_Gran_Contribuyente=\"Sí\",1,0)","v":0},30,{"$f":"(P156=Parametros[Segmento])*(Q156>0)*(R156>0)","v":0}]
[null,"Fecha en la cual el contribuyente presentará la información exógena del año gravable 2022 ",null,"2023-07-03",{"$nulls":11},"Datos Contribuyente",{"$f":"IF(Obligatorio_Gran_Contribuyente=\"Sí\",1,0)","v":0},30,{"$f":"(P157=Parametros[Segmento])*(Q157>0)*(R157>0)","v":0}]
[null,"Mes o fracción de extemporaneidad",null,{"$f":"IFERROR(IF(AND(D156>0,D157>0),IF(ROUNDUP((DAYS360(D156,D157)/30),0)>0,ROUNDUP((DAYS360(D156,D157)/30),0),0),\"\"),\"\")","v":""},{"$nulls":11},"Datos Contribuyente",0,30,{"$f":"(P158=Parametros[Segmento])*(Q158>0)*(R158>0)","v":0}]
[null,"La información exógena se presentará de forma extemporánea ",null,{"$f":"+IF(D158=\"\",\"\",IF(D158<=0,\"No\",\"Sí\"))","v":""},{"$nulls":11},"Datos Contribuyente",{"$f":"IF(Obligatorio_Gran_Contribuyente=\"Sí\",1,0)","v":0},30,{"$f":"(P159=Parametros[Segmento])*(Q159>0)*(R159>0)","v":0}]
[null,"¿El contribuyente recibió un emplazamiento por no declarar?",null,"No",{"$nulls":11},"Datos Contribuyente",{"$f":"IF(Obligatorio_Gran_Contribuyente=\"Sí\",IF($D$159=\"Sí\",1,0),0)","v":0},30,{"$f":"(P160=Parametros[Segmento])*(Q160>0)*(R160>0)","v":0}]
[{"$nulls":15},"Datos Contribuyente",{"$f":"IF(Obligatorio_Gran_Contribuyente=\"Sí\",1,0)","v":0},30,{"$f":"(P161=Parametros[Segmento])*(Q161>0)*(R161>0)","v":0}]
[4.44,29.78,59.78,29.78,59.78,10,{"$nulls":9},"Vencimientos",0,20,{"$f":"(P162=Parametros[Segmento])*(Q162>0)*(R162>0)","v":0}]
[{"$nulls":15},"Vencimientos",1,30,{"$f":"(P163=Parametros[Segmento])*(Q163>0)*(R163>0)","v":0}]
[null,"Vencimientos para la presentación de la información exógena del año gravable 2022",{"$nulls":13},"Vencimientos",1,40,{"$f":"(P164=Parametros[Segmento])*(Q164>0)*(R164>0)","v":0}]
[null,"Personas jurídicas y naturales",null,"Grandes Contribuyentes ",{"$nulls":11},"Vencimientos",1,30,{"$f":"(P165=Parametros[Segmento])*(Q165>0)*(R165>0)","v":0}]
[null,"Último(s) dígito(s) del NIT ","Fecha límite ","Último dígito del NIT ","Fecha límite ",{"$nulls":10},"Vencimientos",1,30,{"$f":"(P166=Parametros[Segmento])*(Q166>0)*(R166>0)","v":0}]
[null,"01","2023-05-16","1","2023-05-02",{"$nulls":10},"Vencimientos",1,30,{"$f":"(P167=Parametros[Segmento])*(Q167>0)*(R167>0)","v":0}]
[null,"02","2023-05-16","2","2023-05-03",{"$nulls":10},"Vencimientos",1,30,{"$f":"(P168=Parametros[Segmento])*(Q168>0)*(R168>0)","v":0}]
[null,"03","2023-05-16","3","2023-05-04",{"$nulls":10},"Vencimientos",1,30,{"$f":"(P169=Parametros[Segmento])*(Q169>0)*(R169>0)","v":0}]
[null,"04","2023-05-16","4","2023-05-05",{"$nulls":10},"Vencimientos",1,30,{"$f":"(P170=Parametros[Segmento])*(Q170>0)*(R170>0)","v":0}]
[null,"05","2023-05-16","5","2023-05-08",{"$nulls":10},"Vencimientos",1,30,{"$f":"(P171=Parametros[Segmento])*(Q171>0)*(R171>0)","v":0}]
[null,"06","2023-05-17","6","2023-05-09",{"$nulls":10},"Vencimientos",1,30,{"$f":"(P172=Parametros[Segmento])*(Q172>0)*(R172>0)","v":0}]
[null,"07","2023-05-17","7","2023-05-10",{"$nulls":10},"Vencimientos",1,30,{"$f":"(P173=Parametros[Segmento])*(Q173>0)*(R173>0)","v":0}]
[null,"08","2023-05-17","8","2023-05-11",{"$nulls":10},"Vencimientos",1,30,{"$f":"(P174=Parametros[Segmento])*(Q174>0)*(R174>0)","v":0}]
[null,"09","2023-05-17","9","2023-05-12",{"$nulls":10},"Vencimientos",1,30,{"$f":"(P175=Parametros[Segmento])*(Q175>0)*(R175>0)","v":0}]
[null,"10","2023-05-17","0","2023-05-15",{"$nulls":10},"Vencimientos",1,30,{"$f":"(P176=Parametros[Segmento])*(Q176>0)*(R176>0)","v":0}]
[null,"11","2023-05-18",{"$nulls":12},"Vencimientos",1,30,{"$f":"(P177=Parametros[Segmento])*(Q177>0)*(R177>0)","v":0}]
[null,"12","2023-05-18",{"$nulls":12},"Vencimientos",1,30,{"$f":"(P178=Parametros[Segmento])*(Q178>0)*(R178>0)","v":0}]
[null,"13","2023-05-18",{"$nulls":12},"Vencimientos",1,30,{"$f":"(P179=Parametros[Segmento])*(Q179>0)*(R179>0)","v":0}]
[null,"14","2023-05-18",{"$nulls":12},"Vencimientos",1,30,{"$f":"(P180=Parametros[Segmento])*(Q180>0)*(R180>0)","v":0}]
[null,"15","2023-05-18",{"$nulls":12},"Vencimientos",1,30,{"$f":"(P181=Parametros[Segmento])*(Q181>0)*(R181>0)","v":0}]
[null,"16","2023-05-19",{"$nulls":12},"Vencimientos",1,30,{"$f":"(P182=Parametros[Segmento])*(Q182>0)*(R182>0)","v":0}]
[null,"17","2023-05-19",{"$nulls":12},"Vencimientos",1,30,{"$f":"(P183=Parametros[Segmento])*(Q183>0)*(R183>0)","v":0}]
[null,"18","2023-05-19",{"$nulls":12},"Vencimientos",1,30,{"$f":"(P184=Parametros[Segmento])*(Q184>0)*(R184>0)","v":0}]
[null,"19","2023-05-19",{"$nulls":12},"Vencimientos",1,30,{"$f":"(P185=Parametros[Segmento])*(Q185>0)*(R185>0)","v":0}]
[null,"20","2023-05-19",{"$nulls":12},"Vencimientos",1,30,{"$f":"(P186=Parametros[Segmento])*(Q186>0)*(R186>0)","v":0}]
[null,"21","2023-05-23",{"$nulls":12},"Vencimientos",1,30,{"$f":"(P187=Parametros[Segmento])*(Q187>0)*(R187>0)","v":0}]
[null,"22","2023-05-23",{"$nulls":12},"Vencimientos",1,30,{"$f":"(P188=Parametros[Segmento])*(Q188>0)*(R188>0)","v":0}]
[null,"23","2023-05-23",{"$nulls":12},"Vencimientos",1,30,{"$f":"(P189=Parametros[Segmento])*(Q189>0)*(R189>0)","v":0}]
[null,"24","2023-05-23",{"$nulls":12},"Vencimientos",1,30,{"$f":"(P190=Parametros[Segmento])*(Q190>0)*(R190>0)","v":0}]
[null,"25","2023-05-23",{"$nulls":12},"Vencimientos",1,30,{"$f":"(P191=Parametros[Segmento])*(Q191>0)*(R191>0)","v":0}]
[null,"26","2023-05-24",{"$nulls":12},"Vencimientos",1,30,{"$f":"(P192=Parametros[Segmento])*(Q192>0)*(R192>0)","v":0}]
[null,"27","2023-05-24",{"$nulls":12},"Vencimientos",1,30,{"$f":"(P193=Parametros[Segmento])*(Q193>0)*(R193>0)","v":0}]
[null,"28","2023-05-24",{"$nulls":12},"Vencimientos",1,30,{"$f":"(P194=Parametros[Segmento])*(Q194>0)*(R194>0)","v":0}]
[null,"29","2023-05-24",{"$nulls":12},"Vencimientos",1,30,{"$f":"(P195=Parametros[Segmento])*(Q195>0)*(R195>0)","v":0}]
[null,"30","2023-05-24",{"$nulls":12},"Vencimientos",1,30,{"$f":"(P196=Parametros[Segmento])*(Q196>0)*(R196>0)","v":0}]
[null,"31","2023-05-25",{"$nulls":12},"Vencimientos",1,30,{"$f":"(P197=Parametros[Segmento])*(Q197>0)*(R197>0)","v":0}]
[null,"32","2023-05-25",{"$nulls":12},"Vencimientos",1,30,{"$f":"(P198=Parametros[Segmento])*(Q198>0)*(R198>0)","v":0}]
[null,"33","2023-05-25",{"$nulls":12},"Vencimientos",1,30,{"$f":"(P199=Parametros[Segmento])*(Q199>0)*(R199>0)","v":0}]
[null,"34","2023-05-25",{"$nulls":12},"Vencimientos",1,30,{"$f":"(P200=Parametros[Segmento])*(Q200>0)*(R200>0)","v":0}]
[null,"35","2023-05-25",{"$nulls":12},"Vencimientos",1,30,{"$f":"(P201=Parametros[Segmento])*(Q201>0)*(R201>0)","v":0}]
[null,"36","2023-05-26",{"$nulls":12},"Vencimientos",1,30,{"$f":"(P202=Parametros[Segmento])*(Q202>0)*(R202>0)","v":0}]
[null,"37","2023-05-26",{"$nulls":12},"Vencimientos",1,30,{"$f":"(P203=Parametros[Segmento])*(Q203>0)*(R203>0)","v":0}]
[null,"38","2023-05-26",{"$nulls":12},"Vencimientos",1,30,{"$f":"(P204=Parametros[Segmento])*(Q204>0)*(R204>0)","v":0}]
[null,"39","2023-05-26",{"$nulls":12},"Vencimientos",1,30,{"$f":"(P205=Parametros[Segmento])*(Q205>0)*(R205>0)","v":0}]
[null,"40","2023-05-26",{"$nulls":12},"Vencimientos",1,30,{"$f":"(P206=Parametros[Segmento])*(Q206>0)*(R206>0)","v":0}]
[null,"41","2023-05-29",{"$nulls":12},"Vencimientos",1,30,{"$f":"(P207=Parametros[Segmento])*(Q207>0)*(R207>0)","v":0}]
[null,"42","2023-05-29",{"$nulls":12},"Vencimientos",1,30,{"$f":"(P208=Parametros[Segmento])*(Q208>0)*(R208>0)","v":0}]
[null,"43","2023-05-29",{"$nulls":12},"Vencimientos",1,30,{"$f":"(P209=Parametros[Segmento])*(Q209>0)*(R209>0)","v":0}]
[null,"44","2023-05-29",{"$nulls":12},"Vencimientos",1,30,{"$f":"(P210=Parametros[Segmento])*(Q210>0)*(R210>0)","v":0}]
[null,"45","2023-05-29",{"$nulls":12},"Vencimientos",1,30,{"$f":"(P211=Parametros[Segmento])*(Q211>0)*(R211>0)","v":0}]
[null,"46","2023-05-30",{"$nulls":12},"Vencimientos",1,30,{"$f":"(P212=Parametros[Segmento])*(Q212>0)*(R212>0)","v":0}]
[null,"47","2023-05-30",{"$nulls":12},"Vencimientos",1,30,{"$f":"(P213=Parametros[Segmento])*(Q213>0)*(R213>0)","v":0}]
[null,"48","2023-05-30",{"$nulls":12},"Vencimientos",1,30,{"$f":"(P214=Parametros[Segmento])*(Q214>0)*(R214>0)","v":0}]
[null,"49","2023-05-30",{"$nulls":12},"Vencimientos",1,30,{"$f":"(P215=Parametros[Segmento])*(Q215>0)*(R215>0)","v":0}]
[null,"50","2023-05-30",{"$nulls":12},"Vencimientos",1,30,{"$f":"(P216=Parametros[Segmento])*(Q216>0)*(R216>0)","v":0}]
[null,"51","2023-05-31",{"$nulls":12},"Vencimientos",1,30,{"$f":"(P217=Parametros[Segmento])*(Q217>0)*(R217>0)","v":0}]
[null,"52","2023-05-31",{"$nulls":12},"Vencimientos",1,30,{"$f":"(P218=Parametros[Segmento])*(Q218>0)*(R218>0)","v":0}]
[null,"53","2023-05-31",{"$nulls":12},"Vencimientos",1,30,{"$f":"(P219=Parametros[Segmento])*(Q219>0)*(R219>0)","v":0}]
[null,"54","2023-05-31",{"$nulls":12},"Vencimientos",1,30,{"$f":"(P220=Parametros[Segmento])*(Q220>0)*(R220>0)","v":0}]
[null,"55","2023-05-31",{"$nulls":12},"Vencimientos",1,30,{"$f":"(P221=Parametros[Segmento])*(Q221>0)*(R221>0)","v":0}]
[null,"56","2023-06-01",{"$nulls":12},"Vencimientos",1,30,{"$f":"(P222=Parametros[Segmento])*(Q222>0)*(R222>0)","v":0}]
[null,"57","2023-06-01",{"$nulls":12},"Vencimientos",1,30,{"$f":"(P223=Parametros[Segmento])*(Q223>0)*(R223>0)","v":0}]
[null,"58","2023-06-01",{"$nulls":12},"Vencimientos",1,30,{"$f":"(P224=Parametros[Segmento])*(Q224>0)*(R224>0)","v":0}]
[null,"59","2023-06-01",{"$nulls":12},"Vencimientos",1,30,{"$f":"(P225=Parametros[Segmento])*(Q225>0)*(R225>0)","v":0}]
[null,"60","2023-06-01",{"$nulls":12},"Vencimientos",1,30,{"$f":"(P226=Parametros[Segmento])*(Q226>0)*(R226>0)","v":0}]
[null,"61","2023-06-02",{"$nulls":12},"Vencimientos",1,30,{"$f":"(P227=Parametros[Segmento])*(Q227>0)*(R227>0)","v":0}]
[null,"62","2023-06-02",{"$nulls":12},"Vencimientos",1,30,{"$f":"(P228=Parametros[Segmento])*(Q228>0)*(R228>0)","v":0}]
[null,"63","2023-06-02",{"$nulls":12},"Vencimientos",1,30,{"$f":"(P229=Parametros[Segmento])*(Q229>0)*(R229>0)","v":0}]
[null,"64","2023-06-02",{"$nulls":12},"Vencimientos",1,30,{"$f":"(P230=Parametros[Segmento])*(Q230>0)*(R230>0)","v":0}]
[null,"65","2023-06-02",{"$nulls":12},"Vencimientos",1,30,{"$f":"(P231=Parametros[Segmento])*(Q231>0)*(R231>0)","v":0}]
[null,"66","2023-06-05",{"$nulls":12},"Vencimientos",1,30,{"$f":"(P232=Parametros[Segmento])*(Q232>0)*(R232>0)","v":0}]
[null,"67","2023-06-05",{"$nulls":12},"Vencimientos",1,30,{"$f":"(P233=Parametros[Segmento])*(Q233>0)*(R233>0)","v":0}]
[null,"68","2023-06-05",{"$nulls":12},"Vencimientos",1,30,{"$f":"(P234=Parametros[Segmento])*(Q234>0)*(R234>0)","v":0}]
[null,"69","2023-06-05",{"$nulls":12},"Vencimientos",1,30,{"$f":"(P235=Parametros[Segmento])*(Q235>0)*(R235>0)","v":0}]
[null,"70","2023-06-05",{"$nulls":12},"Vencimientos",1,30,{"$f":"(P236=Parametros[Segmento])*(Q236>0)*(R236>0)","v":0}]
[null,"71","2023-06-06",{"$nulls":12},"Vencimientos",1,30,{"$f":"(P237=Parametros[Segmento])*(Q237>0)*(R237>0)","v":0}]
[null,"72","2023-06-06",{"$nulls":12},"Vencimientos",1,30,{"$f":"(P238=Parametros[Segmento])*(Q238>0)*(R238>0)","v":0}]
[null,"73","2023-06-06",{"$nulls":12},"Vencimientos",1,30,{"$f":"(P239=Parametros[Segmento])*(Q239>0)*(R239>0)","v":0}]
[null,"74","2023-06-06",{"$nulls":12},"Vencimientos",1,30,{"$f":"(P240=Parametros[Segmento])*(Q240>0)*(R240>0)","v":0}]
[null,"75","2023-06-06",{"$nulls":12},"Vencimientos",1,30,{"$f":"(P241=Parametros[Segmento])*(Q241>0)*(R241>0)","v":0}]
[null,"76","2023-06-07",{"$nulls":12},"Vencimientos",1,30,{"$f":"(P242=Parametros[Segmento])*(Q242>0)*(R242>0)","v":0}]
[null,"77","2023-06-07",{"$nulls":12},"Vencimientos",1,30,{"$f":"(P243=Parametros[Segmento])*(Q243>0)*(R243>0)","v":0}]
[null,"78","2023-06-07",{"$nulls":12},"Vencimientos",1,30,{"$f":"(P244=Parametros[Segmento])*(Q244>0)*(R244>0)","v":0}]
[null,"79","2023-06-07",{"$nulls":12},"Vencimientos",1,30,{"$f":"(P245=Parametros[Segmento])*(Q245>0)*(R245>0)","v":0}]
[null,"80","2023-06-07",{"$nulls":12},"Vencimientos",1,30,{"$f":"(P246=Parametros[Segmento])*(Q246>0)*(R246>0)","v":0}]
[null,"81","2023-06-08",{"$nulls":12},"Vencimientos",1,30,{"$f":"(P247=Parametros[Segmento])*(Q247>0)*(R247>0)","v":0}]
[null,"82","2023-06-08",{"$nulls":12},"Vencimientos",1,30,{"$f":"(P248=Parametros[Segmento])*(Q248>0)*(R248>0)","v":0}]
[null,"83","2023-06-08",{"$nulls":12},"Vencimientos",1,30,{"$f":"(P249=Parametros[Segmento])*(Q249>0)*(R249>0)","v":0}]
[null,"84","2023-06-08",{"$nulls":12},"Vencimientos",1,30,{"$f":"(P250=Parametros[Segmento])*(Q250>0)*(R250>0)","v":0}]
[null,"85","2023-06-08",{"$nulls":12},"Vencimientos",1,30,{"$f":"(P251=Parametros[Segmento])*(Q251>0)*(R251>0)","v":0}]
[null,"86","2023-06-09",{"$nulls":12},"Vencimientos",1,30,{"$f":"(P252=Parametros[Segmento])*(Q252>0)*(R252>0)","v":0}]
[null,"87","2023-06-09",{"$nulls":12},"Vencimientos",1,30,{"$f":"(P253=Parametros[Segmento])*(Q253>0)*(R253>0)","v":0}]
[null,"88","2023-06-09",{"$nulls":12},"Vencimientos",1,30,{"$f":"(P254=Parametros[Segmento])*(Q254>0)*(R254>0)","v":0}]
[null,"89","2023-06-09",{"$nulls":12},"Vencimientos",1,30,{"$f":"(P255=Parametros[Segmento])*(Q255>0)*(R255>0)","v":0}]
[null,"90","2023-06-09",{"$nulls":12},"Vencimientos",1,30,{"$f":"(P256=Parametros[Segmento])*(Q256>0)*(R256>0)","v":0}]
[null,"91","2023-06-13",{"$nulls":12},"Vencimientos",1,30,{"$f":"(P257=Parametros[Segmento])*(Q257>0)*(R257>0)","v":0}]
[null,"92","2023-06-13",{"$nulls":12},"Vencimientos",1,30,{"$f":"(P258=Parametros[Segmento])*(Q258>0)*(R258>0)","v":0}]
[null,"93","2023-06-13",{"$nulls":12},"Vencimientos",1,30,{"$f":"(P259=Parametros[Segmento])*(Q259>0)*(R259>0)","v":0}]
[null,"94","2023-06-13",{"$nulls":12},"Vencimientos",1,30,{"$f":"(P260=Parametros[Segmento])*(Q260>0)*(R260>0)","v":0}]
[null,"95","2023-06-13",{"$nulls":12},"Vencimientos",1,30,{"$f":"(P261=Parametros[Segmento])*(Q261>0)*(R261>0)","v":0}]
[null,"96","2023-06-14",{"$nulls":12},"Vencimientos",1,30,{"$f":"(P262=Parametros[Segmento])*(Q262>0)*(R262>0)","v":0}]
[null,"97","2023-06-14",{"$nulls":12},"Vencimientos",1,30,{"$f":"(P263=Parametros[Segmento])*(Q263>0)*(R263>0)","v":0}]
[null,"98","2023-06-14",{"$nulls":12},"Vencimientos",1,30,{"$f":"(P264=Parametros[Segmento])*(Q264>0)*(R264>0)","v":0}]
[null,"99","2023-06-14",{"$nulls":12},"Vencimientos",1,30,{"$f":"(P265=Parametros[Segmento])*(Q265>0)*(R265>0)","v":0}]
[null,"00","2023-06-14",{"$nulls":12},"Vencimientos",1,30,{"$f":"(P266=Parametros[Segmento])*(Q266>0)*(R266>0)","v":0}]
[{"$nulls":15},"Vencimientos",1,30,{"$f":"(P267=Parametros[Segmento])*(Q267>0)*(R267>0)","v":0}]
[6.78,85,25.89,10,{"$nulls":11},"Sanciones extemporaneidad",0,20,{"$f":"(P268=Parametros[Segmento])*(Q268>0)*(R268>0)","v":0}]
[{"$nulls":15},"Sanciones extemporaneidad",1,30,{"$f":"(P269=Parametros[Segmento])*(Q269>0)*(R269>0)","v":0}]
[null,"Datos del contribuyente",{"$nulls":13},"Sanciones extemporaneidad",1,30,{"$f":"(P270=Parametros[Segmento])*(Q270>0)*(R270>0)","v":0}]
[null,"Fecha de vencimiento del plazo para presentar la información exógena del AG 2022",{"$f":"+IF(' '!D144=\"\",\"\",IF(' '!D144=\"No\",' '!D148,' '!D156))","v":""},{"$nulls":12},"Sanciones extemporaneidad",1,30,{"$f":"(P271=Parametros[Segmento])*(Q271>0)*(R271>0)","v":0}]
[null,"Fecha en la cual el contribuyente presentará la información exógena del AG 202",{"$f":"+IF(' '!D144=\"\",\"\",IF(' '!D144=\"No\",' '!D149,' '!D157))","v":"00:00:00"},{"$nulls":12},"Sanciones extemporaneidad",1,30,{"$f":"(P272=Parametros[Segmento])*(Q272>0)*(R272>0)","v":0}]
[null,"La información exógena se presentará de forma extemporánea ",{"$f":"+IF(OR(' '!D151=\"Sí\",' '!D159=\"Sí\"),\"Sí\",\"\")","v":""},{"$nulls":12},"Sanciones extemporaneidad",1,30,{"$f":"(P273=Parametros[Segmento])*(Q273>0)*(R273>0)","v":0}]
[null,"¿La información presentada de manera extemporánea tiene cuantía?",{"$nulls":13},"Sanciones extemporaneidad",1,30,{"$f":"(P274=Parametros[Segmento])*(Q274>0)*(R274>0)","v":0}]
[null,"¿La información presentada de manera extemporánea NO tiene cuantía?",{"$nulls":13},"Sanciones extemporaneidad",1,30,{"$f":"(P275=Parametros[Segmento])*(Q275>0)*(R275>0)","v":0}]
[{"$nulls":15},"Sanciones extemporaneidad",1,30,{"$f":"(P276=Parametros[Segmento])*(Q276>0)*(R276>0)","v":0}]
[null,"Descripción del dato y/o formato","Total valores reportados de forma extemporánea",{"$nulls":12},"Sanciones extemporaneidad",{"$f":"IF($C$274=\"Sí\",1,0)","v":0},40,{"$f":"(P277=Parametros[Segmento])*(Q277>0)*(R277>0)","v":0}]
[{"$nulls":14},{"$f":"IF($C$274=\"Sí\",SUBSTITUTE($C$277,CHAR(10),\"\"),\"\")","v":""},"Sanciones extemporaneidad",{"$f":"IF($C$274=\"Sí\",(O278=OFFSET(O278,1,0))*1,0)","v":0},30,{"$f":"(P278=Parametros[Segmento])*(Q278>0)*(R278>0)","v":0}]
[{"$nulls":14},{"$f":"IF($C$274=\"Sí\",SUBSTITUTE($C$277,CHAR(10),\"\"),\"\")","v":""},"Sanciones extemporaneidad",{"$f":"IF($C$274=\"Sí\",(O279=OFFSET(O279,1,0))*1,0)","v":0},30,{"$f":"(P279=Parametros[Segmento])*(Q279>0)*(R279>0)","v":0}]
[{"$nulls":14},{"$f":"IF($C$274=\"Sí\",SUBSTITUTE($C$277,CHAR(10),\"\"),\"\")","v":""},"Sanciones extemporaneidad",{"$f":"IF($C$274=\"Sí\",(O280=OFFSET(O280,1,0))*1,0)","v":0},30,{"$f":"(P280=Parametros[Segmento])*(Q280>0)*(R280>0)","v":0}]
[{"$nulls":14},{"$f":"IF($C$274=\"Sí\",SUBSTITUTE($C$277,CHAR(10),\"\"),\"\")","v":""},"Sanciones extemporaneidad",{"$f":"IF($C$274=\"Sí\",(O281=OFFSET(O281,1,0))*1,0)","v":0},30,{"$f":"(P281=Parametros[Segmento])*(Q281>0)*(R281>0)","v":0}]
[{"$nulls":14},{"$f":"IF($C$274=\"Sí\",SUBSTITUTE($C$277,CHAR(10),\"\"),\"\")","v":""},"Sanciones extemporaneidad",{"$f":"IF($C$274=\"Sí\",(O282=OFFSET(O282,1,0))*1,0)","v":0},30,{"$f":"(P282=Parametros[Segmento])*(Q282>0)*(R282>0)","v":0}]
[null,"Total valores reportados de forma extemporánea",{"$f":"IF($C$274=\"Sí\",SUM(C278:C282),0)","v":0},{"$nulls":12},"Sanciones extemporaneidad",{"$f":"IF($C$274=\"Sí\",1,0)","v":0},30,{"$f":"(P283=Parametros[Segmento])*(Q283>0)*(R283>0)","v":0}]
[{"$nulls":15},"Sanciones extemporaneidad",{"$f":"IF($C$274=\"Sí\",1,0)","v":0},30,{"$f":"(P284=Parametros[Segmento])*(Q284>0)*(R284>0)","v":0}]
[null,"Descripción del dato y/o formato","Número de datos suministrados de forma extemporánea (sin cuantía)",{"$nulls":12},"Sanciones extemporaneidad",{"$f":"IF($C$275=\"Sí\",1,0)","v":0},40,{"$f":"(P285=Parametros[Segmento])*(Q285>0)*(R285>0)","v":0}]
[{"$nulls":14},{"$f":"IF($C$275=\"Sí\",SUBSTITUTE($C$285,CHAR(10),\"\"),\"\")","v":""},"Sanciones extemporaneidad",{"$f":"IF($C$275=\"Sí\",(O286=OFFSET(O286,1,0))*1,0)","v":0},30,{"$f":"(P286=Parametros[Segmento])*(Q286>0)*(R286>0)","v":0}]
[{"$nulls":14},{"$f":"IF($C$275=\"Sí\",SUBSTITUTE($C$285,CHAR(10),\"\"),\"\")","v":""},"Sanciones extemporaneidad",{"$f":"IF($C$275=\"Sí\",(O287=OFFSET(O287,1,0))*1,0)","v":0},30,{"$f":"(P287=Parametros[Segmento])*(Q287>0)*(R287>0)","v":0}]
[{"$nulls":14},{"$f":"IF($C$275=\"Sí\",SUBSTITUTE($C$285,CHAR(10),\"\"),\"\")","v":""},"Sanciones extemporaneidad",{"$f":"IF($C$275=\"Sí\",(O288=OFFSET(O288,1,0))*1,0)","v":0},30,{"$f":"(P288=Parametros[Segmento])*(Q288>0)*(R288>0)","v":0}]
[{"$nulls":14},{"$f":"IF($C$275=\"Sí\",SUBSTITUTE($C$285,CHAR(10),\"\"),\"\")","v":""},"Sanciones extemporaneidad",{"$f":"IF($C$275=\"Sí\",(O289=OFFSET(O289,1,0))*1,0)","v":0},30,{"$f":"(P289=Parametros[Segmento])*(Q289>0)*(R289>0)","v":0}]
[{"$nulls":14},{"$f":"IF($C$275=\"Sí\",SUBSTITUTE($C$285,CHAR(10),\"\"),\"\")","v":""},"Sanciones extemporaneidad",{"$f":"IF($C$275=\"Sí\",(O290=OFFSET(O290,1,0))*1,0)","v":0},30,{"$f":"(P290=Parametros[Segmento])*(Q290>0)*(R290>0)","v":0}]
[null,"Total número de datos suministrados de forma extemporánea (sin cuantía)",{"$f":"IF($C$275=\"Sí\",SUM(C286:C290),0)","v":0},{"$nulls":12},"Sanciones extemporaneidad",{"$f":"IF($C$275=\"Sí\",1,0)","v":0},30,{"$f":"(P291=Parametros[Segmento])*(Q291>0)*(R291>0)","v":0}]
[{"$nulls":15},"Sanciones extemporaneidad",{"$f":"IF($C$275=\"Sí\",1,0)","v":0},30,{"$f":"(P292=Parametros[Segmento])*(Q292>0)*(R292>0)","v":0}]
[null,"Cálculo de la sanción por extemporaneidad",{"$nulls":13},"Sanciones extemporaneidad",1,30,{"$f":"(P293=Parametros[Segmento])*(Q293>0)*(R293>0)","v":0}]
[null,"Sanción calculada sobre información con cuantía","Total ",{"$nulls":12},"Sanciones extemporaneidad",1,30,{"$f":"(P294=Parametros[Segmento])*(Q294>0)*(R294>0)","v":0}]
[null,"Total valores reportados de forma extemporánea ",{"$f":"+C283","v":0},{"$nulls":12},"Sanciones extemporaneidad",1,30,{"$f":"(P295=Parametros[Segmento])*(Q295>0)*(R295>0)","v":0}]
[null,"Porcentaje sanción por extemporaneidad",{"v":0.005,"d":"0.5%"},{"$nulls":12},"Sanciones extemporaneidad",1,30,{"$f":"(P296=Parametros[Segmento])*(Q296>0)*(R296>0)","v":0}]
[null,"Subtotal",{"$f":"ROUND(IF(C273=\"Sí\",C295*C296,0),-3)","v":0},{"$nulls":12},"Sanciones extemporaneidad",1,30,{"$f":"(P297=Parametros[Segmento])*(Q297>0)*(R297>0)","v":0}]
[null,"Sanción calculada sobre información sín cuantía","Total ",{"$nulls":12},"Sanciones extemporaneidad",1,30,{"$f":"(P298=Parametros[Segmento])*(Q298>0)*(R298>0)","v":0}]
[null,{"$f":"+B291","v":"Total número de datos suministrados de forma extemporánea (sin cuantía)"},{"$f":"+C291","v":0},{"$nulls":12},"Sanciones extemporaneidad",1,30,{"$f":"(P299=Parametros[Segmento])*(Q299>0)*(R299>0)","v":0}]
[null,"Factor multiplicador extemporaneidad","0.5 UVT",{"$nulls":12},"Sanciones extemporaneidad",1,30,{"$f":"(P300=Parametros[Segmento])*(Q300>0)*(R300>0)","v":0}]
[null,"Subtotal",{"$f":"+ROUND(IF(C299>0,(C299*UVT_2023)/2,0),-3)","v":0},{"$nulls":12},"Sanciones extemporaneidad",1,30,{"$f":"(P301=Parametros[Segmento])*(Q301>0)*(R301>0)","v":0}]
[null,"Valor total sanción inicial",{"$f":"+C297+C301","v":0},{"$nulls":12},"Sanciones extemporaneidad",1,30,{"$f":"(P302=Parametros[Segmento])*(Q302>0)*(R302>0)","v":0}]
[null,"Límite aplicables a la sanción:",{"$nulls":13},"Sanciones extemporaneidad",1,30,{"$f":"(P303=Parametros[Segmento])*(Q303>0)*(R303>0)","v":0}]
[null,"La sanción no puede ser mayor al quivalente de 7.500 UVT:",{"$f":"IF(C273=\"Sí\",(7500*UVT_2023),0)","v":0},{"$nulls":12},"Sanciones extemporaneidad",1,30,{"$f":"(P304=Parametros[Segmento])*(Q304>0)*(R304>0)","v":0}]
[null,"La sanción no puede ser inferior a la mínima señalada en el artículo 639 del ET, esto es:",{"$f":"IF(C273=\"Sí\",ROUND(UVT_2023*10,-3),)","v":0},{"$nulls":12},"Sanciones extemporaneidad",1,30,{"$f":"(P305=Parametros[Segmento])*(Q305>0)*(R305>0)","v":0}]
[null,"Sanción a pagar antes de reducciones",{"$f":"IF(C302>0,IF(C302>C305,IF(C302<=C304,C302,C304),C305),0)","v":0},{"$nulls":12},"Sanciones extemporaneidad",1,30,{"$f":"(P306=Parametros[Segmento])*(Q306>0)*(R306>0)","v":0}]
[{"$nulls":15},"Sanciones extemporaneidad",1,30,{"$f":"(P307=Parametros[Segmento])*(Q307>0)*(R307>0)","v":0}]
[null,"Reducciones a las sanciones permitidas por el artículo 651 del ET",{"$nulls":13},"Sanciones extemporaneidad",1,30,{"$f":"(P308=Parametros[Segmento])*(Q308>0)*(R308>0)","v":0}]
[null,"¿La sanción será subsanada de forma voluntaria por el contribuyente antes de recibir pliego de cargos por parte de la DIAN?",{"$nulls":13},"Sanciones extemporaneidad",1,40,{"$f":"(P309=Parametros[Segmento])*(Q309>0)*(R309>0)","v":0}]
[null,"¿La sanción será subsanada antes de que se notifique la imposición de la sanción por parte de la DIAN?",{"$nulls":13},"Sanciones extemporaneidad",{"$f":"IF(C309=\"No\",1,0)","v":0},30,{"$f":"(P310=Parametros[Segmento])*(Q310>0)*(R310>0)","v":0}]
[null,"¿La sanción será subsanada dentro de los dos (2) meses siguientes a la fecha en que se notificó la imposición de la sanción por parte de la DIAN?",{"$nulls":13},"Sanciones extemporaneidad",{"$f":"IF(C310=\"No\",Q310,0)","v":0},30,{"$f":"(P311=Parametros[Segmento])*(Q311>0)*(R311>0)","v":0}]
[null,"Resumen",{"$nulls":13},"Sanciones extemporaneidad",1,30,{"$f":"(P312=Parametros[Segmento])*(Q312>0)*(R312>0)","v":0}]
[null,"Valor de la sanción calculado inicialmente ",{"$f":"+C306","v":0},{"$nulls":12},"Sanciones extemporaneidad",1,30,{"$f":"(P313=Parametros[Segmento])*(Q313>0)*(R313>0)","v":0}]
[null,"¿Aplica reducción de la sanción al 10%?",{"$f":"+IF(C309=\"Sí\",\"Sí\",\"No aplica\")","v":"No aplica"},{"$nulls":12},"Sanciones extemporaneidad",1,30,{"$f":"(P314=Parametros[Segmento])*(Q314>0)*(R314>0)","v":0}]
[null,"¿Aplica reducción de la sanción al 50%? ",{"$f":"+IF(C314=\"Sí\",\"No aplica\",IF(C310=\"Sí\",\"Sí\",\"No aplica\"))","v":"No aplica"},{"$nulls":12},"Sanciones extemporaneidad",1,30,{"$f":"(P315=Parametros[Segmento])*(Q315>0)*(R315>0)","v":0}]
[null,"¿Aplica reducción de la sanción al 70%? ",{"$f":"+IF(OR(C314=\"Sí\",C315=\"Sí\"),\"No aplica\",IF(C311=\"Sí\",\"Sí\",\"No aplica\"))","v":"No aplica"},{"$nulls":12},"Sanciones extemporaneidad",1,30,{"$f":"(P316=Parametros[Segmento])*(Q316>0)*(R316>0)","v":0}]
[null,"Valor de la sanción reducida ",{"$f":"ROUND(IF(C314=\"Sí\",(C313*10%),IF(C315=\"Sí\",(C313*50%),IF(C316=\"Sí\",(C313*70%),C313))),-3)","v":0},{"$nulls":12},"Sanciones extemporaneidad",1,30,{"$f":"(P317=Parametros[Segmento])*(Q317>0)*(R317>0)","v":0}]
[null,"Valor de la sanción reducida a pagar ",{"$f":"ROUND(IF(C313>0,IF(C317>(UVT_2023*10),C317,(UVT_2023*10)),0),-3)","v":0},{"$nulls":12},"Sanciones extemporaneidad",1,30,{"$f":"(P318=Parametros[Segmento])*(Q318>0)*(R318>0)","v":0}]
[{"$nulls":15},"Sanciones extemporaneidad",1,30,{"$f":"(P319=Parametros[Segmento])*(Q319>0)*(R319>0)","v":0}]
[null,"Reducción de la sanción aplicando el artículo 640 del ET liquidada voluntariamente por el contribuyente ",{"$nulls":13},"Sanciones extemporaneidad",{"$f":"IF($C$318>424000,1,0)","v":0},40,{"$f":"(P320=Parametros[Segmento])*(Q320>0)*(R320>0)","v":0}]
[null,"¿La sanción es liquidada por el contribuyente?",{"$nulls":13},"Sanciones extemporaneidad",{"$f":"IF(C318>424000,1,0)","v":0},40,{"$f":"(P321=Parametros[Segmento])*(Q321>0)*(R321>0)","v":0}]
[null,"¿En los dos años anteriores a la generación de esta sanción por extemporaneidad, \nel contribuyente incurrió en la misma conducta sancionable?",{"$nulls":13},"Sanciones extemporaneidad",{"$f":"IF(C321=\"Sí\",$Q$321,0)","v":0},40,{"$f":"(P322=Parametros[Segmento])*(Q322>0)*(R322>0)","v":0}]
[null,"¿En el año anterior a la generación de esta sanción por extemporaneidad, el contribuyente incurrió en la misma conducta sancionable?",{"$nulls":13},"Sanciones extemporaneidad",{"$f":"IF(C322=\"Sí\",Q322,0)","v":0},40,{"$f":"(P323=Parametros[Segmento])*(Q323>0)*(R323>0)","v":0}]
[null,"¿La DIAN ha proferido pliego de cargos, requerimiento especial o emplazamiento previo por no declarar?",{"$nulls":13},"Sanciones extemporaneidad",{"$f":"IF(C321=\"Sí\",Q321,0)","v":0},40,{"$f":"(P324=Parametros[Segmento])*(Q324>0)*(R324>0)","v":0}]
[null,"Resumen",{"$nulls":13},"Sanciones extemporaneidad",{"$f":"IF($C$321=\"Sí\",$Q$321,0)","v":0},30,{"$f":"(P325=Parametros[Segmento])*(Q325>0)*(R325>0)","v":0}]
[null,"Valor de la sanción calculado inicialmente ",{"$f":"IF(C321=\"Sí\",C318,0)","v":0},{"$nulls":12},"Sanciones extemporaneidad",0,30,{"$f":"(P326=Parametros[Segmento])*(Q326>0)*(R326>0)","v":0}]
[null,"¿Aplica reducción de la sanción al 50%? ",{"$f":"+IF(AND(C321=\"Sí\",C322<>\"Sí\",C324<>\"Sí\"),\"Sí\",\"No aplica\")","v":"No aplica"},{"$nulls":12},"Sanciones extemporaneidad",0,30,{"$f":"(P327=Parametros[Segmento])*(Q327>0)*(R327>0)","v":0}]
[null,"¿Aplica reducción de la sanción al 75%? ",{"$f":"+IF(C327=\"Sí\",\"No aplica\",IF(AND(C321=\"Sí\",C323<>\"Sí\",C324<>\"Sí\"),\"Sí\",\"No aplica\"))","v":"No aplica"},{"$nulls":12},"Sanciones extemporaneidad",0,30,{"$f":"(P328=Parametros[Segmento])*(Q328>0)*(R328>0)","v":0}]
[null,"Valor de la sanción reducida ",{"$f":"ROUND(IF(C327=\"Sí\",(C326*50%),IF(C328=\"Sí\",(C326*75%),C326)),-3)","v":0},{"$nulls":12},"Sanciones extemporaneidad",0,30,{"$f":"(P329=Parametros[Segmento])*(Q329>0)*(R329>0)","v":0}]
[null,"Valor de la sanción reducida a pagar ",{"$f":"IF(C321=\"Sí\",ROUND(IF(C326>0,IF(C329>(UVT_2023*10),C329,(UVT_2023*10)),0),-3),0)","v":0},{"$nulls":12},"Sanciones extemporaneidad",0,30,{"$f":"(P330=Parametros[Segmento])*(Q330>0)*(R330>0)","v":0}]
[null,"Reducción de la sanción aplicando el artículo 640 del ET liquidada por la DIAN",{"$nulls":13},"Sanciones extemporaneidad",{"$f":"IF($C$321=\"No\",$Q$321,0)","v":0},30,{"$f":"(P331=Parametros[Segmento])*(Q331>0)*(R331>0)","v":0}]
[null,"¿La sanción fue propuesta o determinada por la DIAN?",{"$nulls":13},"Sanciones extemporaneidad",{"$f":"IF($C$321=\"No\",$Q$321,0)","v":0},30,{"$f":"(P332=Parametros[Segmento])*(Q332>0)*(R332>0)","v":0}]
[null,"¿Dentro de los cuatro (4) años anteriores a la generación de esta sanción por extemporaneidad, el contribuyente incurrió en la misma conducta sancionable, y esta fue sancionada mediante acto administrativo en firme?",{"$nulls":13},"Sanciones extemporaneidad",{"$f":"IF(C332=\"Sí\",Q332,0)","v":0},60,{"$f":"(P333=Parametros[Segmento])*(Q333>0)*(R333>0)","v":0}]
[null,"¿Dentro de los dos (2) años anteriores a la generación de esta sanción por extemporaneidad, el contribuyente incurrió en la misma conducta sancionable, y esta fue sancionada mediante acto administrativo en firme?",{"$nulls":13},"Sanciones extemporaneidad",{"$f":"IF(C333=\"Sí\",Q333,0)","v":0},60,{"$f":"(P334=Parametros[Segmento])*(Q334>0)*(R334>0)","v":0}]
[null,"¿La sanción es aceptada y la infracción subsanada por el contribuyente, de acuerdo con lo establecido en el tipo sancionatorio correspondiente?",{"$nulls":13},"Sanciones extemporaneidad",{"$f":"IF(C332=\"Sí\",Q332,0)","v":0},40,{"$f":"(P335=Parametros[Segmento])*(Q335>0)*(R335>0)","v":0}]
[null,"Resumen",{"$nulls":13},"Sanciones extemporaneidad",{"$f":"$Q$331","v":0},30,{"$f":"(P336=Parametros[Segmento])*(Q336>0)*(R336>0)","v":0}]
[null,"Valor de la sanción calculado inicialmente ",{"$f":"IF(C332=\"Sí\",C318,0)","v":0},{"$nulls":12},"Sanciones extemporaneidad",{"$f":"$Q$331","v":0},30,{"$f":"(P337=Parametros[Segmento])*(Q337>0)*(R337>0)","v":0}]
[null,"¿Aplica reducción de la sanción al 50%? ",{"$f":"+IF(AND(C332=\"Sí\",C333<>\"Sí\",C335<>\"No\"),\"Sí\",\"No aplica\")","v":"No aplica"},{"$nulls":12},"Sanciones extemporaneidad",0,30,{"$f":"(P338=Parametros[Segmento])*(Q338>0)*(R338>0)","v":0}]
[null,"¿Aplica reducción de la sanción al 75%? ",{"$f":"+IF(C338=\"Sí\",\"No aplica\",IF(AND(C332=\"Sí\",C334<>\"Sí\",C335<>\"No\"),\"Sí\",\"No aplica\"))","v":"No aplica"},{"$nulls":12},"Sanciones extemporaneidad",0,30,{"$f":"(P339=Parametros[Segmento])*(Q339>0)*(R339>0)","v":0}]
[null,"Valor de la sanción reducida ",{"$f":"ROUND(IF(C338=\"Sí\",(C337*50%),IF(C339=\"Sí\",(C337*75%),C337)),-3)","v":0},{"$nulls":12},"Sanciones extemporaneidad",0,30,{"$f":"(P340=Parametros[Segmento])*(Q340>0)*(R340>0)","v":0}]
[null,"Valor de la sanción reducida a pagar ",{"$f":"IF(C332=\"Sí\",ROUND(IF(C337>0,IF(C340>(UVT_2023*10),C340,(UVT_2023*10)),0),-3),0)","v":0},{"$nulls":12},"Sanciones extemporaneidad",0,30,{"$f":"(P341=Parametros[Segmento])*(Q341>0)*(R341>0)","v":0}]
[{"$nulls":15},"Sanciones extemporaneidad",0,30,{"$f":"(P342=Parametros[Segmento])*(Q342>0)*(R342>0)","v":0}]
[2.67,85,25.89,25.89,25.89,null,null,10,{"$nulls":7},"Sanción por corrección",0,20,{"$f":"(P343=Parametros[Segmento])*(Q343>0)*(R343>0)","v":0}]
[{"$nulls":15},"Sanción por corrección",1,30,{"$f":"(P344=Parametros[Segmento])*(Q344>0)*(R344>0)","v":0}]
[null,"Datos del contribuyente",{"$nulls":13},"Sanción por corrección",1,30,{"$f":"(P345=Parametros[Segmento])*(Q345>0)*(R345>0)","v":0}]
[null,"¿La información suministrada de forma errónea tiene cuantía?",{"$nulls":13},"Sanción por corrección",1,30,{"$f":"(P346=Parametros[Segmento])*(Q346>0)*(R346>0)","v":0}]
[null,"¿La información suministrada de forma errónea NO tiene cuantía?",{"$nulls":13},"Sanción por corrección",1,30,{"$f":"(P347=Parametros[Segmento])*(Q347>0)*(R347>0)","v":0}]
[{"$nulls":15},"Sanción por corrección",1,30,{"$f":"(P348=Parametros[Segmento])*(Q348>0)*(R348>0)","v":0}]
[null,"Descripción del dato y/o formato","Total valores reportados de forma errónea","Total valores que se debían reportar","Diferencia",{"$nulls":10},"Sanción por corrección",{"$f":"IF($C$346=\"Sí\",1,0)","v":0},40,{"$f":"(P349=Parametros[Segmento])*(Q349>0)*(R349>0)","v":0}]
[{"$nulls":4},{"$f":"+IF(D350>C350,D350-C350,IF(C350>D350,C350-D350,0))","v":0},{"$nulls":9},{"$f":"IF($C$346=\"Sí\",SUBSTITUTE($C$349,CHAR(10),\"\"),\"\")","v":""},"Sanción por corrección",{"$f":"IF($C$346=\"Sí\",(O350=OFFSET(O350,1,0))*1,0)","v":0},30,{"$f":"(P350=Parametros[Segmento])*(Q350>0)*(R350>0)","v":0}]
[{"$nulls":4},{"$f":"+IF(D351>C351,D351-C351,IF(C351>D351,C351-D351,0))","v":0},{"$nulls":9},{"$f":"IF($C$346=\"Sí\",SUBSTITUTE($C$349,CHAR(10),\"\"),\"\")","v":""},"Sanción por corrección",{"$f":"IF($C$346=\"Sí\",(O351=OFFSET(O351,1,0))*1,0)","v":0},30,{"$f":"(P351=Parametros[Segmento])*(Q351>0)*(R351>0)","v":0}]
[{"$nulls":4},{"$f":"+IF(D352>C352,D352-C352,IF(C352>D352,C352-D352,0))","v":0},{"$nulls":9},{"$f":"IF($C$346=\"Sí\",SUBSTITUTE($C$349,CHAR(10),\"\"),\"\")","v":""},"Sanción por corrección",{"$f":"IF($C$346=\"Sí\",(O352=OFFSET(O352,1,0))*1,0)","v":0},30,{"$f":"(P352=Parametros[Segmento])*(Q352>0)*(R352>0)","v":0}]
[{"$nulls":4},{"$f":"+IF(D353>C353,D353-C353,IF(C353>D353,C353-D353,0))","v":0},{"$nulls":9},{"$f":"IF($C$346=\"Sí\",SUBSTITUTE($C$349,CHAR(10),\"\"),\"\")","v":""},"Sanción por corrección",{"$f":"IF($C$346=\"Sí\",(O353=OFFSET(O353,1,0))*1,0)","v":0},30,{"$f":"(P353=Parametros[Segmento])*(Q353>0)*(R353>0)","v":0}]
[{"$nulls":14},{"$f":"IF($C$346=\"Sí\",SUBSTITUTE($C$349,CHAR(10),\"\"),\"\")","v":""},"Sanción por corrección",{"$f":"IF($C$346=\"Sí\",(O354=OFFSET(O354,1,0))*1,0)","v":0},30,{"$f":"(P354=Parametros[Segmento])*(Q354>0)*(R354>0)","v":0}]
[null,"Total valores reportados de forma errónea",null,null,{"$f":"IF($C$346=\"Sí\",SUM(E350:E354),0)","v":0},{"$nulls":10},"Sanción por corrección",{"$f":"IF($C$346=\"Sí\",1,0)","v":0},30,{"$f":"(P355=Parametros[Segmento])*(Q355>0)*(R355>0)","v":0}]
[{"$nulls":15},"Sanción por corrección",{"$f":"IF($C$346=\"Sí\",1,0)","v":0},30,{"$f":"(P356=Parametros[Segmento])*(Q356>0)*(R356>0)","v":0}]
[null,"Descripción del dato y/o formato","Número de datos suministrados de forma errónea (sin cuantía)",{"$nulls":12},"Sanción por corrección",{"$f":"IF($C$347=\"Sí\",1,0)","v":0},50,{"$f":"(P357=Parametros[Segmento])*(Q357>0)*(R357>0)","v":0}]
[{"$nulls":14},{"$f":"IF($C$347=\"Sí\",SUBSTITUTE($C$357,CHAR(10),\"\"),\"\")","v":""},"Sanción por corrección",{"$f":"IF($C$347=\"Sí\",(O358=OFFSET(O358,1,0))*1,0)","v":0},30,{"$f":"(P358=Parametros[Segmento])*(Q358>0)*(R358>0)","v":0}]
[{"$nulls":14},{"$f":"IF($C$347=\"Sí\",SUBSTITUTE($C$357,CHAR(10),\"\"),\"\")","v":""},"Sanción por corrección",{"$f":"IF($C$347=\"Sí\",(O359=OFFSET(O359,1,0))*1,0)","v":0},30,{"$f":"(P359=Parametros[Segmento])*(Q359>0)*(R359>0)","v":0}]
[{"$nulls":14},{"$f":"IF($C$347=\"Sí\",SUBSTITUTE($C$357,CHAR(10),\"\"),\"\")","v":""},"Sanción por corrección",{"$f":"IF($C$347=\"Sí\",(O360=OFFSET(O360,1,0))*1,0)","v":0},30,{"$f":"(P360=Parametros[Segmento])*(Q360>0)*(R360>0)","v":0}]
[{"$nulls":14},{"$f":"IF($C$347=\"Sí\",SUBSTITUTE($C$357,CHAR(10),\"\"),\"\")","v":""},"Sanción por corrección",{"$f":"IF($C$347=\"Sí\",(O361=OFFSET(O361,1,0))*1,0)","v":0},30,{"$f":"(P361=Parametros[Segmento])*(Q361>0)*(R361>0)","v":0}]
[{"$nulls":14},{"$f":"IF($C$347=\"Sí\",SUBSTITUTE($C$357,CHAR(10),\"\"),\"\")","v":""},"Sanción por corrección",{"$f":"IF($C$347=\"Sí\",(O362=OFFSET(O362,1,0))*1,0)","v":0},30,{"$f":"(P362=Parametros[Segmento])*(Q362>0)*(R362>0)","v":0}]
[null,"Total número de datos suministrados de forma errónea (sin cuantía)",{"$f":"IF($C$347=\"Sí\",SUM(C358:C362),0)","v":0},{"$nulls":12},"Sanción por corrección",{"$f":"IF($C$347=\"Sí\",1,0)","v":0},30,{"$f":"(P363=Parametros[Segmento])*(Q363>0)*(R363>0)","v":0}]
[{"$nulls":15},"Sanción por corrección",{"$f":"IF($C$347=\"Sí\",1,0)","v":0},30,{"$f":"(P364=Parametros[Segmento])*(Q364>0)*(R364>0)","v":0}]
[null,"Cálculo de la sanción por envío de información errónea",{"$nulls":13},"Sanción por corrección",1,30,{"$f":"(P365=Parametros[Segmento])*(Q365>0)*(R365>0)","v":0}]
[null,"Sanción calculada sobre información con cuantía","Total ",{"$nulls":12},"Sanción por corrección",1,30,{"$f":"(P366=Parametros[Segmento])*(Q366>0)*(R366>0)","v":0}]
[null,{"$f":"+B355","v":"Total valores reportados de forma errónea"},{"$f":"+E355","v":0},{"$nulls":12},"Sanción por corrección",1,30,{"$f":"(P367=Parametros[Segmento])*(Q367>0)*(R367>0)","v":0}]
[null,"Porcentaje sanción por envío de información errónea",{"v":0.007,"d":"0.7%"},{"$nulls":12},"Sanción por corrección",1,30,{"$f":"(P368=Parametros[Segmento])*(Q368>0)*(R368>0)","v":0}]
[null,"Subtotal",{"$f":"ROUND(C367*C368,-3)","v":0},{"$nulls":12},"Sanción por corrección",1,30,{"$f":"(P369=Parametros[Segmento])*(Q369>0)*(R369>0)","v":0}]
[null,"Sanción calculada sobre información sín cuantía","Total ",{"$nulls":12},"Sanción por corrección",1,30,{"$f":"(P370=Parametros[Segmento])*(Q370>0)*(R370>0)","v":0}]
[null,{"$f":"+B363","v":"Total número de datos suministrados de forma errónea (sin cuantía)"},{"$f":"+C363","v":0},{"$nulls":12},"Sanción por corrección",1,30,{"$f":"(P371=Parametros[Segmento])*(Q371>0)*(R371>0)","v":0}]
[null,"Factor multiplicador","0.5 UVT",{"$nulls":12},"Sanción por corrección",1,30,{"$f":"(P372=Parametros[Segmento])*(Q372>0)*(R372>0)","v":0}]
[null,"Subtotal",{"$f":"+ROUND(IF(C371>0,(C371*UVT_2023)/2,0),-3)","v":0},{"$nulls":12},"Sanción por corrección",1,30,{"$f":"(P373=Parametros[Segmento])*(Q373>0)*(R373>0)","v":0}]
[null,"Valor total sanción inicial",{"$f":"+C369+C373","v":0},{"$nulls":12},"Sanción por corrección",1,30,{"$f":"(P374=Parametros[Segmento])*(Q374>0)*(R374>0)","v":0}]
[null,"Límite aplicables a la sanción:",{"$nulls":13},"Sanción por corrección",1,30,{"$f":"(P375=Parametros[Segmento])*(Q375>0)*(R375>0)","v":0}]
[null,"La sanción no puede ser mayor al quivalente de 7.500 UVT:",{"$f":"IF(OR(C367>0,C371>0),(7500*UVT_2023),0)","v":0},{"$nulls":12},"Sanción por corrección",1,30,{"$f":"(P376=Parametros[Segmento])*(Q376>0)*(R376>0)","v":0}]
[null,"La sanción no puede ser inferior a la mínima señalada en el artículo 639 del ET, esto es:",{"$f":"IF(OR(C367>0,C371>0),ROUND(UVT_2023*10,-3),0)","v":0},{"$nulls":12},"Sanción por corrección",1,30,{"$f":"(P377=Parametros[Segmento])*(Q377>0)*(R377>0)","v":0}]
[null,"Sanción a pagar antes de reducciones",{"$f":"IF(C374>0,IF(C374>C377,IF(C374<=C376,C374,C376),C377),0)","v":0},{"$nulls":12},"Sanción por corrección",1,30,{"$f":"(P378=Parametros[Segmento])*(Q378>0)*(R378>0)","v":0}]
[{"$nulls":15},"Sanción por corrección",1,30,{"$f":"(P379=Parametros[Segmento])*(Q379>0)*(R379>0)","v":0}]
[null,"Reducciones a las sanciones permitidas por el artículo 651 del ET",{"$nulls":13},"Sanción por corrección",1,30,{"$f":"(P380=Parametros[Segmento])*(Q380>0)*(R380>0)","v":0}]
[null,"¿La sanción será subsanada de forma voluntaria por el contribuyente antes de recibir pliego de cargos por parte de la DIAN?",{"$nulls":13},"Sanción por corrección",1,40,{"$f":"(P381=Parametros[Segmento])*(Q381>0)*(R381>0)","v":0}]
[null,"¿La sanción será subsanada antes de que se notifique la imposición de la sanción por parte de la DIAN?",{"$nulls":13},"Sanción por corrección",{"$f":"IF(C381=\"No\",1,0)","v":0},30,{"$f":"(P382=Parametros[Segmento])*(Q382>0)*(R382>0)","v":0}]
[null,"¿La sanción será subsanada dentro de los dos (2) meses siguientes a la fecha en que se notificó la imposición de la sanción por parte de la DIAN?",{"$nulls":13},"Sanción por corrección",{"$f":"IF(C382=\"No\",Q382,0)","v":0},30,{"$f":"(P383=Parametros[Segmento])*(Q383>0)*(R383>0)","v":0}]
[null,"Resumen",{"$nulls":13},"Sanción por corrección",1,30,{"$f":"(P384=Parametros[Segmento])*(Q384>0)*(R384>0)","v":0}]
[null,"Valor de la sanción calculado inicialmente ",{"$f":"+C378","v":0},{"$nulls":12},"Sanción por corrección",1,30,{"$f":"(P385=Parametros[Segmento])*(Q385>0)*(R385>0)","v":0}]
[null,"¿Aplica reducción de la sanción al 10%?",{"$f":"+IF(C381=\"Sí\",\"Sí\",\"No aplica\")","v":"No aplica"},{"$nulls":12},"Sanción por corrección",1,30,{"$f":"(P386=Parametros[Segmento])*(Q386>0)*(R386>0)","v":0}]
[null,"¿Aplica reducción de la sanción al 50%? ",{"$f":"+IF(C386=\"Sí\",\"No aplica\",IF(C382=\"Sí\",\"Sí\",\"No aplica\"))","v":"No aplica"},{"$nulls":12},"Sanción por corrección",1,30,{"$f":"(P387=Parametros[Segmento])*(Q387>0)*(R387>0)","v":0}]
[null,"¿Aplica reducción de la sanción al 70%? ",{"$f":"+IF(OR(C386=\"Sí\",C387=\"Sí\"),\"No aplica\",IF(C383=\"Sí\",\"Sí\",\"No aplica\"))","v":"No aplica"},{"$nulls":12},"Sanción por corrección",1,30,{"$f":"(P388=Parametros[Segmento])*(Q388>0)*(R388>0)","v":0}]
[null,"Valor de la sanción reducida ",{"$f":"ROUND(IF(C386=\"Sí\",(C385*10%),IF(C387=\"Sí\",(C385*50%),IF(C388=\"Sí\",(C385*70%),C385))),-3)","v":0},{"$nulls":12},"Sanción por corrección",1,30,{"$f":"(P389=Parametros[Segmento])*(Q389>0)*(R389>0)","v":0}]
[null,"Valor de la sanción reducida a pagar ",{"$f":"ROUND(IF(C385>0,IF(C389>(UVT_2023*10),C389,(UVT_2023*10)),0),-3)","v":0},{"$nulls":12},"Sanción por corrección",1,30,{"$f":"(P390=Parametros[Segmento])*(Q390>0)*(R390>0)","v":0}]
[{"$nulls":15},"Sanción por corrección",1,30,{"$f":"(P391=Parametros[Segmento])*(Q391>0)*(R391>0)","v":0}]
[null,"Reducción de la sanción aplicando el artículo 640 del ET liquidada voluntariamente por el contribuyente ",{"$nulls":13},"Sanción por corrección",{"$f":"IF($C$390>424000,1,0)","v":0},40,{"$f":"(P392=Parametros[Segmento])*(Q392>0)*(R392>0)","v":0}]
[null,"¿La sanción es liquidada por el contribuyente?",{"$nulls":13},"Sanción por corrección",{"$f":"IF(C390>424000,1,0)","v":0},40,{"$f":"(P393=Parametros[Segmento])*(Q393>0)*(R393>0)","v":0}]
[null,"¿En los dos años anteriores a la generación de esta sanción por extemporaneidad, \nel contribuyente incurrió en la misma conducta sancionable?",{"$nulls":13},"Sanción por corrección",{"$f":"IF(C393=\"Sí\",$Q$393,0)","v":0},40,{"$f":"(P394=Parametros[Segmento])*(Q394>0)*(R394>0)","v":0}]
[null,"¿En el año anterior a la generación de esta sanción por extemporaneidad, el contribuyente incurrió en la misma conducta sancionable?",{"$nulls":13},"Sanción por corrección",{"$f":"IF(C394=\"Sí\",Q394,0)","v":0},40,{"$f":"(P395=Parametros[Segmento])*(Q395>0)*(R395>0)","v":0}]
[null,"¿La DIAN ha proferido pliego de cargos, requerimiento especial o emplazamiento previo por no declarar?",{"$nulls":13},"Sanción por corrección",{"$f":"IF(C393=\"Sí\",Q393,0)","v":0},40,{"$f":"(P396=Parametros[Segmento])*(Q396>0)*(R396>0)","v":0}]
[null,"Resumen",{"$nulls":13},"Sanción por corrección",{"$f":"IF($C$393=\"Sí\",$Q$393,0)","v":0},30,{"$f":"(P397=Parametros[Segmento])*(Q397>0)*(R397>0)","v":0}]
[null,"Valor de la sanción calculado inicialmente ",{"$f":"IF(C393=\"Sí\",C390,0)","v":0},{"$nulls":12},"Sanción por corrección",0,30,{"$f":"(P398=Parametros[Segmento])*(Q398>0)*(R398>0)","v":0}]
[null,"¿Aplica reducción de la sanción al 50%? ",{"$f":"+IF(AND(C393=\"Sí\",C394<>\"Sí\",C396<>\"Sí\"),\"Sí\",\"No aplica\")","v":"No aplica"},{"$nulls":12},"Sanción por corrección",0,30,{"$f":"(P399=Parametros[Segmento])*(Q399>0)*(R399>0)","v":0}]
[null,"¿Aplica reducción de la sanción al 75%? ",{"$f":"+IF(C399=\"Sí\",\"No aplica\",IF(AND(C393=\"Sí\",C395<>\"Sí\",C396<>\"Sí\"),\"Sí\",\"No aplica\"))","v":"No aplica"},{"$nulls":12},"Sanción por corrección",0,30,{"$f":"(P400=Parametros[Segmento])*(Q400>0)*(R400>0)","v":0}]
[null,"Valor de la sanción reducida ",{"$f":"ROUND(IF(C399=\"Sí\",(C398*50%),IF(C400=\"Sí\",(C398*75%),C398)),-3)","v":0},{"$nulls":12},"Sanción por corrección",0,30,{"$f":"(P401=Parametros[Segmento])*(Q401>0)*(R401>0)","v":0}]
[null,"Valor de la sanción reducida a pagar ",{"$f":"IF(C393=\"Sí\",ROUND(IF(C398>0,IF(C401>(UVT_2023*10),C401,(UVT_2023*10)),0),-3),0)","v":0},{"$nulls":12},"Sanción por corrección",0,30,{"$f":"(P402=Parametros[Segmento])*(Q402>0)*(R402>0)","v":0}]
[null,"Reducción de la sanción aplicando el artículo 640 del ET liquidada por la DIAN",{"$nulls":13},"Sanción por corrección",{"$f":"($C$390>424000)*($C$393=\"No\")","v":0},30,{"$f":"(P403=Parametros[Segmento])*(Q403>0)*(R403>0)","v":0}]
[null,"¿La sanción fue propuesta o determinada por la DIAN?",{"$nulls":13},"Sanción por corrección",{"$f":"($C$390>424000)*($C$393=\"No\")","v":0},30,{"$f":"(P404=Parametros[Segmento])*(Q404>0)*(R404>0)","v":0}]
[null,"¿Dentro de los cuatro (4) años anteriores a la generación de esta sanción por extemporaneidad, el contribuyente incurrió en la misma conducta sancionable, y esta fue sancionada mediante acto administrativo en firme?",{"$nulls":13},"Sanción por corrección",{"$f":"IF(C404=\"Sí\",Q404,0)","v":0},60,{"$f":"(P405=Parametros[Segmento])*(Q405>0)*(R405>0)","v":0}]
[null,"¿Dentro de los dos (2) años anteriores a la generación de esta sanción por extemporaneidad, el contribuyente incurrió en la misma conducta sancionable, y esta fue sancionada mediante acto administrativo en firme?",{"$nulls":13},"Sanción por corrección",{"$f":"IF(C405=\"Sí\",Q405,0)","v":0},60,{"$f":"(P406=Parametros[Segmento])*(Q406>0)*(R406>0)","v":0}]
[null,"¿La sanción es aceptada y la infracción subsanada por el contribuyente, de acuerdo con lo establecido en el tipo sancionatorio correspondiente?",{"$nulls":13},"Sanción por corrección",{"$f":"IF(C404=\"Sí\",Q404,0)","v":0},40,{"$f":"(P407=Parametros[Segmento])*(Q407>0)*(R407>0)","v":0}]
[null,"Resumen",{"$nulls":13},"Sanción por corrección",{"$f":"$Q$403","v":0},30,{"$f":"(P408=Parametros[Segmento])*(Q408>0)*(R408>0)","v":0}]
[null,"Valor de la sanción calculado inicialmente ",{"$f":"IF(C404=\"Sí\",C390,0)","v":0},{"$nulls":12},"Sanción por corrección",{"$f":"$Q$403","v":0},30,{"$f":"(P409=Parametros[Segmento])*(Q409>0)*(R409>0)","v":0}]
[null,"¿Aplica reducción de la sanción al 50%? ",{"$f":"+IF(AND(C404=\"Sí\",C405<>\"Sí\",C407<>\"No\"),\"Sí\",\"No aplica\")","v":"No aplica"},{"$nulls":12},"Sanción por corrección",0,30,{"$f":"(P410=Parametros[Segmento])*(Q410>0)*(R410>0)","v":0}]
[null,"¿Aplica reducción de la sanción al 75%? ",{"$f":"+IF(C410=\"Sí\",\"No aplica\",IF(AND(C404=\"Sí\",C406<>\"Sí\",C407<>\"No\"),\"Sí\",\"No aplica\"))","v":"No aplica"},{"$nulls":12},"Sanción por corrección",0,30,{"$f":"(P411=Parametros[Segmento])*(Q411>0)*(R411>0)","v":0}]
[null,"Valor de la sanción reducida ",{"$f":"ROUND(IF(C410=\"Sí\",(C409*50%),IF(C411=\"Sí\",(C409*75%),C409)),-3)","v":0},{"$nulls":12},"Sanción por corrección",0,30,{"$f":"(P412=Parametros[Segmento])*(Q412>0)*(R412>0)","v":0}]
[null,"Valor de la sanción reducida a pagar ",{"$f":"IF(C404=\"Sí\",ROUND(IF(C409>0,IF(C412>(UVT_2023*10),C412,(UVT_2023*10)),0),-3),0)","v":0},{"$nulls":12},"Sanción por corrección",0,30,{"$f":"(P413=Parametros[Segmento])*(Q413>0)*(R413>0)","v":0}]
[{"$nulls":15},"Sanción por corrección",0,30,{"$f":"(P414=Parametros[Segmento])*(Q414>0)*(R414>0)","v":0}]
[6.78,85,25.89,5.89,10,{"$nulls":10},"Sanción no envío info",0,20,{"$f":"(P415=Parametros[Segmento])*(Q415>0)*(R415>0)","v":0}]
[{"$nulls":15},"Sanción no envío info",1,30,{"$f":"(P416=Parametros[Segmento])*(Q416>0)*(R416>0)","v":0}]
[null,"Datos del contribuyente",{"$nulls":13},"Sanción no envío info",1,30,{"$f":"(P417=Parametros[Segmento])*(Q417>0)*(R417>0)","v":0}]
[null,"¿La información no suministrada tiene cuantía?",{"$nulls":13},"Sanción no envío info",1,30,{"$f":"(P418=Parametros[Segmento])*(Q418>0)*(R418>0)","v":0}]
[null,"¿La información no suministrada extemporánea NO tiene cuantía?",{"$nulls":13},"Sanción no envío info",1,30,{"$f":"(P419=Parametros[Segmento])*(Q419>0)*(R419>0)","v":0}]
[{"$nulls":15},"Sanción no envío info",1,30,{"$f":"(P420=Parametros[Segmento])*(Q420>0)*(R420>0)","v":0}]
[null,"Descripción del dato y/o formato","Total valores NO reportados",{"$nulls":12},"Sanción no envío info",{"$f":"IF($C$418=\"Sí\",1,0)","v":0},40,{"$f":"(P421=Parametros[Segmento])*(Q421>0)*(R421>0)","v":0}]
[{"$nulls":14},{"$f":"IF($C$418=\"Sí\",SUBSTITUTE($C$421,CHAR(10),\"\"),\"\")","v":""},"Sanción no envío info",{"$f":"IF($C$418=\"Sí\",(O422=OFFSET(O422,1,0))*1,0)","v":0},30,{"$f":"(P422=Parametros[Segmento])*(Q422>0)*(R422>0)","v":0}]
[{"$nulls":14},"","Sanción no envío info",0,30,{"$f":"(P423=Parametros[Segmento])*(Q423>0)*(R423>0)","v":0}]
[{"$nulls":14},"","Sanción no envío info",0,30,{"$f":"(P424=Parametros[Segmento])*(Q424>0)*(R424>0)","v":0}]
[{"$nulls":14},"","Sanción no envío info",0,30,{"$f":"(P425=Parametros[Segmento])*(Q425>0)*(R425>0)","v":0}]
[{"$nulls":14},"","Sanción no envío info",0,30,{"$f":"(P426=Parametros[Segmento])*(Q426>0)*(R426>0)","v":0}]
[{"$nulls":14},"","Sanción no envío info",0,30,{"$f":"(P427=Parametros[Segmento])*(Q427>0)*(R427>0)","v":0}]
[null,"Total valores no reportados",{"$f":"IF($C$418=\"Sí\",SUM(C422:C427),0)","v":0},{"$nulls":12},"Sanción no envío info",{"$f":"IF($C$418=\"Sí\",1,0)","v":0},30,{"$f":"(P428=Parametros[Segmento])*(Q428>0)*(R428>0)","v":0}]
[{"$nulls":15},"Sanción no envío info",{"$f":"IF($C$418=\"Sí\",1,0)","v":0},30,{"$f":"(P429=Parametros[Segmento])*(Q429>0)*(R429>0)","v":0}]
[null,"Descripción del dato y/o formato","Número de datos NO suministrados (sin cuantía)",{"$nulls":12},"Sanción no envío info",{"$f":"IF($C$419=\"Sí\",1,0)","v":0},40,{"$f":"(P430=Parametros[Segmento])*(Q430>0)*(R430>0)","v":0}]
[{"$nulls":14},{"$f":"IF($C$419=\"Sí\",SUBSTITUTE($C$430,CHAR(10),\"\"),\"\")","v":""},"Sanción no envío info",{"$f":"IF($C$419=\"Sí\",(O431=OFFSET(O431,1,0))*1,0)","v":0},30,{"$f":"(P431=Parametros[Segmento])*(Q431>0)*(R431>0)","v":0}]
[{"$nulls":14},{"$f":"IF($C$419=\"Sí\",SUBSTITUTE($C$430,CHAR(10),\"\"),\"\")","v":""},"Sanción no envío info",{"$f":"IF($C$419=\"Sí\",(O432=OFFSET(O432,1,0))*1,0)","v":0},30,{"$f":"(P432=Parametros[Segmento])*(Q432>0)*(R432>0)","v":0}]
[{"$nulls":14},{"$f":"IF($C$419=\"Sí\",SUBSTITUTE($C$430,CHAR(10),\"\"),\"\")","v":""},"Sanción no envío info",{"$f":"IF($C$419=\"Sí\",(O433=OFFSET(O433,1,0))*1,0)","v":0},30,{"$f":"(P433=Parametros[Segmento])*(Q433>0)*(R433>0)","v":0}]
[{"$nulls":14},{"$f":"IF($C$419=\"Sí\",SUBSTITUTE($C$430,CHAR(10),\"\"),\"\")","v":""},"Sanción no envío info",{"$f":"IF($C$419=\"Sí\",(O434=OFFSET(O434,1,0))*1,0)","v":0},30,{"$f":"(P434=Parametros[Segmento])*(Q434>0)*(R434>0)","v":0}]
[{"$nulls":14},{"$f":"IF($C$419=\"Sí\",SUBSTITUTE($C$430,CHAR(10),\"\"),\"\")","v":""},"Sanción no envío info",{"$f":"IF($C$419=\"Sí\",(O435=OFFSET(O435,1,0))*1,0)","v":0},30,{"$f":"(P435=Parametros[Segmento])*(Q435>0)*(R435>0)","v":0}]
[null,"Total número de datos no reportados (sin cuantía)",{"$f":"IF($C$419=\"Sí\",SUM(C431:C435),0)","v":0},{"$nulls":12},"Sanción no envío info",{"$f":"IF($C$419=\"Sí\",1,0)","v":0},30,{"$f":"(P436=Parametros[Segmento])*(Q436>0)*(R436>0)","v":0}]
[{"$nulls":15},"Sanción no envío info",{"$f":"IF($C$419=\"Sí\",1,0)","v":0},30,{"$f":"(P437=Parametros[Segmento])*(Q437>0)*(R437>0)","v":0}]
[null,"Cálculo de la sanción por no envío de información",{"$nulls":13},"Sanción no envío info",1,30,{"$f":"(P438=Parametros[Segmento])*(Q438>0)*(R438>0)","v":0}]
[null,"Sanción calculada sobre información con cuantía","Total ",{"$nulls":12},"Sanción no envío info",1,30,{"$f":"(P439=Parametros[Segmento])*(Q439>0)*(R439>0)","v":0}]
[null,{"$f":"+B428","v":"Total valores no reportados"},{"$f":"+C428","v":0},{"$nulls":12},"Sanción no envío info",1,30,{"$f":"(P440=Parametros[Segmento])*(Q440>0)*(R440>0)","v":0}]
[null,"Porcentaje sanción información no suministrada",{"v":0.01,"d":"1.0%"},{"$nulls":12},"Sanción no envío info",1,30,{"$f":"(P441=Parametros[Segmento])*(Q441>0)*(R441>0)","v":0}]
[null,"Subtotal",{"$f":"ROUND(C440*C441,-3)","v":0},{"$nulls":12},"Sanción no envío info",1,30,{"$f":"(P442=Parametros[Segmento])*(Q442>0)*(R442>0)","v":0}]
[null,"Sanción calculada sobre información sín cuantía","Total ",{"$nulls":12},"Sanción no envío info",1,30,{"$f":"(P443=Parametros[Segmento])*(Q443>0)*(R443>0)","v":0}]
[null,{"$f":"+B436","v":"Total número de datos no reportados (sin cuantía)"},{"$f":"+C436","v":0},{"$nulls":12},"Sanción no envío info",1,30,{"$f":"(P444=Parametros[Segmento])*(Q444>0)*(R444>0)","v":0}]
[null,"Factor multiplicador","0.5 UVT",{"$nulls":12},"Sanción no envío info",1,30,{"$f":"(P445=Parametros[Segmento])*(Q445>0)*(R445>0)","v":0}]
[null,"Subtotal",{"$f":"+ROUND(IF(C444>0,(C444*UVT_2023)/2,0),-3)","v":0},{"$nulls":12},"Sanción no envío info",1,30,{"$f":"(P446=Parametros[Segmento])*(Q446>0)*(R446>0)","v":0}]
[null,"Valor total sanción inicial",{"$f":"+C442+C446","v":0},{"$nulls":12},"Sanción no envío info",1,30,{"$f":"(P447=Parametros[Segmento])*(Q447>0)*(R447>0)","v":0}]
[null,"Límite aplicables a la sanción:",{"$nulls":13},"Sanción no envío info",1,30,{"$f":"(P448=Parametros[Segmento])*(Q448>0)*(R448>0)","v":0}]
[null,"La sanción no puede ser mayor al quivalente de 7.500 UVT:",{"$f":"IF(OR(C440>0,C444>0),(7500*UVT_2023),0)","v":0},{"$nulls":12},"Sanción no envío info",1,30,{"$f":"(P449=Parametros[Segmento])*(Q449>0)*(R449>0)","v":0}]
[null,"La sanción no puede ser inferior a la mínima señalada en el artículo 639 del ET, esto es:",{"$f":"IF(OR(C440>0,C444>0),ROUND(UVT_2023*10,-3),0)","v":0},{"$nulls":12},"Sanción no envío info",1,30,{"$f":"(P450=Parametros[Segmento])*(Q450>0)*(R450>0)","v":0}]
[null,"Sanción a pagar antes de reducciones",{"$f":"IF(C447>0,IF(C447>C450,IF(C447<=C449,C447,C449),C450),0)","v":0},{"$nulls":12},"Sanción no envío info",1,30,{"$f":"(P451=Parametros[Segmento])*(Q451>0)*(R451>0)","v":0}]
[{"$nulls":15},"Sanción no envío info",1,30,{"$f":"(P452=Parametros[Segmento])*(Q452>0)*(R452>0)","v":0}]
[null,"Reducciones a las sanciones permitidas por el artículo 651 del ET",{"$nulls":13},"Sanción no envío info",1,30,{"$f":"(P453=Parametros[Segmento])*(Q453>0)*(R453>0)","v":0}]
[null,"¿La sanción será subsanada dentro de los dos (2) meses siguientes a la fecha en que se notificó la imposición de la sanción por parte de la DIAN?",{"$nulls":13},"Sanción no envío info",1,40,{"$f":"(P454=Parametros[Segmento])*(Q454>0)*(R454>0)","v":0}]
[null,"Resumen",{"$nulls":13},"Sanción no envío info",{"$f":"IF($C$454=\"Sí\",1,0)","v":0},30,{"$f":"(P455=Parametros[Segmento])*(Q455>0)*(R455>0)","v":0}]
[null,"Valor de la sanción calculado inicialmente ",{"$f":"+C451","v":0},{"$nulls":12},"Sanción no envío info",{"$f":"IF($C$454=\"Sí\",1,0)","v":0},30,{"$f":"(P456=Parametros[Segmento])*(Q456>0)*(R456>0)","v":0}]
[null,"¿Aplica reducción de la sanción al 70%? ",{"$f":"+IF(C454=\"Sí\",\"Sí\",\"No aplica\")","v":"No aplica"},{"$nulls":12},"Sanción no envío info",0,30,{"$f":"(P457=Parametros[Segmento])*(Q457>0)*(R457>0)","v":0}]
[null,"Valor de la sanción reducida ",{"$f":"ROUND(IF(C457=\"Sí\",(C456*70%),C456),-3)","v":0},{"$nulls":12},"Sanción no envío info",0,30,{"$f":"(P458=Parametros[Segmento])*(Q458>0)*(R458>0)","v":0}]
[null,"Valor de la sanción reducida a pagar ",{"$f":"ROUND(IF(C456>0,IF(C458>(UVT_2023*10),C458,(UVT_2023*10)),0),-3)","v":0},{"$nulls":12},"Sanción no envío info",0,30,{"$f":"(P459=Parametros[Segmento])*(Q459>0)*(R459>0)","v":0}]
[{"$nulls":15},"Sanción no envío info",0,30,{"$f":"(P460=Parametros[Segmento])*(Q460>0)*(R460>0)","v":0}]
[null,"Reducción de la sanción aplicando el artículo 640 del ET liquidada voluntariamente por el contribuyente ",{"$nulls":13},"Sanción no envío info",{"$f":"IF($C$459>424000,1,0)","v":0},40,{"$f":"(P461=Parametros[Segmento])*(Q461>0)*(R461>0)","v":0}]
[null,"¿La sanción es liquidada por el contribuyente?",{"$nulls":13},"Sanción no envío info",{"$f":"IF($C$459>424000,1,0)","v":0},40,{"$f":"(P462=Parametros[Segmento])*(Q462>0)*(R462>0)","v":0}]
[null,"¿En los dos años anteriores a la generación de esta sanción por extemporaneidad, \nel contribuyente incurrió en la misma conducta sancionable?",{"$nulls":13},"Sanción no envío info",{"$f":"IF($C$462=\"Sí\",$Q$462,0)","v":0},40,{"$f":"(P463=Parametros[Segmento])*(Q463>0)*(R463>0)","v":0}]
[null,"¿En el año anterior a la generación de esta sanción por extemporaneidad, el contribuyente incurrió en la misma conducta sancionable?",{"$nulls":13},"Sanción no envío info",{"$f":"IF(C463=\"Sí\",Q463,0)","v":0},40,{"$f":"(P464=Parametros[Segmento])*(Q464>0)*(R464>0)","v":0}]
[null,"¿La DIAN ha proferido pliego de cargos, requerimiento especial o emplazamiento previo por no declarar?",{"$nulls":13},"Sanción no envío info",{"$f":"IF(C462=\"Sí\",Q462,0)","v":0},40,{"$f":"(P465=Parametros[Segmento])*(Q465>0)*(R465>0)","v":0}]
[null,"Resumen",{"$nulls":13},"Sanción no envío info",{"$f":"IF($C$462=\"Sí\",$Q$462,0)","v":0},30,{"$f":"(P466=Parametros[Segmento])*(Q466>0)*(R466>0)","v":0}]
[null,"Valor de la sanción calculado inicialmente ",{"$f":"IF(C462=\"Sí\",C459,0)","v":0},{"$nulls":12},"Sanción no envío info",0,30,{"$f":"(P467=Parametros[Segmento])*(Q467>0)*(R467>0)","v":0}]
[null,"¿Aplica reducción de la sanción al 50%? ",{"$f":"+IF(AND(C462=\"Sí\",C463<>\"Sí\",C465<>\"Sí\"),\"Sí\",\"No aplica\")","v":"No aplica"},{"$nulls":12},"Sanción no envío info",0,30,{"$f":"(P468=Parametros[Segmento])*(Q468>0)*(R468>0)","v":0}]
[null,"¿Aplica reducción de la sanción al 75%? ",{"$f":"+IF(C468=\"Sí\",\"No aplica\",IF(AND(C462=\"Sí\",C464<>\"Sí\",C465<>\"Sí\"),\"Sí\",\"No aplica\"))","v":"No aplica"},{"$nulls":12},"Sanción no envío info",0,30,{"$f":"(P469=Parametros[Segmento])*(Q469>0)*(R469>0)","v":0}]
[null,"Valor de la sanción reducida ",{"$f":"ROUND(IF(C468=\"Sí\",(C467*50%),IF(C469=\"Sí\",(C467*75%),C467)),-3)","v":0},{"$nulls":12},"Sanción no envío info",0,30,{"$f":"(P470=Parametros[Segmento])*(Q470>0)*(R470>0)","v":0}]
[null,"Valor de la sanción reducida a pagar ",{"$f":"IF(C462=\"Sí\",ROUND(IF(C467>0,IF(C470>(UVT_2023*10),C470,(UVT_2023*10)),0),-3),0)","v":0},{"$nulls":12},"Sanción no envío info",0,30,{"$f":"(P471=Parametros[Segmento])*(Q471>0)*(R471>0)","v":0}]
[null,"Reducción de la sanción aplicando el artículo 640 del ET liquidada por la DIAN",{"$nulls":13},"Sanción no envío info",{"$f":"($C$459>424000)*($C$462=\"No\")","v":0},30,{"$f":"(P472=Parametros[Segmento])*(Q472>0)*(R472>0)","v":0}]
[null,"¿La sanción fue propuesta o determinada por la DIAN?",{"$nulls":13},"Sanción no envío info",{"$f":"$Q$472","v":0},30,{"$f":"(P473=Parametros[Segmento])*(Q473>0)*(R473>0)","v":0}]
[null,"¿Dentro de los cuatro (4) años anteriores a la generación de esta sanción por extemporaneidad, el contribuyente incurrió en la misma conducta sancionable, y esta fue sancionada mediante acto administrativo en firme?",{"$nulls":13},"Sanción no envío info",{"$f":"IF(C473=\"Sí\",Q473,0)","v":0},60,{"$f":"(P474=Parametros[Segmento])*(Q474>0)*(R474>0)","v":0}]
[null,"¿Dentro de los dos (2) años anteriores a la generación de esta sanción por extemporaneidad, el contribuyente incurrió en la misma conducta sancionable, y esta fue sancionada mediante acto administrativo en firme?",{"$nulls":13},"Sanción no envío info",{"$f":"IF(C474=\"Sí\",Q474,0)","v":0},60,{"$f":"(P475=Parametros[Segmento])*(Q475>0)*(R475>0)","v":0}]
[null,"¿La sanción es aceptada y la infracción subsanada por el contribuyente, de acuerdo con lo establecido en el tipo sancionatorio correspondiente?",{"$nulls":13},"Sanción no envío info",{"$f":"IF(C473=\"Sí\",Q473,0)","v":0},40,{"$f":"(P476=Parametros[Segmento])*(Q476>0)*(R476>0)","v":0}]
[null,"Resumen",{"$nulls":13},"Sanción no envío info",{"$f":"$Q$472","v":0},30,{"$f":"(P477=Parametros[Segmento])*(Q477>0)*(R477>0)","v":0}]
[null,"Valor de la sanción calculado inicialmente ",{"$f":"IF(C473=\"Sí\",C459,0)","v":0},{"$nulls":12},"Sanción no envío info",0,30,{"$f":"(P478=Parametros[Segmento])*(Q478>0)*(R478>0)","v":0}]
[null,"¿Aplica reducción de la sanción al 50%? ",{"$f":"+IF(AND(C473=\"Sí\",C474<>\"Sí\",C476<>\"No\"),\"Sí\",\"No aplica\")","v":"No aplica"},{"$nulls":12},"Sanción no envío info",0,30,{"$f":"(P479=Parametros[Segmento])*(Q479>0)*(R479>0)","v":0}]
[null,"¿Aplica reducción de la sanción al 75%? ",{"$f":"+IF(C479=\"Sí\",\"No aplica\",IF(AND(C473=\"Sí\",C475<>\"Sí\",C476<>\"No\"),\"Sí\",\"No aplica\"))","v":"No aplica"},{"$nulls":12},"Sanción no envío info",0,30,{"$f":"(P480=Parametros[Segmento])*(Q480>0)*(R480>0)","v":0}]
[null,"Valor de la sanción reducida ",{"$f":"ROUND(IF(C479=\"Sí\",(C478*50%),IF(C480=\"Sí\",(C478*75%),C478)),-3)","v":0},{"$nulls":12},"Sanción no envío info",0,30,{"$f":"(P481=Parametros[Segmento])*(Q481>0)*(R481>0)","v":0}]
[null,"Valor de la sanción reducida a pagar ",{"$f":"IF(C473=\"Sí\",ROUND(IF(C478>0,IF(C481>(UVT_2023*10),C481,(UVT_2023*10)),0),-3),0)","v":0},{"$nulls":12},"Sanción no envío info",0,30,{"$f":"(P482=Parametros[Segmento])*(Q482>0)*(R482>0)","v":0}]
[null,15,5,18,18,18,25,45,35,10,{"$nulls":5},"Consultas_Manuales_RUT",null,30,{"$f":"(P483=Parametros[Segmento])*(Q483>0)*(R483>0)","v":0}]
[null,"NIT","DV","Primer apellido","Segundo apellido","Primer nombre","Otros nombres","Razón social","Estado",{"$nulls":6},"Consultas_Manuales_RUT",1,30,{"$f":"(P484=Parametros[Segmento])*(Q484>0)*(R484>0)","v":0}]
[{"$nulls":15},"Consultas_Manuales_RUT",1,30,{"$f":"(P485=Parametros[Segmento])*(Q485>0)*(R485>0)","v":0}]
[{"$nulls":15},"Consultas_Manuales_RUT",1,30,{"$f":"(P486=Parametros[Segmento])*(Q486>0)*(R486>0)","v":0}]
[9.22,10,55,30,30,10,{"$nulls":9},"Datos_Encabezados_Cargar",0,30,{"$f":"(P487=Parametros[Segmento])*(Q487>0)*(R487>0)","v":0}]
[{"$nulls":15},"Datos_Encabezados_Cargar",1,10,{"$f":"(P488=Parametros[Segmento])*(Q488>0)*(R488>0)","v":0}]
[null,"Datos del encabezado",{"$nulls":13},"Datos_Encabezados_Cargar",1,30,{"$f":"(P489=Parametros[Segmento])*(Q489>0)*(R489>0)","v":0}]
[null,"Año de envío",null,2023,{"$nulls":11},"Datos_Encabezados_Cargar",1,30,{"$f":"(P490=Parametros[Segmento])*(Q490>0)*(R490>0)","v":0}]
[null,"Concepto",null,1,{"$nulls":11},"Datos_Encabezados_Cargar",1,30,{"$f":"(P491=Parametros[Segmento])*(Q491>0)*(R491>0)","v":0}]
[null,"Código del Formato",null,2276,{"$nulls":11},"Datos_Encabezados_Cargar",1,30,{"$f":"(P492=Parametros[Segmento])*(Q492>0)*(R492>0)","v":0}]
[null,"Versión del formato",null,{"$f":"IFERROR(INDEX(Tabla_Formatos_x_Informante[Versión],MATCH(D492&\"\",Tabla_Formatos_x_Informante[Número],0)),IFERROR(INDEX(Tabla_Formatos_x_Informante[Versión],MATCH(VALUE(D492),Tabla_Formatos_x_Informante[Número],0)),\"\"))","v":""},{"$nulls":11},"Datos_Encabezados_Cargar",1,30,{"$f":"(P493=Parametros[Segmento])*(Q493>0)*(R493>0)","v":0}]
[null,"Número de envío",null,1,{"$nulls":11},"Datos_Encabezados_Cargar",1,30,{"$f":"(P494=Parametros[Segmento])*(Q494>0)*(R494>0)","v":0}]
[null,"Fecha de envío",null,"2023-05-11T02:29:22",{"$nulls":11},"Datos_Encabezados_Cargar",1,30,{"$f":"(P495=Parametros[Segmento])*(Q495>0)*(R495>0)","v":0}]
[null,"Fecha Inicial",null,"2022-01-01",{"$nulls":11},"Datos_Encabezados_Cargar",1,30,{"$f":"(P496=Parametros[Segmento])*(Q496>0)*(R496>0)","v":0}]
[null,"Fecha Final",null,"2022-12-31",{"$nulls":11},"Datos_Encabezados_Cargar",1,30,{"$f":"(P497=Parametros[Segmento])*(Q497>0)*(R497>0)","v":0}]
[{"$nulls":15},"Datos_Encabezados_Cargar",1,30,{"$f":"(P498=Parametros[Segmento])*(Q498>0)*(R498>0)","v":0}]
[null,"Archivo a Cargar",{"$nulls":13},"Datos_Encabezados_Cargar",1,30,{"$f":"(P499=Parametros[Segmento])*(Q499>0)*(R499>0)","v":0}]
[null,"Nombre archivo",null,null,"Cantidad de registros",{"$nulls":10},"Datos_Encabezados_Cargar",1,30,{"$f":"(P500=Parametros[Segmento])*(Q500>0)*(R500>0)","v":0}]
[null,"Dmuisca_010227604202300000001.xml",null,null,5,{"$nulls":10},"Datos_Encabezados_Cargar",1,30,{"$f":"(P501=Parametros[Segmento])*(Q501>0)*(R501>0)","v":0}]
[null,"D:\\DATTEC\\ACTUALICESE\\Exogena\\Dmuisca_010227604202300000001.xml",{"$nulls":13},"Datos_Encabezados_Cargar",1,30,{"$f":"(P502=Parametros[Segmento])*(Q502>0)*(R502>0)","v":0}]
[9.22,10,55,30,30,10,{"$nulls":9},"Datos_Encabezados",0,30,{"$f":"(P503=Parametros[Segmento])*(Q503>0)*(R503>0)","v":0}]
[null,"Datos del encabezado",{"$nulls":13},"Datos_Encabezados",1,30,{"$f":"(P504=Parametros[Segmento])*(Q504>0)*(R504>0)","v":0}]
["El año a incluir debe corresponder al año vigente al momento del envío de los archivos.","Año de envío",null,2023,{"$nulls":11},"Datos_Encabezados",1,30,{"$f":"(P505=Parametros[Segmento])*(Q505>0)*(R505>0)","v":0}]
["Utilice los siguientes conceptos:\n1 - Inserción/Nuevo\n2 - Reemplazo","Concepto",null,1,{"$nulls":11},"Datos_Encabezados",1,30,{"$f":"(P506=Parametros[Segmento])*(Q506>0)*(R506>0)","v":0}]
["Este es el formato que será generado. No es editable teniendo en cuenta que no debería ser diferente al que estaba trabajando.","Código del Formato",null,{"$f":"IFERROR(RIGHT(Parametros[Alertas],4),\"\")","v":""},{"$nulls":11},"Datos_Encabezados",1,30,{"$f":"(P507=Parametros[Segmento])*(Q507>0)*(R507>0)","v":0}]
["Versión del formato que será generado. No es editable teniendo en cuenta que es la versión incluida en esta herramienta.","Versión del formato",null,{"$f":"IFERROR(INDEX(Tabla_Formatos_x_Informante[Versión],MATCH(D507,Tabla_Formatos_x_Informante[Número],0)),IFERROR(INDEX(Tabla_Formatos_x_Informante[Versión],MATCH(VALUE(D507),Tabla_Formatos_x_Informante[Número],0)),\"\"))","v":""},{"$nulls":11},"Datos_Encabezados",1,30,{"$f":"(P508=Parametros[Segmento])*(Q508>0)*(R508>0)","v":0}]
["Relacione el número consecutivo del archivo a enviar dependiendo del orden que le corresponda. Si es el primer archivo, inicie en 1, aumentando manualmente en una unidad cada vez que envíe un nuevo archivo.","Número de envío",null,1,{"$nulls":11},"Datos_Encabezados",1,30,{"$f":"(P509=Parametros[Segmento])*(Q509>0)*(R509>0)","v":0}]
["Valor calculado por el sistema, puede modificarlo pero debe mantener el formato \nAAAA-MM-DDTHH:MM:SS","Fecha de envío",null,"2023-05-11T16:52:16",{"$nulls":11},"Datos_Encabezados",1,30,{"$f":"(P510=Parametros[Segmento])*(Q510>0)*(R510>0)","v":0}]
["Ingrese la fecha inicial del periodo reportado en la información a presentar. Debe mantener el formato AAAA-MM-DD","Fecha Inicial",null,"2022-01-01",{"$nulls":11},"Datos_Encabezados",1,30,{"$f":"(P511=Parametros[Segmento])*(Q511>0)*(R511>0)","v":0}]
["Ingrese la fecha final del periodo reportado en la información a presentar. No debe ser menor a la fecha inicial diligenciada. Debe mantener el formato AAAA-MM-DD.","Fecha Final",null,"2022-12-31",{"$nulls":11},"Datos_Encabezados",1,30,{"$f":"(P512=Parametros[Segmento])*(Q512>0)*(R512>0)","v":0}]
[{"$nulls":15},"Datos_Encabezados",1,30,{"$f":"(P513=Parametros[Segmento])*(Q513>0)*(R513>0)","v":0}]
[null,"Archivo a Generar",{"$nulls":13},"Datos_Encabezados",1,30,{"$f":"(P514=Parametros[Segmento])*(Q514>0)*(R514>0)","v":0}]
[null,"#","Nombre archivo",null,"Cantidad de registros",{"$nulls":10},"Datos_Encabezados",1,30,{"$f":"(P515=Parametros[Segmento])*(Q515>0)*(R515>0)","v":0}]
[{"$f":"IFERROR(IF(E516=0,\"\",\"<?xml version=\"\"1.0\"\" encoding=\"\"ISO-8859-1\"\"?>\n<mas xmlns:xsi=\"\"http://www.w3.org/2001/XMLSchema-instance\"\" xsi:noNamespaceSchemaLocation=\"\"../xsd/\"&$D$507&\".xsd\"\">\n<Cab>\n<Ano>\"&$D$505&\"</Ano>\n<CodCpt>\"&$D$506&\"</CodCpt>\n<Formato>\"&$D$507&\"</Formato>\n<Version>\"&$D$508&\"</Version>\n<NumEnvio>\"&$D$509&\"</NumEnvio>\n<FecEnvio>\"&$D$510&\"</FecEnvio>\n<FecInicial>\"&$D$511&\"</FecInicial>\n<FecFinal>\"&$D$512&\"</FecFinal>\n<ValorTotal>\"&rango_suma($B516)&\"</ValorTotal>\n<CantReg>\"&$E516&\"</CantReg>\n</Cab>\n\"),\"\")","v":""},1,{"$f":"IF(E516=0,\"\",\"Dmuisca_\"&RIGHT(\"00\"&$D$506,2)&RIGHT(\"00000\"&$D$507,5)&RIGHT(\"00\"&$D$508,2)&$D$505&TEXT($D$509+$B516-1,\"00000000\")&\".xml\")","v":{"$error":"#VALUE!"}},null,{"$f":"Conteo_Registros($B516)","v":{"$error":"#VALUE!"}},{"$nulls":10},"Datos_Encabezados",{"$f":"IF(E516>0,1,0)","v":{"$error":"#VALUE!"}},30,{"$f":"(P516=Parametros[Segmento])*(Q516>0)*(R516>0)","v":{"$error":"#VALUE!"}}]
[{"$f":"IFERROR(IF(E517=0,\"\",\"<?xml version=\"\"1.0\"\" encoding=\"\"ISO-8859-1\"\"?>\n<mas xmlns:xsi=\"\"http://www.w3.org/2001/XMLSchema-instance\"\" xsi:noNamespaceSchemaLocation=\"\"../xsd/\"&$D$507&\".xsd\"\">\n<Cab>\n<Ano>\"&$D$505&\"</Ano>\n<CodCpt>\"&$D$506&\"</CodCpt>\n<Formato>\"&$D$507&\"</Formato>\n<Version>\"&$D$508&\"</Version>\n<NumEnvio>\"&$D$509&\"</NumEnvio>\n<FecEnvio>\"&$D$510&\"</FecEnvio>\n<FecInicial>\"&$D$511&\"</FecInicial>\n<FecFinal>\"&$D$512&\"</FecFinal>\n<ValorTotal>\"&rango_suma($B517)&\"</ValorTotal>\n<CantReg>\"&$E517&\"</CantReg>\n</Cab>\n\"),\"\")","v":""},2,{"$f":"IF(E517=0,\"\",\"Dmuisca_\"&RIGHT(\"00\"&$D$506,2)&RIGHT(\"00000\"&$D$507,5)&RIGHT(\"00\"&$D$508,2)&$D$505&TEXT($D$509+$B517-1,\"00000000\")&\".xml\")","v":""},null,{"$f":"IFERROR(IF(E516=5000,Conteo_Registros($B517),0),0)","v":0},{"$nulls":10},"Datos_Encabezados",0,30,{"$f":"(P517=Parametros[Segmento])*(Q517>0)*(R517>0)","v":0}]
[{"$f":"IFERROR(IF(E518=0,\"\",\"<?xml version=\"\"1.0\"\" encoding=\"\"ISO-8859-1\"\"?>\n<mas xmlns:xsi=\"\"http://www.w3.org/2001/XMLSchema-instance\"\" xsi:noNamespaceSchemaLocation=\"\"../xsd/\"&$D$507&\".xsd\"\">\n<Cab>\n<Ano>\"&$D$505&\"</Ano>\n<CodCpt>\"&$D$506&\"</CodCpt>\n<Formato>\"&$D$507&\"</Formato>\n<Version>\"&$D$508&\"</Version>\n<NumEnvio>\"&$D$509&\"</NumEnvio>\n<FecEnvio>\"&$D$510&\"</FecEnvio>\n<FecInicial>\"&$D$511&\"</FecInicial>\n<FecFinal>\"&$D$512&\"</FecFinal>\n<ValorTotal>\"&rango_suma($B518)&\"</ValorTotal>\n<CantReg>\"&$E518&\"</CantReg>\n</Cab>\n\"),\"\")","v":""},3,"",null,0,{"$nulls":10},"Datos_Encabezados",0,30,{"$f":"(P518=Parametros[Segmento])*(Q518>0)*(R518>0)","v":0}]
[{"$f":"IFERROR(IF(E519=0,\"\",\"<?xml version=\"\"1.0\"\" encoding=\"\"ISO-8859-1\"\"?>\n<mas xmlns:xsi=\"\"http://www.w3.org/2001/XMLSchema-instance\"\" xsi:noNamespaceSchemaLocation=\"\"../xsd/\"&$D$507&\".xsd\"\">\n<Cab>\n<Ano>\"&$D$505&\"</Ano>\n<CodCpt>\"&$D$506&\"</CodCpt>\n<Formato>\"&$D$507&\"</Formato>\n<Version>\"&$D$508&\"</Version>\n<NumEnvio>\"&$D$509&\"</NumEnvio>\n<FecEnvio>\"&$D$510&\"</FecEnvio>\n<FecInicial>\"&$D$511&\"</FecInicial>\n<FecFinal>\"&$D$512&\"</FecFinal>\n<ValorTotal>\"&rango_suma($B519)&\"</ValorTotal>\n<CantReg>\"&$E519&\"</CantReg>\n</Cab>\n\"),\"\")","v":""},4,"",null,0,{"$nulls":10},"Datos_Encabezados",0,30,{"$f":"(P519=Parametros[Segmento])*(Q519>0)*(R519>0)","v":0}]
[{"$f":"IFERROR(IF(E520=0,\"\",\"<?xml version=\"\"1.0\"\" encoding=\"\"ISO-8859-1\"\"?>\n<mas xmlns:xsi=\"\"http://www.w3.org/2001/XMLSchema-instance\"\" xsi:noNamespaceSchemaLocation=\"\"../xsd/\"&$D$507&\".xsd\"\">\n<Cab>\n<Ano>\"&$D$505&\"</Ano>\n<CodCpt>\"&$D$506&\"</CodCpt>\n<Formato>\"&$D$507&\"</Formato>\n<Version>\"&$D$508&\"</Version>\n<NumEnvio>\"&$D$509&\"</NumEnvio>\n<FecEnvio>\"&$D$510&\"</FecEnvio>\n<FecInicial>\"&$D$511&\"</FecInicial>\n<FecFinal>\"&$D$512&\"</FecFinal>\n<ValorTotal>\"&rango_suma($B520)&\"</ValorTotal>\n<CantReg>\"&$E520&\"</CantReg>\n</Cab>\n\"),\"\")","v":""},5,"",null,0,{"$nulls":10},"Datos_Encabezados",0,30,{"$f":"(P520=Parametros[Segmento])*(Q520>0)*(R520>0)","v":0}]
[{"$f":"IFERROR(IF(E521=0,\"\",\"<?xml version=\"\"1.0\"\" encoding=\"\"ISO-8859-1\"\"?>\n<mas xmlns:xsi=\"\"http://www.w3.org/2001/XMLSchema-instance\"\" xsi:noNamespaceSchemaLocation=\"\"../xsd/\"&$D$507&\".xsd\"\">\n<Cab>\n<Ano>\"&$D$505&\"</Ano>\n<CodCpt>\"&$D$506&\"</CodCpt>\n<Formato>\"&$D$507&\"</Formato>\n<Version>\"&$D$508&\"</Version>\n<NumEnvio>\"&$D$509&\"</NumEnvio>\n<FecEnvio>\"&$D$510&\"</FecEnvio>\n<FecInicial>\"&$D$511&\"</FecInicial>\n<FecFinal>\"&$D$512&\"</FecFinal>\n<ValorTotal>\"&rango_suma($B521)&\"</ValorTotal>\n<CantReg>\"&$E521&\"</CantReg>\n</Cab>\n\"),\"\")","v":""},6,"",null,0,{"$nulls":10},"Datos_Encabezados",0,30,{"$f":"(P521=Parametros[Segmento])*(Q521>0)*(R521>0)","v":0}]
[{"$f":"IFERROR(IF(E522=0,\"\",\"<?xml version=\"\"1.0\"\" encoding=\"\"ISO-8859-1\"\"?>\n<mas xmlns:xsi=\"\"http://www.w3.org/2001/XMLSchema-instance\"\" xsi:noNamespaceSchemaLocation=\"\"../xsd/\"&$D$507&\".xsd\"\">\n<Cab>\n<Ano>\"&$D$505&\"</Ano>\n<CodCpt>\"&$D$506&\"</CodCpt>\n<Formato>\"&$D$507&\"</Formato>\n<Version>\"&$D$508&\"</Version>\n<NumEnvio>\"&$D$509&\"</NumEnvio>\n<FecEnvio>\"&$D$510&\"</FecEnvio>\n<FecInicial>\"&$D$511&\"</FecInicial>\n<FecFinal>\"&$D$512&\"</FecFinal>\n<ValorTotal>\"&rango_suma($B522)&\"</ValorTotal>\n<CantReg>\"&$E522&\"</CantReg>\n</Cab>\n\"),\"\")","v":""},7,"",null,0,{"$nulls":10},"Datos_Encabezados",0,30,{"$f":"(P522=Parametros[Segmento])*(Q522>0)*(R522>0)","v":0}]
[{"$f":"IFERROR(IF(E523=0,\"\",\"<?xml version=\"\"1.0\"\" encoding=\"\"ISO-8859-1\"\"?>\n<mas xmlns:xsi=\"\"http://www.w3.org/2001/XMLSchema-instance\"\" xsi:noNamespaceSchemaLocation=\"\"../xsd/\"&$D$507&\".xsd\"\">\n<Cab>\n<Ano>\"&$D$505&\"</Ano>\n<CodCpt>\"&$D$506&\"</CodCpt>\n<Formato>\"&$D$507&\"</Formato>\n<Version>\"&$D$508&\"</Version>\n<NumEnvio>\"&$D$509&\"</NumEnvio>\n<FecEnvio>\"&$D$510&\"</FecEnvio>\n<FecInicial>\"&$D$511&\"</FecInicial>\n<FecFinal>\"&$D$512&\"</FecFinal>\n<ValorTotal>\"&rango_suma($B523)&\"</ValorTotal>\n<CantReg>\"&$E523&\"</CantReg>\n</Cab>\n\"),\"\")","v":""},8,"",null,0,{"$nulls":10},"Datos_Encabezados",0,30,{"$f":"(P523=Parametros[Segmento])*(Q523>0)*(R523>0)","v":0}]
[{"$f":"IFERROR(IF(E524=0,\"\",\"<?xml version=\"\"1.0\"\" encoding=\"\"ISO-8859-1\"\"?>\n<mas xmlns:xsi=\"\"http://www.w3.org/2001/XMLSchema-instance\"\" xsi:noNamespaceSchemaLocation=\"\"../xsd/\"&$D$507&\".xsd\"\">\n<Cab>\n<Ano>\"&$D$505&\"</Ano>\n<CodCpt>\"&$D$506&\"</CodCpt>\n<Formato>\"&$D$507&\"</Formato>\n<Version>\"&$D$508&\"</Version>\n<NumEnvio>\"&$D$509&\"</NumEnvio>\n<FecEnvio>\"&$D$510&\"</FecEnvio>\n<FecInicial>\"&$D$511&\"</FecInicial>\n<FecFinal>\"&$D$512&\"</FecFinal>\n<ValorTotal>\"&rango_suma($B524)&\"</ValorTotal>\n<CantReg>\"&$E524&\"</CantReg>\n</Cab>\n\"),\"\")","v":""},9,"",null,0,{"$nulls":10},"Datos_Encabezados",0,30,{"$f":"(P524=Parametros[Segmento])*(Q524>0)*(R524>0)","v":0}]
[{"$f":"IFERROR(IF(E525=0,\"\",\"<?xml version=\"\"1.0\"\" encoding=\"\"ISO-8859-1\"\"?>\n<mas xmlns:xsi=\"\"http://www.w3.org/2001/XMLSchema-instance\"\" xsi:noNamespaceSchemaLocation=\"\"../xsd/\"&$D$507&\".xsd\"\">\n<Cab>\n<Ano>\"&$D$505&\"</Ano>\n<CodCpt>\"&$D$506&\"</CodCpt>\n<Formato>\"&$D$507&\"</Formato>\n<Version>\"&$D$508&\"</Version>\n<NumEnvio>\"&$D$509&\"</NumEnvio>\n<FecEnvio>\"&$D$510&\"</FecEnvio>\n<FecInicial>\"&$D$511&\"</FecInicial>\n<FecFinal>\"&$D$512&\"</FecFinal>\n<ValorTotal>\"&rango_suma($B525)&\"</ValorTotal>\n<CantReg>\"&$E525&\"</CantReg>\n</Cab>\n\"),\"\")","v":""},10,"",null,0,{"$nulls":10},"Datos_Encabezados",0,30,{"$f":"(P525=Parametros[Segmento])*(Q525>0)*(R525>0)","v":0}]
[{"$f":"IFERROR(IF(E526=0,\"\",\"<?xml version=\"\"1.0\"\" encoding=\"\"ISO-8859-1\"\"?>\n<mas xmlns:xsi=\"\"http://www.w3.org/2001/XMLSchema-instance\"\" xsi:noNamespaceSchemaLocation=\"\"../xsd/\"&$D$507&\".xsd\"\">\n<Cab>\n<Ano>\"&$D$505&\"</Ano>\n<CodCpt>\"&$D$506&\"</CodCpt>\n<Formato>\"&$D$507&\"</Formato>\n<Version>\"&$D$508&\"</Version>\n<NumEnvio>\"&$D$509&\"</NumEnvio>\n<FecEnvio>\"&$D$510&\"</FecEnvio>\n<FecInicial>\"&$D$511&\"</FecInicial>\n<FecFinal>\"&$D$512&\"</FecFinal>\n<ValorTotal>\"&rango_suma($B526)&\"</ValorTotal>\n<CantReg>\"&$E526&\"</CantReg>\n</Cab>\n\"),\"\")","v":""},11,"",null,0,{"$nulls":10},"Datos_Encabezados",0,30,{"$f":"(P526=Parametros[Segmento])*(Q526>0)*(R526>0)","v":0}]
[{"$f":"IFERROR(IF(E527=0,\"\",\"<?xml version=\"\"1.0\"\" encoding=\"\"ISO-8859-1\"\"?>\n<mas xmlns:xsi=\"\"http://www.w3.org/2001/XMLSchema-instance\"\" xsi:noNamespaceSchemaLocation=\"\"../xsd/\"&$D$507&\".xsd\"\">\n<Cab>\n<Ano>\"&$D$505&\"</Ano>\n<CodCpt>\"&$D$506&\"</CodCpt>\n<Formato>\"&$D$507&\"</Formato>\n<Version>\"&$D$508&\"</Version>\n<NumEnvio>\"&$D$509&\"</NumEnvio>\n<FecEnvio>\"&$D$510&\"</FecEnvio>\n<FecInicial>\"&$D$511&\"</FecInicial>\n<FecFinal>\"&$D$512&\"</FecFinal>\n<ValorTotal>\"&rango_suma($B527)&\"</ValorTotal>\n<CantReg>\"&$E527&\"</CantReg>\n</Cab>\n\"),\"\")","v":""},12,"",null,0,{"$nulls":10},"Datos_Encabezados",0,30,{"$f":"(P527=Parametros[Segmento])*(Q527>0)*(R527>0)","v":0}]
[{"$f":"IFERROR(IF(E528=0,\"\",\"<?xml version=\"\"1.0\"\" encoding=\"\"ISO-8859-1\"\"?>\n<mas xmlns:xsi=\"\"http://www.w3.org/2001/XMLSchema-instance\"\" xsi:noNamespaceSchemaLocation=\"\"../xsd/\"&$D$507&\".xsd\"\">\n<Cab>\n<Ano>\"&$D$505&\"</Ano>\n<CodCpt>\"&$D$506&\"</CodCpt>\n<Formato>\"&$D$507&\"</Formato>\n<Version>\"&$D$508&\"</Version>\n<NumEnvio>\"&$D$509&\"</NumEnvio>\n<FecEnvio>\"&$D$510&\"</FecEnvio>\n<FecInicial>\"&$D$511&\"</FecInicial>\n<FecFinal>\"&$D$512&\"</FecFinal>\n<ValorTotal>\"&rango_suma($B528)&\"</ValorTotal>\n<CantReg>\"&$E528&\"</CantReg>\n</Cab>\n\"),\"\")","v":""},13,"",null,0,{"$nulls":10},"Datos_Encabezados",0,30,{"$f":"(P528=Parametros[Segmento])*(Q528>0)*(R528>0)","v":0}]
[{"$f":"IFERROR(IF(E529=0,\"\",\"<?xml version=\"\"1.0\"\" encoding=\"\"ISO-8859-1\"\"?>\n<mas xmlns:xsi=\"\"http://www.w3.org/2001/XMLSchema-instance\"\" xsi:noNamespaceSchemaLocation=\"\"../xsd/\"&$D$507&\".xsd\"\">\n<Cab>\n<Ano>\"&$D$505&\"</Ano>\n<CodCpt>\"&$D$506&\"</CodCpt>\n<Formato>\"&$D$507&\"</Formato>\n<Version>\"&$D$508&\"</Version>\n<NumEnvio>\"&$D$509&\"</NumEnvio>\n<FecEnvio>\"&$D$510&\"</FecEnvio>\n<FecInicial>\"&$D$511&\"</FecInicial>\n<FecFinal>\"&$D$512&\"</FecFinal>\n<ValorTotal>\"&rango_suma($B529)&\"</ValorTotal>\n<CantReg>\"&$E529&\"</CantReg>\n</Cab>\n\"),\"\")","v":""},14,"",null,0,{"$nulls":10},"Datos_Encabezados",0,30,{"$f":"(P529=Parametros[Segmento])*(Q529>0)*(R529>0)","v":0}]
[{"$f":"IFERROR(IF(E530=0,\"\",\"<?xml version=\"\"1.0\"\" encoding=\"\"ISO-8859-1\"\"?>\n<mas xmlns:xsi=\"\"http://www.w3.org/2001/XMLSchema-instance\"\" xsi:noNamespaceSchemaLocation=\"\"../xsd/\"&$D$507&\".xsd\"\">\n<Cab>\n<Ano>\"&$D$505&\"</Ano>\n<CodCpt>\"&$D$506&\"</CodCpt>\n<Formato>\"&$D$507&\"</Formato>\n<Version>\"&$D$508&\"</Version>\n<NumEnvio>\"&$D$509&\"</NumEnvio>\n<FecEnvio>\"&$D$510&\"</FecEnvio>\n<FecInicial>\"&$D$511&\"</FecInicial>\n<FecFinal>\"&$D$512&\"</FecFinal>\n<ValorTotal>\"&rango_suma($B530)&\"</ValorTotal>\n<CantReg>\"&$E530&\"</CantReg>\n</Cab>\n\"),\"\")","v":""},15,"",null,0,{"$nulls":10},"Datos_Encabezados",0,30,{"$f":"(P530=Parametros[Segmento])*(Q530>0)*(R530>0)","v":0}]
[{"$f":"IFERROR(IF(E531=0,\"\",\"<?xml version=\"\"1.0\"\" encoding=\"\"ISO-8859-1\"\"?>\n<mas xmlns:xsi=\"\"http://www.w3.org/2001/XMLSchema-instance\"\" xsi:noNamespaceSchemaLocation=\"\"../xsd/\"&$D$507&\".xsd\"\">\n<Cab>\n<Ano>\"&$D$505&\"</Ano>\n<CodCpt>\"&$D$506&\"</CodCpt>\n<Formato>\"&$D$507&\"</Formato>\n<Version>\"&$D$508&\"</Version>\n<NumEnvio>\"&$D$509&\"</NumEnvio>\n<FecEnvio>\"&$D$510&\"</FecEnvio>\n<FecInicial>\"&$D$511&\"</FecInicial>\n<FecFinal>\"&$D$512&\"</FecFinal>\n<ValorTotal>\"&rango_suma($B531)&\"</ValorTotal>\n<CantReg>\"&$E531&\"</CantReg>\n</Cab>\n\"),\"\")","v":""},16,"",null,0,{"$nulls":10},"Datos_Encabezados",0,30,{"$f":"(P531=Parametros[Segmento])*(Q531>0)*(R531>0)","v":0}]
[{"$f":"IFERROR(IF(E532=0,\"\",\"<?xml version=\"\"1.0\"\" encoding=\"\"ISO-8859-1\"\"?>\n<mas xmlns:xsi=\"\"http://www.w3.org/2001/XMLSchema-instance\"\" xsi:noNamespaceSchemaLocation=\"\"../xsd/\"&$D$507&\".xsd\"\">\n<Cab>\n<Ano>\"&$D$505&\"</Ano>\n<CodCpt>\"&$D$506&\"</CodCpt>\n<Formato>\"&$D$507&\"</Formato>\n<Version>\"&$D$508&\"</Version>\n<NumEnvio>\"&$D$509&\"</NumEnvio>\n<FecEnvio>\"&$D$510&\"</FecEnvio>\n<FecInicial>\"&$D$511&\"</FecInicial>\n<FecFinal>\"&$D$512&\"</FecFinal>\n<ValorTotal>\"&rango_suma($B532)&\"</ValorTotal>\n<CantReg>\"&$E532&\"</CantReg>\n</Cab>\n\"),\"\")","v":""},17,"",null,0,{"$nulls":10},"Datos_Encabezados",0,30,{"$f":"(P532=Parametros[Segmento])*(Q532>0)*(R532>0)","v":0}]
[{"$f":"IFERROR(IF(E533=0,\"\",\"<?xml version=\"\"1.0\"\" encoding=\"\"ISO-8859-1\"\"?>\n<mas xmlns:xsi=\"\"http://www.w3.org/2001/XMLSchema-instance\"\" xsi:noNamespaceSchemaLocation=\"\"../xsd/\"&$D$507&\".xsd\"\">\n<Cab>\n<Ano>\"&$D$505&\"</Ano>\n<CodCpt>\"&$D$506&\"</CodCpt>\n<Formato>\"&$D$507&\"</Formato>\n<Version>\"&$D$508&\"</Version>\n<NumEnvio>\"&$D$509&\"</NumEnvio>\n<FecEnvio>\"&$D$510&\"</FecEnvio>\n<FecInicial>\"&$D$511&\"</FecInicial>\n<FecFinal>\"&$D$512&\"</FecFinal>\n<ValorTotal>\"&rango_suma($B533)&\"</ValorTotal>\n<CantReg>\"&$E533&\"</CantReg>\n</Cab>\n\"),\"\")","v":""},18,"",null,0,{"$nulls":10},"Datos_Encabezados",0,30,{"$f":"(P533=Parametros[Segmento])*(Q533>0)*(R533>0)","v":0}]
[{"$f":"IFERROR(IF(E534=0,\"\",\"<?xml version=\"\"1.0\"\" encoding=\"\"ISO-8859-1\"\"?>\n<mas xmlns:xsi=\"\"http://www.w3.org/2001/XMLSchema-instance\"\" xsi:noNamespaceSchemaLocation=\"\"../xsd/\"&$D$507&\".xsd\"\">\n<Cab>\n<Ano>\"&$D$505&\"</Ano>\n<CodCpt>\"&$D$506&\"</CodCpt>\n<Formato>\"&$D$507&\"</Formato>\n<Version>\"&$D$508&\"</Version>\n<NumEnvio>\"&$D$509&\"</NumEnvio>\n<FecEnvio>\"&$D$510&\"</FecEnvio>\n<FecInicial>\"&$D$511&\"</FecInicial>\n<FecFinal>\"&$D$512&\"</FecFinal>\n<ValorTotal>\"&rango_suma($B534)&\"</ValorTotal>\n<CantReg>\"&$E534&\"</CantReg>\n</Cab>\n\"),\"\")","v":""},19,"",null,0,{"$nulls":10},"Datos_Encabezados",0,30,{"$f":"(P534=Parametros[Segmento])*(Q534>0)*(R534>0)","v":0}]
[{"$f":"IFERROR(IF(E535=0,\"\",\"<?xml version=\"\"1.0\"\" encoding=\"\"ISO-8859-1\"\"?>\n<mas xmlns:xsi=\"\"http://www.w3.org/2001/XMLSchema-instance\"\" xsi:noNamespaceSchemaLocation=\"\"../xsd/\"&$D$507&\".xsd\"\">\n<Cab>\n<Ano>\"&$D$505&\"</Ano>\n<CodCpt>\"&$D$506&\"</CodCpt>\n<Formato>\"&$D$507&\"</Formato>\n<Version>\"&$D$508&\"</Version>\n<NumEnvio>\"&$D$509&\"</NumEnvio>\n<FecEnvio>\"&$D$510&\"</FecEnvio>\n<FecInicial>\"&$D$511&\"</FecInicial>\n<FecFinal>\"&$D$512&\"</FecFinal>\n<ValorTotal>\"&rango_suma($B535)&\"</ValorTotal>\n<CantReg>\"&$E535&\"</CantReg>\n</Cab>\n\"),\"\")","v":""},20,"",null,0,{"$nulls":10},"Datos_Encabezados",0,30,{"$f":"(P535=Parametros[Segmento])*(Q535>0)*(R535>0)","v":0}]
[{"$f":"IFERROR(IF(E536=0,\"\",\"<?xml version=\"\"1.0\"\" encoding=\"\"ISO-8859-1\"\"?>\n<mas xmlns:xsi=\"\"http://www.w3.org/2001/XMLSchema-instance\"\" xsi:noNamespaceSchemaLocation=\"\"../xsd/\"&$D$507&\".xsd\"\">\n<Cab>\n<Ano>\"&$D$505&\"</Ano>\n<CodCpt>\"&$D$506&\"</CodCpt>\n<Formato>\"&$D$507&\"</Formato>\n<Version>\"&$D$508&\"</Version>\n<NumEnvio>\"&$D$509&\"</NumEnvio>\n<FecEnvio>\"&$D$510&\"</FecEnvio>\n<FecInicial>\"&$D$511&\"</FecInicial>\n<FecFinal>\"&$D$512&\"</FecFinal>\n<ValorTotal>\"&rango_suma($B536)&\"</ValorTotal>\n<CantReg>\"&$E536&\"</CantReg>\n</Cab>\n\"),\"\")","v":""},21,"",null,0,{"$nulls":10},"Datos_Encabezados",0,30,{"$f":"(P536=Parametros[Segmento])*(Q536>0)*(R536>0)","v":0}]
[{"$f":"IFERROR(IF(E537=0,\"\",\"<?xml version=\"\"1.0\"\" encoding=\"\"ISO-8859-1\"\"?>\n<mas xmlns:xsi=\"\"http://www.w3.org/2001/XMLSchema-instance\"\" xsi:noNamespaceSchemaLocation=\"\"../xsd/\"&$D$507&\".xsd\"\">\n<Cab>\n<Ano>\"&$D$505&\"</Ano>\n<CodCpt>\"&$D$506&\"</CodCpt>\n<Formato>\"&$D$507&\"</Formato>\n<Version>\"&$D$508&\"</Version>\n<NumEnvio>\"&$D$509&\"</NumEnvio>\n<FecEnvio>\"&$D$510&\"</FecEnvio>\n<FecInicial>\"&$D$511&\"</FecInicial>\n<FecFinal>\"&$D$512&\"</FecFinal>\n<ValorTotal>\"&rango_suma($B537)&\"</ValorTotal>\n<CantReg>\"&$E537&\"</CantReg>\n</Cab>\n\"),\"\")","v":""},22,"",null,0,{"$nulls":10},"Datos_Encabezados",0,30,{"$f":"(P537=Parametros[Segmento])*(Q537>0)*(R537>0)","v":0}]
[{"$f":"IFERROR(IF(E538=0,\"\",\"<?xml version=\"\"1.0\"\" encoding=\"\"ISO-8859-1\"\"?>\n<mas xmlns:xsi=\"\"http://www.w3.org/2001/XMLSchema-instance\"\" xsi:noNamespaceSchemaLocation=\"\"../xsd/\"&$D$507&\".xsd\"\">\n<Cab>\n<Ano>\"&$D$505&\"</Ano>\n<CodCpt>\"&$D$506&\"</CodCpt>\n<Formato>\"&$D$507&\"</Formato>\n<Version>\"&$D$508&\"</Version>\n<NumEnvio>\"&$D$509&\"</NumEnvio>\n<FecEnvio>\"&$D$510&\"</FecEnvio>\n<FecInicial>\"&$D$511&\"</FecInicial>\n<FecFinal>\"&$D$512&\"</FecFinal>\n<ValorTotal>\"&rango_suma($B538)&\"</ValorTotal>\n<CantReg>\"&$E538&\"</CantReg>\n</Cab>\n\"),\"\")","v":""},23,"",null,0,{"$nulls":10},"Datos_Encabezados",0,30,{"$f":"(P538=Parametros[Segmento])*(Q538>0)*(R538>0)","v":0}]
[{"$f":"IFERROR(IF(E539=0,\"\",\"<?xml version=\"\"1.0\"\" encoding=\"\"ISO-8859-1\"\"?>\n<mas xmlns:xsi=\"\"http://www.w3.org/2001/XMLSchema-instance\"\" xsi:noNamespaceSchemaLocation=\"\"../xsd/\"&$D$507&\".xsd\"\">\n<Cab>\n<Ano>\"&$D$505&\"</Ano>\n<CodCpt>\"&$D$506&\"</CodCpt>\n<Formato>\"&$D$507&\"</Formato>\n<Version>\"&$D$508&\"</Version>\n<NumEnvio>\"&$D$509&\"</NumEnvio>\n<FecEnvio>\"&$D$510&\"</FecEnvio>\n<FecInicial>\"&$D$511&\"</FecInicial>\n<FecFinal>\"&$D$512&\"</FecFinal>\n<ValorTotal>\"&rango_suma($B539)&\"</ValorTotal>\n<CantReg>\"&$E539&\"</CantReg>\n</Cab>\n\"),\"\")","v":""},24,"",null,0,{"$nulls":10},"Datos_Encabezados",0,30,{"$f":"(P539=Parametros[Segmento])*(Q539>0)*(R539>0)","v":0}]
[{"$f":"IFERROR(IF(E540=0,\"\",\"<?xml version=\"\"1.0\"\" encoding=\"\"ISO-8859-1\"\"?>\n<mas xmlns:xsi=\"\"http://www.w3.org/2001/XMLSchema-instance\"\" xsi:noNamespaceSchemaLocation=\"\"../xsd/\"&$D$507&\".xsd\"\">\n<Cab>\n<Ano>\"&$D$505&\"</Ano>\n<CodCpt>\"&$D$506&\"</CodCpt>\n<Formato>\"&$D$507&\"</Formato>\n<Version>\"&$D$508&\"</Version>\n<NumEnvio>\"&$D$509&\"</NumEnvio>\n<FecEnvio>\"&$D$510&\"</FecEnvio>\n<FecInicial>\"&$D$511&\"</FecInicial>\n<FecFinal>\"&$D$512&\"</FecFinal>\n<ValorTotal>\"&rango_suma($B540)&\"</ValorTotal>\n<CantReg>\"&$E540&\"</CantReg>\n</Cab>\n\"),\"\")","v":""},25,"",null,0,{"$nulls":10},"Datos_Encabezados",0,30,{"$f":"(P540=Parametros[Segmento])*(Q540>0)*(R540>0)","v":0}]
[{"$f":"IFERROR(IF(E541=0,\"\",\"<?xml version=\"\"1.0\"\" encoding=\"\"ISO-8859-1\"\"?>\n<mas xmlns:xsi=\"\"http://www.w3.org/2001/XMLSchema-instance\"\" xsi:noNamespaceSchemaLocation=\"\"../xsd/\"&$D$507&\".xsd\"\">\n<Cab>\n<Ano>\"&$D$505&\"</Ano>\n<CodCpt>\"&$D$506&\"</CodCpt>\n<Formato>\"&$D$507&\"</Formato>\n<Version>\"&$D$508&\"</Version>\n<NumEnvio>\"&$D$509&\"</NumEnvio>\n<FecEnvio>\"&$D$510&\"</FecEnvio>\n<FecInicial>\"&$D$511&\"</FecInicial>\n<FecFinal>\"&$D$512&\"</FecFinal>\n<ValorTotal>\"&rango_suma($B541)&\"</ValorTotal>\n<CantReg>\"&$E541&\"</CantReg>\n</Cab>\n\"),\"\")","v":""},26,"",null,0,{"$nulls":10},"Datos_Encabezados",0,30,{"$f":"(P541=Parametros[Segmento])*(Q541>0)*(R541>0)","v":0}]
[{"$f":"IFERROR(IF(E542=0,\"\",\"<?xml version=\"\"1.0\"\" encoding=\"\"ISO-8859-1\"\"?>\n<mas xmlns:xsi=\"\"http://www.w3.org/2001/XMLSchema-instance\"\" xsi:noNamespaceSchemaLocation=\"\"../xsd/\"&$D$507&\".xsd\"\">\n<Cab>\n<Ano>\"&$D$505&\"</Ano>\n<CodCpt>\"&$D$506&\"</CodCpt>\n<Formato>\"&$D$507&\"</Formato>\n<Version>\"&$D$508&\"</Version>\n<NumEnvio>\"&$D$509&\"</NumEnvio>\n<FecEnvio>\"&$D$510&\"</FecEnvio>\n<FecInicial>\"&$D$511&\"</FecInicial>\n<FecFinal>\"&$D$512&\"</FecFinal>\n<ValorTotal>\"&rango_suma($B542)&\"</ValorTotal>\n<CantReg>\"&$E542&\"</CantReg>\n</Cab>\n\"),\"\")","v":""},27,"",null,0,{"$nulls":10},"Datos_Encabezados",0,30,{"$f":"(P542=Parametros[Segmento])*(Q542>0)*(R542>0)","v":0}]
[{"$f":"IFERROR(IF(E543=0,\"\",\"<?xml version=\"\"1.0\"\" encoding=\"\"ISO-8859-1\"\"?>\n<mas xmlns:xsi=\"\"http://www.w3.org/2001/XMLSchema-instance\"\" xsi:noNamespaceSchemaLocation=\"\"../xsd/\"&$D$507&\".xsd\"\">\n<Cab>\n<Ano>\"&$D$505&\"</Ano>\n<CodCpt>\"&$D$506&\"</CodCpt>\n<Formato>\"&$D$507&\"</Formato>\n<Version>\"&$D$508&\"</Version>\n<NumEnvio>\"&$D$509&\"</NumEnvio>\n<FecEnvio>\"&$D$510&\"</FecEnvio>\n<FecInicial>\"&$D$511&\"</FecInicial>\n<FecFinal>\"&$D$512&\"</FecFinal>\n<ValorTotal>\"&rango_suma($B543)&\"</ValorTotal>\n<CantReg>\"&$E543&\"</CantReg>\n</Cab>\n\"),\"\")","v":""},28,"",null,0,{"$nulls":10},"Datos_Encabezados",0,30,{"$f":"(P543=Parametros[Segmento])*(Q543>0)*(R543>0)","v":0}]
[{"$f":"IFERROR(IF(E544=0,\"\",\"<?xml version=\"\"1.0\"\" encoding=\"\"ISO-8859-1\"\"?>\n<mas xmlns:xsi=\"\"http://www.w3.org/2001/XMLSchema-instance\"\" xsi:noNamespaceSchemaLocation=\"\"../xsd/\"&$D$507&\".xsd\"\">\n<Cab>\n<Ano>\"&$D$505&\"</Ano>\n<CodCpt>\"&$D$506&\"</CodCpt>\n<Formato>\"&$D$507&\"</Formato>\n<Version>\"&$D$508&\"</Version>\n<NumEnvio>\"&$D$509&\"</NumEnvio>\n<FecEnvio>\"&$D$510&\"</FecEnvio>\n<FecInicial>\"&$D$511&\"</FecInicial>\n<FecFinal>\"&$D$512&\"</FecFinal>\n<ValorTotal>\"&rango_suma($B544)&\"</ValorTotal>\n<CantReg>\"&$E544&\"</CantReg>\n</Cab>\n\"),\"\")","v":""},29,"",null,0,{"$nulls":10},"Datos_Encabezados",0,30,{"$f":"(P544=Parametros[Segmento])*(Q544>0)*(R544>0)","v":0}]
[{"$f":"IFERROR(IF(E545=0,\"\",\"<?xml version=\"\"1.0\"\" encoding=\"\"ISO-8859-1\"\"?>\n<mas xmlns:xsi=\"\"http://www.w3.org/2001/XMLSchema-instance\"\" xsi:noNamespaceSchemaLocation=\"\"../xsd/\"&$D$507&\".xsd\"\">\n<Cab>\n<Ano>\"&$D$505&\"</Ano>\n<CodCpt>\"&$D$506&\"</CodCpt>\n<Formato>\"&$D$507&\"</Formato>\n<Version>\"&$D$508&\"</Version>\n<NumEnvio>\"&$D$509&\"</NumEnvio>\n<FecEnvio>\"&$D$510&\"</FecEnvio>\n<FecInicial>\"&$D$511&\"</FecInicial>\n<FecFinal>\"&$D$512&\"</FecFinal>\n<ValorTotal>\"&rango_suma($B545)&\"</ValorTotal>\n<CantReg>\"&$E545&\"</CantReg>\n</Cab>\n\"),\"\")","v":""},30,"",null,0,{"$nulls":10},"Datos_Encabezados",0,30,{"$f":"(P545=Parametros[Segmento])*(Q545>0)*(R545>0)","v":0}]
[{"$f":"IFERROR(IF(E546=0,\"\",\"<?xml version=\"\"1.0\"\" encoding=\"\"ISO-8859-1\"\"?>\n<mas xmlns:xsi=\"\"http://www.w3.org/2001/XMLSchema-instance\"\" xsi:noNamespaceSchemaLocation=\"\"../xsd/\"&$D$507&\".xsd\"\">\n<Cab>\n<Ano>\"&$D$505&\"</Ano>\n<CodCpt>\"&$D$506&\"</CodCpt>\n<Formato>\"&$D$507&\"</Formato>\n<Version>\"&$D$508&\"</Version>\n<NumEnvio>\"&$D$509&\"</NumEnvio>\n<FecEnvio>\"&$D$510&\"</FecEnvio>\n<FecInicial>\"&$D$511&\"</FecInicial>\n<FecFinal>\"&$D$512&\"</FecFinal>\n<ValorTotal>\"&rango_suma($B546)&\"</ValorTotal>\n<CantReg>\"&$E546&\"</CantReg>\n</Cab>\n\"),\"\")","v":""},31,"",null,0,{"$nulls":10},"Datos_Encabezados",0,30,{"$f":"(P546=Parametros[Segmento])*(Q546>0)*(R546>0)","v":0}]
[{"$f":"IFERROR(IF(E547=0,\"\",\"<?xml version=\"\"1.0\"\" encoding=\"\"ISO-8859-1\"\"?>\n<mas xmlns:xsi=\"\"http://www.w3.org/2001/XMLSchema-instance\"\" xsi:noNamespaceSchemaLocation=\"\"../xsd/\"&$D$507&\".xsd\"\">\n<Cab>\n<Ano>\"&$D$505&\"</Ano>\n<CodCpt>\"&$D$506&\"</CodCpt>\n<Formato>\"&$D$507&\"</Formato>\n<Version>\"&$D$508&\"</Version>\n<NumEnvio>\"&$D$509&\"</NumEnvio>\n<FecEnvio>\"&$D$510&\"</FecEnvio>\n<FecInicial>\"&$D$511&\"</FecInicial>\n<FecFinal>\"&$D$512&\"</FecFinal>\n<ValorTotal>\"&rango_suma($B547)&\"</ValorTotal>\n<CantReg>\"&$E547&\"</CantReg>\n</Cab>\n\"),\"\")","v":""},32,"",null,0,{"$nulls":10},"Datos_Encabezados",0,30,{"$f":"(P547=Parametros[Segmento])*(Q547>0)*(R547>0)","v":0}]
[{"$f":"IFERROR(IF(E548=0,\"\",\"<?xml version=\"\"1.0\"\" encoding=\"\"ISO-8859-1\"\"?>\n<mas xmlns:xsi=\"\"http://www.w3.org/2001/XMLSchema-instance\"\" xsi:noNamespaceSchemaLocation=\"\"../xsd/\"&$D$507&\".xsd\"\">\n<Cab>\n<Ano>\"&$D$505&\"</Ano>\n<CodCpt>\"&$D$506&\"</CodCpt>\n<Formato>\"&$D$507&\"</Formato>\n<Version>\"&$D$508&\"</Version>\n<NumEnvio>\"&$D$509&\"</NumEnvio>\n<FecEnvio>\"&$D$510&\"</FecEnvio>\n<FecInicial>\"&$D$511&\"</FecInicial>\n<FecFinal>\"&$D$512&\"</FecFinal>\n<ValorTotal>\"&rango_suma($B548)&\"</ValorTotal>\n<CantReg>\"&$E548&\"</CantReg>\n</Cab>\n\"),\"\")","v":""},33,"",null,0,{"$nulls":10},"Datos_Encabezados",{"$f":"IF(E548>0,1,0)","v":0},30,{"$f":"(P548=Parametros[Segmento])*(Q548>0)*(R548>0)","v":0}]
[{"$f":"IFERROR(IF(E549=0,\"\",\"<?xml version=\"\"1.0\"\" encoding=\"\"ISO-8859-1\"\"?>\n<mas xmlns:xsi=\"\"http://www.w3.org/2001/XMLSchema-instance\"\" xsi:noNamespaceSchemaLocation=\"\"../xsd/\"&$D$507&\".xsd\"\">\n<Cab>\n<Ano>\"&$D$505&\"</Ano>\n<CodCpt>\"&$D$506&\"</CodCpt>\n<Formato>\"&$D$507&\"</Formato>\n<Version>\"&$D$508&\"</Version>\n<NumEnvio>\"&$D$509&\"</NumEnvio>\n<FecEnvio>\"&$D$510&\"</FecEnvio>\n<FecInicial>\"&$D$511&\"</FecInicial>\n<FecFinal>\"&$D$512&\"</FecFinal>\n<ValorTotal>\"&rango_suma($B549)&\"</ValorTotal>\n<CantReg>\"&$E549&\"</CantReg>\n</Cab>\n\"),\"\")","v":""},34,"",null,{"$f":"IFERROR(IF(E548=5000,Conteo_Registros($B549),0),0)","v":0},{"$nulls":10},"Datos_Encabezados",0,30,{"$f":"(P549=Parametros[Segmento])*(Q549>0)*(R549>0)","v":0}]
[{"$f":"IFERROR(IF(E550=0,\"\",\"<?xml version=\"\"1.0\"\" encoding=\"\"ISO-8859-1\"\"?>\n<mas xmlns:xsi=\"\"http://www.w3.org/2001/XMLSchema-instance\"\" xsi:noNamespaceSchemaLocation=\"\"../xsd/\"&$D$507&\".xsd\"\">\n<Cab>\n<Ano>\"&$D$505&\"</Ano>\n<CodCpt>\"&$D$506&\"</CodCpt>\n<Formato>\"&$D$507&\"</Formato>\n<Version>\"&$D$508&\"</Version>\n<NumEnvio>\"&$D$509&\"</NumEnvio>\n<FecEnvio>\"&$D$510&\"</FecEnvio>\n<FecInicial>\"&$D$511&\"</FecInicial>\n<FecFinal>\"&$D$512&\"</FecFinal>\n<ValorTotal>\"&rango_suma($B550)&\"</ValorTotal>\n<CantReg>\"&$E550&\"</CantReg>\n</Cab>\n\"),\"\")","v":""},35,"",null,0,{"$nulls":10},"Datos_Encabezados",0,30,{"$f":"(P550=Parametros[Segmento])*(Q550>0)*(R550>0)","v":0}]
[{"$f":"IFERROR(IF(E551=0,\"\",\"<?xml version=\"\"1.0\"\" encoding=\"\"ISO-8859-1\"\"?>\n<mas xmlns:xsi=\"\"http://www.w3.org/2001/XMLSchema-instance\"\" xsi:noNamespaceSchemaLocation=\"\"../xsd/\"&$D$507&\".xsd\"\">\n<Cab>\n<Ano>\"&$D$505&\"</Ano>\n<CodCpt>\"&$D$506&\"</CodCpt>\n<Formato>\"&$D$507&\"</Formato>\n<Version>\"&$D$508&\"</Version>\n<NumEnvio>\"&$D$509&\"</NumEnvio>\n<FecEnvio>\"&$D$510&\"</FecEnvio>\n<FecInicial>\"&$D$511&\"</FecInicial>\n<FecFinal>\"&$D$512&\"</FecFinal>\n<ValorTotal>\"&rango_suma($B551)&\"</ValorTotal>\n<CantReg>\"&$E551&\"</CantReg>\n</Cab>\n\"),\"\")","v":""},36,"",null,0,{"$nulls":10},"Datos_Encabezados",0,30,{"$f":"(P551=Parametros[Segmento])*(Q551>0)*(R551>0)","v":0}]
[{"$f":"IFERROR(IF(E552=0,\"\",\"<?xml version=\"\"1.0\"\" encoding=\"\"ISO-8859-1\"\"?>\n<mas xmlns:xsi=\"\"http://www.w3.org/2001/XMLSchema-instance\"\" xsi:noNamespaceSchemaLocation=\"\"../xsd/\"&$D$507&\".xsd\"\">\n<Cab>\n<Ano>\"&$D$505&\"</Ano>\n<CodCpt>\"&$D$506&\"</CodCpt>\n<Formato>\"&$D$507&\"</Formato>\n<Version>\"&$D$508&\"</Version>\n<NumEnvio>\"&$D$509&\"</NumEnvio>\n<FecEnvio>\"&$D$510&\"</FecEnvio>\n<FecInicial>\"&$D$511&\"</FecInicial>\n<FecFinal>\"&$D$512&\"</FecFinal>\n<ValorTotal>\"&rango_suma($B552)&\"</ValorTotal>\n<CantReg>\"&$E552&\"</CantReg>\n</Cab>\n\"),\"\")","v":""},37,"",null,0,{"$nulls":10},"Datos_Encabezados",0,30,{"$f":"(P552=Parametros[Segmento])*(Q552>0)*(R552>0)","v":0}]
[{"$f":"IFERROR(IF(E553=0,\"\",\"<?xml version=\"\"1.0\"\" encoding=\"\"ISO-8859-1\"\"?>\n<mas xmlns:xsi=\"\"http://www.w3.org/2001/XMLSchema-instance\"\" xsi:noNamespaceSchemaLocation=\"\"../xsd/\"&$D$507&\".xsd\"\">\n<Cab>\n<Ano>\"&$D$505&\"</Ano>\n<CodCpt>\"&$D$506&\"</CodCpt>\n<Formato>\"&$D$507&\"</Formato>\n<Version>\"&$D$508&\"</Version>\n<NumEnvio>\"&$D$509&\"</NumEnvio>\n<FecEnvio>\"&$D$510&\"</FecEnvio>\n<FecInicial>\"&$D$511&\"</FecInicial>\n<FecFinal>\"&$D$512&\"</FecFinal>\n<ValorTotal>\"&rango_suma($B553)&\"</ValorTotal>\n<CantReg>\"&$E553&\"</CantReg>\n</Cab>\n\"),\"\")","v":""},38,"",null,0,{"$nulls":10},"Datos_Encabezados",0,30,{"$f":"(P553=Parametros[Segmento])*(Q553>0)*(R553>0)","v":0}]
[{"$f":"IFERROR(IF(E554=0,\"\",\"<?xml version=\"\"1.0\"\" encoding=\"\"ISO-8859-1\"\"?>\n<mas xmlns:xsi=\"\"http://www.w3.org/2001/XMLSchema-instance\"\" xsi:noNamespaceSchemaLocation=\"\"../xsd/\"&$D$507&\".xsd\"\">\n<Cab>\n<Ano>\"&$D$505&\"</Ano>\n<CodCpt>\"&$D$506&\"</CodCpt>\n<Formato>\"&$D$507&\"</Formato>\n<Version>\"&$D$508&\"</Version>\n<NumEnvio>\"&$D$509&\"</NumEnvio>\n<FecEnvio>\"&$D$510&\"</FecEnvio>\n<FecInicial>\"&$D$511&\"</FecInicial>\n<FecFinal>\"&$D$512&\"</FecFinal>\n<ValorTotal>\"&rango_suma($B554)&\"</ValorTotal>\n<CantReg>\"&$E554&\"</CantReg>\n</Cab>\n\"),\"\")","v":""},39,"",null,0,{"$nulls":10},"Datos_Encabezados",0,30,{"$f":"(P554=Parametros[Segmento])*(Q554>0)*(R554>0)","v":0}]
[{"$f":"IFERROR(IF(E555=0,\"\",\"<?xml version=\"\"1.0\"\" encoding=\"\"ISO-8859-1\"\"?>\n<mas xmlns:xsi=\"\"http://www.w3.org/2001/XMLSchema-instance\"\" xsi:noNamespaceSchemaLocation=\"\"../xsd/\"&$D$507&\".xsd\"\">\n<Cab>\n<Ano>\"&$D$505&\"</Ano>\n<CodCpt>\"&$D$506&\"</CodCpt>\n<Formato>\"&$D$507&\"</Formato>\n<Version>\"&$D$508&\"</Version>\n<NumEnvio>\"&$D$509&\"</NumEnvio>\n<FecEnvio>\"&$D$510&\"</FecEnvio>\n<FecInicial>\"&$D$511&\"</FecInicial>\n<FecFinal>\"&$D$512&\"</FecFinal>\n<ValorTotal>\"&rango_suma($B555)&\"</ValorTotal>\n<CantReg>\"&$E555&\"</CantReg>\n</Cab>\n\"),\"\")","v":""},40,"",null,0,{"$nulls":10},"Datos_Encabezados",0,30,{"$f":"(P555=Parametros[Segmento])*(Q555>0)*(R555>0)","v":0}]
[{"$f":"IFERROR(IF(E556=0,\"\",\"<?xml version=\"\"1.0\"\" encoding=\"\"ISO-8859-1\"\"?>\n<mas xmlns:xsi=\"\"http://www.w3.org/2001/XMLSchema-instance\"\" xsi:noNamespaceSchemaLocation=\"\"../xsd/\"&$D$507&\".xsd\"\">\n<Cab>\n<Ano>\"&$D$505&\"</Ano>\n<CodCpt>\"&$D$506&\"</CodCpt>\n<Formato>\"&$D$507&\"</Formato>\n<Version>\"&$D$508&\"</Version>\n<NumEnvio>\"&$D$509&\"</NumEnvio>\n<FecEnvio>\"&$D$510&\"</FecEnvio>\n<FecInicial>\"&$D$511&\"</FecInicial>\n<FecFinal>\"&$D$512&\"</FecFinal>\n<ValorTotal>\"&rango_suma($B556)&\"</ValorTotal>\n<CantReg>\"&$E556&\"</CantReg>\n</Cab>\n\"),\"\")","v":""},41,"",null,0,{"$nulls":10},"Datos_Encabezados",0,30,{"$f":"(P556=Parametros[Segmento])*(Q556>0)*(R556>0)","v":0}]
[{"$f":"IFERROR(IF(E557=0,\"\",\"<?xml version=\"\"1.0\"\" encoding=\"\"ISO-8859-1\"\"?>\n<mas xmlns:xsi=\"\"http://www.w3.org/2001/XMLSchema-instance\"\" xsi:noNamespaceSchemaLocation=\"\"../xsd/\"&$D$507&\".xsd\"\">\n<Cab>\n<Ano>\"&$D$505&\"</Ano>\n<CodCpt>\"&$D$506&\"</CodCpt>\n<Formato>\"&$D$507&\"</Formato>\n<Version>\"&$D$508&\"</Version>\n<NumEnvio>\"&$D$509&\"</NumEnvio>\n<FecEnvio>\"&$D$510&\"</FecEnvio>\n<FecInicial>\"&$D$511&\"</FecInicial>\n<FecFinal>\"&$D$512&\"</FecFinal>\n<ValorTotal>\"&rango_suma($B557)&\"</ValorTotal>\n<CantReg>\"&$E557&\"</CantReg>\n</Cab>\n\"),\"\")","v":""},42,"",null,0,{"$nulls":10},"Datos_Encabezados",0,30,{"$f":"(P557=Parametros[Segmento])*(Q557>0)*(R557>0)","v":0}]
[{"$f":"IFERROR(IF(E558=0,\"\",\"<?xml version=\"\"1.0\"\" encoding=\"\"ISO-8859-1\"\"?>\n<mas xmlns:xsi=\"\"http://www.w3.org/2001/XMLSchema-instance\"\" xsi:noNamespaceSchemaLocation=\"\"../xsd/\"&$D$507&\".xsd\"\">\n<Cab>\n<Ano>\"&$D$505&\"</Ano>\n<CodCpt>\"&$D$506&\"</CodCpt>\n<Formato>\"&$D$507&\"</Formato>\n<Version>\"&$D$508&\"</Version>\n<NumEnvio>\"&$D$509&\"</NumEnvio>\n<FecEnvio>\"&$D$510&\"</FecEnvio>\n<FecInicial>\"&$D$511&\"</FecInicial>\n<FecFinal>\"&$D$512&\"</FecFinal>\n<ValorTotal>\"&rango_suma($B558)&\"</ValorTotal>\n<CantReg>\"&$E558&\"</CantReg>\n</Cab>\n\"),\"\")","v":""},43,"",null,0,{"$nulls":10},"Datos_Encabezados",0,30,{"$f":"(P558=Parametros[Segmento])*(Q558>0)*(R558>0)","v":0}]
[{"$f":"IFERROR(IF(E559=0,\"\",\"<?xml version=\"\"1.0\"\" encoding=\"\"ISO-8859-1\"\"?>\n<mas xmlns:xsi=\"\"http://www.w3.org/2001/XMLSchema-instance\"\" xsi:noNamespaceSchemaLocation=\"\"../xsd/\"&$D$507&\".xsd\"\">\n<Cab>\n<Ano>\"&$D$505&\"</Ano>\n<CodCpt>\"&$D$506&\"</CodCpt>\n<Formato>\"&$D$507&\"</Formato>\n<Version>\"&$D$508&\"</Version>\n<NumEnvio>\"&$D$509&\"</NumEnvio>\n<FecEnvio>\"&$D$510&\"</FecEnvio>\n<FecInicial>\"&$D$511&\"</FecInicial>\n<FecFinal>\"&$D$512&\"</FecFinal>\n<ValorTotal>\"&rango_suma($B559)&\"</ValorTotal>\n<CantReg>\"&$E559&\"</CantReg>\n</Cab>\n\"),\"\")","v":""},44,"",null,0,{"$nulls":10},"Datos_Encabezados",0,30,{"$f":"(P559=Parametros[Segmento])*(Q559>0)*(R559>0)","v":0}]
[{"$f":"IFERROR(IF(E560=0,\"\",\"<?xml version=\"\"1.0\"\" encoding=\"\"ISO-8859-1\"\"?>\n<mas xmlns:xsi=\"\"http://www.w3.org/2001/XMLSchema-instance\"\" xsi:noNamespaceSchemaLocation=\"\"../xsd/\"&$D$507&\".xsd\"\">\n<Cab>\n<Ano>\"&$D$505&\"</Ano>\n<CodCpt>\"&$D$506&\"</CodCpt>\n<Formato>\"&$D$507&\"</Formato>\n<Version>\"&$D$508&\"</Version>\n<NumEnvio>\"&$D$509&\"</NumEnvio>\n<FecEnvio>\"&$D$510&\"</FecEnvio>\n<FecInicial>\"&$D$511&\"</FecInicial>\n<FecFinal>\"&$D$512&\"</FecFinal>\n<ValorTotal>\"&rango_suma($B560)&\"</ValorTotal>\n<CantReg>\"&$E560&\"</CantReg>\n</Cab>\n\"),\"\")","v":""},45,"",null,0,{"$nulls":10},"Datos_Encabezados",0,30,{"$f":"(P560=Parametros[Segmento])*(Q560>0)*(R560>0)","v":0}]
[{"$f":"IFERROR(IF(E561=0,\"\",\"<?xml version=\"\"1.0\"\" encoding=\"\"ISO-8859-1\"\"?>\n<mas xmlns:xsi=\"\"http://www.w3.org/2001/XMLSchema-instance\"\" xsi:noNamespaceSchemaLocation=\"\"../xsd/\"&$D$507&\".xsd\"\">\n<Cab>\n<Ano>\"&$D$505&\"</Ano>\n<CodCpt>\"&$D$506&\"</CodCpt>\n<Formato>\"&$D$507&\"</Formato>\n<Version>\"&$D$508&\"</Version>\n<NumEnvio>\"&$D$509&\"</NumEnvio>\n<FecEnvio>\"&$D$510&\"</FecEnvio>\n<FecInicial>\"&$D$511&\"</FecInicial>\n<FecFinal>\"&$D$512&\"</FecFinal>\n<ValorTotal>\"&rango_suma($B561)&\"</ValorTotal>\n<CantReg>\"&$E561&\"</CantReg>\n</Cab>\n\"),\"\")","v":""},46,"",null,0,{"$nulls":10},"Datos_Encabezados",0,30,{"$f":"(P561=Parametros[Segmento])*(Q561>0)*(R561>0)","v":0}]
[{"$f":"IFERROR(IF(E562=0,\"\",\"<?xml version=\"\"1.0\"\" encoding=\"\"ISO-8859-1\"\"?>\n<mas xmlns:xsi=\"\"http://www.w3.org/2001/XMLSchema-instance\"\" xsi:noNamespaceSchemaLocation=\"\"../xsd/\"&$D$507&\".xsd\"\">\n<Cab>\n<Ano>\"&$D$505&\"</Ano>\n<CodCpt>\"&$D$506&\"</CodCpt>\n<Formato>\"&$D$507&\"</Formato>\n<Version>\"&$D$508&\"</Version>\n<NumEnvio>\"&$D$509&\"</NumEnvio>\n<FecEnvio>\"&$D$510&\"</FecEnvio>\n<FecInicial>\"&$D$511&\"</FecInicial>\n<FecFinal>\"&$D$512&\"</FecFinal>\n<ValorTotal>\"&rango_suma($B562)&\"</ValorTotal>\n<CantReg>\"&$E562&\"</CantReg>\n</Cab>\n\"),\"\")","v":""},47,"",null,0,{"$nulls":10},"Datos_Encabezados",0,30,{"$f":"(P562=Parametros[Segmento])*(Q562>0)*(R562>0)","v":0}]
[{"$f":"IFERROR(IF(E563=0,\"\",\"<?xml version=\"\"1.0\"\" encoding=\"\"ISO-8859-1\"\"?>\n<mas xmlns:xsi=\"\"http://www.w3.org/2001/XMLSchema-instance\"\" xsi:noNamespaceSchemaLocation=\"\"../xsd/\"&$D$507&\".xsd\"\">\n<Cab>\n<Ano>\"&$D$505&\"</Ano>\n<CodCpt>\"&$D$506&\"</CodCpt>\n<Formato>\"&$D$507&\"</Formato>\n<Version>\"&$D$508&\"</Version>\n<NumEnvio>\"&$D$509&\"</NumEnvio>\n<FecEnvio>\"&$D$510&\"</FecEnvio>\n<FecInicial>\"&$D$511&\"</FecInicial>\n<FecFinal>\"&$D$512&\"</FecFinal>\n<ValorTotal>\"&rango_suma($B563)&\"</ValorTotal>\n<CantReg>\"&$E563&\"</CantReg>\n</Cab>\n\"),\"\")","v":""},48,"",null,0,{"$nulls":10},"Datos_Encabezados",0,30,{"$f":"(P563=Parametros[Segmento])*(Q563>0)*(R563>0)","v":0}]
[{"$f":"IFERROR(IF(E564=0,\"\",\"<?xml version=\"\"1.0\"\" encoding=\"\"ISO-8859-1\"\"?>\n<mas xmlns:xsi=\"\"http://www.w3.org/2001/XMLSchema-instance\"\" xsi:noNamespaceSchemaLocation=\"\"../xsd/\"&$D$507&\".xsd\"\">\n<Cab>\n<Ano>\"&$D$505&\"</Ano>\n<CodCpt>\"&$D$506&\"</CodCpt>\n<Formato>\"&$D$507&\"</Formato>\n<Version>\"&$D$508&\"</Version>\n<NumEnvio>\"&$D$509&\"</NumEnvio>\n<FecEnvio>\"&$D$510&\"</FecEnvio>\n<FecInicial>\"&$D$511&\"</FecInicial>\n<FecFinal>\"&$D$512&\"</FecFinal>\n<ValorTotal>\"&rango_suma($B564)&\"</ValorTotal>\n<CantReg>\"&$E564&\"</CantReg>\n</Cab>\n\"),\"\")","v":""},49,"",null,0,{"$nulls":10},"Datos_Encabezados",0,30,{"$f":"(P564=Parametros[Segmento])*(Q564>0)*(R564>0)","v":0}]
[{"$f":"IFERROR(IF(E565=0,\"\",\"<?xml version=\"\"1.0\"\" encoding=\"\"ISO-8859-1\"\"?>\n<mas xmlns:xsi=\"\"http://www.w3.org/2001/XMLSchema-instance\"\" xsi:noNamespaceSchemaLocation=\"\"../xsd/\"&$D$507&\".xsd\"\">\n<Cab>\n<Ano>\"&$D$505&\"</Ano>\n<CodCpt>\"&$D$506&\"</CodCpt>\n<Formato>\"&$D$507&\"</Formato>\n<Version>\"&$D$508&\"</Version>\n<NumEnvio>\"&$D$509&\"</NumEnvio>\n<FecEnvio>\"&$D$510&\"</FecEnvio>\n<FecInicial>\"&$D$511&\"</FecInicial>\n<FecFinal>\"&$D$512&\"</FecFinal>\n<ValorTotal>\"&rango_suma($B565)&\"</ValorTotal>\n<CantReg>\"&$E565&\"</CantReg>\n</Cab>\n\"),\"\")","v":""},50,"",null,0,{"$nulls":10},"Datos_Encabezados",0,30,{"$f":"(P565=Parametros[Segmento])*(Q565>0)*(R565>0)","v":0}]
[{"$f":"IFERROR(IF(E566=0,\"\",\"<?xml version=\"\"1.0\"\" encoding=\"\"ISO-8859-1\"\"?>\n<mas xmlns:xsi=\"\"http://www.w3.org/2001/XMLSchema-instance\"\" xsi:noNamespaceSchemaLocation=\"\"../xsd/\"&$D$507&\".xsd\"\">\n<Cab>\n<Ano>\"&$D$505&\"</Ano>\n<CodCpt>\"&$D$506&\"</CodCpt>\n<Formato>\"&$D$507&\"</Formato>\n<Version>\"&$D$508&\"</Version>\n<NumEnvio>\"&$D$509&\"</NumEnvio>\n<FecEnvio>\"&$D$510&\"</FecEnvio>\n<FecInicial>\"&$D$511&\"</FecInicial>\n<FecFinal>\"&$D$512&\"</FecFinal>\n<ValorTotal>\"&rango_suma($B566)&\"</ValorTotal>\n<CantReg>\"&$E566&\"</CantReg>\n</Cab>\n\"),\"\")","v":""},51,"",null,0,{"$nulls":10},"Datos_Encabezados",0,30,{"$f":"(P566=Parametros[Segmento])*(Q566>0)*(R566>0)","v":0}]
[{"$f":"IFERROR(IF(E567=0,\"\",\"<?xml version=\"\"1.0\"\" encoding=\"\"ISO-8859-1\"\"?>\n<mas xmlns:xsi=\"\"http://www.w3.org/2001/XMLSchema-instance\"\" xsi:noNamespaceSchemaLocation=\"\"../xsd/\"&$D$507&\".xsd\"\">\n<Cab>\n<Ano>\"&$D$505&\"</Ano>\n<CodCpt>\"&$D$506&\"</CodCpt>\n<Formato>\"&$D$507&\"</Formato>\n<Version>\"&$D$508&\"</Version>\n<NumEnvio>\"&$D$509&\"</NumEnvio>\n<FecEnvio>\"&$D$510&\"</FecEnvio>\n<FecInicial>\"&$D$511&\"</FecInicial>\n<FecFinal>\"&$D$512&\"</FecFinal>\n<ValorTotal>\"&rango_suma($B567)&\"</ValorTotal>\n<CantReg>\"&$E567&\"</CantReg>\n</Cab>\n\"),\"\")","v":""},52,"",null,0,{"$nulls":10},"Datos_Encabezados",0,30,{"$f":"(P567=Parametros[Segmento])*(Q567>0)*(R567>0)","v":0}]
[{"$f":"IFERROR(IF(E568=0,\"\",\"<?xml version=\"\"1.0\"\" encoding=\"\"ISO-8859-1\"\"?>\n<mas xmlns:xsi=\"\"http://www.w3.org/2001/XMLSchema-instance\"\" xsi:noNamespaceSchemaLocation=\"\"../xsd/\"&$D$507&\".xsd\"\">\n<Cab>\n<Ano>\"&$D$505&\"</Ano>\n<CodCpt>\"&$D$506&\"</CodCpt>\n<Formato>\"&$D$507&\"</Formato>\n<Version>\"&$D$508&\"</Version>\n<NumEnvio>\"&$D$509&\"</NumEnvio>\n<FecEnvio>\"&$D$510&\"</FecEnvio>\n<FecInicial>\"&$D$511&\"</FecInicial>\n<FecFinal>\"&$D$512&\"</FecFinal>\n<ValorTotal>\"&rango_suma($B568)&\"</ValorTotal>\n<CantReg>\"&$E568&\"</CantReg>\n</Cab>\n\"),\"\")","v":""},53,"",null,0,{"$nulls":10},"Datos_Encabezados",0,30,{"$f":"(P568=Parametros[Segmento])*(Q568>0)*(R568>0)","v":0}]
[{"$f":"IFERROR(IF(E569=0,\"\",\"<?xml version=\"\"1.0\"\" encoding=\"\"ISO-8859-1\"\"?>\n<mas xmlns:xsi=\"\"http://www.w3.org/2001/XMLSchema-instance\"\" xsi:noNamespaceSchemaLocation=\"\"../xsd/\"&$D$507&\".xsd\"\">\n<Cab>\n<Ano>\"&$D$505&\"</Ano>\n<CodCpt>\"&$D$506&\"</CodCpt>\n<Formato>\"&$D$507&\"</Formato>\n<Version>\"&$D$508&\"</Version>\n<NumEnvio>\"&$D$509&\"</NumEnvio>\n<FecEnvio>\"&$D$510&\"</FecEnvio>\n<FecInicial>\"&$D$511&\"</FecInicial>\n<FecFinal>\"&$D$512&\"</FecFinal>\n<ValorTotal>\"&rango_suma($B569)&\"</ValorTotal>\n<CantReg>\"&$E569&\"</CantReg>\n</Cab>\n\"),\"\")","v":""},54,"",null,0,{"$nulls":10},"Datos_Encabezados",0,30,{"$f":"(P569=Parametros[Segmento])*(Q569>0)*(R569>0)","v":0}]
[{"$f":"IFERROR(IF(E570=0,\"\",\"<?xml version=\"\"1.0\"\" encoding=\"\"ISO-8859-1\"\"?>\n<mas xmlns:xsi=\"\"http://www.w3.org/2001/XMLSchema-instance\"\" xsi:noNamespaceSchemaLocation=\"\"../xsd/\"&$D$507&\".xsd\"\">\n<Cab>\n<Ano>\"&$D$505&\"</Ano>\n<CodCpt>\"&$D$506&\"</CodCpt>\n<Formato>\"&$D$507&\"</Formato>\n<Version>\"&$D$508&\"</Version>\n<NumEnvio>\"&$D$509&\"</NumEnvio>\n<FecEnvio>\"&$D$510&\"</FecEnvio>\n<FecInicial>\"&$D$511&\"</FecInicial>\n<FecFinal>\"&$D$512&\"</FecFinal>\n<ValorTotal>\"&rango_suma($B570)&\"</ValorTotal>\n<CantReg>\"&$E570&\"</CantReg>\n</Cab>\n\"),\"\")","v":""},55,"",null,0,{"$nulls":10},"Datos_Encabezados",0,30,{"$f":"(P570=Parametros[Segmento])*(Q570>0)*(R570>0)","v":0}]
[{"$f":"IFERROR(IF(E571=0,\"\",\"<?xml version=\"\"1.0\"\" encoding=\"\"ISO-8859-1\"\"?>\n<mas xmlns:xsi=\"\"http://www.w3.org/2001/XMLSchema-instance\"\" xsi:noNamespaceSchemaLocation=\"\"../xsd/\"&$D$507&\".xsd\"\">\n<Cab>\n<Ano>\"&$D$505&\"</Ano>\n<CodCpt>\"&$D$506&\"</CodCpt>\n<Formato>\"&$D$507&\"</Formato>\n<Version>\"&$D$508&\"</Version>\n<NumEnvio>\"&$D$509&\"</NumEnvio>\n<FecEnvio>\"&$D$510&\"</FecEnvio>\n<FecInicial>\"&$D$511&\"</FecInicial>\n<FecFinal>\"&$D$512&\"</FecFinal>\n<ValorTotal>\"&rango_suma($B571)&\"</ValorTotal>\n<CantReg>\"&$E571&\"</CantReg>\n</Cab>\n\"),\"\")","v":""},56,"",null,0,{"$nulls":10},"Datos_Encabezados",0,30,{"$f":"(P571=Parametros[Segmento])*(Q571>0)*(R571>0)","v":0}]
[{"$f":"IFERROR(IF(E572=0,\"\",\"<?xml version=\"\"1.0\"\" encoding=\"\"ISO-8859-1\"\"?>\n<mas xmlns:xsi=\"\"http://www.w3.org/2001/XMLSchema-instance\"\" xsi:noNamespaceSchemaLocation=\"\"../xsd/\"&$D$507&\".xsd\"\">\n<Cab>\n<Ano>\"&$D$505&\"</Ano>\n<CodCpt>\"&$D$506&\"</CodCpt>\n<Formato>\"&$D$507&\"</Formato>\n<Version>\"&$D$508&\"</Version>\n<NumEnvio>\"&$D$509&\"</NumEnvio>\n<FecEnvio>\"&$D$510&\"</FecEnvio>\n<FecInicial>\"&$D$511&\"</FecInicial>\n<FecFinal>\"&$D$512&\"</FecFinal>\n<ValorTotal>\"&rango_suma($B572)&\"</ValorTotal>\n<CantReg>\"&$E572&\"</CantReg>\n</Cab>\n\"),\"\")","v":""},57,"",null,0,{"$nulls":10},"Datos_Encabezados",0,30,{"$f":"(P572=Parametros[Segmento])*(Q572>0)*(R572>0)","v":0}]
[{"$f":"IFERROR(IF(E573=0,\"\",\"<?xml version=\"\"1.0\"\" encoding=\"\"ISO-8859-1\"\"?>\n<mas xmlns:xsi=\"\"http://www.w3.org/2001/XMLSchema-instance\"\" xsi:noNamespaceSchemaLocation=\"\"../xsd/\"&$D$507&\".xsd\"\">\n<Cab>\n<Ano>\"&$D$505&\"</Ano>\n<CodCpt>\"&$D$506&\"</CodCpt>\n<Formato>\"&$D$507&\"</Formato>\n<Version>\"&$D$508&\"</Version>\n<NumEnvio>\"&$D$509&\"</NumEnvio>\n<FecEnvio>\"&$D$510&\"</FecEnvio>\n<FecInicial>\"&$D$511&\"</FecInicial>\n<FecFinal>\"&$D$512&\"</FecFinal>\n<ValorTotal>\"&rango_suma($B573)&\"</ValorTotal>\n<CantReg>\"&$E573&\"</CantReg>\n</Cab>\n\"),\"\")","v":""},58,"",null,0,{"$nulls":10},"Datos_Encabezados",0,30,{"$f":"(P573=Parametros[Segmento])*(Q573>0)*(R573>0)","v":0}]
[{"$f":"IFERROR(IF(E574=0,\"\",\"<?xml version=\"\"1.0\"\" encoding=\"\"ISO-8859-1\"\"?>\n<mas xmlns:xsi=\"\"http://www.w3.org/2001/XMLSchema-instance\"\" xsi:noNamespaceSchemaLocation=\"\"../xsd/\"&$D$507&\".xsd\"\">\n<Cab>\n<Ano>\"&$D$505&\"</Ano>\n<CodCpt>\"&$D$506&\"</CodCpt>\n<Formato>\"&$D$507&\"</Formato>\n<Version>\"&$D$508&\"</Version>\n<NumEnvio>\"&$D$509&\"</NumEnvio>\n<FecEnvio>\"&$D$510&\"</FecEnvio>\n<FecInicial>\"&$D$511&\"</FecInicial>\n<FecFinal>\"&$D$512&\"</FecFinal>\n<ValorTotal>\"&rango_suma($B574)&\"</ValorTotal>\n<CantReg>\"&$E574&\"</CantReg>\n</Cab>\n\"),\"\")","v":""},59,"",null,0,{"$nulls":10},"Datos_Encabezados",0,30,{"$f":"(P574=Parametros[Segmento])*(Q574>0)*(R574>0)","v":0}]
[{"$f":"IFERROR(IF(E575=0,\"\",\"<?xml version=\"\"1.0\"\" encoding=\"\"ISO-8859-1\"\"?>\n<mas xmlns:xsi=\"\"http://www.w3.org/2001/XMLSchema-instance\"\" xsi:noNamespaceSchemaLocation=\"\"../xsd/\"&$D$507&\".xsd\"\">\n<Cab>\n<Ano>\"&$D$505&\"</Ano>\n<CodCpt>\"&$D$506&\"</CodCpt>\n<Formato>\"&$D$507&\"</Formato>\n<Version>\"&$D$508&\"</Version>\n<NumEnvio>\"&$D$509&\"</NumEnvio>\n<FecEnvio>\"&$D$510&\"</FecEnvio>\n<FecInicial>\"&$D$511&\"</FecInicial>\n<FecFinal>\"&$D$512&\"</FecFinal>\n<ValorTotal>\"&rango_suma($B575)&\"</ValorTotal>\n<CantReg>\"&$E575&\"</CantReg>\n</Cab>\n\"),\"\")","v":""},60,"",null,0,{"$nulls":10},"Datos_Encabezados",0,30,{"$f":"(P575=Parametros[Segmento])*(Q575>0)*(R575>0)","v":0}]
[{"$f":"IFERROR(IF(E576=0,\"\",\"<?xml version=\"\"1.0\"\" encoding=\"\"ISO-8859-1\"\"?>\n<mas xmlns:xsi=\"\"http://www.w3.org/2001/XMLSchema-instance\"\" xsi:noNamespaceSchemaLocation=\"\"../xsd/\"&$D$507&\".xsd\"\">\n<Cab>\n<Ano>\"&$D$505&\"</Ano>\n<CodCpt>\"&$D$506&\"</CodCpt>\n<Formato>\"&$D$507&\"</Formato>\n<Version>\"&$D$508&\"</Version>\n<NumEnvio>\"&$D$509&\"</NumEnvio>\n<FecEnvio>\"&$D$510&\"</FecEnvio>\n<FecInicial>\"&$D$511&\"</FecInicial>\n<FecFinal>\"&$D$512&\"</FecFinal>\n<ValorTotal>\"&rango_suma($B576)&\"</ValorTotal>\n<CantReg>\"&$E576&\"</CantReg>\n</Cab>\n\"),\"\")","v":""},61,"",null,0,{"$nulls":10},"Datos_Encabezados",0,30,{"$f":"(P576=Parametros[Segmento])*(Q576>0)*(R576>0)","v":0}]
[{"$f":"IFERROR(IF(E577=0,\"\",\"<?xml version=\"\"1.0\"\" encoding=\"\"ISO-8859-1\"\"?>\n<mas xmlns:xsi=\"\"http://www.w3.org/2001/XMLSchema-instance\"\" xsi:noNamespaceSchemaLocation=\"\"../xsd/\"&$D$507&\".xsd\"\">\n<Cab>\n<Ano>\"&$D$505&\"</Ano>\n<CodCpt>\"&$D$506&\"</CodCpt>\n<Formato>\"&$D$507&\"</Formato>\n<Version>\"&$D$508&\"</Version>\n<NumEnvio>\"&$D$509&\"</NumEnvio>\n<FecEnvio>\"&$D$510&\"</FecEnvio>\n<FecInicial>\"&$D$511&\"</FecInicial>\n<FecFinal>\"&$D$512&\"</FecFinal>\n<ValorTotal>\"&rango_suma($B577)&\"</ValorTotal>\n<CantReg>\"&$E577&\"</CantReg>\n</Cab>\n\"),\"\")","v":""},62,"",null,0,{"$nulls":10},"Datos_Encabezados",0,30,{"$f":"(P577=Parametros[Segmento])*(Q577>0)*(R577>0)","v":0}]
[{"$f":"IFERROR(IF(E578=0,\"\",\"<?xml version=\"\"1.0\"\" encoding=\"\"ISO-8859-1\"\"?>\n<mas xmlns:xsi=\"\"http://www.w3.org/2001/XMLSchema-instance\"\" xsi:noNamespaceSchemaLocation=\"\"../xsd/\"&$D$507&\".xsd\"\">\n<Cab>\n<Ano>\"&$D$505&\"</Ano>\n<CodCpt>\"&$D$506&\"</CodCpt>\n<Formato>\"&$D$507&\"</Formato>\n<Version>\"&$D$508&\"</Version>\n<NumEnvio>\"&$D$509&\"</NumEnvio>\n<FecEnvio>\"&$D$510&\"</FecEnvio>\n<FecInicial>\"&$D$511&\"</FecInicial>\n<FecFinal>\"&$D$512&\"</FecFinal>\n<ValorTotal>\"&rango_suma($B578)&\"</ValorTotal>\n<CantReg>\"&$E578&\"</CantReg>\n</Cab>\n\"),\"\")","v":""},63,"",null,0,{"$nulls":10},"Datos_Encabezados",0,30,{"$f":"(P578=Parametros[Segmento])*(Q578>0)*(R578>0)","v":0}]
[{"$f":"IFERROR(IF(E579=0,\"\",\"<?xml version=\"\"1.0\"\" encoding=\"\"ISO-8859-1\"\"?>\n<mas xmlns:xsi=\"\"http://www.w3.org/2001/XMLSchema-instance\"\" xsi:noNamespaceSchemaLocation=\"\"../xsd/\"&$D$507&\".xsd\"\">\n<Cab>\n<Ano>\"&$D$505&\"</Ano>\n<CodCpt>\"&$D$506&\"</CodCpt>\n<Formato>\"&$D$507&\"</Formato>\n<Version>\"&$D$508&\"</Version>\n<NumEnvio>\"&$D$509&\"</NumEnvio>\n<FecEnvio>\"&$D$510&\"</FecEnvio>\n<FecInicial>\"&$D$511&\"</FecInicial>\n<FecFinal>\"&$D$512&\"</FecFinal>\n<ValorTotal>\"&rango_suma($B579)&\"</ValorTotal>\n<CantReg>\"&$E579&\"</CantReg>\n</Cab>\n\"),\"\")","v":""},64,"",null,0,{"$nulls":10},"Datos_Encabezados",0,30,{"$f":"(P579=Parametros[Segmento])*(Q579>0)*(R579>0)","v":0}]
[{"$f":"IFERROR(IF(E580=0,\"\",\"<?xml version=\"\"1.0\"\" encoding=\"\"ISO-8859-1\"\"?>\n<mas xmlns:xsi=\"\"http://www.w3.org/2001/XMLSchema-instance\"\" xsi:noNamespaceSchemaLocation=\"\"../xsd/\"&$D$507&\".xsd\"\">\n<Cab>\n<Ano>\"&$D$505&\"</Ano>\n<CodCpt>\"&$D$506&\"</CodCpt>\n<Formato>\"&$D$507&\"</Formato>\n<Version>\"&$D$508&\"</Version>\n<NumEnvio>\"&$D$509&\"</NumEnvio>\n<FecEnvio>\"&$D$510&\"</FecEnvio>\n<FecInicial>\"&$D$511&\"</FecInicial>\n<FecFinal>\"&$D$512&\"</FecFinal>\n<ValorTotal>\"&rango_suma($B580)&\"</ValorTotal>\n<CantReg>\"&$E580&\"</CantReg>\n</Cab>\n\"),\"\")","v":""},65,"",null,0,{"$nulls":10},"Datos_Encabezados",{"$f":"IF(E580>0,1,0)","v":0},30,{"$f":"(P580=Parametros[Segmento])*(Q580>0)*(R580>0)","v":0}]
[{"$f":"IFERROR(IF(E581=0,\"\",\"<?xml version=\"\"1.0\"\" encoding=\"\"ISO-8859-1\"\"?>\n<mas xmlns:xsi=\"\"http://www.w3.org/2001/XMLSchema-instance\"\" xsi:noNamespaceSchemaLocation=\"\"../xsd/\"&$D$507&\".xsd\"\">\n<Cab>\n<Ano>\"&$D$505&\"</Ano>\n<CodCpt>\"&$D$506&\"</CodCpt>\n<Formato>\"&$D$507&\"</Formato>\n<Version>\"&$D$508&\"</Version>\n<NumEnvio>\"&$D$509&\"</NumEnvio>\n<FecEnvio>\"&$D$510&\"</FecEnvio>\n<FecInicial>\"&$D$511&\"</FecInicial>\n<FecFinal>\"&$D$512&\"</FecFinal>\n<ValorTotal>\"&rango_suma($B581)&\"</ValorTotal>\n<CantReg>\"&$E581&\"</CantReg>\n</Cab>\n\"),\"\")","v":""},66,{"$f":"IF(E581=0,\"\",\"Dmuisca_\"&RIGHT(\"00\"&$D$506,2)&RIGHT(\"00000\"&$D$507,5)&RIGHT(\"00\"&$D$508,2)&$D$505&TEXT($D$509+$B581-1,\"00000000\")&\".xml\")","v":""},null,{"$f":"IFERROR(IF(E580=5000,Conteo_Registros($B581),0),0)","v":0},{"$nulls":10},"Datos_Encabezados",0,30,{"$f":"(P581=Parametros[Segmento])*(Q581>0)*(R581>0)","v":0}]
[{"$f":"IFERROR(IF(E582=0,\"\",\"<?xml version=\"\"1.0\"\" encoding=\"\"ISO-8859-1\"\"?>\n<mas xmlns:xsi=\"\"http://www.w3.org/2001/XMLSchema-instance\"\" xsi:noNamespaceSchemaLocation=\"\"../xsd/\"&$D$507&\".xsd\"\">\n<Cab>\n<Ano>\"&$D$505&\"</Ano>\n<CodCpt>\"&$D$506&\"</CodCpt>\n<Formato>\"&$D$507&\"</Formato>\n<Version>\"&$D$508&\"</Version>\n<NumEnvio>\"&$D$509&\"</NumEnvio>\n<FecEnvio>\"&$D$510&\"</FecEnvio>\n<FecInicial>\"&$D$511&\"</FecInicial>\n<FecFinal>\"&$D$512&\"</FecFinal>\n<ValorTotal>\"&rango_suma($B582)&\"</ValorTotal>\n<CantReg>\"&$E582&\"</CantReg>\n</Cab>\n\"),\"\")","v":""},67,"",null,0,{"$nulls":10},"Datos_Encabezados",0,30,{"$f":"(P582=Parametros[Segmento])*(Q582>0)*(R582>0)","v":0}]
[{"$f":"IFERROR(IF(E583=0,\"\",\"<?xml version=\"\"1.0\"\" encoding=\"\"ISO-8859-1\"\"?>\n<mas xmlns:xsi=\"\"http://www.w3.org/2001/XMLSchema-instance\"\" xsi:noNamespaceSchemaLocation=\"\"../xsd/\"&$D$507&\".xsd\"\">\n<Cab>\n<Ano>\"&$D$505&\"</Ano>\n<CodCpt>\"&$D$506&\"</CodCpt>\n<Formato>\"&$D$507&\"</Formato>\n<Version>\"&$D$508&\"</Version>\n<NumEnvio>\"&$D$509&\"</NumEnvio>\n<FecEnvio>\"&$D$510&\"</FecEnvio>\n<FecInicial>\"&$D$511&\"</FecInicial>\n<FecFinal>\"&$D$512&\"</FecFinal>\n<ValorTotal>\"&rango_suma($B583)&\"</ValorTotal>\n<CantReg>\"&$E583&\"</CantReg>\n</Cab>\n\"),\"\")","v":""},68,"",null,0,{"$nulls":10},"Datos_Encabezados",0,30,{"$f":"(P583=Parametros[Segmento])*(Q583>0)*(R583>0)","v":0}]
[{"$f":"IFERROR(IF(E584=0,\"\",\"<?xml version=\"\"1.0\"\" encoding=\"\"ISO-8859-1\"\"?>\n<mas xmlns:xsi=\"\"http://www.w3.org/2001/XMLSchema-instance\"\" xsi:noNamespaceSchemaLocation=\"\"../xsd/\"&$D$507&\".xsd\"\">\n<Cab>\n<Ano>\"&$D$505&\"</Ano>\n<CodCpt>\"&$D$506&\"</CodCpt>\n<Formato>\"&$D$507&\"</Formato>\n<Version>\"&$D$508&\"</Version>\n<NumEnvio>\"&$D$509&\"</NumEnvio>\n<FecEnvio>\"&$D$510&\"</FecEnvio>\n<FecInicial>\"&$D$511&\"</FecInicial>\n<FecFinal>\"&$D$512&\"</FecFinal>\n<ValorTotal>\"&rango_suma($B584)&\"</ValorTotal>\n<CantReg>\"&$E584&\"</CantReg>\n</Cab>\n\"),\"\")","v":""},69,"",null,0,{"$nulls":10},"Datos_Encabezados",0,30,{"$f":"(P584=Parametros[Segmento])*(Q584>0)*(R584>0)","v":0}]
[{"$f":"IFERROR(IF(E585=0,\"\",\"<?xml version=\"\"1.0\"\" encoding=\"\"ISO-8859-1\"\"?>\n<mas xmlns:xsi=\"\"http://www.w3.org/2001/XMLSchema-instance\"\" xsi:noNamespaceSchemaLocation=\"\"../xsd/\"&$D$507&\".xsd\"\">\n<Cab>\n<Ano>\"&$D$505&\"</Ano>\n<CodCpt>\"&$D$506&\"</CodCpt>\n<Formato>\"&$D$507&\"</Formato>\n<Version>\"&$D$508&\"</Version>\n<NumEnvio>\"&$D$509&\"</NumEnvio>\n<FecEnvio>\"&$D$510&\"</FecEnvio>\n<FecInicial>\"&$D$511&\"</FecInicial>\n<FecFinal>\"&$D$512&\"</FecFinal>\n<ValorTotal>\"&rango_suma($B585)&\"</ValorTotal>\n<CantReg>\"&$E585&\"</CantReg>\n</Cab>\n\"),\"\")","v":""},70,"",null,0,{"$nulls":10},"Datos_Encabezados",0,30,{"$f":"(P585=Parametros[Segmento])*(Q585>0)*(R585>0)","v":0}]
[{"$f":"IFERROR(IF(E586=0,\"\",\"<?xml version=\"\"1.0\"\" encoding=\"\"ISO-8859-1\"\"?>\n<mas xmlns:xsi=\"\"http://www.w3.org/2001/XMLSchema-instance\"\" xsi:noNamespaceSchemaLocation=\"\"../xsd/\"&$D$507&\".xsd\"\">\n<Cab>\n<Ano>\"&$D$505&\"</Ano>\n<CodCpt>\"&$D$506&\"</CodCpt>\n<Formato>\"&$D$507&\"</Formato>\n<Version>\"&$D$508&\"</Version>\n<NumEnvio>\"&$D$509&\"</NumEnvio>\n<FecEnvio>\"&$D$510&\"</FecEnvio>\n<FecInicial>\"&$D$511&\"</FecInicial>\n<FecFinal>\"&$D$512&\"</FecFinal>\n<ValorTotal>\"&rango_suma($B586)&\"</ValorTotal>\n<CantReg>\"&$E586&\"</CantReg>\n</Cab>\n\"),\"\")","v":""},71,"",null,0,{"$nulls":10},"Datos_Encabezados",0,30,{"$f":"(P586=Parametros[Segmento])*(Q586>0)*(R586>0)","v":0}]
[{"$f":"IFERROR(IF(E587=0,\"\",\"<?xml version=\"\"1.0\"\" encoding=\"\"ISO-8859-1\"\"?>\n<mas xmlns:xsi=\"\"http://www.w3.org/2001/XMLSchema-instance\"\" xsi:noNamespaceSchemaLocation=\"\"../xsd/\"&$D$507&\".xsd\"\">\n<Cab>\n<Ano>\"&$D$505&\"</Ano>\n<CodCpt>\"&$D$506&\"</CodCpt>\n<Formato>\"&$D$507&\"</Formato>\n<Version>\"&$D$508&\"</Version>\n<NumEnvio>\"&$D$509&\"</NumEnvio>\n<FecEnvio>\"&$D$510&\"</FecEnvio>\n<FecInicial>\"&$D$511&\"</FecInicial>\n<FecFinal>\"&$D$512&\"</FecFinal>\n<ValorTotal>\"&rango_suma($B587)&\"</ValorTotal>\n<CantReg>\"&$E587&\"</CantReg>\n</Cab>\n\"),\"\")","v":""},72,"",null,0,{"$nulls":10},"Datos_Encabezados",0,30,{"$f":"(P587=Parametros[Segmento])*(Q587>0)*(R587>0)","v":0}]
[{"$f":"IFERROR(IF(E588=0,\"\",\"<?xml version=\"\"1.0\"\" encoding=\"\"ISO-8859-1\"\"?>\n<mas xmlns:xsi=\"\"http://www.w3.org/2001/XMLSchema-instance\"\" xsi:noNamespaceSchemaLocation=\"\"../xsd/\"&$D$507&\".xsd\"\">\n<Cab>\n<Ano>\"&$D$505&\"</Ano>\n<CodCpt>\"&$D$506&\"</CodCpt>\n<Formato>\"&$D$507&\"</Formato>\n<Version>\"&$D$508&\"</Version>\n<NumEnvio>\"&$D$509&\"</NumEnvio>\n<FecEnvio>\"&$D$510&\"</FecEnvio>\n<FecInicial>\"&$D$511&\"</FecInicial>\n<FecFinal>\"&$D$512&\"</FecFinal>\n<ValorTotal>\"&rango_suma($B588)&\"</ValorTotal>\n<CantReg>\"&$E588&\"</CantReg>\n</Cab>\n\"),\"\")","v":""},73,"",null,0,{"$nulls":10},"Datos_Encabezados",0,30,{"$f":"(P588=Parametros[Segmento])*(Q588>0)*(R588>0)","v":0}]
[{"$f":"IFERROR(IF(E589=0,\"\",\"<?xml version=\"\"1.0\"\" encoding=\"\"ISO-8859-1\"\"?>\n<mas xmlns:xsi=\"\"http://www.w3.org/2001/XMLSchema-instance\"\" xsi:noNamespaceSchemaLocation=\"\"../xsd/\"&$D$507&\".xsd\"\">\n<Cab>\n<Ano>\"&$D$505&\"</Ano>\n<CodCpt>\"&$D$506&\"</CodCpt>\n<Formato>\"&$D$507&\"</Formato>\n<Version>\"&$D$508&\"</Version>\n<NumEnvio>\"&$D$509&\"</NumEnvio>\n<FecEnvio>\"&$D$510&\"</FecEnvio>\n<FecInicial>\"&$D$511&\"</FecInicial>\n<FecFinal>\"&$D$512&\"</FecFinal>\n<ValorTotal>\"&rango_suma($B589)&\"</ValorTotal>\n<CantReg>\"&$E589&\"</CantReg>\n</Cab>\n\"),\"\")","v":""},74,"",null,0,{"$nulls":10},"Datos_Encabezados",0,30,{"$f":"(P589=Parametros[Segmento])*(Q589>0)*(R589>0)","v":0}]
[{"$f":"IFERROR(IF(E590=0,\"\",\"<?xml version=\"\"1.0\"\" encoding=\"\"ISO-8859-1\"\"?>\n<mas xmlns:xsi=\"\"http://www.w3.org/2001/XMLSchema-instance\"\" xsi:noNamespaceSchemaLocation=\"\"../xsd/\"&$D$507&\".xsd\"\">\n<Cab>\n<Ano>\"&$D$505&\"</Ano>\n<CodCpt>\"&$D$506&\"</CodCpt>\n<Formato>\"&$D$507&\"</Formato>\n<Version>\"&$D$508&\"</Version>\n<NumEnvio>\"&$D$509&\"</NumEnvio>\n<FecEnvio>\"&$D$510&\"</FecEnvio>\n<FecInicial>\"&$D$511&\"</FecInicial>\n<FecFinal>\"&$D$512&\"</FecFinal>\n<ValorTotal>\"&rango_suma($B590)&\"</ValorTotal>\n<CantReg>\"&$E590&\"</CantReg>\n</Cab>\n\"),\"\")","v":""},75,"",null,0,{"$nulls":10},"Datos_Encabezados",0,30,{"$f":"(P590=Parametros[Segmento])*(Q590>0)*(R590>0)","v":0}]
[{"$f":"IFERROR(IF(E591=0,\"\",\"<?xml version=\"\"1.0\"\" encoding=\"\"ISO-8859-1\"\"?>\n<mas xmlns:xsi=\"\"http://www.w3.org/2001/XMLSchema-instance\"\" xsi:noNamespaceSchemaLocation=\"\"../xsd/\"&$D$507&\".xsd\"\">\n<Cab>\n<Ano>\"&$D$505&\"</Ano>\n<CodCpt>\"&$D$506&\"</CodCpt>\n<Formato>\"&$D$507&\"</Formato>\n<Version>\"&$D$508&\"</Version>\n<NumEnvio>\"&$D$509&\"</NumEnvio>\n<FecEnvio>\"&$D$510&\"</FecEnvio>\n<FecInicial>\"&$D$511&\"</FecInicial>\n<FecFinal>\"&$D$512&\"</FecFinal>\n<ValorTotal>\"&rango_suma($B591)&\"</ValorTotal>\n<CantReg>\"&$E591&\"</CantReg>\n</Cab>\n\"),\"\")","v":""},76,"",null,0,{"$nulls":10},"Datos_Encabezados",0,30,{"$f":"(P591=Parametros[Segmento])*(Q591>0)*(R591>0)","v":0}]
[{"$f":"IFERROR(IF(E592=0,\"\",\"<?xml version=\"\"1.0\"\" encoding=\"\"ISO-8859-1\"\"?>\n<mas xmlns:xsi=\"\"http://www.w3.org/2001/XMLSchema-instance\"\" xsi:noNamespaceSchemaLocation=\"\"../xsd/\"&$D$507&\".xsd\"\">\n<Cab>\n<Ano>\"&$D$505&\"</Ano>\n<CodCpt>\"&$D$506&\"</CodCpt>\n<Formato>\"&$D$507&\"</Formato>\n<Version>\"&$D$508&\"</Version>\n<NumEnvio>\"&$D$509&\"</NumEnvio>\n<FecEnvio>\"&$D$510&\"</FecEnvio>\n<FecInicial>\"&$D$511&\"</FecInicial>\n<FecFinal>\"&$D$512&\"</FecFinal>\n<ValorTotal>\"&rango_suma($B592)&\"</ValorTotal>\n<CantReg>\"&$E592&\"</CantReg>\n</Cab>\n\"),\"\")","v":""},77,"",null,0,{"$nulls":10},"Datos_Encabezados",0,30,{"$f":"(P592=Parametros[Segmento])*(Q592>0)*(R592>0)","v":0}]
[{"$f":"IFERROR(IF(E593=0,\"\",\"<?xml version=\"\"1.0\"\" encoding=\"\"ISO-8859-1\"\"?>\n<mas xmlns:xsi=\"\"http://www.w3.org/2001/XMLSchema-instance\"\" xsi:noNamespaceSchemaLocation=\"\"../xsd/\"&$D$507&\".xsd\"\">\n<Cab>\n<Ano>\"&$D$505&\"</Ano>\n<CodCpt>\"&$D$506&\"</CodCpt>\n<Formato>\"&$D$507&\"</Formato>\n<Version>\"&$D$508&\"</Version>\n<NumEnvio>\"&$D$509&\"</NumEnvio>\n<FecEnvio>\"&$D$510&\"</FecEnvio>\n<FecInicial>\"&$D$511&\"</FecInicial>\n<FecFinal>\"&$D$512&\"</FecFinal>\n<ValorTotal>\"&rango_suma($B593)&\"</ValorTotal>\n<CantReg>\"&$E593&\"</CantReg>\n</Cab>\n\"),\"\")","v":""},78,"",null,0,{"$nulls":10},"Datos_Encabezados",0,30,{"$f":"(P593=Parametros[Segmento])*(Q593>0)*(R593>0)","v":0}]
[{"$f":"IFERROR(IF(E594=0,\"\",\"<?xml version=\"\"1.0\"\" encoding=\"\"ISO-8859-1\"\"?>\n<mas xmlns:xsi=\"\"http://www.w3.org/2001/XMLSchema-instance\"\" xsi:noNamespaceSchemaLocation=\"\"../xsd/\"&$D$507&\".xsd\"\">\n<Cab>\n<Ano>\"&$D$505&\"</Ano>\n<CodCpt>\"&$D$506&\"</CodCpt>\n<Formato>\"&$D$507&\"</Formato>\n<Version>\"&$D$508&\"</Version>\n<NumEnvio>\"&$D$509&\"</NumEnvio>\n<FecEnvio>\"&$D$510&\"</FecEnvio>\n<FecInicial>\"&$D$511&\"</FecInicial>\n<FecFinal>\"&$D$512&\"</FecFinal>\n<ValorTotal>\"&rango_suma($B594)&\"</ValorTotal>\n<CantReg>\"&$E594&\"</CantReg>\n</Cab>\n\"),\"\")","v":""},79,"",null,0,{"$nulls":10},"Datos_Encabezados",0,30,{"$f":"(P594=Parametros[Segmento])*(Q594>0)*(R594>0)","v":0}]
[{"$f":"IFERROR(IF(E595=0,\"\",\"<?xml version=\"\"1.0\"\" encoding=\"\"ISO-8859-1\"\"?>\n<mas xmlns:xsi=\"\"http://www.w3.org/2001/XMLSchema-instance\"\" xsi:noNamespaceSchemaLocation=\"\"../xsd/\"&$D$507&\".xsd\"\">\n<Cab>\n<Ano>\"&$D$505&\"</Ano>\n<CodCpt>\"&$D$506&\"</CodCpt>\n<Formato>\"&$D$507&\"</Formato>\n<Version>\"&$D$508&\"</Version>\n<NumEnvio>\"&$D$509&\"</NumEnvio>\n<FecEnvio>\"&$D$510&\"</FecEnvio>\n<FecInicial>\"&$D$511&\"</FecInicial>\n<FecFinal>\"&$D$512&\"</FecFinal>\n<ValorTotal>\"&rango_suma($B595)&\"</ValorTotal>\n<CantReg>\"&$E595&\"</CantReg>\n</Cab>\n\"),\"\")","v":""},80,"",null,0,{"$nulls":10},"Datos_Encabezados",0,30,{"$f":"(P595=Parametros[Segmento])*(Q595>0)*(R595>0)","v":0}]
[{"$f":"IFERROR(IF(E596=0,\"\",\"<?xml version=\"\"1.0\"\" encoding=\"\"ISO-8859-1\"\"?>\n<mas xmlns:xsi=\"\"http://www.w3.org/2001/XMLSchema-instance\"\" xsi:noNamespaceSchemaLocation=\"\"../xsd/\"&$D$507&\".xsd\"\">\n<Cab>\n<Ano>\"&$D$505&\"</Ano>\n<CodCpt>\"&$D$506&\"</CodCpt>\n<Formato>\"&$D$507&\"</Formato>\n<Version>\"&$D$508&\"</Version>\n<NumEnvio>\"&$D$509&\"</NumEnvio>\n<FecEnvio>\"&$D$510&\"</FecEnvio>\n<FecInicial>\"&$D$511&\"</FecInicial>\n<FecFinal>\"&$D$512&\"</FecFinal>\n<ValorTotal>\"&rango_suma($B596)&\"</ValorTotal>\n<CantReg>\"&$E596&\"</CantReg>\n</Cab>\n\"),\"\")","v":""},81,"",null,0,{"$nulls":10},"Datos_Encabezados",0,30,{"$f":"(P596=Parametros[Segmento])*(Q596>0)*(R596>0)","v":0}]
[{"$f":"IFERROR(IF(E597=0,\"\",\"<?xml version=\"\"1.0\"\" encoding=\"\"ISO-8859-1\"\"?>\n<mas xmlns:xsi=\"\"http://www.w3.org/2001/XMLSchema-instance\"\" xsi:noNamespaceSchemaLocation=\"\"../xsd/\"&$D$507&\".xsd\"\">\n<Cab>\n<Ano>\"&$D$505&\"</Ano>\n<CodCpt>\"&$D$506&\"</CodCpt>\n<Formato>\"&$D$507&\"</Formato>\n<Version>\"&$D$508&\"</Version>\n<NumEnvio>\"&$D$509&\"</NumEnvio>\n<FecEnvio>\"&$D$510&\"</FecEnvio>\n<FecInicial>\"&$D$511&\"</FecInicial>\n<FecFinal>\"&$D$512&\"</FecFinal>\n<ValorTotal>\"&rango_suma($B597)&\"</ValorTotal>\n<CantReg>\"&$E597&\"</CantReg>\n</Cab>\n\"),\"\")","v":""},82,"",null,0,{"$nulls":10},"Datos_Encabezados",0,30,{"$f":"(P597=Parametros[Segmento])*(Q597>0)*(R597>0)","v":0}]
[{"$f":"IFERROR(IF(E598=0,\"\",\"<?xml version=\"\"1.0\"\" encoding=\"\"ISO-8859-1\"\"?>\n<mas xmlns:xsi=\"\"http://www.w3.org/2001/XMLSchema-instance\"\" xsi:noNamespaceSchemaLocation=\"\"../xsd/\"&$D$507&\".xsd\"\">\n<Cab>\n<Ano>\"&$D$505&\"</Ano>\n<CodCpt>\"&$D$506&\"</CodCpt>\n<Formato>\"&$D$507&\"</Formato>\n<Version>\"&$D$508&\"</Version>\n<NumEnvio>\"&$D$509&\"</NumEnvio>\n<FecEnvio>\"&$D$510&\"</FecEnvio>\n<FecInicial>\"&$D$511&\"</FecInicial>\n<FecFinal>\"&$D$512&\"</FecFinal>\n<ValorTotal>\"&rango_suma($B598)&\"</ValorTotal>\n<CantReg>\"&$E598&\"</CantReg>\n</Cab>\n\"),\"\")","v":""},83,"",null,0,{"$nulls":10},"Datos_Encabezados",0,30,{"$f":"(P598=Parametros[Segmento])*(Q598>0)*(R598>0)","v":0}]
[{"$f":"IFERROR(IF(E599=0,\"\",\"<?xml version=\"\"1.0\"\" encoding=\"\"ISO-8859-1\"\"?>\n<mas xmlns:xsi=\"\"http://www.w3.org/2001/XMLSchema-instance\"\" xsi:noNamespaceSchemaLocation=\"\"../xsd/\"&$D$507&\".xsd\"\">\n<Cab>\n<Ano>\"&$D$505&\"</Ano>\n<CodCpt>\"&$D$506&\"</CodCpt>\n<Formato>\"&$D$507&\"</Formato>\n<Version>\"&$D$508&\"</Version>\n<NumEnvio>\"&$D$509&\"</NumEnvio>\n<FecEnvio>\"&$D$510&\"</FecEnvio>\n<FecInicial>\"&$D$511&\"</FecInicial>\n<FecFinal>\"&$D$512&\"</FecFinal>\n<ValorTotal>\"&rango_suma($B599)&\"</ValorTotal>\n<CantReg>\"&$E599&\"</CantReg>\n</Cab>\n\"),\"\")","v":""},84,"",null,0,{"$nulls":10},"Datos_Encabezados",0,30,{"$f":"(P599=Parametros[Segmento])*(Q599>0)*(R599>0)","v":0}]
[{"$f":"IFERROR(IF(E600=0,\"\",\"<?xml version=\"\"1.0\"\" encoding=\"\"ISO-8859-1\"\"?>\n<mas xmlns:xsi=\"\"http://www.w3.org/2001/XMLSchema-instance\"\" xsi:noNamespaceSchemaLocation=\"\"../xsd/\"&$D$507&\".xsd\"\">\n<Cab>\n<Ano>\"&$D$505&\"</Ano>\n<CodCpt>\"&$D$506&\"</CodCpt>\n<Formato>\"&$D$507&\"</Formato>\n<Version>\"&$D$508&\"</Version>\n<NumEnvio>\"&$D$509&\"</NumEnvio>\n<FecEnvio>\"&$D$510&\"</FecEnvio>\n<FecInicial>\"&$D$511&\"</FecInicial>\n<FecFinal>\"&$D$512&\"</FecFinal>\n<ValorTotal>\"&rango_suma($B600)&\"</ValorTotal>\n<CantReg>\"&$E600&\"</CantReg>\n</Cab>\n\"),\"\")","v":""},85,"",null,0,{"$nulls":10},"Datos_Encabezados",0,30,{"$f":"(P600=Parametros[Segmento])*(Q600>0)*(R600>0)","v":0}]
[{"$f":"IFERROR(IF(E601=0,\"\",\"<?xml version=\"\"1.0\"\" encoding=\"\"ISO-8859-1\"\"?>\n<mas xmlns:xsi=\"\"http://www.w3.org/2001/XMLSchema-instance\"\" xsi:noNamespaceSchemaLocation=\"\"../xsd/\"&$D$507&\".xsd\"\">\n<Cab>\n<Ano>\"&$D$505&\"</Ano>\n<CodCpt>\"&$D$506&\"</CodCpt>\n<Formato>\"&$D$507&\"</Formato>\n<Version>\"&$D$508&\"</Version>\n<NumEnvio>\"&$D$509&\"</NumEnvio>\n<FecEnvio>\"&$D$510&\"</FecEnvio>\n<FecInicial>\"&$D$511&\"</FecInicial>\n<FecFinal>\"&$D$512&\"</FecFinal>\n<ValorTotal>\"&rango_suma($B601)&\"</ValorTotal>\n<CantReg>\"&$E601&\"</CantReg>\n</Cab>\n\"),\"\")","v":""},86,"",null,0,{"$nulls":10},"Datos_Encabezados",0,30,{"$f":"(P601=Parametros[Segmento])*(Q601>0)*(R601>0)","v":0}]
[{"$f":"IFERROR(IF(E602=0,\"\",\"<?xml version=\"\"1.0\"\" encoding=\"\"ISO-8859-1\"\"?>\n<mas xmlns:xsi=\"\"http://www.w3.org/2001/XMLSchema-instance\"\" xsi:noNamespaceSchemaLocation=\"\"../xsd/\"&$D$507&\".xsd\"\">\n<Cab>\n<Ano>\"&$D$505&\"</Ano>\n<CodCpt>\"&$D$506&\"</CodCpt>\n<Formato>\"&$D$507&\"</Formato>\n<Version>\"&$D$508&\"</Version>\n<NumEnvio>\"&$D$509&\"</NumEnvio>\n<FecEnvio>\"&$D$510&\"</FecEnvio>\n<FecInicial>\"&$D$511&\"</FecInicial>\n<FecFinal>\"&$D$512&\"</FecFinal>\n<ValorTotal>\"&rango_suma($B602)&\"</ValorTotal>\n<CantReg>\"&$E602&\"</CantReg>\n</Cab>\n\"),\"\")","v":""},87,"",null,0,{"$nulls":10},"Datos_Encabezados",0,30,{"$f":"(P602=Parametros[Segmento])*(Q602>0)*(R602>0)","v":0}]
[{"$f":"IFERROR(IF(E603=0,\"\",\"<?xml version=\"\"1.0\"\" encoding=\"\"ISO-8859-1\"\"?>\n<mas xmlns:xsi=\"\"http://www.w3.org/2001/XMLSchema-instance\"\" xsi:noNamespaceSchemaLocation=\"\"../xsd/\"&$D$507&\".xsd\"\">\n<Cab>\n<Ano>\"&$D$505&\"</Ano>\n<CodCpt>\"&$D$506&\"</CodCpt>\n<Formato>\"&$D$507&\"</Formato>\n<Version>\"&$D$508&\"</Version>\n<NumEnvio>\"&$D$509&\"</NumEnvio>\n<FecEnvio>\"&$D$510&\"</FecEnvio>\n<FecInicial>\"&$D$511&\"</FecInicial>\n<FecFinal>\"&$D$512&\"</FecFinal>\n<ValorTotal>\"&rango_suma($B603)&\"</ValorTotal>\n<CantReg>\"&$E603&\"</CantReg>\n</Cab>\n\"),\"\")","v":""},88,"",null,0,{"$nulls":10},"Datos_Encabezados",0,30,{"$f":"(P603=Parametros[Segmento])*(Q603>0)*(R603>0)","v":0}]
[{"$f":"IFERROR(IF(E604=0,\"\",\"<?xml version=\"\"1.0\"\" encoding=\"\"ISO-8859-1\"\"?>\n<mas xmlns:xsi=\"\"http://www.w3.org/2001/XMLSchema-instance\"\" xsi:noNamespaceSchemaLocation=\"\"../xsd/\"&$D$507&\".xsd\"\">\n<Cab>\n<Ano>\"&$D$505&\"</Ano>\n<CodCpt>\"&$D$506&\"</CodCpt>\n<Formato>\"&$D$507&\"</Formato>\n<Version>\"&$D$508&\"</Version>\n<NumEnvio>\"&$D$509&\"</NumEnvio>\n<FecEnvio>\"&$D$510&\"</FecEnvio>\n<FecInicial>\"&$D$511&\"</FecInicial>\n<FecFinal>\"&$D$512&\"</FecFinal>\n<ValorTotal>\"&rango_suma($B604)&\"</ValorTotal>\n<CantReg>\"&$E604&\"</CantReg>\n</Cab>\n\"),\"\")","v":""},89,"",null,0,{"$nulls":10},"Datos_Encabezados",0,30,{"$f":"(P604=Parametros[Segmento])*(Q604>0)*(R604>0)","v":0}]
[{"$f":"IFERROR(IF(E605=0,\"\",\"<?xml version=\"\"1.0\"\" encoding=\"\"ISO-8859-1\"\"?>\n<mas xmlns:xsi=\"\"http://www.w3.org/2001/XMLSchema-instance\"\" xsi:noNamespaceSchemaLocation=\"\"../xsd/\"&$D$507&\".xsd\"\">\n<Cab>\n<Ano>\"&$D$505&\"</Ano>\n<CodCpt>\"&$D$506&\"</CodCpt>\n<Formato>\"&$D$507&\"</Formato>\n<Version>\"&$D$508&\"</Version>\n<NumEnvio>\"&$D$509&\"</NumEnvio>\n<FecEnvio>\"&$D$510&\"</FecEnvio>\n<FecInicial>\"&$D$511&\"</FecInicial>\n<FecFinal>\"&$D$512&\"</FecFinal>\n<ValorTotal>\"&rango_suma($B605)&\"</ValorTotal>\n<CantReg>\"&$E605&\"</CantReg>\n</Cab>\n\"),\"\")","v":""},90,"",null,0,{"$nulls":10},"Datos_Encabezados",0,30,{"$f":"(P605=Parametros[Segmento])*(Q605>0)*(R605>0)","v":0}]
[{"$f":"IFERROR(IF(E606=0,\"\",\"<?xml version=\"\"1.0\"\" encoding=\"\"ISO-8859-1\"\"?>\n<mas xmlns:xsi=\"\"http://www.w3.org/2001/XMLSchema-instance\"\" xsi:noNamespaceSchemaLocation=\"\"../xsd/\"&$D$507&\".xsd\"\">\n<Cab>\n<Ano>\"&$D$505&\"</Ano>\n<CodCpt>\"&$D$506&\"</CodCpt>\n<Formato>\"&$D$507&\"</Formato>\n<Version>\"&$D$508&\"</Version>\n<NumEnvio>\"&$D$509&\"</NumEnvio>\n<FecEnvio>\"&$D$510&\"</FecEnvio>\n<FecInicial>\"&$D$511&\"</FecInicial>\n<FecFinal>\"&$D$512&\"</FecFinal>\n<ValorTotal>\"&rango_suma($B606)&\"</ValorTotal>\n<CantReg>\"&$E606&\"</CantReg>\n</Cab>\n\"),\"\")","v":""},91,"",null,0,{"$nulls":10},"Datos_Encabezados",0,30,{"$f":"(P606=Parametros[Segmento])*(Q606>0)*(R606>0)","v":0}]
[{"$f":"IFERROR(IF(E607=0,\"\",\"<?xml version=\"\"1.0\"\" encoding=\"\"ISO-8859-1\"\"?>\n<mas xmlns:xsi=\"\"http://www.w3.org/2001/XMLSchema-instance\"\" xsi:noNamespaceSchemaLocation=\"\"../xsd/\"&$D$507&\".xsd\"\">\n<Cab>\n<Ano>\"&$D$505&\"</Ano>\n<CodCpt>\"&$D$506&\"</CodCpt>\n<Formato>\"&$D$507&\"</Formato>\n<Version>\"&$D$508&\"</Version>\n<NumEnvio>\"&$D$509&\"</NumEnvio>\n<FecEnvio>\"&$D$510&\"</FecEnvio>\n<FecInicial>\"&$D$511&\"</FecInicial>\n<FecFinal>\"&$D$512&\"</FecFinal>\n<ValorTotal>\"&rango_suma($B607)&\"</ValorTotal>\n<CantReg>\"&$E607&\"</CantReg>\n</Cab>\n\"),\"\")","v":""},92,"",null,0,{"$nulls":10},"Datos_Encabezados",0,30,{"$f":"(P607=Parametros[Segmento])*(Q607>0)*(R607>0)","v":0}]
[{"$f":"IFERROR(IF(E608=0,\"\",\"<?xml version=\"\"1.0\"\" encoding=\"\"ISO-8859-1\"\"?>\n<mas xmlns:xsi=\"\"http://www.w3.org/2001/XMLSchema-instance\"\" xsi:noNamespaceSchemaLocation=\"\"../xsd/\"&$D$507&\".xsd\"\">\n<Cab>\n<Ano>\"&$D$505&\"</Ano>\n<CodCpt>\"&$D$506&\"</CodCpt>\n<Formato>\"&$D$507&\"</Formato>\n<Version>\"&$D$508&\"</Version>\n<NumEnvio>\"&$D$509&\"</NumEnvio>\n<FecEnvio>\"&$D$510&\"</FecEnvio>\n<FecInicial>\"&$D$511&\"</FecInicial>\n<FecFinal>\"&$D$512&\"</FecFinal>\n<ValorTotal>\"&rango_suma($B608)&\"</ValorTotal>\n<CantReg>\"&$E608&\"</CantReg>\n</Cab>\n\"),\"\")","v":""},93,"",null,0,{"$nulls":10},"Datos_Encabezados",0,30,{"$f":"(P608=Parametros[Segmento])*(Q608>0)*(R608>0)","v":0}]
[{"$f":"IFERROR(IF(E609=0,\"\",\"<?xml version=\"\"1.0\"\" encoding=\"\"ISO-8859-1\"\"?>\n<mas xmlns:xsi=\"\"http://www.w3.org/2001/XMLSchema-instance\"\" xsi:noNamespaceSchemaLocation=\"\"../xsd/\"&$D$507&\".xsd\"\">\n<Cab>\n<Ano>\"&$D$505&\"</Ano>\n<CodCpt>\"&$D$506&\"</CodCpt>\n<Formato>\"&$D$507&\"</Formato>\n<Version>\"&$D$508&\"</Version>\n<NumEnvio>\"&$D$509&\"</NumEnvio>\n<FecEnvio>\"&$D$510&\"</FecEnvio>\n<FecInicial>\"&$D$511&\"</FecInicial>\n<FecFinal>\"&$D$512&\"</FecFinal>\n<ValorTotal>\"&rango_suma($B609)&\"</ValorTotal>\n<CantReg>\"&$E609&\"</CantReg>\n</Cab>\n\"),\"\")","v":""},94,"",null,0,{"$nulls":10},"Datos_Encabezados",0,30,{"$f":"(P609=Parametros[Segmento])*(Q609>0)*(R609>0)","v":0}]
[{"$f":"IFERROR(IF(E610=0,\"\",\"<?xml version=\"\"1.0\"\" encoding=\"\"ISO-8859-1\"\"?>\n<mas xmlns:xsi=\"\"http://www.w3.org/2001/XMLSchema-instance\"\" xsi:noNamespaceSchemaLocation=\"\"../xsd/\"&$D$507&\".xsd\"\">\n<Cab>\n<Ano>\"&$D$505&\"</Ano>\n<CodCpt>\"&$D$506&\"</CodCpt>\n<Formato>\"&$D$507&\"</Formato>\n<Version>\"&$D$508&\"</Version>\n<NumEnvio>\"&$D$509&\"</NumEnvio>\n<FecEnvio>\"&$D$510&\"</FecEnvio>\n<FecInicial>\"&$D$511&\"</FecInicial>\n<FecFinal>\"&$D$512&\"</FecFinal>\n<ValorTotal>\"&rango_suma($B610)&\"</ValorTotal>\n<CantReg>\"&$E610&\"</CantReg>\n</Cab>\n\"),\"\")","v":""},95,"",null,0,{"$nulls":10},"Datos_Encabezados",0,30,{"$f":"(P610=Parametros[Segmento])*(Q610>0)*(R610>0)","v":0}]
[{"$f":"IFERROR(IF(E611=0,\"\",\"<?xml version=\"\"1.0\"\" encoding=\"\"ISO-8859-1\"\"?>\n<mas xmlns:xsi=\"\"http://www.w3.org/2001/XMLSchema-instance\"\" xsi:noNamespaceSchemaLocation=\"\"../xsd/\"&$D$507&\".xsd\"\">\n<Cab>\n<Ano>\"&$D$505&\"</Ano>\n<CodCpt>\"&$D$506&\"</CodCpt>\n<Formato>\"&$D$507&\"</Formato>\n<Version>\"&$D$508&\"</Version>\n<NumEnvio>\"&$D$509&\"</NumEnvio>\n<FecEnvio>\"&$D$510&\"</FecEnvio>\n<FecInicial>\"&$D$511&\"</FecInicial>\n<FecFinal>\"&$D$512&\"</FecFinal>\n<ValorTotal>\"&rango_suma($B611)&\"</ValorTotal>\n<CantReg>\"&$E611&\"</CantReg>\n</Cab>\n\"),\"\")","v":""},96,"",null,0,{"$nulls":10},"Datos_Encabezados",0,30,{"$f":"(P611=Parametros[Segmento])*(Q611>0)*(R611>0)","v":0}]
[{"$f":"IFERROR(IF(E612=0,\"\",\"<?xml version=\"\"1.0\"\" encoding=\"\"ISO-8859-1\"\"?>\n<mas xmlns:xsi=\"\"http://www.w3.org/2001/XMLSchema-instance\"\" xsi:noNamespaceSchemaLocation=\"\"../xsd/\"&$D$507&\".xsd\"\">\n<Cab>\n<Ano>\"&$D$505&\"</Ano>\n<CodCpt>\"&$D$506&\"</CodCpt>\n<Formato>\"&$D$507&\"</Formato>\n<Version>\"&$D$508&\"</Version>\n<NumEnvio>\"&$D$509&\"</NumEnvio>\n<FecEnvio>\"&$D$510&\"</FecEnvio>\n<FecInicial>\"&$D$511&\"</FecInicial>\n<FecFinal>\"&$D$512&\"</FecFinal>\n<ValorTotal>\"&rango_suma($B612)&\"</ValorTotal>\n<CantReg>\"&$E612&\"</CantReg>\n</Cab>\n\"),\"\")","v":""},97,"",null,0,{"$nulls":10},"Datos_Encabezados",{"$f":"IF(E612>0,1,0)","v":0},30,{"$f":"(P612=Parametros[Segmento])*(Q612>0)*(R612>0)","v":0}]
[{"$f":"IFERROR(IF(E613=0,\"\",\"<?xml version=\"\"1.0\"\" encoding=\"\"ISO-8859-1\"\"?>\n<mas xmlns:xsi=\"\"http://www.w3.org/2001/XMLSchema-instance\"\" xsi:noNamespaceSchemaLocation=\"\"../xsd/\"&$D$507&\".xsd\"\">\n<Cab>\n<Ano>\"&$D$505&\"</Ano>\n<CodCpt>\"&$D$506&\"</CodCpt>\n<Formato>\"&$D$507&\"</Formato>\n<Version>\"&$D$508&\"</Version>\n<NumEnvio>\"&$D$509&\"</NumEnvio>\n<FecEnvio>\"&$D$510&\"</FecEnvio>\n<FecInicial>\"&$D$511&\"</FecInicial>\n<FecFinal>\"&$D$512&\"</FecFinal>\n<ValorTotal>\"&rango_suma($B613)&\"</ValorTotal>\n<CantReg>\"&$E613&\"</CantReg>\n</Cab>\n\"),\"\")","v":""},98,"",null,{"$f":"IFERROR(IF(E612=5000,Conteo_Registros($B613),0),0)","v":0},{"$nulls":10},"Datos_Encabezados",0,30,{"$f":"(P613=Parametros[Segmento])*(Q613>0)*(R613>0)","v":0}]
[{"$f":"IFERROR(IF(E614=0,\"\",\"<?xml version=\"\"1.0\"\" encoding=\"\"ISO-8859-1\"\"?>\n<mas xmlns:xsi=\"\"http://www.w3.org/2001/XMLSchema-instance\"\" xsi:noNamespaceSchemaLocation=\"\"../xsd/\"&$D$507&\".xsd\"\">\n<Cab>\n<Ano>\"&$D$505&\"</Ano>\n<CodCpt>\"&$D$506&\"</CodCpt>\n<Formato>\"&$D$507&\"</Formato>\n<Version>\"&$D$508&\"</Version>\n<NumEnvio>\"&$D$509&\"</NumEnvio>\n<FecEnvio>\"&$D$510&\"</FecEnvio>\n<FecInicial>\"&$D$511&\"</FecInicial>\n<FecFinal>\"&$D$512&\"</FecFinal>\n<ValorTotal>\"&rango_suma($B614)&\"</ValorTotal>\n<CantReg>\"&$E614&\"</CantReg>\n</Cab>\n\"),\"\")","v":""},99,"",null,0,{"$nulls":10},"Datos_Encabezados",0,30,{"$f":"(P614=Parametros[Segmento])*(Q614>0)*(R614>0)","v":0}]
[{"$f":"IFERROR(IF(E615=0,\"\",\"<?xml version=\"\"1.0\"\" encoding=\"\"ISO-8859-1\"\"?>\n<mas xmlns:xsi=\"\"http://www.w3.org/2001/XMLSchema-instance\"\" xsi:noNamespaceSchemaLocation=\"\"../xsd/\"&$D$507&\".xsd\"\">\n<Cab>\n<Ano>\"&$D$505&\"</Ano>\n<CodCpt>\"&$D$506&\"</CodCpt>\n<Formato>\"&$D$507&\"</Formato>\n<Version>\"&$D$508&\"</Version>\n<NumEnvio>\"&$D$509&\"</NumEnvio>\n<FecEnvio>\"&$D$510&\"</FecEnvio>\n<FecInicial>\"&$D$511&\"</FecInicial>\n<FecFinal>\"&$D$512&\"</FecFinal>\n<ValorTotal>\"&rango_suma($B615)&\"</ValorTotal>\n<CantReg>\"&$E615&\"</CantReg>\n</Cab>\n\"),\"\")","v":""},100,"",null,0,{"$nulls":10},"Datos_Encabezados",0,30,{"$f":"(P615=Parametros[Segmento])*(Q615>0)*(R615>0)","v":0}]
[{"$f":"IFERROR(IF(E616=0,\"\",\"<?xml version=\"\"1.0\"\" encoding=\"\"ISO-8859-1\"\"?>\n<mas xmlns:xsi=\"\"http://www.w3.org/2001/XMLSchema-instance\"\" xsi:noNamespaceSchemaLocation=\"\"../xsd/\"&$D$507&\".xsd\"\">\n<Cab>\n<Ano>\"&$D$505&\"</Ano>\n<CodCpt>\"&$D$506&\"</CodCpt>\n<Formato>\"&$D$507&\"</Formato>\n<Version>\"&$D$508&\"</Version>\n<NumEnvio>\"&$D$509&\"</NumEnvio>\n<FecEnvio>\"&$D$510&\"</FecEnvio>\n<FecInicial>\"&$D$511&\"</FecInicial>\n<FecFinal>\"&$D$512&\"</FecFinal>\n<ValorTotal>\"&rango_suma($B616)&\"</ValorTotal>\n<CantReg>\"&$E616&\"</CantReg>\n</Cab>\n\"),\"\")","v":""},101,"",null,0,{"$nulls":10},"Datos_Encabezados",0,30,{"$f":"(P616=Parametros[Segmento])*(Q616>0)*(R616>0)","v":0}]
[{"$f":"IFERROR(IF(E617=0,\"\",\"<?xml version=\"\"1.0\"\" encoding=\"\"ISO-8859-1\"\"?>\n<mas xmlns:xsi=\"\"http://www.w3.org/2001/XMLSchema-instance\"\" xsi:noNamespaceSchemaLocation=\"\"../xsd/\"&$D$507&\".xsd\"\">\n<Cab>\n<Ano>\"&$D$505&\"</Ano>\n<CodCpt>\"&$D$506&\"</CodCpt>\n<Formato>\"&$D$507&\"</Formato>\n<Version>\"&$D$508&\"</Version>\n<NumEnvio>\"&$D$509&\"</NumEnvio>\n<FecEnvio>\"&$D$510&\"</FecEnvio>\n<FecInicial>\"&$D$511&\"</FecInicial>\n<FecFinal>\"&$D$512&\"</FecFinal>\n<ValorTotal>\"&rango_suma($B617)&\"</ValorTotal>\n<CantReg>\"&$E617&\"</CantReg>\n</Cab>\n\"),\"\")","v":""},102,"",null,0,{"$nulls":10},"Datos_Encabezados",0,30,{"$f":"(P617=Parametros[Segmento])*(Q617>0)*(R617>0)","v":0}]
[{"$f":"IFERROR(IF(E618=0,\"\",\"<?xml version=\"\"1.0\"\" encoding=\"\"ISO-8859-1\"\"?>\n<mas xmlns:xsi=\"\"http://www.w3.org/2001/XMLSchema-instance\"\" xsi:noNamespaceSchemaLocation=\"\"../xsd/\"&$D$507&\".xsd\"\">\n<Cab>\n<Ano>\"&$D$505&\"</Ano>\n<CodCpt>\"&$D$506&\"</CodCpt>\n<Formato>\"&$D$507&\"</Formato>\n<Version>\"&$D$508&\"</Version>\n<NumEnvio>\"&$D$509&\"</NumEnvio>\n<FecEnvio>\"&$D$510&\"</FecEnvio>\n<FecInicial>\"&$D$511&\"</FecInicial>\n<FecFinal>\"&$D$512&\"</FecFinal>\n<ValorTotal>\"&rango_suma($B618)&\"</ValorTotal>\n<CantReg>\"&$E618&\"</CantReg>\n</Cab>\n\"),\"\")","v":""},103,"",null,0,{"$nulls":10},"Datos_Encabezados",0,30,{"$f":"(P618=Parametros[Segmento])*(Q618>0)*(R618>0)","v":0}]
[{"$f":"IFERROR(IF(E619=0,\"\",\"<?xml version=\"\"1.0\"\" encoding=\"\"ISO-8859-1\"\"?>\n<mas xmlns:xsi=\"\"http://www.w3.org/2001/XMLSchema-instance\"\" xsi:noNamespaceSchemaLocation=\"\"../xsd/\"&$D$507&\".xsd\"\">\n<Cab>\n<Ano>\"&$D$505&\"</Ano>\n<CodCpt>\"&$D$506&\"</CodCpt>\n<Formato>\"&$D$507&\"</Formato>\n<Version>\"&$D$508&\"</Version>\n<NumEnvio>\"&$D$509&\"</NumEnvio>\n<FecEnvio>\"&$D$510&\"</FecEnvio>\n<FecInicial>\"&$D$511&\"</FecInicial>\n<FecFinal>\"&$D$512&\"</FecFinal>\n<ValorTotal>\"&rango_suma($B619)&\"</ValorTotal>\n<CantReg>\"&$E619&\"</CantReg>\n</Cab>\n\"),\"\")","v":""},104,"",null,0,{"$nulls":10},"Datos_Encabezados",0,30,{"$f":"(P619=Parametros[Segmento])*(Q619>0)*(R619>0)","v":0}]
[{"$f":"IFERROR(IF(E620=0,\"\",\"<?xml version=\"\"1.0\"\" encoding=\"\"ISO-8859-1\"\"?>\n<mas xmlns:xsi=\"\"http://www.w3.org/2001/XMLSchema-instance\"\" xsi:noNamespaceSchemaLocation=\"\"../xsd/\"&$D$507&\".xsd\"\">\n<Cab>\n<Ano>\"&$D$505&\"</Ano>\n<CodCpt>\"&$D$506&\"</CodCpt>\n<Formato>\"&$D$507&\"</Formato>\n<Version>\"&$D$508&\"</Version>\n<NumEnvio>\"&$D$509&\"</NumEnvio>\n<FecEnvio>\"&$D$510&\"</FecEnvio>\n<FecInicial>\"&$D$511&\"</FecInicial>\n<FecFinal>\"&$D$512&\"</FecFinal>\n<ValorTotal>\"&rango_suma($B620)&\"</ValorTotal>\n<CantReg>\"&$E620&\"</CantReg>\n</Cab>\n\"),\"\")","v":""},105,"",null,0,{"$nulls":10},"Datos_Encabezados",0,30,{"$f":"(P620=Parametros[Segmento])*(Q620>0)*(R620>0)","v":0}]
[{"$f":"IFERROR(IF(E621=0,\"\",\"<?xml version=\"\"1.0\"\" encoding=\"\"ISO-8859-1\"\"?>\n<mas xmlns:xsi=\"\"http://www.w3.org/2001/XMLSchema-instance\"\" xsi:noNamespaceSchemaLocation=\"\"../xsd/\"&$D$507&\".xsd\"\">\n<Cab>\n<Ano>\"&$D$505&\"</Ano>\n<CodCpt>\"&$D$506&\"</CodCpt>\n<Formato>\"&$D$507&\"</Formato>\n<Version>\"&$D$508&\"</Version>\n<NumEnvio>\"&$D$509&\"</NumEnvio>\n<FecEnvio>\"&$D$510&\"</FecEnvio>\n<FecInicial>\"&$D$511&\"</FecInicial>\n<FecFinal>\"&$D$512&\"</FecFinal>\n<ValorTotal>\"&rango_suma($B621)&\"</ValorTotal>\n<CantReg>\"&$E621&\"</CantReg>\n</Cab>\n\"),\"\")","v":""},106,"",null,0,{"$nulls":10},"Datos_Encabezados",0,30,{"$f":"(P621=Parametros[Segmento])*(Q621>0)*(R621>0)","v":0}]
[{"$f":"IFERROR(IF(E622=0,\"\",\"<?xml version=\"\"1.0\"\" encoding=\"\"ISO-8859-1\"\"?>\n<mas xmlns:xsi=\"\"http://www.w3.org/2001/XMLSchema-instance\"\" xsi:noNamespaceSchemaLocation=\"\"../xsd/\"&$D$507&\".xsd\"\">\n<Cab>\n<Ano>\"&$D$505&\"</Ano>\n<CodCpt>\"&$D$506&\"</CodCpt>\n<Formato>\"&$D$507&\"</Formato>\n<Version>\"&$D$508&\"</Version>\n<NumEnvio>\"&$D$509&\"</NumEnvio>\n<FecEnvio>\"&$D$510&\"</FecEnvio>\n<FecInicial>\"&$D$511&\"</FecInicial>\n<FecFinal>\"&$D$512&\"</FecFinal>\n<ValorTotal>\"&rango_suma($B622)&\"</ValorTotal>\n<CantReg>\"&$E622&\"</CantReg>\n</Cab>\n\"),\"\")","v":""},107,"",null,0,{"$nulls":10},"Datos_Encabezados",0,30,{"$f":"(P622=Parametros[Segmento])*(Q622>0)*(R622>0)","v":0}]
[{"$f":"IFERROR(IF(E623=0,\"\",\"<?xml version=\"\"1.0\"\" encoding=\"\"ISO-8859-1\"\"?>\n<mas xmlns:xsi=\"\"http://www.w3.org/2001/XMLSchema-instance\"\" xsi:noNamespaceSchemaLocation=\"\"../xsd/\"&$D$507&\".xsd\"\">\n<Cab>\n<Ano>\"&$D$505&\"</Ano>\n<CodCpt>\"&$D$506&\"</CodCpt>\n<Formato>\"&$D$507&\"</Formato>\n<Version>\"&$D$508&\"</Version>\n<NumEnvio>\"&$D$509&\"</NumEnvio>\n<FecEnvio>\"&$D$510&\"</FecEnvio>\n<FecInicial>\"&$D$511&\"</FecInicial>\n<FecFinal>\"&$D$512&\"</FecFinal>\n<ValorTotal>\"&rango_suma($B623)&\"</ValorTotal>\n<CantReg>\"&$E623&\"</CantReg>\n</Cab>\n\"),\"\")","v":""},108,"",null,0,{"$nulls":10},"Datos_Encabezados",0,30,{"$f":"(P623=Parametros[Segmento])*(Q623>0)*(R623>0)","v":0}]
[{"$f":"IFERROR(IF(E624=0,\"\",\"<?xml version=\"\"1.0\"\" encoding=\"\"ISO-8859-1\"\"?>\n<mas xmlns:xsi=\"\"http://www.w3.org/2001/XMLSchema-instance\"\" xsi:noNamespaceSchemaLocation=\"\"../xsd/\"&$D$507&\".xsd\"\">\n<Cab>\n<Ano>\"&$D$505&\"</Ano>\n<CodCpt>\"&$D$506&\"</CodCpt>\n<Formato>\"&$D$507&\"</Formato>\n<Version>\"&$D$508&\"</Version>\n<NumEnvio>\"&$D$509&\"</NumEnvio>\n<FecEnvio>\"&$D$510&\"</FecEnvio>\n<FecInicial>\"&$D$511&\"</FecInicial>\n<FecFinal>\"&$D$512&\"</FecFinal>\n<ValorTotal>\"&rango_suma($B624)&\"</ValorTotal>\n<CantReg>\"&$E624&\"</CantReg>\n</Cab>\n\"),\"\")","v":""},109,"",null,0,{"$nulls":10},"Datos_Encabezados",0,30,{"$f":"(P624=Parametros[Segmento])*(Q624>0)*(R624>0)","v":0}]
[{"$f":"IFERROR(IF(E625=0,\"\",\"<?xml version=\"\"1.0\"\" encoding=\"\"ISO-8859-1\"\"?>\n<mas xmlns:xsi=\"\"http://www.w3.org/2001/XMLSchema-instance\"\" xsi:noNamespaceSchemaLocation=\"\"../xsd/\"&$D$507&\".xsd\"\">\n<Cab>\n<Ano>\"&$D$505&\"</Ano>\n<CodCpt>\"&$D$506&\"</CodCpt>\n<Formato>\"&$D$507&\"</Formato>\n<Version>\"&$D$508&\"</Version>\n<NumEnvio>\"&$D$509&\"</NumEnvio>\n<FecEnvio>\"&$D$510&\"</FecEnvio>\n<FecInicial>\"&$D$511&\"</FecInicial>\n<FecFinal>\"&$D$512&\"</FecFinal>\n<ValorTotal>\"&rango_suma($B625)&\"</ValorTotal>\n<CantReg>\"&$E625&\"</CantReg>\n</Cab>\n\"),\"\")","v":""},110,"",null,0,{"$nulls":10},"Datos_Encabezados",0,30,{"$f":"(P625=Parametros[Segmento])*(Q625>0)*(R625>0)","v":0}]
[{"$f":"IFERROR(IF(E626=0,\"\",\"<?xml version=\"\"1.0\"\" encoding=\"\"ISO-8859-1\"\"?>\n<mas xmlns:xsi=\"\"http://www.w3.org/2001/XMLSchema-instance\"\" xsi:noNamespaceSchemaLocation=\"\"../xsd/\"&$D$507&\".xsd\"\">\n<Cab>\n<Ano>\"&$D$505&\"</Ano>\n<CodCpt>\"&$D$506&\"</CodCpt>\n<Formato>\"&$D$507&\"</Formato>\n<Version>\"&$D$508&\"</Version>\n<NumEnvio>\"&$D$509&\"</NumEnvio>\n<FecEnvio>\"&$D$510&\"</FecEnvio>\n<FecInicial>\"&$D$511&\"</FecInicial>\n<FecFinal>\"&$D$512&\"</FecFinal>\n<ValorTotal>\"&rango_suma($B626)&\"</ValorTotal>\n<CantReg>\"&$E626&\"</CantReg>\n</Cab>\n\"),\"\")","v":""},111,"",null,0,{"$nulls":10},"Datos_Encabezados",0,30,{"$f":"(P626=Parametros[Segmento])*(Q626>0)*(R626>0)","v":0}]
[{"$f":"IFERROR(IF(E627=0,\"\",\"<?xml version=\"\"1.0\"\" encoding=\"\"ISO-8859-1\"\"?>\n<mas xmlns:xsi=\"\"http://www.w3.org/2001/XMLSchema-instance\"\" xsi:noNamespaceSchemaLocation=\"\"../xsd/\"&$D$507&\".xsd\"\">\n<Cab>\n<Ano>\"&$D$505&\"</Ano>\n<CodCpt>\"&$D$506&\"</CodCpt>\n<Formato>\"&$D$507&\"</Formato>\n<Version>\"&$D$508&\"</Version>\n<NumEnvio>\"&$D$509&\"</NumEnvio>\n<FecEnvio>\"&$D$510&\"</FecEnvio>\n<FecInicial>\"&$D$511&\"</FecInicial>\n<FecFinal>\"&$D$512&\"</FecFinal>\n<ValorTotal>\"&rango_suma($B627)&\"</ValorTotal>\n<CantReg>\"&$E627&\"</CantReg>\n</Cab>\n\"),\"\")","v":""},112,"",null,0,{"$nulls":10},"Datos_Encabezados",0,30,{"$f":"(P627=Parametros[Segmento])*(Q627>0)*(R627>0)","v":0}]
[{"$f":"IFERROR(IF(E628=0,\"\",\"<?xml version=\"\"1.0\"\" encoding=\"\"ISO-8859-1\"\"?>\n<mas xmlns:xsi=\"\"http://www.w3.org/2001/XMLSchema-instance\"\" xsi:noNamespaceSchemaLocation=\"\"../xsd/\"&$D$507&\".xsd\"\">\n<Cab>\n<Ano>\"&$D$505&\"</Ano>\n<CodCpt>\"&$D$506&\"</CodCpt>\n<Formato>\"&$D$507&\"</Formato>\n<Version>\"&$D$508&\"</Version>\n<NumEnvio>\"&$D$509&\"</NumEnvio>\n<FecEnvio>\"&$D$510&\"</FecEnvio>\n<FecInicial>\"&$D$511&\"</FecInicial>\n<FecFinal>\"&$D$512&\"</FecFinal>\n<ValorTotal>\"&rango_suma($B628)&\"</ValorTotal>\n<CantReg>\"&$E628&\"</CantReg>\n</Cab>\n\"),\"\")","v":""},113,"",null,0,{"$nulls":10},"Datos_Encabezados",0,30,{"$f":"(P628=Parametros[Segmento])*(Q628>0)*(R628>0)","v":0}]
[{"$f":"IFERROR(IF(E629=0,\"\",\"<?xml version=\"\"1.0\"\" encoding=\"\"ISO-8859-1\"\"?>\n<mas xmlns:xsi=\"\"http://www.w3.org/2001/XMLSchema-instance\"\" xsi:noNamespaceSchemaLocation=\"\"../xsd/\"&$D$507&\".xsd\"\">\n<Cab>\n<Ano>\"&$D$505&\"</Ano>\n<CodCpt>\"&$D$506&\"</CodCpt>\n<Formato>\"&$D$507&\"</Formato>\n<Version>\"&$D$508&\"</Version>\n<NumEnvio>\"&$D$509&\"</NumEnvio>\n<FecEnvio>\"&$D$510&\"</FecEnvio>\n<FecInicial>\"&$D$511&\"</FecInicial>\n<FecFinal>\"&$D$512&\"</FecFinal>\n<ValorTotal>\"&rango_suma($B629)&\"</ValorTotal>\n<CantReg>\"&$E629&\"</CantReg>\n</Cab>\n\"),\"\")","v":""},114,"",null,0,{"$nulls":10},"Datos_Encabezados",0,30,{"$f":"(P629=Parametros[Segmento])*(Q629>0)*(R629>0)","v":0}]
[{"$f":"IFERROR(IF(E630=0,\"\",\"<?xml version=\"\"1.0\"\" encoding=\"\"ISO-8859-1\"\"?>\n<mas xmlns:xsi=\"\"http://www.w3.org/2001/XMLSchema-instance\"\" xsi:noNamespaceSchemaLocation=\"\"../xsd/\"&$D$507&\".xsd\"\">\n<Cab>\n<Ano>\"&$D$505&\"</Ano>\n<CodCpt>\"&$D$506&\"</CodCpt>\n<Formato>\"&$D$507&\"</Formato>\n<Version>\"&$D$508&\"</Version>\n<NumEnvio>\"&$D$509&\"</NumEnvio>\n<FecEnvio>\"&$D$510&\"</FecEnvio>\n<FecInicial>\"&$D$511&\"</FecInicial>\n<FecFinal>\"&$D$512&\"</FecFinal>\n<ValorTotal>\"&rango_suma($B630)&\"</ValorTotal>\n<CantReg>\"&$E630&\"</CantReg>\n</Cab>\n\"),\"\")","v":""},115,"",null,0,{"$nulls":10},"Datos_Encabezados",0,30,{"$f":"(P630=Parametros[Segmento])*(Q630>0)*(R630>0)","v":0}]
[{"$f":"IFERROR(IF(E631=0,\"\",\"<?xml version=\"\"1.0\"\" encoding=\"\"ISO-8859-1\"\"?>\n<mas xmlns:xsi=\"\"http://www.w3.org/2001/XMLSchema-instance\"\" xsi:noNamespaceSchemaLocation=\"\"../xsd/\"&$D$507&\".xsd\"\">\n<Cab>\n<Ano>\"&$D$505&\"</Ano>\n<CodCpt>\"&$D$506&\"</CodCpt>\n<Formato>\"&$D$507&\"</Formato>\n<Version>\"&$D$508&\"</Version>\n<NumEnvio>\"&$D$509&\"</NumEnvio>\n<FecEnvio>\"&$D$510&\"</FecEnvio>\n<FecInicial>\"&$D$511&\"</FecInicial>\n<FecFinal>\"&$D$512&\"</FecFinal>\n<ValorTotal>\"&rango_suma($B631)&\"</ValorTotal>\n<CantReg>\"&$E631&\"</CantReg>\n</Cab>\n\"),\"\")","v":""},116,"",null,0,{"$nulls":10},"Datos_Encabezados",0,30,{"$f":"(P631=Parametros[Segmento])*(Q631>0)*(R631>0)","v":0}]
[{"$f":"IFERROR(IF(E632=0,\"\",\"<?xml version=\"\"1.0\"\" encoding=\"\"ISO-8859-1\"\"?>\n<mas xmlns:xsi=\"\"http://www.w3.org/2001/XMLSchema-instance\"\" xsi:noNamespaceSchemaLocation=\"\"../xsd/\"&$D$507&\".xsd\"\">\n<Cab>\n<Ano>\"&$D$505&\"</Ano>\n<CodCpt>\"&$D$506&\"</CodCpt>\n<Formato>\"&$D$507&\"</Formato>\n<Version>\"&$D$508&\"</Version>\n<NumEnvio>\"&$D$509&\"</NumEnvio>\n<FecEnvio>\"&$D$510&\"</FecEnvio>\n<FecInicial>\"&$D$511&\"</FecInicial>\n<FecFinal>\"&$D$512&\"</FecFinal>\n<ValorTotal>\"&rango_suma($B632)&\"</ValorTotal>\n<CantReg>\"&$E632&\"</CantReg>\n</Cab>\n\"),\"\")","v":""},117,"",null,0,{"$nulls":10},"Datos_Encabezados",0,30,{"$f":"(P632=Parametros[Segmento])*(Q632>0)*(R632>0)","v":0}]
[{"$f":"IFERROR(IF(E633=0,\"\",\"<?xml version=\"\"1.0\"\" encoding=\"\"ISO-8859-1\"\"?>\n<mas xmlns:xsi=\"\"http://www.w3.org/2001/XMLSchema-instance\"\" xsi:noNamespaceSchemaLocation=\"\"../xsd/\"&$D$507&\".xsd\"\">\n<Cab>\n<Ano>\"&$D$505&\"</Ano>\n<CodCpt>\"&$D$506&\"</CodCpt>\n<Formato>\"&$D$507&\"</Formato>\n<Version>\"&$D$508&\"</Version>\n<NumEnvio>\"&$D$509&\"</NumEnvio>\n<FecEnvio>\"&$D$510&\"</FecEnvio>\n<FecInicial>\"&$D$511&\"</FecInicial>\n<FecFinal>\"&$D$512&\"</FecFinal>\n<ValorTotal>\"&rango_suma($B633)&\"</ValorTotal>\n<CantReg>\"&$E633&\"</CantReg>\n</Cab>\n\"),\"\")","v":""},118,"",null,0,{"$nulls":10},"Datos_Encabezados",0,30,{"$f":"(P633=Parametros[Segmento])*(Q633>0)*(R633>0)","v":0}]
[{"$f":"IFERROR(IF(E634=0,\"\",\"<?xml version=\"\"1.0\"\" encoding=\"\"ISO-8859-1\"\"?>\n<mas xmlns:xsi=\"\"http://www.w3.org/2001/XMLSchema-instance\"\" xsi:noNamespaceSchemaLocation=\"\"../xsd/\"&$D$507&\".xsd\"\">\n<Cab>\n<Ano>\"&$D$505&\"</Ano>\n<CodCpt>\"&$D$506&\"</CodCpt>\n<Formato>\"&$D$507&\"</Formato>\n<Version>\"&$D$508&\"</Version>\n<NumEnvio>\"&$D$509&\"</NumEnvio>\n<FecEnvio>\"&$D$510&\"</FecEnvio>\n<FecInicial>\"&$D$511&\"</FecInicial>\n<FecFinal>\"&$D$512&\"</FecFinal>\n<ValorTotal>\"&rango_suma($B634)&\"</ValorTotal>\n<CantReg>\"&$E634&\"</CantReg>\n</Cab>\n\"),\"\")","v":""},119,"",null,0,{"$nulls":10},"Datos_Encabezados",0,30,{"$f":"(P634=Parametros[Segmento])*(Q634>0)*(R634>0)","v":0}]
[{"$f":"IFERROR(IF(E635=0,\"\",\"<?xml version=\"\"1.0\"\" encoding=\"\"ISO-8859-1\"\"?>\n<mas xmlns:xsi=\"\"http://www.w3.org/2001/XMLSchema-instance\"\" xsi:noNamespaceSchemaLocation=\"\"../xsd/\"&$D$507&\".xsd\"\">\n<Cab>\n<Ano>\"&$D$505&\"</Ano>\n<CodCpt>\"&$D$506&\"</CodCpt>\n<Formato>\"&$D$507&\"</Formato>\n<Version>\"&$D$508&\"</Version>\n<NumEnvio>\"&$D$509&\"</NumEnvio>\n<FecEnvio>\"&$D$510&\"</FecEnvio>\n<FecInicial>\"&$D$511&\"</FecInicial>\n<FecFinal>\"&$D$512&\"</FecFinal>\n<ValorTotal>\"&rango_suma($B635)&\"</ValorTotal>\n<CantReg>\"&$E635&\"</CantReg>\n</Cab>\n\"),\"\")","v":""},120,"",null,0,{"$nulls":10},"Datos_Encabezados",0,30,{"$f":"(P635=Parametros[Segmento])*(Q635>0)*(R635>0)","v":0}]
[{"$f":"IFERROR(IF(E636=0,\"\",\"<?xml version=\"\"1.0\"\" encoding=\"\"ISO-8859-1\"\"?>\n<mas xmlns:xsi=\"\"http://www.w3.org/2001/XMLSchema-instance\"\" xsi:noNamespaceSchemaLocation=\"\"../xsd/\"&$D$507&\".xsd\"\">\n<Cab>\n<Ano>\"&$D$505&\"</Ano>\n<CodCpt>\"&$D$506&\"</CodCpt>\n<Formato>\"&$D$507&\"</Formato>\n<Version>\"&$D$508&\"</Version>\n<NumEnvio>\"&$D$509&\"</NumEnvio>\n<FecEnvio>\"&$D$510&\"</FecEnvio>\n<FecInicial>\"&$D$511&\"</FecInicial>\n<FecFinal>\"&$D$512&\"</FecFinal>\n<ValorTotal>\"&rango_suma($B636)&\"</ValorTotal>\n<CantReg>\"&$E636&\"</CantReg>\n</Cab>\n\"),\"\")","v":""},121,"",null,0,{"$nulls":10},"Datos_Encabezados",0,30,{"$f":"(P636=Parametros[Segmento])*(Q636>0)*(R636>0)","v":0}]
[{"$f":"IFERROR(IF(E637=0,\"\",\"<?xml version=\"\"1.0\"\" encoding=\"\"ISO-8859-1\"\"?>\n<mas xmlns:xsi=\"\"http://www.w3.org/2001/XMLSchema-instance\"\" xsi:noNamespaceSchemaLocation=\"\"../xsd/\"&$D$507&\".xsd\"\">\n<Cab>\n<Ano>\"&$D$505&\"</Ano>\n<CodCpt>\"&$D$506&\"</CodCpt>\n<Formato>\"&$D$507&\"</Formato>\n<Version>\"&$D$508&\"</Version>\n<NumEnvio>\"&$D$509&\"</NumEnvio>\n<FecEnvio>\"&$D$510&\"</FecEnvio>\n<FecInicial>\"&$D$511&\"</FecInicial>\n<FecFinal>\"&$D$512&\"</FecFinal>\n<ValorTotal>\"&rango_suma($B637)&\"</ValorTotal>\n<CantReg>\"&$E637&\"</CantReg>\n</Cab>\n\"),\"\")","v":""},122,"",null,0,{"$nulls":10},"Datos_Encabezados",0,30,{"$f":"(P637=Parametros[Segmento])*(Q637>0)*(R637>0)","v":0}]
[{"$f":"IFERROR(IF(E638=0,\"\",\"<?xml version=\"\"1.0\"\" encoding=\"\"ISO-8859-1\"\"?>\n<mas xmlns:xsi=\"\"http://www.w3.org/2001/XMLSchema-instance\"\" xsi:noNamespaceSchemaLocation=\"\"../xsd/\"&$D$507&\".xsd\"\">\n<Cab>\n<Ano>\"&$D$505&\"</Ano>\n<CodCpt>\"&$D$506&\"</CodCpt>\n<Formato>\"&$D$507&\"</Formato>\n<Version>\"&$D$508&\"</Version>\n<NumEnvio>\"&$D$509&\"</NumEnvio>\n<FecEnvio>\"&$D$510&\"</FecEnvio>\n<FecInicial>\"&$D$511&\"</FecInicial>\n<FecFinal>\"&$D$512&\"</FecFinal>\n<ValorTotal>\"&rango_suma($B638)&\"</ValorTotal>\n<CantReg>\"&$E638&\"</CantReg>\n</Cab>\n\"),\"\")","v":""},123,"",null,0,{"$nulls":10},"Datos_Encabezados",0,30,{"$f":"(P638=Parametros[Segmento])*(Q638>0)*(R638>0)","v":0}]
[{"$f":"IFERROR(IF(E639=0,\"\",\"<?xml version=\"\"1.0\"\" encoding=\"\"ISO-8859-1\"\"?>\n<mas xmlns:xsi=\"\"http://www.w3.org/2001/XMLSchema-instance\"\" xsi:noNamespaceSchemaLocation=\"\"../xsd/\"&$D$507&\".xsd\"\">\n<Cab>\n<Ano>\"&$D$505&\"</Ano>\n<CodCpt>\"&$D$506&\"</CodCpt>\n<Formato>\"&$D$507&\"</Formato>\n<Version>\"&$D$508&\"</Version>\n<NumEnvio>\"&$D$509&\"</NumEnvio>\n<FecEnvio>\"&$D$510&\"</FecEnvio>\n<FecInicial>\"&$D$511&\"</FecInicial>\n<FecFinal>\"&$D$512&\"</FecFinal>\n<ValorTotal>\"&rango_suma($B639)&\"</ValorTotal>\n<CantReg>\"&$E639&\"</CantReg>\n</Cab>\n\"),\"\")","v":""},124,"",null,0,{"$nulls":10},"Datos_Encabezados",0,30,{"$f":"(P639=Parametros[Segmento])*(Q639>0)*(R639>0)","v":0}]
[{"$f":"IFERROR(IF(E640=0,\"\",\"<?xml version=\"\"1.0\"\" encoding=\"\"ISO-8859-1\"\"?>\n<mas xmlns:xsi=\"\"http://www.w3.org/2001/XMLSchema-instance\"\" xsi:noNamespaceSchemaLocation=\"\"../xsd/\"&$D$507&\".xsd\"\">\n<Cab>\n<Ano>\"&$D$505&\"</Ano>\n<CodCpt>\"&$D$506&\"</CodCpt>\n<Formato>\"&$D$507&\"</Formato>\n<Version>\"&$D$508&\"</Version>\n<NumEnvio>\"&$D$509&\"</NumEnvio>\n<FecEnvio>\"&$D$510&\"</FecEnvio>\n<FecInicial>\"&$D$511&\"</FecInicial>\n<FecFinal>\"&$D$512&\"</FecFinal>\n<ValorTotal>\"&rango_suma($B640)&\"</ValorTotal>\n<CantReg>\"&$E640&\"</CantReg>\n</Cab>\n\"),\"\")","v":""},125,"",null,0,{"$nulls":10},"Datos_Encabezados",0,30,{"$f":"(P640=Parametros[Segmento])*(Q640>0)*(R640>0)","v":0}]
[{"$f":"IFERROR(IF(E641=0,\"\",\"<?xml version=\"\"1.0\"\" encoding=\"\"ISO-8859-1\"\"?>\n<mas xmlns:xsi=\"\"http://www.w3.org/2001/XMLSchema-instance\"\" xsi:noNamespaceSchemaLocation=\"\"../xsd/\"&$D$507&\".xsd\"\">\n<Cab>\n<Ano>\"&$D$505&\"</Ano>\n<CodCpt>\"&$D$506&\"</CodCpt>\n<Formato>\"&$D$507&\"</Formato>\n<Version>\"&$D$508&\"</Version>\n<NumEnvio>\"&$D$509&\"</NumEnvio>\n<FecEnvio>\"&$D$510&\"</FecEnvio>\n<FecInicial>\"&$D$511&\"</FecInicial>\n<FecFinal>\"&$D$512&\"</FecFinal>\n<ValorTotal>\"&rango_suma($B641)&\"</ValorTotal>\n<CantReg>\"&$E641&\"</CantReg>\n</Cab>\n\"),\"\")","v":""},126,"",null,0,{"$nulls":10},"Datos_Encabezados",0,30,{"$f":"(P641=Parametros[Segmento])*(Q641>0)*(R641>0)","v":0}]
[{"$f":"IFERROR(IF(E642=0,\"\",\"<?xml version=\"\"1.0\"\" encoding=\"\"ISO-8859-1\"\"?>\n<mas xmlns:xsi=\"\"http://www.w3.org/2001/XMLSchema-instance\"\" xsi:noNamespaceSchemaLocation=\"\"../xsd/\"&$D$507&\".xsd\"\">\n<Cab>\n<Ano>\"&$D$505&\"</Ano>\n<CodCpt>\"&$D$506&\"</CodCpt>\n<Formato>\"&$D$507&\"</Formato>\n<Version>\"&$D$508&\"</Version>\n<NumEnvio>\"&$D$509&\"</NumEnvio>\n<FecEnvio>\"&$D$510&\"</FecEnvio>\n<FecInicial>\"&$D$511&\"</FecInicial>\n<FecFinal>\"&$D$512&\"</FecFinal>\n<ValorTotal>\"&rango_suma($B642)&\"</ValorTotal>\n<CantReg>\"&$E642&\"</CantReg>\n</Cab>\n\"),\"\")","v":""},127,"",null,0,{"$nulls":10},"Datos_Encabezados",0,30,{"$f":"(P642=Parametros[Segmento])*(Q642>0)*(R642>0)","v":0}]
[{"$f":"IFERROR(IF(E643=0,\"\",\"<?xml version=\"\"1.0\"\" encoding=\"\"ISO-8859-1\"\"?>\n<mas xmlns:xsi=\"\"http://www.w3.org/2001/XMLSchema-instance\"\" xsi:noNamespaceSchemaLocation=\"\"../xsd/\"&$D$507&\".xsd\"\">\n<Cab>\n<Ano>\"&$D$505&\"</Ano>\n<CodCpt>\"&$D$506&\"</CodCpt>\n<Formato>\"&$D$507&\"</Formato>\n<Version>\"&$D$508&\"</Version>\n<NumEnvio>\"&$D$509&\"</NumEnvio>\n<FecEnvio>\"&$D$510&\"</FecEnvio>\n<FecInicial>\"&$D$511&\"</FecInicial>\n<FecFinal>\"&$D$512&\"</FecFinal>\n<ValorTotal>\"&rango_suma($B643)&\"</ValorTotal>\n<CantReg>\"&$E643&\"</CantReg>\n</Cab>\n\"),\"\")","v":""},128,"",null,0,{"$nulls":10},"Datos_Encabezados",0,30,{"$f":"(P643=Parametros[Segmento])*(Q643>0)*(R643>0)","v":0}]
[{"$f":"IFERROR(IF(E644=0,\"\",\"<?xml version=\"\"1.0\"\" encoding=\"\"ISO-8859-1\"\"?>\n<mas xmlns:xsi=\"\"http://www.w3.org/2001/XMLSchema-instance\"\" xsi:noNamespaceSchemaLocation=\"\"../xsd/\"&$D$507&\".xsd\"\">\n<Cab>\n<Ano>\"&$D$505&\"</Ano>\n<CodCpt>\"&$D$506&\"</CodCpt>\n<Formato>\"&$D$507&\"</Formato>\n<Version>\"&$D$508&\"</Version>\n<NumEnvio>\"&$D$509&\"</NumEnvio>\n<FecEnvio>\"&$D$510&\"</FecEnvio>\n<FecInicial>\"&$D$511&\"</FecInicial>\n<FecFinal>\"&$D$512&\"</FecFinal>\n<ValorTotal>\"&rango_suma($B644)&\"</ValorTotal>\n<CantReg>\"&$E644&\"</CantReg>\n</Cab>\n\"),\"\")","v":""},129,"",null,0,{"$nulls":10},"Datos_Encabezados",{"$f":"IF(E644>0,1,0)","v":0},30,{"$f":"(P644=Parametros[Segmento])*(Q644>0)*(R644>0)","v":0}]
[{"$f":"IFERROR(IF(E645=0,\"\",\"<?xml version=\"\"1.0\"\" encoding=\"\"ISO-8859-1\"\"?>\n<mas xmlns:xsi=\"\"http://www.w3.org/2001/XMLSchema-instance\"\" xsi:noNamespaceSchemaLocation=\"\"../xsd/\"&$D$507&\".xsd\"\">\n<Cab>\n<Ano>\"&$D$505&\"</Ano>\n<CodCpt>\"&$D$506&\"</CodCpt>\n<Formato>\"&$D$507&\"</Formato>\n<Version>\"&$D$508&\"</Version>\n<NumEnvio>\"&$D$509&\"</NumEnvio>\n<FecEnvio>\"&$D$510&\"</FecEnvio>\n<FecInicial>\"&$D$511&\"</FecInicial>\n<FecFinal>\"&$D$512&\"</FecFinal>\n<ValorTotal>\"&rango_suma($B645)&\"</ValorTotal>\n<CantReg>\"&$E645&\"</CantReg>\n</Cab>\n\"),\"\")","v":""},130,{"$f":"IF(E645=0,\"\",\"Dmuisca_\"&RIGHT(\"00\"&$D$506,2)&RIGHT(\"00000\"&$D$507,5)&RIGHT(\"00\"&$D$508,2)&$D$505&TEXT($D$509+$B645-1,\"00000000\")&\".xml\")","v":""},null,{"$f":"IFERROR(IF(E644=5000,Conteo_Registros($B645),0),0)","v":0},{"$nulls":10},"Datos_Encabezados",0,30,{"$f":"(P645=Parametros[Segmento])*(Q645>0)*(R645>0)","v":0}]
[{"$f":"IFERROR(IF(E646=0,\"\",\"<?xml version=\"\"1.0\"\" encoding=\"\"ISO-8859-1\"\"?>\n<mas xmlns:xsi=\"\"http://www.w3.org/2001/XMLSchema-instance\"\" xsi:noNamespaceSchemaLocation=\"\"../xsd/\"&$D$507&\".xsd\"\">\n<Cab>\n<Ano>\"&$D$505&\"</Ano>\n<CodCpt>\"&$D$506&\"</CodCpt>\n<Formato>\"&$D$507&\"</Formato>\n<Version>\"&$D$508&\"</Version>\n<NumEnvio>\"&$D$509&\"</NumEnvio>\n<FecEnvio>\"&$D$510&\"</FecEnvio>\n<FecInicial>\"&$D$511&\"</FecInicial>\n<FecFinal>\"&$D$512&\"</FecFinal>\n<ValorTotal>\"&rango_suma($B646)&\"</ValorTotal>\n<CantReg>\"&$E646&\"</CantReg>\n</Cab>\n\"),\"\")","v":""},131,"",null,0,{"$nulls":10},"Datos_Encabezados",0,30,{"$f":"(P646=Parametros[Segmento])*(Q646>0)*(R646>0)","v":0}]
[{"$f":"IFERROR(IF(E647=0,\"\",\"<?xml version=\"\"1.0\"\" encoding=\"\"ISO-8859-1\"\"?>\n<mas xmlns:xsi=\"\"http://www.w3.org/2001/XMLSchema-instance\"\" xsi:noNamespaceSchemaLocation=\"\"../xsd/\"&$D$507&\".xsd\"\">\n<Cab>\n<Ano>\"&$D$505&\"</Ano>\n<CodCpt>\"&$D$506&\"</CodCpt>\n<Formato>\"&$D$507&\"</Formato>\n<Version>\"&$D$508&\"</Version>\n<NumEnvio>\"&$D$509&\"</NumEnvio>\n<FecEnvio>\"&$D$510&\"</FecEnvio>\n<FecInicial>\"&$D$511&\"</FecInicial>\n<FecFinal>\"&$D$512&\"</FecFinal>\n<ValorTotal>\"&rango_suma($B647)&\"</ValorTotal>\n<CantReg>\"&$E647&\"</CantReg>\n</Cab>\n\"),\"\")","v":""},132,"",null,0,{"$nulls":10},"Datos_Encabezados",0,30,{"$f":"(P647=Parametros[Segmento])*(Q647>0)*(R647>0)","v":0}]
[{"$f":"IFERROR(IF(E648=0,\"\",\"<?xml version=\"\"1.0\"\" encoding=\"\"ISO-8859-1\"\"?>\n<mas xmlns:xsi=\"\"http://www.w3.org/2001/XMLSchema-instance\"\" xsi:noNamespaceSchemaLocation=\"\"../xsd/\"&$D$507&\".xsd\"\">\n<Cab>\n<Ano>\"&$D$505&\"</Ano>\n<CodCpt>\"&$D$506&\"</CodCpt>\n<Formato>\"&$D$507&\"</Formato>\n<Version>\"&$D$508&\"</Version>\n<NumEnvio>\"&$D$509&\"</NumEnvio>\n<FecEnvio>\"&$D$510&\"</FecEnvio>\n<FecInicial>\"&$D$511&\"</FecInicial>\n<FecFinal>\"&$D$512&\"</FecFinal>\n<ValorTotal>\"&rango_suma($B648)&\"</ValorTotal>\n<CantReg>\"&$E648&\"</CantReg>\n</Cab>\n\"),\"\")","v":""},133,"",null,0,{"$nulls":10},"Datos_Encabezados",0,30,{"$f":"(P648=Parametros[Segmento])*(Q648>0)*(R648>0)","v":0}]
[{"$f":"IFERROR(IF(E649=0,\"\",\"<?xml version=\"\"1.0\"\" encoding=\"\"ISO-8859-1\"\"?>\n<mas xmlns:xsi=\"\"http://www.w3.org/2001/XMLSchema-instance\"\" xsi:noNamespaceSchemaLocation=\"\"../xsd/\"&$D$507&\".xsd\"\">\n<Cab>\n<Ano>\"&$D$505&\"</Ano>\n<CodCpt>\"&$D$506&\"</CodCpt>\n<Formato>\"&$D$507&\"</Formato>\n<Version>\"&$D$508&\"</Version>\n<NumEnvio>\"&$D$509&\"</NumEnvio>\n<FecEnvio>\"&$D$510&\"</FecEnvio>\n<FecInicial>\"&$D$511&\"</FecInicial>\n<FecFinal>\"&$D$512&\"</FecFinal>\n<ValorTotal>\"&rango_suma($B649)&\"</ValorTotal>\n<CantReg>\"&$E649&\"</CantReg>\n</Cab>\n\"),\"\")","v":""},134,"",null,0,{"$nulls":10},"Datos_Encabezados",0,30,{"$f":"(P649=Parametros[Segmento])*(Q649>0)*(R649>0)","v":0}]
[{"$f":"IFERROR(IF(E650=0,\"\",\"<?xml version=\"\"1.0\"\" encoding=\"\"ISO-8859-1\"\"?>\n<mas xmlns:xsi=\"\"http://www.w3.org/2001/XMLSchema-instance\"\" xsi:noNamespaceSchemaLocation=\"\"../xsd/\"&$D$507&\".xsd\"\">\n<Cab>\n<Ano>\"&$D$505&\"</Ano>\n<CodCpt>\"&$D$506&\"</CodCpt>\n<Formato>\"&$D$507&\"</Formato>\n<Version>\"&$D$508&\"</Version>\n<NumEnvio>\"&$D$509&\"</NumEnvio>\n<FecEnvio>\"&$D$510&\"</FecEnvio>\n<FecInicial>\"&$D$511&\"</FecInicial>\n<FecFinal>\"&$D$512&\"</FecFinal>\n<ValorTotal>\"&rango_suma($B650)&\"</ValorTotal>\n<CantReg>\"&$E650&\"</CantReg>\n</Cab>\n\"),\"\")","v":""},135,"",null,0,{"$nulls":10},"Datos_Encabezados",0,30,{"$f":"(P650=Parametros[Segmento])*(Q650>0)*(R650>0)","v":0}]
[{"$f":"IFERROR(IF(E651=0,\"\",\"<?xml version=\"\"1.0\"\" encoding=\"\"ISO-8859-1\"\"?>\n<mas xmlns:xsi=\"\"http://www.w3.org/2001/XMLSchema-instance\"\" xsi:noNamespaceSchemaLocation=\"\"../xsd/\"&$D$507&\".xsd\"\">\n<Cab>\n<Ano>\"&$D$505&\"</Ano>\n<CodCpt>\"&$D$506&\"</CodCpt>\n<Formato>\"&$D$507&\"</Formato>\n<Version>\"&$D$508&\"</Version>\n<NumEnvio>\"&$D$509&\"</NumEnvio>\n<FecEnvio>\"&$D$510&\"</FecEnvio>\n<FecInicial>\"&$D$511&\"</FecInicial>\n<FecFinal>\"&$D$512&\"</FecFinal>\n<ValorTotal>\"&rango_suma($B651)&\"</ValorTotal>\n<CantReg>\"&$E651&\"</CantReg>\n</Cab>\n\"),\"\")","v":""},136,"",null,0,{"$nulls":10},"Datos_Encabezados",0,30,{"$f":"(P651=Parametros[Segmento])*(Q651>0)*(R651>0)","v":0}]
[{"$f":"IFERROR(IF(E652=0,\"\",\"<?xml version=\"\"1.0\"\" encoding=\"\"ISO-8859-1\"\"?>\n<mas xmlns:xsi=\"\"http://www.w3.org/2001/XMLSchema-instance\"\" xsi:noNamespaceSchemaLocation=\"\"../xsd/\"&$D$507&\".xsd\"\">\n<Cab>\n<Ano>\"&$D$505&\"</Ano>\n<CodCpt>\"&$D$506&\"</CodCpt>\n<Formato>\"&$D$507&\"</Formato>\n<Version>\"&$D$508&\"</Version>\n<NumEnvio>\"&$D$509&\"</NumEnvio>\n<FecEnvio>\"&$D$510&\"</FecEnvio>\n<FecInicial>\"&$D$511&\"</FecInicial>\n<FecFinal>\"&$D$512&\"</FecFinal>\n<ValorTotal>\"&rango_suma($B652)&\"</ValorTotal>\n<CantReg>\"&$E652&\"</CantReg>\n</Cab>\n\"),\"\")","v":""},137,"",null,0,{"$nulls":10},"Datos_Encabezados",0,30,{"$f":"(P652=Parametros[Segmento])*(Q652>0)*(R652>0)","v":0}]
[{"$f":"IFERROR(IF(E653=0,\"\",\"<?xml version=\"\"1.0\"\" encoding=\"\"ISO-8859-1\"\"?>\n<mas xmlns:xsi=\"\"http://www.w3.org/2001/XMLSchema-instance\"\" xsi:noNamespaceSchemaLocation=\"\"../xsd/\"&$D$507&\".xsd\"\">\n<Cab>\n<Ano>\"&$D$505&\"</Ano>\n<CodCpt>\"&$D$506&\"</CodCpt>\n<Formato>\"&$D$507&\"</Formato>\n<Version>\"&$D$508&\"</Version>\n<NumEnvio>\"&$D$509&\"</NumEnvio>\n<FecEnvio>\"&$D$510&\"</FecEnvio>\n<FecInicial>\"&$D$511&\"</FecInicial>\n<FecFinal>\"&$D$512&\"</FecFinal>\n<ValorTotal>\"&rango_suma($B653)&\"</ValorTotal>\n<CantReg>\"&$E653&\"</CantReg>\n</Cab>\n\"),\"\")","v":""},138,"",null,0,{"$nulls":10},"Datos_Encabezados",0,30,{"$f":"(P653=Parametros[Segmento])*(Q653>0)*(R653>0)","v":0}]
[{"$f":"IFERROR(IF(E654=0,\"\",\"<?xml version=\"\"1.0\"\" encoding=\"\"ISO-8859-1\"\"?>\n<mas xmlns:xsi=\"\"http://www.w3.org/2001/XMLSchema-instance\"\" xsi:noNamespaceSchemaLocation=\"\"../xsd/\"&$D$507&\".xsd\"\">\n<Cab>\n<Ano>\"&$D$505&\"</Ano>\n<CodCpt>\"&$D$506&\"</CodCpt>\n<Formato>\"&$D$507&\"</Formato>\n<Version>\"&$D$508&\"</Version>\n<NumEnvio>\"&$D$509&\"</NumEnvio>\n<FecEnvio>\"&$D$510&\"</FecEnvio>\n<FecInicial>\"&$D$511&\"</FecInicial>\n<FecFinal>\"&$D$512&\"</FecFinal>\n<ValorTotal>\"&rango_suma($B654)&\"</ValorTotal>\n<CantReg>\"&$E654&\"</CantReg>\n</Cab>\n\"),\"\")","v":""},139,"",null,0,{"$nulls":10},"Datos_Encabezados",0,30,{"$f":"(P654=Parametros[Segmento])*(Q654>0)*(R654>0)","v":0}]
[{"$f":"IFERROR(IF(E655=0,\"\",\"<?xml version=\"\"1.0\"\" encoding=\"\"ISO-8859-1\"\"?>\n<mas xmlns:xsi=\"\"http://www.w3.org/2001/XMLSchema-instance\"\" xsi:noNamespaceSchemaLocation=\"\"../xsd/\"&$D$507&\".xsd\"\">\n<Cab>\n<Ano>\"&$D$505&\"</Ano>\n<CodCpt>\"&$D$506&\"</CodCpt>\n<Formato>\"&$D$507&\"</Formato>\n<Version>\"&$D$508&\"</Version>\n<NumEnvio>\"&$D$509&\"</NumEnvio>\n<FecEnvio>\"&$D$510&\"</FecEnvio>\n<FecInicial>\"&$D$511&\"</FecInicial>\n<FecFinal>\"&$D$512&\"</FecFinal>\n<ValorTotal>\"&rango_suma($B655)&\"</ValorTotal>\n<CantReg>\"&$E655&\"</CantReg>\n</Cab>\n\"),\"\")","v":""},140,"",null,0,{"$nulls":10},"Datos_Encabezados",0,30,{"$f":"(P655=Parametros[Segmento])*(Q655>0)*(R655>0)","v":0}]
[{"$f":"IFERROR(IF(E656=0,\"\",\"<?xml version=\"\"1.0\"\" encoding=\"\"ISO-8859-1\"\"?>\n<mas xmlns:xsi=\"\"http://www.w3.org/2001/XMLSchema-instance\"\" xsi:noNamespaceSchemaLocation=\"\"../xsd/\"&$D$507&\".xsd\"\">\n<Cab>\n<Ano>\"&$D$505&\"</Ano>\n<CodCpt>\"&$D$506&\"</CodCpt>\n<Formato>\"&$D$507&\"</Formato>\n<Version>\"&$D$508&\"</Version>\n<NumEnvio>\"&$D$509&\"</NumEnvio>\n<FecEnvio>\"&$D$510&\"</FecEnvio>\n<FecInicial>\"&$D$511&\"</FecInicial>\n<FecFinal>\"&$D$512&\"</FecFinal>\n<ValorTotal>\"&rango_suma($B656)&\"</ValorTotal>\n<CantReg>\"&$E656&\"</CantReg>\n</Cab>\n\"),\"\")","v":""},141,"",null,0,{"$nulls":10},"Datos_Encabezados",0,30,{"$f":"(P656=Parametros[Segmento])*(Q656>0)*(R656>0)","v":0}]
[{"$f":"IFERROR(IF(E657=0,\"\",\"<?xml version=\"\"1.0\"\" encoding=\"\"ISO-8859-1\"\"?>\n<mas xmlns:xsi=\"\"http://www.w3.org/2001/XMLSchema-instance\"\" xsi:noNamespaceSchemaLocation=\"\"../xsd/\"&$D$507&\".xsd\"\">\n<Cab>\n<Ano>\"&$D$505&\"</Ano>\n<CodCpt>\"&$D$506&\"</CodCpt>\n<Formato>\"&$D$507&\"</Formato>\n<Version>\"&$D$508&\"</Version>\n<NumEnvio>\"&$D$509&\"</NumEnvio>\n<FecEnvio>\"&$D$510&\"</FecEnvio>\n<FecInicial>\"&$D$511&\"</FecInicial>\n<FecFinal>\"&$D$512&\"</FecFinal>\n<ValorTotal>\"&rango_suma($B657)&\"</ValorTotal>\n<CantReg>\"&$E657&\"</CantReg>\n</Cab>\n\"),\"\")","v":""},142,"",null,0,{"$nulls":10},"Datos_Encabezados",0,30,{"$f":"(P657=Parametros[Segmento])*(Q657>0)*(R657>0)","v":0}]
[{"$f":"IFERROR(IF(E658=0,\"\",\"<?xml version=\"\"1.0\"\" encoding=\"\"ISO-8859-1\"\"?>\n<mas xmlns:xsi=\"\"http://www.w3.org/2001/XMLSchema-instance\"\" xsi:noNamespaceSchemaLocation=\"\"../xsd/\"&$D$507&\".xsd\"\">\n<Cab>\n<Ano>\"&$D$505&\"</Ano>\n<CodCpt>\"&$D$506&\"</CodCpt>\n<Formato>\"&$D$507&\"</Formato>\n<Version>\"&$D$508&\"</Version>\n<NumEnvio>\"&$D$509&\"</NumEnvio>\n<FecEnvio>\"&$D$510&\"</FecEnvio>\n<FecInicial>\"&$D$511&\"</FecInicial>\n<FecFinal>\"&$D$512&\"</FecFinal>\n<ValorTotal>\"&rango_suma($B658)&\"</ValorTotal>\n<CantReg>\"&$E658&\"</CantReg>\n</Cab>\n\"),\"\")","v":""},143,"",null,0,{"$nulls":10},"Datos_Encabezados",0,30,{"$f":"(P658=Parametros[Segmento])*(Q658>0)*(R658>0)","v":0}]
[{"$f":"IFERROR(IF(E659=0,\"\",\"<?xml version=\"\"1.0\"\" encoding=\"\"ISO-8859-1\"\"?>\n<mas xmlns:xsi=\"\"http://www.w3.org/2001/XMLSchema-instance\"\" xsi:noNamespaceSchemaLocation=\"\"../xsd/\"&$D$507&\".xsd\"\">\n<Cab>\n<Ano>\"&$D$505&\"</Ano>\n<CodCpt>\"&$D$506&\"</CodCpt>\n<Formato>\"&$D$507&\"</Formato>\n<Version>\"&$D$508&\"</Version>\n<NumEnvio>\"&$D$509&\"</NumEnvio>\n<FecEnvio>\"&$D$510&\"</FecEnvio>\n<FecInicial>\"&$D$511&\"</FecInicial>\n<FecFinal>\"&$D$512&\"</FecFinal>\n<ValorTotal>\"&rango_suma($B659)&\"</ValorTotal>\n<CantReg>\"&$E659&\"</CantReg>\n</Cab>\n\"),\"\")","v":""},144,"",null,0,{"$nulls":10},"Datos_Encabezados",0,30,{"$f":"(P659=Parametros[Segmento])*(Q659>0)*(R659>0)","v":0}]
[{"$f":"IFERROR(IF(E660=0,\"\",\"<?xml version=\"\"1.0\"\" encoding=\"\"ISO-8859-1\"\"?>\n<mas xmlns:xsi=\"\"http://www.w3.org/2001/XMLSchema-instance\"\" xsi:noNamespaceSchemaLocation=\"\"../xsd/\"&$D$507&\".xsd\"\">\n<Cab>\n<Ano>\"&$D$505&\"</Ano>\n<CodCpt>\"&$D$506&\"</CodCpt>\n<Formato>\"&$D$507&\"</Formato>\n<Version>\"&$D$508&\"</Version>\n<NumEnvio>\"&$D$509&\"</NumEnvio>\n<FecEnvio>\"&$D$510&\"</FecEnvio>\n<FecInicial>\"&$D$511&\"</FecInicial>\n<FecFinal>\"&$D$512&\"</FecFinal>\n<ValorTotal>\"&rango_suma($B660)&\"</ValorTotal>\n<CantReg>\"&$E660&\"</CantReg>\n</Cab>\n\"),\"\")","v":""},145,"",null,0,{"$nulls":10},"Datos_Encabezados",0,30,{"$f":"(P660=Parametros[Segmento])*(Q660>0)*(R660>0)","v":0}]
[{"$f":"IFERROR(IF(E661=0,\"\",\"<?xml version=\"\"1.0\"\" encoding=\"\"ISO-8859-1\"\"?>\n<mas xmlns:xsi=\"\"http://www.w3.org/2001/XMLSchema-instance\"\" xsi:noNamespaceSchemaLocation=\"\"../xsd/\"&$D$507&\".xsd\"\">\n<Cab>\n<Ano>\"&$D$505&\"</Ano>\n<CodCpt>\"&$D$506&\"</CodCpt>\n<Formato>\"&$D$507&\"</Formato>\n<Version>\"&$D$508&\"</Version>\n<NumEnvio>\"&$D$509&\"</NumEnvio>\n<FecEnvio>\"&$D$510&\"</FecEnvio>\n<FecInicial>\"&$D$511&\"</FecInicial>\n<FecFinal>\"&$D$512&\"</FecFinal>\n<ValorTotal>\"&rango_suma($B661)&\"</ValorTotal>\n<CantReg>\"&$E661&\"</CantReg>\n</Cab>\n\"),\"\")","v":""},146,"",null,0,{"$nulls":10},"Datos_Encabezados",0,30,{"$f":"(P661=Parametros[Segmento])*(Q661>0)*(R661>0)","v":0}]
[{"$f":"IFERROR(IF(E662=0,\"\",\"<?xml version=\"\"1.0\"\" encoding=\"\"ISO-8859-1\"\"?>\n<mas xmlns:xsi=\"\"http://www.w3.org/2001/XMLSchema-instance\"\" xsi:noNamespaceSchemaLocation=\"\"../xsd/\"&$D$507&\".xsd\"\">\n<Cab>\n<Ano>\"&$D$505&\"</Ano>\n<CodCpt>\"&$D$506&\"</CodCpt>\n<Formato>\"&$D$507&\"</Formato>\n<Version>\"&$D$508&\"</Version>\n<NumEnvio>\"&$D$509&\"</NumEnvio>\n<FecEnvio>\"&$D$510&\"</FecEnvio>\n<FecInicial>\"&$D$511&\"</FecInicial>\n<FecFinal>\"&$D$512&\"</FecFinal>\n<ValorTotal>\"&rango_suma($B662)&\"</ValorTotal>\n<CantReg>\"&$E662&\"</CantReg>\n</Cab>\n\"),\"\")","v":""},147,"",null,0,{"$nulls":10},"Datos_Encabezados",0,30,{"$f":"(P662=Parametros[Segmento])*(Q662>0)*(R662>0)","v":0}]
[{"$f":"IFERROR(IF(E663=0,\"\",\"<?xml version=\"\"1.0\"\" encoding=\"\"ISO-8859-1\"\"?>\n<mas xmlns:xsi=\"\"http://www.w3.org/2001/XMLSchema-instance\"\" xsi:noNamespaceSchemaLocation=\"\"../xsd/\"&$D$507&\".xsd\"\">\n<Cab>\n<Ano>\"&$D$505&\"</Ano>\n<CodCpt>\"&$D$506&\"</CodCpt>\n<Formato>\"&$D$507&\"</Formato>\n<Version>\"&$D$508&\"</Version>\n<NumEnvio>\"&$D$509&\"</NumEnvio>\n<FecEnvio>\"&$D$510&\"</FecEnvio>\n<FecInicial>\"&$D$511&\"</FecInicial>\n<FecFinal>\"&$D$512&\"</FecFinal>\n<ValorTotal>\"&rango_suma($B663)&\"</ValorTotal>\n<CantReg>\"&$E663&\"</CantReg>\n</Cab>\n\"),\"\")","v":""},148,"",null,0,{"$nulls":10},"Datos_Encabezados",0,30,{"$f":"(P663=Parametros[Segmento])*(Q663>0)*(R663>0)","v":0}]
[{"$f":"IFERROR(IF(E664=0,\"\",\"<?xml version=\"\"1.0\"\" encoding=\"\"ISO-8859-1\"\"?>\n<mas xmlns:xsi=\"\"http://www.w3.org/2001/XMLSchema-instance\"\" xsi:noNamespaceSchemaLocation=\"\"../xsd/\"&$D$507&\".xsd\"\">\n<Cab>\n<Ano>\"&$D$505&\"</Ano>\n<CodCpt>\"&$D$506&\"</CodCpt>\n<Formato>\"&$D$507&\"</Formato>\n<Version>\"&$D$508&\"</Version>\n<NumEnvio>\"&$D$509&\"</NumEnvio>\n<FecEnvio>\"&$D$510&\"</FecEnvio>\n<FecInicial>\"&$D$511&\"</FecInicial>\n<FecFinal>\"&$D$512&\"</FecFinal>\n<ValorTotal>\"&rango_suma($B664)&\"</ValorTotal>\n<CantReg>\"&$E664&\"</CantReg>\n</Cab>\n\"),\"\")","v":""},149,"",null,0,{"$nulls":10},"Datos_Encabezados",0,30,{"$f":"(P664=Parametros[Segmento])*(Q664>0)*(R664>0)","v":0}]
[{"$f":"IFERROR(IF(E665=0,\"\",\"<?xml version=\"\"1.0\"\" encoding=\"\"ISO-8859-1\"\"?>\n<mas xmlns:xsi=\"\"http://www.w3.org/2001/XMLSchema-instance\"\" xsi:noNamespaceSchemaLocation=\"\"../xsd/\"&$D$507&\".xsd\"\">\n<Cab>\n<Ano>\"&$D$505&\"</Ano>\n<CodCpt>\"&$D$506&\"</CodCpt>\n<Formato>\"&$D$507&\"</Formato>\n<Version>\"&$D$508&\"</Version>\n<NumEnvio>\"&$D$509&\"</NumEnvio>\n<FecEnvio>\"&$D$510&\"</FecEnvio>\n<FecInicial>\"&$D$511&\"</FecInicial>\n<FecFinal>\"&$D$512&\"</FecFinal>\n<ValorTotal>\"&rango_suma($B665)&\"</ValorTotal>\n<CantReg>\"&$E665&\"</CantReg>\n</Cab>\n\"),\"\")","v":""},150,"",null,0,{"$nulls":10},"Datos_Encabezados",0,30,{"$f":"(P665=Parametros[Segmento])*(Q665>0)*(R665>0)","v":0}]
[{"$f":"IFERROR(IF(E666=0,\"\",\"<?xml version=\"\"1.0\"\" encoding=\"\"ISO-8859-1\"\"?>\n<mas xmlns:xsi=\"\"http://www.w3.org/2001/XMLSchema-instance\"\" xsi:noNamespaceSchemaLocation=\"\"../xsd/\"&$D$507&\".xsd\"\">\n<Cab>\n<Ano>\"&$D$505&\"</Ano>\n<CodCpt>\"&$D$506&\"</CodCpt>\n<Formato>\"&$D$507&\"</Formato>\n<Version>\"&$D$508&\"</Version>\n<NumEnvio>\"&$D$509&\"</NumEnvio>\n<FecEnvio>\"&$D$510&\"</FecEnvio>\n<FecInicial>\"&$D$511&\"</FecInicial>\n<FecFinal>\"&$D$512&\"</FecFinal>\n<ValorTotal>\"&rango_suma($B666)&\"</ValorTotal>\n<CantReg>\"&$E666&\"</CantReg>\n</Cab>\n\"),\"\")","v":""},151,"",null,0,{"$nulls":10},"Datos_Encabezados",0,30,{"$f":"(P666=Parametros[Segmento])*(Q666>0)*(R666>0)","v":0}]
[{"$f":"IFERROR(IF(E667=0,\"\",\"<?xml version=\"\"1.0\"\" encoding=\"\"ISO-8859-1\"\"?>\n<mas xmlns:xsi=\"\"http://www.w3.org/2001/XMLSchema-instance\"\" xsi:noNamespaceSchemaLocation=\"\"../xsd/\"&$D$507&\".xsd\"\">\n<Cab>\n<Ano>\"&$D$505&\"</Ano>\n<CodCpt>\"&$D$506&\"</CodCpt>\n<Formato>\"&$D$507&\"</Formato>\n<Version>\"&$D$508&\"</Version>\n<NumEnvio>\"&$D$509&\"</NumEnvio>\n<FecEnvio>\"&$D$510&\"</FecEnvio>\n<FecInicial>\"&$D$511&\"</FecInicial>\n<FecFinal>\"&$D$512&\"</FecFinal>\n<ValorTotal>\"&rango_suma($B667)&\"</ValorTotal>\n<CantReg>\"&$E667&\"</CantReg>\n</Cab>\n\"),\"\")","v":""},152,"",null,0,{"$nulls":10},"Datos_Encabezados",0,30,{"$f":"(P667=Parametros[Segmento])*(Q667>0)*(R667>0)","v":0}]
[{"$f":"IFERROR(IF(E668=0,\"\",\"<?xml version=\"\"1.0\"\" encoding=\"\"ISO-8859-1\"\"?>\n<mas xmlns:xsi=\"\"http://www.w3.org/2001/XMLSchema-instance\"\" xsi:noNamespaceSchemaLocation=\"\"../xsd/\"&$D$507&\".xsd\"\">\n<Cab>\n<Ano>\"&$D$505&\"</Ano>\n<CodCpt>\"&$D$506&\"</CodCpt>\n<Formato>\"&$D$507&\"</Formato>\n<Version>\"&$D$508&\"</Version>\n<NumEnvio>\"&$D$509&\"</NumEnvio>\n<FecEnvio>\"&$D$510&\"</FecEnvio>\n<FecInicial>\"&$D$511&\"</FecInicial>\n<FecFinal>\"&$D$512&\"</FecFinal>\n<ValorTotal>\"&rango_suma($B668)&\"</ValorTotal>\n<CantReg>\"&$E668&\"</CantReg>\n</Cab>\n\"),\"\")","v":""},153,"",null,0,{"$nulls":10},"Datos_Encabezados",0,30,{"$f":"(P668=Parametros[Segmento])*(Q668>0)*(R668>0)","v":0}]
[{"$f":"IFERROR(IF(E669=0,\"\",\"<?xml version=\"\"1.0\"\" encoding=\"\"ISO-8859-1\"\"?>\n<mas xmlns:xsi=\"\"http://www.w3.org/2001/XMLSchema-instance\"\" xsi:noNamespaceSchemaLocation=\"\"../xsd/\"&$D$507&\".xsd\"\">\n<Cab>\n<Ano>\"&$D$505&\"</Ano>\n<CodCpt>\"&$D$506&\"</CodCpt>\n<Formato>\"&$D$507&\"</Formato>\n<Version>\"&$D$508&\"</Version>\n<NumEnvio>\"&$D$509&\"</NumEnvio>\n<FecEnvio>\"&$D$510&\"</FecEnvio>\n<FecInicial>\"&$D$511&\"</FecInicial>\n<FecFinal>\"&$D$512&\"</FecFinal>\n<ValorTotal>\"&rango_suma($B669)&\"</ValorTotal>\n<CantReg>\"&$E669&\"</CantReg>\n</Cab>\n\"),\"\")","v":""},154,"",null,0,{"$nulls":10},"Datos_Encabezados",0,30,{"$f":"(P669=Parametros[Segmento])*(Q669>0)*(R669>0)","v":0}]
[{"$f":"IFERROR(IF(E670=0,\"\",\"<?xml version=\"\"1.0\"\" encoding=\"\"ISO-8859-1\"\"?>\n<mas xmlns:xsi=\"\"http://www.w3.org/2001/XMLSchema-instance\"\" xsi:noNamespaceSchemaLocation=\"\"../xsd/\"&$D$507&\".xsd\"\">\n<Cab>\n<Ano>\"&$D$505&\"</Ano>\n<CodCpt>\"&$D$506&\"</CodCpt>\n<Formato>\"&$D$507&\"</Formato>\n<Version>\"&$D$508&\"</Version>\n<NumEnvio>\"&$D$509&\"</NumEnvio>\n<FecEnvio>\"&$D$510&\"</FecEnvio>\n<FecInicial>\"&$D$511&\"</FecInicial>\n<FecFinal>\"&$D$512&\"</FecFinal>\n<ValorTotal>\"&rango_suma($B670)&\"</ValorTotal>\n<CantReg>\"&$E670&\"</CantReg>\n</Cab>\n\"),\"\")","v":""},155,"",null,0,{"$nulls":10},"Datos_Encabezados",0,30,{"$f":"(P670=Parametros[Segmento])*(Q670>0)*(R670>0)","v":0}]
[{"$f":"IFERROR(IF(E671=0,\"\",\"<?xml version=\"\"1.0\"\" encoding=\"\"ISO-8859-1\"\"?>\n<mas xmlns:xsi=\"\"http://www.w3.org/2001/XMLSchema-instance\"\" xsi:noNamespaceSchemaLocation=\"\"../xsd/\"&$D$507&\".xsd\"\">\n<Cab>\n<Ano>\"&$D$505&\"</Ano>\n<CodCpt>\"&$D$506&\"</CodCpt>\n<Formato>\"&$D$507&\"</Formato>\n<Version>\"&$D$508&\"</Version>\n<NumEnvio>\"&$D$509&\"</NumEnvio>\n<FecEnvio>\"&$D$510&\"</FecEnvio>\n<FecInicial>\"&$D$511&\"</FecInicial>\n<FecFinal>\"&$D$512&\"</FecFinal>\n<ValorTotal>\"&rango_suma($B671)&\"</ValorTotal>\n<CantReg>\"&$E671&\"</CantReg>\n</Cab>\n\"),\"\")","v":""},156,"",null,0,{"$nulls":10},"Datos_Encabezados",0,30,{"$f":"(P671=Parametros[Segmento])*(Q671>0)*(R671>0)","v":0}]
[{"$f":"IFERROR(IF(E672=0,\"\",\"<?xml version=\"\"1.0\"\" encoding=\"\"ISO-8859-1\"\"?>\n<mas xmlns:xsi=\"\"http://www.w3.org/2001/XMLSchema-instance\"\" xsi:noNamespaceSchemaLocation=\"\"../xsd/\"&$D$507&\".xsd\"\">\n<Cab>\n<Ano>\"&$D$505&\"</Ano>\n<CodCpt>\"&$D$506&\"</CodCpt>\n<Formato>\"&$D$507&\"</Formato>\n<Version>\"&$D$508&\"</Version>\n<NumEnvio>\"&$D$509&\"</NumEnvio>\n<FecEnvio>\"&$D$510&\"</FecEnvio>\n<FecInicial>\"&$D$511&\"</FecInicial>\n<FecFinal>\"&$D$512&\"</FecFinal>\n<ValorTotal>\"&rango_suma($B672)&\"</ValorTotal>\n<CantReg>\"&$E672&\"</CantReg>\n</Cab>\n\"),\"\")","v":""},157,"",null,0,{"$nulls":10},"Datos_Encabezados",0,30,{"$f":"(P672=Parametros[Segmento])*(Q672>0)*(R672>0)","v":0}]
[{"$f":"IFERROR(IF(E673=0,\"\",\"<?xml version=\"\"1.0\"\" encoding=\"\"ISO-8859-1\"\"?>\n<mas xmlns:xsi=\"\"http://www.w3.org/2001/XMLSchema-instance\"\" xsi:noNamespaceSchemaLocation=\"\"../xsd/\"&$D$507&\".xsd\"\">\n<Cab>\n<Ano>\"&$D$505&\"</Ano>\n<CodCpt>\"&$D$506&\"</CodCpt>\n<Formato>\"&$D$507&\"</Formato>\n<Version>\"&$D$508&\"</Version>\n<NumEnvio>\"&$D$509&\"</NumEnvio>\n<FecEnvio>\"&$D$510&\"</FecEnvio>\n<FecInicial>\"&$D$511&\"</FecInicial>\n<FecFinal>\"&$D$512&\"</FecFinal>\n<ValorTotal>\"&rango_suma($B673)&\"</ValorTotal>\n<CantReg>\"&$E673&\"</CantReg>\n</Cab>\n\"),\"\")","v":""},158,"",null,0,{"$nulls":10},"Datos_Encabezados",0,30,{"$f":"(P673=Parametros[Segmento])*(Q673>0)*(R673>0)","v":0}]
[{"$f":"IFERROR(IF(E674=0,\"\",\"<?xml version=\"\"1.0\"\" encoding=\"\"ISO-8859-1\"\"?>\n<mas xmlns:xsi=\"\"http://www.w3.org/2001/XMLSchema-instance\"\" xsi:noNamespaceSchemaLocation=\"\"../xsd/\"&$D$507&\".xsd\"\">\n<Cab>\n<Ano>\"&$D$505&\"</Ano>\n<CodCpt>\"&$D$506&\"</CodCpt>\n<Formato>\"&$D$507&\"</Formato>\n<Version>\"&$D$508&\"</Version>\n<NumEnvio>\"&$D$509&\"</NumEnvio>\n<FecEnvio>\"&$D$510&\"</FecEnvio>\n<FecInicial>\"&$D$511&\"</FecInicial>\n<FecFinal>\"&$D$512&\"</FecFinal>\n<ValorTotal>\"&rango_suma($B674)&\"</ValorTotal>\n<CantReg>\"&$E674&\"</CantReg>\n</Cab>\n\"),\"\")","v":""},159,"",null,0,{"$nulls":10},"Datos_Encabezados",0,30,{"$f":"(P674=Parametros[Segmento])*(Q674>0)*(R674>0)","v":0}]
[{"$f":"IFERROR(IF(E675=0,\"\",\"<?xml version=\"\"1.0\"\" encoding=\"\"ISO-8859-1\"\"?>\n<mas xmlns:xsi=\"\"http://www.w3.org/2001/XMLSchema-instance\"\" xsi:noNamespaceSchemaLocation=\"\"../xsd/\"&$D$507&\".xsd\"\">\n<Cab>\n<Ano>\"&$D$505&\"</Ano>\n<CodCpt>\"&$D$506&\"</CodCpt>\n<Formato>\"&$D$507&\"</Formato>\n<Version>\"&$D$508&\"</Version>\n<NumEnvio>\"&$D$509&\"</NumEnvio>\n<FecEnvio>\"&$D$510&\"</FecEnvio>\n<FecInicial>\"&$D$511&\"</FecInicial>\n<FecFinal>\"&$D$512&\"</FecFinal>\n<ValorTotal>\"&rango_suma($B675)&\"</ValorTotal>\n<CantReg>\"&$E675&\"</CantReg>\n</Cab>\n\"),\"\")","v":""},160,"",null,0,{"$nulls":10},"Datos_Encabezados",0,30,{"$f":"(P675=Parametros[Segmento])*(Q675>0)*(R675>0)","v":0}]
[{"$f":"IFERROR(IF(E676=0,\"\",\"<?xml version=\"\"1.0\"\" encoding=\"\"ISO-8859-1\"\"?>\n<mas xmlns:xsi=\"\"http://www.w3.org/2001/XMLSchema-instance\"\" xsi:noNamespaceSchemaLocation=\"\"../xsd/\"&$D$507&\".xsd\"\">\n<Cab>\n<Ano>\"&$D$505&\"</Ano>\n<CodCpt>\"&$D$506&\"</CodCpt>\n<Formato>\"&$D$507&\"</Formato>\n<Version>\"&$D$508&\"</Version>\n<NumEnvio>\"&$D$509&\"</NumEnvio>\n<FecEnvio>\"&$D$510&\"</FecEnvio>\n<FecInicial>\"&$D$511&\"</FecInicial>\n<FecFinal>\"&$D$512&\"</FecFinal>\n<ValorTotal>\"&rango_suma($B676)&\"</ValorTotal>\n<CantReg>\"&$E676&\"</CantReg>\n</Cab>\n\"),\"\")","v":""},161,"",null,0,{"$nulls":10},"Datos_Encabezados",{"$f":"IF(E676>0,1,0)","v":0},30,{"$f":"(P676=Parametros[Segmento])*(Q676>0)*(R676>0)","v":0}]
[{"$f":"IFERROR(IF(E677=0,\"\",\"<?xml version=\"\"1.0\"\" encoding=\"\"ISO-8859-1\"\"?>\n<mas xmlns:xsi=\"\"http://www.w3.org/2001/XMLSchema-instance\"\" xsi:noNamespaceSchemaLocation=\"\"../xsd/\"&$D$507&\".xsd\"\">\n<Cab>\n<Ano>\"&$D$505&\"</Ano>\n<CodCpt>\"&$D$506&\"</CodCpt>\n<Formato>\"&$D$507&\"</Formato>\n<Version>\"&$D$508&\"</Version>\n<NumEnvio>\"&$D$509&\"</NumEnvio>\n<FecEnvio>\"&$D$510&\"</FecEnvio>\n<FecInicial>\"&$D$511&\"</FecInicial>\n<FecFinal>\"&$D$512&\"</FecFinal>\n<ValorTotal>\"&rango_suma($B677)&\"</ValorTotal>\n<CantReg>\"&$E677&\"</CantReg>\n</Cab>\n\"),\"\")","v":""},162,"",null,{"$f":"IFERROR(IF(E676=5000,Conteo_Registros($B677),0),0)","v":0},{"$nulls":10},"Datos_Encabezados",0,30,{"$f":"(P677=Parametros[Segmento])*(Q677>0)*(R677>0)","v":0}]
[{"$f":"IFERROR(IF(E678=0,\"\",\"<?xml version=\"\"1.0\"\" encoding=\"\"ISO-8859-1\"\"?>\n<mas xmlns:xsi=\"\"http://www.w3.org/2001/XMLSchema-instance\"\" xsi:noNamespaceSchemaLocation=\"\"../xsd/\"&$D$507&\".xsd\"\">\n<Cab>\n<Ano>\"&$D$505&\"</Ano>\n<CodCpt>\"&$D$506&\"</CodCpt>\n<Formato>\"&$D$507&\"</Formato>\n<Version>\"&$D$508&\"</Version>\n<NumEnvio>\"&$D$509&\"</NumEnvio>\n<FecEnvio>\"&$D$510&\"</FecEnvio>\n<FecInicial>\"&$D$511&\"</FecInicial>\n<FecFinal>\"&$D$512&\"</FecFinal>\n<ValorTotal>\"&rango_suma($B678)&\"</ValorTotal>\n<CantReg>\"&$E678&\"</CantReg>\n</Cab>\n\"),\"\")","v":""},163,"",null,0,{"$nulls":10},"Datos_Encabezados",0,30,{"$f":"(P678=Parametros[Segmento])*(Q678>0)*(R678>0)","v":0}]
[{"$f":"IFERROR(IF(E679=0,\"\",\"<?xml version=\"\"1.0\"\" encoding=\"\"ISO-8859-1\"\"?>\n<mas xmlns:xsi=\"\"http://www.w3.org/2001/XMLSchema-instance\"\" xsi:noNamespaceSchemaLocation=\"\"../xsd/\"&$D$507&\".xsd\"\">\n<Cab>\n<Ano>\"&$D$505&\"</Ano>\n<CodCpt>\"&$D$506&\"</CodCpt>\n<Formato>\"&$D$507&\"</Formato>\n<Version>\"&$D$508&\"</Version>\n<NumEnvio>\"&$D$509&\"</NumEnvio>\n<FecEnvio>\"&$D$510&\"</FecEnvio>\n<FecInicial>\"&$D$511&\"</FecInicial>\n<FecFinal>\"&$D$512&\"</FecFinal>\n<ValorTotal>\"&rango_suma($B679)&\"</ValorTotal>\n<CantReg>\"&$E679&\"</CantReg>\n</Cab>\n\"),\"\")","v":""},164,"",null,0,{"$nulls":10},"Datos_Encabezados",0,30,{"$f":"(P679=Parametros[Segmento])*(Q679>0)*(R679>0)","v":0}]
[{"$f":"IFERROR(IF(E680=0,\"\",\"<?xml version=\"\"1.0\"\" encoding=\"\"ISO-8859-1\"\"?>\n<mas xmlns:xsi=\"\"http://www.w3.org/2001/XMLSchema-instance\"\" xsi:noNamespaceSchemaLocation=\"\"../xsd/\"&$D$507&\".xsd\"\">\n<Cab>\n<Ano>\"&$D$505&\"</Ano>\n<CodCpt>\"&$D$506&\"</CodCpt>\n<Formato>\"&$D$507&\"</Formato>\n<Version>\"&$D$508&\"</Version>\n<NumEnvio>\"&$D$509&\"</NumEnvio>\n<FecEnvio>\"&$D$510&\"</FecEnvio>\n<FecInicial>\"&$D$511&\"</FecInicial>\n<FecFinal>\"&$D$512&\"</FecFinal>\n<ValorTotal>\"&rango_suma($B680)&\"</ValorTotal>\n<CantReg>\"&$E680&\"</CantReg>\n</Cab>\n\"),\"\")","v":""},165,"",null,0,{"$nulls":10},"Datos_Encabezados",0,30,{"$f":"(P680=Parametros[Segmento])*(Q680>0)*(R680>0)","v":0}]
[{"$f":"IFERROR(IF(E681=0,\"\",\"<?xml version=\"\"1.0\"\" encoding=\"\"ISO-8859-1\"\"?>\n<mas xmlns:xsi=\"\"http://www.w3.org/2001/XMLSchema-instance\"\" xsi:noNamespaceSchemaLocation=\"\"../xsd/\"&$D$507&\".xsd\"\">\n<Cab>\n<Ano>\"&$D$505&\"</Ano>\n<CodCpt>\"&$D$506&\"</CodCpt>\n<Formato>\"&$D$507&\"</Formato>\n<Version>\"&$D$508&\"</Version>\n<NumEnvio>\"&$D$509&\"</NumEnvio>\n<FecEnvio>\"&$D$510&\"</FecEnvio>\n<FecInicial>\"&$D$511&\"</FecInicial>\n<FecFinal>\"&$D$512&\"</FecFinal>\n<ValorTotal>\"&rango_suma($B681)&\"</ValorTotal>\n<CantReg>\"&$E681&\"</CantReg>\n</Cab>\n\"),\"\")","v":""},166,"",null,0,{"$nulls":10},"Datos_Encabezados",0,30,{"$f":"(P681=Parametros[Segmento])*(Q681>0)*(R681>0)","v":0}]
[{"$f":"IFERROR(IF(E682=0,\"\",\"<?xml version=\"\"1.0\"\" encoding=\"\"ISO-8859-1\"\"?>\n<mas xmlns:xsi=\"\"http://www.w3.org/2001/XMLSchema-instance\"\" xsi:noNamespaceSchemaLocation=\"\"../xsd/\"&$D$507&\".xsd\"\">\n<Cab>\n<Ano>\"&$D$505&\"</Ano>\n<CodCpt>\"&$D$506&\"</CodCpt>\n<Formato>\"&$D$507&\"</Formato>\n<Version>\"&$D$508&\"</Version>\n<NumEnvio>\"&$D$509&\"</NumEnvio>\n<FecEnvio>\"&$D$510&\"</FecEnvio>\n<FecInicial>\"&$D$511&\"</FecInicial>\n<FecFinal>\"&$D$512&\"</FecFinal>\n<ValorTotal>\"&rango_suma($B682)&\"</ValorTotal>\n<CantReg>\"&$E682&\"</CantReg>\n</Cab>\n\"),\"\")","v":""},167,"",null,0,{"$nulls":10},"Datos_Encabezados",0,30,{"$f":"(P682=Parametros[Segmento])*(Q682>0)*(R682>0)","v":0}]
[{"$f":"IFERROR(IF(E683=0,\"\",\"<?xml version=\"\"1.0\"\" encoding=\"\"ISO-8859-1\"\"?>\n<mas xmlns:xsi=\"\"http://www.w3.org/2001/XMLSchema-instance\"\" xsi:noNamespaceSchemaLocation=\"\"../xsd/\"&$D$507&\".xsd\"\">\n<Cab>\n<Ano>\"&$D$505&\"</Ano>\n<CodCpt>\"&$D$506&\"</CodCpt>\n<Formato>\"&$D$507&\"</Formato>\n<Version>\"&$D$508&\"</Version>\n<NumEnvio>\"&$D$509&\"</NumEnvio>\n<FecEnvio>\"&$D$510&\"</FecEnvio>\n<FecInicial>\"&$D$511&\"</FecInicial>\n<FecFinal>\"&$D$512&\"</FecFinal>\n<ValorTotal>\"&rango_suma($B683)&\"</ValorTotal>\n<CantReg>\"&$E683&\"</CantReg>\n</Cab>\n\"),\"\")","v":""},168,"",null,0,{"$nulls":10},"Datos_Encabezados",0,30,{"$f":"(P683=Parametros[Segmento])*(Q683>0)*(R683>0)","v":0}]
[{"$f":"IFERROR(IF(E684=0,\"\",\"<?xml version=\"\"1.0\"\" encoding=\"\"ISO-8859-1\"\"?>\n<mas xmlns:xsi=\"\"http://www.w3.org/2001/XMLSchema-instance\"\" xsi:noNamespaceSchemaLocation=\"\"../xsd/\"&$D$507&\".xsd\"\">\n<Cab>\n<Ano>\"&$D$505&\"</Ano>\n<CodCpt>\"&$D$506&\"</CodCpt>\n<Formato>\"&$D$507&\"</Formato>\n<Version>\"&$D$508&\"</Version>\n<NumEnvio>\"&$D$509&\"</NumEnvio>\n<FecEnvio>\"&$D$510&\"</FecEnvio>\n<FecInicial>\"&$D$511&\"</FecInicial>\n<FecFinal>\"&$D$512&\"</FecFinal>\n<ValorTotal>\"&rango_suma($B684)&\"</ValorTotal>\n<CantReg>\"&$E684&\"</CantReg>\n</Cab>\n\"),\"\")","v":""},169,"",null,0,{"$nulls":10},"Datos_Encabezados",0,30,{"$f":"(P684=Parametros[Segmento])*(Q684>0)*(R684>0)","v":0}]
[{"$f":"IFERROR(IF(E685=0,\"\",\"<?xml version=\"\"1.0\"\" encoding=\"\"ISO-8859-1\"\"?>\n<mas xmlns:xsi=\"\"http://www.w3.org/2001/XMLSchema-instance\"\" xsi:noNamespaceSchemaLocation=\"\"../xsd/\"&$D$507&\".xsd\"\">\n<Cab>\n<Ano>\"&$D$505&\"</Ano>\n<CodCpt>\"&$D$506&\"</CodCpt>\n<Formato>\"&$D$507&\"</Formato>\n<Version>\"&$D$508&\"</Version>\n<NumEnvio>\"&$D$509&\"</NumEnvio>\n<FecEnvio>\"&$D$510&\"</FecEnvio>\n<FecInicial>\"&$D$511&\"</FecInicial>\n<FecFinal>\"&$D$512&\"</FecFinal>\n<ValorTotal>\"&rango_suma($B685)&\"</ValorTotal>\n<CantReg>\"&$E685&\"</CantReg>\n</Cab>\n\"),\"\")","v":""},170,"",null,0,{"$nulls":10},"Datos_Encabezados",0,30,{"$f":"(P685=Parametros[Segmento])*(Q685>0)*(R685>0)","v":0}]
[{"$f":"IFERROR(IF(E686=0,\"\",\"<?xml version=\"\"1.0\"\" encoding=\"\"ISO-8859-1\"\"?>\n<mas xmlns:xsi=\"\"http://www.w3.org/2001/XMLSchema-instance\"\" xsi:noNamespaceSchemaLocation=\"\"../xsd/\"&$D$507&\".xsd\"\">\n<Cab>\n<Ano>\"&$D$505&\"</Ano>\n<CodCpt>\"&$D$506&\"</CodCpt>\n<Formato>\"&$D$507&\"</Formato>\n<Version>\"&$D$508&\"</Version>\n<NumEnvio>\"&$D$509&\"</NumEnvio>\n<FecEnvio>\"&$D$510&\"</FecEnvio>\n<FecInicial>\"&$D$511&\"</FecInicial>\n<FecFinal>\"&$D$512&\"</FecFinal>\n<ValorTotal>\"&rango_suma($B686)&\"</ValorTotal>\n<CantReg>\"&$E686&\"</CantReg>\n</Cab>\n\"),\"\")","v":""},171,"",null,0,{"$nulls":10},"Datos_Encabezados",0,30,{"$f":"(P686=Parametros[Segmento])*(Q686>0)*(R686>0)","v":0}]
[{"$f":"IFERROR(IF(E687=0,\"\",\"<?xml version=\"\"1.0\"\" encoding=\"\"ISO-8859-1\"\"?>\n<mas xmlns:xsi=\"\"http://www.w3.org/2001/XMLSchema-instance\"\" xsi:noNamespaceSchemaLocation=\"\"../xsd/\"&$D$507&\".xsd\"\">\n<Cab>\n<Ano>\"&$D$505&\"</Ano>\n<CodCpt>\"&$D$506&\"</CodCpt>\n<Formato>\"&$D$507&\"</Formato>\n<Version>\"&$D$508&\"</Version>\n<NumEnvio>\"&$D$509&\"</NumEnvio>\n<FecEnvio>\"&$D$510&\"</FecEnvio>\n<FecInicial>\"&$D$511&\"</FecInicial>\n<FecFinal>\"&$D$512&\"</FecFinal>\n<ValorTotal>\"&rango_suma($B687)&\"</ValorTotal>\n<CantReg>\"&$E687&\"</CantReg>\n</Cab>\n\"),\"\")","v":""},172,"",null,0,{"$nulls":10},"Datos_Encabezados",0,30,{"$f":"(P687=Parametros[Segmento])*(Q687>0)*(R687>0)","v":0}]
[{"$f":"IFERROR(IF(E688=0,\"\",\"<?xml version=\"\"1.0\"\" encoding=\"\"ISO-8859-1\"\"?>\n<mas xmlns:xsi=\"\"http://www.w3.org/2001/XMLSchema-instance\"\" xsi:noNamespaceSchemaLocation=\"\"../xsd/\"&$D$507&\".xsd\"\">\n<Cab>\n<Ano>\"&$D$505&\"</Ano>\n<CodCpt>\"&$D$506&\"</CodCpt>\n<Formato>\"&$D$507&\"</Formato>\n<Version>\"&$D$508&\"</Version>\n<NumEnvio>\"&$D$509&\"</NumEnvio>\n<FecEnvio>\"&$D$510&\"</FecEnvio>\n<FecInicial>\"&$D$511&\"</FecInicial>\n<FecFinal>\"&$D$512&\"</FecFinal>\n<ValorTotal>\"&rango_suma($B688)&\"</ValorTotal>\n<CantReg>\"&$E688&\"</CantReg>\n</Cab>\n\"),\"\")","v":""},173,"",null,0,{"$nulls":10},"Datos_Encabezados",0,30,{"$f":"(P688=Parametros[Segmento])*(Q688>0)*(R688>0)","v":0}]
[{"$f":"IFERROR(IF(E689=0,\"\",\"<?xml version=\"\"1.0\"\" encoding=\"\"ISO-8859-1\"\"?>\n<mas xmlns:xsi=\"\"http://www.w3.org/2001/XMLSchema-instance\"\" xsi:noNamespaceSchemaLocation=\"\"../xsd/\"&$D$507&\".xsd\"\">\n<Cab>\n<Ano>\"&$D$505&\"</Ano>\n<CodCpt>\"&$D$506&\"</CodCpt>\n<Formato>\"&$D$507&\"</Formato>\n<Version>\"&$D$508&\"</Version>\n<NumEnvio>\"&$D$509&\"</NumEnvio>\n<FecEnvio>\"&$D$510&\"</FecEnvio>\n<FecInicial>\"&$D$511&\"</FecInicial>\n<FecFinal>\"&$D$512&\"</FecFinal>\n<ValorTotal>\"&rango_suma($B689)&\"</ValorTotal>\n<CantReg>\"&$E689&\"</CantReg>\n</Cab>\n\"),\"\")","v":""},174,"",null,0,{"$nulls":10},"Datos_Encabezados",0,30,{"$f":"(P689=Parametros[Segmento])*(Q689>0)*(R689>0)","v":0}]
[{"$f":"IFERROR(IF(E690=0,\"\",\"<?xml version=\"\"1.0\"\" encoding=\"\"ISO-8859-1\"\"?>\n<mas xmlns:xsi=\"\"http://www.w3.org/2001/XMLSchema-instance\"\" xsi:noNamespaceSchemaLocation=\"\"../xsd/\"&$D$507&\".xsd\"\">\n<Cab>\n<Ano>\"&$D$505&\"</Ano>\n<CodCpt>\"&$D$506&\"</CodCpt>\n<Formato>\"&$D$507&\"</Formato>\n<Version>\"&$D$508&\"</Version>\n<NumEnvio>\"&$D$509&\"</NumEnvio>\n<FecEnvio>\"&$D$510&\"</FecEnvio>\n<FecInicial>\"&$D$511&\"</FecInicial>\n<FecFinal>\"&$D$512&\"</FecFinal>\n<ValorTotal>\"&rango_suma($B690)&\"</ValorTotal>\n<CantReg>\"&$E690&\"</CantReg>\n</Cab>\n\"),\"\")","v":""},175,"",null,0,{"$nulls":10},"Datos_Encabezados",0,30,{"$f":"(P690=Parametros[Segmento])*(Q690>0)*(R690>0)","v":0}]
[{"$f":"IFERROR(IF(E691=0,\"\",\"<?xml version=\"\"1.0\"\" encoding=\"\"ISO-8859-1\"\"?>\n<mas xmlns:xsi=\"\"http://www.w3.org/2001/XMLSchema-instance\"\" xsi:noNamespaceSchemaLocation=\"\"../xsd/\"&$D$507&\".xsd\"\">\n<Cab>\n<Ano>\"&$D$505&\"</Ano>\n<CodCpt>\"&$D$506&\"</CodCpt>\n<Formato>\"&$D$507&\"</Formato>\n<Version>\"&$D$508&\"</Version>\n<NumEnvio>\"&$D$509&\"</NumEnvio>\n<FecEnvio>\"&$D$510&\"</FecEnvio>\n<FecInicial>\"&$D$511&\"</FecInicial>\n<FecFinal>\"&$D$512&\"</FecFinal>\n<ValorTotal>\"&rango_suma($B691)&\"</ValorTotal>\n<CantReg>\"&$E691&\"</CantReg>\n</Cab>\n\"),\"\")","v":""},176,"",null,0,{"$nulls":10},"Datos_Encabezados",0,30,{"$f":"(P691=Parametros[Segmento])*(Q691>0)*(R691>0)","v":0}]
[{"$f":"IFERROR(IF(E692=0,\"\",\"<?xml version=\"\"1.0\"\" encoding=\"\"ISO-8859-1\"\"?>\n<mas xmlns:xsi=\"\"http://www.w3.org/2001/XMLSchema-instance\"\" xsi:noNamespaceSchemaLocation=\"\"../xsd/\"&$D$507&\".xsd\"\">\n<Cab>\n<Ano>\"&$D$505&\"</Ano>\n<CodCpt>\"&$D$506&\"</CodCpt>\n<Formato>\"&$D$507&\"</Formato>\n<Version>\"&$D$508&\"</Version>\n<NumEnvio>\"&$D$509&\"</NumEnvio>\n<FecEnvio>\"&$D$510&\"</FecEnvio>\n<FecInicial>\"&$D$511&\"</FecInicial>\n<FecFinal>\"&$D$512&\"</FecFinal>\n<ValorTotal>\"&rango_suma($B692)&\"</ValorTotal>\n<CantReg>\"&$E692&\"</CantReg>\n</Cab>\n\"),\"\")","v":""},177,"",null,0,{"$nulls":10},"Datos_Encabezados",0,30,{"$f":"(P692=Parametros[Segmento])*(Q692>0)*(R692>0)","v":0}]
[{"$f":"IFERROR(IF(E693=0,\"\",\"<?xml version=\"\"1.0\"\" encoding=\"\"ISO-8859-1\"\"?>\n<mas xmlns:xsi=\"\"http://www.w3.org/2001/XMLSchema-instance\"\" xsi:noNamespaceSchemaLocation=\"\"../xsd/\"&$D$507&\".xsd\"\">\n<Cab>\n<Ano>\"&$D$505&\"</Ano>\n<CodCpt>\"&$D$506&\"</CodCpt>\n<Formato>\"&$D$507&\"</Formato>\n<Version>\"&$D$508&\"</Version>\n<NumEnvio>\"&$D$509&\"</NumEnvio>\n<FecEnvio>\"&$D$510&\"</FecEnvio>\n<FecInicial>\"&$D$511&\"</FecInicial>\n<FecFinal>\"&$D$512&\"</FecFinal>\n<ValorTotal>\"&rango_suma($B693)&\"</ValorTotal>\n<CantReg>\"&$E693&\"</CantReg>\n</Cab>\n\"),\"\")","v":""},178,"",null,0,{"$nulls":10},"Datos_Encabezados",0,30,{"$f":"(P693=Parametros[Segmento])*(Q693>0)*(R693>0)","v":0}]
[{"$f":"IFERROR(IF(E694=0,\"\",\"<?xml version=\"\"1.0\"\" encoding=\"\"ISO-8859-1\"\"?>\n<mas xmlns:xsi=\"\"http://www.w3.org/2001/XMLSchema-instance\"\" xsi:noNamespaceSchemaLocation=\"\"../xsd/\"&$D$507&\".xsd\"\">\n<Cab>\n<Ano>\"&$D$505&\"</Ano>\n<CodCpt>\"&$D$506&\"</CodCpt>\n<Formato>\"&$D$507&\"</Formato>\n<Version>\"&$D$508&\"</Version>\n<NumEnvio>\"&$D$509&\"</NumEnvio>\n<FecEnvio>\"&$D$510&\"</FecEnvio>\n<FecInicial>\"&$D$511&\"</FecInicial>\n<FecFinal>\"&$D$512&\"</FecFinal>\n<ValorTotal>\"&rango_suma($B694)&\"</ValorTotal>\n<CantReg>\"&$E694&\"</CantReg>\n</Cab>\n\"),\"\")","v":""},179,"",null,0,{"$nulls":10},"Datos_Encabezados",0,30,{"$f":"(P694=Parametros[Segmento])*(Q694>0)*(R694>0)","v":0}]
[{"$f":"IFERROR(IF(E695=0,\"\",\"<?xml version=\"\"1.0\"\" encoding=\"\"ISO-8859-1\"\"?>\n<mas xmlns:xsi=\"\"http://www.w3.org/2001/XMLSchema-instance\"\" xsi:noNamespaceSchemaLocation=\"\"../xsd/\"&$D$507&\".xsd\"\">\n<Cab>\n<Ano>\"&$D$505&\"</Ano>\n<CodCpt>\"&$D$506&\"</CodCpt>\n<Formato>\"&$D$507&\"</Formato>\n<Version>\"&$D$508&\"</Version>\n<NumEnvio>\"&$D$509&\"</NumEnvio>\n<FecEnvio>\"&$D$510&\"</FecEnvio>\n<FecInicial>\"&$D$511&\"</FecInicial>\n<FecFinal>\"&$D$512&\"</FecFinal>\n<ValorTotal>\"&rango_suma($B695)&\"</ValorTotal>\n<CantReg>\"&$E695&\"</CantReg>\n</Cab>\n\"),\"\")","v":""},180,"",null,0,{"$nulls":10},"Datos_Encabezados",0,30,{"$f":"(P695=Parametros[Segmento])*(Q695>0)*(R695>0)","v":0}]
[{"$f":"IFERROR(IF(E696=0,\"\",\"<?xml version=\"\"1.0\"\" encoding=\"\"ISO-8859-1\"\"?>\n<mas xmlns:xsi=\"\"http://www.w3.org/2001/XMLSchema-instance\"\" xsi:noNamespaceSchemaLocation=\"\"../xsd/\"&$D$507&\".xsd\"\">\n<Cab>\n<Ano>\"&$D$505&\"</Ano>\n<CodCpt>\"&$D$506&\"</CodCpt>\n<Formato>\"&$D$507&\"</Formato>\n<Version>\"&$D$508&\"</Version>\n<NumEnvio>\"&$D$509&\"</NumEnvio>\n<FecEnvio>\"&$D$510&\"</FecEnvio>\n<FecInicial>\"&$D$511&\"</FecInicial>\n<FecFinal>\"&$D$512&\"</FecFinal>\n<ValorTotal>\"&rango_suma($B696)&\"</ValorTotal>\n<CantReg>\"&$E696&\"</CantReg>\n</Cab>\n\"),\"\")","v":""},181,"",null,0,{"$nulls":10},"Datos_Encabezados",0,30,{"$f":"(P696=Parametros[Segmento])*(Q696>0)*(R696>0)","v":0}]
[{"$f":"IFERROR(IF(E697=0,\"\",\"<?xml version=\"\"1.0\"\" encoding=\"\"ISO-8859-1\"\"?>\n<mas xmlns:xsi=\"\"http://www.w3.org/2001/XMLSchema-instance\"\" xsi:noNamespaceSchemaLocation=\"\"../xsd/\"&$D$507&\".xsd\"\">\n<Cab>\n<Ano>\"&$D$505&\"</Ano>\n<CodCpt>\"&$D$506&\"</CodCpt>\n<Formato>\"&$D$507&\"</Formato>\n<Version>\"&$D$508&\"</Version>\n<NumEnvio>\"&$D$509&\"</NumEnvio>\n<FecEnvio>\"&$D$510&\"</FecEnvio>\n<FecInicial>\"&$D$511&\"</FecInicial>\n<FecFinal>\"&$D$512&\"</FecFinal>\n<ValorTotal>\"&rango_suma($B697)&\"</ValorTotal>\n<CantReg>\"&$E697&\"</CantReg>\n</Cab>\n\"),\"\")","v":""},182,"",null,0,{"$nulls":10},"Datos_Encabezados",0,30,{"$f":"(P697=Parametros[Segmento])*(Q697>0)*(R697>0)","v":0}]
[{"$f":"IFERROR(IF(E698=0,\"\",\"<?xml version=\"\"1.0\"\" encoding=\"\"ISO-8859-1\"\"?>\n<mas xmlns:xsi=\"\"http://www.w3.org/2001/XMLSchema-instance\"\" xsi:noNamespaceSchemaLocation=\"\"../xsd/\"&$D$507&\".xsd\"\">\n<Cab>\n<Ano>\"&$D$505&\"</Ano>\n<CodCpt>\"&$D$506&\"</CodCpt>\n<Formato>\"&$D$507&\"</Formato>\n<Version>\"&$D$508&\"</Version>\n<NumEnvio>\"&$D$509&\"</NumEnvio>\n<FecEnvio>\"&$D$510&\"</FecEnvio>\n<FecInicial>\"&$D$511&\"</FecInicial>\n<FecFinal>\"&$D$512&\"</FecFinal>\n<ValorTotal>\"&rango_suma($B698)&\"</ValorTotal>\n<CantReg>\"&$E698&\"</CantReg>\n</Cab>\n\"),\"\")","v":""},183,"",null,0,{"$nulls":10},"Datos_Encabezados",0,30,{"$f":"(P698=Parametros[Segmento])*(Q698>0)*(R698>0)","v":0}]
[{"$f":"IFERROR(IF(E699=0,\"\",\"<?xml version=\"\"1.0\"\" encoding=\"\"ISO-8859-1\"\"?>\n<mas xmlns:xsi=\"\"http://www.w3.org/2001/XMLSchema-instance\"\" xsi:noNamespaceSchemaLocation=\"\"../xsd/\"&$D$507&\".xsd\"\">\n<Cab>\n<Ano>\"&$D$505&\"</Ano>\n<CodCpt>\"&$D$506&\"</CodCpt>\n<Formato>\"&$D$507&\"</Formato>\n<Version>\"&$D$508&\"</Version>\n<NumEnvio>\"&$D$509&\"</NumEnvio>\n<FecEnvio>\"&$D$510&\"</FecEnvio>\n<FecInicial>\"&$D$511&\"</FecInicial>\n<FecFinal>\"&$D$512&\"</FecFinal>\n<ValorTotal>\"&rango_suma($B699)&\"</ValorTotal>\n<CantReg>\"&$E699&\"</CantReg>\n</Cab>\n\"),\"\")","v":""},184,"",null,0,{"$nulls":10},"Datos_Encabezados",0,30,{"$f":"(P699=Parametros[Segmento])*(Q699>0)*(R699>0)","v":0}]
[{"$f":"IFERROR(IF(E700=0,\"\",\"<?xml version=\"\"1.0\"\" encoding=\"\"ISO-8859-1\"\"?>\n<mas xmlns:xsi=\"\"http://www.w3.org/2001/XMLSchema-instance\"\" xsi:noNamespaceSchemaLocation=\"\"../xsd/\"&$D$507&\".xsd\"\">\n<Cab>\n<Ano>\"&$D$505&\"</Ano>\n<CodCpt>\"&$D$506&\"</CodCpt>\n<Formato>\"&$D$507&\"</Formato>\n<Version>\"&$D$508&\"</Version>\n<NumEnvio>\"&$D$509&\"</NumEnvio>\n<FecEnvio>\"&$D$510&\"</FecEnvio>\n<FecInicial>\"&$D$511&\"</FecInicial>\n<FecFinal>\"&$D$512&\"</FecFinal>\n<ValorTotal>\"&rango_suma($B700)&\"</ValorTotal>\n<CantReg>\"&$E700&\"</CantReg>\n</Cab>\n\"),\"\")","v":""},185,"",null,0,{"$nulls":10},"Datos_Encabezados",0,30,{"$f":"(P700=Parametros[Segmento])*(Q700>0)*(R700>0)","v":0}]
[{"$f":"IFERROR(IF(E701=0,\"\",\"<?xml version=\"\"1.0\"\" encoding=\"\"ISO-8859-1\"\"?>\n<mas xmlns:xsi=\"\"http://www.w3.org/2001/XMLSchema-instance\"\" xsi:noNamespaceSchemaLocation=\"\"../xsd/\"&$D$507&\".xsd\"\">\n<Cab>\n<Ano>\"&$D$505&\"</Ano>\n<CodCpt>\"&$D$506&\"</CodCpt>\n<Formato>\"&$D$507&\"</Formato>\n<Version>\"&$D$508&\"</Version>\n<NumEnvio>\"&$D$509&\"</NumEnvio>\n<FecEnvio>\"&$D$510&\"</FecEnvio>\n<FecInicial>\"&$D$511&\"</FecInicial>\n<FecFinal>\"&$D$512&\"</FecFinal>\n<ValorTotal>\"&rango_suma($B701)&\"</ValorTotal>\n<CantReg>\"&$E701&\"</CantReg>\n</Cab>\n\"),\"\")","v":""},186,"",null,0,{"$nulls":10},"Datos_Encabezados",0,30,{"$f":"(P701=Parametros[Segmento])*(Q701>0)*(R701>0)","v":0}]
[{"$f":"IFERROR(IF(E702=0,\"\",\"<?xml version=\"\"1.0\"\" encoding=\"\"ISO-8859-1\"\"?>\n<mas xmlns:xsi=\"\"http://www.w3.org/2001/XMLSchema-instance\"\" xsi:noNamespaceSchemaLocation=\"\"../xsd/\"&$D$507&\".xsd\"\">\n<Cab>\n<Ano>\"&$D$505&\"</Ano>\n<CodCpt>\"&$D$506&\"</CodCpt>\n<Formato>\"&$D$507&\"</Formato>\n<Version>\"&$D$508&\"</Version>\n<NumEnvio>\"&$D$509&\"</NumEnvio>\n<FecEnvio>\"&$D$510&\"</FecEnvio>\n<FecInicial>\"&$D$511&\"</FecInicial>\n<FecFinal>\"&$D$512&\"</FecFinal>\n<ValorTotal>\"&rango_suma($B702)&\"</ValorTotal>\n<CantReg>\"&$E702&\"</CantReg>\n</Cab>\n\"),\"\")","v":""},187,"",null,0,{"$nulls":10},"Datos_Encabezados",0,30,{"$f":"(P702=Parametros[Segmento])*(Q702>0)*(R702>0)","v":0}]
[{"$f":"IFERROR(IF(E703=0,\"\",\"<?xml version=\"\"1.0\"\" encoding=\"\"ISO-8859-1\"\"?>\n<mas xmlns:xsi=\"\"http://www.w3.org/2001/XMLSchema-instance\"\" xsi:noNamespaceSchemaLocation=\"\"../xsd/\"&$D$507&\".xsd\"\">\n<Cab>\n<Ano>\"&$D$505&\"</Ano>\n<CodCpt>\"&$D$506&\"</CodCpt>\n<Formato>\"&$D$507&\"</Formato>\n<Version>\"&$D$508&\"</Version>\n<NumEnvio>\"&$D$509&\"</NumEnvio>\n<FecEnvio>\"&$D$510&\"</FecEnvio>\n<FecInicial>\"&$D$511&\"</FecInicial>\n<FecFinal>\"&$D$512&\"</FecFinal>\n<ValorTotal>\"&rango_suma($B703)&\"</ValorTotal>\n<CantReg>\"&$E703&\"</CantReg>\n</Cab>\n\"),\"\")","v":""},188,"",null,0,{"$nulls":10},"Datos_Encabezados",0,30,{"$f":"(P703=Parametros[Segmento])*(Q703>0)*(R703>0)","v":0}]
[{"$f":"IFERROR(IF(E704=0,\"\",\"<?xml version=\"\"1.0\"\" encoding=\"\"ISO-8859-1\"\"?>\n<mas xmlns:xsi=\"\"http://www.w3.org/2001/XMLSchema-instance\"\" xsi:noNamespaceSchemaLocation=\"\"../xsd/\"&$D$507&\".xsd\"\">\n<Cab>\n<Ano>\"&$D$505&\"</Ano>\n<CodCpt>\"&$D$506&\"</CodCpt>\n<Formato>\"&$D$507&\"</Formato>\n<Version>\"&$D$508&\"</Version>\n<NumEnvio>\"&$D$509&\"</NumEnvio>\n<FecEnvio>\"&$D$510&\"</FecEnvio>\n<FecInicial>\"&$D$511&\"</FecInicial>\n<FecFinal>\"&$D$512&\"</FecFinal>\n<ValorTotal>\"&rango_suma($B704)&\"</ValorTotal>\n<CantReg>\"&$E704&\"</CantReg>\n</Cab>\n\"),\"\")","v":""},189,"",null,0,{"$nulls":10},"Datos_Encabezados",0,30,{"$f":"(P704=Parametros[Segmento])*(Q704>0)*(R704>0)","v":0}]
[{"$f":"IFERROR(IF(E705=0,\"\",\"<?xml version=\"\"1.0\"\" encoding=\"\"ISO-8859-1\"\"?>\n<mas xmlns:xsi=\"\"http://www.w3.org/2001/XMLSchema-instance\"\" xsi:noNamespaceSchemaLocation=\"\"../xsd/\"&$D$507&\".xsd\"\">\n<Cab>\n<Ano>\"&$D$505&\"</Ano>\n<CodCpt>\"&$D$506&\"</CodCpt>\n<Formato>\"&$D$507&\"</Formato>\n<Version>\"&$D$508&\"</Version>\n<NumEnvio>\"&$D$509&\"</NumEnvio>\n<FecEnvio>\"&$D$510&\"</FecEnvio>\n<FecInicial>\"&$D$511&\"</FecInicial>\n<FecFinal>\"&$D$512&\"</FecFinal>\n<ValorTotal>\"&rango_suma($B705)&\"</ValorTotal>\n<CantReg>\"&$E705&\"</CantReg>\n</Cab>\n\"),\"\")","v":""},190,"",null,0,{"$nulls":10},"Datos_Encabezados",0,30,{"$f":"(P705=Parametros[Segmento])*(Q705>0)*(R705>0)","v":0}]
[{"$f":"IFERROR(IF(E706=0,\"\",\"<?xml version=\"\"1.0\"\" encoding=\"\"ISO-8859-1\"\"?>\n<mas xmlns:xsi=\"\"http://www.w3.org/2001/XMLSchema-instance\"\" xsi:noNamespaceSchemaLocation=\"\"../xsd/\"&$D$507&\".xsd\"\">\n<Cab>\n<Ano>\"&$D$505&\"</Ano>\n<CodCpt>\"&$D$506&\"</CodCpt>\n<Formato>\"&$D$507&\"</Formato>\n<Version>\"&$D$508&\"</Version>\n<NumEnvio>\"&$D$509&\"</NumEnvio>\n<FecEnvio>\"&$D$510&\"</FecEnvio>\n<FecInicial>\"&$D$511&\"</FecInicial>\n<FecFinal>\"&$D$512&\"</FecFinal>\n<ValorTotal>\"&rango_suma($B706)&\"</ValorTotal>\n<CantReg>\"&$E706&\"</CantReg>\n</Cab>\n\"),\"\")","v":""},191,"",null,0,{"$nulls":10},"Datos_Encabezados",0,30,{"$f":"(P706=Parametros[Segmento])*(Q706>0)*(R706>0)","v":0}]
[{"$f":"IFERROR(IF(E707=0,\"\",\"<?xml version=\"\"1.0\"\" encoding=\"\"ISO-8859-1\"\"?>\n<mas xmlns:xsi=\"\"http://www.w3.org/2001/XMLSchema-instance\"\" xsi:noNamespaceSchemaLocation=\"\"../xsd/\"&$D$507&\".xsd\"\">\n<Cab>\n<Ano>\"&$D$505&\"</Ano>\n<CodCpt>\"&$D$506&\"</CodCpt>\n<Formato>\"&$D$507&\"</Formato>\n<Version>\"&$D$508&\"</Version>\n<NumEnvio>\"&$D$509&\"</NumEnvio>\n<FecEnvio>\"&$D$510&\"</FecEnvio>\n<FecInicial>\"&$D$511&\"</FecInicial>\n<FecFinal>\"&$D$512&\"</FecFinal>\n<ValorTotal>\"&rango_suma($B707)&\"</ValorTotal>\n<CantReg>\"&$E707&\"</CantReg>\n</Cab>\n\"),\"\")","v":""},192,"",null,0,{"$nulls":10},"Datos_Encabezados",0,30,{"$f":"(P707=Parametros[Segmento])*(Q707>0)*(R707>0)","v":0}]
[{"$f":"IFERROR(IF(E708=0,\"\",\"<?xml version=\"\"1.0\"\" encoding=\"\"ISO-8859-1\"\"?>\n<mas xmlns:xsi=\"\"http://www.w3.org/2001/XMLSchema-instance\"\" xsi:noNamespaceSchemaLocation=\"\"../xsd/\"&$D$507&\".xsd\"\">\n<Cab>\n<Ano>\"&$D$505&\"</Ano>\n<CodCpt>\"&$D$506&\"</CodCpt>\n<Formato>\"&$D$507&\"</Formato>\n<Version>\"&$D$508&\"</Version>\n<NumEnvio>\"&$D$509&\"</NumEnvio>\n<FecEnvio>\"&$D$510&\"</FecEnvio>\n<FecInicial>\"&$D$511&\"</FecInicial>\n<FecFinal>\"&$D$512&\"</FecFinal>\n<ValorTotal>\"&rango_suma($B708)&\"</ValorTotal>\n<CantReg>\"&$E708&\"</CantReg>\n</Cab>\n\"),\"\")","v":""},193,"",null,0,{"$nulls":10},"Datos_Encabezados",0,30,{"$f":"(P708=Parametros[Segmento])*(Q708>0)*(R708>0)","v":0}]
[{"$f":"IFERROR(IF(E709=0,\"\",\"<?xml version=\"\"1.0\"\" encoding=\"\"ISO-8859-1\"\"?>\n<mas xmlns:xsi=\"\"http://www.w3.org/2001/XMLSchema-instance\"\" xsi:noNamespaceSchemaLocation=\"\"../xsd/\"&$D$507&\".xsd\"\">\n<Cab>\n<Ano>\"&$D$505&\"</Ano>\n<CodCpt>\"&$D$506&\"</CodCpt>\n<Formato>\"&$D$507&\"</Formato>\n<Version>\"&$D$508&\"</Version>\n<NumEnvio>\"&$D$509&\"</NumEnvio>\n<FecEnvio>\"&$D$510&\"</FecEnvio>\n<FecInicial>\"&$D$511&\"</FecInicial>\n<FecFinal>\"&$D$512&\"</FecFinal>\n<ValorTotal>\"&rango_suma($B709)&\"</ValorTotal>\n<CantReg>\"&$E709&\"</CantReg>\n</Cab>\n\"),\"\")","v":""},194,{"$f":"IF(E709=0,\"\",\"Dmuisca_\"&RIGHT(\"00\"&$D$506,2)&RIGHT(\"00000\"&$D$507,5)&RIGHT(\"00\"&$D$508,2)&$D$505&TEXT($D$509+$B709-1,\"00000000\")&\".xml\")","v":""},null,{"$f":"IFERROR(IF(E708=5000,Conteo_Registros($B709),0),0)","v":0},{"$nulls":10},"Datos_Encabezados",{"$f":"IF(E709>0,1,0)","v":0},30,{"$f":"(P709=Parametros[Segmento])*(Q709>0)*(R709>0)","v":0}]
[{"$f":"IFERROR(IF(E710=0,\"\",\"<?xml version=\"\"1.0\"\" encoding=\"\"ISO-8859-1\"\"?>\n<mas xmlns:xsi=\"\"http://www.w3.org/2001/XMLSchema-instance\"\" xsi:noNamespaceSchemaLocation=\"\"../xsd/\"&$D$507&\".xsd\"\">\n<Cab>\n<Ano>\"&$D$505&\"</Ano>\n<CodCpt>\"&$D$506&\"</CodCpt>\n<Formato>\"&$D$507&\"</Formato>\n<Version>\"&$D$508&\"</Version>\n<NumEnvio>\"&$D$509&\"</NumEnvio>\n<FecEnvio>\"&$D$510&\"</FecEnvio>\n<FecInicial>\"&$D$511&\"</FecInicial>\n<FecFinal>\"&$D$512&\"</FecFinal>\n<ValorTotal>\"&rango_suma($B710)&\"</ValorTotal>\n<CantReg>\"&$E710&\"</CantReg>\n</Cab>\n\"),\"\")","v":""},195,"",null,0,{"$nulls":10},"Datos_Encabezados",0,30,{"$f":"(P710=Parametros[Segmento])*(Q710>0)*(R710>0)","v":0}]
[{"$f":"IFERROR(IF(E711=0,\"\",\"<?xml version=\"\"1.0\"\" encoding=\"\"ISO-8859-1\"\"?>\n<mas xmlns:xsi=\"\"http://www.w3.org/2001/XMLSchema-instance\"\" xsi:noNamespaceSchemaLocation=\"\"../xsd/\"&$D$507&\".xsd\"\">\n<Cab>\n<Ano>\"&$D$505&\"</Ano>\n<CodCpt>\"&$D$506&\"</CodCpt>\n<Formato>\"&$D$507&\"</Formato>\n<Version>\"&$D$508&\"</Version>\n<NumEnvio>\"&$D$509&\"</NumEnvio>\n<FecEnvio>\"&$D$510&\"</FecEnvio>\n<FecInicial>\"&$D$511&\"</FecInicial>\n<FecFinal>\"&$D$512&\"</FecFinal>\n<ValorTotal>\"&rango_suma($B711)&\"</ValorTotal>\n<CantReg>\"&$E711&\"</CantReg>\n</Cab>\n\"),\"\")","v":""},196,"",null,0,{"$nulls":10},"Datos_Encabezados",0,30,{"$f":"(P711=Parametros[Segmento])*(Q711>0)*(R711>0)","v":0}]
[{"$f":"IFERROR(IF(E712=0,\"\",\"<?xml version=\"\"1.0\"\" encoding=\"\"ISO-8859-1\"\"?>\n<mas xmlns:xsi=\"\"http://www.w3.org/2001/XMLSchema-instance\"\" xsi:noNamespaceSchemaLocation=\"\"../xsd/\"&$D$507&\".xsd\"\">\n<Cab>\n<Ano>\"&$D$505&\"</Ano>\n<CodCpt>\"&$D$506&\"</CodCpt>\n<Formato>\"&$D$507&\"</Formato>\n<Version>\"&$D$508&\"</Version>\n<NumEnvio>\"&$D$509&\"</NumEnvio>\n<FecEnvio>\"&$D$510&\"</FecEnvio>\n<FecInicial>\"&$D$511&\"</FecInicial>\n<FecFinal>\"&$D$512&\"</FecFinal>\n<ValorTotal>\"&rango_suma($B712)&\"</ValorTotal>\n<CantReg>\"&$E712&\"</CantReg>\n</Cab>\n\"),\"\")","v":""},197,"",null,0,{"$nulls":10},"Datos_Encabezados",0,30,{"$f":"(P712=Parametros[Segmento])*(Q712>0)*(R712>0)","v":0}]
[{"$f":"IFERROR(IF(E713=0,\"\",\"<?xml version=\"\"1.0\"\" encoding=\"\"ISO-8859-1\"\"?>\n<mas xmlns:xsi=\"\"http://www.w3.org/2001/XMLSchema-instance\"\" xsi:noNamespaceSchemaLocation=\"\"../xsd/\"&$D$507&\".xsd\"\">\n<Cab>\n<Ano>\"&$D$505&\"</Ano>\n<CodCpt>\"&$D$506&\"</CodCpt>\n<Formato>\"&$D$507&\"</Formato>\n<Version>\"&$D$508&\"</Version>\n<NumEnvio>\"&$D$509&\"</NumEnvio>\n<FecEnvio>\"&$D$510&\"</FecEnvio>\n<FecInicial>\"&$D$511&\"</FecInicial>\n<FecFinal>\"&$D$512&\"</FecFinal>\n<ValorTotal>\"&rango_suma($B713)&\"</ValorTotal>\n<CantReg>\"&$E713&\"</CantReg>\n</Cab>\n\"),\"\")","v":""},198,"",null,0,{"$nulls":10},"Datos_Encabezados",0,30,{"$f":"(P713=Parametros[Segmento])*(Q713>0)*(R713>0)","v":0}]
[{"$f":"IFERROR(IF(E714=0,\"\",\"<?xml version=\"\"1.0\"\" encoding=\"\"ISO-8859-1\"\"?>\n<mas xmlns:xsi=\"\"http://www.w3.org/2001/XMLSchema-instance\"\" xsi:noNamespaceSchemaLocation=\"\"../xsd/\"&$D$507&\".xsd\"\">\n<Cab>\n<Ano>\"&$D$505&\"</Ano>\n<CodCpt>\"&$D$506&\"</CodCpt>\n<Formato>\"&$D$507&\"</Formato>\n<Version>\"&$D$508&\"</Version>\n<NumEnvio>\"&$D$509&\"</NumEnvio>\n<FecEnvio>\"&$D$510&\"</FecEnvio>\n<FecInicial>\"&$D$511&\"</FecInicial>\n<FecFinal>\"&$D$512&\"</FecFinal>\n<ValorTotal>\"&rango_suma($B714)&\"</ValorTotal>\n<CantReg>\"&$E714&\"</CantReg>\n</Cab>\n\"),\"\")","v":""},199,"",null,0,{"$nulls":10},"Datos_Encabezados",0,30,{"$f":"(P714=Parametros[Segmento])*(Q714>0)*(R714>0)","v":0}]
[{"$f":"IFERROR(IF(E715=0,\"\",\"<?xml version=\"\"1.0\"\" encoding=\"\"ISO-8859-1\"\"?>\n<mas xmlns:xsi=\"\"http://www.w3.org/2001/XMLSchema-instance\"\" xsi:noNamespaceSchemaLocation=\"\"../xsd/\"&$D$507&\".xsd\"\">\n<Cab>\n<Ano>\"&$D$505&\"</Ano>\n<CodCpt>\"&$D$506&\"</CodCpt>\n<Formato>\"&$D$507&\"</Formato>\n<Version>\"&$D$508&\"</Version>\n<NumEnvio>\"&$D$509&\"</NumEnvio>\n<FecEnvio>\"&$D$510&\"</FecEnvio>\n<FecInicial>\"&$D$511&\"</FecInicial>\n<FecFinal>\"&$D$512&\"</FecFinal>\n<ValorTotal>\"&rango_suma($B715)&\"</ValorTotal>\n<CantReg>\"&$E715&\"</CantReg>\n</Cab>\n\"),\"\")","v":""},200,"",null,0,{"$nulls":10},"Datos_Encabezados",0,30,{"$f":"(P715=Parametros[Segmento])*(Q715>0)*(R715>0)","v":0}]
[{"$nulls":15},"Datos_Encabezados",1,30,{"$f":"(P716=Parametros[Segmento])*(Q716>0)*(R716>0)","v":0}]

{"sheet":"Pegar_Especial","index":4,"n_rows":0,"n_cols":0,"rows_kept":0,"hidden":true}

{"sheet":"Alertas","index":5,"n_rows":1,"n_cols":4,"rows_kept":1,"hidden":true}
["ID","Columna","Fila","Observación"]

{"sheet":"Campos_x_Formato","index":6,"n_rows":83,"n_cols":17,"rows_kept":83,"hidden":true}
["Formato","Ancho_Col","Fichero_Prevalidador","1","2","Tipo","Longitud","Obligatorio","Comentario para el usuario - DIAN","8","9","Atributo","12","Denominacion_Casilla","Prevalidador","Orden","Lista"]
["1004",25,"Prevalidador_Tributario_Informantes_AG2022_v3.0.0-23.xlsm","*24","Concepto","N",4,"S","Seleccione el codigo concepto al cual pertecene el descuento tributario",null,"","cpt",null,"Concepto","Tributario_Informantes_AG2022",35,"Concepto_1004"]
["1004",25,"Prevalidador_Tributario_Informantes_AG2022_v3.0.0-23.xlsm","*25","Tipo de documento del Tercero","N",2,"S","Selección el Tipo de Documento del tercero",null,"","tdoc",null,"Tipo de documento del Tercero","Tributario_Informantes_AG2022",36,"Tipo_Documento_Sin_ident"]
["1004",25,"Prevalidador_Tributario_Informantes_AG2022_v3.0.0-23.xlsm","*26","Número de Identificación del Tercero","A",20,"S","Indique el numero de Identificacion del tercero",null,"E0149_3","nit",null,"Número de Identificación del Tercero","Tributario_Informantes_AG2022",37]
["1004",{"$f":"INT(20+Campos_x_Formato[[#This Row],[Longitud]]/4)","v":35},"Prevalidador_Tributario_Informantes_AG2022_v3.0.0-23.xlsm","27","Primer apellido","A",60,"N","Indique el Primer Apellido del tercero . Si es una persona jurídica, deje este espacio en blanco",null,"E0072_2(31)","pap",null,"Primer apellido","Tributario_Informantes_AG2022",38]
["1004",{"$f":"INT(20+Campos_x_Formato[[#This Row],[Longitud]]/4)","v":35},"Prevalidador_Tributario_Informantes_AG2022_v3.0.0-23.xlsm","28","Segundo apellido ","A",60,"N","Indique el Primer Apellido del tercero. Si no tiene segundo apellido o  si es una persona jurídica, deje este espacio en blanco",null,"E0054_2","sap",null,"Segundo apellido ","Tributario_Informantes_AG2022",39]
["1004",{"$f":"INT(20+Campos_x_Formato[[#This Row],[Longitud]]/4)","v":35},"Prevalidador_Tributario_Informantes_AG2022_v3.0.0-23.xlsm","29","Primer nombre","A",60,"N","Indique el Primer Nombre del tercero . Si es una persona jurídica, deje este espacio en blanco",null,"E0072_2(31)","pno",null,"Primer nombre","Tributario_Informantes_AG2022",40]
["1004",{"$f":"INT(20+Campos_x_Formato[[#This Row],[Longitud]]/4)","v":35},"Prevalidador_Tributario_Informantes_AG2022_v3.0.0-23.xlsm","30","Otros nombres","A",60,"N","Indique el Otro Nombre del tercero. Si no tiene otro nombre o  si es una persona jurídica, deje este espacio en blanco",null,"E0054_2","ono",null,"Otros nombres","Tributario_Informantes_AG2022",41]
["1004",{"$f":"INT(20+Campos_x_Formato[[#This Row],[Longitud]]/4)","v":132},"Prevalidador_Tributario_Informantes_AG2022_v3.0.0-23.xlsm","31","Razón Social","A",450,"N","Indique la razón social del Tercero. Si es una persona natural, deje la casilla en blanco. ",null,"E0073_1(27|29)","raz",null,"Razón Social","Tributario_Informantes_AG2022",42]
["1004",{"$f":"INT(20+Campos_x_Formato[[#This Row],[Longitud]]/4)","v":82},"Prevalidador_Tributario_Informantes_AG2022_v3.0.0-23.xlsm","32","Dirección","A",250,"N","Indique la dirreccion del tercero que esta informando",null,"E0131_1(35|169|8)","dir",null,"Dirección","Tributario_Informantes_AG2022",43]
["1004",25,"Prevalidador_Tributario_Informantes_AG2022_v3.0.0-23.xlsm","33","Código dpto","A",2,"N","Seleccione el codigo departamento de la direccion informada",null,"E0075_1","dpto",null,"Código dpto","Tributario_Informantes_AG2022",44,{"$f":"\"Departamentos_@\"&L13&\"@\"","v":"Departamentos_@pais@"}]
["1004",25,"Prevalidador_Tributario_Informantes_AG2022_v3.0.0-23.xlsm","34","Código mcp","A",3,"N","Seleccione el codigo municipio de la direccion informada",null,"E0076_1","mun",null,"Código mcp","Tributario_Informantes_AG2022",45,"Municipios_@dpto@"]
["1004",25,"Prevalidador_Tributario_Informantes_AG2022_v3.0.0-23.xlsm","35","Código País","A",4,"S","Seleccióne el codgo del pais del tercero informado",null,"E0087_2","pais",null,"Código País","Tributario_Informantes_AG2022",46,"Paises"]
["1004",{"$f":"INT(20+Campos_x_Formato[[#This Row],[Longitud]]/4)","v":32},"Prevalidador_Tributario_Informantes_AG2022_v3.0.0-23.xlsm","36","Buzón, correo o dirección electrónicos","A",50,"N","Indique el correo electronico",null,"E0147_3","email",null,"Buzón, correo o dirección electrónicos","Tributario_Informantes_AG2022",47]
["1004",25,"Prevalidador_Tributario_Informantes_AG2022_v3.0.0-23.xlsm","37","Valor del descuento tributario total del año","N",18,"S","Informe el valor del  Pago o abono en CTA",null,"E0120_1","vdesc",null,"Valor del descuento tributario total del año","Tributario_Informantes_AG2022",48]
["1004",25,"Prevalidador_Tributario_Informantes_AG2022_v3.0.0-23.xlsm","38","Valor del descuento tributario efectivamente solicitado en el año gravable","N",18,"S","Informe el valor del descuento tributario",null,"E0146_2","vdescsol",null,"Valor del descuento tributario efectivamente solicitado en el año gravable","Tributario_Informantes_AG2022",49]
["1005",25,"Prevalidador_Tributario_Informantes_AG2022_v3.0.0-23.xlsm","*24","Tipo de documento","N",2,"S","Seleccione el tipo de documento de identificación del tercero y/o proveedor que le facturó el correspondiente impuesto a las ventas. Cuando vaya a informar a personas o entidades del exterior que posean Número, Código o Clave Fiscal, Utilice 42, de lo contrario utilice el tipo de documento 43.",null,"","tdoc",null,"Tipo de documento","Tributario_Informantes_AG2022",50,"Tipo_Documento_Sin_ident"]
["1005",25,"Prevalidador_Tributario_Informantes_AG2022_v3.0.0-23.xlsm","*25","Número identificación","A",20,"S","Indique el número de identificación que corresponda al beneficiario del pago informado. Si es por cuantías menores indique el Nit 222222222. Cuando sean transacciones con personas o entidades del exterior que no posea Número, Código o Clave Fiscal deberá informarse con Nit 444444001 aumentando en una unidad cada relacionado hasta el 444449999.",null,"E0067_1","nid",null,"Número identificación","Tributario_Informantes_AG2022",51]
["1005",6,"Prevalidador_Tributario_Informantes_AG2022_v3.0.0-23.xlsm",26,"DV","N",1,"N","Si el número de identificación informado es un NIT, relacione el dígito de verificación respectivo.  ",null,"E0012_2","dv",null,"DV","Tributario_Informantes_AG2022",52,"Digito_Verificacion"]
["1005",{"$f":"INT(20+Campos_x_Formato[[#This Row],[Longitud]]/4)","v":35},"Prevalidador_Tributario_Informantes_AG2022_v3.0.0-23.xlsm",27,"Primer apellido del informado","A",60,"N","Indique el primer apellido del proveedor y/o tercero informado. Si es una persona jurídica, deje este espacio en blanco.",null,"E0141_1(31)","apl1",null,"Primer apellido del informado","Tributario_Informantes_AG2022",53]
["1005",{"$f":"INT(20+Campos_x_Formato[[#This Row],[Longitud]]/4)","v":35},"Prevalidador_Tributario_Informantes_AG2022_v3.0.0-23.xlsm",28,"Segundo apellido del informado","A",60,"N","Indique el segundo apellido del proveedor y/o tercero informado. Si no tiene segundo apellido o es una persona jurídica, deje este espacio en blanco.",null,"E0143_1","apl2",null,"Segundo apellido del informado","Tributario_Informantes_AG2022",54]
["1005",{"$f":"INT(20+Campos_x_Formato[[#This Row],[Longitud]]/4)","v":35},"Prevalidador_Tributario_Informantes_AG2022_v3.0.0-23.xlsm",29,"Primer nombre del informado","A",60,"N","Indique el primer nombre del proveedor y/o tercero informado. Si es una persona jurídica, deje este espacio en blanco.",null,"E0141_1(31)","nom1",null,"Primer nombre del informado","Tributario_Informantes_AG2022",55]
["1005",{"$f":"INT(20+Campos_x_Formato[[#This Row],[Longitud]]/4)","v":35},"Prevalidador_Tributario_Informantes_AG2022_v3.0.0-23.xlsm",30,"Otros nombres del informado","A",60,"N","Indique el segundo nombre u otros nombres del proveedor y/o tercero informado. Si no tiene más nombres o es una persona jurídica, deje este espacio en blanco.",null,"E0143_1","nom2",null,"Otros nombres del informado","Tributario_Informantes_AG2022",56]
["1005",{"$f":"INT(20+Campos_x_Formato[[#This Row],[Longitud]]/4)","v":132},"Prevalidador_Tributario_Informantes_AG2022_v3.0.0-23.xlsm",31,"Razón social informado","A",450,"N","Indique la razón social del tercero y/o proveedor informado. Si es una persona natural, deje la casilla en blanco. Utilice la razón social o nombre que corresponda para Nits 444444001 en adelante.",null,"E0142_1(27|29)","raz",null,"Razón social informado","Tributario_Informantes_AG2022",57]
["1005",25,"Prevalidador_Tributario_Informantes_AG2022_v3.0.0-23.xlsm",32,"Impuesto Descontable","N",20,"S","Informe el valor del Impuesto a las ventas por pagar Descontable.",null,"E0118_2","vimp",null,"Impuesto Descontable","Tributario_Informantes_AG2022",58]
["1005",25,"Prevalidador_Tributario_Informantes_AG2022_v3.0.0-23.xlsm",33,"IVA resultante por devoluciones en ventas anuladas, rescindidas o resueltas","N",20,"S","Informe el valor del IVA Resultante por Devoluciones en Ventas Anuladas, Rescindidas o Resultas.",null,"E0122_1(Impuesto Descontable)","ivade",null,"IVA resultante por devoluciones en ventas anuladas. rescindidas o resueltas","Tributario_Informantes_AG2022",59]
["1006",25,"Prevalidador_Tributario_Informantes_AG2022_v3.0.0-23.xlsm","*24","Tipo de Documento","N",2,"S","Seleccione el tipo de documento de identificación del cliente y/o tercero a quien le facturó el correspondiente impuesto a las ventas. Cuando vaya a informar cuantías menores ó transacciones con personas o entidades del exterior que no posea número. Código o clave fiscal. Utilice el tipo de documento 43",null,"","tdoc",null,"Tipo de Documento","Tributario_Informantes_AG2022",60,"Tipo_Documento_Sin_ident"]
["1006",25,"Prevalidador_Tributario_Informantes_AG2022_v3.0.0-23.xlsm","*25","Número identificación","A",20,"S","Indique el número de identificación que corresponda al beneficiario del pago informado. Si es por cuantías menores indique el Nit 222222222. Cuando sean transacciones con personas o entidades del exterior que no posea Número, Código o Clave Fiscal deberá informarse con Nit 444444001 aumentando en una unidad cada relacionado hasta el 444449999.",null,"E0064_1","nid",null,"Número identificación","Tributario_Informantes_AG2022",61]
["1006",6,"Prevalidador_Tributario_Informantes_AG2022_v3.0.0-23.xlsm","26","DV","N",1,"N","Si el número de identificación informado es un NIT. relacione el dígito de verificación respectivo.",null,"E0012_2","dv",null,"DV","Tributario_Informantes_AG2022",62,"Digito_Verificacion"]
["1006",{"$f":"INT(20+Campos_x_Formato[[#This Row],[Longitud]]/4)","v":35},"Prevalidador_Tributario_Informantes_AG2022_v3.0.0-23.xlsm",27,"Primer apellido del informado","A",60,"N","Indique el primer apellido del cliente y/o tercero informado. Si es una persona jurídica, deje este espacio en blanco.",null,"E0141_1(31)","apl1",null,"Primer apellido del informado","Tributario_Informantes_AG2022",63]
["1006",{"$f":"INT(20+Campos_x_Formato[[#This Row],[Longitud]]/4)","v":35},"Prevalidador_Tributario_Informantes_AG2022_v3.0.0-23.xlsm",28,"Segundo apellido del informado","A",60,"N","Indique el segundo apellido del cliente y/o tercero informado. Si no tiene segundo apellido o es una persona jurídica, deje este espacio en blanco.",null,"E0143_1","apl2",null,"Segundo apellido del informado","Tributario_Informantes_AG2022",64]
["1006",{"$f":"INT(20+Campos_x_Formato[[#This Row],[Longitud]]/4)","v":35},"Prevalidador_Tributario_Informantes_AG2022_v3.0.0-23.xlsm",29,"Primer nombre del informado","A",60,"N","Indique el primer nombre del cliente y/o tercero informado. Si es una persona jurídica, deje este espacio en blanco.",null,"E0141_1(31)","nom1",null,"Primer nombre del informado","Tributario_Informantes_AG2022",65]
["1006",{"$f":"INT(20+Campos_x_Formato[[#This Row],[Longitud]]/4)","v":35},"Prevalidador_Tributario_Informantes_AG2022_v3.0.0-23.xlsm",30,"Otros nombres del informado","A",60,"N","Indique el segundo nombre u otros nombres del cliente y/o tercero informado. Si no tiene más nombres o es una persona jurídica, deje este espacio en blanco.",null,"E0143_1","nom2",null,"Otros nombres del informado","Tributario_Informantes_AG2022",66]
["1006",{"$f":"INT(20+Campos_x_Formato[[#This Row],[Longitud]]/4)","v":132},"Prevalidador_Tributario_Informantes_AG2022_v3.0.0-23.xlsm",31,"Razón social informado","A",450,"N","Informe la razón social del cliente y/o tercero informado. Si es una persona natural, deje la casilla en blanco. Utilice \"Cuantías menores\" para el Nit 222222222.",null,"E0142_1(27|29)","raz",null,"Razón social informado","Tributario_Informantes_AG2022",67]
["1006",25,"Prevalidador_Tributario_Informantes_AG2022_v3.0.0-23.xlsm","32","Impuesto generado","N",20,"S","Informe el Valor de Impuesto a las ventas por pagar Generado.",null,"E0118_2","imp",null,"Impuesto generado","Tributario_Informantes_AG2022",68]
["1006",25,"Prevalidador_Tributario_Informantes_AG2022_v3.0.0-23.xlsm","33","IVA recuperado en devoluciones en compras anuladas. rescindidas o resueltas","N",20,"S","Informe el valor del IVA Recuperado en Devoluciones en Compras Anuladas. Rescendidas o Resueltas.",null,"E0130_3(32|34)","iva",null,"IVA recuperado en devoluciones en compras anuladas. rescindidas o resueltas","Tributario_Informantes_AG2022",69]
["1006",25,"Prevalidador_Tributario_Informantes_AG2022_v3.0.0-23.xlsm","34","Impuesto al consumo","N",20,"S","Informe el Valor de Impuesto al Consumo",null,"","icon",null,"Impuesto al consumo","Tributario_Informantes_AG2022",70]
["1647",25,"Prevalidador_Tributario_Informantes_AG2022_v3.0.0-23.xlsm","*24","Concepto","N",4,"S","Seleccione el concepto a que correspondan los ingresos recibidos",null,"E0124_1","con",null,"Concepto","Tributario_Informantes_AG2022",960,"Concepto_1647"]
["1647",25,"Prevalidador_Tributario_Informantes_AG2022_v3.0.0-23.xlsm","*25","Tipo de documento de quien se recibe ingreso","N",2,"S","Seleccione el tipo de documento de identificación que posea la persona o entidad de quien se recibió el correspondiente ingreso. Cuando vaya a informar cuantías menores o personas o entidades del exterior, Utilice el tipo de Documento  43. Si la Persona o Entidad  del exterior, tiene Número, Código o Clave Fiscal, Utilice 42.",null,"","tdoc",null,"Tipo de documento de quien se recibe ingreso","Tributario_Informantes_AG2022",961,"Tipo_Documento_Sin_ident"]
["1647",25,"Prevalidador_Tributario_Informantes_AG2022_v3.0.0-23.xlsm","*26","Número identificación de quien se recibe ingreso","A",20,"S","Indique el número de identificación que corresponda al informado. Si es por cuantías menores indique el Nit 222222222. Cuando sean transacciones con personas o entidades del exterior que no posean Número, Código o Clave Fiscal deberá informarse con Nit 444444001 aumentando en una unidad cada relacionado hasta el 444449999.",null,"E0064_1","nid",null,"Número identificación de quien se recibe ingreso","Tributario_Informantes_AG2022",962]
["1647",6,"Prevalidador_Tributario_Informantes_AG2022_v3.0.0-23.xlsm","27","DV","N",1,"N","Si el número de identificación informado es un NIT, relacione el dígito de verificación respectivo.",null,"E0012_2","dv",null,"DV","Tributario_Informantes_AG2022",963,"Digito_Verificacion"]
["1647",{"$f":"INT(20+Campos_x_Formato[[#This Row],[Longitud]]/4)","v":35},"Prevalidador_Tributario_Informantes_AG2022_v3.0.0-23.xlsm","28","Primer apellido de quien se recibe ingreso","A",60,"N","Indique el primer apellido del cliente y/o tercero de quien se obtuvo el ingreso. Si es una persona jurídica, deje este espacio en blanco.",null,"E0141_1(32)","apl1",null,"Primer apellido de quien se recibe ingreso","Tributario_Informantes_AG2022",964]
["1647",{"$f":"INT(20+Campos_x_Formato[[#This Row],[Longitud]]/4)","v":35},"Prevalidador_Tributario_Informantes_AG2022_v3.0.0-23.xlsm","29","Segundo apellido de quien se recibe ingreso","A",60,"N","Indique el segundo apellido del cliente y/o tercero de quien se obtuvo el ingreso. Si no tiene segundo apellido o es una persona jurídica, deje esta casilla en blanco.",null,"E0143_1","apl2",null,"Segundo apellido de quien se recibe ingreso","Tributario_Informantes_AG2022",965]
["1647",{"$f":"INT(20+Campos_x_Formato[[#This Row],[Longitud]]/4)","v":35},"Prevalidador_Tributario_Informantes_AG2022_v3.0.0-23.xlsm","30","Primer nombre de quien se recibe ingreso","A",60,"N","Indique el primer nombre del cliente y/o tercero de quien se recibió el ingreso. Si es una persona jurídica, deje este espacio en blanco.",null,"E0141_1(32)","nom1",null,"Primer nombre de quien se recibe ingreso","Tributario_Informantes_AG2022",966]
["1647",{"$f":"INT(20+Campos_x_Formato[[#This Row],[Longitud]]/4)","v":35},"Prevalidador_Tributario_Informantes_AG2022_v3.0.0-23.xlsm","31","Otros nombres de quien se recibe ingreso","A",60,"N","Indique el segundo nombre u otros nombres del cliente y/o tercero de quien se recibió el ingreso. Si no tiene más nombres o es una persona jurídica, deje este espacio en blanco.",null,"E0143_1","nom2",null,"Otros nombres de quien se recibe ingreso","Tributario_Informantes_AG2022",967]
["1647",{"$f":"INT(20+Campos_x_Formato[[#This Row],[Longitud]]/4)","v":132},"Prevalidador_Tributario_Informantes_AG2022_v3.0.0-23.xlsm","32","Razón social de quien se recibe ingreso","A",450,"N","Relacione la razón social del cliente o tercero de quien generó el ingreso. Si es una persona natural, deje esta casilla en blanco. Utilice \"Cuantías menores\" cuando el Nit sea 222222222, y la razón social o nombre que corresponda para Nits 444444001 en adelante.",null,"E0142_1(28|30)","raz",null,"Razón social de quien se recibe ingreso","Tributario_Informantes_AG2022",968]
["1647",25,"Prevalidador_Tributario_Informantes_AG2022_v3.0.0-23.xlsm","33","País de residencia o domicilio de quien se recibe ingreso","N",4,"S","Seleccione el código del país al cual pertenece el informado.",null,"E0127_1","pais",null,"País de residencia o domicilio de quien se recibe ingreso","Tributario_Informantes_AG2022",969,"Paises"]
["1647",25,"Prevalidador_Tributario_Informantes_AG2022_v3.0.0-23.xlsm","46","Valor total de la operación","N",18,"S","Informe el valor total de la Operación",null,"","vtotal",null,"Valor total de la operación","Tributario_Informantes_AG2022",970]
["1647",25,"Prevalidador_Tributario_Informantes_AG2022_v3.0.0-23.xlsm","47","Valor ingreso reintegrado transferido distribuido al tercero ","N",18,"S","Informe el valor del ingreso reintegro, tranferido o distribuido al tercero",null,"","ving",null,"Valor ingreso reintegrado transferido distribuido al tercero ","Tributario_Informantes_AG2022",971]
["1647",25,"Prevalidador_Tributario_Informantes_AG2022_v3.0.0-23.xlsm","48","Valor  Retención reintegrada   transferida distribuida al tercero ","N",18,"S","Informe el valor de la retencion que le efectu al tercero",null,"E0310_2(46,47)","vret",null,"Valor  Retención reintegrada   transferida distribuida al tercero ","Tributario_Informantes_AG2022",972]
["1647",25,"Prevalidador_Tributario_Informantes_AG2022_v3.0.0-23.xlsm","*35","Tipo de documento del tercero para quien se recibió ingreso","N",2,"S","Seleccione el tipo de documento de identificación que posea la persona o entidad para quien se recibió el correspondiente ingreso. Cuando vaya a informar cuantías menores o personas o entidades del exterior, Utilice el tipo de Documento  43. Si la Persona o Entidad  del exterior, tiene Número, Código o Clave Fiscal, Utilice 42.",null,"","tdoc2",null,"Tipo de documento del tercero para quien se recibió ingreso","Tributario_Informantes_AG2022",973,"Tipo_Documento_Sin_ident"]
["1647",25,"Prevalidador_Tributario_Informantes_AG2022_v3.0.0-23.xlsm","*36","Identificación  del tercero para quien se recibió ingreso","A",20,"S","Indique el número de identificación que corresponda al informado. Si es por cuantías menores indique el Nit 222222222. Cuando sean transacciones con personas o entidades del exterior que no posean Número, Código o Clave Fiscal deberá informarse con Nit 444444001 aumentando en una unidad cada relacionado hasta el 444449999.",null,"E0064_1","nid2i",null,"Identificación  del tercero para quien se recibió ingreso","Tributario_Informantes_AG2022",974]
["1647",{"$f":"INT(20+Campos_x_Formato[[#This Row],[Longitud]]/4)","v":35},"Prevalidador_Tributario_Informantes_AG2022_v3.0.0-23.xlsm","37","Primer apellido del tercero para quien se recibió ingreso","A",60,"N","Indique el primer apellido del cliente y/o tercero para quien se obtuvo el ingreso. Si es una persona jurídica, deje este espacio en blanco.",null,"E0077_1","apl1i",null,"Primer apellido del tercero para quien se recibió ingreso","Tributario_Informantes_AG2022",975]
["1647",{"$f":"INT(20+Campos_x_Formato[[#This Row],[Longitud]]/4)","v":35},"Prevalidador_Tributario_Informantes_AG2022_v3.0.0-23.xlsm",38,"Segundo apellido  del tercero para quien se recibió ingreso","A",60,"N","Indique el segundo apellido del cliente y/o tercero para quien se obtuvo el ingreso. Si no tiene segundo apellido o es una persona jurídica, deje esta casilla en blanco.",null,"E0078_1","apl2i",null,"Segundo apellido  del tercero para quien se recibió ingreso","Tributario_Informantes_AG2022",976]
["1647",{"$f":"INT(20+Campos_x_Formato[[#This Row],[Longitud]]/4)","v":35},"Prevalidador_Tributario_Informantes_AG2022_v3.0.0-23.xlsm","39","Primer nombre del tercero para quien se recibió ingreso","A",60,"N","Indique el primer nombre del cliente y/o tercero de para quien se recibió el ingreso. Si es una persona jurídica, deje este espacio en blanco.",null,"E0077_1","nom1i",null,"Primer nombre del tercero para quien se recibió ingreso","Tributario_Informantes_AG2022",977]
["1647",{"$f":"INT(20+Campos_x_Formato[[#This Row],[Longitud]]/4)","v":35},"Prevalidador_Tributario_Informantes_AG2022_v3.0.0-23.xlsm","40","Otros nombres del tercero para quien se recibió ingreso","A",60,"N","Indique el segundo nombre u otros nombres del cliente y/o tercero de para quien se recibió el ingreso. Si no tiene más nombres o es una persona jurídica, deje este espacio en blanco.",null,"E0078_1","nom2i",null,"Otros nombres del tercero para quien se recibió ingreso","Tributario_Informantes_AG2022",978]
["1647",{"$f":"INT(20+Campos_x_Formato[[#This Row],[Longitud]]/4)","v":132},"Prevalidador_Tributario_Informantes_AG2022_v3.0.0-23.xlsm","41","Razón social del tercero para quien se recibió ingreso","A",450,"N","Relacione la razón social del cliente o tercero de quien generó el ingreso. Si es una persona natural, deje esta casilla en blanco. Utilice Cuantías menores cuand el Nit sea 222222222 y la Razón social o nombre corresponda para Nits 444444001 en adelante.",null,"E0079_3","razi",null,"Razón social del tercero para quien se recibió ingreso","Tributario_Informantes_AG2022",979]
["1647",{"$f":"INT(20+Campos_x_Formato[[#This Row],[Longitud]]/4)","v":70},"Prevalidador_Tributario_Informantes_AG2022_v3.0.0-23.xlsm","42","Dirección","A",200,"N","Relacione la dirección del tercero para quien se recibio el ingreso reportado. Cuando se refiera a cuantías menores indique la dirección del informante. Cuando se refiera a personas  o entidades del exterior la  dirección, no se diligencia.",null,"E0131_1(45|169|8)","dir",null,"Dirección","Tributario_Informantes_AG2022",980]
["1647",25,"Prevalidador_Tributario_Informantes_AG2022_v3.0.0-23.xlsm","43","Código dpto","N",2,"N","Seleccione el departamento al cual pertenece la dirección informada, conforme con los códigos indicados en las tablas del Dane, se deben incluir los ceros a la izquierda. Para personas o entidades del exterior este campo no se diligencia.",null,"E0075_1","cdpt",null,"Código dpto","Tributario_Informantes_AG2022",981,{"$f":"\"Departamentos_@\"&L61&\"@\"","v":"Departamentos_@paist@"}]
["1647",25,"Prevalidador_Tributario_Informantes_AG2022_v3.0.0-23.xlsm","44","Código mcp","N",3,"N","Seleccione el municipio correspondiente a la dirección informada, conforme con los códigos indicados por el Dane, se deben incluir los ceros a la izquierda. Para personas o entidades del exterior este campo no se diligencia.",null,"E0076_1","cmcp",null,"Código mcp","Tributario_Informantes_AG2022",982,"Municipios_@cdpt@"]
["1647",25,"Prevalidador_Tributario_Informantes_AG2022_v3.0.0-23.xlsm","45","País de residencia o domicilio","N",4,"S","Seleccione el código del país al cual pertenece el informado.",null,"E0128_1","paist",null,"País de residencia o domicilio","Tributario_Informantes_AG2022",983,"Paises"]
["5247",25,"Prevalidador_Tributario_CCE_AG2022_v3.0.0-23.xlsm","*24","Tipo de Contrato","N",2,"S","Seleccione el Tipo de Contrato por el cual efectuó el pago o abono en cuenta.",null,"","tcon",null,"Tipo de Contrato","CCE_AG2022",1309,"Tipo_Contrato"]
["5247",25,"Prevalidador_Tributario_CCE_AG2022_v3.0.0-23.xlsm","*25","Concepto","N",4,"S","Seleccione el concepto por el cual efectuó el pago o abono en cuenta.",null,"E0300_1(5061)","cpt",null,"Concepto","CCE_AG2022",1310,"Concepto_5247"]
["5247",25,"Prevalidador_Tributario_CCE_AG2022_v3.0.0-23.xlsm","*26","Tipo de documento","N",2,"S","Seleccione el tipo de documento de identificación que posee el informado. Cuando vaya a informar cuantías menores o personas o entidades del exterior, Utilice el tipo de Documento  43. Si la Persona o Entidad  del exterior, tiene Número, Código o Clave Fiscal, Utilice 42.\n",null,"","tdoc",null,"Tipo de documento","CCE_AG2022",1311,"Tipo_Documento_Sin_ident"]
["5247",25,"Prevalidador_Tributario_CCE_AG2022_v3.0.0-23.xlsm","*27","Número identificación ","A",20,"S","Indique el número de identificación que corresponda al beneficiario del pago informado. Si es por cuantías menores indique el Nit 222222222. Cuando sean transacciones con personas o entidades del exterior que no posea Número, Código o Clave Fiscal deberá informarse con Nit 444444001 aumentando en una unidad cada relacionado hasta el 444449999.",null,"E0064_2","nid",null,"Número identificación ","CCE_AG2022",1312]
["5247",{"$f":"INT(20+Campos_x_Formato[[#This Row],[Longitud]]/4)","v":35},"Prevalidador_Tributario_CCE_AG2022_v3.0.0-23.xlsm",28,"Primer apellido del informado","A",60,"N","Indique el primer apellido del beneficiario del pago. Si es una persona jurídica, deje este espacio en blanco.",null,"E0314_1","apl1",null,"Primer apellido del informado","CCE_AG2022",1313]
["5247",{"$f":"INT(20+Campos_x_Formato[[#This Row],[Longitud]]/4)","v":35},"Prevalidador_Tributario_CCE_AG2022_v3.0.0-23.xlsm",29,"Segundo apellido del informado","A",60,"N","Indique el segundo apellido del beneficiario del pago. Si no tiene segundo apellido o es una persona jurídica, deje este espacio en blanco",null,"E0054_1","apl2",null,"Segundo apellido del informado","CCE_AG2022",1314]
["5247",{"$f":"INT(20+Campos_x_Formato[[#This Row],[Longitud]]/4)","v":35},"Prevalidador_Tributario_CCE_AG2022_v3.0.0-23.xlsm",30,"Primer nombre del informado","A",60,"N","Indique el primer nombre del beneficiario del pago. Si es una persona jurídica, deje este espacio en blanco.",null,"E0314_1","nom1",null,"Primer nombre del informado","CCE_AG2022",1315]
["5247",{"$f":"INT(20+Campos_x_Formato[[#This Row],[Longitud]]/4)","v":35},"Prevalidador_Tributario_CCE_AG2022_v3.0.0-23.xlsm",31,"Otros nombres del informado","A",60,"N","Indique el segundo nombre u otros nombres del beneficiario del pago. Si no tiene más nombres o es una persona jurídica, deje este espacio en blanco.",null,"E0054_1","nom2",null,"Otros nombres del informado","CCE_AG2022",1316]
["5247",{"$f":"INT(20+Campos_x_Formato[[#This Row],[Longitud]]/4)","v":132},"Prevalidador_Tributario_CCE_AG2022_v3.0.0-23.xlsm",32,"Razón social informado","A",450,"N","Indique la razón social del beneficiario del pago. Si es una persona natural, deje la casilla en blanco. Utilice \"Cuantías menores\" cuando el Nit sea 222222222 y la razón social o nombre que corresponda para Nits 444444001 en adelante.",null,"E0313_1","raz",null,"Razón social informado","CCE_AG2022",1317]
["5247",{"$f":"INT(20+Campos_x_Formato[[#This Row],[Longitud]]/4)","v":70},"Prevalidador_Tributario_CCE_AG2022_v3.0.0-23.xlsm",33,"Dirección","A",200,"N","Relacione la dirección del beneficiario del pago o abono en cuenta informado. Cuando se refiera a cuantías menores indique la dirección del informante. Cuando se refiera a personas  o entidades del exterior la  dirección, no se diligencia.",null,"E0074_3(8)","dir",null,"Dirección","CCE_AG2022",1318]
["5247",25,"Prevalidador_Tributario_CCE_AG2022_v3.0.0-23.xlsm",34,"Código dpto","N",2,"N","Seleccione el departamento al cual pertenece la dirección informada, conforme con los códigos indicados en las tablas del Dane, se deben incluir los ceros a la izquierda. Para personas o entidades del exterior este campo no se diligencia.",null,"E0075_1","dpto",null,"Código dpto","CCE_AG2022",1319,{"$f":"\"Departamentos_@\"&L74&\"@\"","v":"Departamentos_@pais@"}]
["5247",25,"Prevalidador_Tributario_CCE_AG2022_v3.0.0-23.xlsm",35,"Código mcp","N",3,"N","Seleccione el municipio correspondiente a la dirección informada, conforme con los códigos indicados por el Dane, se deben incluir los ceros a la izquierda. Para personas o entidades del exterior este campo no se diligencia.",null,"E0076_1","mun",null,"Código mcp","CCE_AG2022",1320,"Municipios_@dpto@"]
["5247",25,"Prevalidador_Tributario_CCE_AG2022_v3.0.0-23.xlsm",36,"País de Residencia o domicilio","N",4,"S","Seleccione el código del país al cual pertenece el informado.",null,"E0087_2","pais",null,"País de Residencia o domicilio","CCE_AG2022",1321,"Paises"]
["5247",25,"Prevalidador_Tributario_CCE_AG2022_v3.0.0-23.xlsm",37,"Pago o abono en cuenta","N",18,"S","Digite los pagos o abonos en cuenta (causación) que constituyan costo o deducción o den derecho a impuesto descontable por beneficiario correspondiente al año gravable informado.",null,"E0130_3(38|39|40|41|42)","pago",null,"Pago o abono en cuenta","CCE_AG2022",1322]
["5247",25,"Prevalidador_Tributario_CCE_AG2022_v3.0.0-23.xlsm",38,"IVA mayor valor del costo o gasto","N",18,"S","Informe el valor del IVA que llevo como Mayor Valor del Costo y solicitado como Deducible.",null,"","ivam",null,"IVA mayor valor del costo o gasto","CCE_AG2022",1323]
["5247",25,"Prevalidador_Tributario_CCE_AG2022_v3.0.0-23.xlsm",39,"Retención en la fuente practicada Renta","N",18,"S","Informe el valor de la Retencion en la Fuente Practicada a Titulo de Renta.",null,"","reprar",null,"Retención en la fuente practicada Renta","CCE_AG2022",1324]
["5247",25,"Prevalidador_Tributario_CCE_AG2022_v3.0.0-23.xlsm",40,"Retención en la fuente asumida Renta","N",18,"S","Informe el valor de la Retencion en la Fuente Asumida a Titulo de Renta.",null,"","rasre",null,"Retención en la fuente asumida Renta","CCE_AG2022",1325]
["5247",25,"Prevalidador_Tributario_CCE_AG2022_v3.0.0-23.xlsm",41,"Retención en la fuente practicada IVA Régimen común","N",18,"S","Informe el valor de la Retencion en la Fuente Practica a Titulo de IVA a Regimen Comun.",null,"","repric",null,"Retención en la fuente practicada IVA Régimen común","CCE_AG2022",1326]
["5247",25,"Prevalidador_Tributario_CCE_AG2022_v3.0.0-23.xlsm",42,"Retención en la fuente asumida NO domiciliados","N",18,"S","Informe el valor de la Retencion en la Fuente asumida  a NO Domiciliados.",null,"","rasnod",null,"Retención en la fuente asumida NO domiciliados","CCE_AG2022",1327]
["5247",25,"Prevalidador_Tributario_CCE_AG2022_v3.0.0-23.xlsm",43,"Identificación del fideicomiso","A",14,"N","Indique el numero de identificacion del fideicomiso",null,"","idfi",null,"Identificación del fideicomiso","CCE_AG2022",1328]
["5247",25,"Prevalidador_Tributario_CCE_AG2022_v3.0.0-23.xlsm","*44","Tipo documento participante en contrato","N",2,"S","Seleccione el tipo de documento de identificación que posee el participante en contrato.  Si la Persona o Entidad  del exterior, tiene Número, Código o Clave Fiscal, Utilice 42.",null,"","tdopa",null,"Tipo documento participante en contrato","CCE_AG2022",1329,"Tipo_Documento"]
["5247",25,"Prevalidador_Tributario_CCE_AG2022_v3.0.0-23.xlsm","*45","Identificación participante en contrato","A",20,"S","Indique el número de identificación que corresponda al participate en contrato. ",null,"E0315_1","nidpa",null,"Identificación participante en contrato","CCE_AG2022",1330]

{"sheet":"Terceros","index":7,"n_rows":100,"n_cols":9,"rows_kept":100,"hidden":true}
["Formato","NIT","DV","Primer apellido","Segundo apellido","Primer nombre","Otros nombres","Razón social","Estado"]
["1001","nid",null,"apl1","apl2","nom1","nom2","raz",1]
["1003","nid",null,"apl1","apl2","nom1","nom2","raz",1]
["1004","nit",null,"pap","sap","pno","ono","raz",1]
["1005","nid",null,"apl1","apl2","nom1","nom2","raz",1]
["1006","nid",null,"apl1","apl2","nom1","nom2","raz",1]
["1007","nid",null,"apl1","apl2","nom1","nom2","raz",1]
["1008","nid",null,"apl1","apl2","nom1","nom2","raz",1]
["1009","nid",null,"apl1","apl2","nom1","nom2","raz",1]
["1010","nid",null,"apl1","apl2","nom1","nom2","raz",1]
["1012","nid",null,"apl1","apl2","nom1","nom2","raz",1]
["1013","nid",null,"apl1","apl2","nom1","nom2","raz",1]
["1014","nid",null,"apl1","apl2","nom1","nom2","raz",1]
["1019","nid",null,"apl1","apl2","nom1","nom2","raz",1]
["1020","nid",null,"apl1","apl2","nom1","nom2","raz",1]
["1021","nid",null,"apl1","apl2","nom1","nom2","raz",1]
["1022","nita",null,"papa","sapa","pnoa","onoa",null,1]
["1023","nid",null,"apl1","apl2","nom1","nom2","raz",1]
["1024","nit",null,"apl1","apl2","nom1","nom2","raz",1]
["1026","nid",null,"apl1","apl2","nom1","nom2","raz",1]
["1028","nid",null,"apl1","apl2","nom1","nom2",null,1]
["1032","nid",null,"apl1","apl2","nom1","nom2","raz",1]
["1032","nida",null,"apl1a","apl2a","nom1a","nom2a","raza",2]
["1035","nid",null,"apl1","apl2","nom1","nom2","raz",1]
["1036",{"$nulls":6},"razs",1]
["1037","nit",null,"apl1","apl2","nom1","nom2","raz",1]
["1038","nit",{"$nulls":5},"raz",1]
["1039","nit",{"$nulls":5},"raz",1]
["1041","nit",{"$nulls":5},"raz",1]
["1042","nid",null,"apl1","apl2","nom1","nom2","raz",1]
["1056","nid",null,"apl1","apl2","nom1","nom2","raz",1]
["1058","nid",null,"apl1","apl2","nom1","nom2","raz",1]
["1159",{"$nulls":6},"raz",1]
["1406","nit",null,"pap","sap","pno","ono","raz",1]
["1476","nit",null,"pap","sap","pno","ono","raz",1]
["1480","nit",null,"pap","sap","pno","ono","raz",1]
["1481","nit",null,"pap","sap","pno","ono","raz",1]
["1647","nid",null,"apl1","apl2","nom1","nom2","raz",1]
["1647","nid2i",null,"apl1i","apl2i","nom1i","nom2i","razi",2]
["2273","nite",{"$nulls":5},"raze",1]
["2273","niti",null,"aplinv1","aplinv2","pnoi","onoi","razi",2]
["2274","nita",null,"pap","sap","pno","ono",null,1]
["2275","nit",null,"pap","sap","pno","ono","raz",1]
["2276","nitb",null,"pap","sap","pno","ono",null,1]
["2276","nitpcc",{"$nulls":6},2]
["2277","nita",null,"nita","papa","sapa","pnoa","onoa",1]
["2279","nitt",{"$nulls":5},"raz",1]
["2280","nite",null,"pap","sap","pno","ono",null,1]
["2574","nid",null,"apl1","apl2","nom1","nom2","raz",1]
["2574","nidov",null,"apl1ov","apl2ov","nom1ov","nom2ov","razov",2]
["2574","nidim",{"$nulls":6},3]
["2575","nid",{"$nulls":3},"prinom","otronom","raz",1]
["2631","nit",null,"pap","sap","pno","ono","raz",1]
["2683","nit",{"$nulls":5},"raz",1]
["5247","nid",null,"apl1","apl2","nom1","nom2","raz",1]
["5247","nidpa",{"$nulls":6},2]
["5248","nid",null,"apl1","apl2","nom1","nom2","raz",1]
["5248","nidpa",{"$nulls":6},2]
["5249","nid",null,"apl1","apl2","nom1","nom2","raz",1]
["5249","nidpa",{"$nulls":6},2]
["5250","nid",null,"apl1","apl2","nom1","nom2","raz",1]
["5250","nidpa",{"$nulls":6},2]
["5251","nid",null,"apl1","apl2","nom1","nom2","raz",1]
["5251","nidpa",{"$nulls":6},2]
["5252","nid",null,"apl1","apl2","nom1","nom2","raz",1]
["5252","nidpa",{"$nulls":6},2]
{"$rows_empty":33}
["NIT","DV","Primer apellido","Segundo apellido","Primer nombre","Otros nombres","Razón social","Estado"]

{"sheet":"Listas","index":8,"n_rows":3143,"n_cols":5,"rows_kept":3143,"hidden":true}
["Renombrado","Mostrar_Lista","ID","Descripcion","Orden"]
["Ubicación_del_Predio_1476",{"$f":"Listas[[#This Row],[ID]]&\" \"&IF(Listas[[#This Row],[Descripcion]]=\"\",\"\",\"- \"&Listas[[#This Row],[Descripcion]])","v":"1 - Predio rural"},"1","Predio rural",1]
["Ubicación_del_Predio_1476",{"$f":"Listas[[#This Row],[ID]]&\" \"&IF(Listas[[#This Row],[Descripcion]]=\"\",\"\",\"- \"&Listas[[#This Row],[Descripcion]])","v":"2 - Predio urbano"},"2","Predio urbano",2]
["Vehículo_Inversión_1036",{"$f":"Listas[[#This Row],[ID]]&\" \"&IF(Listas[[#This Row],[Descripcion]]=\"\",\"\",\"- \"&Listas[[#This Row],[Descripcion]])","v":"1 - Sociedades"},"1","Sociedades",3]
["Vehículo_Inversión_1036",{"$f":"Listas[[#This Row],[ID]]&\" \"&IF(Listas[[#This Row],[Descripcion]]=\"\",\"\",\"- \"&Listas[[#This Row],[Descripcion]])","v":"2 - Patrimonios autónomo"},"2","Patrimonios autónomo",4]
["Vehículo_Inversión_1036",{"$f":"Listas[[#This Row],[ID]]&\" \"&IF(Listas[[#This Row],[Descripcion]]=\"\",\"\",\"- \"&Listas[[#This Row],[Descripcion]])","v":"3 - Trust"},"3","Trust",5]
["Vehículo_Inversión_1036",{"$f":"Listas[[#This Row],[ID]]&\" \"&IF(Listas[[#This Row],[Descripcion]]=\"\",\"\",\"- \"&Listas[[#This Row],[Descripcion]])","v":"4 - Fondos de inversión colectiva"},"4","Fondos de inversión colectiva",6]
["Vehículo_Inversión_1036",{"$f":"Listas[[#This Row],[ID]]&\" \"&IF(Listas[[#This Row],[Descripcion]]=\"\",\"\",\"- \"&Listas[[#This Row],[Descripcion]])","v":"5 - Otros negocios fiduciarios"},"5","Otros negocios fiduciarios",7]
["Vehículo_Inversión_1036",{"$f":"Listas[[#This Row],[ID]]&\" \"&IF(Listas[[#This Row],[Descripcion]]=\"\",\"\",\"- \"&Listas[[#This Row],[Descripcion]])","v":"6 - Fundaciones de interés privado"},"6","Fundaciones de interés privado",8]
["Vehículo_Inversión_1036",{"$f":"Listas[[#This Row],[ID]]&\" \"&IF(Listas[[#This Row],[Descripcion]]=\"\",\"\",\"- \"&Listas[[#This Row],[Descripcion]])","v":"7 - Otros vehículos de inversión"},"7","Otros vehículos de inversión",9]
["Destino_Económico_1476",{"$f":"Listas[[#This Row],[ID]]&\" \"&IF(Listas[[#This Row],[Descripcion]]=\"\",\"\",\"- \"&Listas[[#This Row],[Descripcion]])","v":"A - Habitacional"},"A","Habitacional",10]
["Destino_Económico_1476",{"$f":"Listas[[#This Row],[ID]]&\" \"&IF(Listas[[#This Row],[Descripcion]]=\"\",\"\",\"- \"&Listas[[#This Row],[Descripcion]])","v":"B - Industrial"},"B","Industrial",11]
["Destino_Económico_1476",{"$f":"Listas[[#This Row],[ID]]&\" \"&IF(Listas[[#This Row],[Descripcion]]=\"\",\"\",\"- \"&Listas[[#This Row],[Descripcion]])","v":"C - Comercial"},"C","Comercial",12]
["Destino_Económico_1476",{"$f":"Listas[[#This Row],[ID]]&\" \"&IF(Listas[[#This Row],[Descripcion]]=\"\",\"\",\"- \"&Listas[[#This Row],[Descripcion]])","v":"D - Agropecuario"},"D","Agropecuario",13]
["Destino_Económico_1476",{"$f":"Listas[[#This Row],[ID]]&\" \"&IF(Listas[[#This Row],[Descripcion]]=\"\",\"\",\"- \"&Listas[[#This Row],[Descripcion]])","v":"E - Minero"},"E","Minero",14]
["Destino_Económico_1476",{"$f":"Listas[[#This Row],[ID]]&\" \"&IF(Listas[[#This Row],[Descripcion]]=\"\",\"\",\"- \"&Listas[[#This Row],[Descripcion]])","v":"F - Cultural"},"F","Cultural",15]
["Destino_Económico_1476",{"$f":"Listas[[#This Row],[ID]]&\" \"&IF(Listas[[#This Row],[Descripcion]]=\"\",\"\",\"- \"&Listas[[#This Row],[Descripcion]])","v":"G - Recreacional"},"G","Recreacional",16]
["Destino_Económico_1476",{"$f":"Listas[[#This Row],[ID]]&\" \"&IF(Listas[[#This Row],[Descripcion]]=\"\",\"\",\"- \"&Listas[[#This Row],[Descripcion]])","v":"H - Salubridad"},"H","Salubridad",17]
["Destino_Económico_1476",{"$f":"Listas[[#This Row],[ID]]&\" \"&IF(Listas[[#This Row],[Descripcion]]=\"\",\"\",\"- \"&Listas[[#This Row],[Descripcion]])","v":"I - Institucional o Estado"},"I","Institucional o Estado",18]
["Destino_Económico_1476",{"$f":"Listas[[#This Row],[ID]]&\" \"&IF(Listas[[#This Row],[Descripcion]]=\"\",\"\",\"- \"&Listas[[#This Row],[Descripcion]])","v":"J - Mixto"},"J","Mixto",19]
["Destino_Económico_1476",{"$f":"Listas[[#This Row],[ID]]&\" \"&IF(Listas[[#This Row],[Descripcion]]=\"\",\"\",\"- \"&Listas[[#This Row],[Descripcion]])","v":"K - Otro destino económico"},"K","Otro destino económico",20]
["Digito_Verificacion",{"$f":"Listas[[#This Row],[ID]]&\" \"&IF(Listas[[#This Row],[Descripcion]]=\"\",\"\",\"- \"&Listas[[#This Row],[Descripcion]])","v":"0 "},"0",null,21]
["Digito_Verificacion",{"$f":"Listas[[#This Row],[ID]]&\" \"&IF(Listas[[#This Row],[Descripcion]]=\"\",\"\",\"- \"&Listas[[#This Row],[Descripcion]])","v":"1 "},"1",null,22]
["Digito_Verificacion",{"$f":"Listas[[#This Row],[ID]]&\" \"&IF(Listas[[#This Row],[Descripcion]]=\"\",\"\",\"- \"&Listas[[#This Row],[Descripcion]])","v":"2 "},"2",null,23]
["Digito_Verificacion",{"$f":"Listas[[#This Row],[ID]]&\" \"&IF(Listas[[#This Row],[Descripcion]]=\"\",\"\",\"- \"&Listas[[#This Row],[Descripcion]])","v":"3 "},"3",null,24]
["Digito_Verificacion",{"$f":"Listas[[#This Row],[ID]]&\" \"&IF(Listas[[#This Row],[Descripcion]]=\"\",\"\",\"- \"&Listas[[#This Row],[Descripcion]])","v":"4 "},"4",null,25]
["Digito_Verificacion",{"$f":"Listas[[#This Row],[ID]]&\" \"&IF(Listas[[#This Row],[Descripcion]]=\"\",\"\",\"- \"&Listas[[#This Row],[Descripcion]])","v":"5 "},"5",null,26]
["Digito_Verificacion",{"$f":"Listas[[#This Row],[ID]]&\" \"&IF(Listas[[#This Row],[Descripcion]]=\"\",\"\",\"- \"&Listas[[#This Row],[Descripcion]])","v":"6 "},"6",null,27]
["Digito_Verificacion",{"$f":"Listas[[#This Row],[ID]]&\" \"&IF(Listas[[#This Row],[Descripcion]]=\"\",\"\",\"- \"&Listas[[#This Row],[Descripcion]])","v":"7 "},"7",null,28]
["Digito_Verificacion",{"$f":"Listas[[#This Row],[ID]]&\" \"&IF(Listas[[#This Row],[Descripcion]]=\"\",\"\",\"- \"&Listas[[#This Row],[Descripcion]])","v":"8 "},"8",null,29]
["Digito_Verificacion",{"$f":"Listas[[#This Row],[ID]]&\" \"&IF(Listas[[#This Row],[Descripcion]]=\"\",\"\",\"- \"&Listas[[#This Row],[Descripcion]])","v":"9 "},"9",null,30]
["Forma_Control_1036",{"$f":"Listas[[#This Row],[ID]]&\" \"&IF(Listas[[#This Row],[Descripcion]]=\"\",\"\",\"- \"&Listas[[#This Row],[Descripcion]])","v":"1 - Directo"},"1","Directo",31]
["Forma_Control_1036",{"$f":"Listas[[#This Row],[ID]]&\" \"&IF(Listas[[#This Row],[Descripcion]]=\"\",\"\",\"- \"&Listas[[#This Row],[Descripcion]])","v":"2 - Indirecto"},"2","Indirecto",32]
["Tipo_vínculo_1036",{"$f":"Listas[[#This Row],[ID]]&\" \"&IF(Listas[[#This Row],[Descripcion]]=\"\",\"\",\"- \"&Listas[[#This Row],[Descripcion]])","v":"1 - Subordinación"},"1","Subordinación",33]
["Tipo_vínculo_1036",{"$f":"Listas[[#This Row],[ID]]&\" \"&IF(Listas[[#This Row],[Descripcion]]=\"\",\"\",\"- \"&Listas[[#This Row],[Descripcion]])","v":"2 - Otras formas de vinculación"},"2","Otras formas de vinculación",34]
["Concepto_1056",{"$f":"Listas[[#This Row],[ID]]&\" \"&IF(Listas[[#This Row],[Descripcion]]=\"\",\"\",\"- \"&Listas[[#This Row],[Descripcion]])","v":"5002 - Honorarios "},"5002","Honorarios ",35]
["Concepto_1056",{"$f":"Listas[[#This Row],[ID]]&\" \"&IF(Listas[[#This Row],[Descripcion]]=\"\",\"\",\"- \"&Listas[[#This Row],[Descripcion]])","v":"5003 - Comisiones"},"5003","Comisiones",36]
["Concepto_1056",{"$f":"Listas[[#This Row],[ID]]&\" \"&IF(Listas[[#This Row],[Descripcion]]=\"\",\"\",\"- \"&Listas[[#This Row],[Descripcion]])","v":"5004 - Servicios"},"5004","Servicios",37]
["Concepto_1056",{"$f":"Listas[[#This Row],[ID]]&\" \"&IF(Listas[[#This Row],[Descripcion]]=\"\",\"\",\"- \"&Listas[[#This Row],[Descripcion]])","v":"5005 - Arrendamientos "},"5005","Arrendamientos ",38]
["Concepto_1056",{"$f":"Listas[[#This Row],[ID]]&\" \"&IF(Listas[[#This Row],[Descripcion]]=\"\",\"\",\"- \"&Listas[[#This Row],[Descripcion]])","v":"5006 - Intereses y rendimientos financieros causados"},"5006","Intereses y rendimientos financieros causados",39]
["Concepto_1056",{"$f":"Listas[[#This Row],[ID]]&\" \"&IF(Listas[[#This Row],[Descripcion]]=\"\",\"\",\"- \"&Listas[[#This Row],[Descripcion]])","v":"5007 - Compra de activos movibles (artículo 60 del ET)"},"5007","Compra de activos movibles (artículo 60 del ET)",40]
["Concepto_1056",{"$f":"Listas[[#This Row],[ID]]&\" \"&IF(Listas[[#This Row],[Descripcion]]=\"\",\"\",\"- \"&Listas[[#This Row],[Descripcion]])","v":"5008 - Compra de activos fijos (artículo 60 del ET)"},"5008","Compra de activos fijos (artículo 60 del ET)",41]
["Concepto_1056",{"$f":"Listas[[#This Row],[ID]]&\" \"&IF(Listas[[#This Row],[Descripcion]]=\"\",\"\",\"- \"&Listas[[#This Row],[Descripcion]])","v":"5010 - Los pagos o abonos en cuenta por concepto de aportes parafiscales al SENA, a las Cajas de Compensación Familiar y al Instituto Colombiano de Bienestar Familiar"},"5010","Los pagos o abonos en cuenta por concepto de aportes parafiscales al SENA, a las Cajas de Compensación Familiar y al Instituto Colombiano de Bienestar Familiar",42]
["Concepto_1056",{"$f":"Listas[[#This Row],[ID]]&\" \"&IF(Listas[[#This Row],[Descripcion]]=\"\",\"\",\"- \"&Listas[[#This Row],[Descripcion]])","v":"5011 - Los pagos o abonos en cuenta efectuados a las empresas promotoras de salud EPS y los aportes al Sistema de Riesgos Laborales, incluidos los aportes del trabajador"},"5011","Los pagos o abonos en cuenta efectuados a las empresas promotoras de salud EPS y los aportes al Sistema de Riesgos Laborales, incluidos los aportes del trabajador",43]
["Concepto_1056",{"$f":"Listas[[#This Row],[ID]]&\" \"&IF(Listas[[#This Row],[Descripcion]]=\"\",\"\",\"- \"&Listas[[#This Row],[Descripcion]])","v":"5012 - Los pagos o abonos en cuenta por concepto de aportes obligatorios para pensiones efectuados a los Fondos de Pensiones, incluidos los aportes del trabajador."},"5012","Los pagos o abonos en cuenta por concepto de aportes obligatorios para pensiones efectuados a los Fondos de Pensiones, incluidos los aportes del trabajador.",44]
["Concepto_1056",{"$f":"Listas[[#This Row],[ID]]&\" \"&IF(Listas[[#This Row],[Descripcion]]=\"\",\"\",\"- \"&Listas[[#This Row],[Descripcion]])","v":"5013 - Las donaciones en dinero efectuadas, a las entidades señaladas en los artículos 125, 125-4, 126-2 y 158-1 del Estatuto Tributario y la establecida en el artículo 16 de la Ley 814 de 2003, y demás que determine la ley."},"5013","Las donaciones en dinero efectuadas, a las entidades señaladas en los artículos 125, 125-4, 126-2 y 158-1 del Estatuto Tributario y la establecida en el artículo 16 de la Ley 814 de 2003, y demás que determine la ley.",45]
["Concepto_1056",{"$f":"Listas[[#This Row],[ID]]&\" \"&IF(Listas[[#This Row],[Descripcion]]=\"\",\"\",\"- \"&Listas[[#This Row],[Descripcion]])","v":"5014 - Las donaciones en activos diferentes a dinero efectuadas a las entidades señaladas en los artículos 125, 125-4, 126-2 y 158-1 del Estatuto Tributario y la establecida en el artículo 16 de la Ley 814 de 2003, y demás que determine la ley."},"5014","Las donaciones en activos diferentes a dinero efectuadas a las entidades señaladas en los artículos 125, 125-4, 126-2 y 158-1 del Estatuto Tributario y la establecida en el artículo 16 de la Ley 814 de 2003, y demás que determine la ley.",46]
["Concepto_1056",{"$f":"Listas[[#This Row],[ID]]&\" \"&IF(Listas[[#This Row],[Descripcion]]=\"\",\"\",\"- \"&Listas[[#This Row],[Descripcion]])","v":"5015 - El valor de los impuestos solicitados como deducción."},"5015","El valor de los impuestos solicitados como deducción.",47]
["Concepto_1056",{"$f":"Listas[[#This Row],[ID]]&\" \"&IF(Listas[[#This Row],[Descripcion]]=\"\",\"\",\"- \"&Listas[[#This Row],[Descripcion]])","v":"5016 - Los demás costos y deducciones."},"5016","Los demás costos y deducciones.",48]
["Concepto_1056",{"$f":"Listas[[#This Row],[ID]]&\" \"&IF(Listas[[#This Row],[Descripcion]]=\"\",\"\",\"- \"&Listas[[#This Row],[Descripcion]])","v":"5018 - El importe de las primas de reaseguros pagados o abonados en cuenta."},"5018","El importe de las primas de reaseguros pagados o abonados en cuenta.",49]
["Concepto_1056",{"$f":"Listas[[#This Row],[ID]]&\" \"&IF(Listas[[#This Row],[Descripcion]]=\"\",\"\",\"- \"&Listas[[#This Row],[Descripcion]])","v":"5019 - El monto de las amortizaciones realizadas."},"5019","El monto de las amortizaciones realizadas.",50]
["Concepto_1056",{"$f":"Listas[[#This Row],[ID]]&\" \"&IF(Listas[[#This Row],[Descripcion]]=\"\",\"\",\"- \"&Listas[[#This Row],[Descripcion]])","v":"5020 - Compra de activos fijos reales productivos sobre los cuales solicitó deducción, E.T. art. 158-3. El valor acumulado pagado o abonado en cuenta. Este valor no debe incluirse en el concepto 5008."},"5020","Compra de activos fijos reales productivos sobre los cuales solicitó deducción, E.T. art. 158-3. El valor acumulado pagado o abonado en cuenta. Este valor no debe incluirse en el concepto 5008.",51]
["Concepto_1056",{"$f":"Listas[[#This Row],[ID]]&\" \"&IF(Listas[[#This Row],[Descripcion]]=\"\",\"\",\"- \"&Listas[[#This Row],[Descripcion]])","v":"5023 - El valor acumulado de los pagos o abonos en cuenta al exterior por asistencia técnica."},"5023","El valor acumulado de los pagos o abonos en cuenta al exterior por asistencia técnica.",52]
["Concepto_1056",{"$f":"Listas[[#This Row],[ID]]&\" \"&IF(Listas[[#This Row],[Descripcion]]=\"\",\"\",\"- \"&Listas[[#This Row],[Descripcion]])","v":"5024 - El valor acumulado de los pagos o abonos en cuenta al exterior por marcas."},"5024","El valor acumulado de los pagos o abonos en cuenta al exterior por marcas.",53]
["Concepto_1056",{"$f":"Listas[[#This Row],[ID]]&\" \"&IF(Listas[[#This Row],[Descripcion]]=\"\",\"\",\"- \"&Listas[[#This Row],[Descripcion]])","v":"5025 - El valor acumulado de los pagos o abonos en cuenta al exterior por patentes."},"5025","El valor acumulado de los pagos o abonos en cuenta al exterior por patentes.",54]
["Concepto_1056",{"$f":"Listas[[#This Row],[ID]]&\" \"&IF(Listas[[#This Row],[Descripcion]]=\"\",\"\",\"- \"&Listas[[#This Row],[Descripcion]])","v":"5026 - El valor acumulado de los pagos o abonos en cuenta al exterior por regalías."},"5026","El valor acumulado de los pagos o abonos en cuenta al exterior por regalías.",55]
["Concepto_1056",{"$f":"Listas[[#This Row],[ID]]&\" \"&IF(Listas[[#This Row],[Descripcion]]=\"\",\"\",\"- \"&Listas[[#This Row],[Descripcion]])","v":"5027 - El valor acumulado de los pagos o abonos en cuenta al exterior por servicios técnicos."},"5027","El valor acumulado de los pagos o abonos en cuenta al exterior por servicios técnicos.",56]
["Concepto_1056",{"$f":"Listas[[#This Row],[ID]]&\" \"&IF(Listas[[#This Row],[Descripcion]]=\"\",\"\",\"- \"&Listas[[#This Row],[Descripcion]])","v":"5028 - El valor acumulado de la devolución de pagos o abonos en cuenta y retenciones correspondientes a operaciones de años anteriores."},"5028","El valor acumulado de la devolución de pagos o abonos en cuenta y retenciones correspondientes a operaciones de años anteriores.",57]
["Concepto_1056",{"$f":"Listas[[#This Row],[ID]]&\" \"&IF(Listas[[#This Row],[Descripcion]]=\"\",\"\",\"- \"&Listas[[#This Row],[Descripcion]])","v":"5029 - Gastos pagados por anticipado por Compras"},"5029","Gastos pagados por anticipado por Compras",58]
["Concepto_1056",{"$f":"Listas[[#This Row],[ID]]&\" \"&IF(Listas[[#This Row],[Descripcion]]=\"\",\"\",\"- \"&Listas[[#This Row],[Descripcion]])","v":"5030 - Gastos pagados por anticipado por Honorarios"},"5030","Gastos pagados por anticipado por Honorarios",59]
["Concepto_1056",{"$f":"Listas[[#This Row],[ID]]&\" \"&IF(Listas[[#This Row],[Descripcion]]=\"\",\"\",\"- \"&Listas[[#This Row],[Descripcion]])","v":"5031 - Gastos pagados por anticipado por Comisiones"},"5031","Gastos pagados por anticipado por Comisiones",60]
["Concepto_1056",{"$f":"Listas[[#This Row],[ID]]&\" \"&IF(Listas[[#This Row],[Descripcion]]=\"\",\"\",\"- \"&Listas[[#This Row],[Descripcion]])","v":"5032 - Gastos pagados por anticipado por Servicios"},"5032","Gastos pagados por anticipado por Servicios",61]
["Concepto_1056",{"$f":"Listas[[#This Row],[ID]]&\" \"&IF(Listas[[#This Row],[Descripcion]]=\"\",\"\",\"- \"&Listas[[#This Row],[Descripcion]])","v":"5033 - Gastos pagados por anticipado por arrendamientos"},"5033","Gastos pagados por anticipado por arrendamientos",62]
["Concepto_1056",{"$f":"Listas[[#This Row],[ID]]&\" \"&IF(Listas[[#This Row],[Descripcion]]=\"\",\"\",\"- \"&Listas[[#This Row],[Descripcion]])","v":"5034 - Gastos pagados por anticipado por intereses y rendimientos financieros"},"5034","Gastos pagados por anticipado por intereses y rendimientos financieros",63]
["Concepto_1056",{"$f":"Listas[[#This Row],[ID]]&\" \"&IF(Listas[[#This Row],[Descripcion]]=\"\",\"\",\"- \"&Listas[[#This Row],[Descripcion]])","v":"5035 - Gastos pagados por anticipado por otros conceptos"},"5035","Gastos pagados por anticipado por otros conceptos",64]
["Concepto_1056",{"$f":"Listas[[#This Row],[ID]]&\" \"&IF(Listas[[#This Row],[Descripcion]]=\"\",\"\",\"- \"&Listas[[#This Row],[Descripcion]])","v":"5044 - El pago por loterías, rifas, apuestas y similares."},"5044","El pago por loterías, rifas, apuestas y similares.",65]
["Concepto_1056",{"$f":"Listas[[#This Row],[ID]]&\" \"&IF(Listas[[#This Row],[Descripcion]]=\"\",\"\",\"- \"&Listas[[#This Row],[Descripcion]])","v":"5045 - Retención sobre ingresos de tarjetas débito y crédito."},"5045","Retención sobre ingresos de tarjetas débito y crédito.",66]
["Concepto_1056",{"$f":"Listas[[#This Row],[ID]]&\" \"&IF(Listas[[#This Row],[Descripcion]]=\"\",\"\",\"- \"&Listas[[#This Row],[Descripcion]])","v":"5046 - Enajenación de activos fijos de personas naturales ante oficinas de tránsito y otras entidades autorizadas."},"5046","Enajenación de activos fijos de personas naturales ante oficinas de tránsito y otras entidades autorizadas.",67]
["Concepto_1056",{"$f":"Listas[[#This Row],[ID]]&\" \"&IF(Listas[[#This Row],[Descripcion]]=\"\",\"\",\"- \"&Listas[[#This Row],[Descripcion]])","v":"5047 - El importe de los siniestros por lucro cesante pagados o abonados en cuenta."},"5047","El importe de los siniestros por lucro cesante pagados o abonados en cuenta.",68]
["Concepto_1056",{"$f":"Listas[[#This Row],[ID]]&\" \"&IF(Listas[[#This Row],[Descripcion]]=\"\",\"\",\"- \"&Listas[[#This Row],[Descripcion]])","v":"5048 - El importe de los siniestros por daño emergente pagados o abonados en cuenta."},"5048","El importe de los siniestros por daño emergente pagados o abonados en cuenta.",69]
["Concepto_1056",{"$f":"Listas[[#This Row],[ID]]&\" \"&IF(Listas[[#This Row],[Descripcion]]=\"\",\"\",\"- \"&Listas[[#This Row],[Descripcion]])","v":"5053 - Retenciones practicadas a título de timbre."},"5053","Retenciones practicadas a título de timbre.",70]
["Concepto_1056",{"$f":"Listas[[#This Row],[ID]]&\" \"&IF(Listas[[#This Row],[Descripcion]]=\"\",\"\",\"- \"&Listas[[#This Row],[Descripcion]])","v":"5054 - La devolución de retenciones a título de impuesto de timbre, correspondientes a\noperaciones de años anteriores."},"5054","La devolución de retenciones a título de impuesto de timbre, correspondientes a\noperaciones de años anteriores.",71]
["Concepto_1056",{"$f":"Listas[[#This Row],[ID]]&\" \"&IF(Listas[[#This Row],[Descripcion]]=\"\",\"\",\"- \"&Listas[[#This Row],[Descripcion]])","v":"5055 - Viáticos"},"5055","Viáticos",72]
["Concepto_1056",{"$f":"Listas[[#This Row],[ID]]&\" \"&IF(Listas[[#This Row],[Descripcion]]=\"\",\"\",\"- \"&Listas[[#This Row],[Descripcion]])","v":"5056 - Gastos de representación"},"5056","Gastos de representación",73]
["Concepto_1056",{"$f":"Listas[[#This Row],[ID]]&\" \"&IF(Listas[[#This Row],[Descripcion]]=\"\",\"\",\"- \"&Listas[[#This Row],[Descripcion]])","v":"5058 - El valor de los aportes, tasas y contribuciones solicitados como deducción."},"5058","El valor de los aportes, tasas y contribuciones solicitados como deducción.",74]
["Concepto_1056",{"$f":"Listas[[#This Row],[ID]]&\" \"&IF(Listas[[#This Row],[Descripcion]]=\"\",\"\",\"- \"&Listas[[#This Row],[Descripcion]])","v":"5059 - El pago o abono en cuenta realizado a cada uno de los cooperados, del valor del Fondo para revalorización de aportes."},"5059","El pago o abono en cuenta realizado a cada uno de los cooperados, del valor del Fondo para revalorización de aportes.",75]
["Concepto_1056",{"$f":"Listas[[#This Row],[ID]]&\" \"&IF(Listas[[#This Row],[Descripcion]]=\"\",\"\",\"- \"&Listas[[#This Row],[Descripcion]])","v":"5060 - Redención de inversiones en lo que corresponde al rembolso del capital por títulos de capitalización."},"5060","Redención de inversiones en lo que corresponde al rembolso del capital por títulos de capitalización.",76]
["Concepto_1056",{"$f":"Listas[[#This Row],[ID]]&\" \"&IF(Listas[[#This Row],[Descripcion]]=\"\",\"\",\"- \"&Listas[[#This Row],[Descripcion]])","v":"5061 - Las utilidades pagadas o abonadas en cuenta, cuando el beneficiario es diferente al fideicomitente, se informarán en el Formato 1014."},"5061","Las utilidades pagadas o abonadas en cuenta, cuando el beneficiario es diferente al fideicomitente, se informarán en el Formato 1014.",77]
["Concepto_1056",{"$f":"Listas[[#This Row],[ID]]&\" \"&IF(Listas[[#This Row],[Descripcion]]=\"\",\"\",\"- \"&Listas[[#This Row],[Descripcion]])","v":"5063 - Intereses y rendimientos financieros efectivamente pagados"},"5063","Intereses y rendimientos financieros efectivamente pagados",78]
["Concepto_1056",{"$f":"Listas[[#This Row],[ID]]&\" \"&IF(Listas[[#This Row],[Descripcion]]=\"\",\"\",\"- \"&Listas[[#This Row],[Descripcion]])","v":"5064 - Devoluciones de saldos de aportes pensionales pagados."},"5064","Devoluciones de saldos de aportes pensionales pagados.",79]
["Concepto_1056",{"$f":"Listas[[#This Row],[ID]]&\" \"&IF(Listas[[#This Row],[Descripcion]]=\"\",\"\",\"- \"&Listas[[#This Row],[Descripcion]])","v":"5065 - Excedentes pensionales de libre disponibilidad componente de capital pagados."},"5065","Excedentes pensionales de libre disponibilidad componente de capital pagados.",80]
["Concepto_1056",{"$f":"Listas[[#This Row],[ID]]&\" \"&IF(Listas[[#This Row],[Descripcion]]=\"\",\"\",\"- \"&Listas[[#This Row],[Descripcion]])","v":"5066 - El valor del impuesto nacional al consumo solicitado como deducción (artículo 512-1 del ET)."},"5066","El valor del impuesto nacional al consumo solicitado como deducción (artículo 512-1 del ET).",81]
["Concepto_1056",{"$f":"Listas[[#This Row],[ID]]&\" \"&IF(Listas[[#This Row],[Descripcion]]=\"\",\"\",\"- \"&Listas[[#This Row],[Descripcion]])","v":"5067 - El valor acumulado de los pagos o abonos en cuenta al exterior por consultoría."},"5067","El valor acumulado de los pagos o abonos en cuenta al exterior por consultoría.",82]
["Concepto_1056",{"$f":"Listas[[#This Row],[ID]]&\" \"&IF(Listas[[#This Row],[Descripcion]]=\"\",\"\",\"- \"&Listas[[#This Row],[Descripcion]])","v":"5068 - Participaciones o dividendos pagados o abonados en cuenta en calidad de exigibles correspondientes a 2016 y anteriores, Parágrafo 2 artículo 49 E.T."},"5068","Participaciones o dividendos pagados o abonados en cuenta en calidad de exigibles correspondientes a 2016 y anteriores, Parágrafo 2 artículo 49 E.T.",83]
["Concepto_1056",{"$f":"Listas[[#This Row],[ID]]&\" \"&IF(Listas[[#This Row],[Descripcion]]=\"\",\"\",\"- \"&Listas[[#This Row],[Descripcion]])","v":"5069 - Participaciones o dividendos pagados o abonados en cuenta en calidad de exigibles correspondientes a 2016 y anteriores, numeral 3 del artículo 49 E.T."},"5069","Participaciones o dividendos pagados o abonados en cuenta en calidad de exigibles correspondientes a 2016 y anteriores, numeral 3 del artículo 49 E.T.",84]
["Concepto_1056",{"$f":"Listas[[#This Row],[ID]]&\" \"&IF(Listas[[#This Row],[Descripcion]]=\"\",\"\",\"- \"&Listas[[#This Row],[Descripcion]])","v":"5070 - Participaciones o dividendos pagados o abonados en cuenta en calidad de exigibles correspondientes a 2017 y siguientes, Parágrafo 2 artículo 49 E.T. No incluir las retenciones en la fuente del concepto 5086."},"5070","Participaciones o dividendos pagados o abonados en cuenta en calidad de exigibles correspondientes a 2017 y siguientes, Parágrafo 2 artículo 49 E.T. No incluir las retenciones en la fuente del concepto 5086.",85]
["Concepto_1056",{"$f":"Listas[[#This Row],[ID]]&\" \"&IF(Listas[[#This Row],[Descripcion]]=\"\",\"\",\"- \"&Listas[[#This Row],[Descripcion]])","v":"5071 - Participaciones o dividendos pagados o abonados en cuenta en calidad de exigibles correspondientes a 2017 y siguientes, numeral 3 del artículo 49 E.T. No incluir las retenciones en la fuente del concepto 5086."},"5071","Participaciones o dividendos pagados o abonados en cuenta en calidad de exigibles correspondientes a 2017 y siguientes, numeral 3 del artículo 49 E.T. No incluir las retenciones en la fuente del concepto 5086.",86]
["Concepto_1056",{"$f":"Listas[[#This Row],[ID]]&\" \"&IF(Listas[[#This Row],[Descripcion]]=\"\",\"\",\"- \"&Listas[[#This Row],[Descripcion]])","v":"5072 - El importe de los siniestros por seguros de vida pagados o abonados en cuenta."},"5072","El importe de los siniestros por seguros de vida pagados o abonados en cuenta.",87]
["Concepto_1056",{"$f":"Listas[[#This Row],[ID]]&\" \"&IF(Listas[[#This Row],[Descripcion]]=\"\",\"\",\"- \"&Listas[[#This Row],[Descripcion]])","v":"5073 - Desembolsos por depósitos judiciales. Se debe identificar al beneficiario."},"5073","Desembolsos por depósitos judiciales. Se debe identificar al beneficiario.",88]
["Concepto_1056",{"$f":"Listas[[#This Row],[ID]]&\" \"&IF(Listas[[#This Row],[Descripcion]]=\"\",\"\",\"- \"&Listas[[#This Row],[Descripcion]])","v":"5074 - Desembolsos por reintegros de depósitos judiciales. Se debe identificar al beneficiario."},"5074","Desembolsos por reintegros de depósitos judiciales. Se debe identificar al beneficiario.",89]
["Concepto_1056",{"$f":"Listas[[#This Row],[ID]]&\" \"&IF(Listas[[#This Row],[Descripcion]]=\"\",\"\",\"- \"&Listas[[#This Row],[Descripcion]])","v":"5075 - Regalías y explotación de la propiedad intelectual: El valor acumulado pagado o abonado en cuenta."},"5075","Regalías y explotación de la propiedad intelectual: El valor acumulado pagado o abonado en cuenta.",90]
["Concepto_1056",{"$f":"Listas[[#This Row],[ID]]&\" \"&IF(Listas[[#This Row],[Descripcion]]=\"\",\"\",\"- \"&Listas[[#This Row],[Descripcion]])","v":"5076 - Valor de utilidades distribuidas provenientes de diferimiento de ingresos. E.T. art. 23-1, inc.4."},"5076","Valor de utilidades distribuidas provenientes de diferimiento de ingresos. E.T. art. 23-1, inc.4.",91]
["Concepto_1056",{"$f":"Listas[[#This Row],[ID]]&\" \"&IF(Listas[[#This Row],[Descripcion]]=\"\",\"\",\"- \"&Listas[[#This Row],[Descripcion]])","v":"5078 - Retenciones contribución laudos arbitrales."},"5078","Retenciones contribución laudos arbitrales.",92]
["Concepto_1056",{"$f":"Listas[[#This Row],[ID]]&\" \"&IF(Listas[[#This Row],[Descripcion]]=\"\",\"\",\"- \"&Listas[[#This Row],[Descripcion]])","v":"5079 - Intereses por deuda a vinculados en subcapitalización. E.T. art.118-1 El valor abonado en cuenta. Este valor no debe incluirse en el concepto 5006."},"5079","Intereses por deuda a vinculados en subcapitalización. E.T. art.118-1 El valor abonado en cuenta. Este valor no debe incluirse en el concepto 5006.",93]
["Concepto_1056",{"$f":"Listas[[#This Row],[ID]]&\" \"&IF(Listas[[#This Row],[Descripcion]]=\"\",\"\",\"- \"&Listas[[#This Row],[Descripcion]])","v":"5080 - El valor acumulado de los pagos o abonos efectuados a proveedores del exterior por servicios audiovisuales digitales (entre otros, de música, videos, películas y juegos de cualquier tipo, así como la radiodifusión de cualquier tipo de evento). E.T. art.437-2 num.8."},"5080","El valor acumulado de los pagos o abonos efectuados a proveedores del exterior por servicios audiovisuales digitales (entre otros, de música, videos, películas y juegos de cualquier tipo, así como la radiodifusión de cualquier tipo de evento). E.T. art.437-2 num.8.",94]
["Concepto_1056",{"$f":"Listas[[#This Row],[ID]]&\" \"&IF(Listas[[#This Row],[Descripcion]]=\"\",\"\",\"- \"&Listas[[#This Row],[Descripcion]])","v":"5081 - El valor acumulado de los pagos o abonos efectuados a proveedores del exterior por servicios prestados a través de plataformas digitales. E.T. art.437-2 num.8"},"5081","El valor acumulado de los pagos o abonos efectuados a proveedores del exterior por servicios prestados a través de plataformas digitales. E.T. art.437-2 num.8",95]
["Concepto_1056",{"$f":"Listas[[#This Row],[ID]]&\" \"&IF(Listas[[#This Row],[Descripcion]]=\"\",\"\",\"- \"&Listas[[#This Row],[Descripcion]])","v":"5082 - El valor acumulado de los pagos o abonos efectuados a proveedores del exterior por suministro de servicios de publicidad online. E.T. art.437-2 num.8"},"5082","El valor acumulado de los pagos o abonos efectuados a proveedores del exterior por suministro de servicios de publicidad online. E.T. art.437-2 num.8",96]
["Concepto_1056",{"$f":"Listas[[#This Row],[ID]]&\" \"&IF(Listas[[#This Row],[Descripcion]]=\"\",\"\",\"- \"&Listas[[#This Row],[Descripcion]])","v":"5083 - El valor acumulado de los pagos o abonos efectuados a proveedores del exterior por suministro de enseñanza o entrenamiento a distancia. E.T. art.437-2 num.8"},"5083","El valor acumulado de los pagos o abonos efectuados a proveedores del exterior por suministro de enseñanza o entrenamiento a distancia. E.T. art.437-2 num.8",97]
["Concepto_1056",{"$f":"Listas[[#This Row],[ID]]&\" \"&IF(Listas[[#This Row],[Descripcion]]=\"\",\"\",\"- \"&Listas[[#This Row],[Descripcion]])","v":"5084 - El valor acumulado de los pagos o abonos efectuados a proveedores del exterior por suministro de derechos de uso o explotación de intangibles. E.T. art.437-2 num.8"},"5084","El valor acumulado de los pagos o abonos efectuados a proveedores del exterior por suministro de derechos de uso o explotación de intangibles. E.T. art.437-2 num.8",98]
["Concepto_1056",{"$f":"Listas[[#This Row],[ID]]&\" \"&IF(Listas[[#This Row],[Descripcion]]=\"\",\"\",\"- \"&Listas[[#This Row],[Descripcion]])","v":"5085 - El valor acumulado de los pagos o abonos efectuados a proveedores del exterior por otros servicios electrónicos o digitales con destino a usuarios ubicados en Colombia. E.T. art.437-2 num.8"},"5085","El valor acumulado de los pagos o abonos efectuados a proveedores del exterior por otros servicios electrónicos o digitales con destino a usuarios ubicados en Colombia. E.T. art.437-2 num.8",99]
["Concepto_1056",{"$f":"Listas[[#This Row],[ID]]&\" \"&IF(Listas[[#This Row],[Descripcion]]=\"\",\"\",\"- \"&Listas[[#This Row],[Descripcion]])","v":"5086 - Valor retención en la fuente trasladada a terceros por participaciones o dividendos recibidos de sociedades nacionales E.T. art. 242-1 par.1"},"5086","Valor retención en la fuente trasladada a terceros por participaciones o dividendos recibidos de sociedades nacionales E.T. art. 242-1 par.1",100]
["Concepto_1056",{"$f":"Listas[[#This Row],[ID]]&\" \"&IF(Listas[[#This Row],[Descripcion]]=\"\",\"\",\"- \"&Listas[[#This Row],[Descripcion]])","v":"5087 - Valor de los puntos premio redimidos en el período que afectan el gasto directamente,\nprocedentes de programas de fidelización."},"5087","Valor de los puntos premio redimidos en el período que afectan el gasto directamente,\nprocedentes de programas de fidelización.",101]
["Lista_Seccionales_DIAN",{"$f":"Listas[[#This Row],[ID]]&\" \"&IF(Listas[[#This Row],[Descripcion]]=\"\",\"\",\"- \"&Listas[[#This Row],[Descripcion]])","v":"00 - Nivel Central"},"00","Nivel Central",102]
["Lista_Seccionales_DIAN",{"$f":"Listas[[#This Row],[ID]]&\" \"&IF(Listas[[#This Row],[Descripcion]]=\"\",\"\",\"- \"&Listas[[#This Row],[Descripcion]])","v":"01 - Dirección Seccional de Impuestos y Aduanas de Armenia"},"01","Dirección Seccional de Impuestos y Aduanas de Armenia",103]
["Lista_Seccionales_DIAN",{"$f":"Listas[[#This Row],[ID]]&\" \"&IF(Listas[[#This Row],[Descripcion]]=\"\",\"\",\"- \"&Listas[[#This Row],[Descripcion]])","v":"02 - Dirección Seccional de Impuestos de Barranquilla"},"02","Dirección Seccional de Impuestos de Barranquilla",104]
["Lista_Seccionales_DIAN",{"$f":"Listas[[#This Row],[ID]]&\" \"&IF(Listas[[#This Row],[Descripcion]]=\"\",\"\",\"- \"&Listas[[#This Row],[Descripcion]])","v":"03 - Dirección Seccional de Aduanas de Bogotá – Aeropuerto El Dorado"},"03","Dirección Seccional de Aduanas de Bogotá – Aeropuerto El Dorado",105]
["Lista_Seccionales_DIAN",{"$f":"Listas[[#This Row],[ID]]&\" \"&IF(Listas[[#This Row],[Descripcion]]=\"\",\"\",\"- \"&Listas[[#This Row],[Descripcion]])","v":"04 - Dirección Seccional de Impuestos y Aduanas de Bucaramanga"},"04","Dirección Seccional de Impuestos y Aduanas de Bucaramanga",106]
["Lista_Seccionales_DIAN",{"$f":"Listas[[#This Row],[ID]]&\" \"&IF(Listas[[#This Row],[Descripcion]]=\"\",\"\",\"- \"&Listas[[#This Row],[Descripcion]])","v":"05 - Dirección Seccional de Impuestos de Cali"},"05","Dirección Seccional de Impuestos de Cali",107]
["Lista_Seccionales_DIAN",{"$f":"Listas[[#This Row],[ID]]&\" \"&IF(Listas[[#This Row],[Descripcion]]=\"\",\"\",\"- \"&Listas[[#This Row],[Descripcion]])","v":"06 - Dirección Seccional de Impuestos de Cartagena"},"06","Dirección Seccional de Impuestos de Cartagena",108]
["Lista_Seccionales_DIAN",{"$f":"Listas[[#This Row],[ID]]&\" \"&IF(Listas[[#This Row],[Descripcion]]=\"\",\"\",\"- \"&Listas[[#This Row],[Descripcion]])","v":"07 - Dirección Seccional de Impuestos de Cúcuta"},"07","Dirección Seccional de Impuestos de Cúcuta",109]
["Lista_Seccionales_DIAN",{"$f":"Listas[[#This Row],[ID]]&\" \"&IF(Listas[[#This Row],[Descripcion]]=\"\",\"\",\"- \"&Listas[[#This Row],[Descripcion]])","v":"08 - Dirección Seccional de Impuestos y Aduanas de Girardot"},"08","Dirección Seccional de Impuestos y Aduanas de Girardot",110]
["Lista_Seccionales_DIAN",{"$f":"Listas[[#This Row],[ID]]&\" \"&IF(Listas[[#This Row],[Descripcion]]=\"\",\"\",\"- \"&Listas[[#This Row],[Descripcion]])","v":"09 - Dirección Seccional de Impuestos y Aduanas de Ibagué"},"09","Dirección Seccional de Impuestos y Aduanas de Ibagué",111]
["Lista_Seccionales_DIAN",{"$f":"Listas[[#This Row],[ID]]&\" \"&IF(Listas[[#This Row],[Descripcion]]=\"\",\"\",\"- \"&Listas[[#This Row],[Descripcion]])","v":"10 - Dirección Seccional de Impuestos y Aduanas de Manizales"},"10","Dirección Seccional de Impuestos y Aduanas de Manizales",112]
["Lista_Seccionales_DIAN",{"$f":"Listas[[#This Row],[ID]]&\" \"&IF(Listas[[#This Row],[Descripcion]]=\"\",\"\",\"- \"&Listas[[#This Row],[Descripcion]])","v":"11 - Dirección Seccional de Impuestos de Medellín"},"11","Dirección Seccional de Impuestos de Medellín",113]
["Lista_Seccionales_DIAN",{"$f":"Listas[[#This Row],[ID]]&\" \"&IF(Listas[[#This Row],[Descripcion]]=\"\",\"\",\"- \"&Listas[[#This Row],[Descripcion]])","v":"12 - Dirección Seccional de Impuestos y Aduanas de Montería"},"12","Dirección Seccional de Impuestos y Aduanas de Montería",114]
["Lista_Seccionales_DIAN",{"$f":"Listas[[#This Row],[ID]]&\" \"&IF(Listas[[#This Row],[Descripcion]]=\"\",\"\",\"- \"&Listas[[#This Row],[Descripcion]])","v":"13 - Dirección Seccional de Impuestos y Aduanas de Neiva"},"13","Dirección Seccional de Impuestos y Aduanas de Neiva",115]
["Lista_Seccionales_DIAN",{"$f":"Listas[[#This Row],[ID]]&\" \"&IF(Listas[[#This Row],[Descripcion]]=\"\",\"\",\"- \"&Listas[[#This Row],[Descripcion]])","v":"14 - Dirección Seccional de Impuestos y Aduanas de Pasto"},"14","Dirección Seccional de Impuestos y Aduanas de Pasto",116]
["Lista_Seccionales_DIAN",{"$f":"Listas[[#This Row],[ID]]&\" \"&IF(Listas[[#This Row],[Descripcion]]=\"\",\"\",\"- \"&Listas[[#This Row],[Descripcion]])","v":"15 - Dirección Seccional de Impuestos y Aduanas de Palmira"},"15","Dirección Seccional de Impuestos y Aduanas de Palmira",117]
["Lista_Seccionales_DIAN",{"$f":"Listas[[#This Row],[ID]]&\" \"&IF(Listas[[#This Row],[Descripcion]]=\"\",\"\",\"- \"&Listas[[#This Row],[Descripcion]])","v":"16 - Dirección Seccional de Impuestos y Aduanas de Pereira"},"16","Dirección Seccional de Impuestos y Aduanas de Pereira",118]
["Lista_Seccionales_DIAN",{"$f":"Listas[[#This Row],[ID]]&\" \"&IF(Listas[[#This Row],[Descripcion]]=\"\",\"\",\"- \"&Listas[[#This Row],[Descripcion]])","v":"17 - Dirección Seccional de Impuestos y Aduanas de Popayán"},"17","Dirección Seccional de Impuestos y Aduanas de Popayán",119]
["Lista_Seccionales_DIAN",{"$f":"Listas[[#This Row],[ID]]&\" \"&IF(Listas[[#This Row],[Descripcion]]=\"\",\"\",\"- \"&Listas[[#This Row],[Descripcion]])","v":"18 - Dirección Seccional de Impuestos y Aduanas de Quibdó"},"18","Dirección Seccional de Impuestos y Aduanas de Quibdó",120]
["Lista_Seccionales_DIAN",{"$f":"Listas[[#This Row],[ID]]&\" \"&IF(Listas[[#This Row],[Descripcion]]=\"\",\"\",\"- \"&Listas[[#This Row],[Descripcion]])","v":"19 - Dirección Seccional de Impuestos y Aduanas de Santa Marta"},"19","Dirección Seccional de Impuestos y Aduanas de Santa Marta",121]
["Lista_Seccionales_DIAN",{"$f":"Listas[[#This Row],[ID]]&\" \"&IF(Listas[[#This Row],[Descripcion]]=\"\",\"\",\"- \"&Listas[[#This Row],[Descripcion]])","v":"20 - Dirección Seccional de Impuestos y Aduanas de Tunja"},"20","Dirección Seccional de Impuestos y Aduanas de Tunja",122]
["Lista_Seccionales_DIAN",{"$f":"Listas[[#This Row],[ID]]&\" \"&IF(Listas[[#This Row],[Descripcion]]=\"\",\"\",\"- \"&Listas[[#This Row],[Descripcion]])","v":"21 - Dirección Seccional de Impuestos y Aduanas de Tuluá"},"21","Dirección Seccional de Impuestos y Aduanas de Tuluá",123]
["Lista_Seccionales_DIAN",{"$f":"Listas[[#This Row],[ID]]&\" \"&IF(Listas[[#This Row],[Descripcion]]=\"\",\"\",\"- \"&Listas[[#This Row],[Descripcion]])","v":"22 - Dirección Seccional de Impuestos y Aduanas de Villavicencio"},"22","Dirección Seccional de Impuestos y Aduanas de Villavicencio",124]
["Lista_Seccionales_DIAN",{"$f":"Listas[[#This Row],[ID]]&\" \"&IF(Listas[[#This Row],[Descripcion]]=\"\",\"\",\"- \"&Listas[[#This Row],[Descripcion]])","v":"23 - Dirección Seccional de Impuestos y Aduanas de Sincelejo"},"23","Dirección Seccional de Impuestos y Aduanas de Sincelejo",125]
["Lista_Seccionales_DIAN",{"$f":"Listas[[#This Row],[ID]]&\" \"&IF(Listas[[#This Row],[Descripcion]]=\"\",\"\",\"- \"&Listas[[#This Row],[Descripcion]])","v":"24 - Dirección Seccional de Impuestos y Aduanas de Valledupar"},"24","Dirección Seccional de Impuestos y Aduanas de Valledupar",126]
["Lista_Seccionales_DIAN",{"$f":"Listas[[#This Row],[ID]]&\" \"&IF(Listas[[#This Row],[Descripcion]]=\"\",\"\",\"- \"&Listas[[#This Row],[Descripcion]])","v":"25 - Dirección Seccional de Impuestos y Aduanas de Riohacha"},"25","Dirección Seccional de Impuestos y Aduanas de Riohacha",127]
["Lista_Seccionales_DIAN",{"$f":"Listas[[#This Row],[ID]]&\" \"&IF(Listas[[#This Row],[Descripcion]]=\"\",\"\",\"- \"&Listas[[#This Row],[Descripcion]])","v":"26 - Dirección Seccional de Impuestos y Aduanas de Sogamoso"},"26","Dirección Seccional de Impuestos y Aduanas de Sogamoso",128]
["Lista_Seccionales_DIAN",{"$f":"Listas[[#This Row],[ID]]&\" \"&IF(Listas[[#This Row],[Descripcion]]=\"\",\"\",\"- \"&Listas[[#This Row],[Descripcion]])","v":"27 - Dirección Seccional de Impuestos y Aduanas de San Andrés"},"27","Dirección Seccional de Impuestos y Aduanas de San Andrés",129]
["Lista_Seccionales_DIAN",{"$f":"Listas[[#This Row],[ID]]&\" \"&IF(Listas[[#This Row],[Descripcion]]=\"\",\"\",\"- \"&Listas[[#This Row],[Descripcion]])","v":"28 - Dirección Seccional de Impuestos y Aduanas de Florencia"},"28","Dirección Seccional de Impuestos y Aduanas de Florencia",130]
["Lista_Seccionales_DIAN",{"$f":"Listas[[#This Row],[ID]]&\" \"&IF(Listas[[#This Row],[Descripcion]]=\"\",\"\",\"- \"&Listas[[#This Row],[Descripcion]])","v":"29 - Dirección Seccional de Impuestos y Aduanas de Barrancabermeja"},"29","Dirección Seccional de Impuestos y Aduanas de Barrancabermeja",131]
["Lista_Seccionales_DIAN",{"$f":"Listas[[#This Row],[ID]]&\" \"&IF(Listas[[#This Row],[Descripcion]]=\"\",\"\",\"- \"&Listas[[#This Row],[Descripcion]])","v":"31 - Dirección Operativa de Grandes Contribuyentes"},"31","Dirección Operativa de Grandes Contribuyentes",132]
["Lista_Seccionales_DIAN",{"$f":"Listas[[#This Row],[ID]]&\" \"&IF(Listas[[#This Row],[Descripcion]]=\"\",\"\",\"- \"&Listas[[#This Row],[Descripcion]])","v":"32 - Dirección Seccional de Impuestos de Bogotá"},"32","Dirección Seccional de Impuestos de Bogotá",133]
["Lista_Seccionales_DIAN",{"$f":"Listas[[#This Row],[ID]]&\" \"&IF(Listas[[#This Row],[Descripcion]]=\"\",\"\",\"- \"&Listas[[#This Row],[Descripcion]])","v":"34 - Dirección Seccional de Impuestos y Aduanas de Arauca"},"34","Dirección Seccional de Impuestos y Aduanas de Arauca",134]
["Lista_Seccionales_DIAN",{"$f":"Listas[[#This Row],[ID]]&\" \"&IF(Listas[[#This Row],[Descripcion]]=\"\",\"\",\"- \"&Listas[[#This Row],[Descripcion]])","v":"35 - Dirección Seccional de Impuestos y Aduanas de Buenaventura"},"35","Dirección Seccional de Impuestos y Aduanas de Buenaventura",135]
["Lista_Seccionales_DIAN",{"$f":"Listas[[#This Row],[ID]]&\" \"&IF(Listas[[#This Row],[Descripcion]]=\"\",\"\",\"- \"&Listas[[#This Row],[Descripcion]])","v":"37 - Dirección Seccional de Impuestos y Aduanas de Ipiales"},"37","Dirección Seccional de Impuestos y Aduanas de Ipiales",136]
["Lista_Seccionales_DIAN",{"$f":"Listas[[#This Row],[ID]]&\" \"&IF(Listas[[#This Row],[Descripcion]]=\"\",\"\",\"- \"&Listas[[#This Row],[Descripcion]])","v":"38 - Dirección Seccional de Impuestos y Aduanas de Leticia"},"38","Dirección Seccional de Impuestos y Aduanas de Leticia",137]
["Lista_Seccionales_DIAN",{"$f":"Listas[[#This Row],[ID]]&\" \"&IF(Listas[[#This Row],[Descripcion]]=\"\",\"\",\"- \"&Listas[[#This Row],[Descripcion]])","v":"39 - Dirección Seccional de Impuestos y Aduanas de Maicao"},"39","Dirección Seccional de Impuestos y Aduanas de Maicao",138]
["Lista_Seccionales_DIAN",{"$f":"Listas[[#This Row],[ID]]&\" \"&IF(Listas[[#This Row],[Descripcion]]=\"\",\"\",\"- \"&Listas[[#This Row],[Descripcion]])","v":"40 - Dirección Seccional de Impuestos y Aduanas de Tumaco"},"40","Dirección Seccional de Impuestos y Aduanas de Tumaco",139]
["Lista_Seccionales_DIAN",{"$f":"Listas[[#This Row],[ID]]&\" \"&IF(Listas[[#This Row],[Descripcion]]=\"\",\"\",\"- \"&Listas[[#This Row],[Descripcion]])","v":"41 - Dirección Seccional de Impuestos y Aduanas de Urabá"},"41","Dirección Seccional de Impuestos y Aduanas de Urabá",140]
["Lista_Seccionales_DIAN",{"$f":"Listas[[#This Row],[ID]]&\" \"&IF(Listas[[#This Row],[Descripcion]]=\"\",\"\",\"- \"&Listas[[#This Row],[Descripcion]])","v":"42 - Dirección Seccional Delegada de Impuestos y Aduanas de Puerto Carreño"},"42","Dirección Seccional Delegada de Impuestos y Aduanas de Puerto Carreño",141]
["Lista_Seccionales_DIAN",{"$f":"Listas[[#This Row],[ID]]&\" \"&IF(Listas[[#This Row],[Descripcion]]=\"\",\"\",\"- \"&Listas[[#This Row],[Descripcion]])","v":"43 - Dirección Seccional Delegada de Impuestos y Aduanas de Puerto Inírida"},"43","Dirección Seccional Delegada de Impuestos y Aduanas de Puerto Inírida",142]
["Lista_Seccionales_DIAN",{"$f":"Listas[[#This Row],[ID]]&\" \"&IF(Listas[[#This Row],[Descripcion]]=\"\",\"\",\"- \"&Listas[[#This Row],[Descripcion]])","v":"44 - Dirección Seccional de Impuestos y Aduanas de Yopal"},"44","Dirección Seccional de Impuestos y Aduanas de Yopal",143]
["Lista_Seccionales_DIAN",{"$f":"Listas[[#This Row],[ID]]&\" \"&IF(Listas[[#This Row],[Descripcion]]=\"\",\"\",\"- \"&Listas[[#This Row],[Descripcion]])","v":"45 - Dirección Seccional Delegada de Impuestos y Aduanas Mitú"},"45","Dirección Seccional Delegada de Impuestos y Aduanas Mitú",144]
["Lista_Seccionales_DIAN",{"$f":"Listas[[#This Row],[ID]]&\" \"&IF(Listas[[#This Row],[Descripcion]]=\"\",\"\",\"- \"&Listas[[#This Row],[Descripcion]])","v":"46 - Dirección Seccional de Impuestos y Aduanas de Puerto Asís"},"46","Dirección Seccional de Impuestos y Aduanas de Puerto Asís",145]
["Lista_Seccionales_DIAN",{"$f":"Listas[[#This Row],[ID]]&\" \"&IF(Listas[[#This Row],[Descripcion]]=\"\",\"\",\"- \"&Listas[[#This Row],[Descripcion]])","v":"48 - Dirección Seccional de Aduanas de Cartagena"},"48","Dirección Seccional de Aduanas de Cartagena",146]
["Lista_Seccionales_DIAN",{"$f":"Listas[[#This Row],[ID]]&\" \"&IF(Listas[[#This Row],[Descripcion]]=\"\",\"\",\"- \"&Listas[[#This Row],[Descripcion]])","v":"78 - Dirección Seccional Delegada de Impuestos y Aduanas de San José de Guaviare"},"78","Dirección Seccional Delegada de Impuestos y Aduanas de San José de Guaviare",147]
["Lista_Seccionales_DIAN",{"$f":"Listas[[#This Row],[ID]]&\" \"&IF(Listas[[#This Row],[Descripcion]]=\"\",\"\",\"- \"&Listas[[#This Row],[Descripcion]])","v":"86 - Dirección Seccional Delegada de Impuestos y Aduanas de Pamplona"},"86","Dirección Seccional Delegada de Impuestos y Aduanas de Pamplona",148]
["Lista_Seccionales_DIAN",{"$f":"Listas[[#This Row],[ID]]&\" \"&IF(Listas[[#This Row],[Descripcion]]=\"\",\"\",\"- \"&Listas[[#This Row],[Descripcion]])","v":"87 - Dirección Seccional de Aduanas de Barranquilla"},"87","Dirección Seccional de Aduanas de Barranquilla",149]
["Lista_Seccionales_DIAN",{"$f":"Listas[[#This Row],[ID]]&\" \"&IF(Listas[[#This Row],[Descripcion]]=\"\",\"\",\"- \"&Listas[[#This Row],[Descripcion]])","v":"88 - Dirección Seccional de Aduanas de Cali"},"88","Dirección Seccional de Aduanas de Cali",150]
["Lista_Seccionales_DIAN",{"$f":"Listas[[#This Row],[ID]]&\" \"&IF(Listas[[#This Row],[Descripcion]]=\"\",\"\",\"- \"&Listas[[#This Row],[Descripcion]])","v":"89 - Dirección Seccional de Aduanas de Cúcuta"},"89","Dirección Seccional de Aduanas de Cúcuta",151]
["Lista_Seccionales_DIAN",{"$f":"Listas[[#This Row],[ID]]&\" \"&IF(Listas[[#This Row],[Descripcion]]=\"\",\"\",\"- \"&Listas[[#This Row],[Descripcion]])","v":"90 - Dirección Seccional de Aduanas de Medellín"},"90","Dirección Seccional de Aduanas de Medellín",152]
["Lista_Seccionales_DIAN",{"$f":"Listas[[#This Row],[ID]]&\" \"&IF(Listas[[#This Row],[Descripcion]]=\"\",\"\",\"- \"&Listas[[#This Row],[Descripcion]])","v":"91 - Dirección Seccional de Aduanas de Bogotá"},"91","Dirección Seccional de Aduanas de Bogotá",153]
["Tipo_Documento_Sin_ident",{"$f":"Listas[[#This Row],[ID]]&\" \"&IF(Listas[[#This Row],[Descripcion]]=\"\",\"\",\"- \"&Listas[[#This Row],[Descripcion]])","v":"11 -  Registro civil de nacimiento"},"11"," Registro civil de nacimiento",154]
["Tipo_Documento_Sin_ident",{"$f":"Listas[[#This Row],[ID]]&\" \"&IF(Listas[[#This Row],[Descripcion]]=\"\",\"\",\"- \"&Listas[[#This Row],[Descripcion]])","v":"12 -  Tarjeta de identidad"},"12"," Tarjeta de identidad",155]
["Tipo_Documento_Sin_ident",{"$f":"Listas[[#This Row],[ID]]&\" \"&IF(Listas[[#This Row],[Descripcion]]=\"\",\"\",\"- \"&Listas[[#This Row],[Descripcion]])","v":"13 -  Cédula de ciudadanía"},"13"," Cédula de ciudadanía",156]
["Tipo_Documento_Sin_ident",{"$f":"Listas[[#This Row],[ID]]&\" \"&IF(Listas[[#This Row],[Descripcion]]=\"\",\"\",\"- \"&Listas[[#This Row],[Descripcion]])","v":"21 -  Tarjeta de extranjería"},"21"," Tarjeta de extranjería",157]
["Tipo_Documento_Sin_ident",{"$f":"Listas[[#This Row],[ID]]&\" \"&IF(Listas[[#This Row],[Descripcion]]=\"\",\"\",\"- \"&Listas[[#This Row],[Descripcion]])","v":"22 -  Cédula de extranjería"},"22"," Cédula de extranjería",158]
["Tipo_Documento_Sin_ident",{"$f":"Listas[[#This Row],[ID]]&\" \"&IF(Listas[[#This Row],[Descripcion]]=\"\",\"\",\"- \"&Listas[[#This Row],[Descripcion]])","v":"31 -  Nit"},"31"," Nit",159]
["Tipo_Documento_Sin_ident",{"$f":"Listas[[#This Row],[ID]]&\" \"&IF(Listas[[#This Row],[Descripcion]]=\"\",\"\",\"- \"&Listas[[#This Row],[Descripcion]])","v":"41 -  Pasaporte"},"41"," Pasaporte",160]
["Tipo_Documento_Sin_ident",{"$f":"Listas[[#This Row],[ID]]&\" \"&IF(Listas[[#This Row],[Descripcion]]=\"\",\"\",\"- \"&Listas[[#This Row],[Descripcion]])","v":"42 - Tipo de documento Extranjero"},"42","Tipo de documento Extranjero",161]
["Tipo_Documento_Sin_ident",{"$f":"Listas[[#This Row],[ID]]&\" \"&IF(Listas[[#This Row],[Descripcion]]=\"\",\"\",\"- \"&Listas[[#This Row],[Descripcion]])","v":"43 - Sin identificación del exterior o para uso definido por la DIAN"},"43","Sin identificación del exterior o para uso definido por la DIAN",162]
["Tipo_Documento_Sin_ident",{"$f":"Listas[[#This Row],[ID]]&\" \"&IF(Listas[[#This Row],[Descripcion]]=\"\",\"\",\"- \"&Listas[[#This Row],[Descripcion]])","v":"47 - Permiso Especial de Permanencia"},"47","Permiso Especial de Permanencia",163]
["Tipo_Documento_Sin_ident",{"$f":"Listas[[#This Row],[ID]]&\" \"&IF(Listas[[#This Row],[Descripcion]]=\"\",\"\",\"- \"&Listas[[#This Row],[Descripcion]])","v":"48 - Permiso por Protección Temporal"},"48","Permiso por Protección Temporal",164]
["Concepto_1003",{"$f":"Listas[[#This Row],[ID]]&\" \"&IF(Listas[[#This Row],[Descripcion]]=\"\",\"\",\"- \"&Listas[[#This Row],[Descripcion]])","v":"1301 - Retenciones por salarios y demàs pagos laborales"},"1301","Retenciones por salarios y demàs pagos laborales",165]
["Concepto_1003",{"$f":"Listas[[#This Row],[ID]]&\" \"&IF(Listas[[#This Row],[Descripcion]]=\"\",\"\",\"- \"&Listas[[#This Row],[Descripcion]])","v":"1302 - Retenciones por ventas"},"1302","Retenciones por ventas",166]
["Concepto_1003",{"$f":"Listas[[#This Row],[ID]]&\" \"&IF(Listas[[#This Row],[Descripcion]]=\"\",\"\",\"- \"&Listas[[#This Row],[Descripcion]])","v":"1303 - Retenciones por Servicios"},"1303","Retenciones por Servicios",167]
["Concepto_1003",{"$f":"Listas[[#This Row],[ID]]&\" \"&IF(Listas[[#This Row],[Descripcion]]=\"\",\"\",\"- \"&Listas[[#This Row],[Descripcion]])","v":"1304 - Retenciones por Honorarios"},"1304","Retenciones por Honorarios",168]
["Concepto_1003",{"$f":"Listas[[#This Row],[ID]]&\" \"&IF(Listas[[#This Row],[Descripcion]]=\"\",\"\",\"- \"&Listas[[#This Row],[Descripcion]])","v":"1305 - Retenciones por Comisiones"},"1305","Retenciones por Comisiones",169]
["Concepto_1003",{"$f":"Listas[[#This Row],[ID]]&\" \"&IF(Listas[[#This Row],[Descripcion]]=\"\",\"\",\"- \"&Listas[[#This Row],[Descripcion]])","v":"1306 - Retenciones por Intereses y Rendimientos Financieros"},"1306","Retenciones por Intereses y Rendimientos Financieros",170]
["Concepto_1003",{"$f":"Listas[[#This Row],[ID]]&\" \"&IF(Listas[[#This Row],[Descripcion]]=\"\",\"\",\"- \"&Listas[[#This Row],[Descripcion]])","v":"1307 - Retenciones por Arrendamientos"},"1307","Retenciones por Arrendamientos",171]
["Concepto_1003",{"$f":"Listas[[#This Row],[ID]]&\" \"&IF(Listas[[#This Row],[Descripcion]]=\"\",\"\",\"- \"&Listas[[#This Row],[Descripcion]])","v":"1308 - Retencion por Otros conceptos"},"1308","Retencion por Otros conceptos",172]
["Concepto_1003",{"$f":"Listas[[#This Row],[ID]]&\" \"&IF(Listas[[#This Row],[Descripcion]]=\"\",\"\",\"- \"&Listas[[#This Row],[Descripcion]])","v":"1309 - Retención en la fuente en el  Impuesto a las ventas."},"1309","Retención en la fuente en el  Impuesto a las ventas.",173]
["Concepto_1003",{"$f":"Listas[[#This Row],[ID]]&\" \"&IF(Listas[[#This Row],[Descripcion]]=\"\",\"\",\"- \"&Listas[[#This Row],[Descripcion]])","v":"1310 - Retención por dividendos y participaciones"},"1310","Retención por dividendos y participaciones",174]
["Concepto_1003",{"$f":"Listas[[#This Row],[ID]]&\" \"&IF(Listas[[#This Row],[Descripcion]]=\"\",\"\",\"- \"&Listas[[#This Row],[Descripcion]])","v":"1311 - Retención por enajenación de activos fijos de personas naturales ante oficinas de tránsito y otras entidades autorizadas"},"1311","Retención por enajenación de activos fijos de personas naturales ante oficinas de tránsito y otras entidades autorizadas",175]
["Concepto_1003",{"$f":"Listas[[#This Row],[ID]]&\" \"&IF(Listas[[#This Row],[Descripcion]]=\"\",\"\",\"- \"&Listas[[#This Row],[Descripcion]])","v":"1312 - Retención por ingresos de tarjetas débito y crédito"},"1312","Retención por ingresos de tarjetas débito y crédito",176]
["Concepto_1003",{"$f":"Listas[[#This Row],[ID]]&\" \"&IF(Listas[[#This Row],[Descripcion]]=\"\",\"\",\"- \"&Listas[[#This Row],[Descripcion]])","v":"1313 - Retención por loterías, rifas, apuestas y similares"},"1313","Retención por loterías, rifas, apuestas y similares",177]
["Concepto_1003",{"$f":"Listas[[#This Row],[ID]]&\" \"&IF(Listas[[#This Row],[Descripcion]]=\"\",\"\",\"- \"&Listas[[#This Row],[Descripcion]])","v":"1314 - Retención por Impuesto de Timbre"},"1314","Retención por Impuesto de Timbre",178]
["Concepto_1003",{"$f":"Listas[[#This Row],[ID]]&\" \"&IF(Listas[[#This Row],[Descripcion]]=\"\",\"\",\"- \"&Listas[[#This Row],[Descripcion]])","v":"1320 - Retención por dividendos y participaciones recibidas por sociedades nacionales art. 242-1 del E.T."},"1320","Retención por dividendos y participaciones recibidas por sociedades nacionales art. 242-1 del E.T.",179]
["Concepto_1009",{"$f":"Listas[[#This Row],[ID]]&\" \"&IF(Listas[[#This Row],[Descripcion]]=\"\",\"\",\"- \"&Listas[[#This Row],[Descripcion]])","v":"2201 - Saldo de los pasivos con proveedores\n"},"2201","Saldo de los pasivos con proveedores\n",180]
["Concepto_1009",{"$f":"Listas[[#This Row],[ID]]&\" \"&IF(Listas[[#This Row],[Descripcion]]=\"\",\"\",\"- \"&Listas[[#This Row],[Descripcion]])","v":"2202 - Saldo de los pasivos con compañías vinculadas accionistas y socios"},"2202","Saldo de los pasivos con compañías vinculadas accionistas y socios",181]
["Concepto_1009",{"$f":"Listas[[#This Row],[ID]]&\" \"&IF(Listas[[#This Row],[Descripcion]]=\"\",\"\",\"- \"&Listas[[#This Row],[Descripcion]])","v":"2203 - Saldo de las obligaciones financieras"},"2203","Saldo de las obligaciones financieras",182]
["Concepto_1009",{"$f":"Listas[[#This Row],[ID]]&\" \"&IF(Listas[[#This Row],[Descripcion]]=\"\",\"\",\"- \"&Listas[[#This Row],[Descripcion]])","v":"2204 - Saldo de los pasivos por impuestos, gravámenes y tasas"},"2204","Saldo de los pasivos por impuestos, gravámenes y tasas",183]
["Concepto_1009",{"$f":"Listas[[#This Row],[ID]]&\" \"&IF(Listas[[#This Row],[Descripcion]]=\"\",\"\",\"- \"&Listas[[#This Row],[Descripcion]])","v":"2206 - Saldo de los demás pasivos,"},"2206","Saldo de los demás pasivos,",184]
["Concepto_1009",{"$f":"Listas[[#This Row],[ID]]&\" \"&IF(Listas[[#This Row],[Descripcion]]=\"\",\"\",\"- \"&Listas[[#This Row],[Descripcion]])","v":"2207 - Saldo del Pasivo determinado por el cálculo Actuarial, con el NIT del informante"},"2207","Saldo del Pasivo determinado por el cálculo Actuarial, con el NIT del informante",185]
["Concepto_1009",{"$f":"Listas[[#This Row],[ID]]&\" \"&IF(Listas[[#This Row],[Descripcion]]=\"\",\"\",\"- \"&Listas[[#This Row],[Descripcion]])","v":"2208 - Pasivos respaldados en documento de fecha cierta"},"2208","Pasivos respaldados en documento de fecha cierta",186]
["Concepto_1009",{"$f":"Listas[[#This Row],[ID]]&\" \"&IF(Listas[[#This Row],[Descripcion]]=\"\",\"\",\"- \"&Listas[[#This Row],[Descripcion]])","v":"2209 - Pasivos exclusivos de las compañías de seguros"},"2209","Pasivos exclusivos de las compañías de seguros",187]
["Concepto_1009",{"$f":"Listas[[#This Row],[ID]]&\" \"&IF(Listas[[#This Row],[Descripcion]]=\"\",\"\",\"- \"&Listas[[#This Row],[Descripcion]])","v":"2211 - Valor de los pasivos por depósitos judiciales"},"2211","Valor de los pasivos por depósitos judiciales",188]
["Concepto_1009",{"$f":"Listas[[#This Row],[ID]]&\" \"&IF(Listas[[#This Row],[Descripcion]]=\"\",\"\",\"- \"&Listas[[#This Row],[Descripcion]])","v":"2212 - valor del pasivo por ingresos diferidos por puntos premio otorgados en programas de fidelización"},"2212","valor del pasivo por ingresos diferidos por puntos premio otorgados en programas de fidelización",189]
["Concepto_1009",{"$f":"Listas[[#This Row],[ID]]&\" \"&IF(Listas[[#This Row],[Descripcion]]=\"\",\"\",\"- \"&Listas[[#This Row],[Descripcion]])","v":"2213 - valor del pasivo por ingresos diferidos contemplados en el art. 23-1 del E.T.,"},"2213","valor del pasivo por ingresos diferidos contemplados en el art. 23-1 del E.T.,",190]
["Concepto_1009",{"$f":"Listas[[#This Row],[ID]]&\" \"&IF(Listas[[#This Row],[Descripcion]]=\"\",\"\",\"- \"&Listas[[#This Row],[Descripcion]])","v":"2214 - Saldo de los pasivos por aportes parafiscales, salud, pensión y cesantías."},"2214","Saldo de los pasivos por aportes parafiscales, salud, pensión y cesantías.",191]
["Concepto_1009",{"$f":"Listas[[#This Row],[ID]]&\" \"&IF(Listas[[#This Row],[Descripcion]]=\"\",\"\",\"- \"&Listas[[#This Row],[Descripcion]])","v":"2215 - Saldo de los pasivos laborales reales consolidados en cabeza del trabajador, sin incluir cesantias"},"2215","Saldo de los pasivos laborales reales consolidados en cabeza del trabajador, sin incluir cesantias",192]
["Concepto_1004",{"$f":"Listas[[#This Row],[ID]]&\" \"&IF(Listas[[#This Row],[Descripcion]]=\"\",\"\",\"- \"&Listas[[#This Row],[Descripcion]])","v":"8303 - Descuento tributario por impuestos pagados en el exterior solicitado como descuento por los contribuyentes nacionales que perciban rentas de fuente extranjera. E.T., art. 254. "},"8303","Descuento tributario por impuestos pagados en el exterior solicitado como descuento por los contribuyentes nacionales que perciban rentas de fuente extranjera. E.T., art. 254. ",193]
["Concepto_1004",{"$f":"Listas[[#This Row],[ID]]&\" \"&IF(Listas[[#This Row],[Descripcion]]=\"\",\"\",\"- \"&Listas[[#This Row],[Descripcion]])","v":"8305 - Descuento tributario empresas de servicios públicos domiciliarios que presten servicios de acueducto y alcantarillado. L. 788/2002, art. 104. "},"8305","Descuento tributario empresas de servicios públicos domiciliarios que presten servicios de acueducto y alcantarillado. L. 788/2002, art. 104. ",194]
["Concepto_1004",{"$f":"Listas[[#This Row],[ID]]&\" \"&IF(Listas[[#This Row],[Descripcion]]=\"\",\"\",\"- \"&Listas[[#This Row],[Descripcion]])","v":"8316 - Descuento tributario por donaciones dirigida a programas de becas o créditos condonables. E.T. Art. 256, Parágrafo 2, num. i)"},"8316","Descuento tributario por donaciones dirigida a programas de becas o créditos condonables. E.T. Art. 256, Parágrafo 2, num. i)",195]
["Concepto_1004",{"$f":"Listas[[#This Row],[ID]]&\" \"&IF(Listas[[#This Row],[Descripcion]]=\"\",\"\",\"- \"&Listas[[#This Row],[Descripcion]])","v":"8317 - Descuento tributario por inversiones en investigación, desarrollo tecnológico e innovación. E.T., art. 158-1 y 256, modificado L. 1819/2016, art. 91 y 104."},"8317","Descuento tributario por inversiones en investigación, desarrollo tecnológico e innovación. E.T., art. 158-1 y 256, modificado L. 1819/2016, art. 91 y 104.",196]
["Concepto_1004",{"$f":"Listas[[#This Row],[ID]]&\" \"&IF(Listas[[#This Row],[Descripcion]]=\"\",\"\",\"- \"&Listas[[#This Row],[Descripcion]])","v":"8318 - Descuento por donaciones efectuadas a entidades sin ánimo de lucro pertenecientes al régimen tributario especial. E.T., art. 257, creado L.1819/2016, art. 105. "},"8318","Descuento por donaciones efectuadas a entidades sin ánimo de lucro pertenecientes al régimen tributario especial. E.T., art. 257, creado L.1819/2016, art. 105. ",197]
["Concepto_1004",{"$f":"Listas[[#This Row],[ID]]&\" \"&IF(Listas[[#This Row],[Descripcion]]=\"\",\"\",\"- \"&Listas[[#This Row],[Descripcion]])","v":"8319 - Descuento tributario por donaciones efectuadas a entidades sin ánimo de lucro no contribuyentes de que tratan los artículos 22 y 23 del estatuto tributario. E.T., art. 257, creado L. 1819/2016, art. 105."},"8319","Descuento tributario por donaciones efectuadas a entidades sin ánimo de lucro no contribuyentes de que tratan los artículos 22 y 23 del estatuto tributario. E.T., art. 257, creado L. 1819/2016, art. 105.",198]
["Concepto_1004",{"$f":"Listas[[#This Row],[ID]]&\" \"&IF(Listas[[#This Row],[Descripcion]]=\"\",\"\",\"- \"&Listas[[#This Row],[Descripcion]])","v":"8320 - Descuento tributario para inversiones realizadas en control, conservación y mejoramiento del medio ambiente. E.T., Art. 255, creado L. 1819/2016, art. 103."},"8320","Descuento tributario para inversiones realizadas en control, conservación y mejoramiento del medio ambiente. E.T., Art. 255, creado L. 1819/2016, art. 103.",199]
["Concepto_1004",{"$f":"Listas[[#This Row],[ID]]&\" \"&IF(Listas[[#This Row],[Descripcion]]=\"\",\"\",\"- \"&Listas[[#This Row],[Descripcion]])","v":"8321 - Descuento tributario por donaciones en la red nacional de bibliotecas públicas y biblioteca nacional E.T., art. 257, parágrafo, creado L. 1819/2016, art. 105."},"8321","Descuento tributario por donaciones en la red nacional de bibliotecas públicas y biblioteca nacional E.T., art. 257, parágrafo, creado L. 1819/2016, art. 105.",200]
["Concepto_1004",{"$f":"Listas[[#This Row],[ID]]&\" \"&IF(Listas[[#This Row],[Descripcion]]=\"\",\"\",\"- \"&Listas[[#This Row],[Descripcion]])","v":"8322 - Descuento tributario por donaciones a favor del fondo para reparación de víctimas. Art 177, ley 1448 de 2011 y art. 2.2.10.6. DUR 1084 de 2015."},"8322","Descuento tributario por donaciones a favor del fondo para reparación de víctimas. Art 177, ley 1448 de 2011 y art. 2.2.10.6. DUR 1084 de 2015.",201]
["Concepto_1004",{"$f":"Listas[[#This Row],[ID]]&\" \"&IF(Listas[[#This Row],[Descripcion]]=\"\",\"\",\"- \"&Listas[[#This Row],[Descripcion]])","v":"8323 - Descuento tributario por impuestos pagados en el exterior por la Entidad controlada del Exterior (ECE). E.T., art.892, adicionado L 1819/2016, art. 139."},"8323","Descuento tributario por impuestos pagados en el exterior por la Entidad controlada del Exterior (ECE). E.T., art.892, adicionado L 1819/2016, art. 139.",202]
["Concepto_1004",{"$f":"Listas[[#This Row],[ID]]&\" \"&IF(Listas[[#This Row],[Descripcion]]=\"\",\"\",\"- \"&Listas[[#This Row],[Descripcion]])","v":"8324 - Descuento tributario por donación a la Corporación General Gustavo Matamoros D’ Costa y demás fundaciones dedicadas a la defensa, protección de derechos humanos. E.T., art 126-2, inciso 1"},"8324","Descuento tributario por donación a la Corporación General Gustavo Matamoros D’ Costa y demás fundaciones dedicadas a la defensa, protección de derechos humanos. E.T., art 126-2, inciso 1",203]
["Concepto_1004",{"$f":"Listas[[#This Row],[ID]]&\" \"&IF(Listas[[#This Row],[Descripcion]]=\"\",\"\",\"- \"&Listas[[#This Row],[Descripcion]])","v":"8325 - Descuento tributario por donación a organismos de deporte aficionado. E.T., art. 126- 2, inciso. 2."},"8325","Descuento tributario por donación a organismos de deporte aficionado. E.T., art. 126- 2, inciso. 2.",204]
["Concepto_1004",{"$f":"Listas[[#This Row],[ID]]&\" \"&IF(Listas[[#This Row],[Descripcion]]=\"\",\"\",\"- \"&Listas[[#This Row],[Descripcion]])","v":"8326 - Descuento tributario por donación a organismos deportivos y recreativos o culturales personas jurídicas sin ánimo de lucro, E.T., art. 126-2, inciso 3."},"8326","Descuento tributario por donación a organismos deportivos y recreativos o culturales personas jurídicas sin ánimo de lucro, E.T., art. 126-2, inciso 3.",205]
["Concepto_1004",{"$f":"Listas[[#This Row],[ID]]&\" \"&IF(Listas[[#This Row],[Descripcion]]=\"\",\"\",\"- \"&Listas[[#This Row],[Descripcion]])","v":"8327 - Descuento tributario por donaciones efectuadas para el apadrinamiento de parques naturales y conservación de bosques naturales. E.T., art. 126-5."},"8327","Descuento tributario por donaciones efectuadas para el apadrinamiento de parques naturales y conservación de bosques naturales. E.T., art. 126-5.",206]
["Concepto_1004",{"$f":"Listas[[#This Row],[ID]]&\" \"&IF(Listas[[#This Row],[Descripcion]]=\"\",\"\",\"- \"&Listas[[#This Row],[Descripcion]])","v":"8328 - Descuento tributario por aportes al sistema general de pensiones a cargo del empleador que sea contribuyente del impuesto unificado bajo el régimen simple de tributación. E.T., art. 903."},"8328","Descuento tributario por aportes al sistema general de pensiones a cargo del empleador que sea contribuyente del impuesto unificado bajo el régimen simple de tributación. E.T., art. 903.",207]
["Concepto_1004",{"$f":"Listas[[#This Row],[ID]]&\" \"&IF(Listas[[#This Row],[Descripcion]]=\"\",\"\",\"- \"&Listas[[#This Row],[Descripcion]])","v":"8329 - Descuento tributario por ventas de bienes o servicios realizados a través de los sistemas de tarjetas de crédito y/o débito y otros mecanismos electrónicos de pagos ART. 912 E.T. \n"},"8329","Descuento tributario por ventas de bienes o servicios realizados a través de los sistemas de tarjetas de crédito y/o débito y otros mecanismos electrónicos de pagos ART. 912 E.T. \n",208]
["Concepto_1004",{"$f":"Listas[[#This Row],[ID]]&\" \"&IF(Listas[[#This Row],[Descripcion]]=\"\",\"\",\"- \"&Listas[[#This Row],[Descripcion]])","v":"8330 - Descuento tributario por impuesto de industria, comercio, avisos y tableros. E.T., art. 115 del E.T."},"8330","Descuento tributario por impuesto de industria, comercio, avisos y tableros. E.T., art. 115 del E.T.",209]
["Concepto_1004",{"$f":"Listas[[#This Row],[ID]]&\" \"&IF(Listas[[#This Row],[Descripcion]]=\"\",\"\",\"- \"&Listas[[#This Row],[Descripcion]])","v":"8331 - Descuento tributario por impuesto sobre las ventas en la importación, formación, construcción, o adquisición de activos fijos reales productivos. Art. 258-1 del E.T."},"8331","Descuento tributario por impuesto sobre las ventas en la importación, formación, construcción, o adquisición de activos fijos reales productivos. Art. 258-1 del E.T.",210]
["Concepto_1004",{"$f":"Listas[[#This Row],[ID]]&\" \"&IF(Listas[[#This Row],[Descripcion]]=\"\",\"\",\"- \"&Listas[[#This Row],[Descripcion]])","v":"8332 - Descuento tributario por convenios con Coldeportes para asignar becas de estudio y manutención a deportistas talento o reserva deportiva. E.T., art. 257-1, L. 2010, art. 94"},"8332","Descuento tributario por convenios con Coldeportes para asignar becas de estudio y manutención a deportistas talento o reserva deportiva. E.T., art. 257-1, L. 2010, art. 94",211]
["Concepto_1004",{"$f":"Listas[[#This Row],[ID]]&\" \"&IF(Listas[[#This Row],[Descripcion]]=\"\",\"\",\"- \"&Listas[[#This Row],[Descripcion]])","v":"8333 - Descuento para inversiones realizadas en control, conservación y mejoramiento del medio ambiente en actividades turísticas. E.T., art.255, par.2, adicionado L. 2068/2020, art. 42."},"8333","Descuento para inversiones realizadas en control, conservación y mejoramiento del medio ambiente en actividades turísticas. E.T., art.255, par.2, adicionado L. 2068/2020, art. 42.",212]
["Concepto_1004",{"$f":"Listas[[#This Row],[ID]]&\" \"&IF(Listas[[#This Row],[Descripcion]]=\"\",\"\",\"- \"&Listas[[#This Row],[Descripcion]])","v":"8334 - Descuento por donaciones realizadas a la agencia de emprendimiento e innovación del Gobierno Nacional iNNpulsa. E.T., art.256, par.2, inc. 2, adicionado L. 2069/2020, art. 41."},"8334","Descuento por donaciones realizadas a la agencia de emprendimiento e innovación del Gobierno Nacional iNNpulsa. E.T., art.256, par.2, inc. 2, adicionado L. 2069/2020, art. 41.",213]
["Concepto_1004",{"$f":"Listas[[#This Row],[ID]]&\" \"&IF(Listas[[#This Row],[Descripcion]]=\"\",\"\",\"- \"&Listas[[#This Row],[Descripcion]])","v":"8335 - Descuento tributario por donaciones tendientes a lograr la inmunización de la población colombiana frente a la covid-19 y cualquier otra pandemia. E.T., art.257-2, adicionado L.2064 de 2020, art.40"},"8335","Descuento tributario por donaciones tendientes a lograr la inmunización de la población colombiana frente a la covid-19 y cualquier otra pandemia. E.T., art.257-2, adicionado L.2064 de 2020, art.40",214]
["Concepto_1004",{"$f":"Listas[[#This Row],[ID]]&\" \"&IF(Listas[[#This Row],[Descripcion]]=\"\",\"\",\"- \"&Listas[[#This Row],[Descripcion]])","v":"8336 - Descuento por donaciones recibidas por el Fondo Nacional de Financiamiento para la Ciencia, la Tecnología y la Innovación, Fondo Francisco José de Caldas, destinadas al financiamiento de Programas y/o Proyectos de Ciencia, Tecnología e Innovación. E.T. art. 158-1, num. I) (sic), modificado L.1955/2019, art.170."},"8336","Descuento por donaciones recibidas por el Fondo Nacional de Financiamiento para la Ciencia, la Tecnología y la Innovación, Fondo Francisco José de Caldas, destinadas al financiamiento de Programas y/o Proyectos de Ciencia, Tecnología e Innovación. E.T. art. 158-1, num. I) (sic), modificado L.1955/2019, art.170.",215]
["Concepto_1004",{"$f":"Listas[[#This Row],[ID]]&\" \"&IF(Listas[[#This Row],[Descripcion]]=\"\",\"\",\"- \"&Listas[[#This Row],[Descripcion]])","v":"8337 - Descuento por remuneración correspondiente a la vinculación de personal con título de doctorado en las empresas contribuyentes de renta, E.T., art.158-1, num.iii), modificado L.1955/2019, art. 170."},"8337","Descuento por remuneración correspondiente a la vinculación de personal con título de doctorado en las empresas contribuyentes de renta, E.T., art.158-1, num.iii), modificado L.1955/2019, art. 170.",216]
["Concepto_1004",{"$f":"Listas[[#This Row],[ID]]&\" \"&IF(Listas[[#This Row],[Descripcion]]=\"\",\"\",\"- \"&Listas[[#This Row],[Descripcion]])","v":"8338 - Descuento por donaciones recibidas por intermedio del Icetex, dirigidas a programas de becas que financien la formación y educación de quienes ingresen a la Fuerza Pública. E.T., art. 58-1, num.iv), adicionado L.2130 del 2021, art.3."},"8338","Descuento por donaciones recibidas por intermedio del Icetex, dirigidas a programas de becas que financien la formación y educación de quienes ingresen a la Fuerza Pública. E.T., art. 58-1, num.iv), adicionado L.2130 del 2021, art.3.",217]
["Concepto_1012",{"$f":"Listas[[#This Row],[ID]]&\" \"&IF(Listas[[#This Row],[Descripcion]]=\"\",\"\",\"- \"&Listas[[#This Row],[Descripcion]])","v":"1110 - Saldo a 31 de Diciembre de las cuentas corrientes y/o ahorro que posea en el país"},"1110","Saldo a 31 de Diciembre de las cuentas corrientes y/o ahorro que posea en el país",218]
["Concepto_1012",{"$f":"Listas[[#This Row],[ID]]&\" \"&IF(Listas[[#This Row],[Descripcion]]=\"\",\"\",\"- \"&Listas[[#This Row],[Descripcion]])","v":"1115 - Valor total del saldo de las cuentas corrientes y/o ahorro poseídas en el exterior"},"1115","Valor total del saldo de las cuentas corrientes y/o ahorro poseídas en el exterior",219]
["Concepto_1012",{"$f":"Listas[[#This Row],[ID]]&\" \"&IF(Listas[[#This Row],[Descripcion]]=\"\",\"\",\"- \"&Listas[[#This Row],[Descripcion]])","v":"1200 - Valor Patrimonial de los Bonos"},"1200","Valor Patrimonial de los Bonos",220]
["Concepto_1012",{"$f":"Listas[[#This Row],[ID]]&\" \"&IF(Listas[[#This Row],[Descripcion]]=\"\",\"\",\"- \"&Listas[[#This Row],[Descripcion]])","v":"1201 - Valor Patrimonial de los Certificados de Depósito"},"1201","Valor Patrimonial de los Certificados de Depósito",221]
["Concepto_1012",{"$f":"Listas[[#This Row],[ID]]&\" \"&IF(Listas[[#This Row],[Descripcion]]=\"\",\"\",\"- \"&Listas[[#This Row],[Descripcion]])","v":"1202 - Valor Patrimonial de los Títulos"},"1202","Valor Patrimonial de los Títulos",222]
["Concepto_1012",{"$f":"Listas[[#This Row],[ID]]&\" \"&IF(Listas[[#This Row],[Descripcion]]=\"\",\"\",\"- \"&Listas[[#This Row],[Descripcion]])","v":"1203 - Valor Patrimonial de los Derechos Fiduciarios "},"1203","Valor Patrimonial de los Derechos Fiduciarios ",223]
["Concepto_1012",{"$f":"Listas[[#This Row],[ID]]&\" \"&IF(Listas[[#This Row],[Descripcion]]=\"\",\"\",\"- \"&Listas[[#This Row],[Descripcion]])","v":"1204 - Valor Patrimonial de las Demás Inversiones Poseídas"},"1204","Valor Patrimonial de las Demás Inversiones Poseídas",224]
["Concepto_1012",{"$f":"Listas[[#This Row],[ID]]&\" \"&IF(Listas[[#This Row],[Descripcion]]=\"\",\"\",\"- \"&Listas[[#This Row],[Descripcion]])","v":"1205 - Valor Patrimonial de las Acciones o Aportes poseidos a 31 de Diciembre"},"1205","Valor Patrimonial de las Acciones o Aportes poseidos a 31 de Diciembre",225]
["Concepto_1012",{"$f":"Listas[[#This Row],[ID]]&\" \"&IF(Listas[[#This Row],[Descripcion]]=\"\",\"\",\"- \"&Listas[[#This Row],[Descripcion]])","v":"1206 - Valor patrimonial de los criptoactivos"},"1206","Valor patrimonial de los criptoactivos",226]
["Concepto_1008",{"$f":"Listas[[#This Row],[ID]]&\" \"&IF(Listas[[#This Row],[Descripcion]]=\"\",\"\",\"- \"&Listas[[#This Row],[Descripcion]])","v":"1315 - Saldo de las cuentas por cobrar a clientes"},"1315","Saldo de las cuentas por cobrar a clientes",227]
["Concepto_1008",{"$f":"Listas[[#This Row],[ID]]&\" \"&IF(Listas[[#This Row],[Descripcion]]=\"\",\"\",\"- \"&Listas[[#This Row],[Descripcion]])","v":"1316 - Saldo de las cuentas por cobrar a accionistas, socios, comuneros, cooperados y compañías vinculadas"},"1316","Saldo de las cuentas por cobrar a accionistas, socios, comuneros, cooperados y compañías vinculadas",228]
["Concepto_1008",{"$f":"Listas[[#This Row],[ID]]&\" \"&IF(Listas[[#This Row],[Descripcion]]=\"\",\"\",\"- \"&Listas[[#This Row],[Descripcion]])","v":"1317 - Otras Cuentas por Cobrar"},"1317","Otras Cuentas por Cobrar",229]
["Concepto_1008",{"$f":"Listas[[#This Row],[ID]]&\" \"&IF(Listas[[#This Row],[Descripcion]]=\"\",\"\",\"- \"&Listas[[#This Row],[Descripcion]])","v":"1318 - Valor total del saldo fiscal del deterioro de cartera, identificándolo con el NIT del deudor"},"1318","Valor total del saldo fiscal del deterioro de cartera, identificándolo con el NIT del deudor",230]
["Concepto_1001",{"$f":"Listas[[#This Row],[ID]]&\" \"&IF(Listas[[#This Row],[Descripcion]]=\"\",\"\",\"- \"&Listas[[#This Row],[Descripcion]])","v":"5002 - Honorarios"},"5002","Honorarios",231]
["Concepto_1001",{"$f":"Listas[[#This Row],[ID]]&\" \"&IF(Listas[[#This Row],[Descripcion]]=\"\",\"\",\"- \"&Listas[[#This Row],[Descripcion]])","v":"5003 - Comisiones"},"5003","Comisiones",232]
["Concepto_1001",{"$f":"Listas[[#This Row],[ID]]&\" \"&IF(Listas[[#This Row],[Descripcion]]=\"\",\"\",\"- \"&Listas[[#This Row],[Descripcion]])","v":"5004 - Servicios"},"5004","Servicios",233]
["Concepto_1001",{"$f":"Listas[[#This Row],[ID]]&\" \"&IF(Listas[[#This Row],[Descripcion]]=\"\",\"\",\"- \"&Listas[[#This Row],[Descripcion]])","v":"5005 - Arrendamientos"},"5005","Arrendamientos",234]
["Concepto_1001",{"$f":"Listas[[#This Row],[ID]]&\" \"&IF(Listas[[#This Row],[Descripcion]]=\"\",\"\",\"- \"&Listas[[#This Row],[Descripcion]])","v":"5006 - Intereses y rendimientos financieros causados"},"5006","Intereses y rendimientos financieros causados",235]
["Concepto_1001",{"$f":"Listas[[#This Row],[ID]]&\" \"&IF(Listas[[#This Row],[Descripcion]]=\"\",\"\",\"- \"&Listas[[#This Row],[Descripcion]])","v":"5007 - Compra de activos movibles (E.T.Art 60)"},"5007","Compra de activos movibles (E.T.Art 60)",236]
["Concepto_1001",{"$f":"Listas[[#This Row],[ID]]&\" \"&IF(Listas[[#This Row],[Descripcion]]=\"\",\"\",\"- \"&Listas[[#This Row],[Descripcion]])","v":"5008 - Compra de Activos Fijos (E.T. Art 60)"},"5008","Compra de Activos Fijos (E.T. Art 60)",237]
["Concepto_1001",{"$f":"Listas[[#This Row],[ID]]&\" \"&IF(Listas[[#This Row],[Descripcion]]=\"\",\"\",\"- \"&Listas[[#This Row],[Descripcion]])","v":"5010 - Pagos o Abonos en cuenta por concepto de aportes parafiscales al SENA, a las Cajas de Compensación Familiar y al Instituto Colombiano de Bienestar Familia"},"5010","Pagos o Abonos en cuenta por concepto de aportes parafiscales al SENA, a las Cajas de Compensación Familiar y al Instituto Colombiano de Bienestar Familia",238]
["Concepto_1001",{"$f":"Listas[[#This Row],[ID]]&\" \"&IF(Listas[[#This Row],[Descripcion]]=\"\",\"\",\"- \"&Listas[[#This Row],[Descripcion]])","v":"5011 - Pagos o abonos en cuenta efectuado a las empresas promotoras de salud EPS y los aportes al Sistema de Riesgos Laborales, incluidos los aportes del trabajador"},"5011","Pagos o abonos en cuenta efectuado a las empresas promotoras de salud EPS y los aportes al Sistema de Riesgos Laborales, incluidos los aportes del trabajador",239]
["Concepto_1001",{"$f":"Listas[[#This Row],[ID]]&\" \"&IF(Listas[[#This Row],[Descripcion]]=\"\",\"\",\"- \"&Listas[[#This Row],[Descripcion]])","v":"5012 - Pagos  o abonos  en  cuenta  por concepto de aportes obligatorios para pensiones efectuados a los Fondos de Pensiones, incluidos los aportes del trabajador"},"5012","Pagos  o abonos  en  cuenta  por concepto de aportes obligatorios para pensiones efectuados a los Fondos de Pensiones, incluidos los aportes del trabajador",240]
["Concepto_1001",{"$f":"Listas[[#This Row],[ID]]&\" \"&IF(Listas[[#This Row],[Descripcion]]=\"\",\"\",\"- \"&Listas[[#This Row],[Descripcion]])","v":"5013 - Donaciones en dinero efectuadas a las entidades señaladas en los artículos 125, 125-4,126-2 y 158-1 del Estatuto Tributario y la establecida en el artículo 16 de la Ley 814 de 2003, y demás que determine la ley"},"5013","Donaciones en dinero efectuadas a las entidades señaladas en los artículos 125, 125-4,126-2 y 158-1 del Estatuto Tributario y la establecida en el artículo 16 de la Ley 814 de 2003, y demás que determine la ley",241]
["Concepto_1001",{"$f":"Listas[[#This Row],[ID]]&\" \"&IF(Listas[[#This Row],[Descripcion]]=\"\",\"\",\"- \"&Listas[[#This Row],[Descripcion]])","v":"5014 - Donaciones en activos diferentes a dinero efectuadas a las entidades señaladas en los artículos 125, 125-4,126-2 y 158-1 del Estatuto Tributario y la establecida en el artículo 16 de la Ley 814 de 2003, y demás que determine la ley"},"5014","Donaciones en activos diferentes a dinero efectuadas a las entidades señaladas en los artículos 125, 125-4,126-2 y 158-1 del Estatuto Tributario y la establecida en el artículo 16 de la Ley 814 de 2003, y demás que determine la ley",242]
["Concepto_1001",{"$f":"Listas[[#This Row],[ID]]&\" \"&IF(Listas[[#This Row],[Descripcion]]=\"\",\"\",\"- \"&Listas[[#This Row],[Descripcion]])","v":"5015 - El valor de los impuestos solicitados como deducción"},"5015","El valor de los impuestos solicitados como deducción",243]
["Concepto_1001",{"$f":"Listas[[#This Row],[ID]]&\" \"&IF(Listas[[#This Row],[Descripcion]]=\"\",\"\",\"- \"&Listas[[#This Row],[Descripcion]])","v":"5016 - Los demás costos y deducciones"},"5016","Los demás costos y deducciones",244]
["Concepto_1001",{"$f":"Listas[[#This Row],[ID]]&\" \"&IF(Listas[[#This Row],[Descripcion]]=\"\",\"\",\"- \"&Listas[[#This Row],[Descripcion]])","v":"5018 - Importe de las primas de reaseguros pagados o abonados en cuenta"},"5018","Importe de las primas de reaseguros pagados o abonados en cuenta",245]
["Concepto_1001",{"$f":"Listas[[#This Row],[ID]]&\" \"&IF(Listas[[#This Row],[Descripcion]]=\"\",\"\",\"- \"&Listas[[#This Row],[Descripcion]])","v":"5019 - El monto de las amortizaciones realizadas"},"5019","El monto de las amortizaciones realizadas",246]
["Concepto_1001",{"$f":"Listas[[#This Row],[ID]]&\" \"&IF(Listas[[#This Row],[Descripcion]]=\"\",\"\",\"- \"&Listas[[#This Row],[Descripcion]])","v":"5020 - Compra de activos fijos reales productivos sobre los cuales solicitó deducción, art. 158-3 E.T. El valor acumulado pagado o abonado en cuenta\n"},"5020","Compra de activos fijos reales productivos sobre los cuales solicitó deducción, art. 158-3 E.T. El valor acumulado pagado o abonado en cuenta\n",247]
["Concepto_1001",{"$f":"Listas[[#This Row],[ID]]&\" \"&IF(Listas[[#This Row],[Descripcion]]=\"\",\"\",\"- \"&Listas[[#This Row],[Descripcion]])","v":"5023 - Valor  acumulado  de  los  pagos  o  abonos  en  cuenta  al  exterior  por  asistencia  técnica"},"5023","Valor  acumulado  de  los  pagos  o  abonos  en  cuenta  al  exterior  por  asistencia  técnica",248]
["Concepto_1001",{"$f":"Listas[[#This Row],[ID]]&\" \"&IF(Listas[[#This Row],[Descripcion]]=\"\",\"\",\"- \"&Listas[[#This Row],[Descripcion]])","v":"5024 - Valor acumulado de los pagos o abonos en cuenta al exterior por marcas"},"5024","Valor acumulado de los pagos o abonos en cuenta al exterior por marcas",249]
["Concepto_1001",{"$f":"Listas[[#This Row],[ID]]&\" \"&IF(Listas[[#This Row],[Descripcion]]=\"\",\"\",\"- \"&Listas[[#This Row],[Descripcion]])","v":"5025 - Valor acumulado de los pagos o abonos en cuenta al exterior por patentes"},"5025","Valor acumulado de los pagos o abonos en cuenta al exterior por patentes",250]
["Concepto_1001",{"$f":"Listas[[#This Row],[ID]]&\" \"&IF(Listas[[#This Row],[Descripcion]]=\"\",\"\",\"- \"&Listas[[#This Row],[Descripcion]])","v":"5026 - valor acumulado de los pagos o abonos en cuenta al exterior por regalías"},"5026","valor acumulado de los pagos o abonos en cuenta al exterior por regalías",251]
["Concepto_1001",{"$f":"Listas[[#This Row],[ID]]&\" \"&IF(Listas[[#This Row],[Descripcion]]=\"\",\"\",\"- \"&Listas[[#This Row],[Descripcion]])","v":"5027 - Valor acumulado de los pagos o abonos en cuenta al exterior por servicios técnicos"},"5027","Valor acumulado de los pagos o abonos en cuenta al exterior por servicios técnicos",252]
["Concepto_1001",{"$f":"Listas[[#This Row],[ID]]&\" \"&IF(Listas[[#This Row],[Descripcion]]=\"\",\"\",\"- \"&Listas[[#This Row],[Descripcion]])","v":"5028 - El valor acumulado de la devolución de pagos o abonos en cuenta y retenciones correspondientes a operaciones de años anteriores. "},"5028","El valor acumulado de la devolución de pagos o abonos en cuenta y retenciones correspondientes a operaciones de años anteriores. ",253]
["Concepto_1001",{"$f":"Listas[[#This Row],[ID]]&\" \"&IF(Listas[[#This Row],[Descripcion]]=\"\",\"\",\"- \"&Listas[[#This Row],[Descripcion]])","v":"5029 - Gastos pagados por anticipado por Compras"},"5029","Gastos pagados por anticipado por Compras",254]
["Concepto_1001",{"$f":"Listas[[#This Row],[ID]]&\" \"&IF(Listas[[#This Row],[Descripcion]]=\"\",\"\",\"- \"&Listas[[#This Row],[Descripcion]])","v":"5030 - Gastos pagados por anticipado por Honorarios "},"5030","Gastos pagados por anticipado por Honorarios ",255]
["Concepto_1001",{"$f":"Listas[[#This Row],[ID]]&\" \"&IF(Listas[[#This Row],[Descripcion]]=\"\",\"\",\"- \"&Listas[[#This Row],[Descripcion]])","v":"5031 - Gastos pagados por anticipado por Comisiones"},"5031","Gastos pagados por anticipado por Comisiones",256]
["Concepto_1001",{"$f":"Listas[[#This Row],[ID]]&\" \"&IF(Listas[[#This Row],[Descripcion]]=\"\",\"\",\"- \"&Listas[[#This Row],[Descripcion]])","v":"5032 - Gastos pagados por anticipado por Servicios"},"5032","Gastos pagados por anticipado por Servicios",257]
["Concepto_1001",{"$f":"Listas[[#This Row],[ID]]&\" \"&IF(Listas[[#This Row],[Descripcion]]=\"\",\"\",\"- \"&Listas[[#This Row],[Descripcion]])","v":"5033 - Gastos pagados por anticipado por Arrendamientos"},"5033","Gastos pagados por anticipado por Arrendamientos",258]
["Concepto_1001",{"$f":"Listas[[#This Row],[ID]]&\" \"&IF(Listas[[#This Row],[Descripcion]]=\"\",\"\",\"- \"&Listas[[#This Row],[Descripcion]])","v":"5034 - Gastos pagados por anticipado por intereses y rendimientos financieros"},"5034","Gastos pagados por anticipado por intereses y rendimientos financieros",259]
["Concepto_1001",{"$f":"Listas[[#This Row],[ID]]&\" \"&IF(Listas[[#This Row],[Descripcion]]=\"\",\"\",\"- \"&Listas[[#This Row],[Descripcion]])","v":"5035 - Gastos pagados por anticipado por otros conceptos"},"5035","Gastos pagados por anticipado por otros conceptos",260]
["Concepto_1001",{"$f":"Listas[[#This Row],[ID]]&\" \"&IF(Listas[[#This Row],[Descripcion]]=\"\",\"\",\"- \"&Listas[[#This Row],[Descripcion]])","v":"5044 - El pago por loterías, rifas, apuestas y similares"},"5044","El pago por loterías, rifas, apuestas y similares",261]
["Concepto_1001",{"$f":"Listas[[#This Row],[ID]]&\" \"&IF(Listas[[#This Row],[Descripcion]]=\"\",\"\",\"- \"&Listas[[#This Row],[Descripcion]])","v":"5045 - Retención sobre ingresos de tarjetas débito y crédito"},"5045","Retención sobre ingresos de tarjetas débito y crédito",262]
["Concepto_1001",{"$f":"Listas[[#This Row],[ID]]&\" \"&IF(Listas[[#This Row],[Descripcion]]=\"\",\"\",\"- \"&Listas[[#This Row],[Descripcion]])","v":"5046 - Enajenación de activos fijos de personas naturales ante oficinas de tránsito y otras entidades autorizadas"},"5046","Enajenación de activos fijos de personas naturales ante oficinas de tránsito y otras entidades autorizadas",263]
["Concepto_1001",{"$f":"Listas[[#This Row],[ID]]&\" \"&IF(Listas[[#This Row],[Descripcion]]=\"\",\"\",\"- \"&Listas[[#This Row],[Descripcion]])","v":"5047 - Importe de los siniestros por lucro cesante pagados o abonados en cuenta"},"5047","Importe de los siniestros por lucro cesante pagados o abonados en cuenta",264]
["Concepto_1001",{"$f":"Listas[[#This Row],[ID]]&\" \"&IF(Listas[[#This Row],[Descripcion]]=\"\",\"\",\"- \"&Listas[[#This Row],[Descripcion]])","v":"5048 - Importe de los siniestros por daño emergente pagados o abonados en cuenta"},"5048","Importe de los siniestros por daño emergente pagados o abonados en cuenta",265]
["Concepto_1001",{"$f":"Listas[[#This Row],[ID]]&\" \"&IF(Listas[[#This Row],[Descripcion]]=\"\",\"\",\"- \"&Listas[[#This Row],[Descripcion]])","v":"5053 - Retenciones practicas a titulo de timbre"},"5053","Retenciones practicas a titulo de timbre",266]
["Concepto_1001",{"$f":"Listas[[#This Row],[ID]]&\" \"&IF(Listas[[#This Row],[Descripcion]]=\"\",\"\",\"- \"&Listas[[#This Row],[Descripcion]])","v":"5054 - La devolución de retenciones a título de impuesto de timbre, correspondientes a operaciones de años anteriores"},"5054","La devolución de retenciones a título de impuesto de timbre, correspondientes a operaciones de años anteriores",267]
["Concepto_1001",{"$f":"Listas[[#This Row],[ID]]&\" \"&IF(Listas[[#This Row],[Descripcion]]=\"\",\"\",\"- \"&Listas[[#This Row],[Descripcion]])","v":"5055 - Viaticos"},"5055","Viaticos",268]
["Concepto_1001",{"$f":"Listas[[#This Row],[ID]]&\" \"&IF(Listas[[#This Row],[Descripcion]]=\"\",\"\",\"- \"&Listas[[#This Row],[Descripcion]])","v":"5056 - Gastos de representacion"},"5056","Gastos de representacion",269]
["Concepto_1001",{"$f":"Listas[[#This Row],[ID]]&\" \"&IF(Listas[[#This Row],[Descripcion]]=\"\",\"\",\"- \"&Listas[[#This Row],[Descripcion]])","v":"5058 - Valor de los Aportes, Tasas y Contribuciones solicitado como deducción"},"5058","Valor de los Aportes, Tasas y Contribuciones solicitado como deducción",270]
["Concepto_1001",{"$f":"Listas[[#This Row],[ID]]&\" \"&IF(Listas[[#This Row],[Descripcion]]=\"\",\"\",\"- \"&Listas[[#This Row],[Descripcion]])","v":"5059 - El  pago  o  abono  en cuenta  realizado  a  cada  uno  de  los  cooperados,  del  valor  del  Fondo  para revalorización de aportes"},"5059","El  pago  o  abono  en cuenta  realizado  a  cada  uno  de  los  cooperados,  del  valor  del  Fondo  para revalorización de aportes",271]
["Concepto_1001",{"$f":"Listas[[#This Row],[ID]]&\" \"&IF(Listas[[#This Row],[Descripcion]]=\"\",\"\",\"- \"&Listas[[#This Row],[Descripcion]])","v":"5060 - Redención de inversiones en lo que corresponde al reembolso del capital por titulos de capitalizacion"},"5060","Redención de inversiones en lo que corresponde al reembolso del capital por titulos de capitalizacion",272]
["Concepto_1001",{"$f":"Listas[[#This Row],[ID]]&\" \"&IF(Listas[[#This Row],[Descripcion]]=\"\",\"\",\"- \"&Listas[[#This Row],[Descripcion]])","v":"5061 - Utilidades Pagadas o abonadas en cuenta, cuando el beneficiario es diferente al fideicomitente"},"5061","Utilidades Pagadas o abonadas en cuenta, cuando el beneficiario es diferente al fideicomitente",273]
["Concepto_1001",{"$f":"Listas[[#This Row],[ID]]&\" \"&IF(Listas[[#This Row],[Descripcion]]=\"\",\"\",\"- \"&Listas[[#This Row],[Descripcion]])","v":"5063 - Intereses y rendimientos financieros efectivamente pagados"},"5063","Intereses y rendimientos financieros efectivamente pagados",274]
["Concepto_1001",{"$f":"Listas[[#This Row],[ID]]&\" \"&IF(Listas[[#This Row],[Descripcion]]=\"\",\"\",\"- \"&Listas[[#This Row],[Descripcion]])","v":"5064 - Devoluciones de saldos de aportes pensionales pagados"},"5064","Devoluciones de saldos de aportes pensionales pagados",275]
["Concepto_1001",{"$f":"Listas[[#This Row],[ID]]&\" \"&IF(Listas[[#This Row],[Descripcion]]=\"\",\"\",\"- \"&Listas[[#This Row],[Descripcion]])","v":"5065 - Excedentes pensionales de libre disponibilidad componente de capital pagados"},"5065","Excedentes pensionales de libre disponibilidad componente de capital pagados",276]
["Concepto_1001",{"$f":"Listas[[#This Row],[ID]]&\" \"&IF(Listas[[#This Row],[Descripcion]]=\"\",\"\",\"- \"&Listas[[#This Row],[Descripcion]])","v":"5066 - El valor del impuesto nacional al consumo solicitado como deducción.Art.512-1 E.T"},"5066","El valor del impuesto nacional al consumo solicitado como deducción.Art.512-1 E.T",277]
["Concepto_1001",{"$f":"Listas[[#This Row],[ID]]&\" \"&IF(Listas[[#This Row],[Descripcion]]=\"\",\"\",\"- \"&Listas[[#This Row],[Descripcion]])","v":"5067 - El valor acumulado de los pagos o abonos en cuenta al exterior por consultoría"},"5067","El valor acumulado de los pagos o abonos en cuenta al exterior por consultoría",278]
["Concepto_1001",{"$f":"Listas[[#This Row],[ID]]&\" \"&IF(Listas[[#This Row],[Descripcion]]=\"\",\"\",\"- \"&Listas[[#This Row],[Descripcion]])","v":"5068 - Participaciones o dividendos pagados o abonados en cuenta en calidad de exigibles correspondientes a 2016 y anteriores, parágrafo 2 artículo 49 E.T."},"5068","Participaciones o dividendos pagados o abonados en cuenta en calidad de exigibles correspondientes a 2016 y anteriores, parágrafo 2 artículo 49 E.T.",279]
["Concepto_1001",{"$f":"Listas[[#This Row],[ID]]&\" \"&IF(Listas[[#This Row],[Descripcion]]=\"\",\"\",\"- \"&Listas[[#This Row],[Descripcion]])","v":"5069 - Participaciones o dividendos pagados o abonados en cuenta en calidad de exigibles correspondientes a 2016 y anteriores, numeral 3 del artículo 49 E.T."},"5069","Participaciones o dividendos pagados o abonados en cuenta en calidad de exigibles correspondientes a 2016 y anteriores, numeral 3 del artículo 49 E.T.",280]
["Concepto_1001",{"$f":"Listas[[#This Row],[ID]]&\" \"&IF(Listas[[#This Row],[Descripcion]]=\"\",\"\",\"- \"&Listas[[#This Row],[Descripcion]])","v":"5070 - Participaciones o dividendos pagados o abonados en cuenta en calidad de exigibles correspondientes a 2017 y siguientes, parágrafo 2 artículo 49 E.T."},"5070","Participaciones o dividendos pagados o abonados en cuenta en calidad de exigibles correspondientes a 2017 y siguientes, parágrafo 2 artículo 49 E.T.",281]
["Concepto_1001",{"$f":"Listas[[#This Row],[ID]]&\" \"&IF(Listas[[#This Row],[Descripcion]]=\"\",\"\",\"- \"&Listas[[#This Row],[Descripcion]])","v":"5071 - Participaciones o dividendos pagados o abonados en cuenta en calidad de exigibles correspondientes a 2017 y siguientes, numeral 3 del artículo 49 E.T."},"5071","Participaciones o dividendos pagados o abonados en cuenta en calidad de exigibles correspondientes a 2017 y siguientes, numeral 3 del artículo 49 E.T.",282]
["Concepto_1001",{"$f":"Listas[[#This Row],[ID]]&\" \"&IF(Listas[[#This Row],[Descripcion]]=\"\",\"\",\"- \"&Listas[[#This Row],[Descripcion]])","v":"5072 - El importe de los siniestros por seguros de vida pagados o abonados en cuenta"},"5072","El importe de los siniestros por seguros de vida pagados o abonados en cuenta",283]
["Concepto_1001",{"$f":"Listas[[#This Row],[ID]]&\" \"&IF(Listas[[#This Row],[Descripcion]]=\"\",\"\",\"- \"&Listas[[#This Row],[Descripcion]])","v":"5073 - Desembolsos por depósitos judiciales"},"5073","Desembolsos por depósitos judiciales",284]
["Concepto_1001",{"$f":"Listas[[#This Row],[ID]]&\" \"&IF(Listas[[#This Row],[Descripcion]]=\"\",\"\",\"- \"&Listas[[#This Row],[Descripcion]])","v":"5074 - Desembolsos por reintegros de depósitos judiciales"},"5074","Desembolsos por reintegros de depósitos judiciales",285]
["Concepto_1001",{"$f":"Listas[[#This Row],[ID]]&\" \"&IF(Listas[[#This Row],[Descripcion]]=\"\",\"\",\"- \"&Listas[[#This Row],[Descripcion]])","v":"5075 - Regalías y explotación de la propiedad intelectual"},"5075","Regalías y explotación de la propiedad intelectual",286]
["Concepto_1001",{"$f":"Listas[[#This Row],[ID]]&\" \"&IF(Listas[[#This Row],[Descripcion]]=\"\",\"\",\"- \"&Listas[[#This Row],[Descripcion]])","v":"5076 - Valor de utilidades distribuidas provenientes de diferimiento de ingresos, inciso 4 del art. 23-1 del E.T."},"5076","Valor de utilidades distribuidas provenientes de diferimiento de ingresos, inciso 4 del art. 23-1 del E.T.",287]
["Concepto_1001",{"$f":"Listas[[#This Row],[ID]]&\" \"&IF(Listas[[#This Row],[Descripcion]]=\"\",\"\",\"- \"&Listas[[#This Row],[Descripcion]])","v":"5078 - Retenciones contribución laudos arbitrales"},"5078","Retenciones contribución laudos arbitrales",288]
["Concepto_1001",{"$f":"Listas[[#This Row],[ID]]&\" \"&IF(Listas[[#This Row],[Descripcion]]=\"\",\"\",\"- \"&Listas[[#This Row],[Descripcion]])","v":"5079 - Intereses por deuda a vinculados en subcapitalización art.118-1 E.T. "},"5079","Intereses por deuda a vinculados en subcapitalización art.118-1 E.T. ",289]
["Concepto_1001",{"$f":"Listas[[#This Row],[ID]]&\" \"&IF(Listas[[#This Row],[Descripcion]]=\"\",\"\",\"- \"&Listas[[#This Row],[Descripcion]])","v":"5080 - El valor acumulado de los pagos o abonos efectuados a proveedores del exterior por servicios audiovisuales digitales (entre otros, de música, videos, películas y juegos de cualquier tipo, así como la radiodifusión de cualquier tipo de evento).Art.437-2 num.8 E.T."},"5080","El valor acumulado de los pagos o abonos efectuados a proveedores del exterior por servicios audiovisuales digitales (entre otros, de música, videos, películas y juegos de cualquier tipo, así como la radiodifusión de cualquier tipo de evento).Art.437-2 num.8 E.T.",290]
["Concepto_1001",{"$f":"Listas[[#This Row],[ID]]&\" \"&IF(Listas[[#This Row],[Descripcion]]=\"\",\"\",\"- \"&Listas[[#This Row],[Descripcion]])","v":"5081 - El valor acumulado de los pagos o abonos efectuados a proveedores del exterior por servicios prestados a través de plataformas digitales. Art.437-2 num.8 E.T."},"5081","El valor acumulado de los pagos o abonos efectuados a proveedores del exterior por servicios prestados a través de plataformas digitales. Art.437-2 num.8 E.T.",291]
["Concepto_1001",{"$f":"Listas[[#This Row],[ID]]&\" \"&IF(Listas[[#This Row],[Descripcion]]=\"\",\"\",\"- \"&Listas[[#This Row],[Descripcion]])","v":"5082 - El valor acumulado de los pagos o abonos efectuados a proveedores del exterior por suministro de servicios de publicidad online. Art.437-2 num.8 E.T."},"5082","El valor acumulado de los pagos o abonos efectuados a proveedores del exterior por suministro de servicios de publicidad online. Art.437-2 num.8 E.T.",292]
["Concepto_1001",{"$f":"Listas[[#This Row],[ID]]&\" \"&IF(Listas[[#This Row],[Descripcion]]=\"\",\"\",\"- \"&Listas[[#This Row],[Descripcion]])","v":"5083 - El valor acumulado de los pagos o abonos efectuados a proveedores del exterior por suministro de enseñanza o entrenamiento a distancia. Art.437-2 num.8 E.T."},"5083","El valor acumulado de los pagos o abonos efectuados a proveedores del exterior por suministro de enseñanza o entrenamiento a distancia. Art.437-2 num.8 E.T.",293]
["Concepto_1001",{"$f":"Listas[[#This Row],[ID]]&\" \"&IF(Listas[[#This Row],[Descripcion]]=\"\",\"\",\"- \"&Listas[[#This Row],[Descripcion]])","v":"5084 - El valor acumulado de los pagos o abonos efectuados a proveedores del exterior por suministro de derechos de uso o explotación de intangibles. Art.437-2 num.8 E.T."},"5084","El valor acumulado de los pagos o abonos efectuados a proveedores del exterior por suministro de derechos de uso o explotación de intangibles. Art.437-2 num.8 E.T.",294]
["Concepto_1001",{"$f":"Listas[[#This Row],[ID]]&\" \"&IF(Listas[[#This Row],[Descripcion]]=\"\",\"\",\"- \"&Listas[[#This Row],[Descripcion]])","v":"5085 - El valor acumulado de los pagos o abonos efectuados a proveedores del exterior por Otros servicios electrónicos o digitales con destino a usuarios ubicados en Colombia. Art.437-2 num.8 E.T."},"5085","El valor acumulado de los pagos o abonos efectuados a proveedores del exterior por Otros servicios electrónicos o digitales con destino a usuarios ubicados en Colombia. Art.437-2 num.8 E.T.",295]
["Concepto_1001",{"$f":"Listas[[#This Row],[ID]]&\" \"&IF(Listas[[#This Row],[Descripcion]]=\"\",\"\",\"- \"&Listas[[#This Row],[Descripcion]])","v":"5086 - Valor retención en la fuente trasladada a terceros por participaciones o dividendos recibidos de sociedades nacionales E.T. art. 242-1 par.1"},"5086","Valor retención en la fuente trasladada a terceros por participaciones o dividendos recibidos de sociedades nacionales E.T. art. 242-1 par.1",296]
["Concepto_1001",{"$f":"Listas[[#This Row],[ID]]&\" \"&IF(Listas[[#This Row],[Descripcion]]=\"\",\"\",\"- \"&Listas[[#This Row],[Descripcion]])","v":"5087 - Valor de los puntos premio redimidos en el período que afectan el gasto directamente, procedentes de programas de fidelización."},"5087","Valor de los puntos premio redimidos en el período que afectan el gasto directamente, procedentes de programas de fidelización.",297]
["Concepto_1647",{"$f":"Listas[[#This Row],[ID]]&\" \"&IF(Listas[[#This Row],[Descripcion]]=\"\",\"\",\"- \"&Listas[[#This Row],[Descripcion]])","v":"4070 - Ingresos recibidos para terceros"},"4070","Ingresos recibidos para terceros",298]
["Concepto_1007",{"$f":"Listas[[#This Row],[ID]]&\" \"&IF(Listas[[#This Row],[Descripcion]]=\"\",\"\",\"- \"&Listas[[#This Row],[Descripcion]])","v":"4001 - Ingresos Brutos de Actividades Ordinarias"},"4001","Ingresos Brutos de Actividades Ordinarias",299]
["Concepto_1007",{"$f":"Listas[[#This Row],[ID]]&\" \"&IF(Listas[[#This Row],[Descripcion]]=\"\",\"\",\"- \"&Listas[[#This Row],[Descripcion]])","v":"4002 - Otros Ingresos Brutos"},"4002","Otros Ingresos Brutos",300]
["Concepto_1007",{"$f":"Listas[[#This Row],[ID]]&\" \"&IF(Listas[[#This Row],[Descripcion]]=\"\",\"\",\"- \"&Listas[[#This Row],[Descripcion]])","v":"4003 - Ingresos por intereses y rendimientos financieros\r"},"4003","Ingresos por intereses y rendimientos financieros\r",301]
["Concepto_1007",{"$f":"Listas[[#This Row],[ID]]&\" \"&IF(Listas[[#This Row],[Descripcion]]=\"\",\"\",\"- \"&Listas[[#This Row],[Descripcion]])","v":"4004 - Ingresos por intereses Correspondientes a Creditos Hipotecarios\r"},"4004","Ingresos por intereses Correspondientes a Creditos Hipotecarios\r",302]
["Concepto_1007",{"$f":"Listas[[#This Row],[ID]]&\" \"&IF(Listas[[#This Row],[Descripcion]]=\"\",\"\",\"- \"&Listas[[#This Row],[Descripcion]])","v":"4005 - Ingresos a traves de Consorcios o Uniones Temporales"},"4005","Ingresos a traves de Consorcios o Uniones Temporales",303]
["Concepto_1007",{"$f":"Listas[[#This Row],[ID]]&\" \"&IF(Listas[[#This Row],[Descripcion]]=\"\",\"\",\"- \"&Listas[[#This Row],[Descripcion]])","v":"4006 - Ingresos a traves de Mandato o Administracion Delegada"},"4006","Ingresos a traves de Mandato o Administracion Delegada",304]
["Concepto_1007",{"$f":"Listas[[#This Row],[ID]]&\" \"&IF(Listas[[#This Row],[Descripcion]]=\"\",\"\",\"- \"&Listas[[#This Row],[Descripcion]])","v":"4007 - Ingresos a traves de Exploracion y Explotacion de Hidrocarburos, Gases y Minerales"},"4007","Ingresos a traves de Exploracion y Explotacion de Hidrocarburos, Gases y Minerales",305]
["Concepto_1007",{"$f":"Listas[[#This Row],[ID]]&\" \"&IF(Listas[[#This Row],[Descripcion]]=\"\",\"\",\"- \"&Listas[[#This Row],[Descripcion]])","v":"4008 - Ingresos a traves de Fiducia"},"4008","Ingresos a traves de Fiducia",306]
["Concepto_1007",{"$f":"Listas[[#This Row],[ID]]&\" \"&IF(Listas[[#This Row],[Descripcion]]=\"\",\"\",\"- \"&Listas[[#This Row],[Descripcion]])","v":"4009 - Ingresos a traves de Terceros (Beneficiario)"},"4009","Ingresos a traves de Terceros (Beneficiario)",307]
["Concepto_1007",{"$f":"Listas[[#This Row],[ID]]&\" \"&IF(Listas[[#This Row],[Descripcion]]=\"\",\"\",\"- \"&Listas[[#This Row],[Descripcion]])","v":"4011 - Ingresos a traves de joint venture"},"4011","Ingresos a traves de joint venture",308]
["Concepto_1007",{"$f":"Listas[[#This Row],[ID]]&\" \"&IF(Listas[[#This Row],[Descripcion]]=\"\",\"\",\"- \"&Listas[[#This Row],[Descripcion]])","v":"4012 - Ingresos a traves de Cuentas en Participacion"},"4012","Ingresos a traves de Cuentas en Participacion",309]
["Concepto_1007",{"$f":"Listas[[#This Row],[ID]]&\" \"&IF(Listas[[#This Row],[Descripcion]]=\"\",\"\",\"- \"&Listas[[#This Row],[Descripcion]])","v":"4013 - Ingresos a traves de Convenios de Cooperacion con Entidades Publicas"},"4013","Ingresos a traves de Convenios de Cooperacion con Entidades Publicas",310]
["Concepto_1007",{"$f":"Listas[[#This Row],[ID]]&\" \"&IF(Listas[[#This Row],[Descripcion]]=\"\",\"\",\"- \"&Listas[[#This Row],[Descripcion]])","v":"4014 - Ingresos por ventas con puntos premio redimidos en el período, procedentes de programas de fidelización"},"4014","Ingresos por ventas con puntos premio redimidos en el período, procedentes de programas de fidelización",311]
["Concepto_1007",{"$f":"Listas[[#This Row],[ID]]&\" \"&IF(Listas[[#This Row],[Descripcion]]=\"\",\"\",\"- \"&Listas[[#This Row],[Descripcion]])","v":"4015 - Ingresos por puntos premio vencidos y no reclamados en el periodo, procedentes de programas de fidelización, artículo 28 numeral 8 del Estatuto Tributario. Se debe reportar con el NIT del informante."},"4015","Ingresos por puntos premio vencidos y no reclamados en el periodo, procedentes de programas de fidelización, artículo 28 numeral 8 del Estatuto Tributario. Se debe reportar con el NIT del informante.",312]
["Concepto_1007",{"$f":"Listas[[#This Row],[ID]]&\" \"&IF(Listas[[#This Row],[Descripcion]]=\"\",\"\",\"- \"&Listas[[#This Row],[Descripcion]])","v":"4016 - Ingresos por ventas con puntos premio redimidos en el período, incluidos en el concepto 4015 que corresponden en años anteriores, en virtud de la aplicación del artículo 28 numeral 8 del Estatuto Tributario. Se debe reportar con el NIT del informante."},"4016","Ingresos por ventas con puntos premio redimidos en el período, incluidos en el concepto 4015 que corresponden en años anteriores, en virtud de la aplicación del artículo 28 numeral 8 del Estatuto Tributario. Se debe reportar con el NIT del informante.",313]
["Concepto_1007",{"$f":"Listas[[#This Row],[ID]]&\" \"&IF(Listas[[#This Row],[Descripcion]]=\"\",\"\",\"- \"&Listas[[#This Row],[Descripcion]])","v":"4017 - Ingresos por recuperaciones de costos y deducciones que constituyen renta líquida. Art.195 al 198 E.T. Las transacciones donde no se identifique un tercero informado se deben reportar con el NIT del informante."},"4017","Ingresos por recuperaciones de costos y deducciones que constituyen renta líquida. Art.195 al 198 E.T. Las transacciones donde no se identifique un tercero informado se deben reportar con el NIT del informante.",314]
["Concepto_1011",{"$f":"Listas[[#This Row],[ID]]&\" \"&IF(Listas[[#This Row],[Descripcion]]=\"\",\"\",\"- \"&Listas[[#This Row],[Descripcion]])","v":"1601 - Inversiones Zomac realizadas en el año representadas en inventarios, propiedad planta y equipo"},"1601","Inversiones Zomac realizadas en el año representadas en inventarios, propiedad planta y equipo",315]
["Concepto_1011",{"$f":"Listas[[#This Row],[ID]]&\" \"&IF(Listas[[#This Row],[Descripcion]]=\"\",\"\",\"- \"&Listas[[#This Row],[Descripcion]])","v":"1602 - Inversiones en Megainversiones en el año representadas en propiedad, planta y equipo."},"1602","Inversiones en Megainversiones en el año representadas en propiedad, planta y equipo.",316]
["Concepto_1011",{"$f":"Listas[[#This Row],[ID]]&\" \"&IF(Listas[[#This Row],[Descripcion]]=\"\",\"\",\"- \"&Listas[[#This Row],[Descripcion]])","v":"1603 - Inversiones realizadas por empresas de economía naranja de que trata el numeral 1 del artículo 235-2 del E.T., en propiedad, planta y equipo, intangibles de que trata el numeral 1 del artículo 74 e inversiones del numeral 3 del artículo 74-1, del E.T"},"1603","Inversiones realizadas por empresas de economía naranja de que trata el numeral 1 del artículo 235-2 del E.T., en propiedad, planta y equipo, intangibles de que trata el numeral 1 del artículo 74 e inversiones del numeral 3 del artículo 74-1, del E.T",317]
["Concepto_1011",{"$f":"Listas[[#This Row],[ID]]&\" \"&IF(Listas[[#This Row],[Descripcion]]=\"\",\"\",\"- \"&Listas[[#This Row],[Descripcion]])","v":"1604 - Inversiones realizadas por empresas dedicas al desarrollo del campo colombiano de que trata el numeral 2 del artículo 235-2 del E.T., en propiedad, planta y equipo y activos biológicos productores"},"1604","Inversiones realizadas por empresas dedicas al desarrollo del campo colombiano de que trata el numeral 2 del artículo 235-2 del E.T., en propiedad, planta y equipo y activos biológicos productores",318]
["Concepto_1011",{"$f":"Listas[[#This Row],[ID]]&\" \"&IF(Listas[[#This Row],[Descripcion]]=\"\",\"\",\"- \"&Listas[[#This Row],[Descripcion]])","v":"8104 - Renta exenta por venta energía eléctrica generada con base en energía eólica, biomasa o residuos agrícolas, solar, geotérmica o de los mares. Art.235-2 numeral 3.\n"},"8104","Renta exenta por venta energía eléctrica generada con base en energía eólica, biomasa o residuos agrícolas, solar, geotérmica o de los mares. Art.235-2 numeral 3.\n",319]
["Concepto_1011",{"$f":"Listas[[#This Row],[ID]]&\" \"&IF(Listas[[#This Row],[Descripcion]]=\"\",\"\",\"- \"&Listas[[#This Row],[Descripcion]])","v":"8106 - Renta exenta por aprovechamiento de nuevas plantaciones forestales incluida la guadua el caucho y el marañón. Art. 235-2 numeral 5\r, Inciso 1\n"},"8106","Renta exenta por aprovechamiento de nuevas plantaciones forestales incluida la guadua el caucho y el marañón. Art. 235-2 numeral 5\r, Inciso 1\n",320]
["Concepto_1011",{"$f":"Listas[[#This Row],[ID]]&\" \"&IF(Listas[[#This Row],[Descripcion]]=\"\",\"\",\"- \"&Listas[[#This Row],[Descripcion]])","v":"8109 - Renta exenta por prestación de servicio de transporte fluvial con embarcaciones y planchones de bajo calado Art. 235-2 numeral 6."},"8109","Renta exenta por prestación de servicio de transporte fluvial con embarcaciones y planchones de bajo calado Art. 235-2 numeral 6.",321]
["Concepto_1011",{"$f":"Listas[[#This Row],[ID]]&\" \"&IF(Listas[[#This Row],[Descripcion]]=\"\",\"\",\"- \"&Listas[[#This Row],[Descripcion]])","v":"8111 - Rentas exentas por la utilidad en la enajenación de predios destinados a fines de utilidad pública. Num 9 Art. 207-2 E.T. Sentencia C-083 del 2018"},"8111","Rentas exentas por la utilidad en la enajenación de predios destinados a fines de utilidad pública. Num 9 Art. 207-2 E.T. Sentencia C-083 del 2018",322]
["Concepto_1011",{"$f":"Listas[[#This Row],[ID]]&\" \"&IF(Listas[[#This Row],[Descripcion]]=\"\",\"\",\"- \"&Listas[[#This Row],[Descripcion]])","v":"8120 - Rentas exentas por aplicación de algún convenio para evitar la doble tributación. "},"8120","Rentas exentas por aplicación de algún convenio para evitar la doble tributación. ",323]
["Concepto_1011",{"$f":"Listas[[#This Row],[ID]]&\" \"&IF(Listas[[#This Row],[Descripcion]]=\"\",\"\",\"- \"&Listas[[#This Row],[Descripcion]])","v":"8121 - Renta exenta por creaciones literarias dela economía naranja contenidas en el artículo 28 de la Ley 98 de 1993. Art. 235-2 numeral 8."},"8121","Renta exenta por creaciones literarias dela economía naranja contenidas en el artículo 28 de la Ley 98 de 1993. Art. 235-2 numeral 8.",324]
["Concepto_1011",{"$f":"Listas[[#This Row],[ID]]&\" \"&IF(Listas[[#This Row],[Descripcion]]=\"\",\"\",\"- \"&Listas[[#This Row],[Descripcion]])","v":"8125 - Rentas exentas por Intereses, comisiones y pagos por deuda pública externa, E.T. art. 218 E.T.  "},"8125","Rentas exentas por Intereses, comisiones y pagos por deuda pública externa, E.T. art. 218 E.T.  ",325]
["Concepto_1011",{"$f":"Listas[[#This Row],[ID]]&\" \"&IF(Listas[[#This Row],[Descripcion]]=\"\",\"\",\"- \"&Listas[[#This Row],[Descripcion]])","v":"8127 - Rentas exentas por inversión en nuevos aserríos, plantas de procesamiento y plantaciones de árboles maderables y árboles en producción de frutos. E.T., art. 235-2, numeral 5.Incisos 2 y 3 "},"8127","Rentas exentas por inversión en nuevos aserríos, plantas de procesamiento y plantaciones de árboles maderables y árboles en producción de frutos. E.T., art. 235-2, numeral 5.Incisos 2 y 3 ",326]
["Concepto_1011",{"$f":"Listas[[#This Row],[ID]]&\" \"&IF(Listas[[#This Row],[Descripcion]]=\"\",\"\",\"- \"&Listas[[#This Row],[Descripcion]])","v":"8133 - Rentas exentas por servicios prestados en hoteles nuevos. E.T., Art. 207-2, Num 3 Sentencia C 235 del 29 de mayo de 2019"},"8133","Rentas exentas por servicios prestados en hoteles nuevos. E.T., Art. 207-2, Num 3 Sentencia C 235 del 29 de mayo de 2019",327]
["Concepto_1011",{"$f":"Listas[[#This Row],[ID]]&\" \"&IF(Listas[[#This Row],[Descripcion]]=\"\",\"\",\"- \"&Listas[[#This Row],[Descripcion]])","v":"8134 - Rentas exentas por servicios prestados en hoteles remodelado y/o ampliados. E.T., Art. 207-2 E.T, Num. 4. Sentencia C 235 del 29 de mayo de 2019"},"8134","Rentas exentas por servicios prestados en hoteles remodelado y/o ampliados. E.T., Art. 207-2 E.T, Num. 4. Sentencia C 235 del 29 de mayo de 2019",328]
["Concepto_1011",{"$f":"Listas[[#This Row],[ID]]&\" \"&IF(Listas[[#This Row],[Descripcion]]=\"\",\"\",\"- \"&Listas[[#This Row],[Descripcion]])","v":"8140 - Rentas exentas por aportes voluntarios a los fondos de pensiones. E.T. art. 126-1, inc. 2"},"8140","Rentas exentas por aportes voluntarios a los fondos de pensiones. E.T. art. 126-1, inc. 2",329]
["Concepto_1011",{"$f":"Listas[[#This Row],[ID]]&\" \"&IF(Listas[[#This Row],[Descripcion]]=\"\",\"\",\"- \"&Listas[[#This Row],[Descripcion]])","v":"8141 - Rentas exentas por los ahorros a largo plazo para el fomento de la construcción. E.T., art. 126-4."},"8141","Rentas exentas por los ahorros a largo plazo para el fomento de la construcción. E.T., art. 126-4.",330]
["Concepto_1011",{"$f":"Listas[[#This Row],[ID]]&\" \"&IF(Listas[[#This Row],[Descripcion]]=\"\",\"\",\"- \"&Listas[[#This Row],[Descripcion]])","v":"8142 - Rentas exentas del beneficio neto o excedente para las entidades sin ánimo de lucro. E.T., art 358 E.T. "},"8142","Rentas exentas del beneficio neto o excedente para las entidades sin ánimo de lucro. E.T., art 358 E.T. ",331]
["Concepto_1011",{"$f":"Listas[[#This Row],[ID]]&\" \"&IF(Listas[[#This Row],[Descripcion]]=\"\",\"\",\"- \"&Listas[[#This Row],[Descripcion]])","v":"8145 - Rentas exentas de fondos provenientes de auxilios o donaciones de entidades o gobiernos extranjeros. Convenidos con el Gobierno colombiano, destinados a programas de utilidad común y registrados por la Agencia Presidencial de la Cooperación Internacional. Art. 96 L. 788/2002"},"8145","Rentas exentas de fondos provenientes de auxilios o donaciones de entidades o gobiernos extranjeros. Convenidos con el Gobierno colombiano, destinados a programas de utilidad común y registrados por la Agencia Presidencial de la Cooperación Internacional. Art. 96 L. 788/2002",332]
["Concepto_1011",{"$f":"Listas[[#This Row],[ID]]&\" \"&IF(Listas[[#This Row],[Descripcion]]=\"\",\"\",\"- \"&Listas[[#This Row],[Descripcion]])","v":"8156 - Rentas exentas prestaciones provenientes de un fondo de pensiones. E.T. art. 207."},"8156","Rentas exentas prestaciones provenientes de un fondo de pensiones. E.T. art. 207.",333]
["Concepto_1011",{"$f":"Listas[[#This Row],[ID]]&\" \"&IF(Listas[[#This Row],[Descripcion]]=\"\",\"\",\"- \"&Listas[[#This Row],[Descripcion]])","v":"8159 - Renta exenta pago principal y demás rendimientos generados en actividades financieras por parte de entidades gubernamentales de carácter financiero y de cooperación para el desarrollo. E.T., art. 207-2, numeral 12."},"8159","Renta exenta pago principal y demás rendimientos generados en actividades financieras por parte de entidades gubernamentales de carácter financiero y de cooperación para el desarrollo. E.T., art. 207-2, numeral 12.",334]
["Concepto_1011",{"$f":"Listas[[#This Row],[ID]]&\" \"&IF(Listas[[#This Row],[Descripcion]]=\"\",\"\",\"- \"&Listas[[#This Row],[Descripcion]])","v":"8160 - Rentas exentas de los industriales de la cinematografía, personas naturales. L. 397/1997, art. 46. "},"8160","Rentas exentas de los industriales de la cinematografía, personas naturales. L. 397/1997, art. 46. ",335]
["Concepto_1011",{"$f":"Listas[[#This Row],[ID]]&\" \"&IF(Listas[[#This Row],[Descripcion]]=\"\",\"\",\"- \"&Listas[[#This Row],[Descripcion]])","v":"8164 - Renta exenta por la utilidad en la enajenación de predios destinados al desarrollo de proyectos de vivienda interés social y/o prioritario. Art. 235-2 numeral 4, literal a)"},"8164","Renta exenta por la utilidad en la enajenación de predios destinados al desarrollo de proyectos de vivienda interés social y/o prioritario. Art. 235-2 numeral 4, literal a)",336]
["Concepto_1011",{"$f":"Listas[[#This Row],[ID]]&\" \"&IF(Listas[[#This Row],[Descripcion]]=\"\",\"\",\"- \"&Listas[[#This Row],[Descripcion]])","v":"8165 - Renta exenta por la utilidad en la primera enajenación de viviendas de interés social y/o prioritario. E.T., art. 235-2, numeral 4, literal b)."},"8165","Renta exenta por la utilidad en la primera enajenación de viviendas de interés social y/o prioritario. E.T., art. 235-2, numeral 4, literal b).",337]
["Concepto_1011",{"$f":"Listas[[#This Row],[ID]]&\" \"&IF(Listas[[#This Row],[Descripcion]]=\"\",\"\",\"- \"&Listas[[#This Row],[Descripcion]])","v":"8166 - Renta exenta por la utilidad en la enajenación de predios para desarrollo de proyectos de renovación urbana asociados a vivienda de interés social y prioritario. E.T., art. 235-2, numeral 4, literal c)."},"8166","Renta exenta por la utilidad en la enajenación de predios para desarrollo de proyectos de renovación urbana asociados a vivienda de interés social y prioritario. E.T., art. 235-2, numeral 4, literal c).",338]
["Concepto_1011",{"$f":"Listas[[#This Row],[ID]]&\" \"&IF(Listas[[#This Row],[Descripcion]]=\"\",\"\",\"- \"&Listas[[#This Row],[Descripcion]])","v":"8167 - Renta exenta de que trata L. 546/1999, art. 16. Modificado. L. 964/2005 asociados a proyectos de vivienda de interés y prioritario. E.T., art. 235-2, numeral 4, literal d)."},"8167","Renta exenta de que trata L. 546/1999, art. 16. Modificado. L. 964/2005 asociados a proyectos de vivienda de interés y prioritario. E.T., art. 235-2, numeral 4, literal d).",339]
["Concepto_1011",{"$f":"Listas[[#This Row],[ID]]&\" \"&IF(Listas[[#This Row],[Descripcion]]=\"\",\"\",\"- \"&Listas[[#This Row],[Descripcion]])","v":"8168 - Renta exenta por rendimientos financieros provenientes de créditos para adquisición de vivienda de interés social y/o prioritario. E.T., art. 235-2, numeral 4 literal e)"},"8168","Renta exenta por rendimientos financieros provenientes de créditos para adquisición de vivienda de interés social y/o prioritario. E.T., art. 235-2, numeral 4 literal e)",340]
["Concepto_1011",{"$f":"Listas[[#This Row],[ID]]&\" \"&IF(Listas[[#This Row],[Descripcion]]=\"\",\"\",\"- \"&Listas[[#This Row],[Descripcion]])","v":"8169 - Renta exenta por los rendimientos generados por la reserva de estabilización que constituyen las entidades administradoras de fondos de pensiones y cesantías. Art. 101 de la Ley 100 de 1993.  Art. 235-2 numeral 9."},"8169","Renta exenta por los rendimientos generados por la reserva de estabilización que constituyen las entidades administradoras de fondos de pensiones y cesantías. Art. 101 de la Ley 100 de 1993.  Art. 235-2 numeral 9.",341]
["Concepto_1011",{"$f":"Listas[[#This Row],[ID]]&\" \"&IF(Listas[[#This Row],[Descripcion]]=\"\",\"\",\"- \"&Listas[[#This Row],[Descripcion]])","v":"8170 - Renta exenta creaciones literarias de la economía naranja, numeral 8 del artículo 235-2 del E.T."},"8170","Renta exenta creaciones literarias de la economía naranja, numeral 8 del artículo 235-2 del E.T.",342]
["Concepto_1011",{"$f":"Listas[[#This Row],[ID]]&\" \"&IF(Listas[[#This Row],[Descripcion]]=\"\",\"\",\"- \"&Listas[[#This Row],[Descripcion]])","v":"8171 - Renta exenta. Incentivo tributario para empresas de economía naranja E.T., Art. 235-2 numeral 1, E.T. "},"8171","Renta exenta. Incentivo tributario para empresas de economía naranja E.T., Art. 235-2 numeral 1, E.T. ",343]
["Concepto_1011",{"$f":"Listas[[#This Row],[ID]]&\" \"&IF(Listas[[#This Row],[Descripcion]]=\"\",\"\",\"- \"&Listas[[#This Row],[Descripcion]])","v":"8172 - Renta exenta. Incentivo tributario para el desarrollo del campo colombiano E.T., Art. 235-2 numeral 2, E.T."},"8172","Renta exenta. Incentivo tributario para el desarrollo del campo colombiano E.T., Art. 235-2 numeral 2, E.T.",344]
["Concepto_1011",{"$f":"Listas[[#This Row],[ID]]&\" \"&IF(Listas[[#This Row],[Descripcion]]=\"\",\"\",\"- \"&Listas[[#This Row],[Descripcion]])","v":"8173 - Renta exenta de capital por dividendos o participaciones distribuidos por no residentes a CHC y por prima en colocación de acciones. Art.895 E.T.."},"8173","Renta exenta de capital por dividendos o participaciones distribuidos por no residentes a CHC y por prima en colocación de acciones. Art.895 E.T..",345]
["Concepto_1011",{"$f":"Listas[[#This Row],[ID]]&\" \"&IF(Listas[[#This Row],[Descripcion]]=\"\",\"\",\"- \"&Listas[[#This Row],[Descripcion]])","v":"8174 - Renta exenta ganancia ocasional derivada de la venta o transmisión de la participación de una CHC en entidades no residentes. Art. 896 E.T"},"8174","Renta exenta ganancia ocasional derivada de la venta o transmisión de la participación de una CHC en entidades no residentes. Art. 896 E.T",346]
["Concepto_1011",{"$f":"Listas[[#This Row],[ID]]&\" \"&IF(Listas[[#This Row],[Descripcion]]=\"\",\"\",\"- \"&Listas[[#This Row],[Descripcion]])","v":"8175 - Renta exenta de las sumas destinadas al pago de los seguros de invalidez y de sobrevivientes dentro del mismo régimen de ahorro individual con solidaridad. L. 100/93, art. 135"},"8175","Renta exenta de las sumas destinadas al pago de los seguros de invalidez y de sobrevivientes dentro del mismo régimen de ahorro individual con solidaridad. L. 100/93, art. 135",347]
["Concepto_1011",{"$f":"Listas[[#This Row],[ID]]&\" \"&IF(Listas[[#This Row],[Descripcion]]=\"\",\"\",\"- \"&Listas[[#This Row],[Descripcion]])","v":"8176 - Rentas exentas provenientes de bienes inmuebles situados en otro país de la CAN. Decisión 578 de 2004, art. 4"},"8176","Rentas exentas provenientes de bienes inmuebles situados en otro país de la CAN. Decisión 578 de 2004, art. 4",348]
["Concepto_1011",{"$f":"Listas[[#This Row],[ID]]&\" \"&IF(Listas[[#This Row],[Descripcion]]=\"\",\"\",\"- \"&Listas[[#This Row],[Descripcion]])","v":"8177 - Rentas exentas provenientes de la explotación de recursos naturales en otro país de la CAN . Decisión 578 de 2004, art. 5"},"8177","Rentas exentas provenientes de la explotación de recursos naturales en otro país de la CAN . Decisión 578 de 2004, art. 5",349]
["Concepto_1011",{"$f":"Listas[[#This Row],[ID]]&\" \"&IF(Listas[[#This Row],[Descripcion]]=\"\",\"\",\"- \"&Listas[[#This Row],[Descripcion]])","v":"8178 - Rentas exentas por actividades empresariales efectuadas en otro país de la CAN. Decisión 578 de 2004, art. 6"},"8178","Rentas exentas por actividades empresariales efectuadas en otro país de la CAN. Decisión 578 de 2004, art. 6",350]
["Concepto_1011",{"$f":"Listas[[#This Row],[ID]]&\" \"&IF(Listas[[#This Row],[Descripcion]]=\"\",\"\",\"- \"&Listas[[#This Row],[Descripcion]])","v":"8179 - Rentas exentas de empresas de transporte domiciliadas en otro país de la CAN. Decisión 578 de 2004, art. 8"},"8179","Rentas exentas de empresas de transporte domiciliadas en otro país de la CAN. Decisión 578 de 2004, art. 8",351]
["Concepto_1011",{"$f":"Listas[[#This Row],[ID]]&\" \"&IF(Listas[[#This Row],[Descripcion]]=\"\",\"\",\"- \"&Listas[[#This Row],[Descripcion]])","v":"8180 - Rentas exentas por regalías de bienes intangibles en un país miembro de la CAN. Decisión 578 de 2004, art. 9"},"8180","Rentas exentas por regalías de bienes intangibles en un país miembro de la CAN. Decisión 578 de 2004, art. 9",352]
["Concepto_1011",{"$f":"Listas[[#This Row],[ID]]&\" \"&IF(Listas[[#This Row],[Descripcion]]=\"\",\"\",\"- \"&Listas[[#This Row],[Descripcion]])","v":"8181 - Rentas exentas por intereses y demás rendimientos financieros cuyo pago se registra e imputa en otro país miembro de la CAN. Decisión 578 de 2004, art. 10"},"8181","Rentas exentas por intereses y demás rendimientos financieros cuyo pago se registra e imputa en otro país miembro de la CAN. Decisión 578 de 2004, art. 10",353]
["Concepto_1011",{"$f":"Listas[[#This Row],[ID]]&\" \"&IF(Listas[[#This Row],[Descripcion]]=\"\",\"\",\"- \"&Listas[[#This Row],[Descripcion]])","v":"8182 - Rentas exentas por dividendos y participaciones distribuidos por empresas domiciliadas en otro país miembro de la CAN. Decisión 578 de 2004, art. 11. "},"8182","Rentas exentas por dividendos y participaciones distribuidos por empresas domiciliadas en otro país miembro de la CAN. Decisión 578 de 2004, art. 11. ",354]
["Concepto_1011",{"$f":"Listas[[#This Row],[ID]]&\" \"&IF(Listas[[#This Row],[Descripcion]]=\"\",\"\",\"- \"&Listas[[#This Row],[Descripcion]])","v":"8183 - Rentas exentas por ganancias de capital obtenidas en la venta de bienes situados en otro país miembro de la CAN. Decisión 578 de 2004, art. 12"},"8183","Rentas exentas por ganancias de capital obtenidas en la venta de bienes situados en otro país miembro de la CAN. Decisión 578 de 2004, art. 12",355]
["Concepto_1011",{"$f":"Listas[[#This Row],[ID]]&\" \"&IF(Listas[[#This Row],[Descripcion]]=\"\",\"\",\"- \"&Listas[[#This Row],[Descripcion]])","v":"8184 - Renta exenta generados por la prestación de servicios personales prestados en otro país miembro de la CAN. Decisión 578 de 2004, art. 13."},"8184","Renta exenta generados por la prestación de servicios personales prestados en otro país miembro de la CAN. Decisión 578 de 2004, art. 13.",356]
["Concepto_1011",{"$f":"Listas[[#This Row],[ID]]&\" \"&IF(Listas[[#This Row],[Descripcion]]=\"\",\"\",\"- \"&Listas[[#This Row],[Descripcion]])","v":"8185 - Rentas exentas por beneficios empresariales en servicios, servicios técnicos, asistencia técnica y consultoría prestados en otro país de la CAN. Decisión 578 de 2004, art. 14"},"8185","Rentas exentas por beneficios empresariales en servicios, servicios técnicos, asistencia técnica y consultoría prestados en otro país de la CAN. Decisión 578 de 2004, art. 14",357]
["Concepto_1011",{"$f":"Listas[[#This Row],[ID]]&\" \"&IF(Listas[[#This Row],[Descripcion]]=\"\",\"\",\"- \"&Listas[[#This Row],[Descripcion]])","v":"8186 - Rentas exentas por pensiones y anualidades obtenidas de fuentes productoras situadas en otro país miembro de la CAN. . Decisión 578 de 2004, art. 15"},"8186","Rentas exentas por pensiones y anualidades obtenidas de fuentes productoras situadas en otro país miembro de la CAN. . Decisión 578 de 2004, art. 15",358]
["Concepto_1011",{"$f":"Listas[[#This Row],[ID]]&\" \"&IF(Listas[[#This Row],[Descripcion]]=\"\",\"\",\"- \"&Listas[[#This Row],[Descripcion]])","v":"8187 - Rentas exentas provenientes de actividades de entretenimiento público efectuadas en otro país miembro de la CAN. Decisión 578 de 2004, art. 16"},"8187","Rentas exentas provenientes de actividades de entretenimiento público efectuadas en otro país miembro de la CAN. Decisión 578 de 2004, art. 16",359]
["Concepto_1011",{"$f":"Listas[[#This Row],[ID]]&\" \"&IF(Listas[[#This Row],[Descripcion]]=\"\",\"\",\"- \"&Listas[[#This Row],[Descripcion]])","v":"8200 - Deducción en la declaración de renta por las inversiones realizadas en activos fijos reales productivos. E.T., Art. 158-3."},"8200","Deducción en la declaración de renta por las inversiones realizadas en activos fijos reales productivos. E.T., Art. 158-3.",360]
["Concepto_1011",{"$f":"Listas[[#This Row],[ID]]&\" \"&IF(Listas[[#This Row],[Descripcion]]=\"\",\"\",\"- \"&Listas[[#This Row],[Descripcion]])","v":"8207 - Costo o deducción por salarios, prestaciones sociales y demás pagos laborales. No debe contener los valores especificados en otros conceptos.\n"},"8207","Costo o deducción por salarios, prestaciones sociales y demás pagos laborales. No debe contener los valores especificados en otros conceptos.\n",361]
["Concepto_1011",{"$f":"Listas[[#This Row],[ID]]&\" \"&IF(Listas[[#This Row],[Descripcion]]=\"\",\"\",\"- \"&Listas[[#This Row],[Descripcion]])","v":"8208 - Deducción por pagos efectuados a la casa matriz. E.T., art. 124."},"8208","Deducción por pagos efectuados a la casa matriz. E.T., art. 124.",362]
["Concepto_1011",{"$f":"Listas[[#This Row],[ID]]&\" \"&IF(Listas[[#This Row],[Descripcion]]=\"\",\"\",\"- \"&Listas[[#This Row],[Descripcion]])","v":"8209 - Deducción por gastos en el exterior. E.T., art. 121. No debe contener los valores especificados en el concepto 8282."},"8209","Deducción por gastos en el exterior. E.T., art. 121. No debe contener los valores especificados en el concepto 8282.",363]
["Concepto_1011",{"$f":"Listas[[#This Row],[ID]]&\" \"&IF(Listas[[#This Row],[Descripcion]]=\"\",\"\",\"- \"&Listas[[#This Row],[Descripcion]])","v":"8210 - Costo en la enajenación de activos fijos poseídos por menos de dos años. E.T., art. 179."},"8210","Costo en la enajenación de activos fijos poseídos por menos de dos años. E.T., art. 179.",364]
["Concepto_1011",{"$f":"Listas[[#This Row],[ID]]&\" \"&IF(Listas[[#This Row],[Descripcion]]=\"\",\"\",\"- \"&Listas[[#This Row],[Descripcion]])","v":"8211 - Deducción del gravamen a los movimientos financieros. E.T., art. 115."},"8211","Deducción del gravamen a los movimientos financieros. E.T., art. 115.",365]
["Concepto_1011",{"$f":"Listas[[#This Row],[ID]]&\" \"&IF(Listas[[#This Row],[Descripcion]]=\"\",\"\",\"- \"&Listas[[#This Row],[Descripcion]])","v":"8212 - Deducción por agotamiento en explotación de hidrocarburos, E.T., art. 161."},"8212","Deducción por agotamiento en explotación de hidrocarburos, E.T., art. 161.",366]
["Concepto_1011",{"$f":"Listas[[#This Row],[ID]]&\" \"&IF(Listas[[#This Row],[Descripcion]]=\"\",\"\",\"- \"&Listas[[#This Row],[Descripcion]])","v":"8215 - Deducción por intereses sobre préstamos educativos del Icetex y para adquisición de vivienda. E.T., art. 119, modificado por L. 2010/2019, art. 89."},"8215","Deducción por intereses sobre préstamos educativos del Icetex y para adquisición de vivienda. E.T., art. 119, modificado por L. 2010/2019, art. 89.",367]
["Concepto_1011",{"$f":"Listas[[#This Row],[ID]]&\" \"&IF(Listas[[#This Row],[Descripcion]]=\"\",\"\",\"- \"&Listas[[#This Row],[Descripcion]])","v":"8217 - Deducción por donación o inversión en producción cinematográfica. L. 814/2003, art. 16."},"8217","Deducción por donación o inversión en producción cinematográfica. L. 814/2003, art. 16.",368]
["Concepto_1011",{"$f":"Listas[[#This Row],[ID]]&\" \"&IF(Listas[[#This Row],[Descripcion]]=\"\",\"\",\"- \"&Listas[[#This Row],[Descripcion]])","v":"8218 - Deducción por protección, mantenimiento y conservación muebles e inmuebles de interés cultural, L. 1185/2008, art. 14."},"8218","Deducción por protección, mantenimiento y conservación muebles e inmuebles de interés cultural, L. 1185/2008, art. 14.",369]
["Concepto_1011",{"$f":"Listas[[#This Row],[ID]]&\" \"&IF(Listas[[#This Row],[Descripcion]]=\"\",\"\",\"- \"&Listas[[#This Row],[Descripcion]])","v":"8225 - Deducción por donaciones del sector privado en la red nacional de bibliotecas públicas y biblioteca nacional. E.T., art 125. Modificado. L. 1819/2016, art. 75."},"8225","Deducción por donaciones del sector privado en la red nacional de bibliotecas públicas y biblioteca nacional. E.T., art 125. Modificado. L. 1819/2016, art. 75.",370]
["Concepto_1011",{"$f":"Listas[[#This Row],[ID]]&\" \"&IF(Listas[[#This Row],[Descripcion]]=\"\",\"\",\"- \"&Listas[[#This Row],[Descripcion]])","v":"8228 - Costo o deducción por las reparaciones locativas realizadas sobre inmuebles."},"8228","Costo o deducción por las reparaciones locativas realizadas sobre inmuebles.",371]
["Concepto_1011",{"$f":"Listas[[#This Row],[ID]]&\" \"&IF(Listas[[#This Row],[Descripcion]]=\"\",\"\",\"- \"&Listas[[#This Row],[Descripcion]])","v":"8230 - Deducción por las inversiones realizadas en librerías. L. 98/1993, art. 30."},"8230","Deducción por las inversiones realizadas en librerías. L. 98/1993, art. 30.",372]
["Concepto_1011",{"$f":"Listas[[#This Row],[ID]]&\" \"&IF(Listas[[#This Row],[Descripcion]]=\"\",\"\",\"- \"&Listas[[#This Row],[Descripcion]])","v":"8231 - Deducción por la inversión realizada en centros de reclusión. L.633/2000, art.98"},"8231","Deducción por la inversión realizada en centros de reclusión. L.633/2000, art.98",373]
["Concepto_1011",{"$f":"Listas[[#This Row],[ID]]&\" \"&IF(Listas[[#This Row],[Descripcion]]=\"\",\"\",\"- \"&Listas[[#This Row],[Descripcion]])","v":"8233 - Deducción de impuestos devengados y pagados. E.T. arts.115 y 115-1. No debe contener los valores especificados en otros conceptos."},"8233","Deducción de impuestos devengados y pagados. E.T. arts.115 y 115-1. No debe contener los valores especificados en otros conceptos.",374]
["Concepto_1011",{"$f":"Listas[[#This Row],[ID]]&\" \"&IF(Listas[[#This Row],[Descripcion]]=\"\",\"\",\"- \"&Listas[[#This Row],[Descripcion]])","v":"8234 - Costo o deducción de intereses. E.T., art. 117. No debe contener los valores especificados en el concepto 8236."},"8234","Costo o deducción de intereses. E.T., art. 117. No debe contener los valores especificados en el concepto 8236.",375]
["Concepto_1011",{"$f":"Listas[[#This Row],[ID]]&\" \"&IF(Listas[[#This Row],[Descripcion]]=\"\",\"\",\"- \"&Listas[[#This Row],[Descripcion]])","v":"8236 - Costo o deducción por contratos de leasing. E.T., art. 127-1."},"8236","Costo o deducción por contratos de leasing. E.T., art. 127-1.",376]
["Concepto_1011",{"$f":"Listas[[#This Row],[ID]]&\" \"&IF(Listas[[#This Row],[Descripcion]]=\"\",\"\",\"- \"&Listas[[#This Row],[Descripcion]])","v":"8237 - Deducción por costos y gastos por campañas de publicidad de productos extranjeros. E.T., art. 88-1"},"8237","Deducción por costos y gastos por campañas de publicidad de productos extranjeros. E.T., art. 88-1",377]
["Concepto_1011",{"$f":"Listas[[#This Row],[ID]]&\" \"&IF(Listas[[#This Row],[Descripcion]]=\"\",\"\",\"- \"&Listas[[#This Row],[Descripcion]])","v":"8238 - Deducción de la provisión de cartera de créditos y provisión de coeficiente de riesgo, provisiones realizadas durante el respectivo año gravable sobre bienes recibidos en dación en pago y sobre contratos de leasing. E.T., art.145, par.1. (Modificado. L. 1819/2016, art. 87)."},"8238","Deducción de la provisión de cartera de créditos y provisión de coeficiente de riesgo, provisiones realizadas durante el respectivo año gravable sobre bienes recibidos en dación en pago y sobre contratos de leasing. E.T., art.145, par.1. (Modificado. L. 1819/2016, art. 87).",378]
["Concepto_1011",{"$f":"Listas[[#This Row],[ID]]&\" \"&IF(Listas[[#This Row],[Descripcion]]=\"\",\"\",\"- \"&Listas[[#This Row],[Descripcion]])","v":"8239 - Deducción por deudas manifiestamente pérdidas o sin valor. E.T., art. 146."},"8239","Deducción por deudas manifiestamente pérdidas o sin valor. E.T., art. 146.",379]
["Concepto_1011",{"$f":"Listas[[#This Row],[ID]]&\" \"&IF(Listas[[#This Row],[Descripcion]]=\"\",\"\",\"- \"&Listas[[#This Row],[Descripcion]])","v":"8240 - Deducción por pérdida de activos. E.T. art. 148."},"8240","Deducción por pérdida de activos. E.T. art. 148.",380]
["Concepto_1011",{"$f":"Listas[[#This Row],[ID]]&\" \"&IF(Listas[[#This Row],[Descripcion]]=\"\",\"\",\"- \"&Listas[[#This Row],[Descripcion]])","v":"8241 - Costo o deducción por aportes al Instituto Colombiano de Bienestar Familiar, (ICBF). E.T., art. 114."},"8241","Costo o deducción por aportes al Instituto Colombiano de Bienestar Familiar, (ICBF). E.T., art. 114.",381]
["Concepto_1011",{"$f":"Listas[[#This Row],[ID]]&\" \"&IF(Listas[[#This Row],[Descripcion]]=\"\",\"\",\"- \"&Listas[[#This Row],[Descripcion]])","v":"8242 - Costo o deducción por aportes a Cajas de Compensación Familiar. E.T., art. 114."},"8242","Costo o deducción por aportes a Cajas de Compensación Familiar. E.T., art. 114.",382]
["Concepto_1011",{"$f":"Listas[[#This Row],[ID]]&\" \"&IF(Listas[[#This Row],[Descripcion]]=\"\",\"\",\"- \"&Listas[[#This Row],[Descripcion]])","v":"8243 - Costo o deducción por aportes al Servicio Nacional de Aprendizaje, (SENA). E.T., art. 114."},"8243","Costo o deducción por aportes al Servicio Nacional de Aprendizaje, (SENA). E.T., art. 114.",383]
["Concepto_1011",{"$f":"Listas[[#This Row],[ID]]&\" \"&IF(Listas[[#This Row],[Descripcion]]=\"\",\"\",\"- \"&Listas[[#This Row],[Descripcion]])","v":"8244 - Deducción de contribuciones a fondos de pensiones de jubilación e invalidez y fondos de cesantías. E.T. Art. 126-1, modificado L. 1819/2016, art. 15."},"8244","Deducción de contribuciones a fondos de pensiones de jubilación e invalidez y fondos de cesantías. E.T. Art. 126-1, modificado L. 1819/2016, art. 15.",384]
["Concepto_1011",{"$f":"Listas[[#This Row],[ID]]&\" \"&IF(Listas[[#This Row],[Descripcion]]=\"\",\"\",\"- \"&Listas[[#This Row],[Descripcion]])","v":"8245 - Deducción por concepto de cesantías pagadas, E.T., art. 109. No debe contener los valores especificados en los conceptos 8248, 8250, 8263 y 8271. "},"8245","Deducción por concepto de cesantías pagadas, E.T., art. 109. No debe contener los valores especificados en los conceptos 8248, 8250, 8263 y 8271. ",385]
["Concepto_1011",{"$f":"Listas[[#This Row],[ID]]&\" \"&IF(Listas[[#This Row],[Descripcion]]=\"\",\"\",\"- \"&Listas[[#This Row],[Descripcion]])","v":"8246 - Deducción por concepto de aportes a cesantías por los trabajadores independientes. E.T., art- 126-1, inciso 6."},"8246","Deducción por concepto de aportes a cesantías por los trabajadores independientes. E.T., art- 126-1, inciso 6.",386]
["Concepto_1011",{"$f":"Listas[[#This Row],[ID]]&\" \"&IF(Listas[[#This Row],[Descripcion]]=\"\",\"\",\"- \"&Listas[[#This Row],[Descripcion]])","v":"8247 - Deducción por concepto de contribuciones parafiscales agropecuarias efectuadas por los productores a los fondos de estabilización de la L. 101/1993. art 29"},"8247","Deducción por concepto de contribuciones parafiscales agropecuarias efectuadas por los productores a los fondos de estabilización de la L. 101/1993. art 29",387]
["Concepto_1011",{"$f":"Listas[[#This Row],[ID]]&\" \"&IF(Listas[[#This Row],[Descripcion]]=\"\",\"\",\"- \"&Listas[[#This Row],[Descripcion]])","v":"8248 - Deducción por salarios, prestaciones sociales y demás pagos laborales, pagados a viudas y huérfanos de miembros de las Fuerzas Armadas muertos en combate, secuestrados o desaparecidos. Art. 108-1 del E.T."},"8248","Deducción por salarios, prestaciones sociales y demás pagos laborales, pagados a viudas y huérfanos de miembros de las Fuerzas Armadas muertos en combate, secuestrados o desaparecidos. Art. 108-1 del E.T.",388]
["Concepto_1011",{"$f":"Listas[[#This Row],[ID]]&\" \"&IF(Listas[[#This Row],[Descripcion]]=\"\",\"\",\"- \"&Listas[[#This Row],[Descripcion]])","v":"8249 - Costo o deducción por apoyo de sostenimiento mensual de los trabajadores contratados como aprendices. L.115/1994, art. 189."},"8249","Costo o deducción por apoyo de sostenimiento mensual de los trabajadores contratados como aprendices. L.115/1994, art. 189.",389]
["Concepto_1011",{"$f":"Listas[[#This Row],[ID]]&\" \"&IF(Listas[[#This Row],[Descripcion]]=\"\",\"\",\"- \"&Listas[[#This Row],[Descripcion]])","v":"8250 - Costo o deducción por salarios pagados, durante el cautiverio, a sus empleados víctimas de secuestros. L. 986/2005, art. 21."},"8250","Costo o deducción por salarios pagados, durante el cautiverio, a sus empleados víctimas de secuestros. L. 986/2005, art. 21.",390]
["Concepto_1011",{"$f":"Listas[[#This Row],[ID]]&\" \"&IF(Listas[[#This Row],[Descripcion]]=\"\",\"\",\"- \"&Listas[[#This Row],[Descripcion]])","v":"8255 - Costo o deducción por pagos a terceros por concepto de alimentación del trabajador y su familia o suministro de alimentación para los mismos. "},"8255","Costo o deducción por pagos a terceros por concepto de alimentación del trabajador y su familia o suministro de alimentación para los mismos. ",391]
["Concepto_1011",{"$f":"Listas[[#This Row],[ID]]&\" \"&IF(Listas[[#This Row],[Descripcion]]=\"\",\"\",\"- \"&Listas[[#This Row],[Descripcion]])","v":"8256 - Costo o deducción por el pago de estudios a trabajadores en instituciones de educación superior. L. 30/1992, art. 124"},"8256","Costo o deducción por el pago de estudios a trabajadores en instituciones de educación superior. L. 30/1992, art. 124",392]
["Concepto_1011",{"$f":"Listas[[#This Row],[ID]]&\" \"&IF(Listas[[#This Row],[Descripcion]]=\"\",\"\",\"- \"&Listas[[#This Row],[Descripcion]])","v":"8257 - Deducción por factor especial de agotamiento en explotación de hidrocarburos, E.T. art. 166."},"8257","Deducción por factor especial de agotamiento en explotación de hidrocarburos, E.T. art. 166.",393]
["Concepto_1011",{"$f":"Listas[[#This Row],[ID]]&\" \"&IF(Listas[[#This Row],[Descripcion]]=\"\",\"\",\"- \"&Listas[[#This Row],[Descripcion]])","v":"8259 - Deducción por tasas y contribuciones fiscales pagadas."},"8259","Deducción por tasas y contribuciones fiscales pagadas.",394]
["Concepto_1011",{"$f":"Listas[[#This Row],[ID]]&\" \"&IF(Listas[[#This Row],[Descripcion]]=\"\",\"\",\"- \"&Listas[[#This Row],[Descripcion]])","v":"8261 - Deducción de la provisión para el pago de futuras pensiones.  E.T., art. 112."},"8261","Deducción de la provisión para el pago de futuras pensiones.  E.T., art. 112.",395]
["Concepto_1011",{"$f":"Listas[[#This Row],[ID]]&\" \"&IF(Listas[[#This Row],[Descripcion]]=\"\",\"\",\"- \"&Listas[[#This Row],[Descripcion]])","v":"8263 - Costo o deducción por salarios y prestaciones sociales a trabajadores con discapacidad no inferior al 25%. L.361/1997, art. 31. "},"8263","Costo o deducción por salarios y prestaciones sociales a trabajadores con discapacidad no inferior al 25%. L.361/1997, art. 31. ",396]
["Concepto_1011",{"$f":"Listas[[#This Row],[ID]]&\" \"&IF(Listas[[#This Row],[Descripcion]]=\"\",\"\",\"- \"&Listas[[#This Row],[Descripcion]])","v":"8264 - Deducción por las inversiones realizadas para el transporte aéreo en zonas apartadas del país. L. 633/2000, art. 97. "},"8264","Deducción por las inversiones realizadas para el transporte aéreo en zonas apartadas del país. L. 633/2000, art. 97. ",397]
["Concepto_1011",{"$f":"Listas[[#This Row],[ID]]&\" \"&IF(Listas[[#This Row],[Descripcion]]=\"\",\"\",\"- \"&Listas[[#This Row],[Descripcion]])","v":"8265 - Deducción por aumento en la reserva técnica de FOGAFIN Y FOGACOOP. E.T., art. 19-3."},"8265","Deducción por aumento en la reserva técnica de FOGAFIN Y FOGACOOP. E.T., art. 19-3.",398]
["Concepto_1011",{"$f":"Listas[[#This Row],[ID]]&\" \"&IF(Listas[[#This Row],[Descripcion]]=\"\",\"\",\"- \"&Listas[[#This Row],[Descripcion]])","v":"8267 - Deducción por contribuciones a fondos mutuos de inversión. E.T., art. 126."},"8267","Deducción por contribuciones a fondos mutuos de inversión. E.T., art. 126.",399]
["Concepto_1011",{"$f":"Listas[[#This Row],[ID]]&\" \"&IF(Listas[[#This Row],[Descripcion]]=\"\",\"\",\"- \"&Listas[[#This Row],[Descripcion]])","v":"8271 - Deducción por salarios y prestaciones sociales pagados a mujeres víctimas de violencia comprobada. L. 1257/2008, art. 23."},"8271","Deducción por salarios y prestaciones sociales pagados a mujeres víctimas de violencia comprobada. L. 1257/2008, art. 23.",400]
["Concepto_1011",{"$f":"Listas[[#This Row],[ID]]&\" \"&IF(Listas[[#This Row],[Descripcion]]=\"\",\"\",\"- \"&Listas[[#This Row],[Descripcion]])","v":"8272 - Deducción del 100% por inversiones en infraestructura para la realización de espectáculos públicos. Art. 4 L. 1493/11."},"8272","Deducción del 100% por inversiones en infraestructura para la realización de espectáculos públicos. Art. 4 L. 1493/11.",401]
["Concepto_1011",{"$f":"Listas[[#This Row],[ID]]&\" \"&IF(Listas[[#This Row],[Descripcion]]=\"\",\"\",\"- \"&Listas[[#This Row],[Descripcion]])","v":"8273 - Deducción por inversiones en jardines botánicos. L. 299/1996, art. 12"},"8273","Deducción por inversiones en jardines botánicos. L. 299/1996, art. 12",402]
["Concepto_1011",{"$f":"Listas[[#This Row],[ID]]&\" \"&IF(Listas[[#This Row],[Descripcion]]=\"\",\"\",\"- \"&Listas[[#This Row],[Descripcion]])","v":"8274 - Deducción por inversiones en fuentes de energía no convencional. L.1715/2014, art. 11."},"8274","Deducción por inversiones en fuentes de energía no convencional. L.1715/2014, art. 11.",403]
["Concepto_1011",{"$f":"Listas[[#This Row],[ID]]&\" \"&IF(Listas[[#This Row],[Descripcion]]=\"\",\"\",\"- \"&Listas[[#This Row],[Descripcion]])","v":"8275 - Deducción por depreciación de maquinarias, equipos y obras civiles de proyectos de fuentes de energía no convencionales. Art. 14 L. 1715/2014"},"8275","Deducción por depreciación de maquinarias, equipos y obras civiles de proyectos de fuentes de energía no convencionales. Art. 14 L. 1715/2014",404]
["Concepto_1011",{"$f":"Listas[[#This Row],[ID]]&\" \"&IF(Listas[[#This Row],[Descripcion]]=\"\",\"\",\"- \"&Listas[[#This Row],[Descripcion]])","v":"8276 - Costos y deducciones fiscales no reconocidas contablemente (diferencias temporarias), E.T., art. 59 y 105, num.1."},"8276","Costos y deducciones fiscales no reconocidas contablemente (diferencias temporarias), E.T., art. 59 y 105, num.1.",405]
["Concepto_1011",{"$f":"Listas[[#This Row],[ID]]&\" \"&IF(Listas[[#This Row],[Descripcion]]=\"\",\"\",\"- \"&Listas[[#This Row],[Descripcion]])","v":"8277 - Deducciones por atenciones a clientes, proveedores y trabajadores. E.T., art. 107-1, inciso 1."},"8277","Deducciones por atenciones a clientes, proveedores y trabajadores. E.T., art. 107-1, inciso 1.",406]
["Concepto_1011",{"$f":"Listas[[#This Row],[ID]]&\" \"&IF(Listas[[#This Row],[Descripcion]]=\"\",\"\",\"- \"&Listas[[#This Row],[Descripcion]])","v":"8278 - Deducciones por pagos salariales y prestacionales, provenientes de litigios. E.T., art. 107-1, inciso 2."},"8278","Deducciones por pagos salariales y prestacionales, provenientes de litigios. E.T., art. 107-1, inciso 2.",407]
["Concepto_1011",{"$f":"Listas[[#This Row],[ID]]&\" \"&IF(Listas[[#This Row],[Descripcion]]=\"\",\"\",\"- \"&Listas[[#This Row],[Descripcion]])","v":"8279 - Deducción de cesantías consolidadas. E.T., art.110. No debe contener los valores especificados en otros conceptos."},"8279","Deducción de cesantías consolidadas. E.T., art.110. No debe contener los valores especificados en otros conceptos.",408]
["Concepto_1011",{"$f":"Listas[[#This Row],[ID]]&\" \"&IF(Listas[[#This Row],[Descripcion]]=\"\",\"\",\"- \"&Listas[[#This Row],[Descripcion]])","v":"8282 - Pagos a jurisdicciones no cooperantes, de baja o nula imposición y a entidades con regímenes preferentes. E.T., art. 124-2"},"8282","Pagos a jurisdicciones no cooperantes, de baja o nula imposición y a entidades con regímenes preferentes. E.T., art. 124-2",409]
["Concepto_1011",{"$f":"Listas[[#This Row],[ID]]&\" \"&IF(Listas[[#This Row],[Descripcion]]=\"\",\"\",\"- \"&Listas[[#This Row],[Descripcion]])","v":"8283 - Deducción por depreciación. E.T., art. 128."},"8283","Deducción por depreciación. E.T., art. 128.",410]
["Concepto_1011",{"$f":"Listas[[#This Row],[ID]]&\" \"&IF(Listas[[#This Row],[Descripcion]]=\"\",\"\",\"- \"&Listas[[#This Row],[Descripcion]])","v":"8284 - Costo por depreciación"},"8284","Costo por depreciación",411]
["Concepto_1011",{"$f":"Listas[[#This Row],[ID]]&\" \"&IF(Listas[[#This Row],[Descripcion]]=\"\",\"\",\"- \"&Listas[[#This Row],[Descripcion]])","v":"8285 - Costo o deducción por obsolescencia. E.T., art. 129"},"8285","Costo o deducción por obsolescencia. E.T., art. 129",412]
["Concepto_1011",{"$f":"Listas[[#This Row],[ID]]&\" \"&IF(Listas[[#This Row],[Descripcion]]=\"\",\"\",\"- \"&Listas[[#This Row],[Descripcion]])","v":"8286 - Deducción de inversiones. E.T., art. 142"},"8286","Deducción de inversiones. E.T., art. 142",413]
["Concepto_1011",{"$f":"Listas[[#This Row],[ID]]&\" \"&IF(Listas[[#This Row],[Descripcion]]=\"\",\"\",\"- \"&Listas[[#This Row],[Descripcion]])","v":"8287 - Deducción por amortización de activos intangibles. E.T., Art. 143 del E.T. (Modificado por el artículo 85 de la Ley 1819 de 2016)"},"8287","Deducción por amortización de activos intangibles. E.T., Art. 143 del E.T. (Modificado por el artículo 85 de la Ley 1819 de 2016)",414]
["Concepto_1011",{"$f":"Listas[[#This Row],[ID]]&\" \"&IF(Listas[[#This Row],[Descripcion]]=\"\",\"\",\"- \"&Listas[[#This Row],[Descripcion]])","v":"8288 - Amortización inversiones en exploración, desarrollo y construcción de minas, y yacimientos de petróleo y gas. E.T., art. 143-1, modificado L. 1819/2016, art. 86"},"8288","Amortización inversiones en exploración, desarrollo y construcción de minas, y yacimientos de petróleo y gas. E.T., art. 143-1, modificado L. 1819/2016, art. 86",415]
["Concepto_1011",{"$f":"Listas[[#This Row],[ID]]&\" \"&IF(Listas[[#This Row],[Descripcion]]=\"\",\"\",\"- \"&Listas[[#This Row],[Descripcion]])","v":"8290 - Pérdidas sufridas en actividades agropecuarias. E.T., art. 150"},"8290","Pérdidas sufridas en actividades agropecuarias. E.T., art. 150",416]
["Concepto_1011",{"$f":"Listas[[#This Row],[ID]]&\" \"&IF(Listas[[#This Row],[Descripcion]]=\"\",\"\",\"- \"&Listas[[#This Row],[Descripcion]])","v":"8291 - Deducción por donaciones dirigidas a programas de becas o créditos condonables, E.T. art.158-1, inc.2, num.i)."},"8291","Deducción por donaciones dirigidas a programas de becas o créditos condonables, E.T. art.158-1, inc.2, num.i).",417]
["Concepto_1011",{"$f":"Listas[[#This Row],[ID]]&\" \"&IF(Listas[[#This Row],[Descripcion]]=\"\",\"\",\"- \"&Listas[[#This Row],[Descripcion]])","v":"8292 - Deducción por inversiones en evaluación y exploración de recursos naturales no renovables. E.T., Art.159, modificado L. 1819/2016, art. 92."},"8292","Deducción por inversiones en evaluación y exploración de recursos naturales no renovables. E.T., Art.159, modificado L. 1819/2016, art. 92.",418]
["Concepto_1011",{"$f":"Listas[[#This Row],[ID]]&\" \"&IF(Listas[[#This Row],[Descripcion]]=\"\",\"\",\"- \"&Listas[[#This Row],[Descripcion]])","v":"8293 - Deducción por agotamiento en explotación de minas, gases distintos de hidrocarburos y depósitos naturales. E.T., art. 167"},"8293","Deducción por agotamiento en explotación de minas, gases distintos de hidrocarburos y depósitos naturales. E.T., art. 167",419]
["Concepto_1011",{"$f":"Listas[[#This Row],[ID]]&\" \"&IF(Listas[[#This Row],[Descripcion]]=\"\",\"\",\"- \"&Listas[[#This Row],[Descripcion]])","v":"8294 - Deducción por pago impuesto al carbono, como mayor valor del costo del bien. L. 1819/2016, Art. 222, parágrafo 2. Sujeto pasivo del impuesto"},"8294","Deducción por pago impuesto al carbono, como mayor valor del costo del bien. L. 1819/2016, Art. 222, parágrafo 2. Sujeto pasivo del impuesto",420]
["Concepto_1011",{"$f":"Listas[[#This Row],[ID]]&\" \"&IF(Listas[[#This Row],[Descripcion]]=\"\",\"\",\"- \"&Listas[[#This Row],[Descripcion]])","v":"8295 - Deducción por pagos efectuados a las empresas promotoras de salud EPS y los aportes al Sistema de Riesgos Laborales. "},"8295","Deducción por pagos efectuados a las empresas promotoras de salud EPS y los aportes al Sistema de Riesgos Laborales. ",421]
["Concepto_1011",{"$f":"Listas[[#This Row],[ID]]&\" \"&IF(Listas[[#This Row],[Descripcion]]=\"\",\"\",\"- \"&Listas[[#This Row],[Descripcion]])","v":"8296 - Deducciones por contribución a educación destinados a programas de becas de estudios totales o parciales. E.T., art. 107-2 literal a) "},"8296","Deducciones por contribución a educación destinados a programas de becas de estudios totales o parciales. E.T., art. 107-2 literal a) ",422]
["Concepto_1011",{"$f":"Listas[[#This Row],[ID]]&\" \"&IF(Listas[[#This Row],[Descripcion]]=\"\",\"\",\"- \"&Listas[[#This Row],[Descripcion]])","v":"8297 - Deducciones por contribución a educación destinados a programas o centros de atención, estimulación y desarrollo integral. E.T., art. 107-2 literal b)"},"8297","Deducciones por contribución a educación destinados a programas o centros de atención, estimulación y desarrollo integral. E.T., art. 107-2 literal b)",423]
["Concepto_1011",{"$f":"Listas[[#This Row],[ID]]&\" \"&IF(Listas[[#This Row],[Descripcion]]=\"\",\"\",\"- \"&Listas[[#This Row],[Descripcion]])","v":"8298 - Deducciones por contribución a educación por aportes a instituciones de educación básica-primaria y secundaria y media reconocidas por el Ministerio de Educación y educación técnica, tecnológica y educación superior. E.T., art. 107-2 literal c)"},"8298","Deducciones por contribución a educación por aportes a instituciones de educación básica-primaria y secundaria y media reconocidas por el Ministerio de Educación y educación técnica, tecnológica y educación superior. E.T., art. 107-2 literal c)",424]
["Concepto_1011",{"$f":"Listas[[#This Row],[ID]]&\" \"&IF(Listas[[#This Row],[Descripcion]]=\"\",\"\",\"- \"&Listas[[#This Row],[Descripcion]])","v":"8299 - Deducciones de otros pagos a casas matrices o sucursales contemplados en el artículo 124-1 E.T."},"8299","Deducciones de otros pagos a casas matrices o sucursales contemplados en el artículo 124-1 E.T.",425]
["Concepto_1011",{"$f":"Listas[[#This Row],[ID]]&\" \"&IF(Listas[[#This Row],[Descripcion]]=\"\",\"\",\"- \"&Listas[[#This Row],[Descripcion]])","v":"8400 - Deducción del 120% de los pagos que el empleador realice por concepto de salario, en relación con los empleados que sean menores de veintiocho (28) años, siempre y cuando se trate del primer empleo de la persona. E.T., art. 108-5, adicionado L. 2010, art. 88."},"8400","Deducción del 120% de los pagos que el empleador realice por concepto de salario, en relación con los empleados que sean menores de veintiocho (28) años, siempre y cuando se trate del primer empleo de la persona. E.T., art. 108-5, adicionado L. 2010, art. 88.",426]
["Concepto_1011",{"$f":"Listas[[#This Row],[ID]]&\" \"&IF(Listas[[#This Row],[Descripcion]]=\"\",\"\",\"- \"&Listas[[#This Row],[Descripcion]])","v":"8401 - Deducción de las instituciones prestadoras de salud (IPS) contribuyentes por la cartera, reconocida y certificada por el liquidador, correspondiente a los patrimonios de las Entidades Promotoras de Salud (EPS) que se encuentren en medida de intervención forzosa administrativa para liquidar por parte de la Superintendencia Nacional de Salud. L. 2010, art. 97."},"8401","Deducción de las instituciones prestadoras de salud (IPS) contribuyentes por la cartera, reconocida y certificada por el liquidador, correspondiente a los patrimonios de las Entidades Promotoras de Salud (EPS) que se encuentren en medida de intervención forzosa administrativa para liquidar por parte de la Superintendencia Nacional de Salud. L. 2010, art. 97.",427]
["Concepto_1011",{"$f":"Listas[[#This Row],[ID]]&\" \"&IF(Listas[[#This Row],[Descripcion]]=\"\",\"\",\"- \"&Listas[[#This Row],[Descripcion]])","v":"8402 - Deducción por inversiones o donaciones en proyectos de economía creativa del artículo 195 de la Ley 1607 de 2012 (adicionado por la Ley 1955 de 2019 Art. 180)."},"8402","Deducción por inversiones o donaciones en proyectos de economía creativa del artículo 195 de la Ley 1607 de 2012 (adicionado por la Ley 1955 de 2019 Art. 180).",428]
["Concepto_1011",{"$f":"Listas[[#This Row],[ID]]&\" \"&IF(Listas[[#This Row],[Descripcion]]=\"\",\"\",\"- \"&Listas[[#This Row],[Descripcion]])","v":"8403 - Deducción por donaciones realizadas por entidades del régimen tributario especial de conformidad con el parágrafo 1 del artículo 357 del estatuto Tributario."},"8403","Deducción por donaciones realizadas por entidades del régimen tributario especial de conformidad con el parágrafo 1 del artículo 357 del estatuto Tributario.",429]
["Concepto_1011",{"$f":"Listas[[#This Row],[ID]]&\" \"&IF(Listas[[#This Row],[Descripcion]]=\"\",\"\",\"- \"&Listas[[#This Row],[Descripcion]])","v":"8405 - Deducción por deterioro (provisión individual) de cartera de dudoso o difícil cobro. E.T.,art.145, DUR 1625 de 2016 arts.1.2.1.18.19 y 1.2.1.18.20."},"8405","Deducción por deterioro (provisión individual) de cartera de dudoso o difícil cobro. E.T.,art.145, DUR 1625 de 2016 arts.1.2.1.18.19 y 1.2.1.18.20.",430]
["Concepto_1011",{"$f":"Listas[[#This Row],[ID]]&\" \"&IF(Listas[[#This Row],[Descripcion]]=\"\",\"\",\"- \"&Listas[[#This Row],[Descripcion]])","v":"8406 - Deducción por deterioro (provisión general) de cartera de dudoso o difícil cobro. E.T.,art.145, DUR 1625 de 2016 art.1.2.1.18.21."},"8406","Deducción por deterioro (provisión general) de cartera de dudoso o difícil cobro. E.T.,art.145, DUR 1625 de 2016 art.1.2.1.18.21.",431]
["Concepto_1011",{"$f":"Listas[[#This Row],[ID]]&\" \"&IF(Listas[[#This Row],[Descripcion]]=\"\",\"\",\"- \"&Listas[[#This Row],[Descripcion]])","v":"8407 - Deducción por inversiones realizadas en investigación, desarrollo tecnológico e innovación. E.T., art.158-1, inc. 1"},"8407","Deducción por inversiones realizadas en investigación, desarrollo tecnológico e innovación. E.T., art.158-1, inc. 1",432]
["Concepto_1011",{"$f":"Listas[[#This Row],[ID]]&\" \"&IF(Listas[[#This Row],[Descripcion]]=\"\",\"\",\"- \"&Listas[[#This Row],[Descripcion]])","v":"8408 - Deducción por donaciones recibidas por el Fondo Nacional de Financiamiento para la Ciencia, la Tecnología y la Innovación, Fondo Francisco José de Caldas, destinadas al financiamiento de Programas y/o Proyectos de Ciencia, Tecnología e Innovación. E.T. art. 158-1, inc. 2, num. ii, modificado L.1955 de 2019, art.170."},"8408","Deducción por donaciones recibidas por el Fondo Nacional de Financiamiento para la Ciencia, la Tecnología y la Innovación, Fondo Francisco José de Caldas, destinadas al financiamiento de Programas y/o Proyectos de Ciencia, Tecnología e Innovación. E.T. art. 158-1, inc. 2, num. ii, modificado L.1955 de 2019, art.170.",433]
["Concepto_1011",{"$f":"Listas[[#This Row],[ID]]&\" \"&IF(Listas[[#This Row],[Descripcion]]=\"\",\"\",\"- \"&Listas[[#This Row],[Descripcion]])","v":"8409 - Deducción por remuneración correspondiente a la vinculación de personal con título de doctorado en las empresas contribuyentes de renta, E.T., art. 158-1, inc 2, num. iii, modificado L.1955 de 2019, art.170."},"8409","Deducción por remuneración correspondiente a la vinculación de personal con título de doctorado en las empresas contribuyentes de renta, E.T., art. 158-1, inc 2, num. iii, modificado L.1955 de 2019, art.170.",434]
["Concepto_1011",{"$f":"Listas[[#This Row],[ID]]&\" \"&IF(Listas[[#This Row],[Descripcion]]=\"\",\"\",\"- \"&Listas[[#This Row],[Descripcion]])","v":"8410 - Deducción por donaciones recibidas por intermedio del Icetex, dirigidas a programas de becas que financien la formación y educación de quienes ingresen a la Fuerza Pública. E.T., art. 158-1, inc. 2, num. iv, adicionado L.2130 del 2021, art.2."},"8410","Deducción por donaciones recibidas por intermedio del Icetex, dirigidas a programas de becas que financien la formación y educación de quienes ingresen a la Fuerza Pública. E.T., art. 158-1, inc. 2, num. iv, adicionado L.2130 del 2021, art.2.",435]
["Concepto_1011",{"$f":"Listas[[#This Row],[ID]]&\" \"&IF(Listas[[#This Row],[Descripcion]]=\"\",\"\",\"- \"&Listas[[#This Row],[Descripcion]])","v":"8411 - Deducción por donaciones realizadas a la agencia de emprendimiento e innovación del Gobierno Nacional iNNpulsa, E.T., art. 158-1, Inc. 3, adicionado L.2069 del 2020, art.40."},"8411","Deducción por donaciones realizadas a la agencia de emprendimiento e innovación del Gobierno Nacional iNNpulsa, E.T., art. 158-1, Inc. 3, adicionado L.2069 del 2020, art.40.",436]
["Concepto_1011",{"$f":"Listas[[#This Row],[ID]]&\" \"&IF(Listas[[#This Row],[Descripcion]]=\"\",\"\",\"- \"&Listas[[#This Row],[Descripcion]])","v":"8412 - Depreciación especial aplicada por contribuyentes del régimen de Mega-inversiones que realicen nuevas inversiones. E.T. art.235-3, num.2."},"8412","Depreciación especial aplicada por contribuyentes del régimen de Mega-inversiones que realicen nuevas inversiones. E.T. art.235-3, num.2.",437]
["Concepto_1011",{"$f":"Listas[[#This Row],[ID]]&\" \"&IF(Listas[[#This Row],[Descripcion]]=\"\",\"\",\"- \"&Listas[[#This Row],[Descripcion]])","v":"8413 - Deducción por provisiones de cartera hipotecaria de dudoso o difícil cobro. DUR 1625 de 2016 art.1.2.1.18.26."},"8413","Deducción por provisiones de cartera hipotecaria de dudoso o difícil cobro. DUR 1625 de 2016 art.1.2.1.18.26.",438]
["Concepto_1011",{"$f":"Listas[[#This Row],[ID]]&\" \"&IF(Listas[[#This Row],[Descripcion]]=\"\",\"\",\"- \"&Listas[[#This Row],[Descripcion]])","v":"8414 - Deducción deterioro de cartera de Entidades Promotoras de Salud -EPS en liquidación forzosa intervenidas por la Superintendencia Nacional de Salud. L. 1819/2016, art.375,modificado por L. 2010/ 2019, art.97"},"8414","Deducción deterioro de cartera de Entidades Promotoras de Salud -EPS en liquidación forzosa intervenidas por la Superintendencia Nacional de Salud. L. 1819/2016, art.375,modificado por L. 2010/ 2019, art.97",439]
["Concepto_1011",{"$f":"Listas[[#This Row],[ID]]&\" \"&IF(Listas[[#This Row],[Descripcion]]=\"\",\"\",\"- \"&Listas[[#This Row],[Descripcion]])","v":"8415 - Deducción deterioro de cartera de dudoso o difícil cobro E.T. art. 145. Par. 1."},"8415","Deducción deterioro de cartera de dudoso o difícil cobro E.T. art. 145. Par. 1.",440]
["Concepto_1011",{"$f":"Listas[[#This Row],[ID]]&\" \"&IF(Listas[[#This Row],[Descripcion]]=\"\",\"\",\"- \"&Listas[[#This Row],[Descripcion]])","v":"9001 - Exclusión de IVA por venta de materias primas químicas con destinación específica. E.T., art. 424, num. 1."},"9001","Exclusión de IVA por venta de materias primas químicas con destinación específica. E.T., art. 424, num. 1.",441]
["Concepto_1011",{"$f":"Listas[[#This Row],[ID]]&\" \"&IF(Listas[[#This Row],[Descripcion]]=\"\",\"\",\"- \"&Listas[[#This Row],[Descripcion]])","v":"9002 - Exclusión de IVA por venta de materias primas destinadas a la producción de vacunas. Num 2 Art. 424 E.T."},"9002","Exclusión de IVA por venta de materias primas destinadas a la producción de vacunas. Num 2 Art. 424 E.T.",442]
["Concepto_1011",{"$f":"Listas[[#This Row],[ID]]&\" \"&IF(Listas[[#This Row],[Descripcion]]=\"\",\"\",\"- \"&Listas[[#This Row],[Descripcion]])","v":"9003 - Exclusión de IVA por venta de computadores personales. E.T., art. 424, num. 3, modificado L.1819/2016, art.175, num. 5."},"9003","Exclusión de IVA por venta de computadores personales. E.T., art. 424, num. 3, modificado L.1819/2016, art.175, num. 5.",443]
["Concepto_1011",{"$f":"Listas[[#This Row],[ID]]&\" \"&IF(Listas[[#This Row],[Descripcion]]=\"\",\"\",\"- \"&Listas[[#This Row],[Descripcion]])","v":"9004 - Exclusión de IVA por venta de anticonceptivos femeninos. E.T., art.424, num.4. "},"9004","Exclusión de IVA por venta de anticonceptivos femeninos. E.T., art.424, num.4. ",444]
["Concepto_1011",{"$f":"Listas[[#This Row],[ID]]&\" \"&IF(Listas[[#This Row],[Descripcion]]=\"\",\"\",\"- \"&Listas[[#This Row],[Descripcion]])","v":"9007 - Exclusión de IVA por venta de equipos, entre otros, para construcción, instalación, montaje y operación de sistemas de control y monitoreo ambiental. E.T., art. 424, num. 7. "},"9007","Exclusión de IVA por venta de equipos, entre otros, para construcción, instalación, montaje y operación de sistemas de control y monitoreo ambiental. E.T., art. 424, num. 7. ",445]
["Concepto_1011",{"$f":"Listas[[#This Row],[ID]]&\" \"&IF(Listas[[#This Row],[Descripcion]]=\"\",\"\",\"- \"&Listas[[#This Row],[Descripcion]])","v":"9008 - Exclusión de IVA por venta de dispositivos móviles inteligentes. E.T., art. 424, num.6."},"9008","Exclusión de IVA por venta de dispositivos móviles inteligentes. E.T., art. 424, num.6.",446]
["Concepto_1011",{"$f":"Listas[[#This Row],[ID]]&\" \"&IF(Listas[[#This Row],[Descripcion]]=\"\",\"\",\"- \"&Listas[[#This Row],[Descripcion]])","v":"9009 - Exclusión de IVA por donaciones de alimentos de consumo humano a Bancos de Alimentos. E.T., art. 424, num.9"},"9009","Exclusión de IVA por donaciones de alimentos de consumo humano a Bancos de Alimentos. E.T., art. 424, num.9",447]
["Concepto_1011",{"$f":"Listas[[#This Row],[ID]]&\" \"&IF(Listas[[#This Row],[Descripcion]]=\"\",\"\",\"- \"&Listas[[#This Row],[Descripcion]])","v":"9012 - Exclusiones de IVA por venta de objetos con interés artístico, cultural e histórico. E.T., art. 424, num. 13, modificado L. 1819/2016, art. 175, num. 11  "},"9012","Exclusiones de IVA por venta de objetos con interés artístico, cultural e histórico. E.T., art. 424, num. 13, modificado L. 1819/2016, art. 175, num. 11  ",448]
["Concepto_1011",{"$f":"Listas[[#This Row],[ID]]&\" \"&IF(Listas[[#This Row],[Descripcion]]=\"\",\"\",\"- \"&Listas[[#This Row],[Descripcion]])","v":"9013 - Exclusiones de IVA por venta de combustible para aviación para el servicio de transporte aéreo nacional con origen y destino a Guainía, Amazonas, Vaupés, San Andrés Islas y Providencia, Arauca y Vichada. E.T., art. 424, num 14"},"9013","Exclusiones de IVA por venta de combustible para aviación para el servicio de transporte aéreo nacional con origen y destino a Guainía, Amazonas, Vaupés, San Andrés Islas y Providencia, Arauca y Vichada. E.T., art. 424, num 14",449]
["Concepto_1011",{"$f":"Listas[[#This Row],[ID]]&\" \"&IF(Listas[[#This Row],[Descripcion]]=\"\",\"\",\"- \"&Listas[[#This Row],[Descripcion]])","v":"9014 - Exclusiones de IVA en la venta de pólizas de seguros de carácter individual. E.T., art. 427. E.T."},"9014","Exclusiones de IVA en la venta de pólizas de seguros de carácter individual. E.T., art. 427. E.T.",450]
["Concepto_1011",{"$f":"Listas[[#This Row],[ID]]&\" \"&IF(Listas[[#This Row],[Descripcion]]=\"\",\"\",\"- \"&Listas[[#This Row],[Descripcion]])","v":"9015 - Exclusión de IVA en la venta de equipos, entre otros, para fuentes de energía no convencionales. Art. 12 Ley 1715 de 2014."},"9015","Exclusión de IVA en la venta de equipos, entre otros, para fuentes de energía no convencionales. Art. 12 Ley 1715 de 2014.",451]
["Concepto_1011",{"$f":"Listas[[#This Row],[ID]]&\" \"&IF(Listas[[#This Row],[Descripcion]]=\"\",\"\",\"- \"&Listas[[#This Row],[Descripcion]])","v":"9016 - Exclusión de IVA por venta de servicios médicos odontológicos, entre otros. E.T., art. 476, num. 1.  Art. 476 E.T."},"9016","Exclusión de IVA por venta de servicios médicos odontológicos, entre otros. E.T., art. 476, num. 1.  Art. 476 E.T.",452]
["Concepto_1011",{"$f":"Listas[[#This Row],[ID]]&\" \"&IF(Listas[[#This Row],[Descripcion]]=\"\",\"\",\"- \"&Listas[[#This Row],[Descripcion]])","v":"9017 - Exclusión de IVA por venta de servicios de transporte. E.T., art. 476, num. 9."},"9017","Exclusión de IVA por venta de servicios de transporte. E.T., art. 476, num. 9.",453]
["Concepto_1011",{"$f":"Listas[[#This Row],[ID]]&\" \"&IF(Listas[[#This Row],[Descripcion]]=\"\",\"\",\"- \"&Listas[[#This Row],[Descripcion]])","v":"9018 - Exclusión en IVA en intereses y rendimientos financieros por operaciones de crédito, E.T., art. 476, num. 16."},"9018","Exclusión en IVA en intereses y rendimientos financieros por operaciones de crédito, E.T., art. 476, num. 16.",454]
["Concepto_1011",{"$f":"Listas[[#This Row],[ID]]&\" \"&IF(Listas[[#This Row],[Descripcion]]=\"\",\"\",\"- \"&Listas[[#This Row],[Descripcion]])","v":"9019 - Exclusión de IVA en venta de servicios públicos. E.T., art. 476, numerales 11, 12, 13."},"9019","Exclusión de IVA en venta de servicios públicos. E.T., art. 476, numerales 11, 12, 13.",455]
["Concepto_1011",{"$f":"Listas[[#This Row],[ID]]&\" \"&IF(Listas[[#This Row],[Descripcion]]=\"\",\"\",\"- \"&Listas[[#This Row],[Descripcion]])","v":"9020 - Exclusión de IVA en venta de servicio de arrendamiento. E.T., art. 476, num. 15."},"9020","Exclusión de IVA en venta de servicio de arrendamiento. E.T., art. 476, num. 15.",456]
["Concepto_1011",{"$f":"Listas[[#This Row],[ID]]&\" \"&IF(Listas[[#This Row],[Descripcion]]=\"\",\"\",\"- \"&Listas[[#This Row],[Descripcion]])","v":"9021 - Exclusión de IVA en venta de servicios de educación. E.T., art. 476, num.5"},"9021","Exclusión de IVA en venta de servicios de educación. E.T., art. 476, num.5",457]
["Concepto_1011",{"$f":"Listas[[#This Row],[ID]]&\" \"&IF(Listas[[#This Row],[Descripcion]]=\"\",\"\",\"- \"&Listas[[#This Row],[Descripcion]])","v":"9023 - Exclusión de IVA en venta de planes obligatorios de salud, ahorro individual, riesgos laborales y servicios de seguros y reaseguros. E.T., art. 476, num. 3."},"9023","Exclusión de IVA en venta de planes obligatorios de salud, ahorro individual, riesgos laborales y servicios de seguros y reaseguros. E.T., art. 476, num. 3.",458]
["Concepto_1011",{"$f":"Listas[[#This Row],[ID]]&\" \"&IF(Listas[[#This Row],[Descripcion]]=\"\",\"\",\"- \"&Listas[[#This Row],[Descripcion]])","v":"9024 - Exclusión de IVA en comercialización de animales vivos y servicio de faenamiento. E.T., art. 476, num. 25"},"9024","Exclusión de IVA en comercialización de animales vivos y servicio de faenamiento. E.T., art. 476, num. 25",459]
["Concepto_1011",{"$f":"Listas[[#This Row],[ID]]&\" \"&IF(Listas[[#This Row],[Descripcion]]=\"\",\"\",\"- \"&Listas[[#This Row],[Descripcion]])","v":"9025 - Exclusión de IVA en servicios de promoción y fomento deportivo. E.T., art. 476, num.  29."},"9025","Exclusión de IVA en servicios de promoción y fomento deportivo. E.T., art. 476, num.  29.",460]
["Concepto_1011",{"$f":"Listas[[#This Row],[ID]]&\" \"&IF(Listas[[#This Row],[Descripcion]]=\"\",\"\",\"- \"&Listas[[#This Row],[Descripcion]])","v":"9026 - Exclusión de IVA en cine, en eventos y espectáculos. E.T., art. 476, num. 18"},"9026","Exclusión de IVA en cine, en eventos y espectáculos. E.T., art. 476, num. 18",461]
["Concepto_1011",{"$f":"Listas[[#This Row],[ID]]&\" \"&IF(Listas[[#This Row],[Descripcion]]=\"\",\"\",\"- \"&Listas[[#This Row],[Descripcion]])","v":"9027 - Exclusión de IVA en venta de servicios de adecuación de tierras, producción agropecuaria y pesquera. E.T., art. 476, num. 24"},"9027","Exclusión de IVA en venta de servicios de adecuación de tierras, producción agropecuaria y pesquera. E.T., art. 476, num. 24",462]
["Concepto_1011",{"$f":"Listas[[#This Row],[ID]]&\" \"&IF(Listas[[#This Row],[Descripcion]]=\"\",\"\",\"- \"&Listas[[#This Row],[Descripcion]])","v":"9028 - Exclusión de IVA comisiones pagadas en procesos de titularización de activos. E.T., art. 476, num. 22"},"9028","Exclusión de IVA comisiones pagadas en procesos de titularización de activos. E.T., art. 476, num. 22",463]
["Concepto_1011",{"$f":"Listas[[#This Row],[ID]]&\" \"&IF(Listas[[#This Row],[Descripcion]]=\"\",\"\",\"- \"&Listas[[#This Row],[Descripcion]])","v":"9029 - Exclusión de IVA en servicios funerarios, cremación, inhumación y exhumación E.T., art. 476, num. 19."},"9029","Exclusión de IVA en servicios funerarios, cremación, inhumación y exhumación E.T., art. 476, num. 19.",464]
["Concepto_1011",{"$f":"Listas[[#This Row],[ID]]&\" \"&IF(Listas[[#This Row],[Descripcion]]=\"\",\"\",\"- \"&Listas[[#This Row],[Descripcion]])","v":"9030 - Exclusión de IVA en servicios de conexión y acceso a Internet estrato 3. E.T., art. 476, num 7. "},"9030","Exclusión de IVA en servicios de conexión y acceso a Internet estrato 3. E.T., art. 476, num 7. ",465]
["Concepto_1011",{"$f":"Listas[[#This Row],[ID]]&\" \"&IF(Listas[[#This Row],[Descripcion]]=\"\",\"\",\"- \"&Listas[[#This Row],[Descripcion]])","v":"9031 - Exclusión de IVA en comisiones por intermediación por la colocación de los planes de salud del sistema general de seguridad social. E.T., art. 476, num. 4"},"9031","Exclusión de IVA en comisiones por intermediación por la colocación de los planes de salud del sistema general de seguridad social. E.T., art. 476, num. 4",466]
["Concepto_1011",{"$f":"Listas[[#This Row],[ID]]&\" \"&IF(Listas[[#This Row],[Descripcion]]=\"\",\"\",\"- \"&Listas[[#This Row],[Descripcion]])","v":"9032 - Exclusión de IVA en comisiones percibidas por utilización de tarjetas crédito y débito. E.T., art. 476, num. 28"},"9032","Exclusión de IVA en comisiones percibidas por utilización de tarjetas crédito y débito. E.T., art. 476, num. 28",467]
["Concepto_1011",{"$f":"Listas[[#This Row],[ID]]&\" \"&IF(Listas[[#This Row],[Descripcion]]=\"\",\"\",\"- \"&Listas[[#This Row],[Descripcion]])","v":"9033 - Exclusión de IVA en servicios de alimentación contratados con recursos públicos y destinados al sistema penitenciario, de asistencia social y escuelas de educación pública. E.T., art. 476, num. 14. "},"9033","Exclusión de IVA en servicios de alimentación contratados con recursos públicos y destinados al sistema penitenciario, de asistencia social y escuelas de educación pública. E.T., art. 476, num. 14. ",468]
["Concepto_1011",{"$f":"Listas[[#This Row],[ID]]&\" \"&IF(Listas[[#This Row],[Descripcion]]=\"\",\"\",\"- \"&Listas[[#This Row],[Descripcion]])","v":"9034 - Exclusión de IVA en servicios de transporte aéreo nacional donde no exista transporte terrestre organizado y hacia los demás destinos contemplados. E.T., art. 476, num. 10."},"9034","Exclusión de IVA en servicios de transporte aéreo nacional donde no exista transporte terrestre organizado y hacia los demás destinos contemplados. E.T., art. 476, num. 10.",469]
["Concepto_1011",{"$f":"Listas[[#This Row],[ID]]&\" \"&IF(Listas[[#This Row],[Descripcion]]=\"\",\"\",\"- \"&Listas[[#This Row],[Descripcion]])","v":"9035 - Exclusión de IVA en publicidad a través de periódicos y medios regionales. E.T., art. 476, num. 31"},"9035","Exclusión de IVA en publicidad a través de periódicos y medios regionales. E.T., art. 476, num. 31",470]
["Concepto_1011",{"$f":"Listas[[#This Row],[ID]]&\" \"&IF(Listas[[#This Row],[Descripcion]]=\"\",\"\",\"- \"&Listas[[#This Row],[Descripcion]])","v":"9036 - Exclusión de IVA en la venta de productos de soporte nutricional del régimen especial. E.T., art. 424, num. 3, adicionado por L. 1819/2016 art. 175"},"9036","Exclusión de IVA en la venta de productos de soporte nutricional del régimen especial. E.T., art. 424, num. 3, adicionado por L. 1819/2016 art. 175",471]
["Concepto_1011",{"$f":"Listas[[#This Row],[ID]]&\" \"&IF(Listas[[#This Row],[Descripcion]]=\"\",\"\",\"- \"&Listas[[#This Row],[Descripcion]])","v":"9037 - Exclusión de IVA en la venta de alimentos para propósitos médicos especiales para pacientes que requieren nutrición enteral. E.T., art. 424, num. 3, adicionado por L. 1819/2016 art. 175"},"9037","Exclusión de IVA en la venta de alimentos para propósitos médicos especiales para pacientes que requieren nutrición enteral. E.T., art. 424, num. 3, adicionado por L. 1819/2016 art. 175",472]
["Concepto_1011",{"$f":"Listas[[#This Row],[ID]]&\" \"&IF(Listas[[#This Row],[Descripcion]]=\"\",\"\",\"- \"&Listas[[#This Row],[Descripcion]])","v":"9038 - Exclusión de IVA en el territorio intendencia de San Andrés y Providencia. E.T., art. 423. "},"9038","Exclusión de IVA en el territorio intendencia de San Andrés y Providencia. E.T., art. 423. ",473]
["Concepto_1011",{"$f":"Listas[[#This Row],[ID]]&\" \"&IF(Listas[[#This Row],[Descripcion]]=\"\",\"\",\"- \"&Listas[[#This Row],[Descripcion]])","v":"9039 - Exclusión de IVA en la venta de alimentos de consumo humano y animales importados de países colindantes de Vichada, Guajira, Guainía y Vaupés, destinados a consumo local en el departamento. E.T., art. 424, num. 8, modificado L. 1819/2016, art. 175, num. 8 "},"9039","Exclusión de IVA en la venta de alimentos de consumo humano y animales importados de países colindantes de Vichada, Guajira, Guainía y Vaupés, destinados a consumo local en el departamento. E.T., art. 424, num. 8, modificado L. 1819/2016, art. 175, num. 8 ",474]
["Concepto_1011",{"$f":"Listas[[#This Row],[ID]]&\" \"&IF(Listas[[#This Row],[Descripcion]]=\"\",\"\",\"- \"&Listas[[#This Row],[Descripcion]])","v":"9041 - Exclusión de IVA en compraventa de maquinaria y equipos registrados en el registro nacional de reducción de emisiones de gases efecto invernadero. E.T., art. 424, num. 16, adicionado L. 1819/2016, art. 175, num. 16."},"9041","Exclusión de IVA en compraventa de maquinaria y equipos registrados en el registro nacional de reducción de emisiones de gases efecto invernadero. E.T., art. 424, num. 16, adicionado L. 1819/2016, art. 175, num. 16.",475]
["Concepto_1011",{"$f":"Listas[[#This Row],[ID]]&\" \"&IF(Listas[[#This Row],[Descripcion]]=\"\",\"\",\"- \"&Listas[[#This Row],[Descripcion]])","v":"9042 - Exclusión de IVA en el petróleo crudo recibido por la Agencia Nacional de Hidrocarburos por regalías para su respectiva monetización. E.T., art. 424, parágrafo, adicionado L. 1819/2016, art. 175."},"9042","Exclusión de IVA en el petróleo crudo recibido por la Agencia Nacional de Hidrocarburos por regalías para su respectiva monetización. E.T., art. 424, parágrafo, adicionado L. 1819/2016, art. 175.",476]
["Concepto_1011",{"$f":"Listas[[#This Row],[ID]]&\" \"&IF(Listas[[#This Row],[Descripcion]]=\"\",\"\",\"- \"&Listas[[#This Row],[Descripcion]])","v":"9043 - Exclusión de IVA en los servicios de educación virtual para el desarrollo de contenidos digitales. E.T., art. 476, num. 6, adicionado por L. 1819/2016 art. 187."},"9043","Exclusión de IVA en los servicios de educación virtual para el desarrollo de contenidos digitales. E.T., art. 476, num. 6, adicionado por L. 1819/2016 art. 187.",477]
["Concepto_1011",{"$f":"Listas[[#This Row],[ID]]&\" \"&IF(Listas[[#This Row],[Descripcion]]=\"\",\"\",\"- \"&Listas[[#This Row],[Descripcion]])","v":"9044 - Exclusión de IVA en suministro de páginas web, servidores, computadora en la nube y mantenimiento a distancia. E.T., art. 476, num. 21, adicionado por L. 1819/2016 art. 187."},"9044","Exclusión de IVA en suministro de páginas web, servidores, computadora en la nube y mantenimiento a distancia. E.T., art. 476, num. 21, adicionado por L. 1819/2016 art. 187.",478]
["Concepto_1011",{"$f":"Listas[[#This Row],[ID]]&\" \"&IF(Listas[[#This Row],[Descripcion]]=\"\",\"\",\"- \"&Listas[[#This Row],[Descripcion]])","v":"9045 - Exclusión de IVA en adquisición de licencias de software para el desarrollo comercial de contenidos digitales. E.T., art. 476, num. 20, adicionado por L. 1819/2016 art. 187."},"9045","Exclusión de IVA en adquisición de licencias de software para el desarrollo comercial de contenidos digitales. E.T., art. 476, num. 20, adicionado por L. 1819/2016 art. 187.",479]
["Concepto_1011",{"$f":"Listas[[#This Row],[ID]]&\" \"&IF(Listas[[#This Row],[Descripcion]]=\"\",\"\",\"- \"&Listas[[#This Row],[Descripcion]])","v":"9046 - Exclusión de IVA en servicios de reparación y mantenimiento de naves y artefactos marítimos y fluviales. E.T., art. 476, num. 30, adicionado por L. 1819/2016 art. 187."},"9046","Exclusión de IVA en servicios de reparación y mantenimiento de naves y artefactos marítimos y fluviales. E.T., art. 476, num. 30, adicionado por L. 1819/2016 art. 187.",480]
["Concepto_1011",{"$f":"Listas[[#This Row],[ID]]&\" \"&IF(Listas[[#This Row],[Descripcion]]=\"\",\"\",\"- \"&Listas[[#This Row],[Descripcion]])","v":"9047 - Exclusión de IVA por servicios de hotelería y turismo prestados en zonas del régimen aduanero especial de Urabá, Tumaco, Guapi, Inírida, Puerto Carreño, La Primavera y Cumaribo, Maicao, Uribía y Manaure. E.T., art. 476, num. 26 "},"9047","Exclusión de IVA por servicios de hotelería y turismo prestados en zonas del régimen aduanero especial de Urabá, Tumaco, Guapi, Inírida, Puerto Carreño, La Primavera y Cumaribo, Maicao, Uribía y Manaure. E.T., art. 476, num. 26 ",481]
["Concepto_1011",{"$f":"Listas[[#This Row],[ID]]&\" \"&IF(Listas[[#This Row],[Descripcion]]=\"\",\"\",\"- \"&Listas[[#This Row],[Descripcion]])","v":"9048 - Exclusión de IVA por operaciones cambiarias de compra y venta de divisas. E.T., art. 476, num. 27"},"9048","Exclusión de IVA por operaciones cambiarias de compra y venta de divisas. E.T., art. 476, num. 27",482]
["Concepto_1011",{"$f":"Listas[[#This Row],[ID]]&\" \"&IF(Listas[[#This Row],[Descripcion]]=\"\",\"\",\"- \"&Listas[[#This Row],[Descripcion]])","v":"9049 - Exclusión de IVA por servicios de intermediación para el pago de incentivos o transferencias monetarias condicionadas en el marco de los programas sociales. E.T., art. 476, num. 17"},"9049","Exclusión de IVA por servicios de intermediación para el pago de incentivos o transferencias monetarias condicionadas en el marco de los programas sociales. E.T., art. 476, num. 17",483]
["Concepto_1011",{"$f":"Listas[[#This Row],[ID]]&\" \"&IF(Listas[[#This Row],[Descripcion]]=\"\",\"\",\"- \"&Listas[[#This Row],[Descripcion]])","v":"9051 - Exclusión de IVA en la venta de alimentos consumo humano o animal, destinados a los departamentos de Amazonas, Guainía y Vaupés. E.T., art. 424, num. 13, adicionado L 1819/2016, art. 175, num. 13."},"9051","Exclusión de IVA en la venta de alimentos consumo humano o animal, destinados a los departamentos de Amazonas, Guainía y Vaupés. E.T., art. 424, num. 13, adicionado L 1819/2016, art. 175, num. 13.",484]
["Concepto_1011",{"$f":"Listas[[#This Row],[ID]]&\" \"&IF(Listas[[#This Row],[Descripcion]]=\"\",\"\",\"- \"&Listas[[#This Row],[Descripcion]])","v":"9052 - Exclusión de IVA en la venta de elementos de aseo, destinados a los departamentos de Amazonas, Guainía y Vaupés. E.T., art. 424, num. 13, adicionado L 1819/2016, art. 175, num. 13."},"9052","Exclusión de IVA en la venta de elementos de aseo, destinados a los departamentos de Amazonas, Guainía y Vaupés. E.T., art. 424, num. 13, adicionado L 1819/2016, art. 175, num. 13.",485]
["Concepto_1011",{"$f":"Listas[[#This Row],[ID]]&\" \"&IF(Listas[[#This Row],[Descripcion]]=\"\",\"\",\"- \"&Listas[[#This Row],[Descripcion]])","v":"9053 - Exclusión de IVA en la venta de vestuario, destinado a los departamentos de Amazonas, Guainía y Vaupés. E.T., art. 424, num. 13, adicionado L 1819/2016, art. 175, num. 13."},"9053","Exclusión de IVA en la venta de vestuario, destinado a los departamentos de Amazonas, Guainía y Vaupés. E.T., art. 424, num. 13, adicionado L 1819/2016, art. 175, num. 13.",486]
["Concepto_1011",{"$f":"Listas[[#This Row],[ID]]&\" \"&IF(Listas[[#This Row],[Descripcion]]=\"\",\"\",\"- \"&Listas[[#This Row],[Descripcion]])","v":"9054 - Exclusión de IVA en la venta de medicamentos de uso humano y veterinario, destinados a los departamentos de Amazonas, Guainía y Vaupés. E.T., art. 424, num. 13, adicionado L 1819/2016, art. 175, num. 13"},"9054","Exclusión de IVA en la venta de medicamentos de uso humano y veterinario, destinados a los departamentos de Amazonas, Guainía y Vaupés. E.T., art. 424, num. 13, adicionado L 1819/2016, art. 175, num. 13",487]
["Concepto_1011",{"$f":"Listas[[#This Row],[ID]]&\" \"&IF(Listas[[#This Row],[Descripcion]]=\"\",\"\",\"- \"&Listas[[#This Row],[Descripcion]])","v":"9055 - Exclusión de IVA en la venta de materiales de construcción destinados a los departamentos de Amazonas, Guainía y Vaupés. E.T., art. 424, num. 13, adicionado L 1819/2016, art. 175, num. 13."},"9055","Exclusión de IVA en la venta de materiales de construcción destinados a los departamentos de Amazonas, Guainía y Vaupés. E.T., art. 424, num. 13, adicionado L 1819/2016, art. 175, num. 13.",488]
["Concepto_1011",{"$f":"Listas[[#This Row],[ID]]&\" \"&IF(Listas[[#This Row],[Descripcion]]=\"\",\"\",\"- \"&Listas[[#This Row],[Descripcion]])","v":"9056 - Exclusión de IVA en la venta de bicicletas, bicicletas eléctricas, motos eléctricas, patines, monopatines, monopatines eléctricos, patinetas, y patinetas eléctricas, de hasta 50 UVT. E.T., art. 424, num 17."},"9056","Exclusión de IVA en la venta de bicicletas, bicicletas eléctricas, motos eléctricas, patines, monopatines, monopatines eléctricos, patinetas, y patinetas eléctricas, de hasta 50 UVT. E.T., art. 424, num 17.",489]
["Concepto_1011",{"$f":"Listas[[#This Row],[ID]]&\" \"&IF(Listas[[#This Row],[Descripcion]]=\"\",\"\",\"- \"&Listas[[#This Row],[Descripcion]])","v":"9057 - Exclusión de IVA en la venta de bienes facturados por los comerciantes definidos en el parágrafo 2 del artículo 34 de la Ley 98 de 1993. E.T., art. 424, num 18"},"9057","Exclusión de IVA en la venta de bienes facturados por los comerciantes definidos en el parágrafo 2 del artículo 34 de la Ley 98 de 1993. E.T., art. 424, num 18",490]
["Concepto_1011",{"$f":"Listas[[#This Row],[ID]]&\" \"&IF(Listas[[#This Row],[Descripcion]]=\"\",\"\",\"- \"&Listas[[#This Row],[Descripcion]])","v":"9058 - Exclusión de IVA en la venta de productos comprados o introducidos al Amazonas en el marco del convenio Colombo-Peruano y el convenio con la República Federativa del Brasil. E.T., art. 424, num 15"},"9058","Exclusión de IVA en la venta de productos comprados o introducidos al Amazonas en el marco del convenio Colombo-Peruano y el convenio con la República Federativa del Brasil. E.T., art. 424, num 15",491]
["Concepto_1011",{"$f":"Listas[[#This Row],[ID]]&\" \"&IF(Listas[[#This Row],[Descripcion]]=\"\",\"\",\"- \"&Listas[[#This Row],[Descripcion]])","v":"9059 - Exclusión de IVA en servicios de administración de fondos del Estado y los servicios vinculados con la seguridad social de acuerdo con lo previsto en la Ley 100 de 1993, E.T., art. 476, num. 2"},"9059","Exclusión de IVA en servicios de administración de fondos del Estado y los servicios vinculados con la seguridad social de acuerdo con lo previsto en la Ley 100 de 1993, E.T., art. 476, num. 2",492]
["Concepto_1011",{"$f":"Listas[[#This Row],[ID]]&\" \"&IF(Listas[[#This Row],[Descripcion]]=\"\",\"\",\"- \"&Listas[[#This Row],[Descripcion]])","v":"9060 - Exclusión de IVA, primeros trescientos veinticinco (325) minutos mensuales del servicio telefónico local facturado a los usuarios estratos 1, 2 y 3 y servicio prestado desde teléfonos públicos, E.T., art. 476, num. 8"},"9060","Exclusión de IVA, primeros trescientos veinticinco (325) minutos mensuales del servicio telefónico local facturado a los usuarios estratos 1, 2 y 3 y servicio prestado desde teléfonos públicos, E.T., art. 476, num. 8",493]
["Concepto_1011",{"$f":"Listas[[#This Row],[ID]]&\" \"&IF(Listas[[#This Row],[Descripcion]]=\"\",\"\",\"- \"&Listas[[#This Row],[Descripcion]])","v":"9061 - Exclusión de IVA en comisiones percibidas por la administración de fondos de inversión colectiva, E.T., art. 476, num. 23."},"9061","Exclusión de IVA en comisiones percibidas por la administración de fondos de inversión colectiva, E.T., art. 476, num. 23.",494]
["Concepto_1011",{"$f":"Listas[[#This Row],[ID]]&\" \"&IF(Listas[[#This Row],[Descripcion]]=\"\",\"\",\"- \"&Listas[[#This Row],[Descripcion]])","v":"9062 - Exclusión de IVA en servicios de corretaje de contratos de reaseguros, E.T., art. 476, num.32"},"9062","Exclusión de IVA en servicios de corretaje de contratos de reaseguros, E.T., art. 476, num.32",495]
["Concepto_1011",{"$f":"Listas[[#This Row],[ID]]&\" \"&IF(Listas[[#This Row],[Descripcion]]=\"\",\"\",\"- \"&Listas[[#This Row],[Descripcion]])","v":"9063 - Exclusión transitoria IVA en la venta de materias primas químicas (nacionales e importadas) para la producción de medicamentos, Decreto 789 de 2020, art. 1."},"9063","Exclusión transitoria IVA en la venta de materias primas químicas (nacionales e importadas) para la producción de medicamentos, Decreto 789 de 2020, art. 1.",496]
["Concepto_1011",{"$f":"Listas[[#This Row],[ID]]&\" \"&IF(Listas[[#This Row],[Descripcion]]=\"\",\"\",\"- \"&Listas[[#This Row],[Descripcion]])","v":"9065 - Exclusión de IVA en los servicios prestados a la ONU y a las entidades multilaterales de crédito, de acuerdo con los convenios ratificados por Colombia. Reglamentación Dec. 2076/1992, art. 21"},"9065","Exclusión de IVA en los servicios prestados a la ONU y a las entidades multilaterales de crédito, de acuerdo con los convenios ratificados por Colombia. Reglamentación Dec. 2076/1992, art. 21",497]
["Concepto_1011",{"$f":"Listas[[#This Row],[ID]]&\" \"&IF(Listas[[#This Row],[Descripcion]]=\"\",\"\",\"- \"&Listas[[#This Row],[Descripcion]])","v":"9066 - Exclusión de IVA en venta de chatarra de las subpartidas 72.04, 74.04 y 76.02. cuando no intervenga como enajenante o adquiriente una siderúrgica. Art.437-4 E.T., Art.1.3.2.1.9. Decreto 1625 de 2016"},"9066","Exclusión de IVA en venta de chatarra de las subpartidas 72.04, 74.04 y 76.02. cuando no intervenga como enajenante o adquiriente una siderúrgica. Art.437-4 E.T., Art.1.3.2.1.9. Decreto 1625 de 2016",498]
["Concepto_1011",{"$f":"Listas[[#This Row],[ID]]&\" \"&IF(Listas[[#This Row],[Descripcion]]=\"\",\"\",\"- \"&Listas[[#This Row],[Descripcion]])","v":"9067 - Exclusión del IVA por la venta de bienes de diferentes partidas arancelarias que inician con la partida 01.03 y termina con la subpartida 96.09.10.00.00, contempladas en el inciso 1 del art. 424 E.T."},"9067","Exclusión del IVA por la venta de bienes de diferentes partidas arancelarias que inician con la partida 01.03 y termina con la subpartida 96.09.10.00.00, contempladas en el inciso 1 del art. 424 E.T.",499]
["Concepto_1011",{"$f":"Listas[[#This Row],[ID]]&\" \"&IF(Listas[[#This Row],[Descripcion]]=\"\",\"\",\"- \"&Listas[[#This Row],[Descripcion]])","v":"9068 - Exclusión de IVA servicios artísticos prestados para la realización de producciones audiovisuales de espectáculos públicos de las artes escénicas. Artículo 3 Decreto Legislativo 818 de 2020"},"9068","Exclusión de IVA servicios artísticos prestados para la realización de producciones audiovisuales de espectáculos públicos de las artes escénicas. Artículo 3 Decreto Legislativo 818 de 2020",500]
["Concepto_1011",{"$f":"Listas[[#This Row],[ID]]&\" \"&IF(Listas[[#This Row],[Descripcion]]=\"\",\"\",\"- \"&Listas[[#This Row],[Descripcion]])","v":"9069 - Exclusión de IVA por venta de bienes inmuebles numeral 12 Artículo 424 E.T"},"9069","Exclusión de IVA por venta de bienes inmuebles numeral 12 Artículo 424 E.T",501]
["Concepto_1011",{"$f":"Listas[[#This Row],[ID]]&\" \"&IF(Listas[[#This Row],[Descripcion]]=\"\",\"\",\"- \"&Listas[[#This Row],[Descripcion]])","v":"9100 - Tarifa del 5% venta de servicios de almacenamiento y comisiones productos agrícolas. E.T., art. 468-3, num. 1,"},"9100","Tarifa del 5% venta de servicios de almacenamiento y comisiones productos agrícolas. E.T., art. 468-3, num. 1,",502]
["Concepto_1011",{"$f":"Listas[[#This Row],[ID]]&\" \"&IF(Listas[[#This Row],[Descripcion]]=\"\",\"\",\"- \"&Listas[[#This Row],[Descripcion]])","v":"9101 - Tarifa del 5% por venta de seguro agropecuario. E.T., art. 468-3, num. 2."},"9101","Tarifa del 5% por venta de seguro agropecuario. E.T., art. 468-3, num. 2.",503]
["Concepto_1011",{"$f":"Listas[[#This Row],[ID]]&\" \"&IF(Listas[[#This Row],[Descripcion]]=\"\",\"\",\"- \"&Listas[[#This Row],[Descripcion]])","v":"9102 - Tarifa del 5% por venta de servicios prestados mediante entidades del Num. 1 Art. 19 E.T., con discapacidad. E.T., art. 468-3, num. 4, modificado por L. 1819/2016, art. 186."},"9102","Tarifa del 5% por venta de servicios prestados mediante entidades del Num. 1 Art. 19 E.T., con discapacidad. E.T., art. 468-3, num. 4, modificado por L. 1819/2016, art. 186.",504]
["Concepto_1011",{"$f":"Listas[[#This Row],[ID]]&\" \"&IF(Listas[[#This Row],[Descripcion]]=\"\",\"\",\"- \"&Listas[[#This Row],[Descripcion]])","v":"9103 - Tarifa de 5% en venta de servicios de medicina prepagada y pólizas relacionadas. E.T., art. 468-3, num. 3,"},"9103","Tarifa de 5% en venta de servicios de medicina prepagada y pólizas relacionadas. E.T., art. 468-3, num. 3,",505]
["Concepto_1011",{"$f":"Listas[[#This Row],[ID]]&\" \"&IF(Listas[[#This Row],[Descripcion]]=\"\",\"\",\"- \"&Listas[[#This Row],[Descripcion]])","v":"9105 - Tarifa del 5% en venta de bienes sujetos a participación o impuesto al consumo de licores, vinos, aperitivos y similares del art. 202 L. 223/1995. E.T., art. 468-1, num. 2, adicionado L. 1819/2016, art. 185, num. 2."},"9105","Tarifa del 5% en venta de bienes sujetos a participación o impuesto al consumo de licores, vinos, aperitivos y similares del art. 202 L. 223/1995. E.T., art. 468-1, num. 2, adicionado L. 1819/2016, art. 185, num. 2.",506]
["Concepto_1011",{"$f":"Listas[[#This Row],[ID]]&\" \"&IF(Listas[[#This Row],[Descripcion]]=\"\",\"\",\"- \"&Listas[[#This Row],[Descripcion]])","v":"9106 - Tarifa del 5% en las neveras nuevas para sustitución, sujetas al reglamento técnico de etiquetado (RETIQ). E.T., art. 468-1, num. 3, adicionado L. 1819/2016, art. 185, num.3."},"9106","Tarifa del 5% en las neveras nuevas para sustitución, sujetas al reglamento técnico de etiquetado (RETIQ). E.T., art. 468-1, num. 3, adicionado L. 1819/2016, art. 185, num.3.",507]
["Concepto_1011",{"$f":"Listas[[#This Row],[ID]]&\" \"&IF(Listas[[#This Row],[Descripcion]]=\"\",\"\",\"- \"&Listas[[#This Row],[Descripcion]])","v":"9107 - Tarifa del 5%.  El ingreso al productor en la venta de Gasolina y ACPM. E.T. Numeral 4 art. 468-1 del Art. 174 Ley 1955 de 2019."},"9107","Tarifa del 5%.  El ingreso al productor en la venta de Gasolina y ACPM. E.T. Numeral 4 art. 468-1 del Art. 174 Ley 1955 de 2019.",508]
["Concepto_1011",{"$f":"Listas[[#This Row],[ID]]&\" \"&IF(Listas[[#This Row],[Descripcion]]=\"\",\"\",\"- \"&Listas[[#This Row],[Descripcion]])","v":"9108 - Tarifa del 5% por venta de gasolina de aviación Jet A1 y/o gasolina de aviación 100/130 nacionales. Decreto Legislativo 575 de 2020, art. 12"},"9108","Tarifa del 5% por venta de gasolina de aviación Jet A1 y/o gasolina de aviación 100/130 nacionales. Decreto Legislativo 575 de 2020, art. 12",509]
["Concepto_1011",{"$f":"Listas[[#This Row],[ID]]&\" \"&IF(Listas[[#This Row],[Descripcion]]=\"\",\"\",\"- \"&Listas[[#This Row],[Descripcion]])","v":"9109 - Tarifa del 5% en el transporte aéreo de pasajeros. Decreto Legislativo 575 de 2020, art. 13."},"9109","Tarifa del 5% en el transporte aéreo de pasajeros. Decreto Legislativo 575 de 2020, art. 13.",510]
["Concepto_1011",{"$f":"Listas[[#This Row],[ID]]&\" \"&IF(Listas[[#This Row],[Descripcion]]=\"\",\"\",\"- \"&Listas[[#This Row],[Descripcion]])","v":"9110 - Tarifa del 5% en la venta de bienes de las partidas que inician desde la 09.01. y termina en la partida 90.32., contemplados en el inciso 1 del artículo 468-1 E.T.."},"9110","Tarifa del 5% en la venta de bienes de las partidas que inician desde la 09.01. y termina en la partida 90.32., contemplados en el inciso 1 del artículo 468-1 E.T..",511]
["Concepto_1011",{"$f":"Listas[[#This Row],[ID]]&\" \"&IF(Listas[[#This Row],[Descripcion]]=\"\",\"\",\"- \"&Listas[[#This Row],[Descripcion]])","v":"9111 - Tarifa del 5% hasta el 31 de diciembre de 2022 en la venta de tiquetes aéreos de pasajeros, servicios conexos y la tarifa administrativa asociada a la comercialización de los mismos. L.2068 de 2020, art. 43"},"9111","Tarifa del 5% hasta el 31 de diciembre de 2022 en la venta de tiquetes aéreos de pasajeros, servicios conexos y la tarifa administrativa asociada a la comercialización de los mismos. L.2068 de 2020, art. 43",512]
["Concepto_1011",{"$f":"Listas[[#This Row],[ID]]&\" \"&IF(Listas[[#This Row],[Descripcion]]=\"\",\"\",\"- \"&Listas[[#This Row],[Descripcion]])","v":"9200 - Exención de IVA en venta de alcohol carburante. E.T., art. 477, num. 1. "},"9200","Exención de IVA en venta de alcohol carburante. E.T., art. 477, num. 1. ",513]
["Concepto_1011",{"$f":"Listas[[#This Row],[ID]]&\" \"&IF(Listas[[#This Row],[Descripcion]]=\"\",\"\",\"- \"&Listas[[#This Row],[Descripcion]])","v":"9202 - Exención de IVA venta de libros y revistas de carácter científico y cultural. E.T., art. 478."},"9202","Exención de IVA venta de libros y revistas de carácter científico y cultural. E.T., art. 478.",514]
["Concepto_1011",{"$f":"Listas[[#This Row],[ID]]&\" \"&IF(Listas[[#This Row],[Descripcion]]=\"\",\"\",\"- \"&Listas[[#This Row],[Descripcion]])","v":"9203 - Exención de IVA por prestación servicios en el país utilizados en el exterior. E.T., art. 481, lit. c."},"9203","Exención de IVA por prestación servicios en el país utilizados en el exterior. E.T., art. 481, lit. c.",515]
["Concepto_1011",{"$f":"Listas[[#This Row],[ID]]&\" \"&IF(Listas[[#This Row],[Descripcion]]=\"\",\"\",\"- \"&Listas[[#This Row],[Descripcion]])","v":"9204 - Exención de IVA por prestación de servicios turísticos a extranjeros en el territorio colombiano. E.T., art. 481, lit. d."},"9204","Exención de IVA por prestación de servicios turísticos a extranjeros en el territorio colombiano. E.T., art. 481, lit. d.",516]
["Concepto_1011",{"$f":"Listas[[#This Row],[ID]]&\" \"&IF(Listas[[#This Row],[Descripcion]]=\"\",\"\",\"- \"&Listas[[#This Row],[Descripcion]])","v":"9205 - Exención de IVA por cuadernos subpartida 48.20.20.00.00, diarios, publicaciones periódicas, impresos, demás subpartida 49.02. E.T., art. 481, lit. f."},"9205","Exención de IVA por cuadernos subpartida 48.20.20.00.00, diarios, publicaciones periódicas, impresos, demás subpartida 49.02. E.T., art. 481, lit. f.",517]
["Concepto_1011",{"$f":"Listas[[#This Row],[ID]]&\" \"&IF(Listas[[#This Row],[Descripcion]]=\"\",\"\",\"- \"&Listas[[#This Row],[Descripcion]])","v":"9206 - Exención de IVA por servicio de conexión estrato 1 y 2. E.T., art. 481, lit. h."},"9206","Exención de IVA por servicio de conexión estrato 1 y 2. E.T., art. 481, lit. h.",518]
["Concepto_1011",{"$f":"Listas[[#This Row],[ID]]&\" \"&IF(Listas[[#This Row],[Descripcion]]=\"\",\"\",\"- \"&Listas[[#This Row],[Descripcion]])","v":"9207 - Exención de IVA en venta de municiones y material de guerra y elementos pertenecientes a Fuerzas Militares y Policía Nacional. E.T., art. 477, num. 3."},"9207","Exención de IVA en venta de municiones y material de guerra y elementos pertenecientes a Fuerzas Militares y Policía Nacional. E.T., art. 477, num. 3.",519]
["Concepto_1011",{"$f":"Listas[[#This Row],[ID]]&\" \"&IF(Listas[[#This Row],[Descripcion]]=\"\",\"\",\"- \"&Listas[[#This Row],[Descripcion]])","v":"9208 - Exención de IVA en la venta de vehículos automotores de transporte público de pasajeros completos y el chasis con motor y la carrocería adquiridos individualmente para conformar un vehículo automotor completo nuevo, de transporte público de pasajeros. E.T., art. 477, num. 4. completo nuevo, de transporte público de pasajeros. E.T., art. 477, num. 4."},"9208","Exención de IVA en la venta de vehículos automotores de transporte público de pasajeros completos y el chasis con motor y la carrocería adquiridos individualmente para conformar un vehículo automotor completo nuevo, de transporte público de pasajeros. E.T., art. 477, num. 4. completo nuevo, de transporte público de pasajeros. E.T., art. 477, num. 4.",520]
["Concepto_1011",{"$f":"Listas[[#This Row],[ID]]&\" \"&IF(Listas[[#This Row],[Descripcion]]=\"\",\"\",\"- \"&Listas[[#This Row],[Descripcion]])","v":"9209 - Exención de IVA en la venta de vehículos automotores de servicio público o particular, de transporte de carga completos y el chasis con motor y la carrocería adquiridos individualmente para conformar un vehículo automotor completo nuevo de transporte de carga de más de 10.5 toneladas de peso bruto vehicular. E.T., art. 477, num. 5.."},"9209","Exención de IVA en la venta de vehículos automotores de servicio público o particular, de transporte de carga completos y el chasis con motor y la carrocería adquiridos individualmente para conformar un vehículo automotor completo nuevo de transporte de carga de más de 10.5 toneladas de peso bruto vehicular. E.T., art. 477, num. 5..",521]
["Concepto_1011",{"$f":"Listas[[#This Row],[ID]]&\" \"&IF(Listas[[#This Row],[Descripcion]]=\"\",\"\",\"- \"&Listas[[#This Row],[Descripcion]])","v":"9210 - Exención en IVA en la venta de bicicletas y sus partes; motocicletas y sus partes y motocarros y sus partes, que se introduzcan y comercialicen en los departamentos de Amazonas, Guainía, Guaviare, Vaupés y Vichada, siempre y cuando se destinen exclusivamente al consumo dentro del mismo departamento. Numeral 6 del art. 477 del E.T.."},"9210","Exención en IVA en la venta de bicicletas y sus partes; motocicletas y sus partes y motocarros y sus partes, que se introduzcan y comercialicen en los departamentos de Amazonas, Guainía, Guaviare, Vaupés y Vichada, siempre y cuando se destinen exclusivamente al consumo dentro del mismo departamento. Numeral 6 del art. 477 del E.T..",522]
["Concepto_1011",{"$f":"Listas[[#This Row],[ID]]&\" \"&IF(Listas[[#This Row],[Descripcion]]=\"\",\"\",\"- \"&Listas[[#This Row],[Descripcion]])","v":"9211 - Exención de IVA en la venta de alimentos consumo humano o animal que se introduzcan y comercialicen al departamento de Amazonas E.T., art. 477, num. 7, adicionado por el art. 12 de la Ley 2010 de 2019"},"9211","Exención de IVA en la venta de alimentos consumo humano o animal que se introduzcan y comercialicen al departamento de Amazonas E.T., art. 477, num. 7, adicionado por el art. 12 de la Ley 2010 de 2019",523]
["Concepto_1011",{"$f":"Listas[[#This Row],[ID]]&\" \"&IF(Listas[[#This Row],[Descripcion]]=\"\",\"\",\"- \"&Listas[[#This Row],[Descripcion]])","v":"9212 - Exención de IVA en la venta de elementos de aseo que se introduzcan y comercialicen al departamento de Amazonas. E.T., art. 477, num. 7, adicionado por el art. 12 de la Ley 2010 de 2019"},"9212","Exención de IVA en la venta de elementos de aseo que se introduzcan y comercialicen al departamento de Amazonas. E.T., art. 477, num. 7, adicionado por el art. 12 de la Ley 2010 de 2019",524]
["Concepto_1011",{"$f":"Listas[[#This Row],[ID]]&\" \"&IF(Listas[[#This Row],[Descripcion]]=\"\",\"\",\"- \"&Listas[[#This Row],[Descripcion]])","v":"9213 - Exención de IVA en la venta de vestuario, que se introduzcan y comercialicen al departamento de Amazonas. E.T., art. 477, num. 7, adicionado por el art. 12 de la Ley 2010 de 2019"},"9213","Exención de IVA en la venta de vestuario, que se introduzcan y comercialicen al departamento de Amazonas. E.T., art. 477, num. 7, adicionado por el art. 12 de la Ley 2010 de 2019",525]
["Concepto_1011",{"$f":"Listas[[#This Row],[ID]]&\" \"&IF(Listas[[#This Row],[Descripcion]]=\"\",\"\",\"- \"&Listas[[#This Row],[Descripcion]])","v":"9214 - Exención de IVA en la venta de medicamentos de uso humano y veterinario, que se introduzcan y comercialicen al departamento de Amazonas E.T., art. 477, num. 7, adicionado por el art. 12 de la Ley 2010 de 2019"},"9214","Exención de IVA en la venta de medicamentos de uso humano y veterinario, que se introduzcan y comercialicen al departamento de Amazonas E.T., art. 477, num. 7, adicionado por el art. 12 de la Ley 2010 de 2019",526]
["Concepto_1011",{"$f":"Listas[[#This Row],[ID]]&\" \"&IF(Listas[[#This Row],[Descripcion]]=\"\",\"\",\"- \"&Listas[[#This Row],[Descripcion]])","v":"9215 - Exención de IVA en la venta de materiales de construcción que se introduzcan y comercialicen al departamento de Amazonas. E.T., art. 477, num. 7, adicionado por el art. 12 de la Ley 2010 de 2019"},"9215","Exención de IVA en la venta de materiales de construcción que se introduzcan y comercialicen al departamento de Amazonas. E.T., art. 477, num. 7, adicionado por el art. 12 de la Ley 2010 de 2019",527]
["Concepto_1011",{"$f":"Listas[[#This Row],[ID]]&\" \"&IF(Listas[[#This Row],[Descripcion]]=\"\",\"\",\"- \"&Listas[[#This Row],[Descripcion]])","v":"9216 - Exención por prestación de servicios turísticos a extranjeros en el territorio colombiano. E.T., art. 481, lit. d, inc. 2"},"9216","Exención por prestación de servicios turísticos a extranjeros en el territorio colombiano. E.T., art. 481, lit. d, inc. 2",528]
["Concepto_1011",{"$f":"Listas[[#This Row],[ID]]&\" \"&IF(Listas[[#This Row],[Descripcion]]=\"\",\"\",\"- \"&Listas[[#This Row],[Descripcion]])","v":"9217 - Exención de IVA en la venta de bienes que inician desde la partida 01.02, y termina en la partida 96.19.  contemplados en el inciso 1 del artículo 477 del E.T. y Sentencia C117 de 2018."},"9217","Exención de IVA en la venta de bienes que inician desde la partida 01.02, y termina en la partida 96.19.  contemplados en el inciso 1 del artículo 477 del E.T. y Sentencia C117 de 2018.",529]
["Concepto_1011",{"$f":"Listas[[#This Row],[ID]]&\" \"&IF(Listas[[#This Row],[Descripcion]]=\"\",\"\",\"- \"&Listas[[#This Row],[Descripcion]])","v":"9218 - Exención de IVA por uso de recursos de auxilios o donaciones de entidades o gobiernos extranjeros convenidos con el Gobierno colombiano, destinados a realizar programas de utilidad común y registrados en la Agencia Presidencial de la Cooperación Internacional. L. 788/2002, art. 96, modificado por el art. 38 de la Ley 2010 de 2019."},"9218","Exención de IVA por uso de recursos de auxilios o donaciones de entidades o gobiernos extranjeros convenidos con el Gobierno colombiano, destinados a realizar programas de utilidad común y registrados en la Agencia Presidencial de la Cooperación Internacional. L. 788/2002, art. 96, modificado por el art. 38 de la Ley 2010 de 2019.",530]
["Concepto_1011",{"$f":"Listas[[#This Row],[ID]]&\" \"&IF(Listas[[#This Row],[Descripcion]]=\"\",\"\",\"- \"&Listas[[#This Row],[Descripcion]])","v":"9219 - Exención de IVA en las ventas en territorio nacional de productos de uso médico e insumos, de acuerdo con especificaciones técnicas. Decreto 438 de 2020, art. 1."},"9219","Exención de IVA en las ventas en territorio nacional de productos de uso médico e insumos, de acuerdo con especificaciones técnicas. Decreto 438 de 2020, art. 1.",531]
["Concepto_1011",{"$f":"Listas[[#This Row],[ID]]&\" \"&IF(Listas[[#This Row],[Descripcion]]=\"\",\"\",\"- \"&Listas[[#This Row],[Descripcion]])","v":"9220 - Exención de IVA en las ventas en territorio nacional de bienes e insumos de uso médico, sin derecho a devolución, Decreto 551 de 2020, art. 1."},"9220","Exención de IVA en las ventas en territorio nacional de bienes e insumos de uso médico, sin derecho a devolución, Decreto 551 de 2020, art. 1.",532]
["Concepto_1011",{"$f":"Listas[[#This Row],[ID]]&\" \"&IF(Listas[[#This Row],[Descripcion]]=\"\",\"\",\"- \"&Listas[[#This Row],[Descripcion]])","v":"9221 - Exención de IVA en compra o donación de vehículos, equipos o elementos nuevos o usados utilizados para la gestión integral del riesgo, preparativos y atención de rescate a la actividad bomberil y la atención de incidentes con materiales peligrosos. L.1575/2012, art. 32, modificado por L.2010/2019, art. 32"},"9221","Exención de IVA en compra o donación de vehículos, equipos o elementos nuevos o usados utilizados para la gestión integral del riesgo, preparativos y atención de rescate a la actividad bomberil y la atención de incidentes con materiales peligrosos. L.1575/2012, art. 32, modificado por L.2010/2019, art. 32",533]
["Concepto_1011",{"$f":"Listas[[#This Row],[ID]]&\" \"&IF(Listas[[#This Row],[Descripcion]]=\"\",\"\",\"- \"&Listas[[#This Row],[Descripcion]])","v":"9222 - Exención de IVA por exportación de servicios relacionados con la producción de obra de cine, televisión, audiovisuales de cualquier género y con el desarrollo de software. Parágrafo del Art. 481 del E.T."},"9222","Exención de IVA por exportación de servicios relacionados con la producción de obra de cine, televisión, audiovisuales de cualquier género y con el desarrollo de software. Parágrafo del Art. 481 del E.T.",534]
["Concepto_2275",{"$f":"Listas[[#This Row],[ID]]&\" \"&IF(Listas[[#This Row],[Descripcion]]=\"\",\"\",\"- \"&Listas[[#This Row],[Descripcion]])","v":"8001 - Ingresos no constitutivos por dividendos y participaciones. E.T., art. 48. (Modificado. L. 1819/2016, art. 2)."},"8001","Ingresos no constitutivos por dividendos y participaciones. E.T., art. 48. (Modificado. L. 1819/2016, art. 2).",535]
["Concepto_2275",{"$f":"Listas[[#This Row],[ID]]&\" \"&IF(Listas[[#This Row],[Descripcion]]=\"\",\"\",\"- \"&Listas[[#This Row],[Descripcion]])","v":"8002 - Ingresos no constitutivos por componente inflacionario de los rendimientos financieros. E.T. art. 38 al 40."},"8002","Ingresos no constitutivos por componente inflacionario de los rendimientos financieros. E.T. art. 38 al 40.",536]
["Concepto_2275",{"$f":"Listas[[#This Row],[ID]]&\" \"&IF(Listas[[#This Row],[Descripcion]]=\"\",\"\",\"- \"&Listas[[#This Row],[Descripcion]])","v":"8005 - Ingresos no constitutivos por la utilidad en enajenación de acciones. E.T., art. 36-1, incisos 2 y 3."},"8005","Ingresos no constitutivos por la utilidad en enajenación de acciones. E.T., art. 36-1, incisos 2 y 3.",537]
["Concepto_2275",{"$f":"Listas[[#This Row],[ID]]&\" \"&IF(Listas[[#This Row],[Descripcion]]=\"\",\"\",\"- \"&Listas[[#This Row],[Descripcion]])","v":"8006 - Ingresos no constitutivos por utilidades provenientes de la negociación de derivados. E.T., art. 36-1, inciso 4."},"8006","Ingresos no constitutivos por utilidades provenientes de la negociación de derivados. E.T., art. 36-1, inciso 4.",538]
["Concepto_2275",{"$f":"Listas[[#This Row],[ID]]&\" \"&IF(Listas[[#This Row],[Descripcion]]=\"\",\"\",\"- \"&Listas[[#This Row],[Descripcion]])","v":"8007 - Ingresos no constitutivos por capitalizaciones no gravadas a socios o accionistas. E.T. art. 36-3."},"8007","Ingresos no constitutivos por capitalizaciones no gravadas a socios o accionistas. E.T. art. 36-3.",539]
["Concepto_2275",{"$f":"Listas[[#This Row],[ID]]&\" \"&IF(Listas[[#This Row],[Descripcion]]=\"\",\"\",\"- \"&Listas[[#This Row],[Descripcion]])","v":"8008 - Ingresos no constitutivos por las indemnizaciones en virtud de seguros de daño. E.T., art. 45. "},"8008","Ingresos no constitutivos por las indemnizaciones en virtud de seguros de daño. E.T., art. 45. ",540]
["Concepto_2275",{"$f":"Listas[[#This Row],[ID]]&\" \"&IF(Listas[[#This Row],[Descripcion]]=\"\",\"\",\"- \"&Listas[[#This Row],[Descripcion]])","v":"8009 - Ingresos no constitutivos por las indemnizaciones por destrucción o renovación de cultivos, y por control de plagas. E.T., art. 46-1.  "},"8009","Ingresos no constitutivos por las indemnizaciones por destrucción o renovación de cultivos, y por control de plagas. E.T., art. 46-1.  ",541]
["Concepto_2275",{"$f":"Listas[[#This Row],[ID]]&\" \"&IF(Listas[[#This Row],[Descripcion]]=\"\",\"\",\"- \"&Listas[[#This Row],[Descripcion]])","v":"8010 - Ingresos no constitutivos por los aportes de entidades estatales, sobretasas e impuestos para financiamiento de sistemas de servicio público de transporte masivo de pasajeros. E.T., art. 53. "},"8010","Ingresos no constitutivos por los aportes de entidades estatales, sobretasas e impuestos para financiamiento de sistemas de servicio público de transporte masivo de pasajeros. E.T., art. 53. ",542]
["Concepto_2275",{"$f":"Listas[[#This Row],[ID]]&\" \"&IF(Listas[[#This Row],[Descripcion]]=\"\",\"\",\"- \"&Listas[[#This Row],[Descripcion]])","v":"8011 - Ingresos no constitutivos percibidos por las organizaciones regionales de televisión y audiovisuales provenientes de la Comisión Nacional de Televisión. L. 488/98, art. 40. "},"8011","Ingresos no constitutivos percibidos por las organizaciones regionales de televisión y audiovisuales provenientes de la Comisión Nacional de Televisión. L. 488/98, art. 40. ",543]
["Concepto_2275",{"$f":"Listas[[#This Row],[ID]]&\" \"&IF(Listas[[#This Row],[Descripcion]]=\"\",\"\",\"- \"&Listas[[#This Row],[Descripcion]])","v":"8013 - Ingresos no constitutivos por la liberación de la reserva de que trata el numeral 12 del artículo Art. 290 E.T., Reserva de que trataba el 130 E.T.    "},"8013","Ingresos no constitutivos por la liberación de la reserva de que trata el numeral 12 del artículo Art. 290 E.T., Reserva de que trataba el 130 E.T.    ",544]
["Concepto_2275",{"$f":"Listas[[#This Row],[ID]]&\" \"&IF(Listas[[#This Row],[Descripcion]]=\"\",\"\",\"- \"&Listas[[#This Row],[Descripcion]])","v":"8014 - Ingresos no constitutivos provenientes del Incentivo a la Capitalización Rural, (ICR). E.T., art. 52."},"8014","Ingresos no constitutivos provenientes del Incentivo a la Capitalización Rural, (ICR). E.T., art. 52.",545]
["Concepto_2275",{"$f":"Listas[[#This Row],[ID]]&\" \"&IF(Listas[[#This Row],[Descripcion]]=\"\",\"\",\"- \"&Listas[[#This Row],[Descripcion]])","v":"8015 - Ingresos no constitutivos por la utilidad en la venta de casa o apartamento de habitación. E.T., art. 44. "},"8015","Ingresos no constitutivos por la utilidad en la venta de casa o apartamento de habitación. E.T., art. 44. ",546]
["Concepto_2275",{"$f":"Listas[[#This Row],[ID]]&\" \"&IF(Listas[[#This Row],[Descripcion]]=\"\",\"\",\"- \"&Listas[[#This Row],[Descripcion]])","v":"8016 - Ingresos no constitutivos por la retribución como recompensa. E.T., art. 42."},"8016","Ingresos no constitutivos por la retribución como recompensa. E.T., art. 42.",547]
["Concepto_2275",{"$f":"Listas[[#This Row],[ID]]&\" \"&IF(Listas[[#This Row],[Descripcion]]=\"\",\"\",\"- \"&Listas[[#This Row],[Descripcion]])","v":"8017 - Ingresos no constitutivos por la utilidad en la enajenación voluntaria de bienes expropiados. L. 388/97, art. 67, par. 2"},"8017","Ingresos no constitutivos por la utilidad en la enajenación voluntaria de bienes expropiados. L. 388/97, art. 67, par. 2",548]
["Concepto_2275",{"$f":"Listas[[#This Row],[ID]]&\" \"&IF(Listas[[#This Row],[Descripcion]]=\"\",\"\",\"- \"&Listas[[#This Row],[Descripcion]])","v":"8019 - Ingresos no constitutivos por aportes al sistema general de pensiones. Art. 55 E.T. adicionado L. 1819/2016, art. 13)"},"8019","Ingresos no constitutivos por aportes al sistema general de pensiones. Art. 55 E.T. adicionado L. 1819/2016, art. 13)",549]
["Concepto_2275",{"$f":"Listas[[#This Row],[ID]]&\" \"&IF(Listas[[#This Row],[Descripcion]]=\"\",\"\",\"- \"&Listas[[#This Row],[Descripcion]])","v":"8023 - Ingresos no constitutivos por los subsidios y ayudas otorgadas por el programa Agro Ingreso Seguro – AIS e incentivos al almacenamiento y la capitalización rural previstos en la L 101/1993. Art. 57-1 E.T."},"8023","Ingresos no constitutivos por los subsidios y ayudas otorgadas por el programa Agro Ingreso Seguro – AIS e incentivos al almacenamiento y la capitalización rural previstos en la L 101/1993. Art. 57-1 E.T.",550]
["Concepto_2275",{"$f":"Listas[[#This Row],[ID]]&\" \"&IF(Listas[[#This Row],[Descripcion]]=\"\",\"\",\"- \"&Listas[[#This Row],[Descripcion]])","v":"8025 - Ingresos no constitutivos por distribución de utilidades por liquidación de sociedades limitadas. E.T., art. 51."},"8025","Ingresos no constitutivos por distribución de utilidades por liquidación de sociedades limitadas. E.T., art. 51.",551]
["Concepto_2275",{"$f":"Listas[[#This Row],[ID]]&\" \"&IF(Listas[[#This Row],[Descripcion]]=\"\",\"\",\"- \"&Listas[[#This Row],[Descripcion]])","v":"8026 - Ingresos no constitutivos por donaciones recibidas para partidos, movimientos y campañas políticas. E.T., Art. 47-1. "},"8026","Ingresos no constitutivos por donaciones recibidas para partidos, movimientos y campañas políticas. E.T., Art. 47-1. ",552]
["Concepto_2275",{"$f":"Listas[[#This Row],[ID]]&\" \"&IF(Listas[[#This Row],[Descripcion]]=\"\",\"\",\"- \"&Listas[[#This Row],[Descripcion]])","v":"8028 - Ingresos no constitutivos por la utilidad en procesos de capitalización. L. 789/2002, art. 44. "},"8028","Ingresos no constitutivos por la utilidad en procesos de capitalización. L. 789/2002, art. 44. ",553]
["Concepto_2275",{"$f":"Listas[[#This Row],[ID]]&\" \"&IF(Listas[[#This Row],[Descripcion]]=\"\",\"\",\"- \"&Listas[[#This Row],[Descripcion]])","v":"8029 - Ingresos no constitutivos recibidos por el contribuyente para ser destinados al desarrollo de proyectos calificados como de carácter científico, tecnológico o de inversión. Art. 57-2 E.T."},"8029","Ingresos no constitutivos recibidos por el contribuyente para ser destinados al desarrollo de proyectos calificados como de carácter científico, tecnológico o de inversión. Art. 57-2 E.T.",554]
["Concepto_2275",{"$f":"Listas[[#This Row],[ID]]&\" \"&IF(Listas[[#This Row],[Descripcion]]=\"\",\"\",\"- \"&Listas[[#This Row],[Descripcion]])","v":"8030 - Ingresos no constitutivos recursos administrados por Fogafin. E.T., art. 19-3, inciso 1. "},"8030","Ingresos no constitutivos recursos administrados por Fogafin. E.T., art. 19-3, inciso 1. ",555]
["Concepto_2275",{"$f":"Listas[[#This Row],[ID]]&\" \"&IF(Listas[[#This Row],[Descripcion]]=\"\",\"\",\"- \"&Listas[[#This Row],[Descripcion]])","v":"8032 - Ingresos no constitutivos por gananciales. E.T., art. 47. "},"8032","Ingresos no constitutivos por gananciales. E.T., art. 47. ",556]
["Concepto_2275",{"$f":"Listas[[#This Row],[ID]]&\" \"&IF(Listas[[#This Row],[Descripcion]]=\"\",\"\",\"- \"&Listas[[#This Row],[Descripcion]])","v":"8033 - Ingresos no constitutivos por capitalización de utilidades en ajustes por inflación o componente inflacionario. Art. 50 E.T. "},"8033","Ingresos no constitutivos por capitalización de utilidades en ajustes por inflación o componente inflacionario. Art. 50 E.T. ",557]
["Concepto_2275",{"$f":"Listas[[#This Row],[ID]]&\" \"&IF(Listas[[#This Row],[Descripcion]]=\"\",\"\",\"- \"&Listas[[#This Row],[Descripcion]])","v":"8034 - Ingresos no constitutivos remuneración labores de carácter científico, tecnológico o innovación. E.T., art. 57 -2. "},"8034","Ingresos no constitutivos remuneración labores de carácter científico, tecnológico o innovación. E.T., art. 57 -2. ",558]
["Concepto_2275",{"$f":"Listas[[#This Row],[ID]]&\" \"&IF(Listas[[#This Row],[Descripcion]]=\"\",\"\",\"- \"&Listas[[#This Row],[Descripcion]])","v":"8035 - Ingresos no constitutivos por apoyos económicos entregados como capital semilla. L. 1429/10, art. 16. "},"8035","Ingresos no constitutivos por apoyos económicos entregados como capital semilla. L. 1429/10, art. 16. ",559]
["Concepto_2275",{"$f":"Listas[[#This Row],[ID]]&\" \"&IF(Listas[[#This Row],[Descripcion]]=\"\",\"\",\"- \"&Listas[[#This Row],[Descripcion]])","v":"8036 - Ingresos no constitutivos por recursos recibidos por aportes de la nación a entidades públicas en liquidación. L. 633/2000, art. 77. "},"8036","Ingresos no constitutivos por recursos recibidos por aportes de la nación a entidades públicas en liquidación. L. 633/2000, art. 77. ",560]
["Concepto_2275",{"$f":"Listas[[#This Row],[ID]]&\" \"&IF(Listas[[#This Row],[Descripcion]]=\"\",\"\",\"- \"&Listas[[#This Row],[Descripcion]])","v":"8037 - Ingresos no constitutivos por componente inflacionario o mantenimiento de valor de títulos emitidos en proceso de titularización de cartera hipotecaria. L. 546/1999, art. 16, inciso 4."},"8037","Ingresos no constitutivos por componente inflacionario o mantenimiento de valor de títulos emitidos en proceso de titularización de cartera hipotecaria. L. 546/1999, art. 16, inciso 4.",561]
["Concepto_2275",{"$f":"Listas[[#This Row],[ID]]&\" \"&IF(Listas[[#This Row],[Descripcion]]=\"\",\"\",\"- \"&Listas[[#This Row],[Descripcion]])","v":"8041 - Ingresos no constitutivos por enajenación de inmuebles. L 9/1989, art. 15, modificado por la L. 3 de 1991, art. 35."},"8041","Ingresos no constitutivos por enajenación de inmuebles. L 9/1989, art. 15, modificado por la L. 3 de 1991, art. 35.",562]
["Concepto_2275",{"$f":"Listas[[#This Row],[ID]]&\" \"&IF(Listas[[#This Row],[Descripcion]]=\"\",\"\",\"- \"&Listas[[#This Row],[Descripcion]])","v":"8042 - Ingresos no constitutivos por dividendos y beneficios distribuidos por la ECE. Art. 893 E.T."},"8042","Ingresos no constitutivos por dividendos y beneficios distribuidos por la ECE. Art. 893 E.T.",563]
["Concepto_2275",{"$f":"Listas[[#This Row],[ID]]&\" \"&IF(Listas[[#This Row],[Descripcion]]=\"\",\"\",\"- \"&Listas[[#This Row],[Descripcion]])","v":"8043 - Ingresos no constitutivos por rentas o ganancias ocasionales por enajenación de acciones o participaciones en la ECE. Inc. 2, Art. 893 E.T."},"8043","Ingresos no constitutivos por rentas o ganancias ocasionales por enajenación de acciones o participaciones en la ECE. Inc. 2, Art. 893 E.T.",564]
["Concepto_2275",{"$f":"Listas[[#This Row],[ID]]&\" \"&IF(Listas[[#This Row],[Descripcion]]=\"\",\"\",\"- \"&Listas[[#This Row],[Descripcion]])","v":"8044 - Ingresos no constitutivos por Certificados de Incentivo Forestal. L. 139/1994, art. 8, literal c). "},"8044","Ingresos no constitutivos por Certificados de Incentivo Forestal. L. 139/1994, art. 8, literal c). ",565]
["Concepto_2275",{"$f":"Listas[[#This Row],[ID]]&\" \"&IF(Listas[[#This Row],[Descripcion]]=\"\",\"\",\"- \"&Listas[[#This Row],[Descripcion]])","v":"8045 - Ingresos no constitutivos por aportes obligatorios al sistema general de salud. Art. 56 E.T. (Adicionado, L. 1819/2016, art. 14)"},"8045","Ingresos no constitutivos por aportes obligatorios al sistema general de salud. Art. 56 E.T. (Adicionado, L. 1819/2016, art. 14)",566]
["Concepto_2275",{"$f":"Listas[[#This Row],[ID]]&\" \"&IF(Listas[[#This Row],[Descripcion]]=\"\",\"\",\"- \"&Listas[[#This Row],[Descripcion]])","v":"8046 - Ingresos no constitutivos por premios obtenidos en virtud del Premio Fiscal que trata el art. 618-1 del E.T."},"8046","Ingresos no constitutivos por premios obtenidos en virtud del Premio Fiscal que trata el art. 618-1 del E.T.",567]
["Concepto_2275",{"$f":"Listas[[#This Row],[ID]]&\" \"&IF(Listas[[#This Row],[Descripcion]]=\"\",\"\",\"- \"&Listas[[#This Row],[Descripcion]])","v":"8047 - Ingresos no constitutivos por contraprestación por la producción de obras cinematográficas. L. 1556/2012, art. 9 y D.R. 437/2013, art. 8"},"8047","Ingresos no constitutivos por contraprestación por la producción de obras cinematográficas. L. 1556/2012, art. 9 y D.R. 437/2013, art. 8",568]
["Concepto_2275",{"$f":"Listas[[#This Row],[ID]]&\" \"&IF(Listas[[#This Row],[Descripcion]]=\"\",\"\",\"- \"&Listas[[#This Row],[Descripcion]])","v":"8048 - Ingresos no constitutivos por donaciones Protocolo Montreal.L.488/1998, art. 32."},"8048","Ingresos no constitutivos por donaciones Protocolo Montreal.L.488/1998, art. 32.",569]
["Concepto_2275",{"$f":"Listas[[#This Row],[ID]]&\" \"&IF(Listas[[#This Row],[Descripcion]]=\"\",\"\",\"- \"&Listas[[#This Row],[Descripcion]])","v":"8049 - Ingresos no constitutivos por apoyos económicos entregados por el Estado o financiados con recursos públicos. Art. 46, modificado por L. 1819/2016, art. 11."},"8049","Ingresos no constitutivos por apoyos económicos entregados por el Estado o financiados con recursos públicos. Art. 46, modificado por L. 1819/2016, art. 11.",570]
["Concepto_2275",{"$f":"Listas[[#This Row],[ID]]&\" \"&IF(Listas[[#This Row],[Descripcion]]=\"\",\"\",\"- \"&Listas[[#This Row],[Descripcion]])","v":"8050 - Ingreso no constitutivo por utilidades repartidas a través de acciones a trabajadores de sociedades de Beneficio de Interés Colectivo – BIC Art. 44 Ley 789 de 2002."},"8050","Ingreso no constitutivo por utilidades repartidas a través de acciones a trabajadores de sociedades de Beneficio de Interés Colectivo – BIC Art. 44 Ley 789 de 2002.",571]
["Concepto_2275",{"$f":"Listas[[#This Row],[ID]]&\" \"&IF(Listas[[#This Row],[Descripcion]]=\"\",\"\",\"- \"&Listas[[#This Row],[Descripcion]])","v":"8051 - Ingresos no constitutivos por aplicación de algún convenio para evitar la doble tributación"},"8051","Ingresos no constitutivos por aplicación de algún convenio para evitar la doble tributación",572]
["Concepto_2275",{"$f":"Listas[[#This Row],[ID]]&\" \"&IF(Listas[[#This Row],[Descripcion]]=\"\",\"\",\"- \"&Listas[[#This Row],[Descripcion]])","v":"8052 - Ingresos no gravados por utilidades distribuidas por sociedades nacionales o establecimientos permanentes que han efectuado inversiones en el marco del régimen de Mega-inversiones. E.T., art.235-3, num.4"},"8052","Ingresos no gravados por utilidades distribuidas por sociedades nacionales o establecimientos permanentes que han efectuado inversiones en el marco del régimen de Mega-inversiones. E.T., art.235-3, num.4",573]
["Entidad_Informante",{"$f":"Listas[[#This Row],[ID]]&\" \"&IF(Listas[[#This Row],[Descripcion]]=\"\",\"\",\"- \"&Listas[[#This Row],[Descripcion]])","v":"1 - Informante General"},"1","Informante General",574]
["Entidad_Informante",{"$f":"Listas[[#This Row],[ID]]&\" \"&IF(Listas[[#This Row],[Descripcion]]=\"\",\"\",\"- \"&Listas[[#This Row],[Descripcion]])","v":"2 - Fiduciarias"},"2","Fiduciarias",575]
["Entidad_Informante",{"$f":"Listas[[#This Row],[ID]]&\" \"&IF(Listas[[#This Row],[Descripcion]]=\"\",\"\",\"- \"&Listas[[#This Row],[Descripcion]])","v":"3 - Mandatario y/o Administrador Delegado"},"3","Mandatario y/o Administrador Delegado",576]
["Entidad_Informante",{"$f":"Listas[[#This Row],[ID]]&\" \"&IF(Listas[[#This Row],[Descripcion]]=\"\",\"\",\"- \"&Listas[[#This Row],[Descripcion]])","v":"4 - Consorcio y/o Unión Temporal"},"4","Consorcio y/o Unión Temporal",577]
["Entidad_Informante",{"$f":"Listas[[#This Row],[ID]]&\" \"&IF(Listas[[#This Row],[Descripcion]]=\"\",\"\",\"- \"&Listas[[#This Row],[Descripcion]])","v":"5 - Exploración y Explotación hidrocarburos, gases y minerales"},"5","Exploración y Explotación hidrocarburos, gases y minerales",578]
["Entidad_Informante",{"$f":"Listas[[#This Row],[ID]]&\" \"&IF(Listas[[#This Row],[Descripcion]]=\"\",\"\",\"- \"&Listas[[#This Row],[Descripcion]])","v":"6 - Joint Venture"},"6","Joint Venture",579]
["Entidad_Informante",{"$f":"Listas[[#This Row],[ID]]&\" \"&IF(Listas[[#This Row],[Descripcion]]=\"\",\"\",\"- \"&Listas[[#This Row],[Descripcion]])","v":"7 - Gestor en Cuentas en Participación"},"7","Gestor en Cuentas en Participación",580]
["Entidad_Informante",{"$f":"Listas[[#This Row],[ID]]&\" \"&IF(Listas[[#This Row],[Descripcion]]=\"\",\"\",\"- \"&Listas[[#This Row],[Descripcion]])","v":"8 - Convenios de cooperación con entidades públicas"},"8","Convenios de cooperación con entidades públicas",581]
["Tipo_Documento",{"$f":"Listas[[#This Row],[ID]]&\" \"&IF(Listas[[#This Row],[Descripcion]]=\"\",\"\",\"- \"&Listas[[#This Row],[Descripcion]])","v":"11 -  Registro civil de nacimiento"},"11"," Registro civil de nacimiento",582]
["Tipo_Documento",{"$f":"Listas[[#This Row],[ID]]&\" \"&IF(Listas[[#This Row],[Descripcion]]=\"\",\"\",\"- \"&Listas[[#This Row],[Descripcion]])","v":"12 -  Tarjeta de identidad"},"12"," Tarjeta de identidad",583]
["Tipo_Documento",{"$f":"Listas[[#This Row],[ID]]&\" \"&IF(Listas[[#This Row],[Descripcion]]=\"\",\"\",\"- \"&Listas[[#This Row],[Descripcion]])","v":"13 -  Cédula de ciudadanía"},"13"," Cédula de ciudadanía",584]
["Tipo_Documento",{"$f":"Listas[[#This Row],[ID]]&\" \"&IF(Listas[[#This Row],[Descripcion]]=\"\",\"\",\"- \"&Listas[[#This Row],[Descripcion]])","v":"21 -  Tarjeta de extranjería"},"21"," Tarjeta de extranjería",585]
["Tipo_Documento",{"$f":"Listas[[#This Row],[ID]]&\" \"&IF(Listas[[#This Row],[Descripcion]]=\"\",\"\",\"- \"&Listas[[#This Row],[Descripcion]])","v":"22 -  Cédula de extranjería"},"22"," Cédula de extranjería",586]
["Tipo_Documento",{"$f":"Listas[[#This Row],[ID]]&\" \"&IF(Listas[[#This Row],[Descripcion]]=\"\",\"\",\"- \"&Listas[[#This Row],[Descripcion]])","v":"31 -  Nit"},"31"," Nit",587]
["Tipo_Documento",{"$f":"Listas[[#This Row],[ID]]&\" \"&IF(Listas[[#This Row],[Descripcion]]=\"\",\"\",\"- \"&Listas[[#This Row],[Descripcion]])","v":"41 -  Pasaporte"},"41"," Pasaporte",588]
["Tipo_Documento",{"$f":"Listas[[#This Row],[ID]]&\" \"&IF(Listas[[#This Row],[Descripcion]]=\"\",\"\",\"- \"&Listas[[#This Row],[Descripcion]])","v":"42 -  Tipo de documento Extranjero"},"42"," Tipo de documento Extranjero",589]
["Tipo_Documento",{"$f":"Listas[[#This Row],[ID]]&\" \"&IF(Listas[[#This Row],[Descripcion]]=\"\",\"\",\"- \"&Listas[[#This Row],[Descripcion]])","v":"43 -  Sin identificación del exterior o para uso definido por la DIAN"},"43"," Sin identificación del exterior o para uso definido por la DIAN",590]
["Tipo_Documento",{"$f":"Listas[[#This Row],[ID]]&\" \"&IF(Listas[[#This Row],[Descripcion]]=\"\",\"\",\"- \"&Listas[[#This Row],[Descripcion]])","v":"47 -  Permiso Especial de Permanencia"},"47"," Permiso Especial de Permanencia",591]
["Tipo_Documento",{"$f":"Listas[[#This Row],[ID]]&\" \"&IF(Listas[[#This Row],[Descripcion]]=\"\",\"\",\"- \"&Listas[[#This Row],[Descripcion]])","v":"48 -  Permiso por Protección Temporal"},"48"," Permiso por Protección Temporal",592]
["Tipo_cuenta_",{"$f":"Listas[[#This Row],[ID]]&\" \"&IF(Listas[[#This Row],[Descripcion]]=\"\",\"\",\"- \"&Listas[[#This Row],[Descripcion]])","v":"1 - Cuenta de ahorros"},"1","Cuenta de ahorros",593]
["Tipo_cuenta_",{"$f":"Listas[[#This Row],[ID]]&\" \"&IF(Listas[[#This Row],[Descripcion]]=\"\",\"\",\"- \"&Listas[[#This Row],[Descripcion]])","v":"2 - Cuenta corriente"},"2","Cuenta corriente",594]
["Tipo_cuenta_",{"$f":"Listas[[#This Row],[ID]]&\" \"&IF(Listas[[#This Row],[Descripcion]]=\"\",\"\",\"- \"&Listas[[#This Row],[Descripcion]])","v":"4 - Cuenta de ahorro de trámite simplificado"},"4","Cuenta de ahorro de trámite simplificado",595]
["Tipo_cuenta_",{"$f":"Listas[[#This Row],[ID]]&\" \"&IF(Listas[[#This Row],[Descripcion]]=\"\",\"\",\"- \"&Listas[[#This Row],[Descripcion]])","v":"5 - Depósitos electrónicos"},"5","Depósitos electrónicos",596]
["Tipo_Pretamo_1026",{"$f":"Listas[[#This Row],[ID]]&\" \"&IF(Listas[[#This Row],[Descripcion]]=\"\",\"\",\"- \"&Listas[[#This Row],[Descripcion]])","v":"1 - Préstamos comerciales"},"1","Préstamos comerciales",597]
["Tipo_Pretamo_1026",{"$f":"Listas[[#This Row],[ID]]&\" \"&IF(Listas[[#This Row],[Descripcion]]=\"\",\"\",\"- \"&Listas[[#This Row],[Descripcion]])","v":"2 - Préstamos de consumo"},"2","Préstamos de consumo",598]
["Tipo_Pretamo_1026",{"$f":"Listas[[#This Row],[ID]]&\" \"&IF(Listas[[#This Row],[Descripcion]]=\"\",\"\",\"- \"&Listas[[#This Row],[Descripcion]])","v":"3 - Préstamos hipotecarios"},"3","Préstamos hipotecarios",599]
["Tipo_Pretamo_1026",{"$f":"Listas[[#This Row],[ID]]&\" \"&IF(Listas[[#This Row],[Descripcion]]=\"\",\"\",\"- \"&Listas[[#This Row],[Descripcion]])","v":"4 - Otros prestamos."},"4","Otros prestamos.",600]
["Código_exención_Gravamen_Movimiento_Financiero",{"$f":"Listas[[#This Row],[ID]]&\" \"&IF(Listas[[#This Row],[Descripcion]]=\"\",\"\",\"- \"&Listas[[#This Row],[Descripcion]])","v":"1 - Retiros de cuentas de ahorro, numeral 1 del artículo 879 del E.T."},"1","Retiros de cuentas de ahorro, numeral 1 del artículo 879 del E.T.",601]
["Código_exención_Gravamen_Movimiento_Financiero",{"$f":"Listas[[#This Row],[ID]]&\" \"&IF(Listas[[#This Row],[Descripcion]]=\"\",\"\",\"- \"&Listas[[#This Row],[Descripcion]])","v":"2 - Operaciones establecidas en el numeral 3 del artículo 879 del E.T."},"2","Operaciones establecidas en el numeral 3 del artículo 879 del E.T.",602]
["Código_exención_Gravamen_Movimiento_Financiero",{"$f":"Listas[[#This Row],[ID]]&\" \"&IF(Listas[[#This Row],[Descripcion]]=\"\",\"\",\"- \"&Listas[[#This Row],[Descripcion]])","v":"3 - Operaciones establecidas en el numeral 7 del artículo 879 del E.T."},"3","Operaciones establecidas en el numeral 7 del artículo 879 del E.T.",603]
["Código_exención_Gravamen_Movimiento_Financiero",{"$f":"Listas[[#This Row],[ID]]&\" \"&IF(Listas[[#This Row],[Descripcion]]=\"\",\"\",\"- \"&Listas[[#This Row],[Descripcion]])","v":"4 - Operaciones establecidas en el numeral 9 del artículo 879 del E.T."},"4","Operaciones establecidas en el numeral 9 del artículo 879 del E.T.",604]
["Código_exención_Gravamen_Movimiento_Financiero",{"$f":"Listas[[#This Row],[ID]]&\" \"&IF(Listas[[#This Row],[Descripcion]]=\"\",\"\",\"- \"&Listas[[#This Row],[Descripcion]])","v":"5 - Operaciones establecidas en el numeral 10 del artículo 879 del E.T."},"5","Operaciones establecidas en el numeral 10 del artículo 879 del E.T.",605]
["Código_exención_Gravamen_Movimiento_Financiero",{"$f":"Listas[[#This Row],[ID]]&\" \"&IF(Listas[[#This Row],[Descripcion]]=\"\",\"\",\"- \"&Listas[[#This Row],[Descripcion]])","v":"6 - Operaciones establecidas en el numeral 12 del artículo 879 del E.T."},"6","Operaciones establecidas en el numeral 12 del artículo 879 del E.T.",606]
["Código_exención_Gravamen_Movimiento_Financiero",{"$f":"Listas[[#This Row],[ID]]&\" \"&IF(Listas[[#This Row],[Descripcion]]=\"\",\"\",\"- \"&Listas[[#This Row],[Descripcion]])","v":"8 - Operaciones de desembolso de créditos establecidas en el numeral 11 del artículo 879 del E.T."},"8","Operaciones de desembolso de créditos establecidas en el numeral 11 del artículo 879 del E.T.",607]
["Código_exención_Gravamen_Movimiento_Financiero",{"$f":"Listas[[#This Row],[ID]]&\" \"&IF(Listas[[#This Row],[Descripcion]]=\"\",\"\",\"- \"&Listas[[#This Row],[Descripcion]])","v":"9 - Cuentas marcadas como exentas del gravamen por otros conceptos."},"9","Cuentas marcadas como exentas del gravamen por otros conceptos.",608]
["Código_exención_Gravamen_Movimiento_Financiero",{"$f":"Listas[[#This Row],[ID]]&\" \"&IF(Listas[[#This Row],[Descripcion]]=\"\",\"\",\"- \"&Listas[[#This Row],[Descripcion]])","v":"10 - Cuentas no exentas del tributo"},"10","Cuentas no exentas del tributo",609]
["Código_exención_Gravamen_Movimiento_Financiero",{"$f":"Listas[[#This Row],[ID]]&\" \"&IF(Listas[[#This Row],[Descripcion]]=\"\",\"\",\"- \"&Listas[[#This Row],[Descripcion]])","v":"11 - Operaciones establecidas en el literal c) del artículo 5 de la Ley 1565 del 2012"},"11","Operaciones establecidas en el literal c) del artículo 5 de la Ley 1565 del 2012",610]
["Concepto_1058",{"$f":"Listas[[#This Row],[ID]]&\" \"&IF(Listas[[#This Row],[Descripcion]]=\"\",\"\",\"- \"&Listas[[#This Row],[Descripcion]])","v":"4060 - Ingresos recibidos con cargo al fideicomiso y/o patrimonio autonomo"},"4060","Ingresos recibidos con cargo al fideicomiso y/o patrimonio autonomo",611]
["Clase_tarjeta",{"$f":"Listas[[#This Row],[ID]]&\" \"&IF(Listas[[#This Row],[Descripcion]]=\"\",\"\",\"- \"&Listas[[#This Row],[Descripcion]])","v":"1 - Tarjeta de Credito Principal"},"1","Tarjeta de Credito Principal",612]
["Clase_tarjeta",{"$f":"Listas[[#This Row],[ID]]&\" \"&IF(Listas[[#This Row],[Descripcion]]=\"\",\"\",\"- \"&Listas[[#This Row],[Descripcion]])","v":"2 - Tarjeta de Credito Amparada"},"2","Tarjeta de Credito Amparada",613]
["Clase_tarjeta",{"$f":"Listas[[#This Row],[ID]]&\" \"&IF(Listas[[#This Row],[Descripcion]]=\"\",\"\",\"- \"&Listas[[#This Row],[Descripcion]])","v":"3 - Tarjeta de Credito Empresarial"},"3","Tarjeta de Credito Empresarial",614]
["Concepto_1014",{"$f":"Listas[[#This Row],[ID]]&\" \"&IF(Listas[[#This Row],[Descripcion]]=\"\",\"\",\"- \"&Listas[[#This Row],[Descripcion]])","v":"5002 - Honorarios"},"5002","Honorarios",615]
["Concepto_1014",{"$f":"Listas[[#This Row],[ID]]&\" \"&IF(Listas[[#This Row],[Descripcion]]=\"\",\"\",\"- \"&Listas[[#This Row],[Descripcion]])","v":"5003 - Comisiones"},"5003","Comisiones",616]
["Concepto_1014",{"$f":"Listas[[#This Row],[ID]]&\" \"&IF(Listas[[#This Row],[Descripcion]]=\"\",\"\",\"- \"&Listas[[#This Row],[Descripcion]])","v":"5004 - Servicios"},"5004","Servicios",617]
["Concepto_1014",{"$f":"Listas[[#This Row],[ID]]&\" \"&IF(Listas[[#This Row],[Descripcion]]=\"\",\"\",\"- \"&Listas[[#This Row],[Descripcion]])","v":"5005 - Arrendamientos"},"5005","Arrendamientos",618]
["Concepto_1014",{"$f":"Listas[[#This Row],[ID]]&\" \"&IF(Listas[[#This Row],[Descripcion]]=\"\",\"\",\"- \"&Listas[[#This Row],[Descripcion]])","v":"5006 - Intereses y rendimientos financieros causados"},"5006","Intereses y rendimientos financieros causados",619]
["Concepto_1014",{"$f":"Listas[[#This Row],[ID]]&\" \"&IF(Listas[[#This Row],[Descripcion]]=\"\",\"\",\"- \"&Listas[[#This Row],[Descripcion]])","v":"5007 - Compra de activos movibles (E.T.Art 60)"},"5007","Compra de activos movibles (E.T.Art 60)",620]
["Concepto_1014",{"$f":"Listas[[#This Row],[ID]]&\" \"&IF(Listas[[#This Row],[Descripcion]]=\"\",\"\",\"- \"&Listas[[#This Row],[Descripcion]])","v":"5008 - Compra de Activos Fijos (E.T. Art 60)"},"5008","Compra de Activos Fijos (E.T. Art 60)",621]
["Concepto_1014",{"$f":"Listas[[#This Row],[ID]]&\" \"&IF(Listas[[#This Row],[Descripcion]]=\"\",\"\",\"- \"&Listas[[#This Row],[Descripcion]])","v":"5010 - Pagos o Abonos en cuenta por concepto de aportes parafiscales al SENA, a las Cajas de Compensación Familiar y al Instituto Colombiano de Bienestar Familia"},"5010","Pagos o Abonos en cuenta por concepto de aportes parafiscales al SENA, a las Cajas de Compensación Familiar y al Instituto Colombiano de Bienestar Familia",622]
["Concepto_1014",{"$f":"Listas[[#This Row],[ID]]&\" \"&IF(Listas[[#This Row],[Descripcion]]=\"\",\"\",\"- \"&Listas[[#This Row],[Descripcion]])","v":"5011 - Pagos o abonos en cuenta efectuado a las empresas promotoras de salud EPS y los aportes al Sistema de Riesgos Laborales, incluidos los aportes del trabajador"},"5011","Pagos o abonos en cuenta efectuado a las empresas promotoras de salud EPS y los aportes al Sistema de Riesgos Laborales, incluidos los aportes del trabajador",623]
["Concepto_1014",{"$f":"Listas[[#This Row],[ID]]&\" \"&IF(Listas[[#This Row],[Descripcion]]=\"\",\"\",\"- \"&Listas[[#This Row],[Descripcion]])","v":"5012 - Pagos  o abonos  en  cuenta  por concepto de aportes obligatorios para pensiones efectuados a los Fondos de Pensiones, incluidos los aportes del trabajador"},"5012","Pagos  o abonos  en  cuenta  por concepto de aportes obligatorios para pensiones efectuados a los Fondos de Pensiones, incluidos los aportes del trabajador",624]
["Concepto_1014",{"$f":"Listas[[#This Row],[ID]]&\" \"&IF(Listas[[#This Row],[Descripcion]]=\"\",\"\",\"- \"&Listas[[#This Row],[Descripcion]])","v":"5013 - Donaciones en dinero efectuadas a las entidades señaladas en los artículos 125, 125-4,126-2 y 158-1 del Estatuto Tributario y la establecida en el artículo 16 de la Ley 814 de 2003, y demás que determine la ley"},"5013","Donaciones en dinero efectuadas a las entidades señaladas en los artículos 125, 125-4,126-2 y 158-1 del Estatuto Tributario y la establecida en el artículo 16 de la Ley 814 de 2003, y demás que determine la ley",625]
["Concepto_1014",{"$f":"Listas[[#This Row],[ID]]&\" \"&IF(Listas[[#This Row],[Descripcion]]=\"\",\"\",\"- \"&Listas[[#This Row],[Descripcion]])","v":"5014 - Donaciones en activos diferentes a dinero efectuadas a las entidades señaladas en los artículos 125, 125-4,126-2 y 158-1 del Estatuto Tributario y la establecida en el artículo 16 de la Ley 814 de 2003, y demás que determine la ley"},"5014","Donaciones en activos diferentes a dinero efectuadas a las entidades señaladas en los artículos 125, 125-4,126-2 y 158-1 del Estatuto Tributario y la establecida en el artículo 16 de la Ley 814 de 2003, y demás que determine la ley",626]
["Concepto_1014",{"$f":"Listas[[#This Row],[ID]]&\" \"&IF(Listas[[#This Row],[Descripcion]]=\"\",\"\",\"- \"&Listas[[#This Row],[Descripcion]])","v":"5015 - El valor de los impuestos solicitados como deducción"},"5015","El valor de los impuestos solicitados como deducción",627]
["Concepto_1014",{"$f":"Listas[[#This Row],[ID]]&\" \"&IF(Listas[[#This Row],[Descripcion]]=\"\",\"\",\"- \"&Listas[[#This Row],[Descripcion]])","v":"5016 - Los demás costos y deducciones"},"5016","Los demás costos y deducciones",628]
["Concepto_1014",{"$f":"Listas[[#This Row],[ID]]&\" \"&IF(Listas[[#This Row],[Descripcion]]=\"\",\"\",\"- \"&Listas[[#This Row],[Descripcion]])","v":"5018 - Importe de las primas de reaseguros pagados o abonados en cuenta"},"5018","Importe de las primas de reaseguros pagados o abonados en cuenta",629]
["Concepto_1014",{"$f":"Listas[[#This Row],[ID]]&\" \"&IF(Listas[[#This Row],[Descripcion]]=\"\",\"\",\"- \"&Listas[[#This Row],[Descripcion]])","v":"5019 - El monto de las amortizaciones realizadas"},"5019","El monto de las amortizaciones realizadas",630]
["Concepto_1014",{"$f":"Listas[[#This Row],[ID]]&\" \"&IF(Listas[[#This Row],[Descripcion]]=\"\",\"\",\"- \"&Listas[[#This Row],[Descripcion]])","v":"5020 - Compra de activos fijos reales productivos sobre los cuales solicitó deducción, art. 158-3 E.T. El valor acumulado pagado o abonado en cuenta\n"},"5020","Compra de activos fijos reales productivos sobre los cuales solicitó deducción, art. 158-3 E.T. El valor acumulado pagado o abonado en cuenta\n",631]
["Concepto_1014",{"$f":"Listas[[#This Row],[ID]]&\" \"&IF(Listas[[#This Row],[Descripcion]]=\"\",\"\",\"- \"&Listas[[#This Row],[Descripcion]])","v":"5023 - Valor  acumulado  de  los  pagos  o  abonos  en  cuenta  al  exterior  por  asistencia  técnica"},"5023","Valor  acumulado  de  los  pagos  o  abonos  en  cuenta  al  exterior  por  asistencia  técnica",632]
["Concepto_1014",{"$f":"Listas[[#This Row],[ID]]&\" \"&IF(Listas[[#This Row],[Descripcion]]=\"\",\"\",\"- \"&Listas[[#This Row],[Descripcion]])","v":"5024 - Valor acumulado de los pagos o abonos en cuenta al exterior por marcas"},"5024","Valor acumulado de los pagos o abonos en cuenta al exterior por marcas",633]
["Concepto_1014",{"$f":"Listas[[#This Row],[ID]]&\" \"&IF(Listas[[#This Row],[Descripcion]]=\"\",\"\",\"- \"&Listas[[#This Row],[Descripcion]])","v":"5025 - Valor acumulado de los pagos o abonos en cuenta al exterior por patentes"},"5025","Valor acumulado de los pagos o abonos en cuenta al exterior por patentes",634]
["Concepto_1014",{"$f":"Listas[[#This Row],[ID]]&\" \"&IF(Listas[[#This Row],[Descripcion]]=\"\",\"\",\"- \"&Listas[[#This Row],[Descripcion]])","v":"5026 - valor acumulado de los pagos o abonos en cuenta al exterior por regalías"},"5026","valor acumulado de los pagos o abonos en cuenta al exterior por regalías",635]
["Concepto_1014",{"$f":"Listas[[#This Row],[ID]]&\" \"&IF(Listas[[#This Row],[Descripcion]]=\"\",\"\",\"- \"&Listas[[#This Row],[Descripcion]])","v":"5027 - Valor acumulado de los pagos o abonos en cuenta al exterior por servicios técnicos"},"5027","Valor acumulado de los pagos o abonos en cuenta al exterior por servicios técnicos",636]
["Concepto_1014",{"$f":"Listas[[#This Row],[ID]]&\" \"&IF(Listas[[#This Row],[Descripcion]]=\"\",\"\",\"- \"&Listas[[#This Row],[Descripcion]])","v":"5028 - El valor acumulado de la devolución de pagos o abonos en cuenta y retenciones correspondientes a operaciones de años anteriores. "},"5028","El valor acumulado de la devolución de pagos o abonos en cuenta y retenciones correspondientes a operaciones de años anteriores. ",637]
["Concepto_1014",{"$f":"Listas[[#This Row],[ID]]&\" \"&IF(Listas[[#This Row],[Descripcion]]=\"\",\"\",\"- \"&Listas[[#This Row],[Descripcion]])","v":"5029 - Gastos pagados por anticipado por Compras"},"5029","Gastos pagados por anticipado por Compras",638]
["Concepto_1014",{"$f":"Listas[[#This Row],[ID]]&\" \"&IF(Listas[[#This Row],[Descripcion]]=\"\",\"\",\"- \"&Listas[[#This Row],[Descripcion]])","v":"5030 - Gastos pagados por anticipado por Honorarios "},"5030","Gastos pagados por anticipado por Honorarios ",639]
["Concepto_1014",{"$f":"Listas[[#This Row],[ID]]&\" \"&IF(Listas[[#This Row],[Descripcion]]=\"\",\"\",\"- \"&Listas[[#This Row],[Descripcion]])","v":"5031 - Gastos pagados por anticipado por Comisiones"},"5031","Gastos pagados por anticipado por Comisiones",640]
["Concepto_1014",{"$f":"Listas[[#This Row],[ID]]&\" \"&IF(Listas[[#This Row],[Descripcion]]=\"\",\"\",\"- \"&Listas[[#This Row],[Descripcion]])","v":"5032 - Gastos pagados por anticipado por Servicios"},"5032","Gastos pagados por anticipado por Servicios",641]
["Concepto_1014",{"$f":"Listas[[#This Row],[ID]]&\" \"&IF(Listas[[#This Row],[Descripcion]]=\"\",\"\",\"- \"&Listas[[#This Row],[Descripcion]])","v":"5033 - Gastos pagados por anticipado por Arrendamientos"},"5033","Gastos pagados por anticipado por Arrendamientos",642]
["Concepto_1014",{"$f":"Listas[[#This Row],[ID]]&\" \"&IF(Listas[[#This Row],[Descripcion]]=\"\",\"\",\"- \"&Listas[[#This Row],[Descripcion]])","v":"5034 - Gastos pagados por anticipado por intereses y rendimientos financieros"},"5034","Gastos pagados por anticipado por intereses y rendimientos financieros",643]
["Concepto_1014",{"$f":"Listas[[#This Row],[ID]]&\" \"&IF(Listas[[#This Row],[Descripcion]]=\"\",\"\",\"- \"&Listas[[#This Row],[Descripcion]])","v":"5035 - Gastos pagados por anticipado por otros conceptos"},"5035","Gastos pagados por anticipado por otros conceptos",644]
["Concepto_1014",{"$f":"Listas[[#This Row],[ID]]&\" \"&IF(Listas[[#This Row],[Descripcion]]=\"\",\"\",\"- \"&Listas[[#This Row],[Descripcion]])","v":"5044 - El pago por loterías, rifas, apuestas y similares"},"5044","El pago por loterías, rifas, apuestas y similares",645]
["Concepto_1014",{"$f":"Listas[[#This Row],[ID]]&\" \"&IF(Listas[[#This Row],[Descripcion]]=\"\",\"\",\"- \"&Listas[[#This Row],[Descripcion]])","v":"5045 - Retención sobre ingresos de tarjetas débito y crédito"},"5045","Retención sobre ingresos de tarjetas débito y crédito",646]
["Concepto_1014",{"$f":"Listas[[#This Row],[ID]]&\" \"&IF(Listas[[#This Row],[Descripcion]]=\"\",\"\",\"- \"&Listas[[#This Row],[Descripcion]])","v":"5046 - Enajenación de activos fijos de personas naturales ante oficinas de tránsito y otras entidades autorizadas"},"5046","Enajenación de activos fijos de personas naturales ante oficinas de tránsito y otras entidades autorizadas",647]
["Concepto_1014",{"$f":"Listas[[#This Row],[ID]]&\" \"&IF(Listas[[#This Row],[Descripcion]]=\"\",\"\",\"- \"&Listas[[#This Row],[Descripcion]])","v":"5047 - Importe de los siniestros por lucro cesante pagados o abonados en cuenta"},"5047","Importe de los siniestros por lucro cesante pagados o abonados en cuenta",648]
["Concepto_1014",{"$f":"Listas[[#This Row],[ID]]&\" \"&IF(Listas[[#This Row],[Descripcion]]=\"\",\"\",\"- \"&Listas[[#This Row],[Descripcion]])","v":"5048 - Importe de los siniestros por daño emergente pagados o abonados en cuenta"},"5048","Importe de los siniestros por daño emergente pagados o abonados en cuenta",649]
["Concepto_1014",{"$f":"Listas[[#This Row],[ID]]&\" \"&IF(Listas[[#This Row],[Descripcion]]=\"\",\"\",\"- \"&Listas[[#This Row],[Descripcion]])","v":"5053 - Retenciones practicas a titulo de timbre"},"5053","Retenciones practicas a titulo de timbre",650]
["Concepto_1014",{"$f":"Listas[[#This Row],[ID]]&\" \"&IF(Listas[[#This Row],[Descripcion]]=\"\",\"\",\"- \"&Listas[[#This Row],[Descripcion]])","v":"5054 - La devolución de retenciones a título de impuesto de timbre, correspondientes a operaciones de años anteriores"},"5054","La devolución de retenciones a título de impuesto de timbre, correspondientes a operaciones de años anteriores",651]
["Concepto_1014",{"$f":"Listas[[#This Row],[ID]]&\" \"&IF(Listas[[#This Row],[Descripcion]]=\"\",\"\",\"- \"&Listas[[#This Row],[Descripcion]])","v":"5055 - Viaticos"},"5055","Viaticos",652]
["Concepto_1014",{"$f":"Listas[[#This Row],[ID]]&\" \"&IF(Listas[[#This Row],[Descripcion]]=\"\",\"\",\"- \"&Listas[[#This Row],[Descripcion]])","v":"5056 - Gastos de representacion"},"5056","Gastos de representacion",653]
["Concepto_1014",{"$f":"Listas[[#This Row],[ID]]&\" \"&IF(Listas[[#This Row],[Descripcion]]=\"\",\"\",\"- \"&Listas[[#This Row],[Descripcion]])","v":"5058 - Valor de los Aportes, Tasas y Contribuciones solicitado como deducción"},"5058","Valor de los Aportes, Tasas y Contribuciones solicitado como deducción",654]
["Concepto_1014",{"$f":"Listas[[#This Row],[ID]]&\" \"&IF(Listas[[#This Row],[Descripcion]]=\"\",\"\",\"- \"&Listas[[#This Row],[Descripcion]])","v":"5059 - El  pago  o  abono  en cuenta  realizado  a  cada  uno  de  los  cooperados,  del  valor  del  Fondo  para revalorización de aportes"},"5059","El  pago  o  abono  en cuenta  realizado  a  cada  uno  de  los  cooperados,  del  valor  del  Fondo  para revalorización de aportes",655]
["Concepto_1014",{"$f":"Listas[[#This Row],[ID]]&\" \"&IF(Listas[[#This Row],[Descripcion]]=\"\",\"\",\"- \"&Listas[[#This Row],[Descripcion]])","v":"5060 - Redención de inversiones en lo que corresponde al reembolso del capital por titulos de capitalizacion"},"5060","Redención de inversiones en lo que corresponde al reembolso del capital por titulos de capitalizacion",656]
["Concepto_1014",{"$f":"Listas[[#This Row],[ID]]&\" \"&IF(Listas[[#This Row],[Descripcion]]=\"\",\"\",\"- \"&Listas[[#This Row],[Descripcion]])","v":"5061 - Utilidades Pagadas o abonadas en cuenta, cuando el beneficiario es diferente al fideicomitente"},"5061","Utilidades Pagadas o abonadas en cuenta, cuando el beneficiario es diferente al fideicomitente",657]
["Concepto_1014",{"$f":"Listas[[#This Row],[ID]]&\" \"&IF(Listas[[#This Row],[Descripcion]]=\"\",\"\",\"- \"&Listas[[#This Row],[Descripcion]])","v":"5063 - Intereses y rendimientos financieros efectivamente pagados"},"5063","Intereses y rendimientos financieros efectivamente pagados",658]
["Concepto_1014",{"$f":"Listas[[#This Row],[ID]]&\" \"&IF(Listas[[#This Row],[Descripcion]]=\"\",\"\",\"- \"&Listas[[#This Row],[Descripcion]])","v":"5064 - Devoluciones de saldos de aportes pensionales pagados"},"5064","Devoluciones de saldos de aportes pensionales pagados",659]
["Concepto_1014",{"$f":"Listas[[#This Row],[ID]]&\" \"&IF(Listas[[#This Row],[Descripcion]]=\"\",\"\",\"- \"&Listas[[#This Row],[Descripcion]])","v":"5065 - Excedentes pensionales de libre disponibilidad componente de capital pagados"},"5065","Excedentes pensionales de libre disponibilidad componente de capital pagados",660]
["Concepto_1014",{"$f":"Listas[[#This Row],[ID]]&\" \"&IF(Listas[[#This Row],[Descripcion]]=\"\",\"\",\"- \"&Listas[[#This Row],[Descripcion]])","v":"5066 - El valor del impuesto nacional al consumo solicitado como deducción.Art.512-1 E.T"},"5066","El valor del impuesto nacional al consumo solicitado como deducción.Art.512-1 E.T",661]
["Concepto_1014",{"$f":"Listas[[#This Row],[ID]]&\" \"&IF(Listas[[#This Row],[Descripcion]]=\"\",\"\",\"- \"&Listas[[#This Row],[Descripcion]])","v":"5067 - El valor acumulado de los pagos o abonos en cuenta al exterior por consultoría"},"5067","El valor acumulado de los pagos o abonos en cuenta al exterior por consultoría",662]
["Concepto_1014",{"$f":"Listas[[#This Row],[ID]]&\" \"&IF(Listas[[#This Row],[Descripcion]]=\"\",\"\",\"- \"&Listas[[#This Row],[Descripcion]])","v":"5068 - Participaciones o dividendos pagados o abonados en cuenta en calidad de exigibles correspondientes a 2016 y anteriores, parágrafo 2 artículo 49 E.T."},"5068","Participaciones o dividendos pagados o abonados en cuenta en calidad de exigibles correspondientes a 2016 y anteriores, parágrafo 2 artículo 49 E.T.",663]
["Concepto_1014",{"$f":"Listas[[#This Row],[ID]]&\" \"&IF(Listas[[#This Row],[Descripcion]]=\"\",\"\",\"- \"&Listas[[#This Row],[Descripcion]])","v":"5069 - Participaciones o dividendos pagados o abonados en cuenta en calidad de exigibles correspondientes a 2016 y anteriores, numeral 3 del artículo 49 E.T."},"5069","Participaciones o dividendos pagados o abonados en cuenta en calidad de exigibles correspondientes a 2016 y anteriores, numeral 3 del artículo 49 E.T.",664]
["Concepto_1014",{"$f":"Listas[[#This Row],[ID]]&\" \"&IF(Listas[[#This Row],[Descripcion]]=\"\",\"\",\"- \"&Listas[[#This Row],[Descripcion]])","v":"5070 - Participaciones o dividendos pagados o abonados en cuenta en calidad de exigibles correspondientes a 2017 y siguientes, parágrafo 2 artículo 49 E.T."},"5070","Participaciones o dividendos pagados o abonados en cuenta en calidad de exigibles correspondientes a 2017 y siguientes, parágrafo 2 artículo 49 E.T.",665]
["Concepto_1014",{"$f":"Listas[[#This Row],[ID]]&\" \"&IF(Listas[[#This Row],[Descripcion]]=\"\",\"\",\"- \"&Listas[[#This Row],[Descripcion]])","v":"5071 - Participaciones o dividendos pagados o abonados en cuenta en calidad de exigibles correspondientes a 2017 y siguientes, numeral 3 del artículo 49 E.T."},"5071","Participaciones o dividendos pagados o abonados en cuenta en calidad de exigibles correspondientes a 2017 y siguientes, numeral 3 del artículo 49 E.T.",666]
["Concepto_1014",{"$f":"Listas[[#This Row],[ID]]&\" \"&IF(Listas[[#This Row],[Descripcion]]=\"\",\"\",\"- \"&Listas[[#This Row],[Descripcion]])","v":"5072 - El importe de los siniestros por seguros de vida pagados o abonados en cuenta"},"5072","El importe de los siniestros por seguros de vida pagados o abonados en cuenta",667]
["Concepto_1014",{"$f":"Listas[[#This Row],[ID]]&\" \"&IF(Listas[[#This Row],[Descripcion]]=\"\",\"\",\"- \"&Listas[[#This Row],[Descripcion]])","v":"5073 - Desembolsos por depósitos judiciales"},"5073","Desembolsos por depósitos judiciales",668]
["Concepto_1014",{"$f":"Listas[[#This Row],[ID]]&\" \"&IF(Listas[[#This Row],[Descripcion]]=\"\",\"\",\"- \"&Listas[[#This Row],[Descripcion]])","v":"5074 - Desembolsos por reintegros de depósitos judiciales"},"5074","Desembolsos por reintegros de depósitos judiciales",669]
["Concepto_1014",{"$f":"Listas[[#This Row],[ID]]&\" \"&IF(Listas[[#This Row],[Descripcion]]=\"\",\"\",\"- \"&Listas[[#This Row],[Descripcion]])","v":"5075 - Regalías y explotación de la propiedad intelectual"},"5075","Regalías y explotación de la propiedad intelectual",670]
["Concepto_1014",{"$f":"Listas[[#This Row],[ID]]&\" \"&IF(Listas[[#This Row],[Descripcion]]=\"\",\"\",\"- \"&Listas[[#This Row],[Descripcion]])","v":"5076 - Valor de utilidades distribuidas provenientes de diferimiento de ingresos, inciso 4 del art. 23-1 del E.T."},"5076","Valor de utilidades distribuidas provenientes de diferimiento de ingresos, inciso 4 del art. 23-1 del E.T.",671]
["Concepto_1014",{"$f":"Listas[[#This Row],[ID]]&\" \"&IF(Listas[[#This Row],[Descripcion]]=\"\",\"\",\"- \"&Listas[[#This Row],[Descripcion]])","v":"5078 - Retenciones contribución laudos arbitrales"},"5078","Retenciones contribución laudos arbitrales",672]
["Concepto_1014",{"$f":"Listas[[#This Row],[ID]]&\" \"&IF(Listas[[#This Row],[Descripcion]]=\"\",\"\",\"- \"&Listas[[#This Row],[Descripcion]])","v":"5079 - Intereses por deuda a vinculados en subcapitalización art.118-1 E.T. "},"5079","Intereses por deuda a vinculados en subcapitalización art.118-1 E.T. ",673]
["Concepto_1014",{"$f":"Listas[[#This Row],[ID]]&\" \"&IF(Listas[[#This Row],[Descripcion]]=\"\",\"\",\"- \"&Listas[[#This Row],[Descripcion]])","v":"5080 - El valor acumulado de los pagos o abonos efectuados a proveedores del exterior por servicios audiovisuales digitales (entre otros, de música, videos, películas y juegos de cualquier tipo, así como la radiodifusión de cualquier tipo de evento).Art.437-2 num.8 E.T."},"5080","El valor acumulado de los pagos o abonos efectuados a proveedores del exterior por servicios audiovisuales digitales (entre otros, de música, videos, películas y juegos de cualquier tipo, así como la radiodifusión de cualquier tipo de evento).Art.437-2 num.8 E.T.",674]
["Concepto_1014",{"$f":"Listas[[#This Row],[ID]]&\" \"&IF(Listas[[#This Row],[Descripcion]]=\"\",\"\",\"- \"&Listas[[#This Row],[Descripcion]])","v":"5081 - El valor acumulado de los pagos o abonos efectuados a proveedores del exterior por servicios prestados a través de plataformas digitales. Art.437-2 num.8 E.T."},"5081","El valor acumulado de los pagos o abonos efectuados a proveedores del exterior por servicios prestados a través de plataformas digitales. Art.437-2 num.8 E.T.",675]
["Concepto_1014",{"$f":"Listas[[#This Row],[ID]]&\" \"&IF(Listas[[#This Row],[Descripcion]]=\"\",\"\",\"- \"&Listas[[#This Row],[Descripcion]])","v":"5082 - El valor acumulado de los pagos o abonos efectuados a proveedores del exterior por suministro de servicios de publicidad online. Art.437-2 num.8 E.T."},"5082","El valor acumulado de los pagos o abonos efectuados a proveedores del exterior por suministro de servicios de publicidad online. Art.437-2 num.8 E.T.",676]
["Concepto_1014",{"$f":"Listas[[#This Row],[ID]]&\" \"&IF(Listas[[#This Row],[Descripcion]]=\"\",\"\",\"- \"&Listas[[#This Row],[Descripcion]])","v":"5083 - El valor acumulado de los pagos o abonos efectuados a proveedores del exterior por suministro de enseñanza o entrenamiento a distancia. Art.437-2 num.8 E.T."},"5083","El valor acumulado de los pagos o abonos efectuados a proveedores del exterior por suministro de enseñanza o entrenamiento a distancia. Art.437-2 num.8 E.T.",677]
["Concepto_1014",{"$f":"Listas[[#This Row],[ID]]&\" \"&IF(Listas[[#This Row],[Descripcion]]=\"\",\"\",\"- \"&Listas[[#This Row],[Descripcion]])","v":"5084 - El valor acumulado de los pagos o abonos efectuados a proveedores del exterior por suministro de derechos de uso o explotación de intangibles. Art.437-2 num.8 E.T."},"5084","El valor acumulado de los pagos o abonos efectuados a proveedores del exterior por suministro de derechos de uso o explotación de intangibles. Art.437-2 num.8 E.T.",678]
["Concepto_1014",{"$f":"Listas[[#This Row],[ID]]&\" \"&IF(Listas[[#This Row],[Descripcion]]=\"\",\"\",\"- \"&Listas[[#This Row],[Descripcion]])","v":"5085 - El valor acumulado de los pagos o abonos efectuados a proveedores del exterior por Otros servicios electrónicos o digitales con destino a usuarios ubicados en Colombia. Art.437-2 num.8 E.T."},"5085","El valor acumulado de los pagos o abonos efectuados a proveedores del exterior por Otros servicios electrónicos o digitales con destino a usuarios ubicados en Colombia. Art.437-2 num.8 E.T.",679]
["Concepto_1014",{"$f":"Listas[[#This Row],[ID]]&\" \"&IF(Listas[[#This Row],[Descripcion]]=\"\",\"\",\"- \"&Listas[[#This Row],[Descripcion]])","v":"5086 - Valor retención en la fuente trasladada a terceros por participaciones o dividendos recibidos de sociedades nacionales E.T. art. 242-1 par.1"},"5086","Valor retención en la fuente trasladada a terceros por participaciones o dividendos recibidos de sociedades nacionales E.T. art. 242-1 par.1",680]
["Concepto_1014",{"$f":"Listas[[#This Row],[ID]]&\" \"&IF(Listas[[#This Row],[Descripcion]]=\"\",\"\",\"- \"&Listas[[#This Row],[Descripcion]])","v":"5087 - Valor de los puntos premio redimidos en el período que afectan el gasto directamente, procedentes de programas de fidelización."},"5087","Valor de los puntos premio redimidos en el período que afectan el gasto directamente, procedentes de programas de fidelización.",681]
["Tipo_movimiento",{"$f":"Listas[[#This Row],[ID]]&\" \"&IF(Listas[[#This Row],[Descripcion]]=\"\",\"\",\"- \"&Listas[[#This Row],[Descripcion]])","v":"1 - Emisión"},"1","Emisión",682]
["Tipo_movimiento",{"$f":"Listas[[#This Row],[ID]]&\" \"&IF(Listas[[#This Row],[Descripcion]]=\"\",\"\",\"- \"&Listas[[#This Row],[Descripcion]])","v":"2 - Renovación"},"2","Renovación",683]
["Tipo_movimiento",{"$f":"Listas[[#This Row],[ID]]&\" \"&IF(Listas[[#This Row],[Descripcion]]=\"\",\"\",\"- \"&Listas[[#This Row],[Descripcion]])","v":"3 - Cancelación"},"3","Cancelación",684]
["Tipo_movimiento",{"$f":"Listas[[#This Row],[ID]]&\" \"&IF(Listas[[#This Row],[Descripcion]]=\"\",\"\",\"- \"&Listas[[#This Row],[Descripcion]])","v":"4 - Vigente"},"4","Vigente",685]
["Tipo_título",{"$f":"Listas[[#This Row],[ID]]&\" \"&IF(Listas[[#This Row],[Descripcion]]=\"\",\"\",\"- \"&Listas[[#This Row],[Descripcion]])","v":"1 - Certificado Depósito de Mercancías "},"1","Certificado Depósito de Mercancías ",686]
["Tipo_título",{"$f":"Listas[[#This Row],[ID]]&\" \"&IF(Listas[[#This Row],[Descripcion]]=\"\",\"\",\"- \"&Listas[[#This Row],[Descripcion]])","v":"2 - Bono de Prenda. "},"2","Bono de Prenda. ",687]
["Tipo_título",{"$f":"Listas[[#This Row],[ID]]&\" \"&IF(Listas[[#This Row],[Descripcion]]=\"\",\"\",\"- \"&Listas[[#This Row],[Descripcion]])","v":"3 - Certificado de Depósito de Ahorro a Termino ( CDAT) "},"3","Certificado de Depósito de Ahorro a Termino ( CDAT) ",688]
["Tipo_título",{"$f":"Listas[[#This Row],[ID]]&\" \"&IF(Listas[[#This Row],[Descripcion]]=\"\",\"\",\"- \"&Listas[[#This Row],[Descripcion]])","v":"4 - Certificado de Depósito a Término (CDT) "},"4","Certificado de Depósito a Término (CDT) ",689]
["Tipo_título",{"$f":"Listas[[#This Row],[ID]]&\" \"&IF(Listas[[#This Row],[Descripcion]]=\"\",\"\",\"- \"&Listas[[#This Row],[Descripcion]])","v":"5 - Bono Ordinario "},"5","Bono Ordinario ",690]
["Tipo_título",{"$f":"Listas[[#This Row],[ID]]&\" \"&IF(Listas[[#This Row],[Descripcion]]=\"\",\"\",\"- \"&Listas[[#This Row],[Descripcion]])","v":"6 - Bono subordinado "},"6","Bono subordinado ",691]
["Tipo_título",{"$f":"Listas[[#This Row],[ID]]&\" \"&IF(Listas[[#This Row],[Descripcion]]=\"\",\"\",\"- \"&Listas[[#This Row],[Descripcion]])","v":"7 - Otros "},"7","Otros ",692]
["Tipo_Afiliado",{"$f":"Listas[[#This Row],[ID]]&\" \"&IF(Listas[[#This Row],[Descripcion]]=\"\",\"\",\"- \"&Listas[[#This Row],[Descripcion]])","v":"1 - Trabajador"},"1","Trabajador",693]
["Tipo_Afiliado",{"$f":"Listas[[#This Row],[ID]]&\" \"&IF(Listas[[#This Row],[Descripcion]]=\"\",\"\",\"- \"&Listas[[#This Row],[Descripcion]])","v":"2 - Partícipe independiente"},"2","Partícipe independiente",694]
["Tipo_Aportante",{"$f":"Listas[[#This Row],[ID]]&\" \"&IF(Listas[[#This Row],[Descripcion]]=\"\",\"\",\"- \"&Listas[[#This Row],[Descripcion]])","v":"1 - Empleador"},"1","Empleador",695]
["Tipo_Aportante",{"$f":"Listas[[#This Row],[ID]]&\" \"&IF(Listas[[#This Row],[Descripcion]]=\"\",\"\",\"- \"&Listas[[#This Row],[Descripcion]])","v":"2 - Partícipe independiente"},"2","Partícipe independiente",696]
["Tipo_Aportante",{"$f":"Listas[[#This Row],[ID]]&\" \"&IF(Listas[[#This Row],[Descripcion]]=\"\",\"\",\"- \"&Listas[[#This Row],[Descripcion]])","v":"3 - Trabajador"},"3","Trabajador",697]
["Tipo_Aportante",{"$f":"Listas[[#This Row],[ID]]&\" \"&IF(Listas[[#This Row],[Descripcion]]=\"\",\"\",\"- \"&Listas[[#This Row],[Descripcion]])","v":"4 - Patrocinador"},"4","Patrocinador",698]
["Tipo_Fondo",{"$f":"Listas[[#This Row],[ID]]&\" \"&IF(Listas[[#This Row],[Descripcion]]=\"\",\"\",\"- \"&Listas[[#This Row],[Descripcion]])","v":"6 - Fondo Inversión Colectiva"},"6","Fondo Inversión Colectiva",699]
["Tipo_Fondo",{"$f":"Listas[[#This Row],[ID]]&\" \"&IF(Listas[[#This Row],[Descripcion]]=\"\",\"\",\"- \"&Listas[[#This Row],[Descripcion]])","v":"7 - Fondo nuevos emprendimientos innovadores"},"7","Fondo nuevos emprendimientos innovadores",700]
["Tipo_Aporte",{"$f":"Listas[[#This Row],[ID]]&\" \"&IF(Listas[[#This Row],[Descripcion]]=\"\",\"\",\"- \"&Listas[[#This Row],[Descripcion]])","v":"1 - Aporte al régimen de ahorro individual con solidaridad (RAIS)"},"1","Aporte al régimen de ahorro individual con solidaridad (RAIS)",701]
["Tipo_Aporte",{"$f":"Listas[[#This Row],[ID]]&\" \"&IF(Listas[[#This Row],[Descripcion]]=\"\",\"\",\"- \"&Listas[[#This Row],[Descripcion]])","v":"2 - Aportes voluntarios a pensión"},"2","Aportes voluntarios a pensión",702]
["Tipo_Aporte",{"$f":"Listas[[#This Row],[ID]]&\" \"&IF(Listas[[#This Row],[Descripcion]]=\"\",\"\",\"- \"&Listas[[#This Row],[Descripcion]])","v":"3 - Aporte Cuentas de Ahorro para el Fomento de la Construcción (AFC)"},"3","Aporte Cuentas de Ahorro para el Fomento de la Construcción (AFC)",703]
["Tipo_Aporte",{"$f":"Listas[[#This Row],[ID]]&\" \"&IF(Listas[[#This Row],[Descripcion]]=\"\",\"\",\"- \"&Listas[[#This Row],[Descripcion]])","v":"4 - Aporte Cuentas de Ahorro Voluntario Contractual (AVC)"},"4","Aporte Cuentas de Ahorro Voluntario Contractual (AVC)",704]
["Paises",{"$f":"Listas[[#This Row],[ID]]&\" \"&IF(Listas[[#This Row],[Descripcion]]=\"\",\"\",\"- \"&Listas[[#This Row],[Descripcion]])","v":"013 - AFGANISTAN"},"013","AFGANISTAN",705]
["Paises",{"$f":"Listas[[#This Row],[ID]]&\" \"&IF(Listas[[#This Row],[Descripcion]]=\"\",\"\",\"- \"&Listas[[#This Row],[Descripcion]])","v":"017 - ALBANIA"},"017","ALBANIA",706]
["Paises",{"$f":"Listas[[#This Row],[ID]]&\" \"&IF(Listas[[#This Row],[Descripcion]]=\"\",\"\",\"- \"&Listas[[#This Row],[Descripcion]])","v":"023 - ALEMANIA"},"023","ALEMANIA",707]
["Paises",{"$f":"Listas[[#This Row],[ID]]&\" \"&IF(Listas[[#This Row],[Descripcion]]=\"\",\"\",\"- \"&Listas[[#This Row],[Descripcion]])","v":"037 - ANDORRA"},"037","ANDORRA",708]
["Paises",{"$f":"Listas[[#This Row],[ID]]&\" \"&IF(Listas[[#This Row],[Descripcion]]=\"\",\"\",\"- \"&Listas[[#This Row],[Descripcion]])","v":"040 - ANGOLA"},"040","ANGOLA",709]
["Paises",{"$f":"Listas[[#This Row],[ID]]&\" \"&IF(Listas[[#This Row],[Descripcion]]=\"\",\"\",\"- \"&Listas[[#This Row],[Descripcion]])","v":"041 - ANGUILLA"},"041","ANGUILLA",710]
["Paises",{"$f":"Listas[[#This Row],[ID]]&\" \"&IF(Listas[[#This Row],[Descripcion]]=\"\",\"\",\"- \"&Listas[[#This Row],[Descripcion]])","v":"043 - ANTIGUA Y BARBUDA"},"043","ANTIGUA Y BARBUDA",711]
["Paises",{"$f":"Listas[[#This Row],[ID]]&\" \"&IF(Listas[[#This Row],[Descripcion]]=\"\",\"\",\"- \"&Listas[[#This Row],[Descripcion]])","v":"047 - ANTILLAS HOLANDESAS"},"047","ANTILLAS HOLANDESAS",712]
["Paises",{"$f":"Listas[[#This Row],[ID]]&\" \"&IF(Listas[[#This Row],[Descripcion]]=\"\",\"\",\"- \"&Listas[[#This Row],[Descripcion]])","v":"053 - ARABIA SAUDITA"},"053","ARABIA SAUDITA",713]
["Paises",{"$f":"Listas[[#This Row],[ID]]&\" \"&IF(Listas[[#This Row],[Descripcion]]=\"\",\"\",\"- \"&Listas[[#This Row],[Descripcion]])","v":"059 - ARGELIA"},"059","ARGELIA",714]
["Paises",{"$f":"Listas[[#This Row],[ID]]&\" \"&IF(Listas[[#This Row],[Descripcion]]=\"\",\"\",\"- \"&Listas[[#This Row],[Descripcion]])","v":"063 - ARGENTINA"},"063","ARGENTINA",715]
["Paises",{"$f":"Listas[[#This Row],[ID]]&\" \"&IF(Listas[[#This Row],[Descripcion]]=\"\",\"\",\"- \"&Listas[[#This Row],[Descripcion]])","v":"026 - ARMENIA"},"026","ARMENIA",716]
["Paises",{"$f":"Listas[[#This Row],[ID]]&\" \"&IF(Listas[[#This Row],[Descripcion]]=\"\",\"\",\"- \"&Listas[[#This Row],[Descripcion]])","v":"027 - ARUBA"},"027","ARUBA",717]
["Paises",{"$f":"Listas[[#This Row],[ID]]&\" \"&IF(Listas[[#This Row],[Descripcion]]=\"\",\"\",\"- \"&Listas[[#This Row],[Descripcion]])","v":"069 - AUSTRALIA"},"069","AUSTRALIA",718]
["Paises",{"$f":"Listas[[#This Row],[ID]]&\" \"&IF(Listas[[#This Row],[Descripcion]]=\"\",\"\",\"- \"&Listas[[#This Row],[Descripcion]])","v":"072 - AUSTRIA"},"072","AUSTRIA",719]
["Paises",{"$f":"Listas[[#This Row],[ID]]&\" \"&IF(Listas[[#This Row],[Descripcion]]=\"\",\"\",\"- \"&Listas[[#This Row],[Descripcion]])","v":"074 - AZERBAIJAN"},"074","AZERBAIJAN",720]
["Paises",{"$f":"Listas[[#This Row],[ID]]&\" \"&IF(Listas[[#This Row],[Descripcion]]=\"\",\"\",\"- \"&Listas[[#This Row],[Descripcion]])","v":"077 - BAHAMAS"},"077","BAHAMAS",721]
["Paises",{"$f":"Listas[[#This Row],[ID]]&\" \"&IF(Listas[[#This Row],[Descripcion]]=\"\",\"\",\"- \"&Listas[[#This Row],[Descripcion]])","v":"080 - BAHREIN"},"080","BAHREIN",722]
["Paises",{"$f":"Listas[[#This Row],[ID]]&\" \"&IF(Listas[[#This Row],[Descripcion]]=\"\",\"\",\"- \"&Listas[[#This Row],[Descripcion]])","v":"081 - BANGLADESH"},"081","BANGLADESH",723]
["Paises",{"$f":"Listas[[#This Row],[ID]]&\" \"&IF(Listas[[#This Row],[Descripcion]]=\"\",\"\",\"- \"&Listas[[#This Row],[Descripcion]])","v":"083 - BARBADOS"},"083","BARBADOS",724]
["Paises",{"$f":"Listas[[#This Row],[ID]]&\" \"&IF(Listas[[#This Row],[Descripcion]]=\"\",\"\",\"- \"&Listas[[#This Row],[Descripcion]])","v":"087 - BELGICA"},"087","BELGICA",725]
["Paises",{"$f":"Listas[[#This Row],[ID]]&\" \"&IF(Listas[[#This Row],[Descripcion]]=\"\",\"\",\"- \"&Listas[[#This Row],[Descripcion]])","v":"088 - BELICE"},"088","BELICE",726]
["Paises",{"$f":"Listas[[#This Row],[ID]]&\" \"&IF(Listas[[#This Row],[Descripcion]]=\"\",\"\",\"- \"&Listas[[#This Row],[Descripcion]])","v":"091 - BELORUS"},"091","BELORUS",727]
["Paises",{"$f":"Listas[[#This Row],[ID]]&\" \"&IF(Listas[[#This Row],[Descripcion]]=\"\",\"\",\"- \"&Listas[[#This Row],[Descripcion]])","v":"229 - BENIN"},"229","BENIN",728]
["Paises",{"$f":"Listas[[#This Row],[ID]]&\" \"&IF(Listas[[#This Row],[Descripcion]]=\"\",\"\",\"- \"&Listas[[#This Row],[Descripcion]])","v":"090 - BERMUDAS"},"090","BERMUDAS",729]
["Paises",{"$f":"Listas[[#This Row],[ID]]&\" \"&IF(Listas[[#This Row],[Descripcion]]=\"\",\"\",\"- \"&Listas[[#This Row],[Descripcion]])","v":"093 - BIRMANIA (MYANMAR)"},"093","BIRMANIA (MYANMAR)",730]
["Paises",{"$f":"Listas[[#This Row],[ID]]&\" \"&IF(Listas[[#This Row],[Descripcion]]=\"\",\"\",\"- \"&Listas[[#This Row],[Descripcion]])","v":"097 - BOLIVIA"},"097","BOLIVIA",731]
["Paises",{"$f":"Listas[[#This Row],[ID]]&\" \"&IF(Listas[[#This Row],[Descripcion]]=\"\",\"\",\"- \"&Listas[[#This Row],[Descripcion]])","v":"029 - BOSNIA-HERZEGOVINA"},"029","BOSNIA-HERZEGOVINA",732]
["Paises",{"$f":"Listas[[#This Row],[ID]]&\" \"&IF(Listas[[#This Row],[Descripcion]]=\"\",\"\",\"- \"&Listas[[#This Row],[Descripcion]])","v":"101 - BOTSWANA"},"101","BOTSWANA",733]
["Paises",{"$f":"Listas[[#This Row],[ID]]&\" \"&IF(Listas[[#This Row],[Descripcion]]=\"\",\"\",\"- \"&Listas[[#This Row],[Descripcion]])","v":"105 - BRASIL"},"105","BRASIL",734]
["Paises",{"$f":"Listas[[#This Row],[ID]]&\" \"&IF(Listas[[#This Row],[Descripcion]]=\"\",\"\",\"- \"&Listas[[#This Row],[Descripcion]])","v":"108 - BRUNEI DARUSSALAM"},"108","BRUNEI DARUSSALAM",735]
["Paises",{"$f":"Listas[[#This Row],[ID]]&\" \"&IF(Listas[[#This Row],[Descripcion]]=\"\",\"\",\"- \"&Listas[[#This Row],[Descripcion]])","v":"111 - BULGARIA"},"111","BULGARIA",736]
["Paises",{"$f":"Listas[[#This Row],[ID]]&\" \"&IF(Listas[[#This Row],[Descripcion]]=\"\",\"\",\"- \"&Listas[[#This Row],[Descripcion]])","v":"031 - BURKINA FASSO"},"031","BURKINA FASSO",737]
["Paises",{"$f":"Listas[[#This Row],[ID]]&\" \"&IF(Listas[[#This Row],[Descripcion]]=\"\",\"\",\"- \"&Listas[[#This Row],[Descripcion]])","v":"115 - BURUNDI"},"115","BURUNDI",738]
["Paises",{"$f":"Listas[[#This Row],[ID]]&\" \"&IF(Listas[[#This Row],[Descripcion]]=\"\",\"\",\"- \"&Listas[[#This Row],[Descripcion]])","v":"119 - BUTAN"},"119","BUTAN",739]
["Paises",{"$f":"Listas[[#This Row],[ID]]&\" \"&IF(Listas[[#This Row],[Descripcion]]=\"\",\"\",\"- \"&Listas[[#This Row],[Descripcion]])","v":"127 - CABO VERDE"},"127","CABO VERDE",740]
["Paises",{"$f":"Listas[[#This Row],[ID]]&\" \"&IF(Listas[[#This Row],[Descripcion]]=\"\",\"\",\"- \"&Listas[[#This Row],[Descripcion]])","v":"137 - CAIMAN, ISLAS"},"137","CAIMAN, ISLAS",741]
["Paises",{"$f":"Listas[[#This Row],[ID]]&\" \"&IF(Listas[[#This Row],[Descripcion]]=\"\",\"\",\"- \"&Listas[[#This Row],[Descripcion]])","v":"145 - CAMERUN, REPUBLICA U"},"145","CAMERUN, REPUBLICA U",742]
["Paises",{"$f":"Listas[[#This Row],[ID]]&\" \"&IF(Listas[[#This Row],[Descripcion]]=\"\",\"\",\"- \"&Listas[[#This Row],[Descripcion]])","v":"149 - CANADA"},"149","CANADA",743]
["Paises",{"$f":"Listas[[#This Row],[ID]]&\" \"&IF(Listas[[#This Row],[Descripcion]]=\"\",\"\",\"- \"&Listas[[#This Row],[Descripcion]])","v":"155 - CANAL(NORMANDAS),ISL"},"155","CANAL(NORMANDAS),ISL",744]
["Paises",{"$f":"Listas[[#This Row],[ID]]&\" \"&IF(Listas[[#This Row],[Descripcion]]=\"\",\"\",\"- \"&Listas[[#This Row],[Descripcion]])","v":"157 - CANTON ENDERBURY,ISL"},"157","CANTON ENDERBURY,ISL",745]
["Paises",{"$f":"Listas[[#This Row],[ID]]&\" \"&IF(Listas[[#This Row],[Descripcion]]=\"\",\"\",\"- \"&Listas[[#This Row],[Descripcion]])","v":"203 - CHAD"},"203","CHAD",746]
["Paises",{"$f":"Listas[[#This Row],[ID]]&\" \"&IF(Listas[[#This Row],[Descripcion]]=\"\",\"\",\"- \"&Listas[[#This Row],[Descripcion]])","v":"211 - CHILE"},"211","CHILE",747]
["Paises",{"$f":"Listas[[#This Row],[ID]]&\" \"&IF(Listas[[#This Row],[Descripcion]]=\"\",\"\",\"- \"&Listas[[#This Row],[Descripcion]])","v":"215 - CHINA"},"215","CHINA",748]
["Paises",{"$f":"Listas[[#This Row],[ID]]&\" \"&IF(Listas[[#This Row],[Descripcion]]=\"\",\"\",\"- \"&Listas[[#This Row],[Descripcion]])","v":"221 - CHIPRE"},"221","CHIPRE",749]
["Paises",{"$f":"Listas[[#This Row],[ID]]&\" \"&IF(Listas[[#This Row],[Descripcion]]=\"\",\"\",\"- \"&Listas[[#This Row],[Descripcion]])","v":"159 - CIUDAD DEL VATICANO"},"159","CIUDAD DEL VATICANO",750]
["Paises",{"$f":"Listas[[#This Row],[ID]]&\" \"&IF(Listas[[#This Row],[Descripcion]]=\"\",\"\",\"- \"&Listas[[#This Row],[Descripcion]])","v":"165 - COCOS (KEELING), ISL"},"165","COCOS (KEELING), ISL",751]
["Paises",{"$f":"Listas[[#This Row],[ID]]&\" \"&IF(Listas[[#This Row],[Descripcion]]=\"\",\"\",\"- \"&Listas[[#This Row],[Descripcion]])","v":"169 - COLOMBIA"},"169","COLOMBIA",752]
["Paises",{"$f":"Listas[[#This Row],[ID]]&\" \"&IF(Listas[[#This Row],[Descripcion]]=\"\",\"\",\"- \"&Listas[[#This Row],[Descripcion]])","v":"173 - COMORAS"},"173","COMORAS",753]
["Paises",{"$f":"Listas[[#This Row],[ID]]&\" \"&IF(Listas[[#This Row],[Descripcion]]=\"\",\"\",\"- \"&Listas[[#This Row],[Descripcion]])","v":"998 - COMUNIDAD EUROPEA"},"998","COMUNIDAD EUROPEA",754]
["Paises",{"$f":"Listas[[#This Row],[ID]]&\" \"&IF(Listas[[#This Row],[Descripcion]]=\"\",\"\",\"- \"&Listas[[#This Row],[Descripcion]])","v":"177 - CONGO"},"177","CONGO",755]
["Paises",{"$f":"Listas[[#This Row],[ID]]&\" \"&IF(Listas[[#This Row],[Descripcion]]=\"\",\"\",\"- \"&Listas[[#This Row],[Descripcion]])","v":"183 - COOK, ISLAS"},"183","COOK, ISLAS",756]
["Paises",{"$f":"Listas[[#This Row],[ID]]&\" \"&IF(Listas[[#This Row],[Descripcion]]=\"\",\"\",\"- \"&Listas[[#This Row],[Descripcion]])","v":"187 - COREA DEL NORTE,REPU"},"187","COREA DEL NORTE,REPU",757]
["Paises",{"$f":"Listas[[#This Row],[ID]]&\" \"&IF(Listas[[#This Row],[Descripcion]]=\"\",\"\",\"- \"&Listas[[#This Row],[Descripcion]])","v":"190 - COREA DEL SUR, REPUB"},"190","COREA DEL SUR, REPUB",758]
["Paises",{"$f":"Listas[[#This Row],[ID]]&\" \"&IF(Listas[[#This Row],[Descripcion]]=\"\",\"\",\"- \"&Listas[[#This Row],[Descripcion]])","v":"193 - COSTA DE MARFIL"},"193","COSTA DE MARFIL",759]
["Paises",{"$f":"Listas[[#This Row],[ID]]&\" \"&IF(Listas[[#This Row],[Descripcion]]=\"\",\"\",\"- \"&Listas[[#This Row],[Descripcion]])","v":"196 - COSTA RICA"},"196","COSTA RICA",760]
["Paises",{"$f":"Listas[[#This Row],[ID]]&\" \"&IF(Listas[[#This Row],[Descripcion]]=\"\",\"\",\"- \"&Listas[[#This Row],[Descripcion]])","v":"198 - CROACIA"},"198","CROACIA",761]
["Paises",{"$f":"Listas[[#This Row],[ID]]&\" \"&IF(Listas[[#This Row],[Descripcion]]=\"\",\"\",\"- \"&Listas[[#This Row],[Descripcion]])","v":"199 - CUBA"},"199","CUBA",762]
["Paises",{"$f":"Listas[[#This Row],[ID]]&\" \"&IF(Listas[[#This Row],[Descripcion]]=\"\",\"\",\"- \"&Listas[[#This Row],[Descripcion]])","v":"789 - CURACAO"},"789","CURACAO",763]
["Paises",{"$f":"Listas[[#This Row],[ID]]&\" \"&IF(Listas[[#This Row],[Descripcion]]=\"\",\"\",\"- \"&Listas[[#This Row],[Descripcion]])","v":"232 - DINAMARCA"},"232","DINAMARCA",764]
["Paises",{"$f":"Listas[[#This Row],[ID]]&\" \"&IF(Listas[[#This Row],[Descripcion]]=\"\",\"\",\"- \"&Listas[[#This Row],[Descripcion]])","v":"783 - DJIBOUTI"},"783","DJIBOUTI",765]
["Paises",{"$f":"Listas[[#This Row],[ID]]&\" \"&IF(Listas[[#This Row],[Descripcion]]=\"\",\"\",\"- \"&Listas[[#This Row],[Descripcion]])","v":"235 - DOMINICA"},"235","DOMINICA",766]
["Paises",{"$f":"Listas[[#This Row],[ID]]&\" \"&IF(Listas[[#This Row],[Descripcion]]=\"\",\"\",\"- \"&Listas[[#This Row],[Descripcion]])","v":"239 - ECUADOR"},"239","ECUADOR",767]
["Paises",{"$f":"Listas[[#This Row],[ID]]&\" \"&IF(Listas[[#This Row],[Descripcion]]=\"\",\"\",\"- \"&Listas[[#This Row],[Descripcion]])","v":"240 - EGIPTO"},"240","EGIPTO",768]
["Paises",{"$f":"Listas[[#This Row],[ID]]&\" \"&IF(Listas[[#This Row],[Descripcion]]=\"\",\"\",\"- \"&Listas[[#This Row],[Descripcion]])","v":"242 - EL SALVADOR"},"242","EL SALVADOR",769]
["Paises",{"$f":"Listas[[#This Row],[ID]]&\" \"&IF(Listas[[#This Row],[Descripcion]]=\"\",\"\",\"- \"&Listas[[#This Row],[Descripcion]])","v":"244 - EMIRATOS ARABES UNID"},"244","EMIRATOS ARABES UNID",770]
["Paises",{"$f":"Listas[[#This Row],[ID]]&\" \"&IF(Listas[[#This Row],[Descripcion]]=\"\",\"\",\"- \"&Listas[[#This Row],[Descripcion]])","v":"243 - ERITREA"},"243","ERITREA",771]
["Paises",{"$f":"Listas[[#This Row],[ID]]&\" \"&IF(Listas[[#This Row],[Descripcion]]=\"\",\"\",\"- \"&Listas[[#This Row],[Descripcion]])","v":"246 - ESLOVAQUIA"},"246","ESLOVAQUIA",772]
["Paises",{"$f":"Listas[[#This Row],[ID]]&\" \"&IF(Listas[[#This Row],[Descripcion]]=\"\",\"\",\"- \"&Listas[[#This Row],[Descripcion]])","v":"247 - ESLOVENIA"},"247","ESLOVENIA",773]
["Paises",{"$f":"Listas[[#This Row],[ID]]&\" \"&IF(Listas[[#This Row],[Descripcion]]=\"\",\"\",\"- \"&Listas[[#This Row],[Descripcion]])","v":"245 - ESPAÑA"},"245","ESPAÑA",774]
["Paises",{"$f":"Listas[[#This Row],[ID]]&\" \"&IF(Listas[[#This Row],[Descripcion]]=\"\",\"\",\"- \"&Listas[[#This Row],[Descripcion]])","v":"249 - ESTADOS UNIDOS"},"249","ESTADOS UNIDOS",775]
["Paises",{"$f":"Listas[[#This Row],[ID]]&\" \"&IF(Listas[[#This Row],[Descripcion]]=\"\",\"\",\"- \"&Listas[[#This Row],[Descripcion]])","v":"251 - ESTONIA"},"251","ESTONIA",776]
["Paises",{"$f":"Listas[[#This Row],[ID]]&\" \"&IF(Listas[[#This Row],[Descripcion]]=\"\",\"\",\"- \"&Listas[[#This Row],[Descripcion]])","v":"253 - ETIOPIA"},"253","ETIOPIA",777]
["Paises",{"$f":"Listas[[#This Row],[ID]]&\" \"&IF(Listas[[#This Row],[Descripcion]]=\"\",\"\",\"- \"&Listas[[#This Row],[Descripcion]])","v":"259 - FEROE, ISLAS"},"259","FEROE, ISLAS",778]
["Paises",{"$f":"Listas[[#This Row],[ID]]&\" \"&IF(Listas[[#This Row],[Descripcion]]=\"\",\"\",\"- \"&Listas[[#This Row],[Descripcion]])","v":"870 - FIJI"},"870","FIJI",779]
["Paises",{"$f":"Listas[[#This Row],[ID]]&\" \"&IF(Listas[[#This Row],[Descripcion]]=\"\",\"\",\"- \"&Listas[[#This Row],[Descripcion]])","v":"267 - FILIPINAS"},"267","FILIPINAS",780]
["Paises",{"$f":"Listas[[#This Row],[ID]]&\" \"&IF(Listas[[#This Row],[Descripcion]]=\"\",\"\",\"- \"&Listas[[#This Row],[Descripcion]])","v":"271 - FINLANDIA"},"271","FINLANDIA",781]
["Paises",{"$f":"Listas[[#This Row],[ID]]&\" \"&IF(Listas[[#This Row],[Descripcion]]=\"\",\"\",\"- \"&Listas[[#This Row],[Descripcion]])","v":"275 - FRANCIA"},"275","FRANCIA",782]
["Paises",{"$f":"Listas[[#This Row],[ID]]&\" \"&IF(Listas[[#This Row],[Descripcion]]=\"\",\"\",\"- \"&Listas[[#This Row],[Descripcion]])","v":"281 - GABON"},"281","GABON",783]
["Paises",{"$f":"Listas[[#This Row],[ID]]&\" \"&IF(Listas[[#This Row],[Descripcion]]=\"\",\"\",\"- \"&Listas[[#This Row],[Descripcion]])","v":"285 - GAMBIA"},"285","GAMBIA",784]
["Paises",{"$f":"Listas[[#This Row],[ID]]&\" \"&IF(Listas[[#This Row],[Descripcion]]=\"\",\"\",\"- \"&Listas[[#This Row],[Descripcion]])","v":"286 - GAZA Y JERICO"},"286","GAZA Y JERICO",785]
["Paises",{"$f":"Listas[[#This Row],[ID]]&\" \"&IF(Listas[[#This Row],[Descripcion]]=\"\",\"\",\"- \"&Listas[[#This Row],[Descripcion]])","v":"287 - GEORGIA"},"287","GEORGIA",786]
["Paises",{"$f":"Listas[[#This Row],[ID]]&\" \"&IF(Listas[[#This Row],[Descripcion]]=\"\",\"\",\"- \"&Listas[[#This Row],[Descripcion]])","v":"289 - GHANA"},"289","GHANA",787]
["Paises",{"$f":"Listas[[#This Row],[ID]]&\" \"&IF(Listas[[#This Row],[Descripcion]]=\"\",\"\",\"- \"&Listas[[#This Row],[Descripcion]])","v":"293 - GIBRALTAR"},"293","GIBRALTAR",788]
["Paises",{"$f":"Listas[[#This Row],[ID]]&\" \"&IF(Listas[[#This Row],[Descripcion]]=\"\",\"\",\"- \"&Listas[[#This Row],[Descripcion]])","v":"297 - GRANADA"},"297","GRANADA",789]
["Paises",{"$f":"Listas[[#This Row],[ID]]&\" \"&IF(Listas[[#This Row],[Descripcion]]=\"\",\"\",\"- \"&Listas[[#This Row],[Descripcion]])","v":"301 - GRECIA"},"301","GRECIA",790]
["Paises",{"$f":"Listas[[#This Row],[ID]]&\" \"&IF(Listas[[#This Row],[Descripcion]]=\"\",\"\",\"- \"&Listas[[#This Row],[Descripcion]])","v":"305 - GROENLANDIA"},"305","GROENLANDIA",791]
["Paises",{"$f":"Listas[[#This Row],[ID]]&\" \"&IF(Listas[[#This Row],[Descripcion]]=\"\",\"\",\"- \"&Listas[[#This Row],[Descripcion]])","v":"309 - GUADALUPE"},"309","GUADALUPE",792]
["Paises",{"$f":"Listas[[#This Row],[ID]]&\" \"&IF(Listas[[#This Row],[Descripcion]]=\"\",\"\",\"- \"&Listas[[#This Row],[Descripcion]])","v":"313 - GUAM"},"313","GUAM",793]
["Paises",{"$f":"Listas[[#This Row],[ID]]&\" \"&IF(Listas[[#This Row],[Descripcion]]=\"\",\"\",\"- \"&Listas[[#This Row],[Descripcion]])","v":"317 - GUATEMALA"},"317","GUATEMALA",794]
["Paises",{"$f":"Listas[[#This Row],[ID]]&\" \"&IF(Listas[[#This Row],[Descripcion]]=\"\",\"\",\"- \"&Listas[[#This Row],[Descripcion]])","v":"325 - GUAYANA FRANCESA"},"325","GUAYANA FRANCESA",795]
["Paises",{"$f":"Listas[[#This Row],[ID]]&\" \"&IF(Listas[[#This Row],[Descripcion]]=\"\",\"\",\"- \"&Listas[[#This Row],[Descripcion]])","v":"329 - GUINEA"},"329","GUINEA",796]
["Paises",{"$f":"Listas[[#This Row],[ID]]&\" \"&IF(Listas[[#This Row],[Descripcion]]=\"\",\"\",\"- \"&Listas[[#This Row],[Descripcion]])","v":"334 - GUINEA - BISSAU"},"334","GUINEA - BISSAU",797]
["Paises",{"$f":"Listas[[#This Row],[ID]]&\" \"&IF(Listas[[#This Row],[Descripcion]]=\"\",\"\",\"- \"&Listas[[#This Row],[Descripcion]])","v":"331 - GUINEA ECUATORIAL"},"331","GUINEA ECUATORIAL",798]
["Paises",{"$f":"Listas[[#This Row],[ID]]&\" \"&IF(Listas[[#This Row],[Descripcion]]=\"\",\"\",\"- \"&Listas[[#This Row],[Descripcion]])","v":"337 - GUYANA"},"337","GUYANA",799]
["Paises",{"$f":"Listas[[#This Row],[ID]]&\" \"&IF(Listas[[#This Row],[Descripcion]]=\"\",\"\",\"- \"&Listas[[#This Row],[Descripcion]])","v":"341 - HAITI"},"341","HAITI",800]
["Paises",{"$f":"Listas[[#This Row],[ID]]&\" \"&IF(Listas[[#This Row],[Descripcion]]=\"\",\"\",\"- \"&Listas[[#This Row],[Descripcion]])","v":"345 - HONDURAS"},"345","HONDURAS",801]
["Paises",{"$f":"Listas[[#This Row],[ID]]&\" \"&IF(Listas[[#This Row],[Descripcion]]=\"\",\"\",\"- \"&Listas[[#This Row],[Descripcion]])","v":"351 - HONG KONG"},"351","HONG KONG",802]
["Paises",{"$f":"Listas[[#This Row],[ID]]&\" \"&IF(Listas[[#This Row],[Descripcion]]=\"\",\"\",\"- \"&Listas[[#This Row],[Descripcion]])","v":"355 - HUNGRIA"},"355","HUNGRIA",803]
["Paises",{"$f":"Listas[[#This Row],[ID]]&\" \"&IF(Listas[[#This Row],[Descripcion]]=\"\",\"\",\"- \"&Listas[[#This Row],[Descripcion]])","v":"361 - INDIA"},"361","INDIA",804]
["Paises",{"$f":"Listas[[#This Row],[ID]]&\" \"&IF(Listas[[#This Row],[Descripcion]]=\"\",\"\",\"- \"&Listas[[#This Row],[Descripcion]])","v":"365 - INDONESIA"},"365","INDONESIA",805]
["Paises",{"$f":"Listas[[#This Row],[ID]]&\" \"&IF(Listas[[#This Row],[Descripcion]]=\"\",\"\",\"- \"&Listas[[#This Row],[Descripcion]])","v":"369 - IRAK"},"369","IRAK",806]
["Paises",{"$f":"Listas[[#This Row],[ID]]&\" \"&IF(Listas[[#This Row],[Descripcion]]=\"\",\"\",\"- \"&Listas[[#This Row],[Descripcion]])","v":"372 - IRAN, REPUBLICA ISLA"},"372","IRAN, REPUBLICA ISLA",807]
["Paises",{"$f":"Listas[[#This Row],[ID]]&\" \"&IF(Listas[[#This Row],[Descripcion]]=\"\",\"\",\"- \"&Listas[[#This Row],[Descripcion]])","v":"375 - IRLANDA (EIRE)"},"375","IRLANDA (EIRE)",808]
["Paises",{"$f":"Listas[[#This Row],[ID]]&\" \"&IF(Listas[[#This Row],[Descripcion]]=\"\",\"\",\"- \"&Listas[[#This Row],[Descripcion]])","v":"033 - ISLA DE MAN"},"033","ISLA DE MAN",809]
["Paises",{"$f":"Listas[[#This Row],[ID]]&\" \"&IF(Listas[[#This Row],[Descripcion]]=\"\",\"\",\"- \"&Listas[[#This Row],[Descripcion]])","v":"379 - ISLANDIA"},"379","ISLANDIA",810]
["Paises",{"$f":"Listas[[#This Row],[ID]]&\" \"&IF(Listas[[#This Row],[Descripcion]]=\"\",\"\",\"- \"&Listas[[#This Row],[Descripcion]])","v":"566 - ISLAS MENORES DE ESTADOS UNIDOS"},"566","ISLAS MENORES DE ESTADOS UNIDOS",811]
["Paises",{"$f":"Listas[[#This Row],[ID]]&\" \"&IF(Listas[[#This Row],[Descripcion]]=\"\",\"\",\"- \"&Listas[[#This Row],[Descripcion]])","v":"383 - ISRAEL"},"383","ISRAEL",812]
["Paises",{"$f":"Listas[[#This Row],[ID]]&\" \"&IF(Listas[[#This Row],[Descripcion]]=\"\",\"\",\"- \"&Listas[[#This Row],[Descripcion]])","v":"386 - ITALIA"},"386","ITALIA",813]
["Paises",{"$f":"Listas[[#This Row],[ID]]&\" \"&IF(Listas[[#This Row],[Descripcion]]=\"\",\"\",\"- \"&Listas[[#This Row],[Descripcion]])","v":"391 - JAMAICA"},"391","JAMAICA",814]
["Paises",{"$f":"Listas[[#This Row],[ID]]&\" \"&IF(Listas[[#This Row],[Descripcion]]=\"\",\"\",\"- \"&Listas[[#This Row],[Descripcion]])","v":"399 - JAPON"},"399","JAPON",815]
["Paises",{"$f":"Listas[[#This Row],[ID]]&\" \"&IF(Listas[[#This Row],[Descripcion]]=\"\",\"\",\"- \"&Listas[[#This Row],[Descripcion]])","v":"395 - JOHNSTON,ISLA"},"395","JOHNSTON,ISLA",816]
["Paises",{"$f":"Listas[[#This Row],[ID]]&\" \"&IF(Listas[[#This Row],[Descripcion]]=\"\",\"\",\"- \"&Listas[[#This Row],[Descripcion]])","v":"403 - JORDANIA"},"403","JORDANIA",817]
["Paises",{"$f":"Listas[[#This Row],[ID]]&\" \"&IF(Listas[[#This Row],[Descripcion]]=\"\",\"\",\"- \"&Listas[[#This Row],[Descripcion]])","v":"141 - KAMPUCHEA (CAMBOYA)"},"141","KAMPUCHEA (CAMBOYA)",818]
["Paises",{"$f":"Listas[[#This Row],[ID]]&\" \"&IF(Listas[[#This Row],[Descripcion]]=\"\",\"\",\"- \"&Listas[[#This Row],[Descripcion]])","v":"406 - KAZAJSTAN"},"406","KAZAJSTAN",819]
["Paises",{"$f":"Listas[[#This Row],[ID]]&\" \"&IF(Listas[[#This Row],[Descripcion]]=\"\",\"\",\"- \"&Listas[[#This Row],[Descripcion]])","v":"410 - KENYA"},"410","KENYA",820]
["Paises",{"$f":"Listas[[#This Row],[ID]]&\" \"&IF(Listas[[#This Row],[Descripcion]]=\"\",\"\",\"- \"&Listas[[#This Row],[Descripcion]])","v":"412 - KIRGUIZISTAN"},"412","KIRGUIZISTAN",821]
["Paises",{"$f":"Listas[[#This Row],[ID]]&\" \"&IF(Listas[[#This Row],[Descripcion]]=\"\",\"\",\"- \"&Listas[[#This Row],[Descripcion]])","v":"411 - KIRIBATI"},"411","KIRIBATI",822]
["Paises",{"$f":"Listas[[#This Row],[ID]]&\" \"&IF(Listas[[#This Row],[Descripcion]]=\"\",\"\",\"- \"&Listas[[#This Row],[Descripcion]])","v":"413 - KUWAIT"},"413","KUWAIT",823]
["Paises",{"$f":"Listas[[#This Row],[ID]]&\" \"&IF(Listas[[#This Row],[Descripcion]]=\"\",\"\",\"- \"&Listas[[#This Row],[Descripcion]])","v":"420 - LAOS,REPUBLICA POPUL"},"420","LAOS,REPUBLICA POPUL",824]
["Paises",{"$f":"Listas[[#This Row],[ID]]&\" \"&IF(Listas[[#This Row],[Descripcion]]=\"\",\"\",\"- \"&Listas[[#This Row],[Descripcion]])","v":"426 - LESOTHO"},"426","LESOTHO",825]
["Paises",{"$f":"Listas[[#This Row],[ID]]&\" \"&IF(Listas[[#This Row],[Descripcion]]=\"\",\"\",\"- \"&Listas[[#This Row],[Descripcion]])","v":"429 - LETONIA"},"429","LETONIA",826]
["Paises",{"$f":"Listas[[#This Row],[ID]]&\" \"&IF(Listas[[#This Row],[Descripcion]]=\"\",\"\",\"- \"&Listas[[#This Row],[Descripcion]])","v":"431 - LIBANO"},"431","LIBANO",827]
["Paises",{"$f":"Listas[[#This Row],[ID]]&\" \"&IF(Listas[[#This Row],[Descripcion]]=\"\",\"\",\"- \"&Listas[[#This Row],[Descripcion]])","v":"434 - LIBERIA"},"434","LIBERIA",828]
["Paises",{"$f":"Listas[[#This Row],[ID]]&\" \"&IF(Listas[[#This Row],[Descripcion]]=\"\",\"\",\"- \"&Listas[[#This Row],[Descripcion]])","v":"438 - LIBIA(INCLUYE FEZZAN"},"438","LIBIA(INCLUYE FEZZAN",829]
["Paises",{"$f":"Listas[[#This Row],[ID]]&\" \"&IF(Listas[[#This Row],[Descripcion]]=\"\",\"\",\"- \"&Listas[[#This Row],[Descripcion]])","v":"440 - LIECHTENSTEIN"},"440","LIECHTENSTEIN",830]
["Paises",{"$f":"Listas[[#This Row],[ID]]&\" \"&IF(Listas[[#This Row],[Descripcion]]=\"\",\"\",\"- \"&Listas[[#This Row],[Descripcion]])","v":"443 - LITUANIA"},"443","LITUANIA",831]
["Paises",{"$f":"Listas[[#This Row],[ID]]&\" \"&IF(Listas[[#This Row],[Descripcion]]=\"\",\"\",\"- \"&Listas[[#This Row],[Descripcion]])","v":"445 - LUXEMBURGO"},"445","LUXEMBURGO",832]
["Paises",{"$f":"Listas[[#This Row],[ID]]&\" \"&IF(Listas[[#This Row],[Descripcion]]=\"\",\"\",\"- \"&Listas[[#This Row],[Descripcion]])","v":"447 - MACAO"},"447","MACAO",833]
["Paises",{"$f":"Listas[[#This Row],[ID]]&\" \"&IF(Listas[[#This Row],[Descripcion]]=\"\",\"\",\"- \"&Listas[[#This Row],[Descripcion]])","v":"448 - MACEDONIA"},"448","MACEDONIA",834]
["Paises",{"$f":"Listas[[#This Row],[ID]]&\" \"&IF(Listas[[#This Row],[Descripcion]]=\"\",\"\",\"- \"&Listas[[#This Row],[Descripcion]])","v":"450 - MADAGASCAR"},"450","MADAGASCAR",835]
["Paises",{"$f":"Listas[[#This Row],[ID]]&\" \"&IF(Listas[[#This Row],[Descripcion]]=\"\",\"\",\"- \"&Listas[[#This Row],[Descripcion]])","v":"455 - MALASIA"},"455","MALASIA",836]
["Paises",{"$f":"Listas[[#This Row],[ID]]&\" \"&IF(Listas[[#This Row],[Descripcion]]=\"\",\"\",\"- \"&Listas[[#This Row],[Descripcion]])","v":"458 - MALAWI"},"458","MALAWI",837]
["Paises",{"$f":"Listas[[#This Row],[ID]]&\" \"&IF(Listas[[#This Row],[Descripcion]]=\"\",\"\",\"- \"&Listas[[#This Row],[Descripcion]])","v":"461 - MALDIVAS"},"461","MALDIVAS",838]
["Paises",{"$f":"Listas[[#This Row],[ID]]&\" \"&IF(Listas[[#This Row],[Descripcion]]=\"\",\"\",\"- \"&Listas[[#This Row],[Descripcion]])","v":"464 - MALI"},"464","MALI",839]
["Paises",{"$f":"Listas[[#This Row],[ID]]&\" \"&IF(Listas[[#This Row],[Descripcion]]=\"\",\"\",\"- \"&Listas[[#This Row],[Descripcion]])","v":"467 - MALTA"},"467","MALTA",840]
["Paises",{"$f":"Listas[[#This Row],[ID]]&\" \"&IF(Listas[[#This Row],[Descripcion]]=\"\",\"\",\"- \"&Listas[[#This Row],[Descripcion]])","v":"469 - MARIANAS DEL NORTE,I"},"469","MARIANAS DEL NORTE,I",841]
["Paises",{"$f":"Listas[[#This Row],[ID]]&\" \"&IF(Listas[[#This Row],[Descripcion]]=\"\",\"\",\"- \"&Listas[[#This Row],[Descripcion]])","v":"474 - MARRUECOS"},"474","MARRUECOS",842]
["Paises",{"$f":"Listas[[#This Row],[ID]]&\" \"&IF(Listas[[#This Row],[Descripcion]]=\"\",\"\",\"- \"&Listas[[#This Row],[Descripcion]])","v":"472 - MARSHALL, ISLAS"},"472","MARSHALL, ISLAS",843]
["Paises",{"$f":"Listas[[#This Row],[ID]]&\" \"&IF(Listas[[#This Row],[Descripcion]]=\"\",\"\",\"- \"&Listas[[#This Row],[Descripcion]])","v":"477 - MARTINICA"},"477","MARTINICA",844]
["Paises",{"$f":"Listas[[#This Row],[ID]]&\" \"&IF(Listas[[#This Row],[Descripcion]]=\"\",\"\",\"- \"&Listas[[#This Row],[Descripcion]])","v":"485 - MAURICIO"},"485","MAURICIO",845]
["Paises",{"$f":"Listas[[#This Row],[ID]]&\" \"&IF(Listas[[#This Row],[Descripcion]]=\"\",\"\",\"- \"&Listas[[#This Row],[Descripcion]])","v":"488 - MAURITANIA"},"488","MAURITANIA",846]
["Paises",{"$f":"Listas[[#This Row],[ID]]&\" \"&IF(Listas[[#This Row],[Descripcion]]=\"\",\"\",\"- \"&Listas[[#This Row],[Descripcion]])","v":"493 - MEXICO"},"493","MEXICO",847]
["Paises",{"$f":"Listas[[#This Row],[ID]]&\" \"&IF(Listas[[#This Row],[Descripcion]]=\"\",\"\",\"- \"&Listas[[#This Row],[Descripcion]])","v":"494 - MICRONESIA,ESTADOS F"},"494","MICRONESIA,ESTADOS F",848]
["Paises",{"$f":"Listas[[#This Row],[ID]]&\" \"&IF(Listas[[#This Row],[Descripcion]]=\"\",\"\",\"- \"&Listas[[#This Row],[Descripcion]])","v":"495 - MIDWAY, ISLAS"},"495","MIDWAY, ISLAS",849]
["Paises",{"$f":"Listas[[#This Row],[ID]]&\" \"&IF(Listas[[#This Row],[Descripcion]]=\"\",\"\",\"- \"&Listas[[#This Row],[Descripcion]])","v":"496 - MOLDAVIA"},"496","MOLDAVIA",850]
["Paises",{"$f":"Listas[[#This Row],[ID]]&\" \"&IF(Listas[[#This Row],[Descripcion]]=\"\",\"\",\"- \"&Listas[[#This Row],[Descripcion]])","v":"498 - MONACO"},"498","MONACO",851]
["Paises",{"$f":"Listas[[#This Row],[ID]]&\" \"&IF(Listas[[#This Row],[Descripcion]]=\"\",\"\",\"- \"&Listas[[#This Row],[Descripcion]])","v":"497 - MONGOLIA"},"497","MONGOLIA",852]
["Paises",{"$f":"Listas[[#This Row],[ID]]&\" \"&IF(Listas[[#This Row],[Descripcion]]=\"\",\"\",\"- \"&Listas[[#This Row],[Descripcion]])","v":"501 - MONSERRAT, ISLA"},"501","MONSERRAT, ISLA",853]
["Paises",{"$f":"Listas[[#This Row],[ID]]&\" \"&IF(Listas[[#This Row],[Descripcion]]=\"\",\"\",\"- \"&Listas[[#This Row],[Descripcion]])","v":"502 - MONTENEGRO"},"502","MONTENEGRO",854]
["Paises",{"$f":"Listas[[#This Row],[ID]]&\" \"&IF(Listas[[#This Row],[Descripcion]]=\"\",\"\",\"- \"&Listas[[#This Row],[Descripcion]])","v":"505 - MOZAMBIQUE"},"505","MOZAMBIQUE",855]
["Paises",{"$f":"Listas[[#This Row],[ID]]&\" \"&IF(Listas[[#This Row],[Descripcion]]=\"\",\"\",\"- \"&Listas[[#This Row],[Descripcion]])","v":"507 - NAMIBIA"},"507","NAMIBIA",856]
["Paises",{"$f":"Listas[[#This Row],[ID]]&\" \"&IF(Listas[[#This Row],[Descripcion]]=\"\",\"\",\"- \"&Listas[[#This Row],[Descripcion]])","v":"508 - NAURU"},"508","NAURU",857]
["Paises",{"$f":"Listas[[#This Row],[ID]]&\" \"&IF(Listas[[#This Row],[Descripcion]]=\"\",\"\",\"- \"&Listas[[#This Row],[Descripcion]])","v":"511 - NAVIDAD (CHRISTMAS)"},"511","NAVIDAD (CHRISTMAS)",858]
["Paises",{"$f":"Listas[[#This Row],[ID]]&\" \"&IF(Listas[[#This Row],[Descripcion]]=\"\",\"\",\"- \"&Listas[[#This Row],[Descripcion]])","v":"517 - NEPAL"},"517","NEPAL",859]
["Paises",{"$f":"Listas[[#This Row],[ID]]&\" \"&IF(Listas[[#This Row],[Descripcion]]=\"\",\"\",\"- \"&Listas[[#This Row],[Descripcion]])","v":"521 - NICARAGUA"},"521","NICARAGUA",860]
["Paises",{"$f":"Listas[[#This Row],[ID]]&\" \"&IF(Listas[[#This Row],[Descripcion]]=\"\",\"\",\"- \"&Listas[[#This Row],[Descripcion]])","v":"525 - NIGER"},"525","NIGER",861]
["Paises",{"$f":"Listas[[#This Row],[ID]]&\" \"&IF(Listas[[#This Row],[Descripcion]]=\"\",\"\",\"- \"&Listas[[#This Row],[Descripcion]])","v":"528 - NIGERIA"},"528","NIGERIA",862]
["Paises",{"$f":"Listas[[#This Row],[ID]]&\" \"&IF(Listas[[#This Row],[Descripcion]]=\"\",\"\",\"- \"&Listas[[#This Row],[Descripcion]])","v":"531 - NIUE, ISLA"},"531","NIUE, ISLA",863]
["Paises",{"$f":"Listas[[#This Row],[ID]]&\" \"&IF(Listas[[#This Row],[Descripcion]]=\"\",\"\",\"- \"&Listas[[#This Row],[Descripcion]])","v":"001 - NIVE ISLA"},"001","NIVE ISLA",864]
["Paises",{"$f":"Listas[[#This Row],[ID]]&\" \"&IF(Listas[[#This Row],[Descripcion]]=\"\",\"\",\"- \"&Listas[[#This Row],[Descripcion]])","v":"999 - NO DECLARADOS"},"999","NO DECLARADOS",865]
["Paises",{"$f":"Listas[[#This Row],[ID]]&\" \"&IF(Listas[[#This Row],[Descripcion]]=\"\",\"\",\"- \"&Listas[[#This Row],[Descripcion]])","v":"535 - NORFOLK, ISLA"},"535","NORFOLK, ISLA",866]
["Paises",{"$f":"Listas[[#This Row],[ID]]&\" \"&IF(Listas[[#This Row],[Descripcion]]=\"\",\"\",\"- \"&Listas[[#This Row],[Descripcion]])","v":"538 - NORUEGA"},"538","NORUEGA",867]
["Paises",{"$f":"Listas[[#This Row],[ID]]&\" \"&IF(Listas[[#This Row],[Descripcion]]=\"\",\"\",\"- \"&Listas[[#This Row],[Descripcion]])","v":"542 - NUEVA CALEDONIA"},"542","NUEVA CALEDONIA",868]
["Paises",{"$f":"Listas[[#This Row],[ID]]&\" \"&IF(Listas[[#This Row],[Descripcion]]=\"\",\"\",\"- \"&Listas[[#This Row],[Descripcion]])","v":"548 - NUEVA ZELANDIA"},"548","NUEVA ZELANDIA",869]
["Paises",{"$f":"Listas[[#This Row],[ID]]&\" \"&IF(Listas[[#This Row],[Descripcion]]=\"\",\"\",\"- \"&Listas[[#This Row],[Descripcion]])","v":"556 - OMAN"},"556","OMAN",870]
["Paises",{"$f":"Listas[[#This Row],[ID]]&\" \"&IF(Listas[[#This Row],[Descripcion]]=\"\",\"\",\"- \"&Listas[[#This Row],[Descripcion]])","v":"573 - PAISES BAJOS(HOLANDA"},"573","PAISES BAJOS(HOLANDA",871]
["Paises",{"$f":"Listas[[#This Row],[ID]]&\" \"&IF(Listas[[#This Row],[Descripcion]]=\"\",\"\",\"- \"&Listas[[#This Row],[Descripcion]])","v":"576 - PAKISTAN"},"576","PAKISTAN",872]
["Paises",{"$f":"Listas[[#This Row],[ID]]&\" \"&IF(Listas[[#This Row],[Descripcion]]=\"\",\"\",\"- \"&Listas[[#This Row],[Descripcion]])","v":"578 - PALAU, ISLAS"},"578","PALAU, ISLAS",873]
["Paises",{"$f":"Listas[[#This Row],[ID]]&\" \"&IF(Listas[[#This Row],[Descripcion]]=\"\",\"\",\"- \"&Listas[[#This Row],[Descripcion]])","v":"579 - PALESTINA"},"579","PALESTINA",874]
["Paises",{"$f":"Listas[[#This Row],[ID]]&\" \"&IF(Listas[[#This Row],[Descripcion]]=\"\",\"\",\"- \"&Listas[[#This Row],[Descripcion]])","v":"580 - PANAMA"},"580","PANAMA",875]
["Paises",{"$f":"Listas[[#This Row],[ID]]&\" \"&IF(Listas[[#This Row],[Descripcion]]=\"\",\"\",\"- \"&Listas[[#This Row],[Descripcion]])","v":"545 - PAPUASIA NUEV GUINEA"},"545","PAPUASIA NUEV GUINEA",876]
["Paises",{"$f":"Listas[[#This Row],[ID]]&\" \"&IF(Listas[[#This Row],[Descripcion]]=\"\",\"\",\"- \"&Listas[[#This Row],[Descripcion]])","v":"586 - PARAGUAY"},"586","PARAGUAY",877]
["Paises",{"$f":"Listas[[#This Row],[ID]]&\" \"&IF(Listas[[#This Row],[Descripcion]]=\"\",\"\",\"- \"&Listas[[#This Row],[Descripcion]])","v":"589 - PERU"},"589","PERU",878]
["Paises",{"$f":"Listas[[#This Row],[ID]]&\" \"&IF(Listas[[#This Row],[Descripcion]]=\"\",\"\",\"- \"&Listas[[#This Row],[Descripcion]])","v":"593 - PITCAIRN, ISLA"},"593","PITCAIRN, ISLA",879]
["Paises",{"$f":"Listas[[#This Row],[ID]]&\" \"&IF(Listas[[#This Row],[Descripcion]]=\"\",\"\",\"- \"&Listas[[#This Row],[Descripcion]])","v":"599 - POLINESIA FRANCESA"},"599","POLINESIA FRANCESA",880]
["Paises",{"$f":"Listas[[#This Row],[ID]]&\" \"&IF(Listas[[#This Row],[Descripcion]]=\"\",\"\",\"- \"&Listas[[#This Row],[Descripcion]])","v":"603 - POLONIA"},"603","POLONIA",881]
["Paises",{"$f":"Listas[[#This Row],[ID]]&\" \"&IF(Listas[[#This Row],[Descripcion]]=\"\",\"\",\"- \"&Listas[[#This Row],[Descripcion]])","v":"607 - PORTUGAL"},"607","PORTUGAL",882]
["Paises",{"$f":"Listas[[#This Row],[ID]]&\" \"&IF(Listas[[#This Row],[Descripcion]]=\"\",\"\",\"- \"&Listas[[#This Row],[Descripcion]])","v":"611 - PUERTO RICO"},"611","PUERTO RICO",883]
["Paises",{"$f":"Listas[[#This Row],[ID]]&\" \"&IF(Listas[[#This Row],[Descripcion]]=\"\",\"\",\"- \"&Listas[[#This Row],[Descripcion]])","v":"618 - QATAR"},"618","QATAR",884]
["Paises",{"$f":"Listas[[#This Row],[ID]]&\" \"&IF(Listas[[#This Row],[Descripcion]]=\"\",\"\",\"- \"&Listas[[#This Row],[Descripcion]])","v":"628 - REINO UNIDO"},"628","REINO UNIDO",885]
["Paises",{"$f":"Listas[[#This Row],[ID]]&\" \"&IF(Listas[[#This Row],[Descripcion]]=\"\",\"\",\"- \"&Listas[[#This Row],[Descripcion]])","v":"888 - REPUBLICA DEMOCRATICA DEL CONGO"},"888","REPUBLICA DEMOCRATICA DEL CONGO",886]
["Paises",{"$f":"Listas[[#This Row],[ID]]&\" \"&IF(Listas[[#This Row],[Descripcion]]=\"\",\"\",\"- \"&Listas[[#This Row],[Descripcion]])","v":"640 - REPUBLICA CENTROAFRI"},"640","REPUBLICA CENTROAFRI",887]
["Paises",{"$f":"Listas[[#This Row],[ID]]&\" \"&IF(Listas[[#This Row],[Descripcion]]=\"\",\"\",\"- \"&Listas[[#This Row],[Descripcion]])","v":"644 - REPUBLICA CHECA"},"644","REPUBLICA CHECA",888]
["Paises",{"$f":"Listas[[#This Row],[ID]]&\" \"&IF(Listas[[#This Row],[Descripcion]]=\"\",\"\",\"- \"&Listas[[#This Row],[Descripcion]])","v":"647 - REPUBLICA DOMINICANA"},"647","REPUBLICA DOMINICANA",889]
["Paises",{"$f":"Listas[[#This Row],[ID]]&\" \"&IF(Listas[[#This Row],[Descripcion]]=\"\",\"\",\"- \"&Listas[[#This Row],[Descripcion]])","v":"660 - REUNION"},"660","REUNION",890]
["Paises",{"$f":"Listas[[#This Row],[ID]]&\" \"&IF(Listas[[#This Row],[Descripcion]]=\"\",\"\",\"- \"&Listas[[#This Row],[Descripcion]])","v":"670 - RUMANIA"},"670","RUMANIA",891]
["Paises",{"$f":"Listas[[#This Row],[ID]]&\" \"&IF(Listas[[#This Row],[Descripcion]]=\"\",\"\",\"- \"&Listas[[#This Row],[Descripcion]])","v":"676 - RUSIA"},"676","RUSIA",892]
["Paises",{"$f":"Listas[[#This Row],[ID]]&\" \"&IF(Listas[[#This Row],[Descripcion]]=\"\",\"\",\"- \"&Listas[[#This Row],[Descripcion]])","v":"675 - RWANDA"},"675","RWANDA",893]
["Paises",{"$f":"Listas[[#This Row],[ID]]&\" \"&IF(Listas[[#This Row],[Descripcion]]=\"\",\"\",\"- \"&Listas[[#This Row],[Descripcion]])","v":"685 - SAHARA OCCIDENTAL"},"685","SAHARA OCCIDENTAL",894]
["Paises",{"$f":"Listas[[#This Row],[ID]]&\" \"&IF(Listas[[#This Row],[Descripcion]]=\"\",\"\",\"- \"&Listas[[#This Row],[Descripcion]])","v":"677 - SALOMON, ISLAS"},"677","SALOMON, ISLAS",895]
["Paises",{"$f":"Listas[[#This Row],[ID]]&\" \"&IF(Listas[[#This Row],[Descripcion]]=\"\",\"\",\"- \"&Listas[[#This Row],[Descripcion]])","v":"687 - SAMOA"},"687","SAMOA",896]
["Paises",{"$f":"Listas[[#This Row],[ID]]&\" \"&IF(Listas[[#This Row],[Descripcion]]=\"\",\"\",\"- \"&Listas[[#This Row],[Descripcion]])","v":"690 - SAMOA NORTEAMERICANA"},"690","SAMOA NORTEAMERICANA",897]
["Paises",{"$f":"Listas[[#This Row],[ID]]&\" \"&IF(Listas[[#This Row],[Descripcion]]=\"\",\"\",\"- \"&Listas[[#This Row],[Descripcion]])","v":"695 - SAN CRISTOBAL Y NIEVES"},"695","SAN CRISTOBAL Y NIEVES",898]
["Paises",{"$f":"Listas[[#This Row],[ID]]&\" \"&IF(Listas[[#This Row],[Descripcion]]=\"\",\"\",\"- \"&Listas[[#This Row],[Descripcion]])","v":"697 - SAN MARINO"},"697","SAN MARINO",899]
["Paises",{"$f":"Listas[[#This Row],[ID]]&\" \"&IF(Listas[[#This Row],[Descripcion]]=\"\",\"\",\"- \"&Listas[[#This Row],[Descripcion]])","v":"663 - SAN MARTIN (FRANCIA)"},"663","SAN MARTIN (FRANCIA)",900]
["Paises",{"$f":"Listas[[#This Row],[ID]]&\" \"&IF(Listas[[#This Row],[Descripcion]]=\"\",\"\",\"- \"&Listas[[#This Row],[Descripcion]])","v":"534 - SAN MARTIN (PAISES BAJOS)"},"534","SAN MARTIN (PAISES BAJOS)",901]
["Paises",{"$f":"Listas[[#This Row],[ID]]&\" \"&IF(Listas[[#This Row],[Descripcion]]=\"\",\"\",\"- \"&Listas[[#This Row],[Descripcion]])","v":"700 - SAN PEDRO Y MIGUELON"},"700","SAN PEDRO Y MIGUELON",902]
["Paises",{"$f":"Listas[[#This Row],[ID]]&\" \"&IF(Listas[[#This Row],[Descripcion]]=\"\",\"\",\"- \"&Listas[[#This Row],[Descripcion]])","v":"705 - SAN VICENTE Y LAS GR"},"705","SAN VICENTE Y LAS GR",903]
["Paises",{"$f":"Listas[[#This Row],[ID]]&\" \"&IF(Listas[[#This Row],[Descripcion]]=\"\",\"\",\"- \"&Listas[[#This Row],[Descripcion]])","v":"710 - SANTA ELENA"},"710","SANTA ELENA",904]
["Paises",{"$f":"Listas[[#This Row],[ID]]&\" \"&IF(Listas[[#This Row],[Descripcion]]=\"\",\"\",\"- \"&Listas[[#This Row],[Descripcion]])","v":"715 - SANTA LUCIA"},"715","SANTA LUCIA",905]
["Paises",{"$f":"Listas[[#This Row],[ID]]&\" \"&IF(Listas[[#This Row],[Descripcion]]=\"\",\"\",\"- \"&Listas[[#This Row],[Descripcion]])","v":"720 - SANTO TOME Y PRINCIP"},"720","SANTO TOME Y PRINCIP",906]
["Paises",{"$f":"Listas[[#This Row],[ID]]&\" \"&IF(Listas[[#This Row],[Descripcion]]=\"\",\"\",\"- \"&Listas[[#This Row],[Descripcion]])","v":"728 - SENEGAL"},"728","SENEGAL",907]
["Paises",{"$f":"Listas[[#This Row],[ID]]&\" \"&IF(Listas[[#This Row],[Descripcion]]=\"\",\"\",\"- \"&Listas[[#This Row],[Descripcion]])","v":"032 - SERBIA"},"032","SERBIA",908]
["Paises",{"$f":"Listas[[#This Row],[ID]]&\" \"&IF(Listas[[#This Row],[Descripcion]]=\"\",\"\",\"- \"&Listas[[#This Row],[Descripcion]])","v":"731 - SEYCHELLES"},"731","SEYCHELLES",909]
["Paises",{"$f":"Listas[[#This Row],[ID]]&\" \"&IF(Listas[[#This Row],[Descripcion]]=\"\",\"\",\"- \"&Listas[[#This Row],[Descripcion]])","v":"735 - SIERRA LEONA"},"735","SIERRA LEONA",910]
["Paises",{"$f":"Listas[[#This Row],[ID]]&\" \"&IF(Listas[[#This Row],[Descripcion]]=\"\",\"\",\"- \"&Listas[[#This Row],[Descripcion]])","v":"741 - SINGAPUR"},"741","SINGAPUR",911]
["Paises",{"$f":"Listas[[#This Row],[ID]]&\" \"&IF(Listas[[#This Row],[Descripcion]]=\"\",\"\",\"- \"&Listas[[#This Row],[Descripcion]])","v":"744 - SIRIA,REPUBLICA ARAB"},"744","SIRIA,REPUBLICA ARAB",912]
["Paises",{"$f":"Listas[[#This Row],[ID]]&\" \"&IF(Listas[[#This Row],[Descripcion]]=\"\",\"\",\"- \"&Listas[[#This Row],[Descripcion]])","v":"748 - SOMALIA"},"748","SOMALIA",913]
["Paises",{"$f":"Listas[[#This Row],[ID]]&\" \"&IF(Listas[[#This Row],[Descripcion]]=\"\",\"\",\"- \"&Listas[[#This Row],[Descripcion]])","v":"750 - SRI LANKA"},"750","SRI LANKA",914]
["Paises",{"$f":"Listas[[#This Row],[ID]]&\" \"&IF(Listas[[#This Row],[Descripcion]]=\"\",\"\",\"- \"&Listas[[#This Row],[Descripcion]])","v":"756 - SUDAFRICA,REPUBLICA"},"756","SUDAFRICA,REPUBLICA",915]
["Paises",{"$f":"Listas[[#This Row],[ID]]&\" \"&IF(Listas[[#This Row],[Descripcion]]=\"\",\"\",\"- \"&Listas[[#This Row],[Descripcion]])","v":"759 - SUDAN"},"759","SUDAN",916]
["Paises",{"$f":"Listas[[#This Row],[ID]]&\" \"&IF(Listas[[#This Row],[Descripcion]]=\"\",\"\",\"- \"&Listas[[#This Row],[Descripcion]])","v":"764 - SUECIA"},"764","SUECIA",917]
["Paises",{"$f":"Listas[[#This Row],[ID]]&\" \"&IF(Listas[[#This Row],[Descripcion]]=\"\",\"\",\"- \"&Listas[[#This Row],[Descripcion]])","v":"767 - SUIZA"},"767","SUIZA",918]
["Paises",{"$f":"Listas[[#This Row],[ID]]&\" \"&IF(Listas[[#This Row],[Descripcion]]=\"\",\"\",\"- \"&Listas[[#This Row],[Descripcion]])","v":"770 - SURINAM"},"770","SURINAM",919]
["Paises",{"$f":"Listas[[#This Row],[ID]]&\" \"&IF(Listas[[#This Row],[Descripcion]]=\"\",\"\",\"- \"&Listas[[#This Row],[Descripcion]])","v":"773 - SWAZILANDIA"},"773","SWAZILANDIA",920]
["Paises",{"$f":"Listas[[#This Row],[ID]]&\" \"&IF(Listas[[#This Row],[Descripcion]]=\"\",\"\",\"- \"&Listas[[#This Row],[Descripcion]])","v":"774 - TADJIKISTAN"},"774","TADJIKISTAN",921]
["Paises",{"$f":"Listas[[#This Row],[ID]]&\" \"&IF(Listas[[#This Row],[Descripcion]]=\"\",\"\",\"- \"&Listas[[#This Row],[Descripcion]])","v":"776 - TAILANDIA"},"776","TAILANDIA",922]
["Paises",{"$f":"Listas[[#This Row],[ID]]&\" \"&IF(Listas[[#This Row],[Descripcion]]=\"\",\"\",\"- \"&Listas[[#This Row],[Descripcion]])","v":"218 - TAIWAN (FORMOSA)"},"218","TAIWAN (FORMOSA)",923]
["Paises",{"$f":"Listas[[#This Row],[ID]]&\" \"&IF(Listas[[#This Row],[Descripcion]]=\"\",\"\",\"- \"&Listas[[#This Row],[Descripcion]])","v":"780 - TANZANIA,REPUBLICA U"},"780","TANZANIA,REPUBLICA U",924]
["Paises",{"$f":"Listas[[#This Row],[ID]]&\" \"&IF(Listas[[#This Row],[Descripcion]]=\"\",\"\",\"- \"&Listas[[#This Row],[Descripcion]])","v":"786 - TERRI ANTARTICO BRIT"},"786","TERRI ANTARTICO BRIT",925]
["Paises",{"$f":"Listas[[#This Row],[ID]]&\" \"&IF(Listas[[#This Row],[Descripcion]]=\"\",\"\",\"- \"&Listas[[#This Row],[Descripcion]])","v":"787 - TERRITORI BRITANICO"},"787","TERRITORI BRITANICO",926]
["Paises",{"$f":"Listas[[#This Row],[ID]]&\" \"&IF(Listas[[#This Row],[Descripcion]]=\"\",\"\",\"- \"&Listas[[#This Row],[Descripcion]])","v":"788 - TIMOR DEL ESTE"},"788","TIMOR DEL ESTE",927]
["Paises",{"$f":"Listas[[#This Row],[ID]]&\" \"&IF(Listas[[#This Row],[Descripcion]]=\"\",\"\",\"- \"&Listas[[#This Row],[Descripcion]])","v":"800 - TOGO"},"800","TOGO",928]
["Paises",{"$f":"Listas[[#This Row],[ID]]&\" \"&IF(Listas[[#This Row],[Descripcion]]=\"\",\"\",\"- \"&Listas[[#This Row],[Descripcion]])","v":"805 - TOKELAU"},"805","TOKELAU",929]
["Paises",{"$f":"Listas[[#This Row],[ID]]&\" \"&IF(Listas[[#This Row],[Descripcion]]=\"\",\"\",\"- \"&Listas[[#This Row],[Descripcion]])","v":"810 - TONGA"},"810","TONGA",930]
["Paises",{"$f":"Listas[[#This Row],[ID]]&\" \"&IF(Listas[[#This Row],[Descripcion]]=\"\",\"\",\"- \"&Listas[[#This Row],[Descripcion]])","v":"815 - TRINIDAD Y TOBAGO"},"815","TRINIDAD Y TOBAGO",931]
["Paises",{"$f":"Listas[[#This Row],[ID]]&\" \"&IF(Listas[[#This Row],[Descripcion]]=\"\",\"\",\"- \"&Listas[[#This Row],[Descripcion]])","v":"820 - TUNICIA"},"820","TUNICIA",932]
["Paises",{"$f":"Listas[[#This Row],[ID]]&\" \"&IF(Listas[[#This Row],[Descripcion]]=\"\",\"\",\"- \"&Listas[[#This Row],[Descripcion]])","v":"823 - TURCAS Y CAICOS,ISLA"},"823","TURCAS Y CAICOS,ISLA",933]
["Paises",{"$f":"Listas[[#This Row],[ID]]&\" \"&IF(Listas[[#This Row],[Descripcion]]=\"\",\"\",\"- \"&Listas[[#This Row],[Descripcion]])","v":"825 - TURKMENISTAN"},"825","TURKMENISTAN",934]
["Paises",{"$f":"Listas[[#This Row],[ID]]&\" \"&IF(Listas[[#This Row],[Descripcion]]=\"\",\"\",\"- \"&Listas[[#This Row],[Descripcion]])","v":"827 - TURQUIA"},"827","TURQUIA",935]
["Paises",{"$f":"Listas[[#This Row],[ID]]&\" \"&IF(Listas[[#This Row],[Descripcion]]=\"\",\"\",\"- \"&Listas[[#This Row],[Descripcion]])","v":"828 - TUVALU"},"828","TUVALU",936]
["Paises",{"$f":"Listas[[#This Row],[ID]]&\" \"&IF(Listas[[#This Row],[Descripcion]]=\"\",\"\",\"- \"&Listas[[#This Row],[Descripcion]])","v":"830 - UCRANIA"},"830","UCRANIA",937]
["Paises",{"$f":"Listas[[#This Row],[ID]]&\" \"&IF(Listas[[#This Row],[Descripcion]]=\"\",\"\",\"- \"&Listas[[#This Row],[Descripcion]])","v":"833 - UGANDA"},"833","UGANDA",938]
["Paises",{"$f":"Listas[[#This Row],[ID]]&\" \"&IF(Listas[[#This Row],[Descripcion]]=\"\",\"\",\"- \"&Listas[[#This Row],[Descripcion]])","v":"845 - URUGUAY"},"845","URUGUAY",939]
["Paises",{"$f":"Listas[[#This Row],[ID]]&\" \"&IF(Listas[[#This Row],[Descripcion]]=\"\",\"\",\"- \"&Listas[[#This Row],[Descripcion]])","v":"847 - UZBEKISTAN"},"847","UZBEKISTAN",940]
["Paises",{"$f":"Listas[[#This Row],[ID]]&\" \"&IF(Listas[[#This Row],[Descripcion]]=\"\",\"\",\"- \"&Listas[[#This Row],[Descripcion]])","v":"551 - VANUATU"},"551","VANUATU",941]
["Paises",{"$f":"Listas[[#This Row],[ID]]&\" \"&IF(Listas[[#This Row],[Descripcion]]=\"\",\"\",\"- \"&Listas[[#This Row],[Descripcion]])","v":"850 - VENEZUELA"},"850","VENEZUELA",942]
["Paises",{"$f":"Listas[[#This Row],[ID]]&\" \"&IF(Listas[[#This Row],[Descripcion]]=\"\",\"\",\"- \"&Listas[[#This Row],[Descripcion]])","v":"855 - VIETNAM"},"855","VIETNAM",943]
["Paises",{"$f":"Listas[[#This Row],[ID]]&\" \"&IF(Listas[[#This Row],[Descripcion]]=\"\",\"\",\"- \"&Listas[[#This Row],[Descripcion]])","v":"863 - VIRGENES,ISLAS(BRITA"},"863","VIRGENES,ISLAS(BRITA",944]
["Paises",{"$f":"Listas[[#This Row],[ID]]&\" \"&IF(Listas[[#This Row],[Descripcion]]=\"\",\"\",\"- \"&Listas[[#This Row],[Descripcion]])","v":"866 - VIRGENES,ISLAS(NORTE"},"866","VIRGENES,ISLAS(NORTE",945]
["Paises",{"$f":"Listas[[#This Row],[ID]]&\" \"&IF(Listas[[#This Row],[Descripcion]]=\"\",\"\",\"- \"&Listas[[#This Row],[Descripcion]])","v":"873 - WAKE, ISLA"},"873","WAKE, ISLA",946]
["Paises",{"$f":"Listas[[#This Row],[ID]]&\" \"&IF(Listas[[#This Row],[Descripcion]]=\"\",\"\",\"- \"&Listas[[#This Row],[Descripcion]])","v":"875 - WALLIS Y FORTUNA,ISL"},"875","WALLIS Y FORTUNA,ISL",947]
["Paises",{"$f":"Listas[[#This Row],[ID]]&\" \"&IF(Listas[[#This Row],[Descripcion]]=\"\",\"\",\"- \"&Listas[[#This Row],[Descripcion]])","v":"880 - YEMEN"},"880","YEMEN",948]
["Paises",{"$f":"Listas[[#This Row],[ID]]&\" \"&IF(Listas[[#This Row],[Descripcion]]=\"\",\"\",\"- \"&Listas[[#This Row],[Descripcion]])","v":"885 - YUGOSLAVIA"},"885","YUGOSLAVIA",949]
["Paises",{"$f":"Listas[[#This Row],[ID]]&\" \"&IF(Listas[[#This Row],[Descripcion]]=\"\",\"\",\"- \"&Listas[[#This Row],[Descripcion]])","v":"890 - ZAMBIA"},"890","ZAMBIA",950]
["Paises",{"$f":"Listas[[#This Row],[ID]]&\" \"&IF(Listas[[#This Row],[Descripcion]]=\"\",\"\",\"- \"&Listas[[#This Row],[Descripcion]])","v":"665 - ZIMBABWE"},"665","ZIMBABWE",951]
["Paises",{"$f":"Listas[[#This Row],[ID]]&\" \"&IF(Listas[[#This Row],[Descripcion]]=\"\",\"\",\"- \"&Listas[[#This Row],[Descripcion]])","v":"895 - ZONA CANAL DE PANAMA"},"895","ZONA CANAL DE PANAMA",952]
["Paises",{"$f":"Listas[[#This Row],[ID]]&\" \"&IF(Listas[[#This Row],[Descripcion]]=\"\",\"\",\"- \"&Listas[[#This Row],[Descripcion]])","v":"897 - ZONA NEUTRAL(PALESTA"},"897","ZONA NEUTRAL(PALESTA",953]
["Tipo_Cuenta",{"$f":"Listas[[#This Row],[ID]]&\" \"&IF(Listas[[#This Row],[Descripcion]]=\"\",\"\",\"- \"&Listas[[#This Row],[Descripcion]])","v":"1 - Individual"},"1","Individual",954]
["Tipo_Cuenta",{"$f":"Listas[[#This Row],[ID]]&\" \"&IF(Listas[[#This Row],[Descripcion]]=\"\",\"\",\"- \"&Listas[[#This Row],[Descripcion]])","v":"2 - Mancomunada \"Y\""},"2","Mancomunada \"Y\"",955]
["Tipo_Cuenta",{"$f":"Listas[[#This Row],[ID]]&\" \"&IF(Listas[[#This Row],[Descripcion]]=\"\",\"\",\"- \"&Listas[[#This Row],[Descripcion]])","v":"3 - Mancomunada \"O\""},"3","Mancomunada \"O\"",956]
["Concepto_1034",{"$f":"Listas[[#This Row],[ID]]&\" \"&IF(Listas[[#This Row],[Descripcion]]=\"\",\"\",\"- \"&Listas[[#This Row],[Descripcion]])","v":"1020 - Efectivo y equivalentes al efectivo"},"1020","Efectivo y equivalentes al efectivo",957]
["Concepto_1034",{"$f":"Listas[[#This Row],[ID]]&\" \"&IF(Listas[[#This Row],[Descripcion]]=\"\",\"\",\"- \"&Listas[[#This Row],[Descripcion]])","v":"1021 - Inversiones e instrumentos financieros derivados"},"1021","Inversiones e instrumentos financieros derivados",958]
["Concepto_1034",{"$f":"Listas[[#This Row],[ID]]&\" \"&IF(Listas[[#This Row],[Descripcion]]=\"\",\"\",\"- \"&Listas[[#This Row],[Descripcion]])","v":"1022 - Cuentas por cobrar"},"1022","Cuentas por cobrar",959]
["Concepto_1034",{"$f":"Listas[[#This Row],[ID]]&\" \"&IF(Listas[[#This Row],[Descripcion]]=\"\",\"\",\"- \"&Listas[[#This Row],[Descripcion]])","v":"1023 - Inventarios"},"1023","Inventarios",960]
["Concepto_1034",{"$f":"Listas[[#This Row],[ID]]&\" \"&IF(Listas[[#This Row],[Descripcion]]=\"\",\"\",\"- \"&Listas[[#This Row],[Descripcion]])","v":"1024 - Gastos pagados por anticipado."},"1024","Gastos pagados por anticipado.",961]
["Concepto_1034",{"$f":"Listas[[#This Row],[ID]]&\" \"&IF(Listas[[#This Row],[Descripcion]]=\"\",\"\",\"- \"&Listas[[#This Row],[Descripcion]])","v":"1025 - Activos por impuestos corrientes"},"1025","Activos por impuestos corrientes",962]
["Concepto_1034",{"$f":"Listas[[#This Row],[ID]]&\" \"&IF(Listas[[#This Row],[Descripcion]]=\"\",\"\",\"- \"&Listas[[#This Row],[Descripcion]])","v":"1026 - Activos por impuestos diferidos"},"1026","Activos por impuestos diferidos",963]
["Concepto_1034",{"$f":"Listas[[#This Row],[ID]]&\" \"&IF(Listas[[#This Row],[Descripcion]]=\"\",\"\",\"- \"&Listas[[#This Row],[Descripcion]])","v":"1027 - Propiedades, planta y equipo"},"1027","Propiedades, planta y equipo",964]
["Concepto_1034",{"$f":"Listas[[#This Row],[ID]]&\" \"&IF(Listas[[#This Row],[Descripcion]]=\"\",\"\",\"- \"&Listas[[#This Row],[Descripcion]])","v":"1028 - Activos intangibles"},"1028","Activos intangibles",965]
["Concepto_1034",{"$f":"Listas[[#This Row],[ID]]&\" \"&IF(Listas[[#This Row],[Descripcion]]=\"\",\"\",\"- \"&Listas[[#This Row],[Descripcion]])","v":"1029 - Propiedades de inversión"},"1029","Propiedades de inversión",966]
["Concepto_1034",{"$f":"Listas[[#This Row],[ID]]&\" \"&IF(Listas[[#This Row],[Descripcion]]=\"\",\"\",\"- \"&Listas[[#This Row],[Descripcion]])","v":"1030 - Activos no corrientes mantenidos para la venta / distribuir a los propietarios"},"1030","Activos no corrientes mantenidos para la venta / distribuir a los propietarios",967]
["Concepto_1034",{"$f":"Listas[[#This Row],[ID]]&\" \"&IF(Listas[[#This Row],[Descripcion]]=\"\",\"\",\"- \"&Listas[[#This Row],[Descripcion]])","v":"1031 - Activos biológicos"},"1031","Activos biológicos",968]
["Concepto_1034",{"$f":"Listas[[#This Row],[ID]]&\" \"&IF(Listas[[#This Row],[Descripcion]]=\"\",\"\",\"- \"&Listas[[#This Row],[Descripcion]])","v":"1032 - Otros activos"},"1032","Otros activos",969]
["Concepto_1034",{"$f":"Listas[[#This Row],[ID]]&\" \"&IF(Listas[[#This Row],[Descripcion]]=\"\",\"\",\"- \"&Listas[[#This Row],[Descripcion]])","v":"2020 - Obligaciones financieras y cuentas por pagar"},"2020","Obligaciones financieras y cuentas por pagar",970]
["Concepto_1034",{"$f":"Listas[[#This Row],[ID]]&\" \"&IF(Listas[[#This Row],[Descripcion]]=\"\",\"\",\"- \"&Listas[[#This Row],[Descripcion]])","v":"2021 - Arrendamientos por pagar"},"2021","Arrendamientos por pagar",971]
["Concepto_1034",{"$f":"Listas[[#This Row],[ID]]&\" \"&IF(Listas[[#This Row],[Descripcion]]=\"\",\"\",\"- \"&Listas[[#This Row],[Descripcion]])","v":"2022 - Otros pasivos financieros"},"2022","Otros pasivos financieros",972]
["Concepto_1034",{"$f":"Listas[[#This Row],[ID]]&\" \"&IF(Listas[[#This Row],[Descripcion]]=\"\",\"\",\"- \"&Listas[[#This Row],[Descripcion]])","v":"2023 - Impuestos, gravámenes y tasas por pagar"},"2023","Impuestos, gravámenes y tasas por pagar",973]
["Concepto_1034",{"$f":"Listas[[#This Row],[ID]]&\" \"&IF(Listas[[#This Row],[Descripcion]]=\"\",\"\",\"- \"&Listas[[#This Row],[Descripcion]])","v":"2024 - Pasivos por impuestos diferidos"},"2024","Pasivos por impuestos diferidos",974]
["Concepto_1034",{"$f":"Listas[[#This Row],[ID]]&\" \"&IF(Listas[[#This Row],[Descripcion]]=\"\",\"\",\"- \"&Listas[[#This Row],[Descripcion]])","v":"2025 - Pasivos por beneficios a los empleados"},"2025","Pasivos por beneficios a los empleados",975]
["Concepto_1034",{"$f":"Listas[[#This Row],[ID]]&\" \"&IF(Listas[[#This Row],[Descripcion]]=\"\",\"\",\"- \"&Listas[[#This Row],[Descripcion]])","v":"2026 - Provisiones"},"2026","Provisiones",976]
["Concepto_1034",{"$f":"Listas[[#This Row],[ID]]&\" \"&IF(Listas[[#This Row],[Descripcion]]=\"\",\"\",\"- \"&Listas[[#This Row],[Descripcion]])","v":"2027 - Pasivos por ingresos diferidos."},"2027","Pasivos por ingresos diferidos.",977]
["Concepto_1034",{"$f":"Listas[[#This Row],[ID]]&\" \"&IF(Listas[[#This Row],[Descripcion]]=\"\",\"\",\"- \"&Listas[[#This Row],[Descripcion]])","v":"2028 - Otros pasivos"},"2028","Otros pasivos",978]
["Concepto_1034",{"$f":"Listas[[#This Row],[ID]]&\" \"&IF(Listas[[#This Row],[Descripcion]]=\"\",\"\",\"- \"&Listas[[#This Row],[Descripcion]])","v":"3020 - Capital social, reservas y otros."},"3020","Capital social, reservas y otros.",979]
["Concepto_1034",{"$f":"Listas[[#This Row],[ID]]&\" \"&IF(Listas[[#This Row],[Descripcion]]=\"\",\"\",\"- \"&Listas[[#This Row],[Descripcion]])","v":"3021 - Utilidad o excedente del ejercicio"},"3021","Utilidad o excedente del ejercicio",980]
["Concepto_1034",{"$f":"Listas[[#This Row],[ID]]&\" \"&IF(Listas[[#This Row],[Descripcion]]=\"\",\"\",\"- \"&Listas[[#This Row],[Descripcion]])","v":"3022 - Pérdida o déficit del ejercicio"},"3022","Pérdida o déficit del ejercicio",981]
["Concepto_1034",{"$f":"Listas[[#This Row],[ID]]&\" \"&IF(Listas[[#This Row],[Descripcion]]=\"\",\"\",\"- \"&Listas[[#This Row],[Descripcion]])","v":"3023 - Ganancias acumuladas"},"3023","Ganancias acumuladas",982]
["Concepto_1034",{"$f":"Listas[[#This Row],[ID]]&\" \"&IF(Listas[[#This Row],[Descripcion]]=\"\",\"\",\"- \"&Listas[[#This Row],[Descripcion]])","v":"3024 - Pérdidas acumuladas"},"3024","Pérdidas acumuladas",983]
["Concepto_1034",{"$f":"Listas[[#This Row],[ID]]&\" \"&IF(Listas[[#This Row],[Descripcion]]=\"\",\"\",\"- \"&Listas[[#This Row],[Descripcion]])","v":"3025 - Ganancias acumuladas - ORI"},"3025","Ganancias acumuladas - ORI",984]
["Concepto_1034",{"$f":"Listas[[#This Row],[ID]]&\" \"&IF(Listas[[#This Row],[Descripcion]]=\"\",\"\",\"- \"&Listas[[#This Row],[Descripcion]])","v":"3026 - Pérdidas acumuladas - ORI."},"3026","Pérdidas acumuladas - ORI.",985]
["Concepto_1034",{"$f":"Listas[[#This Row],[ID]]&\" \"&IF(Listas[[#This Row],[Descripcion]]=\"\",\"\",\"- \"&Listas[[#This Row],[Descripcion]])","v":"3027 - Saldo crédito Inversión suplementaria"},"3027","Saldo crédito Inversión suplementaria",986]
["Concepto_1034",{"$f":"Listas[[#This Row],[ID]]&\" \"&IF(Listas[[#This Row],[Descripcion]]=\"\",\"\",\"- \"&Listas[[#This Row],[Descripcion]])","v":"3028 - Saldo débito Inversión suplementaria"},"3028","Saldo débito Inversión suplementaria",987]
["Concepto_1034",{"$f":"Listas[[#This Row],[ID]]&\" \"&IF(Listas[[#This Row],[Descripcion]]=\"\",\"\",\"- \"&Listas[[#This Row],[Descripcion]])","v":"3029 - Patrimonio controlante (positivo)."},"3029","Patrimonio controlante (positivo).",988]
["Concepto_1034",{"$f":"Listas[[#This Row],[ID]]&\" \"&IF(Listas[[#This Row],[Descripcion]]=\"\",\"\",\"- \"&Listas[[#This Row],[Descripcion]])","v":"3030 - Patrimonio controlante (negativo)"},"3030","Patrimonio controlante (negativo)",989]
["Concepto_1034",{"$f":"Listas[[#This Row],[ID]]&\" \"&IF(Listas[[#This Row],[Descripcion]]=\"\",\"\",\"- \"&Listas[[#This Row],[Descripcion]])","v":"3031 - Patrimonio no controlante (positivo)."},"3031","Patrimonio no controlante (positivo).",990]
["Concepto_1034",{"$f":"Listas[[#This Row],[ID]]&\" \"&IF(Listas[[#This Row],[Descripcion]]=\"\",\"\",\"- \"&Listas[[#This Row],[Descripcion]])","v":"3032 - Patrimonio no controlante (negativo)"},"3032","Patrimonio no controlante (negativo)",991]
["Concepto_1034",{"$f":"Listas[[#This Row],[ID]]&\" \"&IF(Listas[[#This Row],[Descripcion]]=\"\",\"\",\"- \"&Listas[[#This Row],[Descripcion]])","v":"4120 - Ingresos brutos Actividad Industrial, comercial y servicios"},"4120","Ingresos brutos Actividad Industrial, comercial y servicios",992]
["Concepto_1034",{"$f":"Listas[[#This Row],[ID]]&\" \"&IF(Listas[[#This Row],[Descripcion]]=\"\",\"\",\"- \"&Listas[[#This Row],[Descripcion]])","v":"4121 - Devoluciones, rebajas y descuentos."},"4121","Devoluciones, rebajas y descuentos.",993]
["Concepto_1034",{"$f":"Listas[[#This Row],[ID]]&\" \"&IF(Listas[[#This Row],[Descripcion]]=\"\",\"\",\"- \"&Listas[[#This Row],[Descripcion]])","v":"4122 - Ingresos financieros"},"4122","Ingresos financieros",994]
["Concepto_1034",{"$f":"Listas[[#This Row],[ID]]&\" \"&IF(Listas[[#This Row],[Descripcion]]=\"\",\"\",\"- \"&Listas[[#This Row],[Descripcion]])","v":"4123 - Ganancias por inversiones en subsidiarias, asociadas y/o negocios conjuntos."},"4123","Ganancias por inversiones en subsidiarias, asociadas y/o negocios conjuntos.",995]
["Concepto_1034",{"$f":"Listas[[#This Row],[ID]]&\" \"&IF(Listas[[#This Row],[Descripcion]]=\"\",\"\",\"- \"&Listas[[#This Row],[Descripcion]])","v":"4124 - Ingresos por mediciones a valor razonable"},"4124","Ingresos por mediciones a valor razonable",996]
["Concepto_1034",{"$f":"Listas[[#This Row],[ID]]&\" \"&IF(Listas[[#This Row],[Descripcion]]=\"\",\"\",\"- \"&Listas[[#This Row],[Descripcion]])","v":"4125 - Utilidad por venta o enajenación de activos"},"4125","Utilidad por venta o enajenación de activos",997]
["Concepto_1034",{"$f":"Listas[[#This Row],[ID]]&\" \"&IF(Listas[[#This Row],[Descripcion]]=\"\",\"\",\"- \"&Listas[[#This Row],[Descripcion]])","v":"4126 - Ingresos por reversión de deterioro del valor."},"4126","Ingresos por reversión de deterioro del valor.",998]
["Concepto_1034",{"$f":"Listas[[#This Row],[ID]]&\" \"&IF(Listas[[#This Row],[Descripcion]]=\"\",\"\",\"- \"&Listas[[#This Row],[Descripcion]])","v":"4127 - Ingresos por reversión de provisiones (pasivos de monto o fecha inciertos)."},"4127","Ingresos por reversión de provisiones (pasivos de monto o fecha inciertos).",999]
["Concepto_1034",{"$f":"Listas[[#This Row],[ID]]&\" \"&IF(Listas[[#This Row],[Descripcion]]=\"\",\"\",\"- \"&Listas[[#This Row],[Descripcion]])","v":"4128 - Ingresos por reversión de pasivos por beneficios a los empleados"},"4128","Ingresos por reversión de pasivos por beneficios a los empleados",1000]
["Concepto_1034",{"$f":"Listas[[#This Row],[ID]]&\" \"&IF(Listas[[#This Row],[Descripcion]]=\"\",\"\",\"- \"&Listas[[#This Row],[Descripcion]])","v":"4129 - Otros ingresos"},"4129","Otros ingresos",1001]
["Concepto_1034",{"$f":"Listas[[#This Row],[ID]]&\" \"&IF(Listas[[#This Row],[Descripcion]]=\"\",\"\",\"- \"&Listas[[#This Row],[Descripcion]])","v":"4130 - Ganancias netas en operaciones discontinuadas"},"4130","Ganancias netas en operaciones discontinuadas",1002]
["Concepto_1034",{"$f":"Listas[[#This Row],[ID]]&\" \"&IF(Listas[[#This Row],[Descripcion]]=\"\",\"\",\"- \"&Listas[[#This Row],[Descripcion]])","v":"5120 - Mano de obra (gastos)."},"5120","Mano de obra (gastos).",1003]
["Concepto_1034",{"$f":"Listas[[#This Row],[ID]]&\" \"&IF(Listas[[#This Row],[Descripcion]]=\"\",\"\",\"- \"&Listas[[#This Row],[Descripcion]])","v":"5121 - Depreciaciones, amortizaciones y deterioros (gastos)."},"5121","Depreciaciones, amortizaciones y deterioros (gastos).",1004]
["Concepto_1034",{"$f":"Listas[[#This Row],[ID]]&\" \"&IF(Listas[[#This Row],[Descripcion]]=\"\",\"\",\"- \"&Listas[[#This Row],[Descripcion]])","v":"5122 - Gastos Financieros"},"5122","Gastos Financieros",1005]
["Concepto_1034",{"$f":"Listas[[#This Row],[ID]]&\" \"&IF(Listas[[#This Row],[Descripcion]]=\"\",\"\",\"- \"&Listas[[#This Row],[Descripcion]])","v":"5123 - Pérdidas por inversiones en subsidiarias, asociadas y/o negocios conjuntos."},"5123","Pérdidas por inversiones en subsidiarias, asociadas y/o negocios conjuntos.",1006]
["Concepto_1034",{"$f":"Listas[[#This Row],[ID]]&\" \"&IF(Listas[[#This Row],[Descripcion]]=\"\",\"\",\"- \"&Listas[[#This Row],[Descripcion]])","v":"5124 - Pérdidas por mediciones a valor razonable"},"5124","Pérdidas por mediciones a valor razonable",1007]
["Concepto_1034",{"$f":"Listas[[#This Row],[ID]]&\" \"&IF(Listas[[#This Row],[Descripcion]]=\"\",\"\",\"- \"&Listas[[#This Row],[Descripcion]])","v":"5125 - Pérdida en la venta o enajenación de activos fijos"},"5125","Pérdida en la venta o enajenación de activos fijos",1008]
["Concepto_1034",{"$f":"Listas[[#This Row],[ID]]&\" \"&IF(Listas[[#This Row],[Descripcion]]=\"\",\"\",\"- \"&Listas[[#This Row],[Descripcion]])","v":"5126 - Gastos por provisiones (pasivos de monto o fecha inciertos)."},"5126","Gastos por provisiones (pasivos de monto o fecha inciertos).",1009]
["Concepto_1034",{"$f":"Listas[[#This Row],[ID]]&\" \"&IF(Listas[[#This Row],[Descripcion]]=\"\",\"\",\"- \"&Listas[[#This Row],[Descripcion]])","v":"5127 - Pérdidas netas en operaciones discontinuadas"},"5127","Pérdidas netas en operaciones discontinuadas",1010]
["Concepto_1034",{"$f":"Listas[[#This Row],[ID]]&\" \"&IF(Listas[[#This Row],[Descripcion]]=\"\",\"\",\"- \"&Listas[[#This Row],[Descripcion]])","v":"5128 - Otros gastos"},"5128","Otros gastos",1011]
["Concepto_1034",{"$f":"Listas[[#This Row],[ID]]&\" \"&IF(Listas[[#This Row],[Descripcion]]=\"\",\"\",\"- \"&Listas[[#This Row],[Descripcion]])","v":"5320 - Utilidad o excedente del ejercicio"},"5320","Utilidad o excedente del ejercicio",1012]
["Concepto_1034",{"$f":"Listas[[#This Row],[ID]]&\" \"&IF(Listas[[#This Row],[Descripcion]]=\"\",\"\",\"- \"&Listas[[#This Row],[Descripcion]])","v":"5321 - Pérdida o déficit del ejercicio"},"5321","Pérdida o déficit del ejercicio",1013]
["Concepto_1034",{"$f":"Listas[[#This Row],[ID]]&\" \"&IF(Listas[[#This Row],[Descripcion]]=\"\",\"\",\"- \"&Listas[[#This Row],[Descripcion]])","v":"5322 - Otro resultado integral del ejercicio (ganancia)."},"5322","Otro resultado integral del ejercicio (ganancia).",1014]
["Concepto_1034",{"$f":"Listas[[#This Row],[ID]]&\" \"&IF(Listas[[#This Row],[Descripcion]]=\"\",\"\",\"- \"&Listas[[#This Row],[Descripcion]])","v":"5323 - Otro resultado integral del ejercicio (pérdida)."},"5323","Otro resultado integral del ejercicio (pérdida).",1015]
["Concepto_1034",{"$f":"Listas[[#This Row],[ID]]&\" \"&IF(Listas[[#This Row],[Descripcion]]=\"\",\"\",\"- \"&Listas[[#This Row],[Descripcion]])","v":"5324 - Utilidad del ejercicio atribuible a participación no controladora"},"5324","Utilidad del ejercicio atribuible a participación no controladora",1016]
["Concepto_1034",{"$f":"Listas[[#This Row],[ID]]&\" \"&IF(Listas[[#This Row],[Descripcion]]=\"\",\"\",\"- \"&Listas[[#This Row],[Descripcion]])","v":"5325 - Pérdida del ejercicio atribuible a participación no controladora"},"5325","Pérdida del ejercicio atribuible a participación no controladora",1017]
["Concepto_1034",{"$f":"Listas[[#This Row],[ID]]&\" \"&IF(Listas[[#This Row],[Descripcion]]=\"\",\"\",\"- \"&Listas[[#This Row],[Descripcion]])","v":"6120 - Materias primas, reventa de bienes terminados, y servicios (costos)."},"6120","Materias primas, reventa de bienes terminados, y servicios (costos).",1018]
["Concepto_1034",{"$f":"Listas[[#This Row],[ID]]&\" \"&IF(Listas[[#This Row],[Descripcion]]=\"\",\"\",\"- \"&Listas[[#This Row],[Descripcion]])","v":"6121 - Mano de obra (costos)."},"6121","Mano de obra (costos).",1019]
["Concepto_1034",{"$f":"Listas[[#This Row],[ID]]&\" \"&IF(Listas[[#This Row],[Descripcion]]=\"\",\"\",\"- \"&Listas[[#This Row],[Descripcion]])","v":"6122 - Depreciaciones, amortizaciones y deterioros (costos)."},"6122","Depreciaciones, amortizaciones y deterioros (costos).",1020]
["Concepto_1034",{"$f":"Listas[[#This Row],[ID]]&\" \"&IF(Listas[[#This Row],[Descripcion]]=\"\",\"\",\"- \"&Listas[[#This Row],[Descripcion]])","v":"6123 - Otros costos"},"6123","Otros costos",1021]
["Notarias",{"$f":"Listas[[#This Row],[ID]]&\" \"&IF(Listas[[#This Row],[Descripcion]]=\"\",\"\",\"- \"&Listas[[#This Row],[Descripcion]])","v":"UNICA - UNICA "},"UNICA","UNICA ",1022]
["Notarias",{"$f":"Listas[[#This Row],[ID]]&\" \"&IF(Listas[[#This Row],[Descripcion]]=\"\",\"\",\"- \"&Listas[[#This Row],[Descripcion]])","v":"1 - 1 "},"1","1 ",1023]
["Notarias",{"$f":"Listas[[#This Row],[ID]]&\" \"&IF(Listas[[#This Row],[Descripcion]]=\"\",\"\",\"- \"&Listas[[#This Row],[Descripcion]])","v":"2 - 2 "},"2","2 ",1024]
["Notarias",{"$f":"Listas[[#This Row],[ID]]&\" \"&IF(Listas[[#This Row],[Descripcion]]=\"\",\"\",\"- \"&Listas[[#This Row],[Descripcion]])","v":"3 - 3 "},"3","3 ",1025]
["Notarias",{"$f":"Listas[[#This Row],[ID]]&\" \"&IF(Listas[[#This Row],[Descripcion]]=\"\",\"\",\"- \"&Listas[[#This Row],[Descripcion]])","v":"4 - 4 "},"4","4 ",1026]
["Notarias",{"$f":"Listas[[#This Row],[ID]]&\" \"&IF(Listas[[#This Row],[Descripcion]]=\"\",\"\",\"- \"&Listas[[#This Row],[Descripcion]])","v":"5 - 5 "},"5","5 ",1027]
["Notarias",{"$f":"Listas[[#This Row],[ID]]&\" \"&IF(Listas[[#This Row],[Descripcion]]=\"\",\"\",\"- \"&Listas[[#This Row],[Descripcion]])","v":"6 - 6 "},"6","6 ",1028]
["Notarias",{"$f":"Listas[[#This Row],[ID]]&\" \"&IF(Listas[[#This Row],[Descripcion]]=\"\",\"\",\"- \"&Listas[[#This Row],[Descripcion]])","v":"7 - 7 "},"7","7 ",1029]
["Notarias",{"$f":"Listas[[#This Row],[ID]]&\" \"&IF(Listas[[#This Row],[Descripcion]]=\"\",\"\",\"- \"&Listas[[#This Row],[Descripcion]])","v":"8 - 8 "},"8","8 ",1030]
["Notarias",{"$f":"Listas[[#This Row],[ID]]&\" \"&IF(Listas[[#This Row],[Descripcion]]=\"\",\"\",\"- \"&Listas[[#This Row],[Descripcion]])","v":"9 - 9 "},"9","9 ",1031]
["Notarias",{"$f":"Listas[[#This Row],[ID]]&\" \"&IF(Listas[[#This Row],[Descripcion]]=\"\",\"\",\"- \"&Listas[[#This Row],[Descripcion]])","v":"10 - 10 "},"10","10 ",1032]
["Notarias",{"$f":"Listas[[#This Row],[ID]]&\" \"&IF(Listas[[#This Row],[Descripcion]]=\"\",\"\",\"- \"&Listas[[#This Row],[Descripcion]])","v":"11 - 11 "},"11","11 ",1033]
["Notarias",{"$f":"Listas[[#This Row],[ID]]&\" \"&IF(Listas[[#This Row],[Descripcion]]=\"\",\"\",\"- \"&Listas[[#This Row],[Descripcion]])","v":"12 - 12 "},"12","12 ",1034]
["Notarias",{"$f":"Listas[[#This Row],[ID]]&\" \"&IF(Listas[[#This Row],[Descripcion]]=\"\",\"\",\"- \"&Listas[[#This Row],[Descripcion]])","v":"13 - 13 "},"13","13 ",1035]
["Notarias",{"$f":"Listas[[#This Row],[ID]]&\" \"&IF(Listas[[#This Row],[Descripcion]]=\"\",\"\",\"- \"&Listas[[#This Row],[Descripcion]])","v":"14 - 14 "},"14","14 ",1036]
["Notarias",{"$f":"Listas[[#This Row],[ID]]&\" \"&IF(Listas[[#This Row],[Descripcion]]=\"\",\"\",\"- \"&Listas[[#This Row],[Descripcion]])","v":"15 - 15 "},"15","15 ",1037]
["Notarias",{"$f":"Listas[[#This Row],[ID]]&\" \"&IF(Listas[[#This Row],[Descripcion]]=\"\",\"\",\"- \"&Listas[[#This Row],[Descripcion]])","v":"16 - 16 "},"16","16 ",1038]
["Notarias",{"$f":"Listas[[#This Row],[ID]]&\" \"&IF(Listas[[#This Row],[Descripcion]]=\"\",\"\",\"- \"&Listas[[#This Row],[Descripcion]])","v":"17 - 17 "},"17","17 ",1039]
["Notarias",{"$f":"Listas[[#This Row],[ID]]&\" \"&IF(Listas[[#This Row],[Descripcion]]=\"\",\"\",\"- \"&Listas[[#This Row],[Descripcion]])","v":"18 - 18 "},"18","18 ",1040]
["Notarias",{"$f":"Listas[[#This Row],[ID]]&\" \"&IF(Listas[[#This Row],[Descripcion]]=\"\",\"\",\"- \"&Listas[[#This Row],[Descripcion]])","v":"19 - 19 "},"19","19 ",1041]
["Notarias",{"$f":"Listas[[#This Row],[ID]]&\" \"&IF(Listas[[#This Row],[Descripcion]]=\"\",\"\",\"- \"&Listas[[#This Row],[Descripcion]])","v":"20 - 20 "},"20","20 ",1042]
["Notarias",{"$f":"Listas[[#This Row],[ID]]&\" \"&IF(Listas[[#This Row],[Descripcion]]=\"\",\"\",\"- \"&Listas[[#This Row],[Descripcion]])","v":"21 - 21 "},"21","21 ",1043]
["Notarias",{"$f":"Listas[[#This Row],[ID]]&\" \"&IF(Listas[[#This Row],[Descripcion]]=\"\",\"\",\"- \"&Listas[[#This Row],[Descripcion]])","v":"22 - 22 "},"22","22 ",1044]
["Notarias",{"$f":"Listas[[#This Row],[ID]]&\" \"&IF(Listas[[#This Row],[Descripcion]]=\"\",\"\",\"- \"&Listas[[#This Row],[Descripcion]])","v":"23 - 23 "},"23","23 ",1045]
["Notarias",{"$f":"Listas[[#This Row],[ID]]&\" \"&IF(Listas[[#This Row],[Descripcion]]=\"\",\"\",\"- \"&Listas[[#This Row],[Descripcion]])","v":"24 - 24 "},"24","24 ",1046]
["Notarias",{"$f":"Listas[[#This Row],[ID]]&\" \"&IF(Listas[[#This Row],[Descripcion]]=\"\",\"\",\"- \"&Listas[[#This Row],[Descripcion]])","v":"25 - 25 "},"25","25 ",1047]
["Notarias",{"$f":"Listas[[#This Row],[ID]]&\" \"&IF(Listas[[#This Row],[Descripcion]]=\"\",\"\",\"- \"&Listas[[#This Row],[Descripcion]])","v":"26 - 26 "},"26","26 ",1048]
["Notarias",{"$f":"Listas[[#This Row],[ID]]&\" \"&IF(Listas[[#This Row],[Descripcion]]=\"\",\"\",\"- \"&Listas[[#This Row],[Descripcion]])","v":"27 - 27 "},"27","27 ",1049]
["Notarias",{"$f":"Listas[[#This Row],[ID]]&\" \"&IF(Listas[[#This Row],[Descripcion]]=\"\",\"\",\"- \"&Listas[[#This Row],[Descripcion]])","v":"28 - 28 "},"28","28 ",1050]
["Notarias",{"$f":"Listas[[#This Row],[ID]]&\" \"&IF(Listas[[#This Row],[Descripcion]]=\"\",\"\",\"- \"&Listas[[#This Row],[Descripcion]])","v":"29 - 29 "},"29","29 ",1051]
["Notarias",{"$f":"Listas[[#This Row],[ID]]&\" \"&IF(Listas[[#This Row],[Descripcion]]=\"\",\"\",\"- \"&Listas[[#This Row],[Descripcion]])","v":"30 - 30 "},"30","30 ",1052]
["Notarias",{"$f":"Listas[[#This Row],[ID]]&\" \"&IF(Listas[[#This Row],[Descripcion]]=\"\",\"\",\"- \"&Listas[[#This Row],[Descripcion]])","v":"31 - 31 "},"31","31 ",1053]
["Notarias",{"$f":"Listas[[#This Row],[ID]]&\" \"&IF(Listas[[#This Row],[Descripcion]]=\"\",\"\",\"- \"&Listas[[#This Row],[Descripcion]])","v":"32 - 32 "},"32","32 ",1054]
["Notarias",{"$f":"Listas[[#This Row],[ID]]&\" \"&IF(Listas[[#This Row],[Descripcion]]=\"\",\"\",\"- \"&Listas[[#This Row],[Descripcion]])","v":"33 - 33 "},"33","33 ",1055]
["Notarias",{"$f":"Listas[[#This Row],[ID]]&\" \"&IF(Listas[[#This Row],[Descripcion]]=\"\",\"\",\"- \"&Listas[[#This Row],[Descripcion]])","v":"34 - 34 "},"34","34 ",1056]
["Notarias",{"$f":"Listas[[#This Row],[ID]]&\" \"&IF(Listas[[#This Row],[Descripcion]]=\"\",\"\",\"- \"&Listas[[#This Row],[Descripcion]])","v":"35 - 35 "},"35","35 ",1057]
["Notarias",{"$f":"Listas[[#This Row],[ID]]&\" \"&IF(Listas[[#This Row],[Descripcion]]=\"\",\"\",\"- \"&Listas[[#This Row],[Descripcion]])","v":"36 - 36 "},"36","36 ",1058]
["Notarias",{"$f":"Listas[[#This Row],[ID]]&\" \"&IF(Listas[[#This Row],[Descripcion]]=\"\",\"\",\"- \"&Listas[[#This Row],[Descripcion]])","v":"37 - 37 "},"37","37 ",1059]
["Notarias",{"$f":"Listas[[#This Row],[ID]]&\" \"&IF(Listas[[#This Row],[Descripcion]]=\"\",\"\",\"- \"&Listas[[#This Row],[Descripcion]])","v":"38 - 38 "},"38","38 ",1060]
["Notarias",{"$f":"Listas[[#This Row],[ID]]&\" \"&IF(Listas[[#This Row],[Descripcion]]=\"\",\"\",\"- \"&Listas[[#This Row],[Descripcion]])","v":"39 - 39 "},"39","39 ",1061]
["Notarias",{"$f":"Listas[[#This Row],[ID]]&\" \"&IF(Listas[[#This Row],[Descripcion]]=\"\",\"\",\"- \"&Listas[[#This Row],[Descripcion]])","v":"40 - 40 "},"40","40 ",1062]
["Notarias",{"$f":"Listas[[#This Row],[ID]]&\" \"&IF(Listas[[#This Row],[Descripcion]]=\"\",\"\",\"- \"&Listas[[#This Row],[Descripcion]])","v":"41 - 41 "},"41","41 ",1063]
["Notarias",{"$f":"Listas[[#This Row],[ID]]&\" \"&IF(Listas[[#This Row],[Descripcion]]=\"\",\"\",\"- \"&Listas[[#This Row],[Descripcion]])","v":"42 - 42 "},"42","42 ",1064]
["Notarias",{"$f":"Listas[[#This Row],[ID]]&\" \"&IF(Listas[[#This Row],[Descripcion]]=\"\",\"\",\"- \"&Listas[[#This Row],[Descripcion]])","v":"43 - 43 "},"43","43 ",1065]
["Notarias",{"$f":"Listas[[#This Row],[ID]]&\" \"&IF(Listas[[#This Row],[Descripcion]]=\"\",\"\",\"- \"&Listas[[#This Row],[Descripcion]])","v":"44 - 44 "},"44","44 ",1066]
["Notarias",{"$f":"Listas[[#This Row],[ID]]&\" \"&IF(Listas[[#This Row],[Descripcion]]=\"\",\"\",\"- \"&Listas[[#This Row],[Descripcion]])","v":"45 - 45 "},"45","45 ",1067]
["Notarias",{"$f":"Listas[[#This Row],[ID]]&\" \"&IF(Listas[[#This Row],[Descripcion]]=\"\",\"\",\"- \"&Listas[[#This Row],[Descripcion]])","v":"46 - 46 "},"46","46 ",1068]
["Notarias",{"$f":"Listas[[#This Row],[ID]]&\" \"&IF(Listas[[#This Row],[Descripcion]]=\"\",\"\",\"- \"&Listas[[#This Row],[Descripcion]])","v":"47 - 47 "},"47","47 ",1069]
["Notarias",{"$f":"Listas[[#This Row],[ID]]&\" \"&IF(Listas[[#This Row],[Descripcion]]=\"\",\"\",\"- \"&Listas[[#This Row],[Descripcion]])","v":"48 - 48 "},"48","48 ",1070]
["Notarias",{"$f":"Listas[[#This Row],[ID]]&\" \"&IF(Listas[[#This Row],[Descripcion]]=\"\",\"\",\"- \"&Listas[[#This Row],[Descripcion]])","v":"49 - 49 "},"49","49 ",1071]
["Notarias",{"$f":"Listas[[#This Row],[ID]]&\" \"&IF(Listas[[#This Row],[Descripcion]]=\"\",\"\",\"- \"&Listas[[#This Row],[Descripcion]])","v":"50 - 50 "},"50","50 ",1072]
["Notarias",{"$f":"Listas[[#This Row],[ID]]&\" \"&IF(Listas[[#This Row],[Descripcion]]=\"\",\"\",\"- \"&Listas[[#This Row],[Descripcion]])","v":"51 - 51 "},"51","51 ",1073]
["Notarias",{"$f":"Listas[[#This Row],[ID]]&\" \"&IF(Listas[[#This Row],[Descripcion]]=\"\",\"\",\"- \"&Listas[[#This Row],[Descripcion]])","v":"52 - 52 "},"52","52 ",1074]
["Notarias",{"$f":"Listas[[#This Row],[ID]]&\" \"&IF(Listas[[#This Row],[Descripcion]]=\"\",\"\",\"- \"&Listas[[#This Row],[Descripcion]])","v":"53 - 53 "},"53","53 ",1075]
["Notarias",{"$f":"Listas[[#This Row],[ID]]&\" \"&IF(Listas[[#This Row],[Descripcion]]=\"\",\"\",\"- \"&Listas[[#This Row],[Descripcion]])","v":"54 - 54 "},"54","54 ",1076]
["Notarias",{"$f":"Listas[[#This Row],[ID]]&\" \"&IF(Listas[[#This Row],[Descripcion]]=\"\",\"\",\"- \"&Listas[[#This Row],[Descripcion]])","v":"55 - 55 "},"55","55 ",1077]
["Notarias",{"$f":"Listas[[#This Row],[ID]]&\" \"&IF(Listas[[#This Row],[Descripcion]]=\"\",\"\",\"- \"&Listas[[#This Row],[Descripcion]])","v":"56 - 56 "},"56","56 ",1078]
["Notarias",{"$f":"Listas[[#This Row],[ID]]&\" \"&IF(Listas[[#This Row],[Descripcion]]=\"\",\"\",\"- \"&Listas[[#This Row],[Descripcion]])","v":"57 - 57 "},"57","57 ",1079]
["Notarias",{"$f":"Listas[[#This Row],[ID]]&\" \"&IF(Listas[[#This Row],[Descripcion]]=\"\",\"\",\"- \"&Listas[[#This Row],[Descripcion]])","v":"58 - 58 "},"58","58 ",1080]
["Notarias",{"$f":"Listas[[#This Row],[ID]]&\" \"&IF(Listas[[#This Row],[Descripcion]]=\"\",\"\",\"- \"&Listas[[#This Row],[Descripcion]])","v":"59 - 59 "},"59","59 ",1081]
["Notarias",{"$f":"Listas[[#This Row],[ID]]&\" \"&IF(Listas[[#This Row],[Descripcion]]=\"\",\"\",\"- \"&Listas[[#This Row],[Descripcion]])","v":"60 - 60 "},"60","60 ",1082]
["Notarias",{"$f":"Listas[[#This Row],[ID]]&\" \"&IF(Listas[[#This Row],[Descripcion]]=\"\",\"\",\"- \"&Listas[[#This Row],[Descripcion]])","v":"61 - 61 "},"61","61 ",1083]
["Notarias",{"$f":"Listas[[#This Row],[ID]]&\" \"&IF(Listas[[#This Row],[Descripcion]]=\"\",\"\",\"- \"&Listas[[#This Row],[Descripcion]])","v":"62 - 62 "},"62","62 ",1084]
["Notarias",{"$f":"Listas[[#This Row],[ID]]&\" \"&IF(Listas[[#This Row],[Descripcion]]=\"\",\"\",\"- \"&Listas[[#This Row],[Descripcion]])","v":"63 - 63 "},"63","63 ",1085]
["Notarias",{"$f":"Listas[[#This Row],[ID]]&\" \"&IF(Listas[[#This Row],[Descripcion]]=\"\",\"\",\"- \"&Listas[[#This Row],[Descripcion]])","v":"64 - 64 "},"64","64 ",1086]
["Notarias",{"$f":"Listas[[#This Row],[ID]]&\" \"&IF(Listas[[#This Row],[Descripcion]]=\"\",\"\",\"- \"&Listas[[#This Row],[Descripcion]])","v":"65 - 65 "},"65","65 ",1087]
["Notarias",{"$f":"Listas[[#This Row],[ID]]&\" \"&IF(Listas[[#This Row],[Descripcion]]=\"\",\"\",\"- \"&Listas[[#This Row],[Descripcion]])","v":"66 - 66 "},"66","66 ",1088]
["Notarias",{"$f":"Listas[[#This Row],[ID]]&\" \"&IF(Listas[[#This Row],[Descripcion]]=\"\",\"\",\"- \"&Listas[[#This Row],[Descripcion]])","v":"67 - 67 "},"67","67 ",1089]
["Notarias",{"$f":"Listas[[#This Row],[ID]]&\" \"&IF(Listas[[#This Row],[Descripcion]]=\"\",\"\",\"- \"&Listas[[#This Row],[Descripcion]])","v":"68 - 68 "},"68","68 ",1090]
["Notarias",{"$f":"Listas[[#This Row],[ID]]&\" \"&IF(Listas[[#This Row],[Descripcion]]=\"\",\"\",\"- \"&Listas[[#This Row],[Descripcion]])","v":"69 - 69 "},"69","69 ",1091]
["Notarias",{"$f":"Listas[[#This Row],[ID]]&\" \"&IF(Listas[[#This Row],[Descripcion]]=\"\",\"\",\"- \"&Listas[[#This Row],[Descripcion]])","v":"70 - 70 "},"70","70 ",1092]
["Notarias",{"$f":"Listas[[#This Row],[ID]]&\" \"&IF(Listas[[#This Row],[Descripcion]]=\"\",\"\",\"- \"&Listas[[#This Row],[Descripcion]])","v":"71 - 71 "},"71","71 ",1093]
["Notarias",{"$f":"Listas[[#This Row],[ID]]&\" \"&IF(Listas[[#This Row],[Descripcion]]=\"\",\"\",\"- \"&Listas[[#This Row],[Descripcion]])","v":"72 - 72 "},"72","72 ",1094]
["Notarias",{"$f":"Listas[[#This Row],[ID]]&\" \"&IF(Listas[[#This Row],[Descripcion]]=\"\",\"\",\"- \"&Listas[[#This Row],[Descripcion]])","v":"73 - 73 "},"73","73 ",1095]
["Notarias",{"$f":"Listas[[#This Row],[ID]]&\" \"&IF(Listas[[#This Row],[Descripcion]]=\"\",\"\",\"- \"&Listas[[#This Row],[Descripcion]])","v":"74 - 74 "},"74","74 ",1096]
["Notarias",{"$f":"Listas[[#This Row],[ID]]&\" \"&IF(Listas[[#This Row],[Descripcion]]=\"\",\"\",\"- \"&Listas[[#This Row],[Descripcion]])","v":"75 - 75 "},"75","75 ",1097]
["Notarias",{"$f":"Listas[[#This Row],[ID]]&\" \"&IF(Listas[[#This Row],[Descripcion]]=\"\",\"\",\"- \"&Listas[[#This Row],[Descripcion]])","v":"76 - 76 "},"76","76 ",1098]
["Notarias",{"$f":"Listas[[#This Row],[ID]]&\" \"&IF(Listas[[#This Row],[Descripcion]]=\"\",\"\",\"- \"&Listas[[#This Row],[Descripcion]])","v":"77 - 77 "},"77","77 ",1099]
["Notarias",{"$f":"Listas[[#This Row],[ID]]&\" \"&IF(Listas[[#This Row],[Descripcion]]=\"\",\"\",\"- \"&Listas[[#This Row],[Descripcion]])","v":"78 - 78 "},"78","78 ",1100]
["Notarias",{"$f":"Listas[[#This Row],[ID]]&\" \"&IF(Listas[[#This Row],[Descripcion]]=\"\",\"\",\"- \"&Listas[[#This Row],[Descripcion]])","v":"79 - 79 "},"79","79 ",1101]
["Notarias",{"$f":"Listas[[#This Row],[ID]]&\" \"&IF(Listas[[#This Row],[Descripcion]]=\"\",\"\",\"- \"&Listas[[#This Row],[Descripcion]])","v":"80 - 80 "},"80","80 ",1102]
["Notarias",{"$f":"Listas[[#This Row],[ID]]&\" \"&IF(Listas[[#This Row],[Descripcion]]=\"\",\"\",\"- \"&Listas[[#This Row],[Descripcion]])","v":"81 - 81 "},"81","81 ",1103]
["Código_Actos_en_Notaría",{"$f":"Listas[[#This Row],[ID]]&\" \"&IF(Listas[[#This Row],[Descripcion]]=\"\",\"\",\"- \"&Listas[[#This Row],[Descripcion]])","v":"0107 - ACTOS O CONTRATOS GOBIERNOS EXTRANJEROS ADQUISICIÓN SEDE DIPLOMÁTICA"},"0107","ACTOS O CONTRATOS GOBIERNOS EXTRANJEROS ADQUISICIÓN SEDE DIPLOMÁTICA",1104]
["Código_Actos_en_Notaría",{"$f":"Listas[[#This Row],[ID]]&\" \"&IF(Listas[[#This Row],[Descripcion]]=\"\",\"\",\"- \"&Listas[[#This Row],[Descripcion]])","v":"0113 - CESIÓN SIN CUANTIA"},"0113","CESIÓN SIN CUANTIA",1105]
["Código_Actos_en_Notaría",{"$f":"Listas[[#This Row],[ID]]&\" \"&IF(Listas[[#This Row],[Descripcion]]=\"\",\"\",\"- \"&Listas[[#This Row],[Descripcion]])","v":"0114 - CESIÓN CON CUANTIA"},"0114","CESIÓN CON CUANTIA",1106]
["Código_Actos_en_Notaría",{"$f":"Listas[[#This Row],[ID]]&\" \"&IF(Listas[[#This Row],[Descripcion]]=\"\",\"\",\"- \"&Listas[[#This Row],[Descripcion]])","v":"0116 - CESIÓN OBLIGATORIA CON DESTINO USO PÚBLICO"},"0116","CESIÓN OBLIGATORIA CON DESTINO USO PÚBLICO",1107]
["Código_Actos_en_Notaría",{"$f":"Listas[[#This Row],[ID]]&\" \"&IF(Listas[[#This Row],[Descripcion]]=\"\",\"\",\"- \"&Listas[[#This Row],[Descripcion]])","v":"0117 - COMODATO"},"0117","COMODATO",1108]
["Código_Actos_en_Notaría",{"$f":"Listas[[#This Row],[ID]]&\" \"&IF(Listas[[#This Row],[Descripcion]]=\"\",\"\",\"- \"&Listas[[#This Row],[Descripcion]])","v":"0118 - COMPRAVENTA - HIPOTECA - PATRIMONIO DE FAMILIA UAF "},"0118","COMPRAVENTA - HIPOTECA - PATRIMONIO DE FAMILIA UAF ",1109]
["Código_Actos_en_Notaría",{"$f":"Listas[[#This Row],[ID]]&\" \"&IF(Listas[[#This Row],[Descripcion]]=\"\",\"\",\"- \"&Listas[[#This Row],[Descripcion]])","v":"0119 - COMPRAVENTA DE BIENES MUEBLES"},"0119","COMPRAVENTA DE BIENES MUEBLES",1110]
["Código_Actos_en_Notaría",{"$f":"Listas[[#This Row],[ID]]&\" \"&IF(Listas[[#This Row],[Descripcion]]=\"\",\"\",\"- \"&Listas[[#This Row],[Descripcion]])","v":"0120 - COMPRAVENTA DE ACCIONES"},"0120","COMPRAVENTA DE ACCIONES",1111]
["Código_Actos_en_Notaría",{"$f":"Listas[[#This Row],[ID]]&\" \"&IF(Listas[[#This Row],[Descripcion]]=\"\",\"\",\"- \"&Listas[[#This Row],[Descripcion]])","v":"0121 - COMPRAVENTA DE APARTAMENTO"},"0121","COMPRAVENTA DE APARTAMENTO",1112]
["Código_Actos_en_Notaría",{"$f":"Listas[[#This Row],[ID]]&\" \"&IF(Listas[[#This Row],[Descripcion]]=\"\",\"\",\"- \"&Listas[[#This Row],[Descripcion]])","v":"0122 - COMPRAVENTA DE CASA"},"0122","COMPRAVENTA DE CASA",1113]
["Código_Actos_en_Notaría",{"$f":"Listas[[#This Row],[ID]]&\" \"&IF(Listas[[#This Row],[Descripcion]]=\"\",\"\",\"- \"&Listas[[#This Row],[Descripcion]])","v":"0123 - COMPRAVENTA DE GARAJE"},"0123","COMPRAVENTA DE GARAJE",1114]
["Código_Actos_en_Notaría",{"$f":"Listas[[#This Row],[ID]]&\" \"&IF(Listas[[#This Row],[Descripcion]]=\"\",\"\",\"- \"&Listas[[#This Row],[Descripcion]])","v":"0124 - COMPRAVENTA DE LOTE"},"0124","COMPRAVENTA DE LOTE",1115]
["Código_Actos_en_Notaría",{"$f":"Listas[[#This Row],[ID]]&\" \"&IF(Listas[[#This Row],[Descripcion]]=\"\",\"\",\"- \"&Listas[[#This Row],[Descripcion]])","v":"0125 - COMPRAVENTA DE LOCAL COMERCIAL"},"0125","COMPRAVENTA DE LOCAL COMERCIAL",1116]
["Código_Actos_en_Notaría",{"$f":"Listas[[#This Row],[ID]]&\" \"&IF(Listas[[#This Row],[Descripcion]]=\"\",\"\",\"- \"&Listas[[#This Row],[Descripcion]])","v":"0126 - COMPRAVENTA DE PREDIO RURAL"},"0126","COMPRAVENTA DE PREDIO RURAL",1117]
["Código_Actos_en_Notaría",{"$f":"Listas[[#This Row],[ID]]&\" \"&IF(Listas[[#This Row],[Descripcion]]=\"\",\"\",\"- \"&Listas[[#This Row],[Descripcion]])","v":"0127 - COMPRAVENTA DE UNIDAD AGRÍCOLA FAMILIAR"},"0127","COMPRAVENTA DE UNIDAD AGRÍCOLA FAMILIAR",1118]
["Código_Actos_en_Notaría",{"$f":"Listas[[#This Row],[ID]]&\" \"&IF(Listas[[#This Row],[Descripcion]]=\"\",\"\",\"- \"&Listas[[#This Row],[Descripcion]])","v":"0128 - COMPRAVENTA DE BIEN UTILIDAD PÚBLICA"},"0128","COMPRAVENTA DE BIEN UTILIDAD PÚBLICA",1119]
["Código_Actos_en_Notaría",{"$f":"Listas[[#This Row],[ID]]&\" \"&IF(Listas[[#This Row],[Descripcion]]=\"\",\"\",\"- \"&Listas[[#This Row],[Descripcion]])","v":"0129 - COMPRAVENTA DE DEPÓSITOS"},"0129","COMPRAVENTA DE DEPÓSITOS",1120]
["Código_Actos_en_Notaría",{"$f":"Listas[[#This Row],[ID]]&\" \"&IF(Listas[[#This Row],[Descripcion]]=\"\",\"\",\"- \"&Listas[[#This Row],[Descripcion]])","v":"0130 - COMPRAVENTA DE EJIDOS Y BALDÍOS"},"0130","COMPRAVENTA DE EJIDOS Y BALDÍOS",1121]
["Código_Actos_en_Notaría",{"$f":"Listas[[#This Row],[ID]]&\" \"&IF(Listas[[#This Row],[Descripcion]]=\"\",\"\",\"- \"&Listas[[#This Row],[Descripcion]])","v":"0131 - COMPRAVENTA DE MEJORAS"},"0131","COMPRAVENTA DE MEJORAS",1122]
["Código_Actos_en_Notaría",{"$f":"Listas[[#This Row],[ID]]&\" \"&IF(Listas[[#This Row],[Descripcion]]=\"\",\"\",\"- \"&Listas[[#This Row],[Descripcion]])","v":"0132 - COMPRAVENTA DE POSESIÓN"},"0132","COMPRAVENTA DE POSESIÓN",1123]
["Código_Actos_en_Notaría",{"$f":"Listas[[#This Row],[ID]]&\" \"&IF(Listas[[#This Row],[Descripcion]]=\"\",\"\",\"- \"&Listas[[#This Row],[Descripcion]])","v":"0133 - COMPRAVENTA DE USUFRUCTO"},"0133","COMPRAVENTA DE USUFRUCTO",1124]
["Código_Actos_en_Notaría",{"$f":"Listas[[#This Row],[ID]]&\" \"&IF(Listas[[#This Row],[Descripcion]]=\"\",\"\",\"- \"&Listas[[#This Row],[Descripcion]])","v":"0134 - COMPRAVENTA NUDA PROPIEDAD"},"0134","COMPRAVENTA NUDA PROPIEDAD",1125]
["Código_Actos_en_Notaría",{"$f":"Listas[[#This Row],[ID]]&\" \"&IF(Listas[[#This Row],[Descripcion]]=\"\",\"\",\"- \"&Listas[[#This Row],[Descripcion]])","v":"0135 - COMPRAVENTA PARCIAL"},"0135","COMPRAVENTA PARCIAL",1126]
["Código_Actos_en_Notaría",{"$f":"Listas[[#This Row],[ID]]&\" \"&IF(Listas[[#This Row],[Descripcion]]=\"\",\"\",\"- \"&Listas[[#This Row],[Descripcion]])","v":"0136 - COMPRAVENTA PARCIAL CON ENTIDADES EXENTAS"},"0136","COMPRAVENTA PARCIAL CON ENTIDADES EXENTAS",1127]
["Código_Actos_en_Notaría",{"$f":"Listas[[#This Row],[ID]]&\" \"&IF(Listas[[#This Row],[Descripcion]]=\"\",\"\",\"- \"&Listas[[#This Row],[Descripcion]])","v":"0137 - COMPRAVENTA CON PACTO DE RETROVENTA"},"0137","COMPRAVENTA CON PACTO DE RETROVENTA",1128]
["Código_Actos_en_Notaría",{"$f":"Listas[[#This Row],[ID]]&\" \"&IF(Listas[[#This Row],[Descripcion]]=\"\",\"\",\"- \"&Listas[[#This Row],[Descripcion]])","v":"0138 - COMPRAVENTA CUOTA PARTE"},"0138","COMPRAVENTA CUOTA PARTE",1129]
["Código_Actos_en_Notaría",{"$f":"Listas[[#This Row],[ID]]&\" \"&IF(Listas[[#This Row],[Descripcion]]=\"\",\"\",\"- \"&Listas[[#This Row],[Descripcion]])","v":"0139 - COMPRAVENTA ENTRE ENTIDADES EXENTAS"},"0139","COMPRAVENTA ENTRE ENTIDADES EXENTAS",1130]
["Código_Actos_en_Notaría",{"$f":"Listas[[#This Row],[ID]]&\" \"&IF(Listas[[#This Row],[Descripcion]]=\"\",\"\",\"- \"&Listas[[#This Row],[Descripcion]])","v":"0140 - COMPRAVENTA ENTRE ENTIDADES EXENTAS Y PARTICULARES"},"0140","COMPRAVENTA ENTRE ENTIDADES EXENTAS Y PARTICULARES",1131]
["Código_Actos_en_Notaría",{"$f":"Listas[[#This Row],[ID]]&\" \"&IF(Listas[[#This Row],[Descripcion]]=\"\",\"\",\"- \"&Listas[[#This Row],[Descripcion]])","v":"0141 - COMPRAVENTA ENTRE ENTIDADES NO EXENTAS Y PARTICULARES"},"0141","COMPRAVENTA ENTRE ENTIDADES NO EXENTAS Y PARTICULARES",1132]
["Código_Actos_en_Notaría",{"$f":"Listas[[#This Row],[ID]]&\" \"&IF(Listas[[#This Row],[Descripcion]]=\"\",\"\",\"- \"&Listas[[#This Row],[Descripcion]])","v":"0142 - COMPRAVENTA ENTRE PARTICULARES Y ENTIDADES PÚBLICAS EXENTAS"},"0142","COMPRAVENTA ENTRE PARTICULARES Y ENTIDADES PÚBLICAS EXENTAS",1133]
["Código_Actos_en_Notaría",{"$f":"Listas[[#This Row],[ID]]&\" \"&IF(Listas[[#This Row],[Descripcion]]=\"\",\"\",\"- \"&Listas[[#This Row],[Descripcion]])","v":"0143 - COMPRAVENTA ENTRE PARTICULARES Y ENTIDADES PÚBLICAS NO EXENTAS"},"0143","COMPRAVENTA ENTRE PARTICULARES Y ENTIDADES PÚBLICAS NO EXENTAS",1134]
["Código_Actos_en_Notaría",{"$f":"Listas[[#This Row],[ID]]&\" \"&IF(Listas[[#This Row],[Descripcion]]=\"\",\"\",\"- \"&Listas[[#This Row],[Descripcion]])","v":"0144 - COMPRAVENTA ENTRE PARTICULARES Y ENTIDADES EXENTAS"},"0144","COMPRAVENTA ENTRE PARTICULARES Y ENTIDADES EXENTAS",1135]
["Código_Actos_en_Notaría",{"$f":"Listas[[#This Row],[ID]]&\" \"&IF(Listas[[#This Row],[Descripcion]]=\"\",\"\",\"- \"&Listas[[#This Row],[Descripcion]])","v":"0145 - COMPRAVENTA ENTRE PARTICULARES Y ENTIDADES NO EXENTAS"},"0145","COMPRAVENTA ENTRE PARTICULARES Y ENTIDADES NO EXENTAS",1136]
["Código_Actos_en_Notaría",{"$f":"Listas[[#This Row],[ID]]&\" \"&IF(Listas[[#This Row],[Descripcion]]=\"\",\"\",\"- \"&Listas[[#This Row],[Descripcion]])","v":"0146 - CONSTITUCIÓN ADMINISTRACIÓN ANTICRÉTICA"},"0146","CONSTITUCIÓN ADMINISTRACIÓN ANTICRÉTICA",1137]
["Código_Actos_en_Notaría",{"$f":"Listas[[#This Row],[ID]]&\" \"&IF(Listas[[#This Row],[Descripcion]]=\"\",\"\",\"- \"&Listas[[#This Row],[Descripcion]])","v":"0166 - PERMUTA"},"0166","PERMUTA",1138]
["Código_Actos_en_Notaría",{"$f":"Listas[[#This Row],[ID]]&\" \"&IF(Listas[[#This Row],[Descripcion]]=\"\",\"\",\"- \"&Listas[[#This Row],[Descripcion]])","v":"0169 - USUFRUCTO"},"0169","USUFRUCTO",1139]
["Código_Actos_en_Notaría",{"$f":"Listas[[#This Row],[ID]]&\" \"&IF(Listas[[#This Row],[Descripcion]]=\"\",\"\",\"- \"&Listas[[#This Row],[Descripcion]])","v":"0254 - FIDUCIA"},"0254","FIDUCIA",1140]
["Código_Actos_en_Notaría",{"$f":"Listas[[#This Row],[ID]]&\" \"&IF(Listas[[#This Row],[Descripcion]]=\"\",\"\",\"- \"&Listas[[#This Row],[Descripcion]])","v":"0255 - FIDUCIA COMERCIAL"},"0255","FIDUCIA COMERCIAL",1141]
["Código_Actos_en_Notaría",{"$f":"Listas[[#This Row],[ID]]&\" \"&IF(Listas[[#This Row],[Descripcion]]=\"\",\"\",\"- \"&Listas[[#This Row],[Descripcion]])","v":"0256 - FIDUCIA CON TRANSFERENCIA DE BIENES "},"0256","FIDUCIA CON TRANSFERENCIA DE BIENES ",1142]
["Código_Actos_en_Notaría",{"$f":"Listas[[#This Row],[ID]]&\" \"&IF(Listas[[#This Row],[Descripcion]]=\"\",\"\",\"- \"&Listas[[#This Row],[Descripcion]])","v":"0257 - FIDUCIA EN GARANTÍA"},"0257","FIDUCIA EN GARANTÍA",1143]
["Código_Actos_en_Notaría",{"$f":"Listas[[#This Row],[ID]]&\" \"&IF(Listas[[#This Row],[Descripcion]]=\"\",\"\",\"- \"&Listas[[#This Row],[Descripcion]])","v":"0258 - LEASING"},"0258","LEASING",1144]
["Código_Actos_en_Notaría",{"$f":"Listas[[#This Row],[ID]]&\" \"&IF(Listas[[#This Row],[Descripcion]]=\"\",\"\",\"- \"&Listas[[#This Row],[Descripcion]])","v":"0259 - LEASING CON PLAZO DETERMINADO"},"0259","LEASING CON PLAZO DETERMINADO",1145]
["Código_Actos_en_Notaría",{"$f":"Listas[[#This Row],[ID]]&\" \"&IF(Listas[[#This Row],[Descripcion]]=\"\",\"\",\"- \"&Listas[[#This Row],[Descripcion]])","v":"0260 - LEASING CON PLAZO INDETERMINADO"},"0260","LEASING CON PLAZO INDETERMINADO",1146]
["Código_Actos_en_Notaría",{"$f":"Listas[[#This Row],[ID]]&\" \"&IF(Listas[[#This Row],[Descripcion]]=\"\",\"\",\"- \"&Listas[[#This Row],[Descripcion]])","v":"0261 - LEASING DE BIENES INMUEBLES"},"0261","LEASING DE BIENES INMUEBLES",1147]
["Código_Actos_en_Notaría",{"$f":"Listas[[#This Row],[ID]]&\" \"&IF(Listas[[#This Row],[Descripcion]]=\"\",\"\",\"- \"&Listas[[#This Row],[Descripcion]])","v":"0262 - LEASING SIN ESCRITURA PÚBLICA CAUSANDO LA TRANSFERENCIA DE BIENES POR LA OPCIÓN DE COMPRA"},"0262","LEASING SIN ESCRITURA PÚBLICA CAUSANDO LA TRANSFERENCIA DE BIENES POR LA OPCIÓN DE COMPRA",1148]
["Código_Actos_en_Notaría",{"$f":"Listas[[#This Row],[ID]]&\" \"&IF(Listas[[#This Row],[Descripcion]]=\"\",\"\",\"- \"&Listas[[#This Row],[Descripcion]])","v":"0263 - MANDATO FIDUCIARIO"},"0263","MANDATO FIDUCIARIO",1149]
["Código_Actos_en_Notaría",{"$f":"Listas[[#This Row],[ID]]&\" \"&IF(Listas[[#This Row],[Descripcion]]=\"\",\"\",\"- \"&Listas[[#This Row],[Descripcion]])","v":"0264 - RESCILIACIÓN CONTRACTUAL"},"0264","RESCILIACIÓN CONTRACTUAL",1150]
["Código_Actos_en_Notaría",{"$f":"Listas[[#This Row],[ID]]&\" \"&IF(Listas[[#This Row],[Descripcion]]=\"\",\"\",\"- \"&Listas[[#This Row],[Descripcion]])","v":"0265 - RESCISIÓN CONTRACTUAL"},"0265","RESCISIÓN CONTRACTUAL",1151]
["Código_Actos_en_Notaría",{"$f":"Listas[[#This Row],[ID]]&\" \"&IF(Listas[[#This Row],[Descripcion]]=\"\",\"\",\"- \"&Listas[[#This Row],[Descripcion]])","v":"0308 - COMPRAVENTA DE DERECHOS HERENCIALES"},"0308","COMPRAVENTA DE DERECHOS HERENCIALES",1152]
["Código_Actos_en_Notaría",{"$f":"Listas[[#This Row],[ID]]&\" \"&IF(Listas[[#This Row],[Descripcion]]=\"\",\"\",\"- \"&Listas[[#This Row],[Descripcion]])","v":"0309 - COMPRAVENTA DE DERECHOS UNIVERSALES"},"0309","COMPRAVENTA DE DERECHOS UNIVERSALES",1153]
["Código_Actos_en_Notaría",{"$f":"Listas[[#This Row],[ID]]&\" \"&IF(Listas[[#This Row],[Descripcion]]=\"\",\"\",\"- \"&Listas[[#This Row],[Descripcion]])","v":"0310 - COMPRAVENTA DE GANANCIALES"},"0310","COMPRAVENTA DE GANANCIALES",1154]
["Código_Actos_en_Notaría",{"$f":"Listas[[#This Row],[ID]]&\" \"&IF(Listas[[#This Row],[Descripcion]]=\"\",\"\",\"- \"&Listas[[#This Row],[Descripcion]])","v":"0340 - LIQUIDACIÓN DE HERENCIA Y SOCIEDADES CONYUGALES (SUCESIÓN)"},"0340","LIQUIDACIÓN DE HERENCIA Y SOCIEDADES CONYUGALES (SUCESIÓN)",1155]
["Código_Actos_en_Notaría",{"$f":"Listas[[#This Row],[ID]]&\" \"&IF(Listas[[#This Row],[Descripcion]]=\"\",\"\",\"- \"&Listas[[#This Row],[Descripcion]])","v":"0452 - COMPRAVENTA DE VIVIENDA DE INTERÉS SOCIAL"},"0452","COMPRAVENTA DE VIVIENDA DE INTERÉS SOCIAL",1156]
["Código_Actos_en_Notaría",{"$f":"Listas[[#This Row],[ID]]&\" \"&IF(Listas[[#This Row],[Descripcion]]=\"\",\"\",\"- \"&Listas[[#This Row],[Descripcion]])","v":"0453 - COMPRAVENTA DE VIVIENDA DE INTERÉS SOCIAL DECRETO 2158 DE 1995 Y 371 DE 1996 (ESPECIAL)"},"0453","COMPRAVENTA DE VIVIENDA DE INTERÉS SOCIAL DECRETO 2158 DE 1995 Y 371 DE 1996 (ESPECIAL)",1157]
["Código_Actos_en_Notaría",{"$f":"Listas[[#This Row],[ID]]&\" \"&IF(Listas[[#This Row],[Descripcion]]=\"\",\"\",\"- \"&Listas[[#This Row],[Descripcion]])","v":"0504 - COMPRAVENTA DE AERONAVES"},"0504","COMPRAVENTA DE AERONAVES",1158]
["Código_Actos_en_Notaría",{"$f":"Listas[[#This Row],[ID]]&\" \"&IF(Listas[[#This Row],[Descripcion]]=\"\",\"\",\"- \"&Listas[[#This Row],[Descripcion]])","v":"0505 - COMPRAVENTA DE DESPLAZADOS"},"0505","COMPRAVENTA DE DESPLAZADOS",1159]
["Código_Actos_en_Notaría",{"$f":"Listas[[#This Row],[ID]]&\" \"&IF(Listas[[#This Row],[Descripcion]]=\"\",\"\",\"- \"&Listas[[#This Row],[Descripcion]])","v":"0509 - DACIÓN EN PAGO "},"0509","DACIÓN EN PAGO ",1160]
["Código_Actos_en_Notaría",{"$f":"Listas[[#This Row],[ID]]&\" \"&IF(Listas[[#This Row],[Descripcion]]=\"\",\"\",\"- \"&Listas[[#This Row],[Descripcion]])","v":"0510 - DACIÓN EN PAGO QUE GARANTICE UNA OBLIGACIÓN HIPOTECARIA (LEY 633 ARTÍCULO 88 DEL 2000)"},"0510","DACIÓN EN PAGO QUE GARANTICE UNA OBLIGACIÓN HIPOTECARIA (LEY 633 ARTÍCULO 88 DEL 2000)",1161]
["Código_Actos_en_Notaría",{"$f":"Listas[[#This Row],[ID]]&\" \"&IF(Listas[[#This Row],[Descripcion]]=\"\",\"\",\"- \"&Listas[[#This Row],[Descripcion]])","v":"0511 - DACIÓN EN PAGO SIN RETEFUENTE"},"0511","DACIÓN EN PAGO SIN RETEFUENTE",1162]
["Código_Actos_en_Notaría",{"$f":"Listas[[#This Row],[ID]]&\" \"&IF(Listas[[#This Row],[Descripcion]]=\"\",\"\",\"- \"&Listas[[#This Row],[Descripcion]])","v":"0512 - DONACIÓN"},"0512","DONACIÓN",1163]
["Código_Actos_en_Notaría",{"$f":"Listas[[#This Row],[ID]]&\" \"&IF(Listas[[#This Row],[Descripcion]]=\"\",\"\",\"- \"&Listas[[#This Row],[Descripcion]])","v":"0513 - DONACIÓN DE BIENES DE INTERÉS CULTURAL EFECTUADAS POR PARTICULAR"},"0513","DONACIÓN DE BIENES DE INTERÉS CULTURAL EFECTUADAS POR PARTICULAR",1164]
["Código_Actos_en_Notaría",{"$f":"Listas[[#This Row],[ID]]&\" \"&IF(Listas[[#This Row],[Descripcion]]=\"\",\"\",\"- \"&Listas[[#This Row],[Descripcion]])","v":"0514 - DONACIÓN DE USUFRUCTO"},"0514","DONACIÓN DE USUFRUCTO",1165]
["Código_Actos_en_Notaría",{"$f":"Listas[[#This Row],[ID]]&\" \"&IF(Listas[[#This Row],[Descripcion]]=\"\",\"\",\"- \"&Listas[[#This Row],[Descripcion]])","v":"0515 - DONACIÓN NUDA PROPIEDAD"},"0515","DONACIÓN NUDA PROPIEDAD",1166]
["Código_Actos_en_Notaría",{"$f":"Listas[[#This Row],[ID]]&\" \"&IF(Listas[[#This Row],[Descripcion]]=\"\",\"\",\"- \"&Listas[[#This Row],[Descripcion]])","v":"0516 - DONACIÓN PARCIAL"},"0516","DONACIÓN PARCIAL",1167]
["Código_Actos_en_Notaría",{"$f":"Listas[[#This Row],[ID]]&\" \"&IF(Listas[[#This Row],[Descripcion]]=\"\",\"\",\"- \"&Listas[[#This Row],[Descripcion]])","v":"0702 - APORTE SOCIEDAD COMERCIAL"},"0702","APORTE SOCIEDAD COMERCIAL",1168]
["Tipo_Medida_Certificación",{"$f":"Listas[[#This Row],[ID]]&\" \"&IF(Listas[[#This Row],[Descripcion]]=\"\",\"\",\"- \"&Listas[[#This Row],[Descripcion]])","v":"1 - Sentencia condenatoria ejecutoriada por violencia intrafamiliar"},"1","Sentencia condenatoria ejecutoriada por violencia intrafamiliar",1169]
["Tipo_Medida_Certificación",{"$f":"Listas[[#This Row],[ID]]&\" \"&IF(Listas[[#This Row],[Descripcion]]=\"\",\"\",\"- \"&Listas[[#This Row],[Descripcion]])","v":"2 - Sentencia condenatoria ejecutoriada por violencia sexual"},"2","Sentencia condenatoria ejecutoriada por violencia sexual",1170]
["Tipo_Medida_Certificación",{"$f":"Listas[[#This Row],[ID]]&\" \"&IF(Listas[[#This Row],[Descripcion]]=\"\",\"\",\"- \"&Listas[[#This Row],[Descripcion]])","v":"3 - Sentencia condenatoria ejecutoriada por acoso sexual"},"3","Sentencia condenatoria ejecutoriada por acoso sexual",1171]
["Tipo_Medida_Certificación",{"$f":"Listas[[#This Row],[ID]]&\" \"&IF(Listas[[#This Row],[Descripcion]]=\"\",\"\",\"- \"&Listas[[#This Row],[Descripcion]])","v":"4 - Sentencia condenatoria ejecutoriada por lesiones personales"},"4","Sentencia condenatoria ejecutoriada por lesiones personales",1172]
["Tipo_Medida_Certificación",{"$f":"Listas[[#This Row],[ID]]&\" \"&IF(Listas[[#This Row],[Descripcion]]=\"\",\"\",\"- \"&Listas[[#This Row],[Descripcion]])","v":"5 - Sentencia ejecutoriada por mal manejo del patrimonio familiar"},"5","Sentencia ejecutoriada por mal manejo del patrimonio familiar",1173]
["Tipo_Medida_Certificación",{"$f":"Listas[[#This Row],[ID]]&\" \"&IF(Listas[[#This Row],[Descripcion]]=\"\",\"\",\"- \"&Listas[[#This Row],[Descripcion]])","v":"6 - Medida de protección y/o atención, dictada por la autoridad competente"},"6","Medida de protección y/o atención, dictada por la autoridad competente",1174]
["Nivel_Educativo",{"$f":"Listas[[#This Row],[ID]]&\" \"&IF(Listas[[#This Row],[Descripcion]]=\"\",\"\",\"- \"&Listas[[#This Row],[Descripcion]])","v":"1 - Primaria"},"1","Primaria",1175]
["Nivel_Educativo",{"$f":"Listas[[#This Row],[ID]]&\" \"&IF(Listas[[#This Row],[Descripcion]]=\"\",\"\",\"- \"&Listas[[#This Row],[Descripcion]])","v":"2 - Secundaria"},"2","Secundaria",1176]
["Nivel_Educativo",{"$f":"Listas[[#This Row],[ID]]&\" \"&IF(Listas[[#This Row],[Descripcion]]=\"\",\"\",\"- \"&Listas[[#This Row],[Descripcion]])","v":"3 - Técnico"},"3","Técnico",1177]
["Nivel_Educativo",{"$f":"Listas[[#This Row],[ID]]&\" \"&IF(Listas[[#This Row],[Descripcion]]=\"\",\"\",\"- \"&Listas[[#This Row],[Descripcion]])","v":"4 - Tecnólogo"},"4","Tecnólogo",1178]
["Nivel_Educativo",{"$f":"Listas[[#This Row],[ID]]&\" \"&IF(Listas[[#This Row],[Descripcion]]=\"\",\"\",\"- \"&Listas[[#This Row],[Descripcion]])","v":"5 - Universitario"},"5","Universitario",1179]
["Nivel_Educativo",{"$f":"Listas[[#This Row],[ID]]&\" \"&IF(Listas[[#This Row],[Descripcion]]=\"\",\"\",\"- \"&Listas[[#This Row],[Descripcion]])","v":"6 - Posgrado"},"6","Posgrado",1180]
["Nivel_Educativo",{"$f":"Listas[[#This Row],[ID]]&\" \"&IF(Listas[[#This Row],[Descripcion]]=\"\",\"\",\"- \"&Listas[[#This Row],[Descripcion]])","v":"7 - Maestría"},"7","Maestría",1181]
["Nivel_Educativo",{"$f":"Listas[[#This Row],[ID]]&\" \"&IF(Listas[[#This Row],[Descripcion]]=\"\",\"\",\"- \"&Listas[[#This Row],[Descripcion]])","v":"8 - Doctorado"},"8","Doctorado",1182]
["Nivel_Educativo",{"$f":"Listas[[#This Row],[ID]]&\" \"&IF(Listas[[#This Row],[Descripcion]]=\"\",\"\",\"- \"&Listas[[#This Row],[Descripcion]])","v":"9 - Otro"},"9","Otro",1183]
["Tipo_informante",{"$f":"Listas[[#This Row],[ID]]&\" \"&IF(Listas[[#This Row],[Descripcion]]=\"\",\"\",\"- \"&Listas[[#This Row],[Descripcion]])","v":"1 - Matriz o controlante nacional"},"1","Matriz o controlante nacional",1184]
["Tipo_informante",{"$f":"Listas[[#This Row],[ID]]&\" \"&IF(Listas[[#This Row],[Descripcion]]=\"\",\"\",\"- \"&Listas[[#This Row],[Descripcion]])","v":"2 - Entidad Controlante de ECE"},"2","Entidad Controlante de ECE",1185]
["Tipo_informante",{"$f":"Listas[[#This Row],[ID]]&\" \"&IF(Listas[[#This Row],[Descripcion]]=\"\",\"\",\"- \"&Listas[[#This Row],[Descripcion]])","v":"3 - Filial"},"3","Filial",1186]
["Tipo_informante",{"$f":"Listas[[#This Row],[ID]]&\" \"&IF(Listas[[#This Row],[Descripcion]]=\"\",\"\",\"- \"&Listas[[#This Row],[Descripcion]])","v":"4 - Subsidiaria"},"4","Subsidiaria",1187]
["Tipo_informante",{"$f":"Listas[[#This Row],[ID]]&\" \"&IF(Listas[[#This Row],[Descripcion]]=\"\",\"\",\"- \"&Listas[[#This Row],[Descripcion]])","v":"5 - Demás subordinadas o vinculados económicos"},"5","Demás subordinadas o vinculados económicos",1188]
["Vehículo_Inversión_1035",{"$f":"Listas[[#This Row],[ID]]&\" \"&IF(Listas[[#This Row],[Descripcion]]=\"\",\"\",\"- \"&Listas[[#This Row],[Descripcion]])","v":"1 - Sociedades"},"1","Sociedades",1189]
["Vehículo_Inversión_1035",{"$f":"Listas[[#This Row],[ID]]&\" \"&IF(Listas[[#This Row],[Descripcion]]=\"\",\"\",\"- \"&Listas[[#This Row],[Descripcion]])","v":"2 - Patrimonios autónomos "},"2","Patrimonios autónomos ",1190]
["Vehículo_Inversión_1035",{"$f":"Listas[[#This Row],[ID]]&\" \"&IF(Listas[[#This Row],[Descripcion]]=\"\",\"\",\"- \"&Listas[[#This Row],[Descripcion]])","v":"3 - Trusts"},"3","Trusts",1191]
["Vehículo_Inversión_1035",{"$f":"Listas[[#This Row],[ID]]&\" \"&IF(Listas[[#This Row],[Descripcion]]=\"\",\"\",\"- \"&Listas[[#This Row],[Descripcion]])","v":"4 - Fondos de inversión colectiva"},"4","Fondos de inversión colectiva",1192]
["Vehículo_Inversión_1035",{"$f":"Listas[[#This Row],[ID]]&\" \"&IF(Listas[[#This Row],[Descripcion]]=\"\",\"\",\"- \"&Listas[[#This Row],[Descripcion]])","v":"5 - Otros negocios fiduciarios"},"5","Otros negocios fiduciarios",1193]
["Vehículo_Inversión_1035",{"$f":"Listas[[#This Row],[ID]]&\" \"&IF(Listas[[#This Row],[Descripcion]]=\"\",\"\",\"- \"&Listas[[#This Row],[Descripcion]])","v":"6 - Fundaciones de interés privado"},"6","Fundaciones de interés privado",1194]
["Vehículo_Inversión_1035",{"$f":"Listas[[#This Row],[ID]]&\" \"&IF(Listas[[#This Row],[Descripcion]]=\"\",\"\",\"- \"&Listas[[#This Row],[Descripcion]])","v":"7 - Otros vehículos de inversión"},"7","Otros vehículos de inversión",1195]
["Forma_Control_1035",{"$f":"Listas[[#This Row],[ID]]&\" \"&IF(Listas[[#This Row],[Descripcion]]=\"\",\"\",\"- \"&Listas[[#This Row],[Descripcion]])","v":"1 - Directo "},"1","Directo ",1196]
["Forma_Control_1035",{"$f":"Listas[[#This Row],[ID]]&\" \"&IF(Listas[[#This Row],[Descripcion]]=\"\",\"\",\"- \"&Listas[[#This Row],[Descripcion]])","v":"2 - Indirecto"},"2","Indirecto",1197]
["Forma_donación",{"$f":"Listas[[#This Row],[ID]]&\" \"&IF(Listas[[#This Row],[Descripcion]]=\"\",\"\",\"- \"&Listas[[#This Row],[Descripcion]])","v":"1 - Efectivo"},"1","Efectivo",1198]
["Forma_donación",{"$f":"Listas[[#This Row],[ID]]&\" \"&IF(Listas[[#This Row],[Descripcion]]=\"\",\"\",\"- \"&Listas[[#This Row],[Descripcion]])","v":"2 - Títulos valores"},"2","Títulos valores",1199]
["Forma_donación",{"$f":"Listas[[#This Row],[ID]]&\" \"&IF(Listas[[#This Row],[Descripcion]]=\"\",\"\",\"- \"&Listas[[#This Row],[Descripcion]])","v":"3 - Bienes inmuebles"},"3","Bienes inmuebles",1200]
["Forma_donación",{"$f":"Listas[[#This Row],[ID]]&\" \"&IF(Listas[[#This Row],[Descripcion]]=\"\",\"\",\"- \"&Listas[[#This Row],[Descripcion]])","v":"4 - Bienes muebles"},"4","Bienes muebles",1201]
["Forma_donación",{"$f":"Listas[[#This Row],[ID]]&\" \"&IF(Listas[[#This Row],[Descripcion]]=\"\",\"\",\"- \"&Listas[[#This Row],[Descripcion]])","v":"5 - Bienes intangibles"},"5","Bienes intangibles",1202]
["Forma_donación",{"$f":"Listas[[#This Row],[ID]]&\" \"&IF(Listas[[#This Row],[Descripcion]]=\"\",\"\",\"- \"&Listas[[#This Row],[Descripcion]])","v":"6 - Otros"},"6","Otros",1203]
["Tipo_Persona_2575",{"$f":"Listas[[#This Row],[ID]]&\" \"&IF(Listas[[#This Row],[Descripcion]]=\"\",\"\",\"- \"&Listas[[#This Row],[Descripcion]])","v":"1 - Persona Jurídica"},"1","Persona Jurídica",1204]
["Tipo_Persona_2575",{"$f":"Listas[[#This Row],[ID]]&\" \"&IF(Listas[[#This Row],[Descripcion]]=\"\",\"\",\"- \"&Listas[[#This Row],[Descripcion]])","v":"2 - Persona Natural"},"2","Persona Natural",1205]
["Unidad_medida_combustible_no_causación_ImpCarbono",{"$f":"Listas[[#This Row],[ID]]&\" \"&IF(Listas[[#This Row],[Descripcion]]=\"\",\"\",\"- \"&Listas[[#This Row],[Descripcion]])","v":"1 - Metros cúbicos"},"1","Metros cúbicos",1206]
["Unidad_medida_combustible_no_causación_ImpCarbono",{"$f":"Listas[[#This Row],[ID]]&\" \"&IF(Listas[[#This Row],[Descripcion]]=\"\",\"\",\"- \"&Listas[[#This Row],[Descripcion]])","v":"2 - Galones"},"2","Galones",1207]
["Concepto_2625",{"$f":"Listas[[#This Row],[ID]]&\" \"&IF(Listas[[#This Row],[Descripcion]]=\"\",\"\",\"- \"&Listas[[#This Row],[Descripcion]])","v":"1620 - Saldo de activo intangible por concesiones y asociaciones público privadas-APP."},"1620","Saldo de activo intangible por concesiones y asociaciones público privadas-APP.",1208]
["Concepto_2625",{"$f":"Listas[[#This Row],[ID]]&\" \"&IF(Listas[[#This Row],[Descripcion]]=\"\",\"\",\"- \"&Listas[[#This Row],[Descripcion]])","v":"1621 - Saldo acumulado capitalizable por rehabilitación, reposición de activos, o mantenimientos mayores o significativos en concesiones o asociaciones público privadas-APP."},"1621","Saldo acumulado capitalizable por rehabilitación, reposición de activos, o mantenimientos mayores o significativos en concesiones o asociaciones público privadas-APP.",1209]
["Concepto_2625",{"$f":"Listas[[#This Row],[ID]]&\" \"&IF(Listas[[#This Row],[Descripcion]]=\"\",\"\",\"- \"&Listas[[#This Row],[Descripcion]])","v":"1320 - Saldo de la cuenta por cobrar por concesiones y asociaciones público privadas - APP"},"1320","Saldo de la cuenta por cobrar por concesiones y asociaciones público privadas - APP",1210]
["Concepto_2625",{"$f":"Listas[[#This Row],[ID]]&\" \"&IF(Listas[[#This Row],[Descripcion]]=\"\",\"\",\"- \"&Listas[[#This Row],[Descripcion]])","v":"2720 - Saldo del pasivo por ingreso diferido asociado a la etapa de construcción por concesiones o asociaciones público privadas - APP."},"2720","Saldo del pasivo por ingreso diferido asociado a la etapa de construcción por concesiones o asociaciones público privadas - APP.",1211]
["Concepto_2625",{"$f":"Listas[[#This Row],[ID]]&\" \"&IF(Listas[[#This Row],[Descripcion]]=\"\",\"\",\"- \"&Listas[[#This Row],[Descripcion]])","v":"2721 - Valor acumulado del periodo por ingreso revertido del pasivo por ingreso diferido por concesiones o asociaciones público privadas - APP."},"2721","Valor acumulado del periodo por ingreso revertido del pasivo por ingreso diferido por concesiones o asociaciones público privadas - APP.",1212]
["Concepto_2625",{"$f":"Listas[[#This Row],[ID]]&\" \"&IF(Listas[[#This Row],[Descripcion]]=\"\",\"\",\"- \"&Listas[[#This Row],[Descripcion]])","v":"6020 - Valor acumulado en el periodo por amortización del activo por concesiones o asociaciones público privadas - APP."},"6020","Valor acumulado en el periodo por amortización del activo por concesiones o asociaciones público privadas - APP.",1213]
["Concepto_2625",{"$f":"Listas[[#This Row],[ID]]&\" \"&IF(Listas[[#This Row],[Descripcion]]=\"\",\"\",\"- \"&Listas[[#This Row],[Descripcion]])","v":"6021 - Valor acumulado en el periodo por amortización por rehabilitación, reposición de activos o mantenimientos mayores o significativos por concesiones o asociaciones público privadas - APP."},"6021","Valor acumulado en el periodo por amortización por rehabilitación, reposición de activos o mantenimientos mayores o significativos por concesiones o asociaciones público privadas - APP.",1214]
["Concepto_2625",{"$f":"Listas[[#This Row],[ID]]&\" \"&IF(Listas[[#This Row],[Descripcion]]=\"\",\"\",\"- \"&Listas[[#This Row],[Descripcion]])","v":"9020 - Valor acumulado de los costos o gastos asumidos de la nación con ocasión de asunción del riesgo o reembolso de costos por concesiones o asociaciones público privadas - APP."},"9020","Valor acumulado de los costos o gastos asumidos de la nación con ocasión de asunción del riesgo o reembolso de costos por concesiones o asociaciones público privadas - APP.",1215]
["Estado_la_personería_jurídica",{"$f":"Listas[[#This Row],[ID]]&\" \"&IF(Listas[[#This Row],[Descripcion]]=\"\",\"\",\"- \"&Listas[[#This Row],[Descripcion]])","v":"1 - Otorgada"},"1","Otorgada",1216]
["Estado_la_personería_jurídica",{"$f":"Listas[[#This Row],[ID]]&\" \"&IF(Listas[[#This Row],[Descripcion]]=\"\",\"\",\"- \"&Listas[[#This Row],[Descripcion]])","v":"2 - Suspendida"},"2","Suspendida",1217]
["Estado_la_personería_jurídica",{"$f":"Listas[[#This Row],[ID]]&\" \"&IF(Listas[[#This Row],[Descripcion]]=\"\",\"\",\"- \"&Listas[[#This Row],[Descripcion]])","v":"3 - Cancelada"},"3","Cancelada",1218]
["Estado_la_personería_jurídica",{"$f":"Listas[[#This Row],[ID]]&\" \"&IF(Listas[[#This Row],[Descripcion]]=\"\",\"\",\"- \"&Listas[[#This Row],[Descripcion]])","v":"4 - Reconocida"},"4","Reconocida",1219]
["Estado_la_personería_jurídica",{"$f":"Listas[[#This Row],[ID]]&\" \"&IF(Listas[[#This Row],[Descripcion]]=\"\",\"\",\"- \"&Listas[[#This Row],[Descripcion]])","v":"5 - Registrada"},"5","Registrada",1220]
["Tipo_organización_la_entidad",{"$f":"Listas[[#This Row],[ID]]&\" \"&IF(Listas[[#This Row],[Descripcion]]=\"\",\"\",\"- \"&Listas[[#This Row],[Descripcion]])","v":"1 - Entidades o instituciones de derecho público de orden nacional, departamental, municipal y descentralizados"},"1","Entidades o instituciones de derecho público de orden nacional, departamental, municipal y descentralizados",1221]
["Tipo_organización_la_entidad",{"$f":"Listas[[#This Row],[ID]]&\" \"&IF(Listas[[#This Row],[Descripcion]]=\"\",\"\",\"- \"&Listas[[#This Row],[Descripcion]])","v":"2 - Fondos"},"2","Fondos",1222]
["Tipo_organización_la_entidad",{"$f":"Listas[[#This Row],[ID]]&\" \"&IF(Listas[[#This Row],[Descripcion]]=\"\",\"\",\"- \"&Listas[[#This Row],[Descripcion]])","v":"3 - Organismos extranjeros"},"3","Organismos extranjeros",1223]
["Tipo_organización_la_entidad",{"$f":"Listas[[#This Row],[ID]]&\" \"&IF(Listas[[#This Row],[Descripcion]]=\"\",\"\",\"- \"&Listas[[#This Row],[Descripcion]])","v":"4 - Otras organizaciones"},"4","Otras organizaciones",1224]
["Tipo_documento_creación_suspensión_o_cancelación",{"$f":"Listas[[#This Row],[ID]]&\" \"&IF(Listas[[#This Row],[Descripcion]]=\"\",\"\",\"- \"&Listas[[#This Row],[Descripcion]])","v":"1 - Acta"},"1","Acta",1225]
["Tipo_documento_creación_suspensión_o_cancelación",{"$f":"Listas[[#This Row],[ID]]&\" \"&IF(Listas[[#This Row],[Descripcion]]=\"\",\"\",\"- \"&Listas[[#This Row],[Descripcion]])","v":"2 - Acuerdo"},"2","Acuerdo",1226]
["Tipo_documento_creación_suspensión_o_cancelación",{"$f":"Listas[[#This Row],[ID]]&\" \"&IF(Listas[[#This Row],[Descripcion]]=\"\",\"\",\"- \"&Listas[[#This Row],[Descripcion]])","v":"3 - Decreto"},"3","Decreto",1227]
["Tipo_documento_creación_suspensión_o_cancelación",{"$f":"Listas[[#This Row],[ID]]&\" \"&IF(Listas[[#This Row],[Descripcion]]=\"\",\"\",\"- \"&Listas[[#This Row],[Descripcion]])","v":"4 - Documento privado"},"4","Documento privado",1228]
["Tipo_documento_creación_suspensión_o_cancelación",{"$f":"Listas[[#This Row],[ID]]&\" \"&IF(Listas[[#This Row],[Descripcion]]=\"\",\"\",\"- \"&Listas[[#This Row],[Descripcion]])","v":"5 - Escritura pública"},"5","Escritura pública",1229]
["Tipo_documento_creación_suspensión_o_cancelación",{"$f":"Listas[[#This Row],[ID]]&\" \"&IF(Listas[[#This Row],[Descripcion]]=\"\",\"\",\"- \"&Listas[[#This Row],[Descripcion]])","v":"6 - Ley"},"6","Ley",1230]
["Tipo_documento_creación_suspensión_o_cancelación",{"$f":"Listas[[#This Row],[ID]]&\" \"&IF(Listas[[#This Row],[Descripcion]]=\"\",\"\",\"- \"&Listas[[#This Row],[Descripcion]])","v":"7 - Ordenanza"},"7","Ordenanza",1231]
["Tipo_documento_creación_suspensión_o_cancelación",{"$f":"Listas[[#This Row],[ID]]&\" \"&IF(Listas[[#This Row],[Descripcion]]=\"\",\"\",\"- \"&Listas[[#This Row],[Descripcion]])","v":"8 - Resolución"},"8","Resolución",1232]
["Tipo_documento_creación_suspensión_o_cancelación",{"$f":"Listas[[#This Row],[ID]]&\" \"&IF(Listas[[#This Row],[Descripcion]]=\"\",\"\",\"- \"&Listas[[#This Row],[Descripcion]])","v":"9 - Certificado matrícula mercantil persona natural comerciante"},"9","Certificado matrícula mercantil persona natural comerciante",1233]
["Tipo_documento_creación_suspensión_o_cancelación",{"$f":"Listas[[#This Row],[ID]]&\" \"&IF(Listas[[#This Row],[Descripcion]]=\"\",\"\",\"- \"&Listas[[#This Row],[Descripcion]])","v":"10 - Certificado de póliza"},"10","Certificado de póliza",1234]
["Tipo_documento_creación_suspensión_o_cancelación",{"$f":"Listas[[#This Row],[ID]]&\" \"&IF(Listas[[#This Row],[Descripcion]]=\"\",\"\",\"- \"&Listas[[#This Row],[Descripcion]])","v":"11 - Comunicación"},"11","Comunicación",1235]
["Tipo_documento_creación_suspensión_o_cancelación",{"$f":"Listas[[#This Row],[ID]]&\" \"&IF(Listas[[#This Row],[Descripcion]]=\"\",\"\",\"- \"&Listas[[#This Row],[Descripcion]])","v":"12 - Oficio"},"12","Oficio",1236]
["Tipo_documento_creación_suspensión_o_cancelación",{"$f":"Listas[[#This Row],[ID]]&\" \"&IF(Listas[[#This Row],[Descripcion]]=\"\",\"\",\"- \"&Listas[[#This Row],[Descripcion]])","v":"13 - Auto"},"13","Auto",1237]
["Tipo_documento_creación_suspensión_o_cancelación",{"$f":"Listas[[#This Row],[ID]]&\" \"&IF(Listas[[#This Row],[Descripcion]]=\"\",\"\",\"- \"&Listas[[#This Row],[Descripcion]])","v":"98 - Sin clase de documento"},"98","Sin clase de documento",1238]
["Tipo_documento_creación_suspensión_o_cancelación",{"$f":"Listas[[#This Row],[ID]]&\" \"&IF(Listas[[#This Row],[Descripcion]]=\"\",\"\",\"- \"&Listas[[#This Row],[Descripcion]])","v":"99 - Otra clase de documento"},"99","Otra clase de documento",1239]
["Si_1_No_2",{"$f":"Listas[[#This Row],[ID]]&\" \"&IF(Listas[[#This Row],[Descripcion]]=\"\",\"\",\"- \"&Listas[[#This Row],[Descripcion]])","v":"1 - SI"},"1","SI",1240]
["Si_1_No_2",{"$f":"Listas[[#This Row],[ID]]&\" \"&IF(Listas[[#This Row],[Descripcion]]=\"\",\"\",\"- \"&Listas[[#This Row],[Descripcion]])","v":"2 - NO"},"2","NO",1241]
["Tipo_Persona_1036",{"$f":"Listas[[#This Row],[ID]]&\" \"&IF(Listas[[#This Row],[Descripcion]]=\"\",\"\",\"- \"&Listas[[#This Row],[Descripcion]])","v":"1 - Natural "},"1","Natural ",1242]
["Tipo_Persona_1036",{"$f":"Listas[[#This Row],[ID]]&\" \"&IF(Listas[[#This Row],[Descripcion]]=\"\",\"\",\"- \"&Listas[[#This Row],[Descripcion]])","v":"2 - Jurídica o Entidad"},"2","Jurídica o Entidad",1243]
["Tipo_vínculo_1035",{"$f":"Listas[[#This Row],[ID]]&\" \"&IF(Listas[[#This Row],[Descripcion]]=\"\",\"\",\"- \"&Listas[[#This Row],[Descripcion]])","v":"1 - Subordinación"},"1","Subordinación",1244]
["Tipo_vínculo_1035",{"$f":"Listas[[#This Row],[ID]]&\" \"&IF(Listas[[#This Row],[Descripcion]]=\"\",\"\",\"- \"&Listas[[#This Row],[Descripcion]])","v":"2 - Otras Formas de vinculación"},"2","Otras Formas de vinculación",1245]
["Tipo_propiedad_horizontal",{"$f":"Listas[[#This Row],[ID]]&\" \"&IF(Listas[[#This Row],[Descripcion]]=\"\",\"\",\"- \"&Listas[[#This Row],[Descripcion]])","v":"1 - Comercial"},"1","Comercial",1246]
["Tipo_propiedad_horizontal",{"$f":"Listas[[#This Row],[ID]]&\" \"&IF(Listas[[#This Row],[Descripcion]]=\"\",\"\",\"- \"&Listas[[#This Row],[Descripcion]])","v":"2 - Industrial"},"2","Industrial",1247]
["Tipo_propiedad_horizontal",{"$f":"Listas[[#This Row],[ID]]&\" \"&IF(Listas[[#This Row],[Descripcion]]=\"\",\"\",\"- \"&Listas[[#This Row],[Descripcion]])","v":"3 - Mixta"},"3","Mixta",1248]
["Tipo_bien_explotación_ComInd",{"$f":"Listas[[#This Row],[ID]]&\" \"&IF(Listas[[#This Row],[Descripcion]]=\"\",\"\",\"- \"&Listas[[#This Row],[Descripcion]])","v":"1 - Bienes inmuebles residenciales"},"1","Bienes inmuebles residenciales",1249]
["Tipo_bien_explotación_ComInd",{"$f":"Listas[[#This Row],[ID]]&\" \"&IF(Listas[[#This Row],[Descripcion]]=\"\",\"\",\"- \"&Listas[[#This Row],[Descripcion]])","v":"2 - Bienes inmuebles comerciales"},"2","Bienes inmuebles comerciales",1250]
["Tipo_bien_explotación_ComInd",{"$f":"Listas[[#This Row],[ID]]&\" \"&IF(Listas[[#This Row],[Descripcion]]=\"\",\"\",\"- \"&Listas[[#This Row],[Descripcion]])","v":"3 - Otros bienes"},"3","Otros bienes",1251]
["Tipo_bien_explotación_ComInd",{"$f":"Listas[[#This Row],[ID]]&\" \"&IF(Listas[[#This Row],[Descripcion]]=\"\",\"\",\"- \"&Listas[[#This Row],[Descripcion]])","v":"4 - Áreas de recreación / zonas verdes"},"4","Áreas de recreación / zonas verdes",1252]
["Tipo_bien_explotación_ComInd",{"$f":"Listas[[#This Row],[ID]]&\" \"&IF(Listas[[#This Row],[Descripcion]]=\"\",\"\",\"- \"&Listas[[#This Row],[Descripcion]])","v":"5 - Baños"},"5","Baños",1253]
["Tipo_bien_explotación_ComInd",{"$f":"Listas[[#This Row],[ID]]&\" \"&IF(Listas[[#This Row],[Descripcion]]=\"\",\"\",\"- \"&Listas[[#This Row],[Descripcion]])","v":"6 - Parqueaderos"},"6","Parqueaderos",1254]
["Tipo_bien_explotación_ComInd",{"$f":"Listas[[#This Row],[ID]]&\" \"&IF(Listas[[#This Row],[Descripcion]]=\"\",\"\",\"- \"&Listas[[#This Row],[Descripcion]])","v":"7 - Pasillos"},"7","Pasillos",1255]
["Tipo_bien_explotación_ComInd",{"$f":"Listas[[#This Row],[ID]]&\" \"&IF(Listas[[#This Row],[Descripcion]]=\"\",\"\",\"- \"&Listas[[#This Row],[Descripcion]])","v":"8 - Patios"},"8","Patios",1256]
["Tipo_bien_explotación_ComInd",{"$f":"Listas[[#This Row],[ID]]&\" \"&IF(Listas[[#This Row],[Descripcion]]=\"\",\"\",\"- \"&Listas[[#This Row],[Descripcion]])","v":"9 - Puentes"},"9","Puentes",1257]
["Tipo_bien_explotación_ComInd",{"$f":"Listas[[#This Row],[ID]]&\" \"&IF(Listas[[#This Row],[Descripcion]]=\"\",\"\",\"- \"&Listas[[#This Row],[Descripcion]])","v":"10 - Salones comunales / sociales"},"10","Salones comunales / sociales",1258]
["Tipo_bien_explotación_ComInd",{"$f":"Listas[[#This Row],[ID]]&\" \"&IF(Listas[[#This Row],[Descripcion]]=\"\",\"\",\"- \"&Listas[[#This Row],[Descripcion]])","v":"11 - Terrazas"},"11","Terrazas",1259]
["Tipo_bien_explotación_ComInd",{"$f":"Listas[[#This Row],[ID]]&\" \"&IF(Listas[[#This Row],[Descripcion]]=\"\",\"\",\"- \"&Listas[[#This Row],[Descripcion]])","v":"12 - Otras áreas comunes"},"12","Otras áreas comunes",1260]
["Tipo_Responsable_1406",{"$f":"Listas[[#This Row],[ID]]&\" \"&IF(Listas[[#This Row],[Descripcion]]=\"\",\"\",\"- \"&Listas[[#This Row],[Descripcion]])","v":"1 - Propietario "},"1","Propietario ",1261]
["Tipo_Responsable_1406",{"$f":"Listas[[#This Row],[ID]]&\" \"&IF(Listas[[#This Row],[Descripcion]]=\"\",\"\",\"- \"&Listas[[#This Row],[Descripcion]])","v":"2 - Poseedor "},"2","Poseedor ",1262]
["Tipo_Responsable_1406",{"$f":"Listas[[#This Row],[ID]]&\" \"&IF(Listas[[#This Row],[Descripcion]]=\"\",\"\",\"- \"&Listas[[#This Row],[Descripcion]])","v":"3 - Usufructuario "},"3","Usufructuario ",1263]
["Tipo_Responsable_1406",{"$f":"Listas[[#This Row],[ID]]&\" \"&IF(Listas[[#This Row],[Descripcion]]=\"\",\"\",\"- \"&Listas[[#This Row],[Descripcion]])","v":"4 - Otro "},"4","Otro ",1264]
["Ubicación_del_Predio_1406",{"$f":"Listas[[#This Row],[ID]]&\" \"&IF(Listas[[#This Row],[Descripcion]]=\"\",\"\",\"- \"&Listas[[#This Row],[Descripcion]])","v":"1 - Predio Rural"},"1","Predio Rural",1265]
["Ubicación_del_Predio_1406",{"$f":"Listas[[#This Row],[ID]]&\" \"&IF(Listas[[#This Row],[Descripcion]]=\"\",\"\",\"- \"&Listas[[#This Row],[Descripcion]])","v":"2 - Predio Urbano"},"2","Predio Urbano",1266]
["Destino_Económico_1406",{"$f":"Listas[[#This Row],[ID]]&\" \"&IF(Listas[[#This Row],[Descripcion]]=\"\",\"\",\"- \"&Listas[[#This Row],[Descripcion]])","v":"A - Habitacional"},"A","Habitacional",1267]
["Destino_Económico_1406",{"$f":"Listas[[#This Row],[ID]]&\" \"&IF(Listas[[#This Row],[Descripcion]]=\"\",\"\",\"- \"&Listas[[#This Row],[Descripcion]])","v":"B - Industrial"},"B","Industrial",1268]
["Destino_Económico_1406",{"$f":"Listas[[#This Row],[ID]]&\" \"&IF(Listas[[#This Row],[Descripcion]]=\"\",\"\",\"- \"&Listas[[#This Row],[Descripcion]])","v":"C - Comercial"},"C","Comercial",1269]
["Destino_Económico_1406",{"$f":"Listas[[#This Row],[ID]]&\" \"&IF(Listas[[#This Row],[Descripcion]]=\"\",\"\",\"- \"&Listas[[#This Row],[Descripcion]])","v":"D - Agropecuario"},"D","Agropecuario",1270]
["Destino_Económico_1406",{"$f":"Listas[[#This Row],[ID]]&\" \"&IF(Listas[[#This Row],[Descripcion]]=\"\",\"\",\"- \"&Listas[[#This Row],[Descripcion]])","v":"E - Minero"},"E","Minero",1271]
["Destino_Económico_1406",{"$f":"Listas[[#This Row],[ID]]&\" \"&IF(Listas[[#This Row],[Descripcion]]=\"\",\"\",\"- \"&Listas[[#This Row],[Descripcion]])","v":"F - Cultural"},"F","Cultural",1272]
["Destino_Económico_1406",{"$f":"Listas[[#This Row],[ID]]&\" \"&IF(Listas[[#This Row],[Descripcion]]=\"\",\"\",\"- \"&Listas[[#This Row],[Descripcion]])","v":"G - Recreacional"},"G","Recreacional",1273]
["Destino_Económico_1406",{"$f":"Listas[[#This Row],[ID]]&\" \"&IF(Listas[[#This Row],[Descripcion]]=\"\",\"\",\"- \"&Listas[[#This Row],[Descripcion]])","v":"H - Salubridad"},"H","Salubridad",1274]
["Destino_Económico_1406",{"$f":"Listas[[#This Row],[ID]]&\" \"&IF(Listas[[#This Row],[Descripcion]]=\"\",\"\",\"- \"&Listas[[#This Row],[Descripcion]])","v":"I - Institucional o Estado"},"I","Institucional o Estado",1275]
["Destino_Económico_1406",{"$f":"Listas[[#This Row],[ID]]&\" \"&IF(Listas[[#This Row],[Descripcion]]=\"\",\"\",\"- \"&Listas[[#This Row],[Descripcion]])","v":"J - Mixto"},"J","Mixto",1276]
["Destino_Económico_1406",{"$f":"Listas[[#This Row],[ID]]&\" \"&IF(Listas[[#This Row],[Descripcion]]=\"\",\"\",\"- \"&Listas[[#This Row],[Descripcion]])","v":"K - Otro destino económico"},"K","Otro destino económico",1277]
["Tipo_Vehículo",{"$f":"Listas[[#This Row],[ID]]&\" \"&IF(Listas[[#This Row],[Descripcion]]=\"\",\"\",\"- \"&Listas[[#This Row],[Descripcion]])","v":"1 - Automóvil y sws"},"1","Automóvil y sws",1278]
["Tipo_Vehículo",{"$f":"Listas[[#This Row],[ID]]&\" \"&IF(Listas[[#This Row],[Descripcion]]=\"\",\"\",\"- \"&Listas[[#This Row],[Descripcion]])","v":"2 - Camperos"},"2","Camperos",1279]
["Tipo_Vehículo",{"$f":"Listas[[#This Row],[ID]]&\" \"&IF(Listas[[#This Row],[Descripcion]]=\"\",\"\",\"- \"&Listas[[#This Row],[Descripcion]])","v":"3 - Camionetas No carga"},"3","Camionetas No carga",1280]
["Tipo_Vehículo",{"$f":"Listas[[#This Row],[ID]]&\" \"&IF(Listas[[#This Row],[Descripcion]]=\"\",\"\",\"- \"&Listas[[#This Row],[Descripcion]])","v":"4 - Camión estacas"},"4","Camión estacas",1281]
["Tipo_Vehículo",{"$f":"Listas[[#This Row],[ID]]&\" \"&IF(Listas[[#This Row],[Descripcion]]=\"\",\"\",\"- \"&Listas[[#This Row],[Descripcion]])","v":"5 - Camión furgón"},"5","Camión furgón",1282]
["Tipo_Vehículo",{"$f":"Listas[[#This Row],[ID]]&\" \"&IF(Listas[[#This Row],[Descripcion]]=\"\",\"\",\"- \"&Listas[[#This Row],[Descripcion]])","v":"6 - Camión tanque"},"6","Camión tanque",1283]
["Tipo_Vehículo",{"$f":"Listas[[#This Row],[ID]]&\" \"&IF(Listas[[#This Row],[Descripcion]]=\"\",\"\",\"- \"&Listas[[#This Row],[Descripcion]])","v":"7 - Compactador"},"7","Compactador",1284]
["Tipo_Vehículo",{"$f":"Listas[[#This Row],[ID]]&\" \"&IF(Listas[[#This Row],[Descripcion]]=\"\",\"\",\"- \"&Listas[[#This Row],[Descripcion]])","v":"8 - Hormiguero"},"8","Hormiguero",1285]
["Tipo_Vehículo",{"$f":"Listas[[#This Row],[ID]]&\" \"&IF(Listas[[#This Row],[Descripcion]]=\"\",\"\",\"- \"&Listas[[#This Row],[Descripcion]])","v":"9 - Montacargas"},"9","Montacargas",1286]
["Tipo_Vehículo",{"$f":"Listas[[#This Row],[ID]]&\" \"&IF(Listas[[#This Row],[Descripcion]]=\"\",\"\",\"- \"&Listas[[#This Row],[Descripcion]])","v":"10 - Planchón"},"10","Planchón",1287]
["Tipo_Vehículo",{"$f":"Listas[[#This Row],[ID]]&\" \"&IF(Listas[[#This Row],[Descripcion]]=\"\",\"\",\"- \"&Listas[[#This Row],[Descripcion]])","v":"11 - Camión Reparto y Mixto"},"11","Camión Reparto y Mixto",1288]
["Tipo_Vehículo",{"$f":"Listas[[#This Row],[ID]]&\" \"&IF(Listas[[#This Row],[Descripcion]]=\"\",\"\",\"- \"&Listas[[#This Row],[Descripcion]])","v":"12 - Tracto camión"},"12","Tracto camión",1289]
["Tipo_Vehículo",{"$f":"Listas[[#This Row],[ID]]&\" \"&IF(Listas[[#This Row],[Descripcion]]=\"\",\"\",\"- \"&Listas[[#This Row],[Descripcion]])","v":"13 - Tractor"},"13","Tractor",1290]
["Tipo_Vehículo",{"$f":"Listas[[#This Row],[ID]]&\" \"&IF(Listas[[#This Row],[Descripcion]]=\"\",\"\",\"- \"&Listas[[#This Row],[Descripcion]])","v":"14 - Limpiador Alcantarillas"},"14","Limpiador Alcantarillas",1291]
["Tipo_Vehículo",{"$f":"Listas[[#This Row],[ID]]&\" \"&IF(Listas[[#This Row],[Descripcion]]=\"\",\"\",\"- \"&Listas[[#This Row],[Descripcion]])","v":"15 - Automóvil Eléctrico"},"15","Automóvil Eléctrico",1292]
["Tipo_Vehículo",{"$f":"Listas[[#This Row],[ID]]&\" \"&IF(Listas[[#This Row],[Descripcion]]=\"\",\"\",\"- \"&Listas[[#This Row],[Descripcion]])","v":"16 - Camionetas doble cabina"},"16","Camionetas doble cabina",1293]
["Tipo_Vehículo",{"$f":"Listas[[#This Row],[ID]]&\" \"&IF(Listas[[#This Row],[Descripcion]]=\"\",\"\",\"- \"&Listas[[#This Row],[Descripcion]])","v":"17 - Camioneta Furgoneta"},"17","Camioneta Furgoneta",1294]
["Tipo_Vehículo",{"$f":"Listas[[#This Row],[ID]]&\" \"&IF(Listas[[#This Row],[Descripcion]]=\"\",\"\",\"- \"&Listas[[#This Row],[Descripcion]])","v":"18 - Camioneta Platón"},"18","Camioneta Platón",1295]
["Tipo_Vehículo",{"$f":"Listas[[#This Row],[ID]]&\" \"&IF(Listas[[#This Row],[Descripcion]]=\"\",\"\",\"- \"&Listas[[#This Row],[Descripcion]])","v":"19 - Camioneta estacas"},"19","Camioneta estacas",1296]
["Tipo_Vehículo",{"$f":"Listas[[#This Row],[ID]]&\" \"&IF(Listas[[#This Row],[Descripcion]]=\"\",\"\",\"- \"&Listas[[#This Row],[Descripcion]])","v":"20 - Otro vehículo"},"20","Otro vehículo",1297]
["Tipo_Vehículo",{"$f":"Listas[[#This Row],[ID]]&\" \"&IF(Listas[[#This Row],[Descripcion]]=\"\",\"\",\"- \"&Listas[[#This Row],[Descripcion]])","v":"21 - Automóvil Eléctrico"},"21","Automóvil Eléctrico",1298]
["Tipo_Vehículo",{"$f":"Listas[[#This Row],[ID]]&\" \"&IF(Listas[[#This Row],[Descripcion]]=\"\",\"\",\"- \"&Listas[[#This Row],[Descripcion]])","v":"22 - Camión Planchón"},"22","Camión Planchón",1299]
["Tipo_Vehículo",{"$f":"Listas[[#This Row],[ID]]&\" \"&IF(Listas[[#This Row],[Descripcion]]=\"\",\"\",\"- \"&Listas[[#This Row],[Descripcion]])","v":"23 - Camión de estacas"},"23","Camión de estacas",1300]
["Tipo_Vehículo",{"$f":"Listas[[#This Row],[ID]]&\" \"&IF(Listas[[#This Row],[Descripcion]]=\"\",\"\",\"- \"&Listas[[#This Row],[Descripcion]])","v":"24 - Camión Mixto"},"24","Camión Mixto",1301]
["Tipo_Vehículo",{"$f":"Listas[[#This Row],[ID]]&\" \"&IF(Listas[[#This Row],[Descripcion]]=\"\",\"\",\"- \"&Listas[[#This Row],[Descripcion]])","v":"25 - Camión con volcó"},"25","Camión con volcó",1302]
["Tipo_Vehículo",{"$f":"Listas[[#This Row],[ID]]&\" \"&IF(Listas[[#This Row],[Descripcion]]=\"\",\"\",\"- \"&Listas[[#This Row],[Descripcion]])","v":"26 - Camión Grúa"},"26","Camión Grúa",1303]
["Tipo_Vehículo",{"$f":"Listas[[#This Row],[ID]]&\" \"&IF(Listas[[#This Row],[Descripcion]]=\"\",\"\",\"- \"&Listas[[#This Row],[Descripcion]])","v":"27 - Camión Recolector"},"27","Camión Recolector",1304]
["Tipo_Vehículo",{"$f":"Listas[[#This Row],[ID]]&\" \"&IF(Listas[[#This Row],[Descripcion]]=\"\",\"\",\"- \"&Listas[[#This Row],[Descripcion]])","v":"28 - Ambulancias"},"28","Ambulancias",1305]
["Tipo_Vehículo",{"$f":"Listas[[#This Row],[ID]]&\" \"&IF(Listas[[#This Row],[Descripcion]]=\"\",\"\",\"- \"&Listas[[#This Row],[Descripcion]])","v":"29 - Vans"},"29","Vans",1306]
["Tipo_Vehículo",{"$f":"Listas[[#This Row],[ID]]&\" \"&IF(Listas[[#This Row],[Descripcion]]=\"\",\"\",\"- \"&Listas[[#This Row],[Descripcion]])","v":"30 - Colectivos"},"30","Colectivos",1307]
["Tipo_Vehículo",{"$f":"Listas[[#This Row],[ID]]&\" \"&IF(Listas[[#This Row],[Descripcion]]=\"\",\"\",\"- \"&Listas[[#This Row],[Descripcion]])","v":"31 - Busetas"},"31","Busetas",1308]
["Tipo_Vehículo",{"$f":"Listas[[#This Row],[ID]]&\" \"&IF(Listas[[#This Row],[Descripcion]]=\"\",\"\",\"- \"&Listas[[#This Row],[Descripcion]])","v":"32 - Buses"},"32","Buses",1309]
["Tipo_Vehículo",{"$f":"Listas[[#This Row],[ID]]&\" \"&IF(Listas[[#This Row],[Descripcion]]=\"\",\"\",\"- \"&Listas[[#This Row],[Descripcion]])","v":"33 - Motocicletas"},"33","Motocicletas",1310]
["Tipo_Vehículo",{"$f":"Listas[[#This Row],[ID]]&\" \"&IF(Listas[[#This Row],[Descripcion]]=\"\",\"\",\"- \"&Listas[[#This Row],[Descripcion]])","v":"34 - Motocarros"},"34","Motocarros",1311]
["Tipo_Vehículo",{"$f":"Listas[[#This Row],[ID]]&\" \"&IF(Listas[[#This Row],[Descripcion]]=\"\",\"\",\"- \"&Listas[[#This Row],[Descripcion]])","v":"35 - Cuatrimoto"},"35","Cuatrimoto",1312]
["Tipo_Vehículo",{"$f":"Listas[[#This Row],[ID]]&\" \"&IF(Listas[[#This Row],[Descripcion]]=\"\",\"\",\"- \"&Listas[[#This Row],[Descripcion]])","v":"36 - Motocicleta eléctrica"},"36","Motocicleta eléctrica",1313]
["Tipo_Vehículo",{"$f":"Listas[[#This Row],[ID]]&\" \"&IF(Listas[[#This Row],[Descripcion]]=\"\",\"\",\"- \"&Listas[[#This Row],[Descripcion]])","v":"37 - Articulado"},"37","Articulado",1314]
["Tipo_Vehículo",{"$f":"Listas[[#This Row],[ID]]&\" \"&IF(Listas[[#This Row],[Descripcion]]=\"\",\"\",\"- \"&Listas[[#This Row],[Descripcion]])","v":"38 - Biarticulado"},"38","Biarticulado",1315]
["Tipo_Vehículo",{"$f":"Listas[[#This Row],[ID]]&\" \"&IF(Listas[[#This Row],[Descripcion]]=\"\",\"\",\"- \"&Listas[[#This Row],[Descripcion]])","v":"39 - Duales"},"39","Duales",1316]
["Uso_Vehículo",{"$f":"Listas[[#This Row],[ID]]&\" \"&IF(Listas[[#This Row],[Descripcion]]=\"\",\"\",\"- \"&Listas[[#This Row],[Descripcion]])","v":"1 - Particular"},"1","Particular",1317]
["Uso_Vehículo",{"$f":"Listas[[#This Row],[ID]]&\" \"&IF(Listas[[#This Row],[Descripcion]]=\"\",\"\",\"- \"&Listas[[#This Row],[Descripcion]])","v":"2 - Publico"},"2","Publico",1318]
["Uso_Vehículo",{"$f":"Listas[[#This Row],[ID]]&\" \"&IF(Listas[[#This Row],[Descripcion]]=\"\",\"\",\"- \"&Listas[[#This Row],[Descripcion]])","v":"3 - Otro"},"3","Otro",1319]
["Uso_Vehículo",{"$f":"Listas[[#This Row],[ID]]&\" \"&IF(Listas[[#This Row],[Descripcion]]=\"\",\"\",\"- \"&Listas[[#This Row],[Descripcion]])","v":"4 - Oficial"},"4","Oficial",1320]
["Actividad_Economica",{"$f":"Listas[[#This Row],[ID]]&\" \"&IF(Listas[[#This Row],[Descripcion]]=\"\",\"\",\"- \"&Listas[[#This Row],[Descripcion]])","v":"0010 - Asalariados"},"0010","Asalariados",1321]
["Actividad_Economica",{"$f":"Listas[[#This Row],[ID]]&\" \"&IF(Listas[[#This Row],[Descripcion]]=\"\",\"\",\"- \"&Listas[[#This Row],[Descripcion]])","v":"0020 - Pensionados"},"0020","Pensionados",1322]
["Actividad_Economica",{"$f":"Listas[[#This Row],[ID]]&\" \"&IF(Listas[[#This Row],[Descripcion]]=\"\",\"\",\"- \"&Listas[[#This Row],[Descripcion]])","v":"0081 - Personas Naturales sin Actividad Económica"},"0081","Personas Naturales sin Actividad Económica",1323]
["Actividad_Economica",{"$f":"Listas[[#This Row],[ID]]&\" \"&IF(Listas[[#This Row],[Descripcion]]=\"\",\"\",\"- \"&Listas[[#This Row],[Descripcion]])","v":"0082 - Personas Naturales Subsidiadas por Terceros"},"0082","Personas Naturales Subsidiadas por Terceros",1324]
["Actividad_Economica",{"$f":"Listas[[#This Row],[ID]]&\" \"&IF(Listas[[#This Row],[Descripcion]]=\"\",\"\",\"- \"&Listas[[#This Row],[Descripcion]])","v":"0090 - Rentistas de Capital, solo para personas naturales"},"0090","Rentistas de Capital, solo para personas naturales",1325]
["Actividad_Economica",{"$f":"Listas[[#This Row],[ID]]&\" \"&IF(Listas[[#This Row],[Descripcion]]=\"\",\"\",\"- \"&Listas[[#This Row],[Descripcion]])","v":"0111 - Cultivo de cereales (excepto arroz), legumbres y semillas oleaginosas"},"0111","Cultivo de cereales (excepto arroz), legumbres y semillas oleaginosas",1326]
["Actividad_Economica",{"$f":"Listas[[#This Row],[ID]]&\" \"&IF(Listas[[#This Row],[Descripcion]]=\"\",\"\",\"- \"&Listas[[#This Row],[Descripcion]])","v":"0112 - Cultivo de arroz"},"0112","Cultivo de arroz",1327]
["Actividad_Economica",{"$f":"Listas[[#This Row],[ID]]&\" \"&IF(Listas[[#This Row],[Descripcion]]=\"\",\"\",\"- \"&Listas[[#This Row],[Descripcion]])","v":"0113 - Cultivo de hortalizas, raíces y tubérculos"},"0113","Cultivo de hortalizas, raíces y tubérculos",1328]
["Actividad_Economica",{"$f":"Listas[[#This Row],[ID]]&\" \"&IF(Listas[[#This Row],[Descripcion]]=\"\",\"\",\"- \"&Listas[[#This Row],[Descripcion]])","v":"0114 - Cultivo de tabaco"},"0114","Cultivo de tabaco",1329]
["Actividad_Economica",{"$f":"Listas[[#This Row],[ID]]&\" \"&IF(Listas[[#This Row],[Descripcion]]=\"\",\"\",\"- \"&Listas[[#This Row],[Descripcion]])","v":"0115 - Cultivo de plantas textiles"},"0115","Cultivo de plantas textiles",1330]
["Actividad_Economica",{"$f":"Listas[[#This Row],[ID]]&\" \"&IF(Listas[[#This Row],[Descripcion]]=\"\",\"\",\"- \"&Listas[[#This Row],[Descripcion]])","v":"0119 - Otros cultivos transitorios n.c.p."},"0119","Otros cultivos transitorios n.c.p.",1331]
["Actividad_Economica",{"$f":"Listas[[#This Row],[ID]]&\" \"&IF(Listas[[#This Row],[Descripcion]]=\"\",\"\",\"- \"&Listas[[#This Row],[Descripcion]])","v":"0121 - Cultivo de frutas tropicales y subtropicales"},"0121","Cultivo de frutas tropicales y subtropicales",1332]
["Actividad_Economica",{"$f":"Listas[[#This Row],[ID]]&\" \"&IF(Listas[[#This Row],[Descripcion]]=\"\",\"\",\"- \"&Listas[[#This Row],[Descripcion]])","v":"0122 - Cultivo de plátano y banano"},"0122","Cultivo de plátano y banano",1333]
["Actividad_Economica",{"$f":"Listas[[#This Row],[ID]]&\" \"&IF(Listas[[#This Row],[Descripcion]]=\"\",\"\",\"- \"&Listas[[#This Row],[Descripcion]])","v":"0123 - Cultivo de café"},"0123","Cultivo de café",1334]
["Actividad_Economica",{"$f":"Listas[[#This Row],[ID]]&\" \"&IF(Listas[[#This Row],[Descripcion]]=\"\",\"\",\"- \"&Listas[[#This Row],[Descripcion]])","v":"0124 - Cultivo de caña de azúcar"},"0124","Cultivo de caña de azúcar",1335]
["Actividad_Economica",{"$f":"Listas[[#This Row],[ID]]&\" \"&IF(Listas[[#This Row],[Descripcion]]=\"\",\"\",\"- \"&Listas[[#This Row],[Descripcion]])","v":"0125 - Cultivo de flor de corte"},"0125","Cultivo de flor de corte",1336]
["Actividad_Economica",{"$f":"Listas[[#This Row],[ID]]&\" \"&IF(Listas[[#This Row],[Descripcion]]=\"\",\"\",\"- \"&Listas[[#This Row],[Descripcion]])","v":"0126 - Cultivo de palma para aceite (palma africana) y otros frutos oleaginosos"},"0126","Cultivo de palma para aceite (palma africana) y otros frutos oleaginosos",1337]
["Actividad_Economica",{"$f":"Listas[[#This Row],[ID]]&\" \"&IF(Listas[[#This Row],[Descripcion]]=\"\",\"\",\"- \"&Listas[[#This Row],[Descripcion]])","v":"0127 - Cultivo de plantas con las que se preparan bebidas"},"0127","Cultivo de plantas con las que se preparan bebidas",1338]
["Actividad_Economica",{"$f":"Listas[[#This Row],[ID]]&\" \"&IF(Listas[[#This Row],[Descripcion]]=\"\",\"\",\"- \"&Listas[[#This Row],[Descripcion]])","v":"0128 - Cultivo de especias y de plantas aromáticas y medicinales"},"0128","Cultivo de especias y de plantas aromáticas y medicinales",1339]
["Actividad_Economica",{"$f":"Listas[[#This Row],[ID]]&\" \"&IF(Listas[[#This Row],[Descripcion]]=\"\",\"\",\"- \"&Listas[[#This Row],[Descripcion]])","v":"0129 - Otros cultivos permanentes n.c.p."},"0129","Otros cultivos permanentes n.c.p.",1340]
["Actividad_Economica",{"$f":"Listas[[#This Row],[ID]]&\" \"&IF(Listas[[#This Row],[Descripcion]]=\"\",\"\",\"- \"&Listas[[#This Row],[Descripcion]])","v":"0130 - Propagación de plantas (actividades de los viveros, excepto viveros forestales)"},"0130","Propagación de plantas (actividades de los viveros, excepto viveros forestales)",1341]
["Actividad_Economica",{"$f":"Listas[[#This Row],[ID]]&\" \"&IF(Listas[[#This Row],[Descripcion]]=\"\",\"\",\"- \"&Listas[[#This Row],[Descripcion]])","v":"0141 - Cría de ganado bovino y bufalino"},"0141","Cría de ganado bovino y bufalino",1342]
["Actividad_Economica",{"$f":"Listas[[#This Row],[ID]]&\" \"&IF(Listas[[#This Row],[Descripcion]]=\"\",\"\",\"- \"&Listas[[#This Row],[Descripcion]])","v":"0142 - Cría de caballos y otros equinos"},"0142","Cría de caballos y otros equinos",1343]
["Actividad_Economica",{"$f":"Listas[[#This Row],[ID]]&\" \"&IF(Listas[[#This Row],[Descripcion]]=\"\",\"\",\"- \"&Listas[[#This Row],[Descripcion]])","v":"0143 - Cría de ovejas y cabras"},"0143","Cría de ovejas y cabras",1344]
["Actividad_Economica",{"$f":"Listas[[#This Row],[ID]]&\" \"&IF(Listas[[#This Row],[Descripcion]]=\"\",\"\",\"- \"&Listas[[#This Row],[Descripcion]])","v":"0144 - Cría de ganado porcino"},"0144","Cría de ganado porcino",1345]
["Actividad_Economica",{"$f":"Listas[[#This Row],[ID]]&\" \"&IF(Listas[[#This Row],[Descripcion]]=\"\",\"\",\"- \"&Listas[[#This Row],[Descripcion]])","v":"0145 - Cría de aves de corral"},"0145","Cría de aves de corral",1346]
["Actividad_Economica",{"$f":"Listas[[#This Row],[ID]]&\" \"&IF(Listas[[#This Row],[Descripcion]]=\"\",\"\",\"- \"&Listas[[#This Row],[Descripcion]])","v":"0149 - Cría de otros animales n.c.p."},"0149","Cría de otros animales n.c.p.",1347]
["Actividad_Economica",{"$f":"Listas[[#This Row],[ID]]&\" \"&IF(Listas[[#This Row],[Descripcion]]=\"\",\"\",\"- \"&Listas[[#This Row],[Descripcion]])","v":"0150 - Explotación mixta (agrícola y pecuaria)"},"0150","Explotación mixta (agrícola y pecuaria)",1348]
["Actividad_Economica",{"$f":"Listas[[#This Row],[ID]]&\" \"&IF(Listas[[#This Row],[Descripcion]]=\"\",\"\",\"- \"&Listas[[#This Row],[Descripcion]])","v":"0161 - Actividades de apoyo a la agricultura"},"0161","Actividades de apoyo a la agricultura",1349]
["Actividad_Economica",{"$f":"Listas[[#This Row],[ID]]&\" \"&IF(Listas[[#This Row],[Descripcion]]=\"\",\"\",\"- \"&Listas[[#This Row],[Descripcion]])","v":"0162 - Actividades de apoyo a la ganadería"},"0162","Actividades de apoyo a la ganadería",1350]
["Actividad_Economica",{"$f":"Listas[[#This Row],[ID]]&\" \"&IF(Listas[[#This Row],[Descripcion]]=\"\",\"\",\"- \"&Listas[[#This Row],[Descripcion]])","v":"0163 - Actividades posteriores a la cosecha"},"0163","Actividades posteriores a la cosecha",1351]
["Actividad_Economica",{"$f":"Listas[[#This Row],[ID]]&\" \"&IF(Listas[[#This Row],[Descripcion]]=\"\",\"\",\"- \"&Listas[[#This Row],[Descripcion]])","v":"0164 - Tratamiento de semillas para propagación"},"0164","Tratamiento de semillas para propagación",1352]
["Actividad_Economica",{"$f":"Listas[[#This Row],[ID]]&\" \"&IF(Listas[[#This Row],[Descripcion]]=\"\",\"\",\"- \"&Listas[[#This Row],[Descripcion]])","v":"0170 - Caza ordinaria y mediante trampas y actividades de servicios conexas"},"0170","Caza ordinaria y mediante trampas y actividades de servicios conexas",1353]
["Actividad_Economica",{"$f":"Listas[[#This Row],[ID]]&\" \"&IF(Listas[[#This Row],[Descripcion]]=\"\",\"\",\"- \"&Listas[[#This Row],[Descripcion]])","v":"0210 - Silvicultura y otras actividades forestales"},"0210","Silvicultura y otras actividades forestales",1354]
["Actividad_Economica",{"$f":"Listas[[#This Row],[ID]]&\" \"&IF(Listas[[#This Row],[Descripcion]]=\"\",\"\",\"- \"&Listas[[#This Row],[Descripcion]])","v":"0220 - Extracción de madera"},"0220","Extracción de madera",1355]
["Actividad_Economica",{"$f":"Listas[[#This Row],[ID]]&\" \"&IF(Listas[[#This Row],[Descripcion]]=\"\",\"\",\"- \"&Listas[[#This Row],[Descripcion]])","v":"0230 - Recolección de productos forestales diferentes a la madera"},"0230","Recolección de productos forestales diferentes a la madera",1356]
["Actividad_Economica",{"$f":"Listas[[#This Row],[ID]]&\" \"&IF(Listas[[#This Row],[Descripcion]]=\"\",\"\",\"- \"&Listas[[#This Row],[Descripcion]])","v":"0240 - Servicios de apoyo a la silvicultura"},"0240","Servicios de apoyo a la silvicultura",1357]
["Actividad_Economica",{"$f":"Listas[[#This Row],[ID]]&\" \"&IF(Listas[[#This Row],[Descripcion]]=\"\",\"\",\"- \"&Listas[[#This Row],[Descripcion]])","v":"0311 - Pesca marítima"},"0311","Pesca marítima",1358]
["Actividad_Economica",{"$f":"Listas[[#This Row],[ID]]&\" \"&IF(Listas[[#This Row],[Descripcion]]=\"\",\"\",\"- \"&Listas[[#This Row],[Descripcion]])","v":"0312 - Pesca de agua dulce"},"0312","Pesca de agua dulce",1359]
["Actividad_Economica",{"$f":"Listas[[#This Row],[ID]]&\" \"&IF(Listas[[#This Row],[Descripcion]]=\"\",\"\",\"- \"&Listas[[#This Row],[Descripcion]])","v":"0321 - Acuicultura marítima"},"0321","Acuicultura marítima",1360]
["Actividad_Economica",{"$f":"Listas[[#This Row],[ID]]&\" \"&IF(Listas[[#This Row],[Descripcion]]=\"\",\"\",\"- \"&Listas[[#This Row],[Descripcion]])","v":"0322 - Acuicultura de agua dulce"},"0322","Acuicultura de agua dulce",1361]
["Actividad_Economica",{"$f":"Listas[[#This Row],[ID]]&\" \"&IF(Listas[[#This Row],[Descripcion]]=\"\",\"\",\"- \"&Listas[[#This Row],[Descripcion]])","v":"0510 - Extracción de hulla (carbón de piedra)"},"0510","Extracción de hulla (carbón de piedra)",1362]
["Actividad_Economica",{"$f":"Listas[[#This Row],[ID]]&\" \"&IF(Listas[[#This Row],[Descripcion]]=\"\",\"\",\"- \"&Listas[[#This Row],[Descripcion]])","v":"0520 - Extracción de carbón lignito"},"0520","Extracción de carbón lignito",1363]
["Actividad_Economica",{"$f":"Listas[[#This Row],[ID]]&\" \"&IF(Listas[[#This Row],[Descripcion]]=\"\",\"\",\"- \"&Listas[[#This Row],[Descripcion]])","v":"0610 - Extracción de petróleo crudo"},"0610","Extracción de petróleo crudo",1364]
["Actividad_Economica",{"$f":"Listas[[#This Row],[ID]]&\" \"&IF(Listas[[#This Row],[Descripcion]]=\"\",\"\",\"- \"&Listas[[#This Row],[Descripcion]])","v":"0620 - Extracción de gas natural"},"0620","Extracción de gas natural",1365]
["Actividad_Economica",{"$f":"Listas[[#This Row],[ID]]&\" \"&IF(Listas[[#This Row],[Descripcion]]=\"\",\"\",\"- \"&Listas[[#This Row],[Descripcion]])","v":"0710 - Extracción de minerales de hierro"},"0710","Extracción de minerales de hierro",1366]
["Actividad_Economica",{"$f":"Listas[[#This Row],[ID]]&\" \"&IF(Listas[[#This Row],[Descripcion]]=\"\",\"\",\"- \"&Listas[[#This Row],[Descripcion]])","v":"0721 - Extracción de minerales de uranio y de torio"},"0721","Extracción de minerales de uranio y de torio",1367]
["Actividad_Economica",{"$f":"Listas[[#This Row],[ID]]&\" \"&IF(Listas[[#This Row],[Descripcion]]=\"\",\"\",\"- \"&Listas[[#This Row],[Descripcion]])","v":"0722 - Extracción de oro y otros metales preciosos"},"0722","Extracción de oro y otros metales preciosos",1368]
["Actividad_Economica",{"$f":"Listas[[#This Row],[ID]]&\" \"&IF(Listas[[#This Row],[Descripcion]]=\"\",\"\",\"- \"&Listas[[#This Row],[Descripcion]])","v":"0723 - Extracción de minerales de níquel"},"0723","Extracción de minerales de níquel",1369]
["Actividad_Economica",{"$f":"Listas[[#This Row],[ID]]&\" \"&IF(Listas[[#This Row],[Descripcion]]=\"\",\"\",\"- \"&Listas[[#This Row],[Descripcion]])","v":"0729 - Extracción de otros minerales metalíferos no ferrosos n.c.p."},"0729","Extracción de otros minerales metalíferos no ferrosos n.c.p.",1370]
["Actividad_Economica",{"$f":"Listas[[#This Row],[ID]]&\" \"&IF(Listas[[#This Row],[Descripcion]]=\"\",\"\",\"- \"&Listas[[#This Row],[Descripcion]])","v":"0811 - Extracción de piedra, arena, arcillas comunes, yeso y anhidrita"},"0811","Extracción de piedra, arena, arcillas comunes, yeso y anhidrita",1371]
["Actividad_Economica",{"$f":"Listas[[#This Row],[ID]]&\" \"&IF(Listas[[#This Row],[Descripcion]]=\"\",\"\",\"- \"&Listas[[#This Row],[Descripcion]])","v":"0812 - Extracción de arcillas de uso industrial, caliza, caolín y bentonitas"},"0812","Extracción de arcillas de uso industrial, caliza, caolín y bentonitas",1372]
["Actividad_Economica",{"$f":"Listas[[#This Row],[ID]]&\" \"&IF(Listas[[#This Row],[Descripcion]]=\"\",\"\",\"- \"&Listas[[#This Row],[Descripcion]])","v":"0820 - Extracción de esmeraldas, piedras preciosas y semipreciosas"},"0820","Extracción de esmeraldas, piedras preciosas y semipreciosas",1373]
["Actividad_Economica",{"$f":"Listas[[#This Row],[ID]]&\" \"&IF(Listas[[#This Row],[Descripcion]]=\"\",\"\",\"- \"&Listas[[#This Row],[Descripcion]])","v":"0891 - Extracción de minerales para la fabricación de abonos y productos químicos"},"0891","Extracción de minerales para la fabricación de abonos y productos químicos",1374]
["Actividad_Economica",{"$f":"Listas[[#This Row],[ID]]&\" \"&IF(Listas[[#This Row],[Descripcion]]=\"\",\"\",\"- \"&Listas[[#This Row],[Descripcion]])","v":"0892 - Extracción de halita (sal)"},"0892","Extracción de halita (sal)",1375]
["Actividad_Economica",{"$f":"Listas[[#This Row],[ID]]&\" \"&IF(Listas[[#This Row],[Descripcion]]=\"\",\"\",\"- \"&Listas[[#This Row],[Descripcion]])","v":"0899 - Extracción de otros minerales no metálicos n.c.p."},"0899","Extracción de otros minerales no metálicos n.c.p.",1376]
["Actividad_Economica",{"$f":"Listas[[#This Row],[ID]]&\" \"&IF(Listas[[#This Row],[Descripcion]]=\"\",\"\",\"- \"&Listas[[#This Row],[Descripcion]])","v":"0910 - Actividades de apoyo para la extracción de petróleo y de gas natural"},"0910","Actividades de apoyo para la extracción de petróleo y de gas natural",1377]
["Actividad_Economica",{"$f":"Listas[[#This Row],[ID]]&\" \"&IF(Listas[[#This Row],[Descripcion]]=\"\",\"\",\"- \"&Listas[[#This Row],[Descripcion]])","v":"0990 - Actividades de apoyo para otras actividades de explotación de minas y canteras"},"0990","Actividades de apoyo para otras actividades de explotación de minas y canteras",1378]
["Actividad_Economica",{"$f":"Listas[[#This Row],[ID]]&\" \"&IF(Listas[[#This Row],[Descripcion]]=\"\",\"\",\"- \"&Listas[[#This Row],[Descripcion]])","v":"1011 - Procesamiento y conservación de carne y productos cárnicos"},"1011","Procesamiento y conservación de carne y productos cárnicos",1379]
["Actividad_Economica",{"$f":"Listas[[#This Row],[ID]]&\" \"&IF(Listas[[#This Row],[Descripcion]]=\"\",\"\",\"- \"&Listas[[#This Row],[Descripcion]])","v":"1012 - Procesamiento y conservación de pescados, crustáceos y moluscos"},"1012","Procesamiento y conservación de pescados, crustáceos y moluscos",1380]
["Actividad_Economica",{"$f":"Listas[[#This Row],[ID]]&\" \"&IF(Listas[[#This Row],[Descripcion]]=\"\",\"\",\"- \"&Listas[[#This Row],[Descripcion]])","v":"1020 - Procesamiento y conservación de frutas, legumbres, hortalizas y tubérculos"},"1020","Procesamiento y conservación de frutas, legumbres, hortalizas y tubérculos",1381]
["Actividad_Economica",{"$f":"Listas[[#This Row],[ID]]&\" \"&IF(Listas[[#This Row],[Descripcion]]=\"\",\"\",\"- \"&Listas[[#This Row],[Descripcion]])","v":"1030 - Elaboración de aceites y grasas de origen vegetal y animal"},"1030","Elaboración de aceites y grasas de origen vegetal y animal",1382]
["Actividad_Economica",{"$f":"Listas[[#This Row],[ID]]&\" \"&IF(Listas[[#This Row],[Descripcion]]=\"\",\"\",\"- \"&Listas[[#This Row],[Descripcion]])","v":"1031 - Extracción de aceites de origen vegetal crudos"},"1031","Extracción de aceites de origen vegetal crudos",1383]
["Actividad_Economica",{"$f":"Listas[[#This Row],[ID]]&\" \"&IF(Listas[[#This Row],[Descripcion]]=\"\",\"\",\"- \"&Listas[[#This Row],[Descripcion]])","v":"1032 - Elaboración de aceites y grasas de origen vegetal refinados"},"1032","Elaboración de aceites y grasas de origen vegetal refinados",1384]
["Actividad_Economica",{"$f":"Listas[[#This Row],[ID]]&\" \"&IF(Listas[[#This Row],[Descripcion]]=\"\",\"\",\"- \"&Listas[[#This Row],[Descripcion]])","v":"1033 - Elaboración de aceites y grasas de origen animal"},"1033","Elaboración de aceites y grasas de origen animal",1385]
["Actividad_Economica",{"$f":"Listas[[#This Row],[ID]]&\" \"&IF(Listas[[#This Row],[Descripcion]]=\"\",\"\",\"- \"&Listas[[#This Row],[Descripcion]])","v":"1040 - Elaboración de productos lácteos"},"1040","Elaboración de productos lácteos",1386]
["Actividad_Economica",{"$f":"Listas[[#This Row],[ID]]&\" \"&IF(Listas[[#This Row],[Descripcion]]=\"\",\"\",\"- \"&Listas[[#This Row],[Descripcion]])","v":"1051 - Elaboración de productos de molinería"},"1051","Elaboración de productos de molinería",1387]
["Actividad_Economica",{"$f":"Listas[[#This Row],[ID]]&\" \"&IF(Listas[[#This Row],[Descripcion]]=\"\",\"\",\"- \"&Listas[[#This Row],[Descripcion]])","v":"1052 - Elaboración de almidones y productos derivados del almidón"},"1052","Elaboración de almidones y productos derivados del almidón",1388]
["Actividad_Economica",{"$f":"Listas[[#This Row],[ID]]&\" \"&IF(Listas[[#This Row],[Descripcion]]=\"\",\"\",\"- \"&Listas[[#This Row],[Descripcion]])","v":"1061 - Trilla de café"},"1061","Trilla de café",1389]
["Actividad_Economica",{"$f":"Listas[[#This Row],[ID]]&\" \"&IF(Listas[[#This Row],[Descripcion]]=\"\",\"\",\"- \"&Listas[[#This Row],[Descripcion]])","v":"1062 - Descafeinado, tostión y molienda del café"},"1062","Descafeinado, tostión y molienda del café",1390]
["Actividad_Economica",{"$f":"Listas[[#This Row],[ID]]&\" \"&IF(Listas[[#This Row],[Descripcion]]=\"\",\"\",\"- \"&Listas[[#This Row],[Descripcion]])","v":"1063 - Otros derivados del café"},"1063","Otros derivados del café",1391]
["Actividad_Economica",{"$f":"Listas[[#This Row],[ID]]&\" \"&IF(Listas[[#This Row],[Descripcion]]=\"\",\"\",\"- \"&Listas[[#This Row],[Descripcion]])","v":"1071 - Elaboración y refinación de azúcar"},"1071","Elaboración y refinación de azúcar",1392]
["Actividad_Economica",{"$f":"Listas[[#This Row],[ID]]&\" \"&IF(Listas[[#This Row],[Descripcion]]=\"\",\"\",\"- \"&Listas[[#This Row],[Descripcion]])","v":"1072 - Elaboración de panela"},"1072","Elaboración de panela",1393]
["Actividad_Economica",{"$f":"Listas[[#This Row],[ID]]&\" \"&IF(Listas[[#This Row],[Descripcion]]=\"\",\"\",\"- \"&Listas[[#This Row],[Descripcion]])","v":"1081 - Elaboración de productos de panadería"},"1081","Elaboración de productos de panadería",1394]
["Actividad_Economica",{"$f":"Listas[[#This Row],[ID]]&\" \"&IF(Listas[[#This Row],[Descripcion]]=\"\",\"\",\"- \"&Listas[[#This Row],[Descripcion]])","v":"1082 - Elaboración de cacao, chocolate y productos de confitería"},"1082","Elaboración de cacao, chocolate y productos de confitería",1395]
["Actividad_Economica",{"$f":"Listas[[#This Row],[ID]]&\" \"&IF(Listas[[#This Row],[Descripcion]]=\"\",\"\",\"- \"&Listas[[#This Row],[Descripcion]])","v":"1083 - Elaboración de macarrones, fideos, alcuzcuz y productos farináceos similares"},"1083","Elaboración de macarrones, fideos, alcuzcuz y productos farináceos similares",1396]
["Actividad_Economica",{"$f":"Listas[[#This Row],[ID]]&\" \"&IF(Listas[[#This Row],[Descripcion]]=\"\",\"\",\"- \"&Listas[[#This Row],[Descripcion]])","v":"1084 - Elaboración de comidas y platos preparados"},"1084","Elaboración de comidas y platos preparados",1397]
["Actividad_Economica",{"$f":"Listas[[#This Row],[ID]]&\" \"&IF(Listas[[#This Row],[Descripcion]]=\"\",\"\",\"- \"&Listas[[#This Row],[Descripcion]])","v":"1089 - Elaboración de otros productos alimenticios n.c.p."},"1089","Elaboración de otros productos alimenticios n.c.p.",1398]
["Actividad_Economica",{"$f":"Listas[[#This Row],[ID]]&\" \"&IF(Listas[[#This Row],[Descripcion]]=\"\",\"\",\"- \"&Listas[[#This Row],[Descripcion]])","v":"1090 - Elaboración de alimentos preparados para animales"},"1090","Elaboración de alimentos preparados para animales",1399]
["Actividad_Economica",{"$f":"Listas[[#This Row],[ID]]&\" \"&IF(Listas[[#This Row],[Descripcion]]=\"\",\"\",\"- \"&Listas[[#This Row],[Descripcion]])","v":"1101 - Destilación, rectificación y mezcla de bebidas alcohólicas"},"1101","Destilación, rectificación y mezcla de bebidas alcohólicas",1400]
["Actividad_Economica",{"$f":"Listas[[#This Row],[ID]]&\" \"&IF(Listas[[#This Row],[Descripcion]]=\"\",\"\",\"- \"&Listas[[#This Row],[Descripcion]])","v":"1102 - Elaboración de bebidas fermentadas no destiladas"},"1102","Elaboración de bebidas fermentadas no destiladas",1401]
["Actividad_Economica",{"$f":"Listas[[#This Row],[ID]]&\" \"&IF(Listas[[#This Row],[Descripcion]]=\"\",\"\",\"- \"&Listas[[#This Row],[Descripcion]])","v":"1103 - Producción de malta, elaboración de cervezas y otras bebidas malteadas"},"1103","Producción de malta, elaboración de cervezas y otras bebidas malteadas",1402]
["Actividad_Economica",{"$f":"Listas[[#This Row],[ID]]&\" \"&IF(Listas[[#This Row],[Descripcion]]=\"\",\"\",\"- \"&Listas[[#This Row],[Descripcion]])","v":"1104 - Elaboración de bebidas no alcohólicas, producción de aguas minerales y de otras aguas embotelladas"},"1104","Elaboración de bebidas no alcohólicas, producción de aguas minerales y de otras aguas embotelladas",1403]
["Actividad_Economica",{"$f":"Listas[[#This Row],[ID]]&\" \"&IF(Listas[[#This Row],[Descripcion]]=\"\",\"\",\"- \"&Listas[[#This Row],[Descripcion]])","v":"1200 - Elaboración de productos de tabaco"},"1200","Elaboración de productos de tabaco",1404]
["Actividad_Economica",{"$f":"Listas[[#This Row],[ID]]&\" \"&IF(Listas[[#This Row],[Descripcion]]=\"\",\"\",\"- \"&Listas[[#This Row],[Descripcion]])","v":"1311 - Preparación e hilatura de fibras textiles"},"1311","Preparación e hilatura de fibras textiles",1405]
["Actividad_Economica",{"$f":"Listas[[#This Row],[ID]]&\" \"&IF(Listas[[#This Row],[Descripcion]]=\"\",\"\",\"- \"&Listas[[#This Row],[Descripcion]])","v":"1312 - Tejeduría de productos textiles"},"1312","Tejeduría de productos textiles",1406]
["Actividad_Economica",{"$f":"Listas[[#This Row],[ID]]&\" \"&IF(Listas[[#This Row],[Descripcion]]=\"\",\"\",\"- \"&Listas[[#This Row],[Descripcion]])","v":"1313 - Acabado de productos textiles"},"1313","Acabado de productos textiles",1407]
["Actividad_Economica",{"$f":"Listas[[#This Row],[ID]]&\" \"&IF(Listas[[#This Row],[Descripcion]]=\"\",\"\",\"- \"&Listas[[#This Row],[Descripcion]])","v":"1391 - Fabricación de tejidos de punto y ganchillo"},"1391","Fabricación de tejidos de punto y ganchillo",1408]
["Actividad_Economica",{"$f":"Listas[[#This Row],[ID]]&\" \"&IF(Listas[[#This Row],[Descripcion]]=\"\",\"\",\"- \"&Listas[[#This Row],[Descripcion]])","v":"1392 - Confección de artículos con materiales textiles, excepto prendas de vestir"},"1392","Confección de artículos con materiales textiles, excepto prendas de vestir",1409]
["Actividad_Economica",{"$f":"Listas[[#This Row],[ID]]&\" \"&IF(Listas[[#This Row],[Descripcion]]=\"\",\"\",\"- \"&Listas[[#This Row],[Descripcion]])","v":"1393 - Fabricación de tapetes y alfombras para pisos"},"1393","Fabricación de tapetes y alfombras para pisos",1410]
["Actividad_Economica",{"$f":"Listas[[#This Row],[ID]]&\" \"&IF(Listas[[#This Row],[Descripcion]]=\"\",\"\",\"- \"&Listas[[#This Row],[Descripcion]])","v":"1394 - Fabricación de cuerdas, cordeles, cables, bramantes y redes"},"1394","Fabricación de cuerdas, cordeles, cables, bramantes y redes",1411]
["Actividad_Economica",{"$f":"Listas[[#This Row],[ID]]&\" \"&IF(Listas[[#This Row],[Descripcion]]=\"\",\"\",\"- \"&Listas[[#This Row],[Descripcion]])","v":"1399 - Fabricación de otros artículos textiles n.c.p."},"1399","Fabricación de otros artículos textiles n.c.p.",1412]
["Actividad_Economica",{"$f":"Listas[[#This Row],[ID]]&\" \"&IF(Listas[[#This Row],[Descripcion]]=\"\",\"\",\"- \"&Listas[[#This Row],[Descripcion]])","v":"1410 - Confección de prendas de vestir, excepto prendas de piel"},"1410","Confección de prendas de vestir, excepto prendas de piel",1413]
["Actividad_Economica",{"$f":"Listas[[#This Row],[ID]]&\" \"&IF(Listas[[#This Row],[Descripcion]]=\"\",\"\",\"- \"&Listas[[#This Row],[Descripcion]])","v":"1420 - Fabricación de artículos de piel"},"1420","Fabricación de artículos de piel",1414]
["Actividad_Economica",{"$f":"Listas[[#This Row],[ID]]&\" \"&IF(Listas[[#This Row],[Descripcion]]=\"\",\"\",\"- \"&Listas[[#This Row],[Descripcion]])","v":"1430 - Fabricación de artículos de punto y ganchillo"},"1430","Fabricación de artículos de punto y ganchillo",1415]
["Actividad_Economica",{"$f":"Listas[[#This Row],[ID]]&\" \"&IF(Listas[[#This Row],[Descripcion]]=\"\",\"\",\"- \"&Listas[[#This Row],[Descripcion]])","v":"1511 - Curtido y recurtido de cueros; recurtido y teñido de pieles"},"1511","Curtido y recurtido de cueros; recurtido y teñido de pieles",1416]
["Actividad_Economica",{"$f":"Listas[[#This Row],[ID]]&\" \"&IF(Listas[[#This Row],[Descripcion]]=\"\",\"\",\"- \"&Listas[[#This Row],[Descripcion]])","v":"1512 - Fabricación de artículos de viaje, bolsos de mano y artículos similares elaborados en cuero, y fabricación de artículos de talabartería y guarnicionería"},"1512","Fabricación de artículos de viaje, bolsos de mano y artículos similares elaborados en cuero, y fabricación de artículos de talabartería y guarnicionería",1417]
["Actividad_Economica",{"$f":"Listas[[#This Row],[ID]]&\" \"&IF(Listas[[#This Row],[Descripcion]]=\"\",\"\",\"- \"&Listas[[#This Row],[Descripcion]])","v":"1513 - Fabricación de artículos de viaje, bolsos de mano y artículos similares; artículos de talabartería y guarnicionería elaborados en otros materiales"},"1513","Fabricación de artículos de viaje, bolsos de mano y artículos similares; artículos de talabartería y guarnicionería elaborados en otros materiales",1418]
["Actividad_Economica",{"$f":"Listas[[#This Row],[ID]]&\" \"&IF(Listas[[#This Row],[Descripcion]]=\"\",\"\",\"- \"&Listas[[#This Row],[Descripcion]])","v":"1521 - Fabricación de calzado de cuero y piel, con cualquier tipo de suela"},"1521","Fabricación de calzado de cuero y piel, con cualquier tipo de suela",1419]
["Actividad_Economica",{"$f":"Listas[[#This Row],[ID]]&\" \"&IF(Listas[[#This Row],[Descripcion]]=\"\",\"\",\"- \"&Listas[[#This Row],[Descripcion]])","v":"1522 - Fabricación de otros tipos de calzado, excepto calzado de cuero y piel"},"1522","Fabricación de otros tipos de calzado, excepto calzado de cuero y piel",1420]
["Actividad_Economica",{"$f":"Listas[[#This Row],[ID]]&\" \"&IF(Listas[[#This Row],[Descripcion]]=\"\",\"\",\"- \"&Listas[[#This Row],[Descripcion]])","v":"1523 - Fabricación de partes del calzado"},"1523","Fabricación de partes del calzado",1421]
["Actividad_Economica",{"$f":"Listas[[#This Row],[ID]]&\" \"&IF(Listas[[#This Row],[Descripcion]]=\"\",\"\",\"- \"&Listas[[#This Row],[Descripcion]])","v":"1610 - Aserrado, acepillado e impregnación de la madera"},"1610","Aserrado, acepillado e impregnación de la madera",1422]
["Actividad_Economica",{"$f":"Listas[[#This Row],[ID]]&\" \"&IF(Listas[[#This Row],[Descripcion]]=\"\",\"\",\"- \"&Listas[[#This Row],[Descripcion]])","v":"1620 - Fabricación de hojas de madera para enchapado; fabricación de tableros contrachapados, tableros laminados, tableros de partículas y otros tableros y paneles"},"1620","Fabricación de hojas de madera para enchapado; fabricación de tableros contrachapados, tableros laminados, tableros de partículas y otros tableros y paneles",1423]
["Actividad_Economica",{"$f":"Listas[[#This Row],[ID]]&\" \"&IF(Listas[[#This Row],[Descripcion]]=\"\",\"\",\"- \"&Listas[[#This Row],[Descripcion]])","v":"1630 - Fabricación de partes y piezas de madera, de carpintería y ebanistería para la construcción"},"1630","Fabricación de partes y piezas de madera, de carpintería y ebanistería para la construcción",1424]
["Actividad_Economica",{"$f":"Listas[[#This Row],[ID]]&\" \"&IF(Listas[[#This Row],[Descripcion]]=\"\",\"\",\"- \"&Listas[[#This Row],[Descripcion]])","v":"1640 - Fabricación de recipientes de madera"},"1640","Fabricación de recipientes de madera",1425]
["Actividad_Economica",{"$f":"Listas[[#This Row],[ID]]&\" \"&IF(Listas[[#This Row],[Descripcion]]=\"\",\"\",\"- \"&Listas[[#This Row],[Descripcion]])","v":"1690 - Fabricación de otros productos de madera; fabricación de artículos de corcho, cestería y espartería"},"1690","Fabricación de otros productos de madera; fabricación de artículos de corcho, cestería y espartería",1426]
["Actividad_Economica",{"$f":"Listas[[#This Row],[ID]]&\" \"&IF(Listas[[#This Row],[Descripcion]]=\"\",\"\",\"- \"&Listas[[#This Row],[Descripcion]])","v":"1701 - Fabricación de pulpas (pastas) celulósicas; papel y cartón"},"1701","Fabricación de pulpas (pastas) celulósicas; papel y cartón",1427]
["Actividad_Economica",{"$f":"Listas[[#This Row],[ID]]&\" \"&IF(Listas[[#This Row],[Descripcion]]=\"\",\"\",\"- \"&Listas[[#This Row],[Descripcion]])","v":"1702 - Fabricación de papel y cartón ondulado (corrugado); fabricación de envases, empaques y de embalajes de papel y cartón."},"1702","Fabricación de papel y cartón ondulado (corrugado); fabricación de envases, empaques y de embalajes de papel y cartón.",1428]
["Actividad_Economica",{"$f":"Listas[[#This Row],[ID]]&\" \"&IF(Listas[[#This Row],[Descripcion]]=\"\",\"\",\"- \"&Listas[[#This Row],[Descripcion]])","v":"1709 - Fabricación de otros artículos de papel y cartón"},"1709","Fabricación de otros artículos de papel y cartón",1429]
["Actividad_Economica",{"$f":"Listas[[#This Row],[ID]]&\" \"&IF(Listas[[#This Row],[Descripcion]]=\"\",\"\",\"- \"&Listas[[#This Row],[Descripcion]])","v":"1811 - Actividades de impresión"},"1811","Actividades de impresión",1430]
["Actividad_Economica",{"$f":"Listas[[#This Row],[ID]]&\" \"&IF(Listas[[#This Row],[Descripcion]]=\"\",\"\",\"- \"&Listas[[#This Row],[Descripcion]])","v":"1812 - Actividades de servicios relacionados con la impresión"},"1812","Actividades de servicios relacionados con la impresión",1431]
["Actividad_Economica",{"$f":"Listas[[#This Row],[ID]]&\" \"&IF(Listas[[#This Row],[Descripcion]]=\"\",\"\",\"- \"&Listas[[#This Row],[Descripcion]])","v":"1820 - Producción de copias a partir de grabaciones originales"},"1820","Producción de copias a partir de grabaciones originales",1432]
["Actividad_Economica",{"$f":"Listas[[#This Row],[ID]]&\" \"&IF(Listas[[#This Row],[Descripcion]]=\"\",\"\",\"- \"&Listas[[#This Row],[Descripcion]])","v":"1910 - Fabricación de productos de hornos de coque"},"1910","Fabricación de productos de hornos de coque",1433]
["Actividad_Economica",{"$f":"Listas[[#This Row],[ID]]&\" \"&IF(Listas[[#This Row],[Descripcion]]=\"\",\"\",\"- \"&Listas[[#This Row],[Descripcion]])","v":"1921 - Fabricación de productos de la refinación del petróleo"},"1921","Fabricación de productos de la refinación del petróleo",1434]
["Actividad_Economica",{"$f":"Listas[[#This Row],[ID]]&\" \"&IF(Listas[[#This Row],[Descripcion]]=\"\",\"\",\"- \"&Listas[[#This Row],[Descripcion]])","v":"1922 - Actividad de mezcla de combustibles"},"1922","Actividad de mezcla de combustibles",1435]
["Actividad_Economica",{"$f":"Listas[[#This Row],[ID]]&\" \"&IF(Listas[[#This Row],[Descripcion]]=\"\",\"\",\"- \"&Listas[[#This Row],[Descripcion]])","v":"2011 - Fabricación de sustancias y productos químicos básicos"},"2011","Fabricación de sustancias y productos químicos básicos",1436]
["Actividad_Economica",{"$f":"Listas[[#This Row],[ID]]&\" \"&IF(Listas[[#This Row],[Descripcion]]=\"\",\"\",\"- \"&Listas[[#This Row],[Descripcion]])","v":"2012 - Fabricación de abonos y compuestos inorgánicos nitrogenados"},"2012","Fabricación de abonos y compuestos inorgánicos nitrogenados",1437]
["Actividad_Economica",{"$f":"Listas[[#This Row],[ID]]&\" \"&IF(Listas[[#This Row],[Descripcion]]=\"\",\"\",\"- \"&Listas[[#This Row],[Descripcion]])","v":"2013 - Fabricación de plásticos en formas primarias"},"2013","Fabricación de plásticos en formas primarias",1438]
["Actividad_Economica",{"$f":"Listas[[#This Row],[ID]]&\" \"&IF(Listas[[#This Row],[Descripcion]]=\"\",\"\",\"- \"&Listas[[#This Row],[Descripcion]])","v":"2014 - Fabricación de caucho sintético en formas primarias"},"2014","Fabricación de caucho sintético en formas primarias",1439]
["Actividad_Economica",{"$f":"Listas[[#This Row],[ID]]&\" \"&IF(Listas[[#This Row],[Descripcion]]=\"\",\"\",\"- \"&Listas[[#This Row],[Descripcion]])","v":"2021 - Fabricación de plaguicidas y otros productos químicos de uso agropecuario"},"2021","Fabricación de plaguicidas y otros productos químicos de uso agropecuario",1440]
["Actividad_Economica",{"$f":"Listas[[#This Row],[ID]]&\" \"&IF(Listas[[#This Row],[Descripcion]]=\"\",\"\",\"- \"&Listas[[#This Row],[Descripcion]])","v":"2022 - Fabricación de pinturas, barnices y revestimientos similares, tintas para impresión y masillas"},"2022","Fabricación de pinturas, barnices y revestimientos similares, tintas para impresión y masillas",1441]
["Actividad_Economica",{"$f":"Listas[[#This Row],[ID]]&\" \"&IF(Listas[[#This Row],[Descripcion]]=\"\",\"\",\"- \"&Listas[[#This Row],[Descripcion]])","v":"2023 - Fabricación de jabones y detergentes, preparados para limpiar y pulir; perfumes y preparados de tocador"},"2023","Fabricación de jabones y detergentes, preparados para limpiar y pulir; perfumes y preparados de tocador",1442]
["Actividad_Economica",{"$f":"Listas[[#This Row],[ID]]&\" \"&IF(Listas[[#This Row],[Descripcion]]=\"\",\"\",\"- \"&Listas[[#This Row],[Descripcion]])","v":"2029 - Fabricación de otros productos químicos n.c.p."},"2029","Fabricación de otros productos químicos n.c.p.",1443]
["Actividad_Economica",{"$f":"Listas[[#This Row],[ID]]&\" \"&IF(Listas[[#This Row],[Descripcion]]=\"\",\"\",\"- \"&Listas[[#This Row],[Descripcion]])","v":"2030 - Fabricación de fibras sintéticas y artificiales"},"2030","Fabricación de fibras sintéticas y artificiales",1444]
["Actividad_Economica",{"$f":"Listas[[#This Row],[ID]]&\" \"&IF(Listas[[#This Row],[Descripcion]]=\"\",\"\",\"- \"&Listas[[#This Row],[Descripcion]])","v":"2100 - Fabricación de productos farmacéuticos, sustancias químicas medicinales y productos botánicos de uso farmacéutico"},"2100","Fabricación de productos farmacéuticos, sustancias químicas medicinales y productos botánicos de uso farmacéutico",1445]
["Actividad_Economica",{"$f":"Listas[[#This Row],[ID]]&\" \"&IF(Listas[[#This Row],[Descripcion]]=\"\",\"\",\"- \"&Listas[[#This Row],[Descripcion]])","v":"2211 - Fabricación de llantas y neumáticos de caucho"},"2211","Fabricación de llantas y neumáticos de caucho",1446]
["Actividad_Economica",{"$f":"Listas[[#This Row],[ID]]&\" \"&IF(Listas[[#This Row],[Descripcion]]=\"\",\"\",\"- \"&Listas[[#This Row],[Descripcion]])","v":"2212 - Reencauche de llantas usadas"},"2212","Reencauche de llantas usadas",1447]
["Actividad_Economica",{"$f":"Listas[[#This Row],[ID]]&\" \"&IF(Listas[[#This Row],[Descripcion]]=\"\",\"\",\"- \"&Listas[[#This Row],[Descripcion]])","v":"2219 - Fabricación de formas básicas de caucho y otros productos de caucho n.c.p."},"2219","Fabricación de formas básicas de caucho y otros productos de caucho n.c.p.",1448]
["Actividad_Economica",{"$f":"Listas[[#This Row],[ID]]&\" \"&IF(Listas[[#This Row],[Descripcion]]=\"\",\"\",\"- \"&Listas[[#This Row],[Descripcion]])","v":"2221 - Fabricación de formas básicas de plástico"},"2221","Fabricación de formas básicas de plástico",1449]
["Actividad_Economica",{"$f":"Listas[[#This Row],[ID]]&\" \"&IF(Listas[[#This Row],[Descripcion]]=\"\",\"\",\"- \"&Listas[[#This Row],[Descripcion]])","v":"2229 - Fabricación de artículos de plástico n.c.p."},"2229","Fabricación de artículos de plástico n.c.p.",1450]
["Actividad_Economica",{"$f":"Listas[[#This Row],[ID]]&\" \"&IF(Listas[[#This Row],[Descripcion]]=\"\",\"\",\"- \"&Listas[[#This Row],[Descripcion]])","v":"2310 - Fabricación de vidrio y productos de vidrio"},"2310","Fabricación de vidrio y productos de vidrio",1451]
["Actividad_Economica",{"$f":"Listas[[#This Row],[ID]]&\" \"&IF(Listas[[#This Row],[Descripcion]]=\"\",\"\",\"- \"&Listas[[#This Row],[Descripcion]])","v":"2391 - Fabricación de productos refractarios"},"2391","Fabricación de productos refractarios",1452]
["Actividad_Economica",{"$f":"Listas[[#This Row],[ID]]&\" \"&IF(Listas[[#This Row],[Descripcion]]=\"\",\"\",\"- \"&Listas[[#This Row],[Descripcion]])","v":"2392 - Fabricación de materiales de arcilla para la construcción"},"2392","Fabricación de materiales de arcilla para la construcción",1453]
["Actividad_Economica",{"$f":"Listas[[#This Row],[ID]]&\" \"&IF(Listas[[#This Row],[Descripcion]]=\"\",\"\",\"- \"&Listas[[#This Row],[Descripcion]])","v":"2393 - Fabricación de otros productos de cerámica y porcelana"},"2393","Fabricación de otros productos de cerámica y porcelana",1454]
["Actividad_Economica",{"$f":"Listas[[#This Row],[ID]]&\" \"&IF(Listas[[#This Row],[Descripcion]]=\"\",\"\",\"- \"&Listas[[#This Row],[Descripcion]])","v":"2394 - Fabricación de cemento, cal y yeso"},"2394","Fabricación de cemento, cal y yeso",1455]
["Actividad_Economica",{"$f":"Listas[[#This Row],[ID]]&\" \"&IF(Listas[[#This Row],[Descripcion]]=\"\",\"\",\"- \"&Listas[[#This Row],[Descripcion]])","v":"2395 - Fabricación de artículos de hormigón, cemento y yeso"},"2395","Fabricación de artículos de hormigón, cemento y yeso",1456]
["Actividad_Economica",{"$f":"Listas[[#This Row],[ID]]&\" \"&IF(Listas[[#This Row],[Descripcion]]=\"\",\"\",\"- \"&Listas[[#This Row],[Descripcion]])","v":"2396 - Corte, tallado y acabado de la piedra"},"2396","Corte, tallado y acabado de la piedra",1457]
["Actividad_Economica",{"$f":"Listas[[#This Row],[ID]]&\" \"&IF(Listas[[#This Row],[Descripcion]]=\"\",\"\",\"- \"&Listas[[#This Row],[Descripcion]])","v":"2399 - Fabricación de otros productos minerales no metálicos n.c.p."},"2399","Fabricación de otros productos minerales no metálicos n.c.p.",1458]
["Actividad_Economica",{"$f":"Listas[[#This Row],[ID]]&\" \"&IF(Listas[[#This Row],[Descripcion]]=\"\",\"\",\"- \"&Listas[[#This Row],[Descripcion]])","v":"2410 - Industrias básicas de hierro y de acero"},"2410","Industrias básicas de hierro y de acero",1459]
["Actividad_Economica",{"$f":"Listas[[#This Row],[ID]]&\" \"&IF(Listas[[#This Row],[Descripcion]]=\"\",\"\",\"- \"&Listas[[#This Row],[Descripcion]])","v":"2421 - Industrias básicas de metales preciosos"},"2421","Industrias básicas de metales preciosos",1460]
["Actividad_Economica",{"$f":"Listas[[#This Row],[ID]]&\" \"&IF(Listas[[#This Row],[Descripcion]]=\"\",\"\",\"- \"&Listas[[#This Row],[Descripcion]])","v":"2429 - Industrias básicas de otros metales no ferrosos"},"2429","Industrias básicas de otros metales no ferrosos",1461]
["Actividad_Economica",{"$f":"Listas[[#This Row],[ID]]&\" \"&IF(Listas[[#This Row],[Descripcion]]=\"\",\"\",\"- \"&Listas[[#This Row],[Descripcion]])","v":"2431 - Fundición de hierro y de acero"},"2431","Fundición de hierro y de acero",1462]
["Actividad_Economica",{"$f":"Listas[[#This Row],[ID]]&\" \"&IF(Listas[[#This Row],[Descripcion]]=\"\",\"\",\"- \"&Listas[[#This Row],[Descripcion]])","v":"2432 - Fundición de metales no ferrosos"},"2432","Fundición de metales no ferrosos",1463]
["Actividad_Economica",{"$f":"Listas[[#This Row],[ID]]&\" \"&IF(Listas[[#This Row],[Descripcion]]=\"\",\"\",\"- \"&Listas[[#This Row],[Descripcion]])","v":"2511 - Fabricación de productos metálicos para uso estructural"},"2511","Fabricación de productos metálicos para uso estructural",1464]
["Actividad_Economica",{"$f":"Listas[[#This Row],[ID]]&\" \"&IF(Listas[[#This Row],[Descripcion]]=\"\",\"\",\"- \"&Listas[[#This Row],[Descripcion]])","v":"2512 - Fabricación de tanques, depósitos y recipientes de metal, excepto los utilizados para el envase o transporte de mercancías"},"2512","Fabricación de tanques, depósitos y recipientes de metal, excepto los utilizados para el envase o transporte de mercancías",1465]
["Actividad_Economica",{"$f":"Listas[[#This Row],[ID]]&\" \"&IF(Listas[[#This Row],[Descripcion]]=\"\",\"\",\"- \"&Listas[[#This Row],[Descripcion]])","v":"2513 - Fabricación de generadores de vapor, excepto calderas de agua caliente para calefacción central"},"2513","Fabricación de generadores de vapor, excepto calderas de agua caliente para calefacción central",1466]
["Actividad_Economica",{"$f":"Listas[[#This Row],[ID]]&\" \"&IF(Listas[[#This Row],[Descripcion]]=\"\",\"\",\"- \"&Listas[[#This Row],[Descripcion]])","v":"2520 - Fabricación de armas y municiones"},"2520","Fabricación de armas y municiones",1467]
["Actividad_Economica",{"$f":"Listas[[#This Row],[ID]]&\" \"&IF(Listas[[#This Row],[Descripcion]]=\"\",\"\",\"- \"&Listas[[#This Row],[Descripcion]])","v":"2591 - Forja, prensado, estampado y laminado de metal; pulvimetalurgia"},"2591","Forja, prensado, estampado y laminado de metal; pulvimetalurgia",1468]
["Actividad_Economica",{"$f":"Listas[[#This Row],[ID]]&\" \"&IF(Listas[[#This Row],[Descripcion]]=\"\",\"\",\"- \"&Listas[[#This Row],[Descripcion]])","v":"2592 - Tratamiento y revestimiento de metales; mecanizado"},"2592","Tratamiento y revestimiento de metales; mecanizado",1469]
["Actividad_Economica",{"$f":"Listas[[#This Row],[ID]]&\" \"&IF(Listas[[#This Row],[Descripcion]]=\"\",\"\",\"- \"&Listas[[#This Row],[Descripcion]])","v":"2593 - Fabricación de artículos de cuchillería, herramientas de mano y artículos de ferretería"},"2593","Fabricación de artículos de cuchillería, herramientas de mano y artículos de ferretería",1470]
["Actividad_Economica",{"$f":"Listas[[#This Row],[ID]]&\" \"&IF(Listas[[#This Row],[Descripcion]]=\"\",\"\",\"- \"&Listas[[#This Row],[Descripcion]])","v":"2599 - Fabricación de otros productos elaborados de metal n.c.p."},"2599","Fabricación de otros productos elaborados de metal n.c.p.",1471]
["Actividad_Economica",{"$f":"Listas[[#This Row],[ID]]&\" \"&IF(Listas[[#This Row],[Descripcion]]=\"\",\"\",\"- \"&Listas[[#This Row],[Descripcion]])","v":"2610 - Fabricación de componentes y tableros electrónicos"},"2610","Fabricación de componentes y tableros electrónicos",1472]
["Actividad_Economica",{"$f":"Listas[[#This Row],[ID]]&\" \"&IF(Listas[[#This Row],[Descripcion]]=\"\",\"\",\"- \"&Listas[[#This Row],[Descripcion]])","v":"2620 - Fabricación de computadoras y de equipo periférico"},"2620","Fabricación de computadoras y de equipo periférico",1473]
["Actividad_Economica",{"$f":"Listas[[#This Row],[ID]]&\" \"&IF(Listas[[#This Row],[Descripcion]]=\"\",\"\",\"- \"&Listas[[#This Row],[Descripcion]])","v":"2630 - Fabricación de equipos de comunicación"},"2630","Fabricación de equipos de comunicación",1474]
["Actividad_Economica",{"$f":"Listas[[#This Row],[ID]]&\" \"&IF(Listas[[#This Row],[Descripcion]]=\"\",\"\",\"- \"&Listas[[#This Row],[Descripcion]])","v":"2640 - Fabricación de aparatos electrónicos de consumo"},"2640","Fabricación de aparatos electrónicos de consumo",1475]
["Actividad_Economica",{"$f":"Listas[[#This Row],[ID]]&\" \"&IF(Listas[[#This Row],[Descripcion]]=\"\",\"\",\"- \"&Listas[[#This Row],[Descripcion]])","v":"2651 - Fabricación de equipo de medición, prueba, navegación y control"},"2651","Fabricación de equipo de medición, prueba, navegación y control",1476]
["Actividad_Economica",{"$f":"Listas[[#This Row],[ID]]&\" \"&IF(Listas[[#This Row],[Descripcion]]=\"\",\"\",\"- \"&Listas[[#This Row],[Descripcion]])","v":"2652 - Fabricación de relojes"},"2652","Fabricación de relojes",1477]
["Actividad_Economica",{"$f":"Listas[[#This Row],[ID]]&\" \"&IF(Listas[[#This Row],[Descripcion]]=\"\",\"\",\"- \"&Listas[[#This Row],[Descripcion]])","v":"2660 - Fabricación de equipo de irradiación y equipo electrónico de uso médico y terapéutico"},"2660","Fabricación de equipo de irradiación y equipo electrónico de uso médico y terapéutico",1478]
["Actividad_Economica",{"$f":"Listas[[#This Row],[ID]]&\" \"&IF(Listas[[#This Row],[Descripcion]]=\"\",\"\",\"- \"&Listas[[#This Row],[Descripcion]])","v":"2670 - Fabricación de instrumentos ópticos y equipo fotográfico"},"2670","Fabricación de instrumentos ópticos y equipo fotográfico",1479]
["Actividad_Economica",{"$f":"Listas[[#This Row],[ID]]&\" \"&IF(Listas[[#This Row],[Descripcion]]=\"\",\"\",\"- \"&Listas[[#This Row],[Descripcion]])","v":"2680 - Fabricación de medios magnéticos y ópticos para almacenamiento de datos"},"2680","Fabricación de medios magnéticos y ópticos para almacenamiento de datos",1480]
["Actividad_Economica",{"$f":"Listas[[#This Row],[ID]]&\" \"&IF(Listas[[#This Row],[Descripcion]]=\"\",\"\",\"- \"&Listas[[#This Row],[Descripcion]])","v":"2711 - Fabricación de motores, generadores y transformadores eléctricos"},"2711","Fabricación de motores, generadores y transformadores eléctricos",1481]
["Actividad_Economica",{"$f":"Listas[[#This Row],[ID]]&\" \"&IF(Listas[[#This Row],[Descripcion]]=\"\",\"\",\"- \"&Listas[[#This Row],[Descripcion]])","v":"2712 - Fabricación de aparatos de distribución y control de la energía eléctrica"},"2712","Fabricación de aparatos de distribución y control de la energía eléctrica",1482]
["Actividad_Economica",{"$f":"Listas[[#This Row],[ID]]&\" \"&IF(Listas[[#This Row],[Descripcion]]=\"\",\"\",\"- \"&Listas[[#This Row],[Descripcion]])","v":"2720 - Fabricación de pilas, baterías y acumuladores eléctricos"},"2720","Fabricación de pilas, baterías y acumuladores eléctricos",1483]
["Actividad_Economica",{"$f":"Listas[[#This Row],[ID]]&\" \"&IF(Listas[[#This Row],[Descripcion]]=\"\",\"\",\"- \"&Listas[[#This Row],[Descripcion]])","v":"2731 - Fabricación de hilos y cables eléctricos y de fibra óptica"},"2731","Fabricación de hilos y cables eléctricos y de fibra óptica",1484]
["Actividad_Economica",{"$f":"Listas[[#This Row],[ID]]&\" \"&IF(Listas[[#This Row],[Descripcion]]=\"\",\"\",\"- \"&Listas[[#This Row],[Descripcion]])","v":"2732 - Fabricación de dispositivos de cableado"},"2732","Fabricación de dispositivos de cableado",1485]
["Actividad_Economica",{"$f":"Listas[[#This Row],[ID]]&\" \"&IF(Listas[[#This Row],[Descripcion]]=\"\",\"\",\"- \"&Listas[[#This Row],[Descripcion]])","v":"2740 - Fabricación de equipos eléctricos de iluminación"},"2740","Fabricación de equipos eléctricos de iluminación",1486]
["Actividad_Economica",{"$f":"Listas[[#This Row],[ID]]&\" \"&IF(Listas[[#This Row],[Descripcion]]=\"\",\"\",\"- \"&Listas[[#This Row],[Descripcion]])","v":"2750 - Fabricación de aparatos de uso doméstico"},"2750","Fabricación de aparatos de uso doméstico",1487]
["Actividad_Economica",{"$f":"Listas[[#This Row],[ID]]&\" \"&IF(Listas[[#This Row],[Descripcion]]=\"\",\"\",\"- \"&Listas[[#This Row],[Descripcion]])","v":"2790 - Fabricación de otros tipos de equipo eléctrico n.c.p."},"2790","Fabricación de otros tipos de equipo eléctrico n.c.p.",1488]
["Actividad_Economica",{"$f":"Listas[[#This Row],[ID]]&\" \"&IF(Listas[[#This Row],[Descripcion]]=\"\",\"\",\"- \"&Listas[[#This Row],[Descripcion]])","v":"2811 - Fabricación de motores, turbinas, y partes para motores de combustión interna"},"2811","Fabricación de motores, turbinas, y partes para motores de combustión interna",1489]
["Actividad_Economica",{"$f":"Listas[[#This Row],[ID]]&\" \"&IF(Listas[[#This Row],[Descripcion]]=\"\",\"\",\"- \"&Listas[[#This Row],[Descripcion]])","v":"2812 - Fabricación de equipos de potencia hidráulica y neumática"},"2812","Fabricación de equipos de potencia hidráulica y neumática",1490]
["Actividad_Economica",{"$f":"Listas[[#This Row],[ID]]&\" \"&IF(Listas[[#This Row],[Descripcion]]=\"\",\"\",\"- \"&Listas[[#This Row],[Descripcion]])","v":"2813 - Fabricación de otras bombas, compresores, grifos y válvulas"},"2813","Fabricación de otras bombas, compresores, grifos y válvulas",1491]
["Actividad_Economica",{"$f":"Listas[[#This Row],[ID]]&\" \"&IF(Listas[[#This Row],[Descripcion]]=\"\",\"\",\"- \"&Listas[[#This Row],[Descripcion]])","v":"2814 - Fabricación de cojinetes, engranajes, trenes de engranajes y piezas de transmisión"},"2814","Fabricación de cojinetes, engranajes, trenes de engranajes y piezas de transmisión",1492]
["Actividad_Economica",{"$f":"Listas[[#This Row],[ID]]&\" \"&IF(Listas[[#This Row],[Descripcion]]=\"\",\"\",\"- \"&Listas[[#This Row],[Descripcion]])","v":"2815 - Fabricación de hornos, hogares y quemadores industriales"},"2815","Fabricación de hornos, hogares y quemadores industriales",1493]
["Actividad_Economica",{"$f":"Listas[[#This Row],[ID]]&\" \"&IF(Listas[[#This Row],[Descripcion]]=\"\",\"\",\"- \"&Listas[[#This Row],[Descripcion]])","v":"2816 - Fabricación de equipo de elevación y manipulación"},"2816","Fabricación de equipo de elevación y manipulación",1494]
["Actividad_Economica",{"$f":"Listas[[#This Row],[ID]]&\" \"&IF(Listas[[#This Row],[Descripcion]]=\"\",\"\",\"- \"&Listas[[#This Row],[Descripcion]])","v":"2817 - Fabricación de maquinaria y equipo de oficina (excepto computadoras y equipo periférico)"},"2817","Fabricación de maquinaria y equipo de oficina (excepto computadoras y equipo periférico)",1495]
["Actividad_Economica",{"$f":"Listas[[#This Row],[ID]]&\" \"&IF(Listas[[#This Row],[Descripcion]]=\"\",\"\",\"- \"&Listas[[#This Row],[Descripcion]])","v":"2818 - Fabricación de herramientas manuales con motor"},"2818","Fabricación de herramientas manuales con motor",1496]
["Actividad_Economica",{"$f":"Listas[[#This Row],[ID]]&\" \"&IF(Listas[[#This Row],[Descripcion]]=\"\",\"\",\"- \"&Listas[[#This Row],[Descripcion]])","v":"2819 - Fabricación de otros tipos de maquinaria y equipo de uso general n.c.p."},"2819","Fabricación de otros tipos de maquinaria y equipo de uso general n.c.p.",1497]
["Actividad_Economica",{"$f":"Listas[[#This Row],[ID]]&\" \"&IF(Listas[[#This Row],[Descripcion]]=\"\",\"\",\"- \"&Listas[[#This Row],[Descripcion]])","v":"2821 - Fabricación de maquinaria agropecuaria y forestal"},"2821","Fabricación de maquinaria agropecuaria y forestal",1498]
["Actividad_Economica",{"$f":"Listas[[#This Row],[ID]]&\" \"&IF(Listas[[#This Row],[Descripcion]]=\"\",\"\",\"- \"&Listas[[#This Row],[Descripcion]])","v":"2822 - Fabricación de máquinas formadoras de metal y de máquinas herramienta"},"2822","Fabricación de máquinas formadoras de metal y de máquinas herramienta",1499]
["Actividad_Economica",{"$f":"Listas[[#This Row],[ID]]&\" \"&IF(Listas[[#This Row],[Descripcion]]=\"\",\"\",\"- \"&Listas[[#This Row],[Descripcion]])","v":"2823 - Fabricación de maquinaria para la metalurgia"},"2823","Fabricación de maquinaria para la metalurgia",1500]
["Actividad_Economica",{"$f":"Listas[[#This Row],[ID]]&\" \"&IF(Listas[[#This Row],[Descripcion]]=\"\",\"\",\"- \"&Listas[[#This Row],[Descripcion]])","v":"2824 - Fabricación de maquinaria para explotación de minas y canteras y para obras de construcción"},"2824","Fabricación de maquinaria para explotación de minas y canteras y para obras de construcción",1501]
["Actividad_Economica",{"$f":"Listas[[#This Row],[ID]]&\" \"&IF(Listas[[#This Row],[Descripcion]]=\"\",\"\",\"- \"&Listas[[#This Row],[Descripcion]])","v":"2825 - Fabricación de maquinaria para la elaboración de alimentos, bebidas y tabaco"},"2825","Fabricación de maquinaria para la elaboración de alimentos, bebidas y tabaco",1502]
["Actividad_Economica",{"$f":"Listas[[#This Row],[ID]]&\" \"&IF(Listas[[#This Row],[Descripcion]]=\"\",\"\",\"- \"&Listas[[#This Row],[Descripcion]])","v":"2826 - Fabricación de maquinaria para la elaboración de productos textiles, prendas de vestir y cueros"},"2826","Fabricación de maquinaria para la elaboración de productos textiles, prendas de vestir y cueros",1503]
["Actividad_Economica",{"$f":"Listas[[#This Row],[ID]]&\" \"&IF(Listas[[#This Row],[Descripcion]]=\"\",\"\",\"- \"&Listas[[#This Row],[Descripcion]])","v":"2829 - Fabricación de otros tipos de maquinaria y equipo de uso especial n.c.p."},"2829","Fabricación de otros tipos de maquinaria y equipo de uso especial n.c.p.",1504]
["Actividad_Economica",{"$f":"Listas[[#This Row],[ID]]&\" \"&IF(Listas[[#This Row],[Descripcion]]=\"\",\"\",\"- \"&Listas[[#This Row],[Descripcion]])","v":"2910 - Fabricación de vehículos automotores y sus motores"},"2910","Fabricación de vehículos automotores y sus motores",1505]
["Actividad_Economica",{"$f":"Listas[[#This Row],[ID]]&\" \"&IF(Listas[[#This Row],[Descripcion]]=\"\",\"\",\"- \"&Listas[[#This Row],[Descripcion]])","v":"2920 - Fabricación de carrocerías para vehículos automotores; fabricación de remolques y semirremolques"},"2920","Fabricación de carrocerías para vehículos automotores; fabricación de remolques y semirremolques",1506]
["Actividad_Economica",{"$f":"Listas[[#This Row],[ID]]&\" \"&IF(Listas[[#This Row],[Descripcion]]=\"\",\"\",\"- \"&Listas[[#This Row],[Descripcion]])","v":"2930 - Fabricación de partes, piezas (autopartes) y accesorios (lujos) para vehículos automotores"},"2930","Fabricación de partes, piezas (autopartes) y accesorios (lujos) para vehículos automotores",1507]
["Actividad_Economica",{"$f":"Listas[[#This Row],[ID]]&\" \"&IF(Listas[[#This Row],[Descripcion]]=\"\",\"\",\"- \"&Listas[[#This Row],[Descripcion]])","v":"3011 - Construcción de barcos y de estructuras flotantes"},"3011","Construcción de barcos y de estructuras flotantes",1508]
["Actividad_Economica",{"$f":"Listas[[#This Row],[ID]]&\" \"&IF(Listas[[#This Row],[Descripcion]]=\"\",\"\",\"- \"&Listas[[#This Row],[Descripcion]])","v":"3012 - Construcción de embarcaciones de recreo y deporte"},"3012","Construcción de embarcaciones de recreo y deporte",1509]
["Actividad_Economica",{"$f":"Listas[[#This Row],[ID]]&\" \"&IF(Listas[[#This Row],[Descripcion]]=\"\",\"\",\"- \"&Listas[[#This Row],[Descripcion]])","v":"3020 - Fabricación de locomotoras y de material rodante para ferrocarriles"},"3020","Fabricación de locomotoras y de material rodante para ferrocarriles",1510]
["Actividad_Economica",{"$f":"Listas[[#This Row],[ID]]&\" \"&IF(Listas[[#This Row],[Descripcion]]=\"\",\"\",\"- \"&Listas[[#This Row],[Descripcion]])","v":"3030 - Fabricación de aeronaves, naves espaciales y de maquinaria conexa"},"3030","Fabricación de aeronaves, naves espaciales y de maquinaria conexa",1511]
["Actividad_Economica",{"$f":"Listas[[#This Row],[ID]]&\" \"&IF(Listas[[#This Row],[Descripcion]]=\"\",\"\",\"- \"&Listas[[#This Row],[Descripcion]])","v":"3040 - Fabricación de vehículos militares de combate"},"3040","Fabricación de vehículos militares de combate",1512]
["Actividad_Economica",{"$f":"Listas[[#This Row],[ID]]&\" \"&IF(Listas[[#This Row],[Descripcion]]=\"\",\"\",\"- \"&Listas[[#This Row],[Descripcion]])","v":"3091 - Fabricación de motocicletas"},"3091","Fabricación de motocicletas",1513]
["Actividad_Economica",{"$f":"Listas[[#This Row],[ID]]&\" \"&IF(Listas[[#This Row],[Descripcion]]=\"\",\"\",\"- \"&Listas[[#This Row],[Descripcion]])","v":"3092 - Fabricación de bicicletas y de sillas de ruedas para personas con discapacidad"},"3092","Fabricación de bicicletas y de sillas de ruedas para personas con discapacidad",1514]
["Actividad_Economica",{"$f":"Listas[[#This Row],[ID]]&\" \"&IF(Listas[[#This Row],[Descripcion]]=\"\",\"\",\"- \"&Listas[[#This Row],[Descripcion]])","v":"3099 - Fabricación de otros tipos de equipo de transporte n.c.p."},"3099","Fabricación de otros tipos de equipo de transporte n.c.p.",1515]
["Actividad_Economica",{"$f":"Listas[[#This Row],[ID]]&\" \"&IF(Listas[[#This Row],[Descripcion]]=\"\",\"\",\"- \"&Listas[[#This Row],[Descripcion]])","v":"3110 - Fabricación de muebles"},"3110","Fabricación de muebles",1516]
["Actividad_Economica",{"$f":"Listas[[#This Row],[ID]]&\" \"&IF(Listas[[#This Row],[Descripcion]]=\"\",\"\",\"- \"&Listas[[#This Row],[Descripcion]])","v":"3120 - Fabricación de colchones y somieres"},"3120","Fabricación de colchones y somieres",1517]
["Actividad_Economica",{"$f":"Listas[[#This Row],[ID]]&\" \"&IF(Listas[[#This Row],[Descripcion]]=\"\",\"\",\"- \"&Listas[[#This Row],[Descripcion]])","v":"3210 - Fabricación de joyas, bisutería y artículos conexos"},"3210","Fabricación de joyas, bisutería y artículos conexos",1518]
["Actividad_Economica",{"$f":"Listas[[#This Row],[ID]]&\" \"&IF(Listas[[#This Row],[Descripcion]]=\"\",\"\",\"- \"&Listas[[#This Row],[Descripcion]])","v":"3220 - Fabricación de instrumentos musicales"},"3220","Fabricación de instrumentos musicales",1519]
["Actividad_Economica",{"$f":"Listas[[#This Row],[ID]]&\" \"&IF(Listas[[#This Row],[Descripcion]]=\"\",\"\",\"- \"&Listas[[#This Row],[Descripcion]])","v":"3230 - Fabricación de artículos y equipo para la práctica del deporte"},"3230","Fabricación de artículos y equipo para la práctica del deporte",1520]
["Actividad_Economica",{"$f":"Listas[[#This Row],[ID]]&\" \"&IF(Listas[[#This Row],[Descripcion]]=\"\",\"\",\"- \"&Listas[[#This Row],[Descripcion]])","v":"3240 - Fabricación de juegos, juguetes y rompecabezas"},"3240","Fabricación de juegos, juguetes y rompecabezas",1521]
["Actividad_Economica",{"$f":"Listas[[#This Row],[ID]]&\" \"&IF(Listas[[#This Row],[Descripcion]]=\"\",\"\",\"- \"&Listas[[#This Row],[Descripcion]])","v":"3250 - Fabricación de instrumentos, aparatos y materiales médicos y odontológicos (incluido mobiliario)"},"3250","Fabricación de instrumentos, aparatos y materiales médicos y odontológicos (incluido mobiliario)",1522]
["Actividad_Economica",{"$f":"Listas[[#This Row],[ID]]&\" \"&IF(Listas[[#This Row],[Descripcion]]=\"\",\"\",\"- \"&Listas[[#This Row],[Descripcion]])","v":"3290 - Otras industrias manufactureras n.c.p."},"3290","Otras industrias manufactureras n.c.p.",1523]
["Actividad_Economica",{"$f":"Listas[[#This Row],[ID]]&\" \"&IF(Listas[[#This Row],[Descripcion]]=\"\",\"\",\"- \"&Listas[[#This Row],[Descripcion]])","v":"3311 - Mantenimiento y reparación especializado de productos elaborados en metal"},"3311","Mantenimiento y reparación especializado de productos elaborados en metal",1524]
["Actividad_Economica",{"$f":"Listas[[#This Row],[ID]]&\" \"&IF(Listas[[#This Row],[Descripcion]]=\"\",\"\",\"- \"&Listas[[#This Row],[Descripcion]])","v":"3312 - Mantenimiento y reparación especializado de maquinaria y equipo"},"3312","Mantenimiento y reparación especializado de maquinaria y equipo",1525]
["Actividad_Economica",{"$f":"Listas[[#This Row],[ID]]&\" \"&IF(Listas[[#This Row],[Descripcion]]=\"\",\"\",\"- \"&Listas[[#This Row],[Descripcion]])","v":"3313 - Mantenimiento y reparación especializado de equipo electrónico y óptico"},"3313","Mantenimiento y reparación especializado de equipo electrónico y óptico",1526]
["Actividad_Economica",{"$f":"Listas[[#This Row],[ID]]&\" \"&IF(Listas[[#This Row],[Descripcion]]=\"\",\"\",\"- \"&Listas[[#This Row],[Descripcion]])","v":"3314 - Mantenimiento y reparación especializado de equipo eléctrico"},"3314","Mantenimiento y reparación especializado de equipo eléctrico",1527]
["Actividad_Economica",{"$f":"Listas[[#This Row],[ID]]&\" \"&IF(Listas[[#This Row],[Descripcion]]=\"\",\"\",\"- \"&Listas[[#This Row],[Descripcion]])","v":"3315 - Mantenimiento y reparación especializado de equipo de transporte, excepto los vehículos automotores, motocicletas y bicicletas"},"3315","Mantenimiento y reparación especializado de equipo de transporte, excepto los vehículos automotores, motocicletas y bicicletas",1528]
["Actividad_Economica",{"$f":"Listas[[#This Row],[ID]]&\" \"&IF(Listas[[#This Row],[Descripcion]]=\"\",\"\",\"- \"&Listas[[#This Row],[Descripcion]])","v":"3319 - Mantenimiento y reparación de otros tipos de equipos y sus componentes n.c.p."},"3319","Mantenimiento y reparación de otros tipos de equipos y sus componentes n.c.p.",1529]
["Actividad_Economica",{"$f":"Listas[[#This Row],[ID]]&\" \"&IF(Listas[[#This Row],[Descripcion]]=\"\",\"\",\"- \"&Listas[[#This Row],[Descripcion]])","v":"3320 - Instalación especializada de maquinaria y equipo industrial"},"3320","Instalación especializada de maquinaria y equipo industrial",1530]
["Actividad_Economica",{"$f":"Listas[[#This Row],[ID]]&\" \"&IF(Listas[[#This Row],[Descripcion]]=\"\",\"\",\"- \"&Listas[[#This Row],[Descripcion]])","v":"3511 - Generación de energía eléctrica"},"3511","Generación de energía eléctrica",1531]
["Actividad_Economica",{"$f":"Listas[[#This Row],[ID]]&\" \"&IF(Listas[[#This Row],[Descripcion]]=\"\",\"\",\"- \"&Listas[[#This Row],[Descripcion]])","v":"3512 - Transmisión de energía eléctrica"},"3512","Transmisión de energía eléctrica",1532]
["Actividad_Economica",{"$f":"Listas[[#This Row],[ID]]&\" \"&IF(Listas[[#This Row],[Descripcion]]=\"\",\"\",\"- \"&Listas[[#This Row],[Descripcion]])","v":"3513 - Distribución de energía eléctrica"},"3513","Distribución de energía eléctrica",1533]
["Actividad_Economica",{"$f":"Listas[[#This Row],[ID]]&\" \"&IF(Listas[[#This Row],[Descripcion]]=\"\",\"\",\"- \"&Listas[[#This Row],[Descripcion]])","v":"3514 - Comercialización de energía eléctrica"},"3514","Comercialización de energía eléctrica",1534]
["Actividad_Economica",{"$f":"Listas[[#This Row],[ID]]&\" \"&IF(Listas[[#This Row],[Descripcion]]=\"\",\"\",\"- \"&Listas[[#This Row],[Descripcion]])","v":"3520 - Producción de gas; distribución de combustibles gaseosos por tuberías"},"3520","Producción de gas; distribución de combustibles gaseosos por tuberías",1535]
["Actividad_Economica",{"$f":"Listas[[#This Row],[ID]]&\" \"&IF(Listas[[#This Row],[Descripcion]]=\"\",\"\",\"- \"&Listas[[#This Row],[Descripcion]])","v":"3530 - Suministro de vapor y aire acondicionado"},"3530","Suministro de vapor y aire acondicionado",1536]
["Actividad_Economica",{"$f":"Listas[[#This Row],[ID]]&\" \"&IF(Listas[[#This Row],[Descripcion]]=\"\",\"\",\"- \"&Listas[[#This Row],[Descripcion]])","v":"3600 - Captación, tratamiento y distribución de agua"},"3600","Captación, tratamiento y distribución de agua",1537]
["Actividad_Economica",{"$f":"Listas[[#This Row],[ID]]&\" \"&IF(Listas[[#This Row],[Descripcion]]=\"\",\"\",\"- \"&Listas[[#This Row],[Descripcion]])","v":"3700 - Evacuación y tratamiento de aguas residuales"},"3700","Evacuación y tratamiento de aguas residuales",1538]
["Actividad_Economica",{"$f":"Listas[[#This Row],[ID]]&\" \"&IF(Listas[[#This Row],[Descripcion]]=\"\",\"\",\"- \"&Listas[[#This Row],[Descripcion]])","v":"3811 - Recolección de desechos no peligrosos"},"3811","Recolección de desechos no peligrosos",1539]
["Actividad_Economica",{"$f":"Listas[[#This Row],[ID]]&\" \"&IF(Listas[[#This Row],[Descripcion]]=\"\",\"\",\"- \"&Listas[[#This Row],[Descripcion]])","v":"3812 - Recolección de desechos peligrosos"},"3812","Recolección de desechos peligrosos",1540]
["Actividad_Economica",{"$f":"Listas[[#This Row],[ID]]&\" \"&IF(Listas[[#This Row],[Descripcion]]=\"\",\"\",\"- \"&Listas[[#This Row],[Descripcion]])","v":"3821 - Tratamiento y disposición de desechos no peligrosos"},"3821","Tratamiento y disposición de desechos no peligrosos",1541]
["Actividad_Economica",{"$f":"Listas[[#This Row],[ID]]&\" \"&IF(Listas[[#This Row],[Descripcion]]=\"\",\"\",\"- \"&Listas[[#This Row],[Descripcion]])","v":"3822 - Tratamiento y disposición de desechos peligrosos"},"3822","Tratamiento y disposición de desechos peligrosos",1542]
["Actividad_Economica",{"$f":"Listas[[#This Row],[ID]]&\" \"&IF(Listas[[#This Row],[Descripcion]]=\"\",\"\",\"- \"&Listas[[#This Row],[Descripcion]])","v":"3830 - Recuperación de materiales"},"3830","Recuperación de materiales",1543]
["Actividad_Economica",{"$f":"Listas[[#This Row],[ID]]&\" \"&IF(Listas[[#This Row],[Descripcion]]=\"\",\"\",\"- \"&Listas[[#This Row],[Descripcion]])","v":"3900 - Actividades de saneamiento ambiental y otros servicios de gestión de desechos"},"3900","Actividades de saneamiento ambiental y otros servicios de gestión de desechos",1544]
["Actividad_Economica",{"$f":"Listas[[#This Row],[ID]]&\" \"&IF(Listas[[#This Row],[Descripcion]]=\"\",\"\",\"- \"&Listas[[#This Row],[Descripcion]])","v":"4111 - Construcción de edificios residenciales"},"4111","Construcción de edificios residenciales",1545]
["Actividad_Economica",{"$f":"Listas[[#This Row],[ID]]&\" \"&IF(Listas[[#This Row],[Descripcion]]=\"\",\"\",\"- \"&Listas[[#This Row],[Descripcion]])","v":"4112 - Construcción de edificios no residenciales"},"4112","Construcción de edificios no residenciales",1546]
["Actividad_Economica",{"$f":"Listas[[#This Row],[ID]]&\" \"&IF(Listas[[#This Row],[Descripcion]]=\"\",\"\",\"- \"&Listas[[#This Row],[Descripcion]])","v":"4210 - Construcción de carreteras y vías de ferrocarril"},"4210","Construcción de carreteras y vías de ferrocarril",1547]
["Actividad_Economica",{"$f":"Listas[[#This Row],[ID]]&\" \"&IF(Listas[[#This Row],[Descripcion]]=\"\",\"\",\"- \"&Listas[[#This Row],[Descripcion]])","v":"4220 - Construcción de proyectos de servicio público"},"4220","Construcción de proyectos de servicio público",1548]
["Actividad_Economica",{"$f":"Listas[[#This Row],[ID]]&\" \"&IF(Listas[[#This Row],[Descripcion]]=\"\",\"\",\"- \"&Listas[[#This Row],[Descripcion]])","v":"4290 - Construcción de otras obras de ingeniería civil"},"4290","Construcción de otras obras de ingeniería civil",1549]
["Actividad_Economica",{"$f":"Listas[[#This Row],[ID]]&\" \"&IF(Listas[[#This Row],[Descripcion]]=\"\",\"\",\"- \"&Listas[[#This Row],[Descripcion]])","v":"4311 - Demolición"},"4311","Demolición",1550]
["Actividad_Economica",{"$f":"Listas[[#This Row],[ID]]&\" \"&IF(Listas[[#This Row],[Descripcion]]=\"\",\"\",\"- \"&Listas[[#This Row],[Descripcion]])","v":"4312 - Preparación del terreno"},"4312","Preparación del terreno",1551]
["Actividad_Economica",{"$f":"Listas[[#This Row],[ID]]&\" \"&IF(Listas[[#This Row],[Descripcion]]=\"\",\"\",\"- \"&Listas[[#This Row],[Descripcion]])","v":"4321 - Instalaciones eléctricas"},"4321","Instalaciones eléctricas",1552]
["Actividad_Economica",{"$f":"Listas[[#This Row],[ID]]&\" \"&IF(Listas[[#This Row],[Descripcion]]=\"\",\"\",\"- \"&Listas[[#This Row],[Descripcion]])","v":"4322 - Instalaciones de fontanería, calefacción y aire acondicionado"},"4322","Instalaciones de fontanería, calefacción y aire acondicionado",1553]
["Actividad_Economica",{"$f":"Listas[[#This Row],[ID]]&\" \"&IF(Listas[[#This Row],[Descripcion]]=\"\",\"\",\"- \"&Listas[[#This Row],[Descripcion]])","v":"4329 - Otras instalaciones especializadas"},"4329","Otras instalaciones especializadas",1554]
["Actividad_Economica",{"$f":"Listas[[#This Row],[ID]]&\" \"&IF(Listas[[#This Row],[Descripcion]]=\"\",\"\",\"- \"&Listas[[#This Row],[Descripcion]])","v":"4330 - Terminación y acabado de edificios y obras de ingeniería civil"},"4330","Terminación y acabado de edificios y obras de ingeniería civil",1555]
["Actividad_Economica",{"$f":"Listas[[#This Row],[ID]]&\" \"&IF(Listas[[#This Row],[Descripcion]]=\"\",\"\",\"- \"&Listas[[#This Row],[Descripcion]])","v":"4390 - Otras actividades especializadas para la construcción de edificios y obras de ingeniería civil"},"4390","Otras actividades especializadas para la construcción de edificios y obras de ingeniería civil",1556]
["Actividad_Economica",{"$f":"Listas[[#This Row],[ID]]&\" \"&IF(Listas[[#This Row],[Descripcion]]=\"\",\"\",\"- \"&Listas[[#This Row],[Descripcion]])","v":"4511 - Comercio de vehículos automotores nuevos"},"4511","Comercio de vehículos automotores nuevos",1557]
["Actividad_Economica",{"$f":"Listas[[#This Row],[ID]]&\" \"&IF(Listas[[#This Row],[Descripcion]]=\"\",\"\",\"- \"&Listas[[#This Row],[Descripcion]])","v":"4512 - Comercio de vehículos automotores usados"},"4512","Comercio de vehículos automotores usados",1558]
["Actividad_Economica",{"$f":"Listas[[#This Row],[ID]]&\" \"&IF(Listas[[#This Row],[Descripcion]]=\"\",\"\",\"- \"&Listas[[#This Row],[Descripcion]])","v":"4520 - Mantenimiento y reparación de vehículos automotores"},"4520","Mantenimiento y reparación de vehículos automotores",1559]
["Actividad_Economica",{"$f":"Listas[[#This Row],[ID]]&\" \"&IF(Listas[[#This Row],[Descripcion]]=\"\",\"\",\"- \"&Listas[[#This Row],[Descripcion]])","v":"4530 - Comercio de partes, piezas (autopartes) y accesorios (lujos) para vehículos automotores"},"4530","Comercio de partes, piezas (autopartes) y accesorios (lujos) para vehículos automotores",1560]
["Actividad_Economica",{"$f":"Listas[[#This Row],[ID]]&\" \"&IF(Listas[[#This Row],[Descripcion]]=\"\",\"\",\"- \"&Listas[[#This Row],[Descripcion]])","v":"4541 - Comercio de motocicletas y de sus partes, piezas y accesorios"},"4541","Comercio de motocicletas y de sus partes, piezas y accesorios",1561]
["Actividad_Economica",{"$f":"Listas[[#This Row],[ID]]&\" \"&IF(Listas[[#This Row],[Descripcion]]=\"\",\"\",\"- \"&Listas[[#This Row],[Descripcion]])","v":"4542 - Mantenimiento y reparación de motocicletas y de sus partes y piezas"},"4542","Mantenimiento y reparación de motocicletas y de sus partes y piezas",1562]
["Actividad_Economica",{"$f":"Listas[[#This Row],[ID]]&\" \"&IF(Listas[[#This Row],[Descripcion]]=\"\",\"\",\"- \"&Listas[[#This Row],[Descripcion]])","v":"4610 - Comercio al por mayor a cambio de una retribución o por contrata"},"4610","Comercio al por mayor a cambio de una retribución o por contrata",1563]
["Actividad_Economica",{"$f":"Listas[[#This Row],[ID]]&\" \"&IF(Listas[[#This Row],[Descripcion]]=\"\",\"\",\"- \"&Listas[[#This Row],[Descripcion]])","v":"4620 - Comercio al por mayor de materias primas agropecuarias; animales vivos"},"4620","Comercio al por mayor de materias primas agropecuarias; animales vivos",1564]
["Actividad_Economica",{"$f":"Listas[[#This Row],[ID]]&\" \"&IF(Listas[[#This Row],[Descripcion]]=\"\",\"\",\"- \"&Listas[[#This Row],[Descripcion]])","v":"4631 - Comercio al por mayor de productos alimenticios"},"4631","Comercio al por mayor de productos alimenticios",1565]
["Actividad_Economica",{"$f":"Listas[[#This Row],[ID]]&\" \"&IF(Listas[[#This Row],[Descripcion]]=\"\",\"\",\"- \"&Listas[[#This Row],[Descripcion]])","v":"4632 - Comercio al por mayor de bebidas y tabaco"},"4632","Comercio al por mayor de bebidas y tabaco",1566]
["Actividad_Economica",{"$f":"Listas[[#This Row],[ID]]&\" \"&IF(Listas[[#This Row],[Descripcion]]=\"\",\"\",\"- \"&Listas[[#This Row],[Descripcion]])","v":"4641 - Comercio al por mayor de productos textiles, productos confeccionados para uso doméstico"},"4641","Comercio al por mayor de productos textiles, productos confeccionados para uso doméstico",1567]
["Actividad_Economica",{"$f":"Listas[[#This Row],[ID]]&\" \"&IF(Listas[[#This Row],[Descripcion]]=\"\",\"\",\"- \"&Listas[[#This Row],[Descripcion]])","v":"4642 - Comercio al por mayor de prendas de vestir"},"4642","Comercio al por mayor de prendas de vestir",1568]
["Actividad_Economica",{"$f":"Listas[[#This Row],[ID]]&\" \"&IF(Listas[[#This Row],[Descripcion]]=\"\",\"\",\"- \"&Listas[[#This Row],[Descripcion]])","v":"4643 - Comercio al por mayor de calzado"},"4643","Comercio al por mayor de calzado",1569]
["Actividad_Economica",{"$f":"Listas[[#This Row],[ID]]&\" \"&IF(Listas[[#This Row],[Descripcion]]=\"\",\"\",\"- \"&Listas[[#This Row],[Descripcion]])","v":"4644 - Comercio al por mayor de aparatos y equipo de uso doméstico"},"4644","Comercio al por mayor de aparatos y equipo de uso doméstico",1570]
["Actividad_Economica",{"$f":"Listas[[#This Row],[ID]]&\" \"&IF(Listas[[#This Row],[Descripcion]]=\"\",\"\",\"- \"&Listas[[#This Row],[Descripcion]])","v":"4645 - Comercio al por mayor de productos farmacéuticos, medicinales, cosméticos y de tocador"},"4645","Comercio al por mayor de productos farmacéuticos, medicinales, cosméticos y de tocador",1571]
["Actividad_Economica",{"$f":"Listas[[#This Row],[ID]]&\" \"&IF(Listas[[#This Row],[Descripcion]]=\"\",\"\",\"- \"&Listas[[#This Row],[Descripcion]])","v":"4649 - Comercio al por mayor de otros utensilios domésticos n.c.p."},"4649","Comercio al por mayor de otros utensilios domésticos n.c.p.",1572]
["Actividad_Economica",{"$f":"Listas[[#This Row],[ID]]&\" \"&IF(Listas[[#This Row],[Descripcion]]=\"\",\"\",\"- \"&Listas[[#This Row],[Descripcion]])","v":"4651 - Comercio al por mayor de computadores, equipo periférico y programas de informática"},"4651","Comercio al por mayor de computadores, equipo periférico y programas de informática",1573]
["Actividad_Economica",{"$f":"Listas[[#This Row],[ID]]&\" \"&IF(Listas[[#This Row],[Descripcion]]=\"\",\"\",\"- \"&Listas[[#This Row],[Descripcion]])","v":"4652 - Comercio al por mayor de equipo, partes y piezas electrónicos y de telecomunicaciones"},"4652","Comercio al por mayor de equipo, partes y piezas electrónicos y de telecomunicaciones",1574]
["Actividad_Economica",{"$f":"Listas[[#This Row],[ID]]&\" \"&IF(Listas[[#This Row],[Descripcion]]=\"\",\"\",\"- \"&Listas[[#This Row],[Descripcion]])","v":"4653 - Comercio al por mayor de maquinaria y equipo agropecuarios"},"4653","Comercio al por mayor de maquinaria y equipo agropecuarios",1575]
["Actividad_Economica",{"$f":"Listas[[#This Row],[ID]]&\" \"&IF(Listas[[#This Row],[Descripcion]]=\"\",\"\",\"- \"&Listas[[#This Row],[Descripcion]])","v":"4659 - Comercio al por mayor de otros tipos de maquinaria y equipo n.c.p."},"4659","Comercio al por mayor de otros tipos de maquinaria y equipo n.c.p.",1576]
["Actividad_Economica",{"$f":"Listas[[#This Row],[ID]]&\" \"&IF(Listas[[#This Row],[Descripcion]]=\"\",\"\",\"- \"&Listas[[#This Row],[Descripcion]])","v":"4661 - Comercio al por mayor de combustibles sólidos, líquidos, gaseosos y productos conexos"},"4661","Comercio al por mayor de combustibles sólidos, líquidos, gaseosos y productos conexos",1577]
["Actividad_Economica",{"$f":"Listas[[#This Row],[ID]]&\" \"&IF(Listas[[#This Row],[Descripcion]]=\"\",\"\",\"- \"&Listas[[#This Row],[Descripcion]])","v":"4662 - Comercio al por mayor de metales y productos metalíferos"},"4662","Comercio al por mayor de metales y productos metalíferos",1578]
["Actividad_Economica",{"$f":"Listas[[#This Row],[ID]]&\" \"&IF(Listas[[#This Row],[Descripcion]]=\"\",\"\",\"- \"&Listas[[#This Row],[Descripcion]])","v":"4663 - Comercio al por mayor de materiales de construcción, artículos de ferretería, pinturas, productos de vidrio, equipo y materiales de fontanería y calefacción"},"4663","Comercio al por mayor de materiales de construcción, artículos de ferretería, pinturas, productos de vidrio, equipo y materiales de fontanería y calefacción",1579]
["Actividad_Economica",{"$f":"Listas[[#This Row],[ID]]&\" \"&IF(Listas[[#This Row],[Descripcion]]=\"\",\"\",\"- \"&Listas[[#This Row],[Descripcion]])","v":"4664 - Comercio al por mayor de productos químicos básicos, cauchos y plásticos en formas primarias y productos químicos de uso agropecuario"},"4664","Comercio al por mayor de productos químicos básicos, cauchos y plásticos en formas primarias y productos químicos de uso agropecuario",1580]
["Actividad_Economica",{"$f":"Listas[[#This Row],[ID]]&\" \"&IF(Listas[[#This Row],[Descripcion]]=\"\",\"\",\"- \"&Listas[[#This Row],[Descripcion]])","v":"4665 - Comercio al por mayor de desperdicios, desechos y chatarra"},"4665","Comercio al por mayor de desperdicios, desechos y chatarra",1581]
["Actividad_Economica",{"$f":"Listas[[#This Row],[ID]]&\" \"&IF(Listas[[#This Row],[Descripcion]]=\"\",\"\",\"- \"&Listas[[#This Row],[Descripcion]])","v":"4669 - Comercio al por mayor de otros productos n.c.p."},"4669","Comercio al por mayor de otros productos n.c.p.",1582]
["Actividad_Economica",{"$f":"Listas[[#This Row],[ID]]&\" \"&IF(Listas[[#This Row],[Descripcion]]=\"\",\"\",\"- \"&Listas[[#This Row],[Descripcion]])","v":"4690 - Comercio al por mayor no especializado"},"4690","Comercio al por mayor no especializado",1583]
["Actividad_Economica",{"$f":"Listas[[#This Row],[ID]]&\" \"&IF(Listas[[#This Row],[Descripcion]]=\"\",\"\",\"- \"&Listas[[#This Row],[Descripcion]])","v":"4711 - Comercio al por menor en establecimientos no especializados con surtido compuesto principalmente por alimentos, bebidas (alcohólicas y no alcohólicas) o tabaco."},"4711","Comercio al por menor en establecimientos no especializados con surtido compuesto principalmente por alimentos, bebidas (alcohólicas y no alcohólicas) o tabaco.",1584]
["Actividad_Economica",{"$f":"Listas[[#This Row],[ID]]&\" \"&IF(Listas[[#This Row],[Descripcion]]=\"\",\"\",\"- \"&Listas[[#This Row],[Descripcion]])","v":"4719 - Comercio al por menor en establecimientos no especializados, con surtido compuesto principalmente por productos diferentes de alimentos (víveres en general), bebidas (alcohólicas y no alcohólicas) y tabaco."},"4719","Comercio al por menor en establecimientos no especializados, con surtido compuesto principalmente por productos diferentes de alimentos (víveres en general), bebidas (alcohólicas y no alcohólicas) y tabaco.",1585]
["Actividad_Economica",{"$f":"Listas[[#This Row],[ID]]&\" \"&IF(Listas[[#This Row],[Descripcion]]=\"\",\"\",\"- \"&Listas[[#This Row],[Descripcion]])","v":"4721 - Comercio al por menor de productos agrícolas para el consumo en establecimientos especializados"},"4721","Comercio al por menor de productos agrícolas para el consumo en establecimientos especializados",1586]
["Actividad_Economica",{"$f":"Listas[[#This Row],[ID]]&\" \"&IF(Listas[[#This Row],[Descripcion]]=\"\",\"\",\"- \"&Listas[[#This Row],[Descripcion]])","v":"4722 - Comercio al por menor de leche, productos lácteos y huevos, en establecimientos especializados"},"4722","Comercio al por menor de leche, productos lácteos y huevos, en establecimientos especializados",1587]
["Actividad_Economica",{"$f":"Listas[[#This Row],[ID]]&\" \"&IF(Listas[[#This Row],[Descripcion]]=\"\",\"\",\"- \"&Listas[[#This Row],[Descripcion]])","v":"4723 - Comercio al por menor de carnes (incluye aves de corral), productos cárnicos, pescados y productos de mar, en establecimientos especializados"},"4723","Comercio al por menor de carnes (incluye aves de corral), productos cárnicos, pescados y productos de mar, en establecimientos especializados",1588]
["Actividad_Economica",{"$f":"Listas[[#This Row],[ID]]&\" \"&IF(Listas[[#This Row],[Descripcion]]=\"\",\"\",\"- \"&Listas[[#This Row],[Descripcion]])","v":"4724 - Comercio al por menor de bebidas y productos del tabaco, en establecimientos especializados"},"4724","Comercio al por menor de bebidas y productos del tabaco, en establecimientos especializados",1589]
["Actividad_Economica",{"$f":"Listas[[#This Row],[ID]]&\" \"&IF(Listas[[#This Row],[Descripcion]]=\"\",\"\",\"- \"&Listas[[#This Row],[Descripcion]])","v":"4729 - Comercio al por menor de otros productos alimenticios n.c.p., en establecimientos especializados"},"4729","Comercio al por menor de otros productos alimenticios n.c.p., en establecimientos especializados",1590]
["Actividad_Economica",{"$f":"Listas[[#This Row],[ID]]&\" \"&IF(Listas[[#This Row],[Descripcion]]=\"\",\"\",\"- \"&Listas[[#This Row],[Descripcion]])","v":"4731 - Comercio al por menor de combustible para automotores"},"4731","Comercio al por menor de combustible para automotores",1591]
["Actividad_Economica",{"$f":"Listas[[#This Row],[ID]]&\" \"&IF(Listas[[#This Row],[Descripcion]]=\"\",\"\",\"- \"&Listas[[#This Row],[Descripcion]])","v":"4732 - Comercio al por menor de lubricantes (aceites, grasas), aditivos y productos de limpieza para vehículos automotores"},"4732","Comercio al por menor de lubricantes (aceites, grasas), aditivos y productos de limpieza para vehículos automotores",1592]
["Actividad_Economica",{"$f":"Listas[[#This Row],[ID]]&\" \"&IF(Listas[[#This Row],[Descripcion]]=\"\",\"\",\"- \"&Listas[[#This Row],[Descripcion]])","v":"4741 - Comercio al por menor de computadores, equipos periféricos, programas de informática y equipos de telecomunicaciones en establecimientos especializados"},"4741","Comercio al por menor de computadores, equipos periféricos, programas de informática y equipos de telecomunicaciones en establecimientos especializados",1593]
["Actividad_Economica",{"$f":"Listas[[#This Row],[ID]]&\" \"&IF(Listas[[#This Row],[Descripcion]]=\"\",\"\",\"- \"&Listas[[#This Row],[Descripcion]])","v":"4742 - Comercio al por menor de equipos y aparatos de sonido y de video, en establecimientos especializados"},"4742","Comercio al por menor de equipos y aparatos de sonido y de video, en establecimientos especializados",1594]
["Actividad_Economica",{"$f":"Listas[[#This Row],[ID]]&\" \"&IF(Listas[[#This Row],[Descripcion]]=\"\",\"\",\"- \"&Listas[[#This Row],[Descripcion]])","v":"4751 - Comercio al por menor de productos textiles en establecimientos especializados"},"4751","Comercio al por menor de productos textiles en establecimientos especializados",1595]
["Actividad_Economica",{"$f":"Listas[[#This Row],[ID]]&\" \"&IF(Listas[[#This Row],[Descripcion]]=\"\",\"\",\"- \"&Listas[[#This Row],[Descripcion]])","v":"4752 - Comercio al por menor de artículos de ferretería, pinturas y productos de vidrio en establecimientos especializados"},"4752","Comercio al por menor de artículos de ferretería, pinturas y productos de vidrio en establecimientos especializados",1596]
["Actividad_Economica",{"$f":"Listas[[#This Row],[ID]]&\" \"&IF(Listas[[#This Row],[Descripcion]]=\"\",\"\",\"- \"&Listas[[#This Row],[Descripcion]])","v":"4753 - Comercio al por menor de tapices, alfombras y cubrimientos para paredes y pisos en establecimientos especializados"},"4753","Comercio al por menor de tapices, alfombras y cubrimientos para paredes y pisos en establecimientos especializados",1597]
["Actividad_Economica",{"$f":"Listas[[#This Row],[ID]]&\" \"&IF(Listas[[#This Row],[Descripcion]]=\"\",\"\",\"- \"&Listas[[#This Row],[Descripcion]])","v":"4754 - Comercio al por menor de electrodomésticos y gasodomésticos de uso doméstico, muebles y equipos de iluminación en establecimientos especializados."},"4754","Comercio al por menor de electrodomésticos y gasodomésticos de uso doméstico, muebles y equipos de iluminación en establecimientos especializados.",1598]
["Actividad_Economica",{"$f":"Listas[[#This Row],[ID]]&\" \"&IF(Listas[[#This Row],[Descripcion]]=\"\",\"\",\"- \"&Listas[[#This Row],[Descripcion]])","v":"4755 - Comercio al por menor de artículos y utensilios de uso doméstico en establecimientos especializados"},"4755","Comercio al por menor de artículos y utensilios de uso doméstico en establecimientos especializados",1599]
["Actividad_Economica",{"$f":"Listas[[#This Row],[ID]]&\" \"&IF(Listas[[#This Row],[Descripcion]]=\"\",\"\",\"- \"&Listas[[#This Row],[Descripcion]])","v":"4759 - Comercio al por menor de otros artículos domésticos en establecimientos especializados"},"4759","Comercio al por menor de otros artículos domésticos en establecimientos especializados",1600]
["Actividad_Economica",{"$f":"Listas[[#This Row],[ID]]&\" \"&IF(Listas[[#This Row],[Descripcion]]=\"\",\"\",\"- \"&Listas[[#This Row],[Descripcion]])","v":"4761 - Comercio al por menor de libros, periódicos, materiales y artículos de papelería y escritorio, en establecimientos especializados"},"4761","Comercio al por menor de libros, periódicos, materiales y artículos de papelería y escritorio, en establecimientos especializados",1601]
["Actividad_Economica",{"$f":"Listas[[#This Row],[ID]]&\" \"&IF(Listas[[#This Row],[Descripcion]]=\"\",\"\",\"- \"&Listas[[#This Row],[Descripcion]])","v":"4762 - Comercio al por menor de artículos deportivos, en establecimientos especializados"},"4762","Comercio al por menor de artículos deportivos, en establecimientos especializados",1602]
["Actividad_Economica",{"$f":"Listas[[#This Row],[ID]]&\" \"&IF(Listas[[#This Row],[Descripcion]]=\"\",\"\",\"- \"&Listas[[#This Row],[Descripcion]])","v":"4769 - Comercio al por menor de otros artículos culturales y de entretenimiento n.c.p. en establecimientos especializados"},"4769","Comercio al por menor de otros artículos culturales y de entretenimiento n.c.p. en establecimientos especializados",1603]
["Actividad_Economica",{"$f":"Listas[[#This Row],[ID]]&\" \"&IF(Listas[[#This Row],[Descripcion]]=\"\",\"\",\"- \"&Listas[[#This Row],[Descripcion]])","v":"4771 - Comercio al por menor de prendas de vestir y sus accesorios (incluye artículos de piel) en establecimientos especializados"},"4771","Comercio al por menor de prendas de vestir y sus accesorios (incluye artículos de piel) en establecimientos especializados",1604]
["Actividad_Economica",{"$f":"Listas[[#This Row],[ID]]&\" \"&IF(Listas[[#This Row],[Descripcion]]=\"\",\"\",\"- \"&Listas[[#This Row],[Descripcion]])","v":"4772 - Comercio al por menor de todo tipo de calzado y artículos de cuero y sucedáneos del cuero en establecimientos especializados."},"4772","Comercio al por menor de todo tipo de calzado y artículos de cuero y sucedáneos del cuero en establecimientos especializados.",1605]
["Actividad_Economica",{"$f":"Listas[[#This Row],[ID]]&\" \"&IF(Listas[[#This Row],[Descripcion]]=\"\",\"\",\"- \"&Listas[[#This Row],[Descripcion]])","v":"4773 - Comercio al por menor de productos farmacéuticos y medicinales, cosméticos y artículos de tocador en establecimientos especializados"},"4773","Comercio al por menor de productos farmacéuticos y medicinales, cosméticos y artículos de tocador en establecimientos especializados",1606]
["Actividad_Economica",{"$f":"Listas[[#This Row],[ID]]&\" \"&IF(Listas[[#This Row],[Descripcion]]=\"\",\"\",\"- \"&Listas[[#This Row],[Descripcion]])","v":"4774 - Comercio al por menor de otros productos nuevos en establecimientos especializados"},"4774","Comercio al por menor de otros productos nuevos en establecimientos especializados",1607]
["Actividad_Economica",{"$f":"Listas[[#This Row],[ID]]&\" \"&IF(Listas[[#This Row],[Descripcion]]=\"\",\"\",\"- \"&Listas[[#This Row],[Descripcion]])","v":"4775 - Comercio al por menor de artículos de segunda mano"},"4775","Comercio al por menor de artículos de segunda mano",1608]
["Actividad_Economica",{"$f":"Listas[[#This Row],[ID]]&\" \"&IF(Listas[[#This Row],[Descripcion]]=\"\",\"\",\"- \"&Listas[[#This Row],[Descripcion]])","v":"4781 - Comercio al por menor de alimentos, bebidas y tabaco, en puestos de venta móviles"},"4781","Comercio al por menor de alimentos, bebidas y tabaco, en puestos de venta móviles",1609]
["Actividad_Economica",{"$f":"Listas[[#This Row],[ID]]&\" \"&IF(Listas[[#This Row],[Descripcion]]=\"\",\"\",\"- \"&Listas[[#This Row],[Descripcion]])","v":"4782 - Comercio al por menor de productos textiles, prendas de vestir y calzado, en puestos de venta móviles"},"4782","Comercio al por menor de productos textiles, prendas de vestir y calzado, en puestos de venta móviles",1610]
["Actividad_Economica",{"$f":"Listas[[#This Row],[ID]]&\" \"&IF(Listas[[#This Row],[Descripcion]]=\"\",\"\",\"- \"&Listas[[#This Row],[Descripcion]])","v":"4789 - Comercio al por menor de otros productos en puestos de venta móviles"},"4789","Comercio al por menor de otros productos en puestos de venta móviles",1611]
["Actividad_Economica",{"$f":"Listas[[#This Row],[ID]]&\" \"&IF(Listas[[#This Row],[Descripcion]]=\"\",\"\",\"- \"&Listas[[#This Row],[Descripcion]])","v":"4791 - Comercio al por menor realizado a través de Internet"},"4791","Comercio al por menor realizado a través de Internet",1612]
["Actividad_Economica",{"$f":"Listas[[#This Row],[ID]]&\" \"&IF(Listas[[#This Row],[Descripcion]]=\"\",\"\",\"- \"&Listas[[#This Row],[Descripcion]])","v":"4792 - Comercio al por menor realizado a través de casas de venta o por correo"},"4792","Comercio al por menor realizado a través de casas de venta o por correo",1613]
["Actividad_Economica",{"$f":"Listas[[#This Row],[ID]]&\" \"&IF(Listas[[#This Row],[Descripcion]]=\"\",\"\",\"- \"&Listas[[#This Row],[Descripcion]])","v":"4799 - Otros tipos de comercio al por menor no realizado en establecimientos, puestos de venta o mercados."},"4799","Otros tipos de comercio al por menor no realizado en establecimientos, puestos de venta o mercados.",1614]
["Actividad_Economica",{"$f":"Listas[[#This Row],[ID]]&\" \"&IF(Listas[[#This Row],[Descripcion]]=\"\",\"\",\"- \"&Listas[[#This Row],[Descripcion]])","v":"4911 - Transporte férreo de pasajeros"},"4911","Transporte férreo de pasajeros",1615]
["Actividad_Economica",{"$f":"Listas[[#This Row],[ID]]&\" \"&IF(Listas[[#This Row],[Descripcion]]=\"\",\"\",\"- \"&Listas[[#This Row],[Descripcion]])","v":"4912 - Transporte férreo de carga"},"4912","Transporte férreo de carga",1616]
["Actividad_Economica",{"$f":"Listas[[#This Row],[ID]]&\" \"&IF(Listas[[#This Row],[Descripcion]]=\"\",\"\",\"- \"&Listas[[#This Row],[Descripcion]])","v":"4921 - Transporte de pasajeros"},"4921","Transporte de pasajeros",1617]
["Actividad_Economica",{"$f":"Listas[[#This Row],[ID]]&\" \"&IF(Listas[[#This Row],[Descripcion]]=\"\",\"\",\"- \"&Listas[[#This Row],[Descripcion]])","v":"4922 - Transporte mixto"},"4922","Transporte mixto",1618]
["Actividad_Economica",{"$f":"Listas[[#This Row],[ID]]&\" \"&IF(Listas[[#This Row],[Descripcion]]=\"\",\"\",\"- \"&Listas[[#This Row],[Descripcion]])","v":"4923 - Transporte de carga por carretera"},"4923","Transporte de carga por carretera",1619]
["Actividad_Economica",{"$f":"Listas[[#This Row],[ID]]&\" \"&IF(Listas[[#This Row],[Descripcion]]=\"\",\"\",\"- \"&Listas[[#This Row],[Descripcion]])","v":"4930 - Transporte por tuberías"},"4930","Transporte por tuberías",1620]
["Actividad_Economica",{"$f":"Listas[[#This Row],[ID]]&\" \"&IF(Listas[[#This Row],[Descripcion]]=\"\",\"\",\"- \"&Listas[[#This Row],[Descripcion]])","v":"5011 - Transporte de pasajeros marítimo y de cabotaje"},"5011","Transporte de pasajeros marítimo y de cabotaje",1621]
["Actividad_Economica",{"$f":"Listas[[#This Row],[ID]]&\" \"&IF(Listas[[#This Row],[Descripcion]]=\"\",\"\",\"- \"&Listas[[#This Row],[Descripcion]])","v":"5012 - Transporte de carga marítimo y de cabotaje"},"5012","Transporte de carga marítimo y de cabotaje",1622]
["Actividad_Economica",{"$f":"Listas[[#This Row],[ID]]&\" \"&IF(Listas[[#This Row],[Descripcion]]=\"\",\"\",\"- \"&Listas[[#This Row],[Descripcion]])","v":"5021 - Transporte fluvial de pasajeros"},"5021","Transporte fluvial de pasajeros",1623]
["Actividad_Economica",{"$f":"Listas[[#This Row],[ID]]&\" \"&IF(Listas[[#This Row],[Descripcion]]=\"\",\"\",\"- \"&Listas[[#This Row],[Descripcion]])","v":"5022 - Transporte fluvial de carga"},"5022","Transporte fluvial de carga",1624]
["Actividad_Economica",{"$f":"Listas[[#This Row],[ID]]&\" \"&IF(Listas[[#This Row],[Descripcion]]=\"\",\"\",\"- \"&Listas[[#This Row],[Descripcion]])","v":"5111 - Transporte aéreo nacional de pasajeros"},"5111","Transporte aéreo nacional de pasajeros",1625]
["Actividad_Economica",{"$f":"Listas[[#This Row],[ID]]&\" \"&IF(Listas[[#This Row],[Descripcion]]=\"\",\"\",\"- \"&Listas[[#This Row],[Descripcion]])","v":"5112 - Transporte aéreo internacional de pasajeros"},"5112","Transporte aéreo internacional de pasajeros",1626]
["Actividad_Economica",{"$f":"Listas[[#This Row],[ID]]&\" \"&IF(Listas[[#This Row],[Descripcion]]=\"\",\"\",\"- \"&Listas[[#This Row],[Descripcion]])","v":"5121 - Transporte aéreo nacional de carga"},"5121","Transporte aéreo nacional de carga",1627]
["Actividad_Economica",{"$f":"Listas[[#This Row],[ID]]&\" \"&IF(Listas[[#This Row],[Descripcion]]=\"\",\"\",\"- \"&Listas[[#This Row],[Descripcion]])","v":"5122 - Transporte aéreo internacional de carga"},"5122","Transporte aéreo internacional de carga",1628]
["Actividad_Economica",{"$f":"Listas[[#This Row],[ID]]&\" \"&IF(Listas[[#This Row],[Descripcion]]=\"\",\"\",\"- \"&Listas[[#This Row],[Descripcion]])","v":"5210 - Almacenamiento y depósito"},"5210","Almacenamiento y depósito",1629]
["Actividad_Economica",{"$f":"Listas[[#This Row],[ID]]&\" \"&IF(Listas[[#This Row],[Descripcion]]=\"\",\"\",\"- \"&Listas[[#This Row],[Descripcion]])","v":"5221 - Actividades de estaciones, vías y servicios complementarios para el transporte terrestre"},"5221","Actividades de estaciones, vías y servicios complementarios para el transporte terrestre",1630]
["Actividad_Economica",{"$f":"Listas[[#This Row],[ID]]&\" \"&IF(Listas[[#This Row],[Descripcion]]=\"\",\"\",\"- \"&Listas[[#This Row],[Descripcion]])","v":"5222 - Actividades de puertos y servicios complementarios para el transporte acuático"},"5222","Actividades de puertos y servicios complementarios para el transporte acuático",1631]
["Actividad_Economica",{"$f":"Listas[[#This Row],[ID]]&\" \"&IF(Listas[[#This Row],[Descripcion]]=\"\",\"\",\"- \"&Listas[[#This Row],[Descripcion]])","v":"5223 - Actividades de aeropuertos, servicios de navegación aérea y demás actividades conexas al transporte aéreo"},"5223","Actividades de aeropuertos, servicios de navegación aérea y demás actividades conexas al transporte aéreo",1632]
["Actividad_Economica",{"$f":"Listas[[#This Row],[ID]]&\" \"&IF(Listas[[#This Row],[Descripcion]]=\"\",\"\",\"- \"&Listas[[#This Row],[Descripcion]])","v":"5224 - Manipulación de carga"},"5224","Manipulación de carga",1633]
["Actividad_Economica",{"$f":"Listas[[#This Row],[ID]]&\" \"&IF(Listas[[#This Row],[Descripcion]]=\"\",\"\",\"- \"&Listas[[#This Row],[Descripcion]])","v":"5229 - Otras actividades complementarias al transporte"},"5229","Otras actividades complementarias al transporte",1634]
["Actividad_Economica",{"$f":"Listas[[#This Row],[ID]]&\" \"&IF(Listas[[#This Row],[Descripcion]]=\"\",\"\",\"- \"&Listas[[#This Row],[Descripcion]])","v":"5310 - Actividades postales nacionales"},"5310","Actividades postales nacionales",1635]
["Actividad_Economica",{"$f":"Listas[[#This Row],[ID]]&\" \"&IF(Listas[[#This Row],[Descripcion]]=\"\",\"\",\"- \"&Listas[[#This Row],[Descripcion]])","v":"5320 - Actividades de mensajería"},"5320","Actividades de mensajería",1636]
["Actividad_Economica",{"$f":"Listas[[#This Row],[ID]]&\" \"&IF(Listas[[#This Row],[Descripcion]]=\"\",\"\",\"- \"&Listas[[#This Row],[Descripcion]])","v":"5511 - Alojamiento en hoteles"},"5511","Alojamiento en hoteles",1637]
["Actividad_Economica",{"$f":"Listas[[#This Row],[ID]]&\" \"&IF(Listas[[#This Row],[Descripcion]]=\"\",\"\",\"- \"&Listas[[#This Row],[Descripcion]])","v":"5512 - Alojamiento en apartahoteles"},"5512","Alojamiento en apartahoteles",1638]
["Actividad_Economica",{"$f":"Listas[[#This Row],[ID]]&\" \"&IF(Listas[[#This Row],[Descripcion]]=\"\",\"\",\"- \"&Listas[[#This Row],[Descripcion]])","v":"5513 - Alojamiento en centros vacacionales"},"5513","Alojamiento en centros vacacionales",1639]
["Actividad_Economica",{"$f":"Listas[[#This Row],[ID]]&\" \"&IF(Listas[[#This Row],[Descripcion]]=\"\",\"\",\"- \"&Listas[[#This Row],[Descripcion]])","v":"5514 - Alojamiento rural"},"5514","Alojamiento rural",1640]
["Actividad_Economica",{"$f":"Listas[[#This Row],[ID]]&\" \"&IF(Listas[[#This Row],[Descripcion]]=\"\",\"\",\"- \"&Listas[[#This Row],[Descripcion]])","v":"5519 - Otros tipos de alojamiento para visitantes"},"5519","Otros tipos de alojamiento para visitantes",1641]
["Actividad_Economica",{"$f":"Listas[[#This Row],[ID]]&\" \"&IF(Listas[[#This Row],[Descripcion]]=\"\",\"\",\"- \"&Listas[[#This Row],[Descripcion]])","v":"5520 - Actividades de zonas de camping y parques para vehículos recreacionales"},"5520","Actividades de zonas de camping y parques para vehículos recreacionales",1642]
["Actividad_Economica",{"$f":"Listas[[#This Row],[ID]]&\" \"&IF(Listas[[#This Row],[Descripcion]]=\"\",\"\",\"- \"&Listas[[#This Row],[Descripcion]])","v":"5530 - Servicio de estancia por horas"},"5530","Servicio de estancia por horas",1643]
["Actividad_Economica",{"$f":"Listas[[#This Row],[ID]]&\" \"&IF(Listas[[#This Row],[Descripcion]]=\"\",\"\",\"- \"&Listas[[#This Row],[Descripcion]])","v":"5590 - Otros tipos de alojamiento n.c.p."},"5590","Otros tipos de alojamiento n.c.p.",1644]
["Actividad_Economica",{"$f":"Listas[[#This Row],[ID]]&\" \"&IF(Listas[[#This Row],[Descripcion]]=\"\",\"\",\"- \"&Listas[[#This Row],[Descripcion]])","v":"5611 - Expendio a la mesa de comidas preparadas"},"5611","Expendio a la mesa de comidas preparadas",1645]
["Actividad_Economica",{"$f":"Listas[[#This Row],[ID]]&\" \"&IF(Listas[[#This Row],[Descripcion]]=\"\",\"\",\"- \"&Listas[[#This Row],[Descripcion]])","v":"5612 - Expendio por autoservicio de comidas preparadas"},"5612","Expendio por autoservicio de comidas preparadas",1646]
["Actividad_Economica",{"$f":"Listas[[#This Row],[ID]]&\" \"&IF(Listas[[#This Row],[Descripcion]]=\"\",\"\",\"- \"&Listas[[#This Row],[Descripcion]])","v":"5613 - Expendio de comidas preparadas en cafeterías"},"5613","Expendio de comidas preparadas en cafeterías",1647]
["Actividad_Economica",{"$f":"Listas[[#This Row],[ID]]&\" \"&IF(Listas[[#This Row],[Descripcion]]=\"\",\"\",\"- \"&Listas[[#This Row],[Descripcion]])","v":"5619 - Otros tipos de expendio de comidas preparadas n.c.p."},"5619","Otros tipos de expendio de comidas preparadas n.c.p.",1648]
["Actividad_Economica",{"$f":"Listas[[#This Row],[ID]]&\" \"&IF(Listas[[#This Row],[Descripcion]]=\"\",\"\",\"- \"&Listas[[#This Row],[Descripcion]])","v":"5621 - Catering para eventos"},"5621","Catering para eventos",1649]
["Actividad_Economica",{"$f":"Listas[[#This Row],[ID]]&\" \"&IF(Listas[[#This Row],[Descripcion]]=\"\",\"\",\"- \"&Listas[[#This Row],[Descripcion]])","v":"5629 - Actividades de otros servicios de comidas"},"5629","Actividades de otros servicios de comidas",1650]
["Actividad_Economica",{"$f":"Listas[[#This Row],[ID]]&\" \"&IF(Listas[[#This Row],[Descripcion]]=\"\",\"\",\"- \"&Listas[[#This Row],[Descripcion]])","v":"5630 - Expendio de bebidas alcohólicas para el consumo dentro del establecimiento"},"5630","Expendio de bebidas alcohólicas para el consumo dentro del establecimiento",1651]
["Actividad_Economica",{"$f":"Listas[[#This Row],[ID]]&\" \"&IF(Listas[[#This Row],[Descripcion]]=\"\",\"\",\"- \"&Listas[[#This Row],[Descripcion]])","v":"5811 - Edición de libros"},"5811","Edición de libros",1652]
["Actividad_Economica",{"$f":"Listas[[#This Row],[ID]]&\" \"&IF(Listas[[#This Row],[Descripcion]]=\"\",\"\",\"- \"&Listas[[#This Row],[Descripcion]])","v":"5812 - Edición de directorios y listas de correo"},"5812","Edición de directorios y listas de correo",1653]
["Actividad_Economica",{"$f":"Listas[[#This Row],[ID]]&\" \"&IF(Listas[[#This Row],[Descripcion]]=\"\",\"\",\"- \"&Listas[[#This Row],[Descripcion]])","v":"5813 - Edición de periódicos, revistas y otras publicaciones periódicas"},"5813","Edición de periódicos, revistas y otras publicaciones periódicas",1654]
["Actividad_Economica",{"$f":"Listas[[#This Row],[ID]]&\" \"&IF(Listas[[#This Row],[Descripcion]]=\"\",\"\",\"- \"&Listas[[#This Row],[Descripcion]])","v":"5819 - Otros trabajos de edición"},"5819","Otros trabajos de edición",1655]
["Actividad_Economica",{"$f":"Listas[[#This Row],[ID]]&\" \"&IF(Listas[[#This Row],[Descripcion]]=\"\",\"\",\"- \"&Listas[[#This Row],[Descripcion]])","v":"5820 - Edición de programas de informática (software)"},"5820","Edición de programas de informática (software)",1656]
["Actividad_Economica",{"$f":"Listas[[#This Row],[ID]]&\" \"&IF(Listas[[#This Row],[Descripcion]]=\"\",\"\",\"- \"&Listas[[#This Row],[Descripcion]])","v":"5911 - Actividades de producción de películas cinematográficas, videos, programas, anuncios y comerciales de televisión"},"5911","Actividades de producción de películas cinematográficas, videos, programas, anuncios y comerciales de televisión",1657]
["Actividad_Economica",{"$f":"Listas[[#This Row],[ID]]&\" \"&IF(Listas[[#This Row],[Descripcion]]=\"\",\"\",\"- \"&Listas[[#This Row],[Descripcion]])","v":"5912 - Actividades de posproducción de películas cinematográficas, videos, programas, anuncios y comerciales de televisión"},"5912","Actividades de posproducción de películas cinematográficas, videos, programas, anuncios y comerciales de televisión",1658]
["Actividad_Economica",{"$f":"Listas[[#This Row],[ID]]&\" \"&IF(Listas[[#This Row],[Descripcion]]=\"\",\"\",\"- \"&Listas[[#This Row],[Descripcion]])","v":"5913 - Actividades de distribución de películas cinematográficas, videos, programas, anuncios y comerciales de televisión"},"5913","Actividades de distribución de películas cinematográficas, videos, programas, anuncios y comerciales de televisión",1659]
["Actividad_Economica",{"$f":"Listas[[#This Row],[ID]]&\" \"&IF(Listas[[#This Row],[Descripcion]]=\"\",\"\",\"- \"&Listas[[#This Row],[Descripcion]])","v":"5914 - Actividades de exhibición de películas cinematográficas y videos"},"5914","Actividades de exhibición de películas cinematográficas y videos",1660]
["Actividad_Economica",{"$f":"Listas[[#This Row],[ID]]&\" \"&IF(Listas[[#This Row],[Descripcion]]=\"\",\"\",\"- \"&Listas[[#This Row],[Descripcion]])","v":"5920 - Actividades de grabación de sonido y edición de música"},"5920","Actividades de grabación de sonido y edición de música",1661]
["Actividad_Economica",{"$f":"Listas[[#This Row],[ID]]&\" \"&IF(Listas[[#This Row],[Descripcion]]=\"\",\"\",\"- \"&Listas[[#This Row],[Descripcion]])","v":"6010 - Actividades de programación y transmisión en el servicio de radiodifusión sonora"},"6010","Actividades de programación y transmisión en el servicio de radiodifusión sonora",1662]
["Actividad_Economica",{"$f":"Listas[[#This Row],[ID]]&\" \"&IF(Listas[[#This Row],[Descripcion]]=\"\",\"\",\"- \"&Listas[[#This Row],[Descripcion]])","v":"6020 - Actividades de programación y transmisión de televisión"},"6020","Actividades de programación y transmisión de televisión",1663]
["Actividad_Economica",{"$f":"Listas[[#This Row],[ID]]&\" \"&IF(Listas[[#This Row],[Descripcion]]=\"\",\"\",\"- \"&Listas[[#This Row],[Descripcion]])","v":"6110 - Actividades de telecomunicaciones alámbricas"},"6110","Actividades de telecomunicaciones alámbricas",1664]
["Actividad_Economica",{"$f":"Listas[[#This Row],[ID]]&\" \"&IF(Listas[[#This Row],[Descripcion]]=\"\",\"\",\"- \"&Listas[[#This Row],[Descripcion]])","v":"6120 - Actividades de telecomunicaciones inalámbricas"},"6120","Actividades de telecomunicaciones inalámbricas",1665]
["Actividad_Economica",{"$f":"Listas[[#This Row],[ID]]&\" \"&IF(Listas[[#This Row],[Descripcion]]=\"\",\"\",\"- \"&Listas[[#This Row],[Descripcion]])","v":"6130 - Actividades de telecomunicación satelital"},"6130","Actividades de telecomunicación satelital",1666]
["Actividad_Economica",{"$f":"Listas[[#This Row],[ID]]&\" \"&IF(Listas[[#This Row],[Descripcion]]=\"\",\"\",\"- \"&Listas[[#This Row],[Descripcion]])","v":"6190 - Otras actividades de telecomunicaciones"},"6190","Otras actividades de telecomunicaciones",1667]
["Actividad_Economica",{"$f":"Listas[[#This Row],[ID]]&\" \"&IF(Listas[[#This Row],[Descripcion]]=\"\",\"\",\"- \"&Listas[[#This Row],[Descripcion]])","v":"6201 - Actividades de desarrollo de sistemas informáticos (planificación, análisis, diseño, programación, pruebas)"},"6201","Actividades de desarrollo de sistemas informáticos (planificación, análisis, diseño, programación, pruebas)",1668]
["Actividad_Economica",{"$f":"Listas[[#This Row],[ID]]&\" \"&IF(Listas[[#This Row],[Descripcion]]=\"\",\"\",\"- \"&Listas[[#This Row],[Descripcion]])","v":"6202 - Actividades de consultoría informática y actividades de administración de instalaciones informáticas"},"6202","Actividades de consultoría informática y actividades de administración de instalaciones informáticas",1669]
["Actividad_Economica",{"$f":"Listas[[#This Row],[ID]]&\" \"&IF(Listas[[#This Row],[Descripcion]]=\"\",\"\",\"- \"&Listas[[#This Row],[Descripcion]])","v":"6209 - Otras actividades de tecnologías de información y actividades de servicios informáticos"},"6209","Otras actividades de tecnologías de información y actividades de servicios informáticos",1670]
["Actividad_Economica",{"$f":"Listas[[#This Row],[ID]]&\" \"&IF(Listas[[#This Row],[Descripcion]]=\"\",\"\",\"- \"&Listas[[#This Row],[Descripcion]])","v":"6311 - Procesamiento de datos, alojamiento (hosting) y actividades relacionadas"},"6311","Procesamiento de datos, alojamiento (hosting) y actividades relacionadas",1671]
["Actividad_Economica",{"$f":"Listas[[#This Row],[ID]]&\" \"&IF(Listas[[#This Row],[Descripcion]]=\"\",\"\",\"- \"&Listas[[#This Row],[Descripcion]])","v":"6312 - Portales web"},"6312","Portales web",1672]
["Actividad_Economica",{"$f":"Listas[[#This Row],[ID]]&\" \"&IF(Listas[[#This Row],[Descripcion]]=\"\",\"\",\"- \"&Listas[[#This Row],[Descripcion]])","v":"6391 - Actividades de agencias de noticias"},"6391","Actividades de agencias de noticias",1673]
["Actividad_Economica",{"$f":"Listas[[#This Row],[ID]]&\" \"&IF(Listas[[#This Row],[Descripcion]]=\"\",\"\",\"- \"&Listas[[#This Row],[Descripcion]])","v":"6399 - Otras actividades de servicio de información n.c.p."},"6399","Otras actividades de servicio de información n.c.p.",1674]
["Actividad_Economica",{"$f":"Listas[[#This Row],[ID]]&\" \"&IF(Listas[[#This Row],[Descripcion]]=\"\",\"\",\"- \"&Listas[[#This Row],[Descripcion]])","v":"6411 - Banco Central"},"6411","Banco Central",1675]
["Actividad_Economica",{"$f":"Listas[[#This Row],[ID]]&\" \"&IF(Listas[[#This Row],[Descripcion]]=\"\",\"\",\"- \"&Listas[[#This Row],[Descripcion]])","v":"6412 - Bancos comerciales"},"6412","Bancos comerciales",1676]
["Actividad_Economica",{"$f":"Listas[[#This Row],[ID]]&\" \"&IF(Listas[[#This Row],[Descripcion]]=\"\",\"\",\"- \"&Listas[[#This Row],[Descripcion]])","v":"6421 - Actividades de las corporaciones financieras"},"6421","Actividades de las corporaciones financieras",1677]
["Actividad_Economica",{"$f":"Listas[[#This Row],[ID]]&\" \"&IF(Listas[[#This Row],[Descripcion]]=\"\",\"\",\"- \"&Listas[[#This Row],[Descripcion]])","v":"6422 - Actividades de las compañías de financiamiento"},"6422","Actividades de las compañías de financiamiento",1678]
["Actividad_Economica",{"$f":"Listas[[#This Row],[ID]]&\" \"&IF(Listas[[#This Row],[Descripcion]]=\"\",\"\",\"- \"&Listas[[#This Row],[Descripcion]])","v":"6423 - Banca de segundo piso"},"6423","Banca de segundo piso",1679]
["Actividad_Economica",{"$f":"Listas[[#This Row],[ID]]&\" \"&IF(Listas[[#This Row],[Descripcion]]=\"\",\"\",\"- \"&Listas[[#This Row],[Descripcion]])","v":"6424 - Actividades de las cooperativas financieras"},"6424","Actividades de las cooperativas financieras",1680]
["Actividad_Economica",{"$f":"Listas[[#This Row],[ID]]&\" \"&IF(Listas[[#This Row],[Descripcion]]=\"\",\"\",\"- \"&Listas[[#This Row],[Descripcion]])","v":"6431 - Fideicomisos, fondos y entidades financieras similares"},"6431","Fideicomisos, fondos y entidades financieras similares",1681]
["Actividad_Economica",{"$f":"Listas[[#This Row],[ID]]&\" \"&IF(Listas[[#This Row],[Descripcion]]=\"\",\"\",\"- \"&Listas[[#This Row],[Descripcion]])","v":"6432 - Fondos de cesantías"},"6432","Fondos de cesantías",1682]
["Actividad_Economica",{"$f":"Listas[[#This Row],[ID]]&\" \"&IF(Listas[[#This Row],[Descripcion]]=\"\",\"\",\"- \"&Listas[[#This Row],[Descripcion]])","v":"6491 - Leasing financiero (arrendamiento financiero)"},"6491","Leasing financiero (arrendamiento financiero)",1683]
["Actividad_Economica",{"$f":"Listas[[#This Row],[ID]]&\" \"&IF(Listas[[#This Row],[Descripcion]]=\"\",\"\",\"- \"&Listas[[#This Row],[Descripcion]])","v":"6492 - Actividades financieras de fondos de empleados y otras formas asociativas del sector solidario"},"6492","Actividades financieras de fondos de empleados y otras formas asociativas del sector solidario",1684]
["Actividad_Economica",{"$f":"Listas[[#This Row],[ID]]&\" \"&IF(Listas[[#This Row],[Descripcion]]=\"\",\"\",\"- \"&Listas[[#This Row],[Descripcion]])","v":"6493 - Actividades de compra de cartera o factoring"},"6493","Actividades de compra de cartera o factoring",1685]
["Actividad_Economica",{"$f":"Listas[[#This Row],[ID]]&\" \"&IF(Listas[[#This Row],[Descripcion]]=\"\",\"\",\"- \"&Listas[[#This Row],[Descripcion]])","v":"6494 - Otras actividades de distribución de fondos"},"6494","Otras actividades de distribución de fondos",1686]
["Actividad_Economica",{"$f":"Listas[[#This Row],[ID]]&\" \"&IF(Listas[[#This Row],[Descripcion]]=\"\",\"\",\"- \"&Listas[[#This Row],[Descripcion]])","v":"6495 - Instituciones especiales oficiales"},"6495","Instituciones especiales oficiales",1687]
["Actividad_Economica",{"$f":"Listas[[#This Row],[ID]]&\" \"&IF(Listas[[#This Row],[Descripcion]]=\"\",\"\",\"- \"&Listas[[#This Row],[Descripcion]])","v":"6496 - Capitalización"},"6496","Capitalización",1688]
["Actividad_Economica",{"$f":"Listas[[#This Row],[ID]]&\" \"&IF(Listas[[#This Row],[Descripcion]]=\"\",\"\",\"- \"&Listas[[#This Row],[Descripcion]])","v":"6499 - Otras actividades de servicio financiero, excepto las de seguros y pensiones n.c.p."},"6499","Otras actividades de servicio financiero, excepto las de seguros y pensiones n.c.p.",1689]
["Actividad_Economica",{"$f":"Listas[[#This Row],[ID]]&\" \"&IF(Listas[[#This Row],[Descripcion]]=\"\",\"\",\"- \"&Listas[[#This Row],[Descripcion]])","v":"6511 - Seguros generales"},"6511","Seguros generales",1690]
["Actividad_Economica",{"$f":"Listas[[#This Row],[ID]]&\" \"&IF(Listas[[#This Row],[Descripcion]]=\"\",\"\",\"- \"&Listas[[#This Row],[Descripcion]])","v":"6512 - Seguros de vida"},"6512","Seguros de vida",1691]
["Actividad_Economica",{"$f":"Listas[[#This Row],[ID]]&\" \"&IF(Listas[[#This Row],[Descripcion]]=\"\",\"\",\"- \"&Listas[[#This Row],[Descripcion]])","v":"6513 - Reaseguros"},"6513","Reaseguros",1692]
["Actividad_Economica",{"$f":"Listas[[#This Row],[ID]]&\" \"&IF(Listas[[#This Row],[Descripcion]]=\"\",\"\",\"- \"&Listas[[#This Row],[Descripcion]])","v":"6514 - Capitalización"},"6514","Capitalización",1693]
["Actividad_Economica",{"$f":"Listas[[#This Row],[ID]]&\" \"&IF(Listas[[#This Row],[Descripcion]]=\"\",\"\",\"- \"&Listas[[#This Row],[Descripcion]])","v":"6515 - Seguros de salud"},"6515","Seguros de salud",1694]
["Actividad_Economica",{"$f":"Listas[[#This Row],[ID]]&\" \"&IF(Listas[[#This Row],[Descripcion]]=\"\",\"\",\"- \"&Listas[[#This Row],[Descripcion]])","v":"6521 - Servicios de seguros sociales de salud"},"6521","Servicios de seguros sociales de salud",1695]
["Actividad_Economica",{"$f":"Listas[[#This Row],[ID]]&\" \"&IF(Listas[[#This Row],[Descripcion]]=\"\",\"\",\"- \"&Listas[[#This Row],[Descripcion]])","v":"6522 - Servicios de seguros sociales en riesgos laborales"},"6522","Servicios de seguros sociales en riesgos laborales",1696]
["Actividad_Economica",{"$f":"Listas[[#This Row],[ID]]&\" \"&IF(Listas[[#This Row],[Descripcion]]=\"\",\"\",\"- \"&Listas[[#This Row],[Descripcion]])","v":"6523 - Servicios de seguros sociales en riesgos familia"},"6523","Servicios de seguros sociales en riesgos familia",1697]
["Actividad_Economica",{"$f":"Listas[[#This Row],[ID]]&\" \"&IF(Listas[[#This Row],[Descripcion]]=\"\",\"\",\"- \"&Listas[[#This Row],[Descripcion]])","v":"6531 - Régimen de prima media con prestación definida (RPM)"},"6531","Régimen de prima media con prestación definida (RPM)",1698]
["Actividad_Economica",{"$f":"Listas[[#This Row],[ID]]&\" \"&IF(Listas[[#This Row],[Descripcion]]=\"\",\"\",\"- \"&Listas[[#This Row],[Descripcion]])","v":"6532 - Régimen de ahorro con solidaridad (RAIS)"},"6532","Régimen de ahorro con solidaridad (RAIS)",1699]
["Actividad_Economica",{"$f":"Listas[[#This Row],[ID]]&\" \"&IF(Listas[[#This Row],[Descripcion]]=\"\",\"\",\"- \"&Listas[[#This Row],[Descripcion]])","v":"6611 - Administración de mercados financieros"},"6611","Administración de mercados financieros",1700]
["Actividad_Economica",{"$f":"Listas[[#This Row],[ID]]&\" \"&IF(Listas[[#This Row],[Descripcion]]=\"\",\"\",\"- \"&Listas[[#This Row],[Descripcion]])","v":"6612 - Corretaje de valores y de contratos de productos básicos"},"6612","Corretaje de valores y de contratos de productos básicos",1701]
["Actividad_Economica",{"$f":"Listas[[#This Row],[ID]]&\" \"&IF(Listas[[#This Row],[Descripcion]]=\"\",\"\",\"- \"&Listas[[#This Row],[Descripcion]])","v":"6613 - Otras actividades relacionadas con el mercado de valores"},"6613","Otras actividades relacionadas con el mercado de valores",1702]
["Actividad_Economica",{"$f":"Listas[[#This Row],[ID]]&\" \"&IF(Listas[[#This Row],[Descripcion]]=\"\",\"\",\"- \"&Listas[[#This Row],[Descripcion]])","v":"6614 - Actividades de las sociedades de intermediación cambiaria y de servicios financieros especiales"},"6614","Actividades de las sociedades de intermediación cambiaria y de servicios financieros especiales",1703]
["Actividad_Economica",{"$f":"Listas[[#This Row],[ID]]&\" \"&IF(Listas[[#This Row],[Descripcion]]=\"\",\"\",\"- \"&Listas[[#This Row],[Descripcion]])","v":"6615 - Actividades de los profesionales de compra y venta de divisas"},"6615","Actividades de los profesionales de compra y venta de divisas",1704]
["Actividad_Economica",{"$f":"Listas[[#This Row],[ID]]&\" \"&IF(Listas[[#This Row],[Descripcion]]=\"\",\"\",\"- \"&Listas[[#This Row],[Descripcion]])","v":"6619 - Otras actividades auxiliares de las actividades de servicios financieros n.c.p."},"6619","Otras actividades auxiliares de las actividades de servicios financieros n.c.p.",1705]
["Actividad_Economica",{"$f":"Listas[[#This Row],[ID]]&\" \"&IF(Listas[[#This Row],[Descripcion]]=\"\",\"\",\"- \"&Listas[[#This Row],[Descripcion]])","v":"6621 - Actividades de agentes y corredores de seguros"},"6621","Actividades de agentes y corredores de seguros",1706]
["Actividad_Economica",{"$f":"Listas[[#This Row],[ID]]&\" \"&IF(Listas[[#This Row],[Descripcion]]=\"\",\"\",\"- \"&Listas[[#This Row],[Descripcion]])","v":"6629 - Evaluación de riesgos y daños, y otras actividades de servicios auxiliares"},"6629","Evaluación de riesgos y daños, y otras actividades de servicios auxiliares",1707]
["Actividad_Economica",{"$f":"Listas[[#This Row],[ID]]&\" \"&IF(Listas[[#This Row],[Descripcion]]=\"\",\"\",\"- \"&Listas[[#This Row],[Descripcion]])","v":"6630 - Actividades de administración de fondos"},"6630","Actividades de administración de fondos",1708]
["Actividad_Economica",{"$f":"Listas[[#This Row],[ID]]&\" \"&IF(Listas[[#This Row],[Descripcion]]=\"\",\"\",\"- \"&Listas[[#This Row],[Descripcion]])","v":"6810 - Actividades inmobiliarias realizadas con bienes propios o arrendados"},"6810","Actividades inmobiliarias realizadas con bienes propios o arrendados",1709]
["Actividad_Economica",{"$f":"Listas[[#This Row],[ID]]&\" \"&IF(Listas[[#This Row],[Descripcion]]=\"\",\"\",\"- \"&Listas[[#This Row],[Descripcion]])","v":"6820 - Actividades inmobiliarias realizadas a cambio de una retribución o por contrata"},"6820","Actividades inmobiliarias realizadas a cambio de una retribución o por contrata",1710]
["Actividad_Economica",{"$f":"Listas[[#This Row],[ID]]&\" \"&IF(Listas[[#This Row],[Descripcion]]=\"\",\"\",\"- \"&Listas[[#This Row],[Descripcion]])","v":"6910 - Actividades jurídicas"},"6910","Actividades jurídicas",1711]
["Actividad_Economica",{"$f":"Listas[[#This Row],[ID]]&\" \"&IF(Listas[[#This Row],[Descripcion]]=\"\",\"\",\"- \"&Listas[[#This Row],[Descripcion]])","v":"6920 - Actividades de contabilidad, teneduría de libros, auditoría financiera y asesoría tributaria"},"6920","Actividades de contabilidad, teneduría de libros, auditoría financiera y asesoría tributaria",1712]
["Actividad_Economica",{"$f":"Listas[[#This Row],[ID]]&\" \"&IF(Listas[[#This Row],[Descripcion]]=\"\",\"\",\"- \"&Listas[[#This Row],[Descripcion]])","v":"7010 - Actividades de administración empresarial"},"7010","Actividades de administración empresarial",1713]
["Actividad_Economica",{"$f":"Listas[[#This Row],[ID]]&\" \"&IF(Listas[[#This Row],[Descripcion]]=\"\",\"\",\"- \"&Listas[[#This Row],[Descripcion]])","v":"7020 - Actividades de consultoría de gestión"},"7020","Actividades de consultoría de gestión",1714]
["Actividad_Economica",{"$f":"Listas[[#This Row],[ID]]&\" \"&IF(Listas[[#This Row],[Descripcion]]=\"\",\"\",\"- \"&Listas[[#This Row],[Descripcion]])","v":"7110 - Actividades de arquitectura e ingeniería y otras actividades conexas de consultoría técnica"},"7110","Actividades de arquitectura e ingeniería y otras actividades conexas de consultoría técnica",1715]
["Actividad_Economica",{"$f":"Listas[[#This Row],[ID]]&\" \"&IF(Listas[[#This Row],[Descripcion]]=\"\",\"\",\"- \"&Listas[[#This Row],[Descripcion]])","v":"7111 - Actividades de arquitectura"},"7111","Actividades de arquitectura",1716]
["Actividad_Economica",{"$f":"Listas[[#This Row],[ID]]&\" \"&IF(Listas[[#This Row],[Descripcion]]=\"\",\"\",\"- \"&Listas[[#This Row],[Descripcion]])","v":"7112 - Actividades de ingeniería y otras actividades conexas de consultoría técnica"},"7112","Actividades de ingeniería y otras actividades conexas de consultoría técnica",1717]
["Actividad_Economica",{"$f":"Listas[[#This Row],[ID]]&\" \"&IF(Listas[[#This Row],[Descripcion]]=\"\",\"\",\"- \"&Listas[[#This Row],[Descripcion]])","v":"7120 - Ensayos y análisis técnicos"},"7120","Ensayos y análisis técnicos",1718]
["Actividad_Economica",{"$f":"Listas[[#This Row],[ID]]&\" \"&IF(Listas[[#This Row],[Descripcion]]=\"\",\"\",\"- \"&Listas[[#This Row],[Descripcion]])","v":"7210 - Investigaciones y desarrollo experimental en el campo de las ciencias naturales y la ingeniería"},"7210","Investigaciones y desarrollo experimental en el campo de las ciencias naturales y la ingeniería",1719]
["Actividad_Economica",{"$f":"Listas[[#This Row],[ID]]&\" \"&IF(Listas[[#This Row],[Descripcion]]=\"\",\"\",\"- \"&Listas[[#This Row],[Descripcion]])","v":"7220 - Investigaciones y desarrollo experimental en el campo de las ciencias sociales y las humanidades"},"7220","Investigaciones y desarrollo experimental en el campo de las ciencias sociales y las humanidades",1720]
["Actividad_Economica",{"$f":"Listas[[#This Row],[ID]]&\" \"&IF(Listas[[#This Row],[Descripcion]]=\"\",\"\",\"- \"&Listas[[#This Row],[Descripcion]])","v":"7310 - Publicidad"},"7310","Publicidad",1721]
["Actividad_Economica",{"$f":"Listas[[#This Row],[ID]]&\" \"&IF(Listas[[#This Row],[Descripcion]]=\"\",\"\",\"- \"&Listas[[#This Row],[Descripcion]])","v":"7320 - Estudios de mercado y realización de encuestas de opinión pública"},"7320","Estudios de mercado y realización de encuestas de opinión pública",1722]
["Actividad_Economica",{"$f":"Listas[[#This Row],[ID]]&\" \"&IF(Listas[[#This Row],[Descripcion]]=\"\",\"\",\"- \"&Listas[[#This Row],[Descripcion]])","v":"7410 - Actividades especializadas de diseño"},"7410","Actividades especializadas de diseño",1723]
["Actividad_Economica",{"$f":"Listas[[#This Row],[ID]]&\" \"&IF(Listas[[#This Row],[Descripcion]]=\"\",\"\",\"- \"&Listas[[#This Row],[Descripcion]])","v":"7420 - Actividades de fotografía"},"7420","Actividades de fotografía",1724]
["Actividad_Economica",{"$f":"Listas[[#This Row],[ID]]&\" \"&IF(Listas[[#This Row],[Descripcion]]=\"\",\"\",\"- \"&Listas[[#This Row],[Descripcion]])","v":"7490 - Otras actividades profesionales, científicas y técnicas n.c.p."},"7490","Otras actividades profesionales, científicas y técnicas n.c.p.",1725]
["Actividad_Economica",{"$f":"Listas[[#This Row],[ID]]&\" \"&IF(Listas[[#This Row],[Descripcion]]=\"\",\"\",\"- \"&Listas[[#This Row],[Descripcion]])","v":"7500 - Actividades veterinarias"},"7500","Actividades veterinarias",1726]
["Actividad_Economica",{"$f":"Listas[[#This Row],[ID]]&\" \"&IF(Listas[[#This Row],[Descripcion]]=\"\",\"\",\"- \"&Listas[[#This Row],[Descripcion]])","v":"7710 - Alquiler y arrendamiento de vehículos automotores"},"7710","Alquiler y arrendamiento de vehículos automotores",1727]
["Actividad_Economica",{"$f":"Listas[[#This Row],[ID]]&\" \"&IF(Listas[[#This Row],[Descripcion]]=\"\",\"\",\"- \"&Listas[[#This Row],[Descripcion]])","v":"7721 - Alquiler y arrendamiento de equipo recreativo y deportivo"},"7721","Alquiler y arrendamiento de equipo recreativo y deportivo",1728]
["Actividad_Economica",{"$f":"Listas[[#This Row],[ID]]&\" \"&IF(Listas[[#This Row],[Descripcion]]=\"\",\"\",\"- \"&Listas[[#This Row],[Descripcion]])","v":"7722 - Alquiler de videos y discos"},"7722","Alquiler de videos y discos",1729]
["Actividad_Economica",{"$f":"Listas[[#This Row],[ID]]&\" \"&IF(Listas[[#This Row],[Descripcion]]=\"\",\"\",\"- \"&Listas[[#This Row],[Descripcion]])","v":"7729 - Alquiler y arrendamiento de otros efectos personales y enseres domésticos n.c.p."},"7729","Alquiler y arrendamiento de otros efectos personales y enseres domésticos n.c.p.",1730]
["Actividad_Economica",{"$f":"Listas[[#This Row],[ID]]&\" \"&IF(Listas[[#This Row],[Descripcion]]=\"\",\"\",\"- \"&Listas[[#This Row],[Descripcion]])","v":"7730 - Alquiler y arrendamiento de otros tipos de maquinaria, equipo y bienes tangibles n.c.p."},"7730","Alquiler y arrendamiento de otros tipos de maquinaria, equipo y bienes tangibles n.c.p.",1731]
["Actividad_Economica",{"$f":"Listas[[#This Row],[ID]]&\" \"&IF(Listas[[#This Row],[Descripcion]]=\"\",\"\",\"- \"&Listas[[#This Row],[Descripcion]])","v":"7740 - Arrendamiento de propiedad intelectual y productos similares, excepto obras protegidas por derechos de autor"},"7740","Arrendamiento de propiedad intelectual y productos similares, excepto obras protegidas por derechos de autor",1732]
["Actividad_Economica",{"$f":"Listas[[#This Row],[ID]]&\" \"&IF(Listas[[#This Row],[Descripcion]]=\"\",\"\",\"- \"&Listas[[#This Row],[Descripcion]])","v":"7810 - Actividades de agencias de gestión y colocación empleo"},"7810","Actividades de agencias de gestión y colocación empleo",1733]
["Actividad_Economica",{"$f":"Listas[[#This Row],[ID]]&\" \"&IF(Listas[[#This Row],[Descripcion]]=\"\",\"\",\"- \"&Listas[[#This Row],[Descripcion]])","v":"7820 - Actividades de empresas de servicios temporales"},"7820","Actividades de empresas de servicios temporales",1734]
["Actividad_Economica",{"$f":"Listas[[#This Row],[ID]]&\" \"&IF(Listas[[#This Row],[Descripcion]]=\"\",\"\",\"- \"&Listas[[#This Row],[Descripcion]])","v":"7830 - Otras actividades de provisión de talento humano"},"7830","Otras actividades de provisión de talento humano",1735]
["Actividad_Economica",{"$f":"Listas[[#This Row],[ID]]&\" \"&IF(Listas[[#This Row],[Descripcion]]=\"\",\"\",\"- \"&Listas[[#This Row],[Descripcion]])","v":"7911 - Actividades de las agencias de viaje"},"7911","Actividades de las agencias de viaje",1736]
["Actividad_Economica",{"$f":"Listas[[#This Row],[ID]]&\" \"&IF(Listas[[#This Row],[Descripcion]]=\"\",\"\",\"- \"&Listas[[#This Row],[Descripcion]])","v":"7912 - Actividades de operadores turísticos"},"7912","Actividades de operadores turísticos",1737]
["Actividad_Economica",{"$f":"Listas[[#This Row],[ID]]&\" \"&IF(Listas[[#This Row],[Descripcion]]=\"\",\"\",\"- \"&Listas[[#This Row],[Descripcion]])","v":"7990 - Otros servicios de reserva y actividades relacionadas"},"7990","Otros servicios de reserva y actividades relacionadas",1738]
["Actividad_Economica",{"$f":"Listas[[#This Row],[ID]]&\" \"&IF(Listas[[#This Row],[Descripcion]]=\"\",\"\",\"- \"&Listas[[#This Row],[Descripcion]])","v":"8010 - Actividades de seguridad privada"},"8010","Actividades de seguridad privada",1739]
["Actividad_Economica",{"$f":"Listas[[#This Row],[ID]]&\" \"&IF(Listas[[#This Row],[Descripcion]]=\"\",\"\",\"- \"&Listas[[#This Row],[Descripcion]])","v":"8020 - Actividades de servicios de sistemas de seguridad"},"8020","Actividades de servicios de sistemas de seguridad",1740]
["Actividad_Economica",{"$f":"Listas[[#This Row],[ID]]&\" \"&IF(Listas[[#This Row],[Descripcion]]=\"\",\"\",\"- \"&Listas[[#This Row],[Descripcion]])","v":"8030 - Actividades de detectives e investigadores privados"},"8030","Actividades de detectives e investigadores privados",1741]
["Actividad_Economica",{"$f":"Listas[[#This Row],[ID]]&\" \"&IF(Listas[[#This Row],[Descripcion]]=\"\",\"\",\"- \"&Listas[[#This Row],[Descripcion]])","v":"8110 - Actividades combinadas de apoyo a instalaciones"},"8110","Actividades combinadas de apoyo a instalaciones",1742]
["Actividad_Economica",{"$f":"Listas[[#This Row],[ID]]&\" \"&IF(Listas[[#This Row],[Descripcion]]=\"\",\"\",\"- \"&Listas[[#This Row],[Descripcion]])","v":"8121 - Limpieza general interior de edificios"},"8121","Limpieza general interior de edificios",1743]
["Actividad_Economica",{"$f":"Listas[[#This Row],[ID]]&\" \"&IF(Listas[[#This Row],[Descripcion]]=\"\",\"\",\"- \"&Listas[[#This Row],[Descripcion]])","v":"8129 - Otras actividades de limpieza de edificios e instalaciones industriales"},"8129","Otras actividades de limpieza de edificios e instalaciones industriales",1744]
["Actividad_Economica",{"$f":"Listas[[#This Row],[ID]]&\" \"&IF(Listas[[#This Row],[Descripcion]]=\"\",\"\",\"- \"&Listas[[#This Row],[Descripcion]])","v":"8130 - Actividades de paisajismo y servicios de mantenimiento conexos"},"8130","Actividades de paisajismo y servicios de mantenimiento conexos",1745]
["Actividad_Economica",{"$f":"Listas[[#This Row],[ID]]&\" \"&IF(Listas[[#This Row],[Descripcion]]=\"\",\"\",\"- \"&Listas[[#This Row],[Descripcion]])","v":"8211 - Actividades combinadas de servicios administrativos de oficina"},"8211","Actividades combinadas de servicios administrativos de oficina",1746]
["Actividad_Economica",{"$f":"Listas[[#This Row],[ID]]&\" \"&IF(Listas[[#This Row],[Descripcion]]=\"\",\"\",\"- \"&Listas[[#This Row],[Descripcion]])","v":"8219 - Fotocopiado, preparación de documentos y otras actividades especializadas de apoyo a oficina"},"8219","Fotocopiado, preparación de documentos y otras actividades especializadas de apoyo a oficina",1747]
["Actividad_Economica",{"$f":"Listas[[#This Row],[ID]]&\" \"&IF(Listas[[#This Row],[Descripcion]]=\"\",\"\",\"- \"&Listas[[#This Row],[Descripcion]])","v":"8220 - Actividades de centros de llamadas (Call center)"},"8220","Actividades de centros de llamadas (Call center)",1748]
["Actividad_Economica",{"$f":"Listas[[#This Row],[ID]]&\" \"&IF(Listas[[#This Row],[Descripcion]]=\"\",\"\",\"- \"&Listas[[#This Row],[Descripcion]])","v":"8230 - Organización de convenciones y eventos comerciales"},"8230","Organización de convenciones y eventos comerciales",1749]
["Actividad_Economica",{"$f":"Listas[[#This Row],[ID]]&\" \"&IF(Listas[[#This Row],[Descripcion]]=\"\",\"\",\"- \"&Listas[[#This Row],[Descripcion]])","v":"8291 - Actividades de agencias de cobranza y oficinas de calificación crediticia"},"8291","Actividades de agencias de cobranza y oficinas de calificación crediticia",1750]
["Actividad_Economica",{"$f":"Listas[[#This Row],[ID]]&\" \"&IF(Listas[[#This Row],[Descripcion]]=\"\",\"\",\"- \"&Listas[[#This Row],[Descripcion]])","v":"8292 - Actividades de envase y empaque"},"8292","Actividades de envase y empaque",1751]
["Actividad_Economica",{"$f":"Listas[[#This Row],[ID]]&\" \"&IF(Listas[[#This Row],[Descripcion]]=\"\",\"\",\"- \"&Listas[[#This Row],[Descripcion]])","v":"8299 - Otras actividades de servicio de apoyo a las empresas n.c.p."},"8299","Otras actividades de servicio de apoyo a las empresas n.c.p.",1752]
["Actividad_Economica",{"$f":"Listas[[#This Row],[ID]]&\" \"&IF(Listas[[#This Row],[Descripcion]]=\"\",\"\",\"- \"&Listas[[#This Row],[Descripcion]])","v":"8411 - Actividades legislativas de la administración pública"},"8411","Actividades legislativas de la administración pública",1753]
["Actividad_Economica",{"$f":"Listas[[#This Row],[ID]]&\" \"&IF(Listas[[#This Row],[Descripcion]]=\"\",\"\",\"- \"&Listas[[#This Row],[Descripcion]])","v":"8412 - Actividades ejecutivas de la administración pública"},"8412","Actividades ejecutivas de la administración pública",1754]
["Actividad_Economica",{"$f":"Listas[[#This Row],[ID]]&\" \"&IF(Listas[[#This Row],[Descripcion]]=\"\",\"\",\"- \"&Listas[[#This Row],[Descripcion]])","v":"8413 - Regulación de las actividades de organismos que prestan servicios de salud, educativos, culturales y otros servicios sociales, excepto servicios de seguridad social"},"8413","Regulación de las actividades de organismos que prestan servicios de salud, educativos, culturales y otros servicios sociales, excepto servicios de seguridad social",1755]
["Actividad_Economica",{"$f":"Listas[[#This Row],[ID]]&\" \"&IF(Listas[[#This Row],[Descripcion]]=\"\",\"\",\"- \"&Listas[[#This Row],[Descripcion]])","v":"8414 - Actividades reguladoras y facilitadoras de la actividad económica"},"8414","Actividades reguladoras y facilitadoras de la actividad económica",1756]
["Actividad_Economica",{"$f":"Listas[[#This Row],[ID]]&\" \"&IF(Listas[[#This Row],[Descripcion]]=\"\",\"\",\"- \"&Listas[[#This Row],[Descripcion]])","v":"8415 - Actividades de los órganos de control y otras instituciones."},"8415","Actividades de los órganos de control y otras instituciones.",1757]
["Actividad_Economica",{"$f":"Listas[[#This Row],[ID]]&\" \"&IF(Listas[[#This Row],[Descripcion]]=\"\",\"\",\"- \"&Listas[[#This Row],[Descripcion]])","v":"8421 - Relaciones exteriores"},"8421","Relaciones exteriores",1758]
["Actividad_Economica",{"$f":"Listas[[#This Row],[ID]]&\" \"&IF(Listas[[#This Row],[Descripcion]]=\"\",\"\",\"- \"&Listas[[#This Row],[Descripcion]])","v":"8422 - Actividades de defensa"},"8422","Actividades de defensa",1759]
["Actividad_Economica",{"$f":"Listas[[#This Row],[ID]]&\" \"&IF(Listas[[#This Row],[Descripcion]]=\"\",\"\",\"- \"&Listas[[#This Row],[Descripcion]])","v":"8423 - Orden público y actividades de seguridad"},"8423","Orden público y actividades de seguridad",1760]
["Actividad_Economica",{"$f":"Listas[[#This Row],[ID]]&\" \"&IF(Listas[[#This Row],[Descripcion]]=\"\",\"\",\"- \"&Listas[[#This Row],[Descripcion]])","v":"8424 - Administración de justicia"},"8424","Administración de justicia",1761]
["Actividad_Economica",{"$f":"Listas[[#This Row],[ID]]&\" \"&IF(Listas[[#This Row],[Descripcion]]=\"\",\"\",\"- \"&Listas[[#This Row],[Descripcion]])","v":"8430 - Actividades de planes de seguridad social de afiliación obligatoria"},"8430","Actividades de planes de seguridad social de afiliación obligatoria",1762]
["Actividad_Economica",{"$f":"Listas[[#This Row],[ID]]&\" \"&IF(Listas[[#This Row],[Descripcion]]=\"\",\"\",\"- \"&Listas[[#This Row],[Descripcion]])","v":"8511 - Educación de la primera infancia"},"8511","Educación de la primera infancia",1763]
["Actividad_Economica",{"$f":"Listas[[#This Row],[ID]]&\" \"&IF(Listas[[#This Row],[Descripcion]]=\"\",\"\",\"- \"&Listas[[#This Row],[Descripcion]])","v":"8512 - Educación preescolar"},"8512","Educación preescolar",1764]
["Actividad_Economica",{"$f":"Listas[[#This Row],[ID]]&\" \"&IF(Listas[[#This Row],[Descripcion]]=\"\",\"\",\"- \"&Listas[[#This Row],[Descripcion]])","v":"8513 - Educación básica primaria"},"8513","Educación básica primaria",1765]
["Actividad_Economica",{"$f":"Listas[[#This Row],[ID]]&\" \"&IF(Listas[[#This Row],[Descripcion]]=\"\",\"\",\"- \"&Listas[[#This Row],[Descripcion]])","v":"8521 - Educación básica secundaria"},"8521","Educación básica secundaria",1766]
["Actividad_Economica",{"$f":"Listas[[#This Row],[ID]]&\" \"&IF(Listas[[#This Row],[Descripcion]]=\"\",\"\",\"- \"&Listas[[#This Row],[Descripcion]])","v":"8522 - Educación media académica"},"8522","Educación media académica",1767]
["Actividad_Economica",{"$f":"Listas[[#This Row],[ID]]&\" \"&IF(Listas[[#This Row],[Descripcion]]=\"\",\"\",\"- \"&Listas[[#This Row],[Descripcion]])","v":"8523 - Educación media técnica"},"8523","Educación media técnica",1768]
["Actividad_Economica",{"$f":"Listas[[#This Row],[ID]]&\" \"&IF(Listas[[#This Row],[Descripcion]]=\"\",\"\",\"- \"&Listas[[#This Row],[Descripcion]])","v":"8530 - Establecimientos que combinan diferentes niveles de educación"},"8530","Establecimientos que combinan diferentes niveles de educación",1769]
["Actividad_Economica",{"$f":"Listas[[#This Row],[ID]]&\" \"&IF(Listas[[#This Row],[Descripcion]]=\"\",\"\",\"- \"&Listas[[#This Row],[Descripcion]])","v":"8541 - Educación técnica profesional"},"8541","Educación técnica profesional",1770]
["Actividad_Economica",{"$f":"Listas[[#This Row],[ID]]&\" \"&IF(Listas[[#This Row],[Descripcion]]=\"\",\"\",\"- \"&Listas[[#This Row],[Descripcion]])","v":"8542 - Educación tecnológica"},"8542","Educación tecnológica",1771]
["Actividad_Economica",{"$f":"Listas[[#This Row],[ID]]&\" \"&IF(Listas[[#This Row],[Descripcion]]=\"\",\"\",\"- \"&Listas[[#This Row],[Descripcion]])","v":"8543 - Educación de instituciones universitarias o de escuelas tecnológicas"},"8543","Educación de instituciones universitarias o de escuelas tecnológicas",1772]
["Actividad_Economica",{"$f":"Listas[[#This Row],[ID]]&\" \"&IF(Listas[[#This Row],[Descripcion]]=\"\",\"\",\"- \"&Listas[[#This Row],[Descripcion]])","v":"8544 - Educación de universidades"},"8544","Educación de universidades",1773]
["Actividad_Economica",{"$f":"Listas[[#This Row],[ID]]&\" \"&IF(Listas[[#This Row],[Descripcion]]=\"\",\"\",\"- \"&Listas[[#This Row],[Descripcion]])","v":"8551 - Formación para el trabajo"},"8551","Formación para el trabajo",1774]
["Actividad_Economica",{"$f":"Listas[[#This Row],[ID]]&\" \"&IF(Listas[[#This Row],[Descripcion]]=\"\",\"\",\"- \"&Listas[[#This Row],[Descripcion]])","v":"8552 - Enseñanza deportiva y recreativa"},"8552","Enseñanza deportiva y recreativa",1775]
["Actividad_Economica",{"$f":"Listas[[#This Row],[ID]]&\" \"&IF(Listas[[#This Row],[Descripcion]]=\"\",\"\",\"- \"&Listas[[#This Row],[Descripcion]])","v":"8553 - Enseñanza cultural"},"8553","Enseñanza cultural",1776]
["Actividad_Economica",{"$f":"Listas[[#This Row],[ID]]&\" \"&IF(Listas[[#This Row],[Descripcion]]=\"\",\"\",\"- \"&Listas[[#This Row],[Descripcion]])","v":"8559 - Otros tipos de educación n.c.p."},"8559","Otros tipos de educación n.c.p.",1777]
["Actividad_Economica",{"$f":"Listas[[#This Row],[ID]]&\" \"&IF(Listas[[#This Row],[Descripcion]]=\"\",\"\",\"- \"&Listas[[#This Row],[Descripcion]])","v":"8560 - Actividades de apoyo a la educación"},"8560","Actividades de apoyo a la educación",1778]
["Actividad_Economica",{"$f":"Listas[[#This Row],[ID]]&\" \"&IF(Listas[[#This Row],[Descripcion]]=\"\",\"\",\"- \"&Listas[[#This Row],[Descripcion]])","v":"8610 - Actividades de hospitales y clínicas, con internación"},"8610","Actividades de hospitales y clínicas, con internación",1779]
["Actividad_Economica",{"$f":"Listas[[#This Row],[ID]]&\" \"&IF(Listas[[#This Row],[Descripcion]]=\"\",\"\",\"- \"&Listas[[#This Row],[Descripcion]])","v":"8621 - Actividades de la práctica médica, sin internación"},"8621","Actividades de la práctica médica, sin internación",1780]
["Actividad_Economica",{"$f":"Listas[[#This Row],[ID]]&\" \"&IF(Listas[[#This Row],[Descripcion]]=\"\",\"\",\"- \"&Listas[[#This Row],[Descripcion]])","v":"8622 - Actividades de la práctica odontológica"},"8622","Actividades de la práctica odontológica",1781]
["Actividad_Economica",{"$f":"Listas[[#This Row],[ID]]&\" \"&IF(Listas[[#This Row],[Descripcion]]=\"\",\"\",\"- \"&Listas[[#This Row],[Descripcion]])","v":"8691 - Actividades de apoyo diagnóstico"},"8691","Actividades de apoyo diagnóstico",1782]
["Actividad_Economica",{"$f":"Listas[[#This Row],[ID]]&\" \"&IF(Listas[[#This Row],[Descripcion]]=\"\",\"\",\"- \"&Listas[[#This Row],[Descripcion]])","v":"8692 - Actividades de apoyo terapéutico"},"8692","Actividades de apoyo terapéutico",1783]
["Actividad_Economica",{"$f":"Listas[[#This Row],[ID]]&\" \"&IF(Listas[[#This Row],[Descripcion]]=\"\",\"\",\"- \"&Listas[[#This Row],[Descripcion]])","v":"8699 - Otras actividades de atención de la salud humana"},"8699","Otras actividades de atención de la salud humana",1784]
["Actividad_Economica",{"$f":"Listas[[#This Row],[ID]]&\" \"&IF(Listas[[#This Row],[Descripcion]]=\"\",\"\",\"- \"&Listas[[#This Row],[Descripcion]])","v":"8710 - Actividades de atención residencial medicalizada de tipo general"},"8710","Actividades de atención residencial medicalizada de tipo general",1785]
["Actividad_Economica",{"$f":"Listas[[#This Row],[ID]]&\" \"&IF(Listas[[#This Row],[Descripcion]]=\"\",\"\",\"- \"&Listas[[#This Row],[Descripcion]])","v":"8720 - Actividades de atención residencial, para el cuidado de pacientes con retardo mental, enfermedad mental y consumo de sustancias psicoactivas"},"8720","Actividades de atención residencial, para el cuidado de pacientes con retardo mental, enfermedad mental y consumo de sustancias psicoactivas",1786]
["Actividad_Economica",{"$f":"Listas[[#This Row],[ID]]&\" \"&IF(Listas[[#This Row],[Descripcion]]=\"\",\"\",\"- \"&Listas[[#This Row],[Descripcion]])","v":"8730 - Actividades de atención en instituciones para el cuidado de personas mayores y/o discapacitadas"},"8730","Actividades de atención en instituciones para el cuidado de personas mayores y/o discapacitadas",1787]
["Actividad_Economica",{"$f":"Listas[[#This Row],[ID]]&\" \"&IF(Listas[[#This Row],[Descripcion]]=\"\",\"\",\"- \"&Listas[[#This Row],[Descripcion]])","v":"8790 - Otras actividades de atención en instituciones con alojamiento"},"8790","Otras actividades de atención en instituciones con alojamiento",1788]
["Actividad_Economica",{"$f":"Listas[[#This Row],[ID]]&\" \"&IF(Listas[[#This Row],[Descripcion]]=\"\",\"\",\"- \"&Listas[[#This Row],[Descripcion]])","v":"8810 - Actividades de asistencia social sin alojamiento para personas mayores y discapacitadas"},"8810","Actividades de asistencia social sin alojamiento para personas mayores y discapacitadas",1789]
["Actividad_Economica",{"$f":"Listas[[#This Row],[ID]]&\" \"&IF(Listas[[#This Row],[Descripcion]]=\"\",\"\",\"- \"&Listas[[#This Row],[Descripcion]])","v":"8891 - Actividades de guarderías para niños y niñas"},"8891","Actividades de guarderías para niños y niñas",1790]
["Actividad_Economica",{"$f":"Listas[[#This Row],[ID]]&\" \"&IF(Listas[[#This Row],[Descripcion]]=\"\",\"\",\"- \"&Listas[[#This Row],[Descripcion]])","v":"8899 - Otras actividades de asistencia social sin alojamiento n.c.p."},"8899","Otras actividades de asistencia social sin alojamiento n.c.p.",1791]
["Actividad_Economica",{"$f":"Listas[[#This Row],[ID]]&\" \"&IF(Listas[[#This Row],[Descripcion]]=\"\",\"\",\"- \"&Listas[[#This Row],[Descripcion]])","v":"9001 - Creación literaria"},"9001","Creación literaria",1792]
["Actividad_Economica",{"$f":"Listas[[#This Row],[ID]]&\" \"&IF(Listas[[#This Row],[Descripcion]]=\"\",\"\",\"- \"&Listas[[#This Row],[Descripcion]])","v":"9002 - Creación musical"},"9002","Creación musical",1793]
["Actividad_Economica",{"$f":"Listas[[#This Row],[ID]]&\" \"&IF(Listas[[#This Row],[Descripcion]]=\"\",\"\",\"- \"&Listas[[#This Row],[Descripcion]])","v":"9003 - Creación teatral"},"9003","Creación teatral",1794]
["Actividad_Economica",{"$f":"Listas[[#This Row],[ID]]&\" \"&IF(Listas[[#This Row],[Descripcion]]=\"\",\"\",\"- \"&Listas[[#This Row],[Descripcion]])","v":"9004 - Creación audiovisual"},"9004","Creación audiovisual",1795]
["Actividad_Economica",{"$f":"Listas[[#This Row],[ID]]&\" \"&IF(Listas[[#This Row],[Descripcion]]=\"\",\"\",\"- \"&Listas[[#This Row],[Descripcion]])","v":"9005 - Artes plásticas y visuales"},"9005","Artes plásticas y visuales",1796]
["Actividad_Economica",{"$f":"Listas[[#This Row],[ID]]&\" \"&IF(Listas[[#This Row],[Descripcion]]=\"\",\"\",\"- \"&Listas[[#This Row],[Descripcion]])","v":"9006 - Actividades teatrales"},"9006","Actividades teatrales",1797]
["Actividad_Economica",{"$f":"Listas[[#This Row],[ID]]&\" \"&IF(Listas[[#This Row],[Descripcion]]=\"\",\"\",\"- \"&Listas[[#This Row],[Descripcion]])","v":"9007 - Actividades de espectáculos musicales en vivo"},"9007","Actividades de espectáculos musicales en vivo",1798]
["Actividad_Economica",{"$f":"Listas[[#This Row],[ID]]&\" \"&IF(Listas[[#This Row],[Descripcion]]=\"\",\"\",\"- \"&Listas[[#This Row],[Descripcion]])","v":"9008 - Otras actividades de espectáculos en vivo n.c.p."},"9008","Otras actividades de espectáculos en vivo n.c.p.",1799]
["Actividad_Economica",{"$f":"Listas[[#This Row],[ID]]&\" \"&IF(Listas[[#This Row],[Descripcion]]=\"\",\"\",\"- \"&Listas[[#This Row],[Descripcion]])","v":"9101 - Actividades de bibliotecas y archivos"},"9101","Actividades de bibliotecas y archivos",1800]
["Actividad_Economica",{"$f":"Listas[[#This Row],[ID]]&\" \"&IF(Listas[[#This Row],[Descripcion]]=\"\",\"\",\"- \"&Listas[[#This Row],[Descripcion]])","v":"9102 - Actividades y funcionamiento de museos, conservación de edificios y sitios históricos"},"9102","Actividades y funcionamiento de museos, conservación de edificios y sitios históricos",1801]
["Actividad_Economica",{"$f":"Listas[[#This Row],[ID]]&\" \"&IF(Listas[[#This Row],[Descripcion]]=\"\",\"\",\"- \"&Listas[[#This Row],[Descripcion]])","v":"9103 - Actividades de jardines botánicos, zoológicos y reservas naturales"},"9103","Actividades de jardines botánicos, zoológicos y reservas naturales",1802]
["Actividad_Economica",{"$f":"Listas[[#This Row],[ID]]&\" \"&IF(Listas[[#This Row],[Descripcion]]=\"\",\"\",\"- \"&Listas[[#This Row],[Descripcion]])","v":"9200 - Actividades de juegos de azar y apuestas"},"9200","Actividades de juegos de azar y apuestas",1803]
["Actividad_Economica",{"$f":"Listas[[#This Row],[ID]]&\" \"&IF(Listas[[#This Row],[Descripcion]]=\"\",\"\",\"- \"&Listas[[#This Row],[Descripcion]])","v":"9311 - Gestión de instalaciones deportivas"},"9311","Gestión de instalaciones deportivas",1804]
["Actividad_Economica",{"$f":"Listas[[#This Row],[ID]]&\" \"&IF(Listas[[#This Row],[Descripcion]]=\"\",\"\",\"- \"&Listas[[#This Row],[Descripcion]])","v":"9312 - Actividades de clubes deportivos"},"9312","Actividades de clubes deportivos",1805]
["Actividad_Economica",{"$f":"Listas[[#This Row],[ID]]&\" \"&IF(Listas[[#This Row],[Descripcion]]=\"\",\"\",\"- \"&Listas[[#This Row],[Descripcion]])","v":"9319 - Otras actividades deportivas"},"9319","Otras actividades deportivas",1806]
["Actividad_Economica",{"$f":"Listas[[#This Row],[ID]]&\" \"&IF(Listas[[#This Row],[Descripcion]]=\"\",\"\",\"- \"&Listas[[#This Row],[Descripcion]])","v":"9321 - Actividades de parques de atracciones y parques temáticos"},"9321","Actividades de parques de atracciones y parques temáticos",1807]
["Actividad_Economica",{"$f":"Listas[[#This Row],[ID]]&\" \"&IF(Listas[[#This Row],[Descripcion]]=\"\",\"\",\"- \"&Listas[[#This Row],[Descripcion]])","v":"9329 - Otras actividades recreativas y de esparcimiento n.c.p."},"9329","Otras actividades recreativas y de esparcimiento n.c.p.",1808]
["Actividad_Economica",{"$f":"Listas[[#This Row],[ID]]&\" \"&IF(Listas[[#This Row],[Descripcion]]=\"\",\"\",\"- \"&Listas[[#This Row],[Descripcion]])","v":"9411 - Actividades de asociaciones empresariales y de empleadores"},"9411","Actividades de asociaciones empresariales y de empleadores",1809]
["Actividad_Economica",{"$f":"Listas[[#This Row],[ID]]&\" \"&IF(Listas[[#This Row],[Descripcion]]=\"\",\"\",\"- \"&Listas[[#This Row],[Descripcion]])","v":"9412 - Actividades de asociaciones profesionales"},"9412","Actividades de asociaciones profesionales",1810]
["Actividad_Economica",{"$f":"Listas[[#This Row],[ID]]&\" \"&IF(Listas[[#This Row],[Descripcion]]=\"\",\"\",\"- \"&Listas[[#This Row],[Descripcion]])","v":"9420 - Actividades de sindicatos de empleados"},"9420","Actividades de sindicatos de empleados",1811]
["Actividad_Economica",{"$f":"Listas[[#This Row],[ID]]&\" \"&IF(Listas[[#This Row],[Descripcion]]=\"\",\"\",\"- \"&Listas[[#This Row],[Descripcion]])","v":"9491 - Actividades de asociaciones religiosas"},"9491","Actividades de asociaciones religiosas",1812]
["Actividad_Economica",{"$f":"Listas[[#This Row],[ID]]&\" \"&IF(Listas[[#This Row],[Descripcion]]=\"\",\"\",\"- \"&Listas[[#This Row],[Descripcion]])","v":"9492 - Actividades de asociaciones políticas"},"9492","Actividades de asociaciones políticas",1813]
["Actividad_Economica",{"$f":"Listas[[#This Row],[ID]]&\" \"&IF(Listas[[#This Row],[Descripcion]]=\"\",\"\",\"- \"&Listas[[#This Row],[Descripcion]])","v":"9499 - Actividades de otras asociaciones n.c.p."},"9499","Actividades de otras asociaciones n.c.p.",1814]
["Actividad_Economica",{"$f":"Listas[[#This Row],[ID]]&\" \"&IF(Listas[[#This Row],[Descripcion]]=\"\",\"\",\"- \"&Listas[[#This Row],[Descripcion]])","v":"9511 - Mantenimiento y reparación de computadores y de equipo periférico"},"9511","Mantenimiento y reparación de computadores y de equipo periférico",1815]
["Actividad_Economica",{"$f":"Listas[[#This Row],[ID]]&\" \"&IF(Listas[[#This Row],[Descripcion]]=\"\",\"\",\"- \"&Listas[[#This Row],[Descripcion]])","v":"9512 - Mantenimiento y reparación de equipos de comunicación"},"9512","Mantenimiento y reparación de equipos de comunicación",1816]
["Actividad_Economica",{"$f":"Listas[[#This Row],[ID]]&\" \"&IF(Listas[[#This Row],[Descripcion]]=\"\",\"\",\"- \"&Listas[[#This Row],[Descripcion]])","v":"9521 - Mantenimiento y reparación de aparatos electrónicos de consumo"},"9521","Mantenimiento y reparación de aparatos electrónicos de consumo",1817]
["Actividad_Economica",{"$f":"Listas[[#This Row],[ID]]&\" \"&IF(Listas[[#This Row],[Descripcion]]=\"\",\"\",\"- \"&Listas[[#This Row],[Descripcion]])","v":"9522 - Mantenimiento y reparación de aparatos y equipos domésticos y de jardinería"},"9522","Mantenimiento y reparación de aparatos y equipos domésticos y de jardinería",1818]
["Actividad_Economica",{"$f":"Listas[[#This Row],[ID]]&\" \"&IF(Listas[[#This Row],[Descripcion]]=\"\",\"\",\"- \"&Listas[[#This Row],[Descripcion]])","v":"9523 - Reparación de calzado y artículos de cuero"},"9523","Reparación de calzado y artículos de cuero",1819]
["Actividad_Economica",{"$f":"Listas[[#This Row],[ID]]&\" \"&IF(Listas[[#This Row],[Descripcion]]=\"\",\"\",\"- \"&Listas[[#This Row],[Descripcion]])","v":"9524 - Reparación de muebles y accesorios para el hogar"},"9524","Reparación de muebles y accesorios para el hogar",1820]
["Actividad_Economica",{"$f":"Listas[[#This Row],[ID]]&\" \"&IF(Listas[[#This Row],[Descripcion]]=\"\",\"\",\"- \"&Listas[[#This Row],[Descripcion]])","v":"9529 - Mantenimiento y reparación de otros efectos personales y enseres domésticos"},"9529","Mantenimiento y reparación de otros efectos personales y enseres domésticos",1821]
["Actividad_Economica",{"$f":"Listas[[#This Row],[ID]]&\" \"&IF(Listas[[#This Row],[Descripcion]]=\"\",\"\",\"- \"&Listas[[#This Row],[Descripcion]])","v":"9601 - Lavado y limpieza, incluso la limpieza en seco, de productos textiles y de piel"},"9601","Lavado y limpieza, incluso la limpieza en seco, de productos textiles y de piel",1822]
["Actividad_Economica",{"$f":"Listas[[#This Row],[ID]]&\" \"&IF(Listas[[#This Row],[Descripcion]]=\"\",\"\",\"- \"&Listas[[#This Row],[Descripcion]])","v":"9602 - Peluquería y otros tratamientos de belleza"},"9602","Peluquería y otros tratamientos de belleza",1823]
["Actividad_Economica",{"$f":"Listas[[#This Row],[ID]]&\" \"&IF(Listas[[#This Row],[Descripcion]]=\"\",\"\",\"- \"&Listas[[#This Row],[Descripcion]])","v":"9603 - Pompas fúnebres y actividades relacionadas"},"9603","Pompas fúnebres y actividades relacionadas",1824]
["Actividad_Economica",{"$f":"Listas[[#This Row],[ID]]&\" \"&IF(Listas[[#This Row],[Descripcion]]=\"\",\"\",\"- \"&Listas[[#This Row],[Descripcion]])","v":"9609 - Otras actividades de servicios personales n.c.p."},"9609","Otras actividades de servicios personales n.c.p.",1825]
["Actividad_Economica",{"$f":"Listas[[#This Row],[ID]]&\" \"&IF(Listas[[#This Row],[Descripcion]]=\"\",\"\",\"- \"&Listas[[#This Row],[Descripcion]])","v":"9700 - Actividades de los hogares individuales como empleadores de personal doméstico"},"9700","Actividades de los hogares individuales como empleadores de personal doméstico",1826]
["Actividad_Economica",{"$f":"Listas[[#This Row],[ID]]&\" \"&IF(Listas[[#This Row],[Descripcion]]=\"\",\"\",\"- \"&Listas[[#This Row],[Descripcion]])","v":"9810 - Actividades no diferenciadas de los hogares individuales como productores de bienes para uso propio"},"9810","Actividades no diferenciadas de los hogares individuales como productores de bienes para uso propio",1827]
["Actividad_Economica",{"$f":"Listas[[#This Row],[ID]]&\" \"&IF(Listas[[#This Row],[Descripcion]]=\"\",\"\",\"- \"&Listas[[#This Row],[Descripcion]])","v":"9820 - Actividades no diferenciadas de los hogares individuales como productores de servicios para uso propio"},"9820","Actividades no diferenciadas de los hogares individuales como productores de servicios para uso propio",1828]
["Actividad_Economica",{"$f":"Listas[[#This Row],[ID]]&\" \"&IF(Listas[[#This Row],[Descripcion]]=\"\",\"\",\"- \"&Listas[[#This Row],[Descripcion]])","v":"9900 - Actividades de organizaciones y entidades extraterritoriales"},"9900","Actividades de organizaciones y entidades extraterritoriales",1829]
["Tipo_novedad",{"$f":"Listas[[#This Row],[ID]]&\" \"&IF(Listas[[#This Row],[Descripcion]]=\"\",\"\",\"- \"&Listas[[#This Row],[Descripcion]])","v":"1 - Omisión"},"1","Omisión",1830]
["Tipo_novedad",{"$f":"Listas[[#This Row],[ID]]&\" \"&IF(Listas[[#This Row],[Descripcion]]=\"\",\"\",\"- \"&Listas[[#This Row],[Descripcion]])","v":"2 - Modificación o Corrección"},"2","Modificación o Corrección",1831]
["Tipo_novedad",{"$f":"Listas[[#This Row],[ID]]&\" \"&IF(Listas[[#This Row],[Descripcion]]=\"\",\"\",\"- \"&Listas[[#This Row],[Descripcion]])","v":"3 - Sanción"},"3","Sanción",1832]
["Tipo_novedad",{"$f":"Listas[[#This Row],[ID]]&\" \"&IF(Listas[[#This Row],[Descripcion]]=\"\",\"\",\"- \"&Listas[[#This Row],[Descripcion]])","v":"4 - Devolución y/o Compensación"},"4","Devolución y/o Compensación",1833]
["Tipo_resolución",{"$f":"Listas[[#This Row],[ID]]&\" \"&IF(Listas[[#This Row],[Descripcion]]=\"\",\"\",\"- \"&Listas[[#This Row],[Descripcion]])","v":"1 - Liquidación de Aforo"},"1","Liquidación de Aforo",1834]
["Tipo_resolución",{"$f":"Listas[[#This Row],[ID]]&\" \"&IF(Listas[[#This Row],[Descripcion]]=\"\",\"\",\"- \"&Listas[[#This Row],[Descripcion]])","v":"2 - Otra resolución declara omisión"},"2","Otra resolución declara omisión",1835]
["Tipo_resolución",{"$f":"Listas[[#This Row],[ID]]&\" \"&IF(Listas[[#This Row],[Descripcion]]=\"\",\"\",\"- \"&Listas[[#This Row],[Descripcion]])","v":"3 - Liquidación de Corrección aritmética"},"3","Liquidación de Corrección aritmética",1836]
["Tipo_resolución",{"$f":"Listas[[#This Row],[ID]]&\" \"&IF(Listas[[#This Row],[Descripcion]]=\"\",\"\",\"- \"&Listas[[#This Row],[Descripcion]])","v":"4 - Liquidación de Revisión"},"4","Liquidación de Revisión",1837]
["Tipo_resolución",{"$f":"Listas[[#This Row],[ID]]&\" \"&IF(Listas[[#This Row],[Descripcion]]=\"\",\"\",\"- \"&Listas[[#This Row],[Descripcion]])","v":"5 - Liquidación Provisional"},"5","Liquidación Provisional",1838]
["Tipo_resolución",{"$f":"Listas[[#This Row],[ID]]&\" \"&IF(Listas[[#This Row],[Descripcion]]=\"\",\"\",\"- \"&Listas[[#This Row],[Descripcion]])","v":"6 - Otra liquidación modifica o corrige"},"6","Otra liquidación modifica o corrige",1839]
["Tipo_resolución",{"$f":"Listas[[#This Row],[ID]]&\" \"&IF(Listas[[#This Row],[Descripcion]]=\"\",\"\",\"- \"&Listas[[#This Row],[Descripcion]])","v":"7 - Independiente"},"7","Independiente",1840]
["Tipo_resolución",{"$f":"Listas[[#This Row],[ID]]&\" \"&IF(Listas[[#This Row],[Descripcion]]=\"\",\"\",\"- \"&Listas[[#This Row],[Descripcion]])","v":"8 - Otra resolución sanción"},"8","Otra resolución sanción",1841]
["Tipo_resolución",{"$f":"Listas[[#This Row],[ID]]&\" \"&IF(Listas[[#This Row],[Descripcion]]=\"\",\"\",\"- \"&Listas[[#This Row],[Descripcion]])","v":"9 - Devolución y/o compensación"},"9","Devolución y/o compensación",1842]
["Tipo_resolución",{"$f":"Listas[[#This Row],[ID]]&\" \"&IF(Listas[[#This Row],[Descripcion]]=\"\",\"\",\"- \"&Listas[[#This Row],[Descripcion]])","v":"10 - Otra resolución devolución y/o compensación"},"10","Otra resolución devolución y/o compensación",1843]
["Tipo_Persona_2631",{"$f":"Listas[[#This Row],[ID]]&\" \"&IF(Listas[[#This Row],[Descripcion]]=\"\",\"\",\"- \"&Listas[[#This Row],[Descripcion]])","v":"1 - Persona Natural"},"1","Persona Natural",1844]
["Tipo_Persona_2631",{"$f":"Listas[[#This Row],[ID]]&\" \"&IF(Listas[[#This Row],[Descripcion]]=\"\",\"\",\"- \"&Listas[[#This Row],[Descripcion]])","v":"2 - Persona Jurídica"},"2","Persona Jurídica",1845]
["Obligación_tributaria_incumplida",{"$f":"Listas[[#This Row],[ID]]&\" \"&IF(Listas[[#This Row],[Descripcion]]=\"\",\"\",\"- \"&Listas[[#This Row],[Descripcion]])","v":"1 - Predial Unificado"},"1","Predial Unificado",1846]
["Obligación_tributaria_incumplida",{"$f":"Listas[[#This Row],[ID]]&\" \"&IF(Listas[[#This Row],[Descripcion]]=\"\",\"\",\"- \"&Listas[[#This Row],[Descripcion]])","v":"2 - Industria y comercio"},"2","Industria y comercio",1847]
["Obligación_tributaria_incumplida",{"$f":"Listas[[#This Row],[ID]]&\" \"&IF(Listas[[#This Row],[Descripcion]]=\"\",\"\",\"- \"&Listas[[#This Row],[Descripcion]])","v":"3 - Avisos y tableros"},"3","Avisos y tableros",1848]
["Obligación_tributaria_incumplida",{"$f":"Listas[[#This Row],[ID]]&\" \"&IF(Listas[[#This Row],[Descripcion]]=\"\",\"\",\"- \"&Listas[[#This Row],[Descripcion]])","v":"4 - Sobretasa bomberil"},"4","Sobretasa bomberil",1849]
["Obligación_tributaria_incumplida",{"$f":"Listas[[#This Row],[ID]]&\" \"&IF(Listas[[#This Row],[Descripcion]]=\"\",\"\",\"- \"&Listas[[#This Row],[Descripcion]])","v":"5 - Industria y comercio consolidado"},"5","Industria y comercio consolidado",1850]
["Obligación_tributaria_incumplida",{"$f":"Listas[[#This Row],[ID]]&\" \"&IF(Listas[[#This Row],[Descripcion]]=\"\",\"\",\"- \"&Listas[[#This Row],[Descripcion]])","v":"6 - Sobretasa de seguridad"},"6","Sobretasa de seguridad",1851]
["Obligación_tributaria_incumplida",{"$f":"Listas[[#This Row],[ID]]&\" \"&IF(Listas[[#This Row],[Descripcion]]=\"\",\"\",\"- \"&Listas[[#This Row],[Descripcion]])","v":"7 - Delineación urbana"},"7","Delineación urbana",1852]
["Obligación_tributaria_incumplida",{"$f":"Listas[[#This Row],[ID]]&\" \"&IF(Listas[[#This Row],[Descripcion]]=\"\",\"\",\"- \"&Listas[[#This Row],[Descripcion]])","v":"8 - Contribución de Valorización"},"8","Contribución de Valorización",1853]
["Obligación_tributaria_incumplida",{"$f":"Listas[[#This Row],[ID]]&\" \"&IF(Listas[[#This Row],[Descripcion]]=\"\",\"\",\"- \"&Listas[[#This Row],[Descripcion]])","v":"9 - Espectáculos públicos"},"9","Espectáculos públicos",1854]
["Obligación_tributaria_incumplida",{"$f":"Listas[[#This Row],[ID]]&\" \"&IF(Listas[[#This Row],[Descripcion]]=\"\",\"\",\"- \"&Listas[[#This Row],[Descripcion]])","v":"10 - Sobretasa a la gasolina"},"10","Sobretasa a la gasolina",1855]
["Obligación_tributaria_incumplida",{"$f":"Listas[[#This Row],[ID]]&\" \"&IF(Listas[[#This Row],[Descripcion]]=\"\",\"\",\"- \"&Listas[[#This Row],[Descripcion]])","v":"11 - Rifas y juegos de azar"},"11","Rifas y juegos de azar",1856]
["Obligación_tributaria_incumplida",{"$f":"Listas[[#This Row],[ID]]&\" \"&IF(Listas[[#This Row],[Descripcion]]=\"\",\"\",\"- \"&Listas[[#This Row],[Descripcion]])","v":"12 - Estampillas"},"12","Estampillas",1857]
["Obligación_tributaria_incumplida",{"$f":"Listas[[#This Row],[ID]]&\" \"&IF(Listas[[#This Row],[Descripcion]]=\"\",\"\",\"- \"&Listas[[#This Row],[Descripcion]])","v":"13 - Telefonía Urbana"},"13","Telefonía Urbana",1858]
["Obligación_tributaria_incumplida",{"$f":"Listas[[#This Row],[ID]]&\" \"&IF(Listas[[#This Row],[Descripcion]]=\"\",\"\",\"- \"&Listas[[#This Row],[Descripcion]])","v":"14 - Alumbrado público"},"14","Alumbrado público",1859]
["Obligación_tributaria_incumplida",{"$f":"Listas[[#This Row],[ID]]&\" \"&IF(Listas[[#This Row],[Descripcion]]=\"\",\"\",\"- \"&Listas[[#This Row],[Descripcion]])","v":"15 - Otros tributos"},"15","Otros tributos",1860]
["Obligación_tributaria_incumplida",{"$f":"Listas[[#This Row],[ID]]&\" \"&IF(Listas[[#This Row],[Descripcion]]=\"\",\"\",\"- \"&Listas[[#This Row],[Descripcion]])","v":"99 - Obligaciones formales"},"99","Obligaciones formales",1861]
["Tipo_Sanción",{"$f":"Listas[[#This Row],[ID]]&\" \"&IF(Listas[[#This Row],[Descripcion]]=\"\",\"\",\"- \"&Listas[[#This Row],[Descripcion]])","v":"1 - No declarar (Art. 643 ET)"},"1","No declarar (Art. 643 ET)",1862]
["Tipo_Sanción",{"$f":"Listas[[#This Row],[ID]]&\" \"&IF(Listas[[#This Row],[Descripcion]]=\"\",\"\",\"- \"&Listas[[#This Row],[Descripcion]])","v":"2 - Corrección aritmética (Art. 646 ET)"},"2","Corrección aritmética (Art. 646 ET)",1863]
["Tipo_Sanción",{"$f":"Listas[[#This Row],[ID]]&\" \"&IF(Listas[[#This Row],[Descripcion]]=\"\",\"\",\"- \"&Listas[[#This Row],[Descripcion]])","v":"3 - Inexactitud (Art. 647 ET)"},"3","Inexactitud (Art. 647 ET)",1864]
["Tipo_Sanción",{"$f":"Listas[[#This Row],[ID]]&\" \"&IF(Listas[[#This Row],[Descripcion]]=\"\",\"\",\"- \"&Listas[[#This Row],[Descripcion]])","v":"4 - No enviar información o enviarla con errores (Art. 651 ET)"},"4","No enviar información o enviarla con errores (Art. 651 ET)",1865]
["Tipo_Sanción",{"$f":"Listas[[#This Row],[ID]]&\" \"&IF(Listas[[#This Row],[Descripcion]]=\"\",\"\",\"- \"&Listas[[#This Row],[Descripcion]])","v":"5 - Irregularidades en la contabilidad (Art. 655 ET)"},"5","Irregularidades en la contabilidad (Art. 655 ET)",1866]
["Tipo_Sanción",{"$f":"Listas[[#This Row],[ID]]&\" \"&IF(Listas[[#This Row],[Descripcion]]=\"\",\"\",\"- \"&Listas[[#This Row],[Descripcion]])","v":"6 - Clausura del establecimiento (Art. 657 ET)"},"6","Clausura del establecimiento (Art. 657 ET)",1867]
["Tipo_Sanción",{"$f":"Listas[[#This Row],[ID]]&\" \"&IF(Listas[[#This Row],[Descripcion]]=\"\",\"\",\"- \"&Listas[[#This Row],[Descripcion]])","v":"7 - No expedir certificados (Art. 667 ET)"},"7","No expedir certificados (Art. 667 ET)",1868]
["Tipo_Sanción",{"$f":"Listas[[#This Row],[ID]]&\" \"&IF(Listas[[#This Row],[Descripcion]]=\"\",\"\",\"- \"&Listas[[#This Row],[Descripcion]])","v":"8 - Improcedencia de las devoluciones y/o compensaciones (Art. 670 ET)"},"8","Improcedencia de las devoluciones y/o compensaciones (Art. 670 ET)",1869]
["Tipo_Sanción",{"$f":"Listas[[#This Row],[ID]]&\" \"&IF(Listas[[#This Row],[Descripcion]]=\"\",\"\",\"- \"&Listas[[#This Row],[Descripcion]])","v":"9 - Corrección de sanciones (Art. 701 ET)"},"9","Corrección de sanciones (Art. 701 ET)",1870]
["Tipo_Sanción",{"$f":"Listas[[#This Row],[ID]]&\" \"&IF(Listas[[#This Row],[Descripcion]]=\"\",\"\",\"- \"&Listas[[#This Row],[Descripcion]])","v":"99 - Otra sanción"},"99","Otra sanción",1871]
["Tipo_Responsable_1480",{"$f":"Listas[[#This Row],[ID]]&\" \"&IF(Listas[[#This Row],[Descripcion]]=\"\",\"\",\"- \"&Listas[[#This Row],[Descripcion]])","v":"1 - PROPIETARIO"},"1","PROPIETARIO",1872]
["Tipo_Responsable_1480",{"$f":"Listas[[#This Row],[ID]]&\" \"&IF(Listas[[#This Row],[Descripcion]]=\"\",\"\",\"- \"&Listas[[#This Row],[Descripcion]])","v":"4 - OTRO"},"4","OTRO",1873]
["Actividad_Economica",{"$f":"Listas[[#This Row],[ID]]&\" \"&IF(Listas[[#This Row],[Descripcion]]=\"\",\"\",\"- \"&Listas[[#This Row],[Descripcion]])","v":"8890 - Otras actividades de asistencia social sin alojamiento"},"8890","Otras actividades de asistencia social sin alojamiento",1874]
["Concepto_5247",{"$f":"Listas[[#This Row],[ID]]&\" \"&IF(Listas[[#This Row],[Descripcion]]=\"\",\"\",\"- \"&Listas[[#This Row],[Descripcion]])","v":"5002 - Honorarios"},"5002","Honorarios",1875]
["Concepto_5247",{"$f":"Listas[[#This Row],[ID]]&\" \"&IF(Listas[[#This Row],[Descripcion]]=\"\",\"\",\"- \"&Listas[[#This Row],[Descripcion]])","v":"5003 - Comisiones"},"5003","Comisiones",1876]
["Concepto_5247",{"$f":"Listas[[#This Row],[ID]]&\" \"&IF(Listas[[#This Row],[Descripcion]]=\"\",\"\",\"- \"&Listas[[#This Row],[Descripcion]])","v":"5004 - Servicios"},"5004","Servicios",1877]
["Concepto_5247",{"$f":"Listas[[#This Row],[ID]]&\" \"&IF(Listas[[#This Row],[Descripcion]]=\"\",\"\",\"- \"&Listas[[#This Row],[Descripcion]])","v":"5005 - Arrendamientos"},"5005","Arrendamientos",1878]
["Concepto_5247",{"$f":"Listas[[#This Row],[ID]]&\" \"&IF(Listas[[#This Row],[Descripcion]]=\"\",\"\",\"- \"&Listas[[#This Row],[Descripcion]])","v":"5006 - Intereses y rendimientos financieros causados"},"5006","Intereses y rendimientos financieros causados",1879]
["Concepto_5247",{"$f":"Listas[[#This Row],[ID]]&\" \"&IF(Listas[[#This Row],[Descripcion]]=\"\",\"\",\"- \"&Listas[[#This Row],[Descripcion]])","v":"5007 - Compra de activos movibles (E.T.Art 60)"},"5007","Compra de activos movibles (E.T.Art 60)",1880]
["Concepto_5247",{"$f":"Listas[[#This Row],[ID]]&\" \"&IF(Listas[[#This Row],[Descripcion]]=\"\",\"\",\"- \"&Listas[[#This Row],[Descripcion]])","v":"5008 - Compra de Activos Fijos (E.T. Art 60)"},"5008","Compra de Activos Fijos (E.T. Art 60)",1881]
["Concepto_5247",{"$f":"Listas[[#This Row],[ID]]&\" \"&IF(Listas[[#This Row],[Descripcion]]=\"\",\"\",\"- \"&Listas[[#This Row],[Descripcion]])","v":"5010 - Pagos o Abonos en cuenta por concepto de aportes parafiscales al SENA, a las Cajas de Compensación Familiar y al Instituto Colombiano de Bienestar Familia"},"5010","Pagos o Abonos en cuenta por concepto de aportes parafiscales al SENA, a las Cajas de Compensación Familiar y al Instituto Colombiano de Bienestar Familia",1882]
["Concepto_5247",{"$f":"Listas[[#This Row],[ID]]&\" \"&IF(Listas[[#This Row],[Descripcion]]=\"\",\"\",\"- \"&Listas[[#This Row],[Descripcion]])","v":"5011 - Pagos o abonos en cuenta efectuado a las empresas promotoras de salud EPS y los aportes al Sistema de Riesgos Laborales, incluidos los aportes del trabajador"},"5011","Pagos o abonos en cuenta efectuado a las empresas promotoras de salud EPS y los aportes al Sistema de Riesgos Laborales, incluidos los aportes del trabajador",1883]
["Concepto_5247",{"$f":"Listas[[#This Row],[ID]]&\" \"&IF(Listas[[#This Row],[Descripcion]]=\"\",\"\",\"- \"&Listas[[#This Row],[Descripcion]])","v":"5012 - Pagos  o abonos  en  cuenta  por concepto de aportes obligatorios para pensiones efectuados a los Fondos de Pensiones, incluidos los aportes del trabajador"},"5012","Pagos  o abonos  en  cuenta  por concepto de aportes obligatorios para pensiones efectuados a los Fondos de Pensiones, incluidos los aportes del trabajador",1884]
["Concepto_5247",{"$f":"Listas[[#This Row],[ID]]&\" \"&IF(Listas[[#This Row],[Descripcion]]=\"\",\"\",\"- \"&Listas[[#This Row],[Descripcion]])","v":"5013 - Donaciones en dinero efectuadas a las entidades señaladas en los artículos 125, 125-4,126-2 y 158-1 del Estatuto Tributario y la establecida en el artículo 16 de la Ley 814 de 2003, y demás que determine la ley"},"5013","Donaciones en dinero efectuadas a las entidades señaladas en los artículos 125, 125-4,126-2 y 158-1 del Estatuto Tributario y la establecida en el artículo 16 de la Ley 814 de 2003, y demás que determine la ley",1885]
["Concepto_5247",{"$f":"Listas[[#This Row],[ID]]&\" \"&IF(Listas[[#This Row],[Descripcion]]=\"\",\"\",\"- \"&Listas[[#This Row],[Descripcion]])","v":"5014 - Donaciones en activos diferentes a dinero efectuadas a las entidades señaladas en los artículos 125, 125-4,126-2 y 158-1 del Estatuto Tributario y la establecida en el artículo 16 de la Ley 814 de 2003, y demás que determine la ley"},"5014","Donaciones en activos diferentes a dinero efectuadas a las entidades señaladas en los artículos 125, 125-4,126-2 y 158-1 del Estatuto Tributario y la establecida en el artículo 16 de la Ley 814 de 2003, y demás que determine la ley",1886]
["Concepto_5247",{"$f":"Listas[[#This Row],[ID]]&\" \"&IF(Listas[[#This Row],[Descripcion]]=\"\",\"\",\"- \"&Listas[[#This Row],[Descripcion]])","v":"5015 - El valor de los impuestos solicitados como deducción"},"5015","El valor de los impuestos solicitados como deducción",1887]
["Concepto_5247",{"$f":"Listas[[#This Row],[ID]]&\" \"&IF(Listas[[#This Row],[Descripcion]]=\"\",\"\",\"- \"&Listas[[#This Row],[Descripcion]])","v":"5016 - Los demás costos y deducciones"},"5016","Los demás costos y deducciones",1888]
["Concepto_5247",{"$f":"Listas[[#This Row],[ID]]&\" \"&IF(Listas[[#This Row],[Descripcion]]=\"\",\"\",\"- \"&Listas[[#This Row],[Descripcion]])","v":"5018 - Importe de las primas de reaseguros pagados o abonados en cuenta"},"5018","Importe de las primas de reaseguros pagados o abonados en cuenta",1889]
["Concepto_5247",{"$f":"Listas[[#This Row],[ID]]&\" \"&IF(Listas[[#This Row],[Descripcion]]=\"\",\"\",\"- \"&Listas[[#This Row],[Descripcion]])","v":"5019 - El monto de las amortizaciones realizadas"},"5019","El monto de las amortizaciones realizadas",1890]
["Concepto_5247",{"$f":"Listas[[#This Row],[ID]]&\" \"&IF(Listas[[#This Row],[Descripcion]]=\"\",\"\",\"- \"&Listas[[#This Row],[Descripcion]])","v":"5020 - Compra de activos fijos reales productivos sobre los cuales solicitó deducción, art. 158-3 E.T. El valor acumulado pagado o abonado en cuenta\n"},"5020","Compra de activos fijos reales productivos sobre los cuales solicitó deducción, art. 158-3 E.T. El valor acumulado pagado o abonado en cuenta\n",1891]
["Concepto_5247",{"$f":"Listas[[#This Row],[ID]]&\" \"&IF(Listas[[#This Row],[Descripcion]]=\"\",\"\",\"- \"&Listas[[#This Row],[Descripcion]])","v":"5023 - Valor  acumulado  de  los  pagos  o  abonos  en  cuenta  al  exterior  por  asistencia  técnica"},"5023","Valor  acumulado  de  los  pagos  o  abonos  en  cuenta  al  exterior  por  asistencia  técnica",1892]
["Concepto_5247",{"$f":"Listas[[#This Row],[ID]]&\" \"&IF(Listas[[#This Row],[Descripcion]]=\"\",\"\",\"- \"&Listas[[#This Row],[Descripcion]])","v":"5024 - Valor acumulado de los pagos o abonos en cuenta al exterior por marcas"},"5024","Valor acumulado de los pagos o abonos en cuenta al exterior por marcas",1893]
["Concepto_5247",{"$f":"Listas[[#This Row],[ID]]&\" \"&IF(Listas[[#This Row],[Descripcion]]=\"\",\"\",\"- \"&Listas[[#This Row],[Descripcion]])","v":"5025 - Valor acumulado de los pagos o abonos en cuenta al exterior por patentes"},"5025","Valor acumulado de los pagos o abonos en cuenta al exterior por patentes",1894]
["Concepto_5247",{"$f":"Listas[[#This Row],[ID]]&\" \"&IF(Listas[[#This Row],[Descripcion]]=\"\",\"\",\"- \"&Listas[[#This Row],[Descripcion]])","v":"5026 - valor acumulado de los pagos o abonos en cuenta al exterior por regalías"},"5026","valor acumulado de los pagos o abonos en cuenta al exterior por regalías",1895]
["Concepto_5247",{"$f":"Listas[[#This Row],[ID]]&\" \"&IF(Listas[[#This Row],[Descripcion]]=\"\",\"\",\"- \"&Listas[[#This Row],[Descripcion]])","v":"5027 - Valor acumulado de los pagos o abonos en cuenta al exterior por servicios técnicos"},"5027","Valor acumulado de los pagos o abonos en cuenta al exterior por servicios técnicos",1896]
["Concepto_5247",{"$f":"Listas[[#This Row],[ID]]&\" \"&IF(Listas[[#This Row],[Descripcion]]=\"\",\"\",\"- \"&Listas[[#This Row],[Descripcion]])","v":"5028 - El valor acumulado de la devolución de pagos o abonos en cuenta y retenciones correspondientes a operaciones de años anteriores. "},"5028","El valor acumulado de la devolución de pagos o abonos en cuenta y retenciones correspondientes a operaciones de años anteriores. ",1897]
["Concepto_5247",{"$f":"Listas[[#This Row],[ID]]&\" \"&IF(Listas[[#This Row],[Descripcion]]=\"\",\"\",\"- \"&Listas[[#This Row],[Descripcion]])","v":"5029 - Gastos pagados por anticipado por Compras"},"5029","Gastos pagados por anticipado por Compras",1898]
["Concepto_5247",{"$f":"Listas[[#This Row],[ID]]&\" \"&IF(Listas[[#This Row],[Descripcion]]=\"\",\"\",\"- \"&Listas[[#This Row],[Descripcion]])","v":"5030 - Gastos pagados por anticipado por Honorarios "},"5030","Gastos pagados por anticipado por Honorarios ",1899]
["Concepto_5247",{"$f":"Listas[[#This Row],[ID]]&\" \"&IF(Listas[[#This Row],[Descripcion]]=\"\",\"\",\"- \"&Listas[[#This Row],[Descripcion]])","v":"5031 - Gastos pagados por anticipado por Comisiones"},"5031","Gastos pagados por anticipado por Comisiones",1900]
["Concepto_5247",{"$f":"Listas[[#This Row],[ID]]&\" \"&IF(Listas[[#This Row],[Descripcion]]=\"\",\"\",\"- \"&Listas[[#This Row],[Descripcion]])","v":"5032 - Gastos pagados por anticipado por Servicios"},"5032","Gastos pagados por anticipado por Servicios",1901]
["Concepto_5247",{"$f":"Listas[[#This Row],[ID]]&\" \"&IF(Listas[[#This Row],[Descripcion]]=\"\",\"\",\"- \"&Listas[[#This Row],[Descripcion]])","v":"5033 - Gastos pagados por anticipado por Arrendamientos"},"5033","Gastos pagados por anticipado por Arrendamientos",1902]
["Concepto_5247",{"$f":"Listas[[#This Row],[ID]]&\" \"&IF(Listas[[#This Row],[Descripcion]]=\"\",\"\",\"- \"&Listas[[#This Row],[Descripcion]])","v":"5034 - Gastos pagados por anticipado por intereses y rendimientos financieros"},"5034","Gastos pagados por anticipado por intereses y rendimientos financieros",1903]
["Concepto_5247",{"$f":"Listas[[#This Row],[ID]]&\" \"&IF(Listas[[#This Row],[Descripcion]]=\"\",\"\",\"- \"&Listas[[#This Row],[Descripcion]])","v":"5035 - Gastos pagados por anticipado por otros conceptos"},"5035","Gastos pagados por anticipado por otros conceptos",1904]
["Concepto_5247",{"$f":"Listas[[#This Row],[ID]]&\" \"&IF(Listas[[#This Row],[Descripcion]]=\"\",\"\",\"- \"&Listas[[#This Row],[Descripcion]])","v":"5044 - El pago por loterías, rifas, apuestas y similares"},"5044","El pago por loterías, rifas, apuestas y similares",1905]
["Concepto_5247",{"$f":"Listas[[#This Row],[ID]]&\" \"&IF(Listas[[#This Row],[Descripcion]]=\"\",\"\",\"- \"&Listas[[#This Row],[Descripcion]])","v":"5045 - Retención sobre ingresos de tarjetas débito y crédito"},"5045","Retención sobre ingresos de tarjetas débito y crédito",1906]
["Concepto_5247",{"$f":"Listas[[#This Row],[ID]]&\" \"&IF(Listas[[#This Row],[Descripcion]]=\"\",\"\",\"- \"&Listas[[#This Row],[Descripcion]])","v":"5046 - Enajenación de activos fijos de personas naturales ante oficinas de tránsito y otras entidades autorizadas"},"5046","Enajenación de activos fijos de personas naturales ante oficinas de tránsito y otras entidades autorizadas",1907]
["Concepto_5247",{"$f":"Listas[[#This Row],[ID]]&\" \"&IF(Listas[[#This Row],[Descripcion]]=\"\",\"\",\"- \"&Listas[[#This Row],[Descripcion]])","v":"5047 - Importe de los siniestros por lucro cesante pagados o abonados en cuenta"},"5047","Importe de los siniestros por lucro cesante pagados o abonados en cuenta",1908]
["Concepto_5247",{"$f":"Listas[[#This Row],[ID]]&\" \"&IF(Listas[[#This Row],[Descripcion]]=\"\",\"\",\"- \"&Listas[[#This Row],[Descripcion]])","v":"5048 - Importe de los siniestros por daño emergente pagados o abonados en cuenta"},"5048","Importe de los siniestros por daño emergente pagados o abonados en cuenta",1909]
["Concepto_5247",{"$f":"Listas[[#This Row],[ID]]&\" \"&IF(Listas[[#This Row],[Descripcion]]=\"\",\"\",\"- \"&Listas[[#This Row],[Descripcion]])","v":"5053 - Retenciones practicas a titulo de timbre"},"5053","Retenciones practicas a titulo de timbre",1910]
["Concepto_5247",{"$f":"Listas[[#This Row],[ID]]&\" \"&IF(Listas[[#This Row],[Descripcion]]=\"\",\"\",\"- \"&Listas[[#This Row],[Descripcion]])","v":"5054 - La devolución de retenciones a título de impuesto de timbre, correspondientes a operaciones de años anteriores"},"5054","La devolución de retenciones a título de impuesto de timbre, correspondientes a operaciones de años anteriores",1911]
["Concepto_5247",{"$f":"Listas[[#This Row],[ID]]&\" \"&IF(Listas[[#This Row],[Descripcion]]=\"\",\"\",\"- \"&Listas[[#This Row],[Descripcion]])","v":"5055 - Viaticos"},"5055","Viaticos",1912]
["Concepto_5247",{"$f":"Listas[[#This Row],[ID]]&\" \"&IF(Listas[[#This Row],[Descripcion]]=\"\",\"\",\"- \"&Listas[[#This Row],[Descripcion]])","v":"5056 - Gastos de representacion"},"5056","Gastos de representacion",1913]
["Concepto_5247",{"$f":"Listas[[#This Row],[ID]]&\" \"&IF(Listas[[#This Row],[Descripcion]]=\"\",\"\",\"- \"&Listas[[#This Row],[Descripcion]])","v":"5058 - Valor de los Aportes, Tasas y Contribuciones solicitado como deducción"},"5058","Valor de los Aportes, Tasas y Contribuciones solicitado como deducción",1914]
["Concepto_5247",{"$f":"Listas[[#This Row],[ID]]&\" \"&IF(Listas[[#This Row],[Descripcion]]=\"\",\"\",\"- \"&Listas[[#This Row],[Descripcion]])","v":"5059 - El  pago  o  abono  en cuenta  realizado  a  cada  uno  de  los  cooperados,  del  valor  del  Fondo  para revalorización de aportes"},"5059","El  pago  o  abono  en cuenta  realizado  a  cada  uno  de  los  cooperados,  del  valor  del  Fondo  para revalorización de aportes",1915]
["Concepto_5247",{"$f":"Listas[[#This Row],[ID]]&\" \"&IF(Listas[[#This Row],[Descripcion]]=\"\",\"\",\"- \"&Listas[[#This Row],[Descripcion]])","v":"5060 - Redención de inversiones en lo que corresponde al reembolso del capital por titulos de capitalizacion"},"5060","Redención de inversiones en lo que corresponde al reembolso del capital por titulos de capitalizacion",1916]
["Concepto_5247",{"$f":"Listas[[#This Row],[ID]]&\" \"&IF(Listas[[#This Row],[Descripcion]]=\"\",\"\",\"- \"&Listas[[#This Row],[Descripcion]])","v":"5061 - Utilidades Pagadas o abonadas en cuenta, cuando el beneficiario es diferente al fideicomitente"},"5061","Utilidades Pagadas o abonadas en cuenta, cuando el beneficiario es diferente al fideicomitente",1917]
["Concepto_5247",{"$f":"Listas[[#This Row],[ID]]&\" \"&IF(Listas[[#This Row],[Descripcion]]=\"\",\"\",\"- \"&Listas[[#This Row],[Descripcion]])","v":"5063 - Intereses y rendimientos financieros efectivamente pagados"},"5063","Intereses y rendimientos financieros efectivamente pagados",1918]
["Concepto_5247",{"$f":"Listas[[#This Row],[ID]]&\" \"&IF(Listas[[#This Row],[Descripcion]]=\"\",\"\",\"- \"&Listas[[#This Row],[Descripcion]])","v":"5064 - Devoluciones de saldos de aportes pensionales pagados"},"5064","Devoluciones de saldos de aportes pensionales pagados",1919]
["Concepto_5247",{"$f":"Listas[[#This Row],[ID]]&\" \"&IF(Listas[[#This Row],[Descripcion]]=\"\",\"\",\"- \"&Listas[[#This Row],[Descripcion]])","v":"5065 - Excedences pensionales de libre disponibilidad componente de capital pagados"},"5065","Excedences pensionales de libre disponibilidad componente de capital pagados",1920]
["Concepto_5247",{"$f":"Listas[[#This Row],[ID]]&\" \"&IF(Listas[[#This Row],[Descripcion]]=\"\",\"\",\"- \"&Listas[[#This Row],[Descripcion]])","v":"5066 - El valor del impuesto nacional al consumo solicitado como deducción.Art.512-1 E.T"},"5066","El valor del impuesto nacional al consumo solicitado como deducción.Art.512-1 E.T",1921]
["Concepto_5247",{"$f":"Listas[[#This Row],[ID]]&\" \"&IF(Listas[[#This Row],[Descripcion]]=\"\",\"\",\"- \"&Listas[[#This Row],[Descripcion]])","v":"5067 - El valor acumulado de los pagos o abonos en cuenta al exterior por consultoría"},"5067","El valor acumulado de los pagos o abonos en cuenta al exterior por consultoría",1922]
["Concepto_5247",{"$f":"Listas[[#This Row],[ID]]&\" \"&IF(Listas[[#This Row],[Descripcion]]=\"\",\"\",\"- \"&Listas[[#This Row],[Descripcion]])","v":"5068 - Participaciones o dividendos pagados o abonados en cuenta en calidad de exigibles correspondientes a 2016 y anteriores, parágrafo 2 artículo 49 E.T."},"5068","Participaciones o dividendos pagados o abonados en cuenta en calidad de exigibles correspondientes a 2016 y anteriores, parágrafo 2 artículo 49 E.T.",1923]
["Concepto_5247",{"$f":"Listas[[#This Row],[ID]]&\" \"&IF(Listas[[#This Row],[Descripcion]]=\"\",\"\",\"- \"&Listas[[#This Row],[Descripcion]])","v":"5069 - Participaciones o dividendos pagados o abonados en cuenta en calidad de exigibles correspondientes a 2016 y anteriores, numeral 3 del artículo 49 E.T."},"5069","Participaciones o dividendos pagados o abonados en cuenta en calidad de exigibles correspondientes a 2016 y anteriores, numeral 3 del artículo 49 E.T.",1924]
["Concepto_5247",{"$f":"Listas[[#This Row],[ID]]&\" \"&IF(Listas[[#This Row],[Descripcion]]=\"\",\"\",\"- \"&Listas[[#This Row],[Descripcion]])","v":"5070 - Participaciones o dividendos pagados o abonados en cuenta en calidad de exigibles correspondientes a 2017 y siguientes, parágrafo 2 artículo 49 E.T."},"5070","Participaciones o dividendos pagados o abonados en cuenta en calidad de exigibles correspondientes a 2017 y siguientes, parágrafo 2 artículo 49 E.T.",1925]
["Concepto_5247",{"$f":"Listas[[#This Row],[ID]]&\" \"&IF(Listas[[#This Row],[Descripcion]]=\"\",\"\",\"- \"&Listas[[#This Row],[Descripcion]])","v":"5071 - Participaciones o dividendos pagados o abonados en cuenta en calidad de exigibles correspondientes a 2017 y siguientes, numeral 3 del artículo 49 E.T."},"5071","Participaciones o dividendos pagados o abonados en cuenta en calidad de exigibles correspondientes a 2017 y siguientes, numeral 3 del artículo 49 E.T.",1926]
["Concepto_5247",{"$f":"Listas[[#This Row],[ID]]&\" \"&IF(Listas[[#This Row],[Descripcion]]=\"\",\"\",\"- \"&Listas[[#This Row],[Descripcion]])","v":"5072 - El importe de los siniestros por seguros de vida pagados o abonados en cuenta"},"5072","El importe de los siniestros por seguros de vida pagados o abonados en cuenta",1927]
["Concepto_5247",{"$f":"Listas[[#This Row],[ID]]&\" \"&IF(Listas[[#This Row],[Descripcion]]=\"\",\"\",\"- \"&Listas[[#This Row],[Descripcion]])","v":"5073 - Desembolsos por depósitos judiciales"},"5073","Desembolsos por depósitos judiciales",1928]
["Concepto_5247",{"$f":"Listas[[#This Row],[ID]]&\" \"&IF(Listas[[#This Row],[Descripcion]]=\"\",\"\",\"- \"&Listas[[#This Row],[Descripcion]])","v":"5074 - Desembolsos por reintegros de depósitos judiciales"},"5074","Desembolsos por reintegros de depósitos judiciales",1929]
["Concepto_5247",{"$f":"Listas[[#This Row],[ID]]&\" \"&IF(Listas[[#This Row],[Descripcion]]=\"\",\"\",\"- \"&Listas[[#This Row],[Descripcion]])","v":"5075 - Regalías y explotación de la propiedad intelectual"},"5075","Regalías y explotación de la propiedad intelectual",1930]
["Concepto_5247",{"$f":"Listas[[#This Row],[ID]]&\" \"&IF(Listas[[#This Row],[Descripcion]]=\"\",\"\",\"- \"&Listas[[#This Row],[Descripcion]])","v":"5076 - Valor de utilidades distribuidas provenientes de diferimiento de ingresos, inciso 4 del art. 23-1 del E.T."},"5076","Valor de utilidades distribuidas provenientes de diferimiento de ingresos, inciso 4 del art. 23-1 del E.T.",1931]
["Concepto_5247",{"$f":"Listas[[#This Row],[ID]]&\" \"&IF(Listas[[#This Row],[Descripcion]]=\"\",\"\",\"- \"&Listas[[#This Row],[Descripcion]])","v":"5078 - Retenciones contribución laudos arbitrales"},"5078","Retenciones contribución laudos arbitrales",1932]
["Concepto_5247",{"$f":"Listas[[#This Row],[ID]]&\" \"&IF(Listas[[#This Row],[Descripcion]]=\"\",\"\",\"- \"&Listas[[#This Row],[Descripcion]])","v":"5079 - Intereses por deuda a vinculados en subcapitalización art.118-1 E.T. "},"5079","Intereses por deuda a vinculados en subcapitalización art.118-1 E.T. ",1933]
["Concepto_5247",{"$f":"Listas[[#This Row],[ID]]&\" \"&IF(Listas[[#This Row],[Descripcion]]=\"\",\"\",\"- \"&Listas[[#This Row],[Descripcion]])","v":"5080 - El valor acumulado de los pagos o abonos efectuados a proveedores del exterior por servicios audiovisuales digitales (entre otros, de música, videos, películas y juegos de cualquier tipo, así como la radiodifusión de cualquier tipo de evento).Art.437-2 num.8 E.T."},"5080","El valor acumulado de los pagos o abonos efectuados a proveedores del exterior por servicios audiovisuales digitales (entre otros, de música, videos, películas y juegos de cualquier tipo, así como la radiodifusión de cualquier tipo de evento).Art.437-2 num.8 E.T.",1934]
["Concepto_5247",{"$f":"Listas[[#This Row],[ID]]&\" \"&IF(Listas[[#This Row],[Descripcion]]=\"\",\"\",\"- \"&Listas[[#This Row],[Descripcion]])","v":"5081 - El valor acumulado de los pagos o abonos efectuados a proveedores del exterior por servicios prestados a través de plataformas digitales. Art.437-2 num.8 E.T."},"5081","El valor acumulado de los pagos o abonos efectuados a proveedores del exterior por servicios prestados a través de plataformas digitales. Art.437-2 num.8 E.T.",1935]
["Concepto_5247",{"$f":"Listas[[#This Row],[ID]]&\" \"&IF(Listas[[#This Row],[Descripcion]]=\"\",\"\",\"- \"&Listas[[#This Row],[Descripcion]])","v":"5082 - El valor acumulado de los pagos o abonos efectuados a proveedores del exterior por suministro de servicios de publicidad online. Art.437-2 num.8 E.T."},"5082","El valor acumulado de los pagos o abonos efectuados a proveedores del exterior por suministro de servicios de publicidad online. Art.437-2 num.8 E.T.",1936]
["Concepto_5247",{"$f":"Listas[[#This Row],[ID]]&\" \"&IF(Listas[[#This Row],[Descripcion]]=\"\",\"\",\"- \"&Listas[[#This Row],[Descripcion]])","v":"5083 - El valor acumulado de los pagos o abonos efectuados a proveedores del exterior por suministro de enseñanza o entrenamiento a distancia. Art.437-2 num.8 E.T."},"5083","El valor acumulado de los pagos o abonos efectuados a proveedores del exterior por suministro de enseñanza o entrenamiento a distancia. Art.437-2 num.8 E.T.",1937]
["Concepto_5247",{"$f":"Listas[[#This Row],[ID]]&\" \"&IF(Listas[[#This Row],[Descripcion]]=\"\",\"\",\"- \"&Listas[[#This Row],[Descripcion]])","v":"5084 - El valor acumulado de los pagos o abonos efectuados a proveedores del exterior por suministro de derechos de uso o explotación de intangibles. Art.437-2 num.8 E.T."},"5084","El valor acumulado de los pagos o abonos efectuados a proveedores del exterior por suministro de derechos de uso o explotación de intangibles. Art.437-2 num.8 E.T.",1938]
["Concepto_5247",{"$f":"Listas[[#This Row],[ID]]&\" \"&IF(Listas[[#This Row],[Descripcion]]=\"\",\"\",\"- \"&Listas[[#This Row],[Descripcion]])","v":"5085 - El valor acumulado de los pagos o abonos efectuados a proveedores del exterior por Otros servicios electrónicos o digitales con destino a usuarios ubicados en Colombia. Art.437-2 num.8 E.T."},"5085","El valor acumulado de los pagos o abonos efectuados a proveedores del exterior por Otros servicios electrónicos o digitales con destino a usuarios ubicados en Colombia. Art.437-2 num.8 E.T.",1939]
["Concepto_5247",{"$f":"Listas[[#This Row],[ID]]&\" \"&IF(Listas[[#This Row],[Descripcion]]=\"\",\"\",\"- \"&Listas[[#This Row],[Descripcion]])","v":"5086 - Valor retención en la fuente trasladada a terceros por participaciones o dividendos recibidos de sociedades nacionales E.T. art. 242-1 par.1"},"5086","Valor retención en la fuente trasladada a terceros por participaciones o dividendos recibidos de sociedades nacionales E.T. art. 242-1 par.1",1940]
["Concepto_5247",{"$f":"Listas[[#This Row],[ID]]&\" \"&IF(Listas[[#This Row],[Descripcion]]=\"\",\"\",\"- \"&Listas[[#This Row],[Descripcion]])","v":"5087 - Valor de los puntos premio redimidos en el período que afectan el gasto directamente, procedentes de programas de fidelización."},"5087","Valor de los puntos premio redimidos en el período que afectan el gasto directamente, procedentes de programas de fidelización.",1941]
["Tipo_Contrato",{"$f":"Listas[[#This Row],[ID]]&\" \"&IF(Listas[[#This Row],[Descripcion]]=\"\",\"\",\"- \"&Listas[[#This Row],[Descripcion]])","v":"1 - Mandato y/o Administración delegada"},"1","Mandato y/o Administración delegada",1942]
["Tipo_Contrato",{"$f":"Listas[[#This Row],[ID]]&\" \"&IF(Listas[[#This Row],[Descripcion]]=\"\",\"\",\"- \"&Listas[[#This Row],[Descripcion]])","v":"2 - Consocio y/o Unión Temporal"},"2","Consocio y/o Unión Temporal",1943]
["Tipo_Contrato",{"$f":"Listas[[#This Row],[ID]]&\" \"&IF(Listas[[#This Row],[Descripcion]]=\"\",\"\",\"- \"&Listas[[#This Row],[Descripcion]])","v":"3 - Exploración y Explotación de hidrocarburos, gases y minerales"},"3","Exploración y Explotación de hidrocarburos, gases y minerales",1944]
["Tipo_Contrato",{"$f":"Listas[[#This Row],[ID]]&\" \"&IF(Listas[[#This Row],[Descripcion]]=\"\",\"\",\"- \"&Listas[[#This Row],[Descripcion]])","v":"4 - Joint Venture"},"4","Joint Venture",1945]
["Tipo_Contrato",{"$f":"Listas[[#This Row],[ID]]&\" \"&IF(Listas[[#This Row],[Descripcion]]=\"\",\"\",\"- \"&Listas[[#This Row],[Descripcion]])","v":"5 - Cuentas en participación"},"5","Cuentas en participación",1946]
["Tipo_Contrato",{"$f":"Listas[[#This Row],[ID]]&\" \"&IF(Listas[[#This Row],[Descripcion]]=\"\",\"\",\"- \"&Listas[[#This Row],[Descripcion]])","v":"6 - Convenios de cooperación con entidades públicas"},"6","Convenios de cooperación con entidades públicas",1947]
["Tipo_responsable_1476",{"$f":"Listas[[#This Row],[ID]]&\" \"&IF(Listas[[#This Row],[Descripcion]]=\"\",\"\",\"- \"&Listas[[#This Row],[Descripcion]])","v":"1 - Propietario"},"1","Propietario",1948]
["Tipo_responsable_1476",{"$f":"Listas[[#This Row],[ID]]&\" \"&IF(Listas[[#This Row],[Descripcion]]=\"\",\"\",\"- \"&Listas[[#This Row],[Descripcion]])","v":"2 - Poseedor"},"2","Poseedor",1949]
["Tipo_responsable_1476",{"$f":"Listas[[#This Row],[ID]]&\" \"&IF(Listas[[#This Row],[Descripcion]]=\"\",\"\",\"- \"&Listas[[#This Row],[Descripcion]])","v":"3 - Usufructuario"},"3","Usufructuario",1950]
["Tipo_responsable_1476",{"$f":"Listas[[#This Row],[ID]]&\" \"&IF(Listas[[#This Row],[Descripcion]]=\"\",\"\",\"- \"&Listas[[#This Row],[Descripcion]])","v":"4 - Otro"},"4","Otro",1951]
["Conceptos_5251_1",{"$f":"Listas[[#This Row],[ID]]&\" \"&IF(Listas[[#This Row],[Descripcion]]=\"\",\"\",\"- \"&Listas[[#This Row],[Descripcion]])","v":"1340 - Mandato y/o Administración delegada"},"1340","Mandato y/o Administración delegada",1952]
["Conceptos_5251_2",{"$f":"Listas[[#This Row],[ID]]&\" \"&IF(Listas[[#This Row],[Descripcion]]=\"\",\"\",\"- \"&Listas[[#This Row],[Descripcion]])","v":"1370 - Consorcio y/o Union Temporal"},"1370","Consorcio y/o Union Temporal",1953]
["Conceptos_5251_3",{"$f":"Listas[[#This Row],[ID]]&\" \"&IF(Listas[[#This Row],[Descripcion]]=\"\",\"\",\"- \"&Listas[[#This Row],[Descripcion]])","v":"1350 - Exploración y Explotación de hidrocarburos, gases y minerales"},"1350","Exploración y Explotación de hidrocarburos, gases y minerales",1954]
["Conceptos_5251_4",{"$f":"Listas[[#This Row],[ID]]&\" \"&IF(Listas[[#This Row],[Descripcion]]=\"\",\"\",\"- \"&Listas[[#This Row],[Descripcion]])","v":"1360 - Joint Venture"},"1360","Joint Venture",1955]
["Conceptos_5251_5",{"$f":"Listas[[#This Row],[ID]]&\" \"&IF(Listas[[#This Row],[Descripcion]]=\"\",\"\",\"- \"&Listas[[#This Row],[Descripcion]])","v":"1330 - Cuentas en participación"},"1330","Cuentas en participación",1956]
["Conceptos_5251_6",{"$f":"Listas[[#This Row],[ID]]&\" \"&IF(Listas[[#This Row],[Descripcion]]=\"\",\"\",\"- \"&Listas[[#This Row],[Descripcion]])","v":"1380 - Convenios de cooperación con entidades públicas"},"1380","Convenios de cooperación con entidades públicas",1957]
["Conceptos_5252_1",{"$f":"Listas[[#This Row],[ID]]&\" \"&IF(Listas[[#This Row],[Descripcion]]=\"\",\"\",\"- \"&Listas[[#This Row],[Descripcion]])","v":"2240 - Mandato y/o Administración delegada"},"2240","Mandato y/o Administración delegada",1958]
["Conceptos_5252_2",{"$f":"Listas[[#This Row],[ID]]&\" \"&IF(Listas[[#This Row],[Descripcion]]=\"\",\"\",\"- \"&Listas[[#This Row],[Descripcion]])","v":"2270 - Consorcio y/o Union Temporal"},"2270","Consorcio y/o Union Temporal",1959]
["Conceptos_5252_3",{"$f":"Listas[[#This Row],[ID]]&\" \"&IF(Listas[[#This Row],[Descripcion]]=\"\",\"\",\"- \"&Listas[[#This Row],[Descripcion]])","v":"2250 - Exploración y Explotación de hidrocarburos, gases y minerales"},"2250","Exploración y Explotación de hidrocarburos, gases y minerales",1960]
["Conceptos_5252_4",{"$f":"Listas[[#This Row],[ID]]&\" \"&IF(Listas[[#This Row],[Descripcion]]=\"\",\"\",\"- \"&Listas[[#This Row],[Descripcion]])","v":"2260 - Joint Venture"},"2260","Joint Venture",1961]
["Conceptos_5252_5",{"$f":"Listas[[#This Row],[ID]]&\" \"&IF(Listas[[#This Row],[Descripcion]]=\"\",\"\",\"- \"&Listas[[#This Row],[Descripcion]])","v":"2230 - Cuentas en participación"},"2230","Cuentas en participación",1962]
["Conceptos_5252_6",{"$f":"Listas[[#This Row],[ID]]&\" \"&IF(Listas[[#This Row],[Descripcion]]=\"\",\"\",\"- \"&Listas[[#This Row],[Descripcion]])","v":"2280 - Convenios de cooperación con entidades públicas"},"2280","Convenios de cooperación con entidades públicas",1963]
["Tipo_Fideicomiso",{"$f":"Listas[[#This Row],[ID]]&\" \"&IF(Listas[[#This Row],[Descripcion]]=\"\",\"\",\"- \"&Listas[[#This Row],[Descripcion]])","v":"1 - Fideicomiso de Inversion"},"1","Fideicomiso de Inversion",1964]
["Tipo_Fideicomiso",{"$f":"Listas[[#This Row],[ID]]&\" \"&IF(Listas[[#This Row],[Descripcion]]=\"\",\"\",\"- \"&Listas[[#This Row],[Descripcion]])","v":"2 - Fideicomiso Inmobiliario"},"2","Fideicomiso Inmobiliario",1965]
["Tipo_Fideicomiso",{"$f":"Listas[[#This Row],[ID]]&\" \"&IF(Listas[[#This Row],[Descripcion]]=\"\",\"\",\"- \"&Listas[[#This Row],[Descripcion]])","v":"3 - Fiducia de Administracion"},"3","Fiducia de Administracion",1966]
["Tipo_Fideicomiso",{"$f":"Listas[[#This Row],[ID]]&\" \"&IF(Listas[[#This Row],[Descripcion]]=\"\",\"\",\"- \"&Listas[[#This Row],[Descripcion]])","v":"4 - Fiducia en Garantia"},"4","Fiducia en Garantia",1967]
["Tipo_Fideicomiso",{"$f":"Listas[[#This Row],[ID]]&\" \"&IF(Listas[[#This Row],[Descripcion]]=\"\",\"\",\"- \"&Listas[[#This Row],[Descripcion]])","v":"6 - Recursos del Sistema General de Seguridad Social y Otros Relacionados"},"6","Recursos del Sistema General de Seguridad Social y Otros Relacionados",1968]
["Departamentos_169",{"$f":"Listas[[#This Row],[ID]]&\" \"&IF(Listas[[#This Row],[Descripcion]]=\"\",\"\",\"- \"&Listas[[#This Row],[Descripcion]])","v":"91 - Amazonas"},"91","Amazonas",1969]
["Departamentos_169",{"$f":"Listas[[#This Row],[ID]]&\" \"&IF(Listas[[#This Row],[Descripcion]]=\"\",\"\",\"- \"&Listas[[#This Row],[Descripcion]])","v":"05 - Antioquia"},"05","Antioquia",1970]
["Departamentos_169",{"$f":"Listas[[#This Row],[ID]]&\" \"&IF(Listas[[#This Row],[Descripcion]]=\"\",\"\",\"- \"&Listas[[#This Row],[Descripcion]])","v":"81 - Arauca"},"81","Arauca",1971]
["Departamentos_169",{"$f":"Listas[[#This Row],[ID]]&\" \"&IF(Listas[[#This Row],[Descripcion]]=\"\",\"\",\"- \"&Listas[[#This Row],[Descripcion]])","v":"88 - Archielago de San Andrés "},"88","Archielago de San Andrés ",1972]
["Departamentos_169",{"$f":"Listas[[#This Row],[ID]]&\" \"&IF(Listas[[#This Row],[Descripcion]]=\"\",\"\",\"- \"&Listas[[#This Row],[Descripcion]])","v":"08 - Atlántico"},"08","Atlántico",1973]
["Departamentos_169",{"$f":"Listas[[#This Row],[ID]]&\" \"&IF(Listas[[#This Row],[Descripcion]]=\"\",\"\",\"- \"&Listas[[#This Row],[Descripcion]])","v":"11 - Bogotá"},"11","Bogotá",1974]
["Departamentos_169",{"$f":"Listas[[#This Row],[ID]]&\" \"&IF(Listas[[#This Row],[Descripcion]]=\"\",\"\",\"- \"&Listas[[#This Row],[Descripcion]])","v":"13 - Bolívar"},"13","Bolívar",1975]
["Departamentos_169",{"$f":"Listas[[#This Row],[ID]]&\" \"&IF(Listas[[#This Row],[Descripcion]]=\"\",\"\",\"- \"&Listas[[#This Row],[Descripcion]])","v":"15 - Boyacá"},"15","Boyacá",1976]
["Departamentos_169",{"$f":"Listas[[#This Row],[ID]]&\" \"&IF(Listas[[#This Row],[Descripcion]]=\"\",\"\",\"- \"&Listas[[#This Row],[Descripcion]])","v":"17 - Caldas"},"17","Caldas",1977]
["Departamentos_169",{"$f":"Listas[[#This Row],[ID]]&\" \"&IF(Listas[[#This Row],[Descripcion]]=\"\",\"\",\"- \"&Listas[[#This Row],[Descripcion]])","v":"18 - Caquetá"},"18","Caquetá",1978]
["Departamentos_169",{"$f":"Listas[[#This Row],[ID]]&\" \"&IF(Listas[[#This Row],[Descripcion]]=\"\",\"\",\"- \"&Listas[[#This Row],[Descripcion]])","v":"85 - Casanare"},"85","Casanare",1979]
["Departamentos_169",{"$f":"Listas[[#This Row],[ID]]&\" \"&IF(Listas[[#This Row],[Descripcion]]=\"\",\"\",\"- \"&Listas[[#This Row],[Descripcion]])","v":"19 - Cauca"},"19","Cauca",1980]
["Departamentos_169",{"$f":"Listas[[#This Row],[ID]]&\" \"&IF(Listas[[#This Row],[Descripcion]]=\"\",\"\",\"- \"&Listas[[#This Row],[Descripcion]])","v":"20 - Cesar"},"20","Cesar",1981]
["Departamentos_169",{"$f":"Listas[[#This Row],[ID]]&\" \"&IF(Listas[[#This Row],[Descripcion]]=\"\",\"\",\"- \"&Listas[[#This Row],[Descripcion]])","v":"27 - Chocó"},"27","Chocó",1982]
["Departamentos_169",{"$f":"Listas[[#This Row],[ID]]&\" \"&IF(Listas[[#This Row],[Descripcion]]=\"\",\"\",\"- \"&Listas[[#This Row],[Descripcion]])","v":"23 - Córdoba"},"23","Córdoba",1983]
["Departamentos_169",{"$f":"Listas[[#This Row],[ID]]&\" \"&IF(Listas[[#This Row],[Descripcion]]=\"\",\"\",\"- \"&Listas[[#This Row],[Descripcion]])","v":"25 - Cundinamarca"},"25","Cundinamarca",1984]
["Departamentos_169",{"$f":"Listas[[#This Row],[ID]]&\" \"&IF(Listas[[#This Row],[Descripcion]]=\"\",\"\",\"- \"&Listas[[#This Row],[Descripcion]])","v":"94 - Guanía"},"94","Guanía",1985]
["Departamentos_169",{"$f":"Listas[[#This Row],[ID]]&\" \"&IF(Listas[[#This Row],[Descripcion]]=\"\",\"\",\"- \"&Listas[[#This Row],[Descripcion]])","v":"95 - Guaviare"},"95","Guaviare",1986]
["Departamentos_169",{"$f":"Listas[[#This Row],[ID]]&\" \"&IF(Listas[[#This Row],[Descripcion]]=\"\",\"\",\"- \"&Listas[[#This Row],[Descripcion]])","v":"41 - Huila"},"41","Huila",1987]
["Departamentos_169",{"$f":"Listas[[#This Row],[ID]]&\" \"&IF(Listas[[#This Row],[Descripcion]]=\"\",\"\",\"- \"&Listas[[#This Row],[Descripcion]])","v":"44 - La Guajira"},"44","La Guajira",1988]
["Departamentos_169",{"$f":"Listas[[#This Row],[ID]]&\" \"&IF(Listas[[#This Row],[Descripcion]]=\"\",\"\",\"- \"&Listas[[#This Row],[Descripcion]])","v":"47 - Magdalena"},"47","Magdalena",1989]
["Departamentos_169",{"$f":"Listas[[#This Row],[ID]]&\" \"&IF(Listas[[#This Row],[Descripcion]]=\"\",\"\",\"- \"&Listas[[#This Row],[Descripcion]])","v":"50 - Meta"},"50","Meta",1990]
["Departamentos_169",{"$f":"Listas[[#This Row],[ID]]&\" \"&IF(Listas[[#This Row],[Descripcion]]=\"\",\"\",\"- \"&Listas[[#This Row],[Descripcion]])","v":"52 - Nariño"},"52","Nariño",1991]
["Departamentos_169",{"$f":"Listas[[#This Row],[ID]]&\" \"&IF(Listas[[#This Row],[Descripcion]]=\"\",\"\",\"- \"&Listas[[#This Row],[Descripcion]])","v":"54 - Norte de Santander"},"54","Norte de Santander",1992]
["Departamentos_169",{"$f":"Listas[[#This Row],[ID]]&\" \"&IF(Listas[[#This Row],[Descripcion]]=\"\",\"\",\"- \"&Listas[[#This Row],[Descripcion]])","v":"86 - Putumayo"},"86","Putumayo",1993]
["Departamentos_169",{"$f":"Listas[[#This Row],[ID]]&\" \"&IF(Listas[[#This Row],[Descripcion]]=\"\",\"\",\"- \"&Listas[[#This Row],[Descripcion]])","v":"63 - Quindio"},"63","Quindio",1994]
["Departamentos_169",{"$f":"Listas[[#This Row],[ID]]&\" \"&IF(Listas[[#This Row],[Descripcion]]=\"\",\"\",\"- \"&Listas[[#This Row],[Descripcion]])","v":"66 - Risaralda"},"66","Risaralda",1995]
["Departamentos_169",{"$f":"Listas[[#This Row],[ID]]&\" \"&IF(Listas[[#This Row],[Descripcion]]=\"\",\"\",\"- \"&Listas[[#This Row],[Descripcion]])","v":"68 - Santander"},"68","Santander",1996]
["Departamentos_169",{"$f":"Listas[[#This Row],[ID]]&\" \"&IF(Listas[[#This Row],[Descripcion]]=\"\",\"\",\"- \"&Listas[[#This Row],[Descripcion]])","v":"70 - Sucre"},"70","Sucre",1997]
["Departamentos_169",{"$f":"Listas[[#This Row],[ID]]&\" \"&IF(Listas[[#This Row],[Descripcion]]=\"\",\"\",\"- \"&Listas[[#This Row],[Descripcion]])","v":"73 - Tolima"},"73","Tolima",1998]
["Departamentos_169",{"$f":"Listas[[#This Row],[ID]]&\" \"&IF(Listas[[#This Row],[Descripcion]]=\"\",\"\",\"- \"&Listas[[#This Row],[Descripcion]])","v":"76 - Valle del Cauca"},"76","Valle del Cauca",1999]
["Departamentos_169",{"$f":"Listas[[#This Row],[ID]]&\" \"&IF(Listas[[#This Row],[Descripcion]]=\"\",\"\",\"- \"&Listas[[#This Row],[Descripcion]])","v":"97 - Vaupés"},"97","Vaupés",2000]
["Departamentos_169",{"$f":"Listas[[#This Row],[ID]]&\" \"&IF(Listas[[#This Row],[Descripcion]]=\"\",\"\",\"- \"&Listas[[#This Row],[Descripcion]])","v":"99 - Vichada"},"99","Vichada",2001]
["Municipios_05",{"$f":"Listas[[#This Row],[ID]]&\" \"&IF(Listas[[#This Row],[Descripcion]]=\"\",\"\",\"- \"&Listas[[#This Row],[Descripcion]])","v":"002 - Abejorral"},"002","Abejorral",2002]
["Municipios_05",{"$f":"Listas[[#This Row],[ID]]&\" \"&IF(Listas[[#This Row],[Descripcion]]=\"\",\"\",\"- \"&Listas[[#This Row],[Descripcion]])","v":"004 - Abriaquí"},"004","Abriaquí",2003]
["Municipios_05",{"$f":"Listas[[#This Row],[ID]]&\" \"&IF(Listas[[#This Row],[Descripcion]]=\"\",\"\",\"- \"&Listas[[#This Row],[Descripcion]])","v":"021 - Alejandría"},"021","Alejandría",2004]
["Municipios_05",{"$f":"Listas[[#This Row],[ID]]&\" \"&IF(Listas[[#This Row],[Descripcion]]=\"\",\"\",\"- \"&Listas[[#This Row],[Descripcion]])","v":"030 - Amaga"},"030","Amaga",2005]
["Municipios_05",{"$f":"Listas[[#This Row],[ID]]&\" \"&IF(Listas[[#This Row],[Descripcion]]=\"\",\"\",\"- \"&Listas[[#This Row],[Descripcion]])","v":"031 - Amalfi"},"031","Amalfi",2006]
["Municipios_05",{"$f":"Listas[[#This Row],[ID]]&\" \"&IF(Listas[[#This Row],[Descripcion]]=\"\",\"\",\"- \"&Listas[[#This Row],[Descripcion]])","v":"034 - Andes"},"034","Andes",2007]
["Municipios_05",{"$f":"Listas[[#This Row],[ID]]&\" \"&IF(Listas[[#This Row],[Descripcion]]=\"\",\"\",\"- \"&Listas[[#This Row],[Descripcion]])","v":"036 - Angelopolis"},"036","Angelopolis",2008]
["Municipios_05",{"$f":"Listas[[#This Row],[ID]]&\" \"&IF(Listas[[#This Row],[Descripcion]]=\"\",\"\",\"- \"&Listas[[#This Row],[Descripcion]])","v":"038 - Angostura"},"038","Angostura",2009]
["Municipios_05",{"$f":"Listas[[#This Row],[ID]]&\" \"&IF(Listas[[#This Row],[Descripcion]]=\"\",\"\",\"- \"&Listas[[#This Row],[Descripcion]])","v":"040 - Anorí"},"040","Anorí",2010]
["Municipios_05",{"$f":"Listas[[#This Row],[ID]]&\" \"&IF(Listas[[#This Row],[Descripcion]]=\"\",\"\",\"- \"&Listas[[#This Row],[Descripcion]])","v":"044 - Anza"},"044","Anza",2011]
["Municipios_05",{"$f":"Listas[[#This Row],[ID]]&\" \"&IF(Listas[[#This Row],[Descripcion]]=\"\",\"\",\"- \"&Listas[[#This Row],[Descripcion]])","v":"045 - Apartadó"},"045","Apartadó",2012]
["Municipios_05",{"$f":"Listas[[#This Row],[ID]]&\" \"&IF(Listas[[#This Row],[Descripcion]]=\"\",\"\",\"- \"&Listas[[#This Row],[Descripcion]])","v":"051 - Arboletes"},"051","Arboletes",2013]
["Municipios_05",{"$f":"Listas[[#This Row],[ID]]&\" \"&IF(Listas[[#This Row],[Descripcion]]=\"\",\"\",\"- \"&Listas[[#This Row],[Descripcion]])","v":"055 - Argelia"},"055","Argelia",2014]
["Municipios_05",{"$f":"Listas[[#This Row],[ID]]&\" \"&IF(Listas[[#This Row],[Descripcion]]=\"\",\"\",\"- \"&Listas[[#This Row],[Descripcion]])","v":"059 - Armenia"},"059","Armenia",2015]
["Municipios_05",{"$f":"Listas[[#This Row],[ID]]&\" \"&IF(Listas[[#This Row],[Descripcion]]=\"\",\"\",\"- \"&Listas[[#This Row],[Descripcion]])","v":"079 - Barbosa"},"079","Barbosa",2016]
["Municipios_05",{"$f":"Listas[[#This Row],[ID]]&\" \"&IF(Listas[[#This Row],[Descripcion]]=\"\",\"\",\"- \"&Listas[[#This Row],[Descripcion]])","v":"088 - Bello"},"088","Bello",2017]
["Municipios_05",{"$f":"Listas[[#This Row],[ID]]&\" \"&IF(Listas[[#This Row],[Descripcion]]=\"\",\"\",\"- \"&Listas[[#This Row],[Descripcion]])","v":"086 - Belmira"},"086","Belmira",2018]
["Municipios_05",{"$f":"Listas[[#This Row],[ID]]&\" \"&IF(Listas[[#This Row],[Descripcion]]=\"\",\"\",\"- \"&Listas[[#This Row],[Descripcion]])","v":"091 - Betania"},"091","Betania",2019]
["Municipios_05",{"$f":"Listas[[#This Row],[ID]]&\" \"&IF(Listas[[#This Row],[Descripcion]]=\"\",\"\",\"- \"&Listas[[#This Row],[Descripcion]])","v":"093 - Betulia"},"093","Betulia",2020]
["Municipios_05",{"$f":"Listas[[#This Row],[ID]]&\" \"&IF(Listas[[#This Row],[Descripcion]]=\"\",\"\",\"- \"&Listas[[#This Row],[Descripcion]])","v":"107 - Briceño"},"107","Briceño",2021]
["Municipios_05",{"$f":"Listas[[#This Row],[ID]]&\" \"&IF(Listas[[#This Row],[Descripcion]]=\"\",\"\",\"- \"&Listas[[#This Row],[Descripcion]])","v":"113 - Buriticá"},"113","Buriticá",2022]
["Municipios_05",{"$f":"Listas[[#This Row],[ID]]&\" \"&IF(Listas[[#This Row],[Descripcion]]=\"\",\"\",\"- \"&Listas[[#This Row],[Descripcion]])","v":"120 - Cáceres"},"120","Cáceres",2023]
["Municipios_05",{"$f":"Listas[[#This Row],[ID]]&\" \"&IF(Listas[[#This Row],[Descripcion]]=\"\",\"\",\"- \"&Listas[[#This Row],[Descripcion]])","v":"125 - Caicedo"},"125","Caicedo",2024]
["Municipios_05",{"$f":"Listas[[#This Row],[ID]]&\" \"&IF(Listas[[#This Row],[Descripcion]]=\"\",\"\",\"- \"&Listas[[#This Row],[Descripcion]])","v":"129 - Caldas"},"129","Caldas",2025]
["Municipios_05",{"$f":"Listas[[#This Row],[ID]]&\" \"&IF(Listas[[#This Row],[Descripcion]]=\"\",\"\",\"- \"&Listas[[#This Row],[Descripcion]])","v":"134 - Campamento"},"134","Campamento",2026]
["Municipios_05",{"$f":"Listas[[#This Row],[ID]]&\" \"&IF(Listas[[#This Row],[Descripcion]]=\"\",\"\",\"- \"&Listas[[#This Row],[Descripcion]])","v":"138 - Cañasgordas"},"138","Cañasgordas",2027]
["Municipios_05",{"$f":"Listas[[#This Row],[ID]]&\" \"&IF(Listas[[#This Row],[Descripcion]]=\"\",\"\",\"- \"&Listas[[#This Row],[Descripcion]])","v":"142 - Caracolí"},"142","Caracolí",2028]
["Municipios_05",{"$f":"Listas[[#This Row],[ID]]&\" \"&IF(Listas[[#This Row],[Descripcion]]=\"\",\"\",\"- \"&Listas[[#This Row],[Descripcion]])","v":"145 - Caramanta"},"145","Caramanta",2029]
["Municipios_05",{"$f":"Listas[[#This Row],[ID]]&\" \"&IF(Listas[[#This Row],[Descripcion]]=\"\",\"\",\"- \"&Listas[[#This Row],[Descripcion]])","v":"147 - Carepa"},"147","Carepa",2030]
["Municipios_05",{"$f":"Listas[[#This Row],[ID]]&\" \"&IF(Listas[[#This Row],[Descripcion]]=\"\",\"\",\"- \"&Listas[[#This Row],[Descripcion]])","v":"148 - Carmen De Viboral"},"148","Carmen De Viboral",2031]
["Municipios_05",{"$f":"Listas[[#This Row],[ID]]&\" \"&IF(Listas[[#This Row],[Descripcion]]=\"\",\"\",\"- \"&Listas[[#This Row],[Descripcion]])","v":"150 - Carolina"},"150","Carolina",2032]
["Municipios_05",{"$f":"Listas[[#This Row],[ID]]&\" \"&IF(Listas[[#This Row],[Descripcion]]=\"\",\"\",\"- \"&Listas[[#This Row],[Descripcion]])","v":"154 - Caucasia"},"154","Caucasia",2033]
["Municipios_05",{"$f":"Listas[[#This Row],[ID]]&\" \"&IF(Listas[[#This Row],[Descripcion]]=\"\",\"\",\"- \"&Listas[[#This Row],[Descripcion]])","v":"172 - Chigorodó"},"172","Chigorodó",2034]
["Municipios_05",{"$f":"Listas[[#This Row],[ID]]&\" \"&IF(Listas[[#This Row],[Descripcion]]=\"\",\"\",\"- \"&Listas[[#This Row],[Descripcion]])","v":"190 - Cisneros"},"190","Cisneros",2035]
["Municipios_05",{"$f":"Listas[[#This Row],[ID]]&\" \"&IF(Listas[[#This Row],[Descripcion]]=\"\",\"\",\"- \"&Listas[[#This Row],[Descripcion]])","v":"101 - Ciudad Bolívar"},"101","Ciudad Bolívar",2036]
["Municipios_05",{"$f":"Listas[[#This Row],[ID]]&\" \"&IF(Listas[[#This Row],[Descripcion]]=\"\",\"\",\"- \"&Listas[[#This Row],[Descripcion]])","v":"197 - Cocorná"},"197","Cocorná",2037]
["Municipios_05",{"$f":"Listas[[#This Row],[ID]]&\" \"&IF(Listas[[#This Row],[Descripcion]]=\"\",\"\",\"- \"&Listas[[#This Row],[Descripcion]])","v":"206 - Concepción"},"206","Concepción",2038]
["Municipios_05",{"$f":"Listas[[#This Row],[ID]]&\" \"&IF(Listas[[#This Row],[Descripcion]]=\"\",\"\",\"- \"&Listas[[#This Row],[Descripcion]])","v":"209 - Concordia"},"209","Concordia",2039]
["Municipios_05",{"$f":"Listas[[#This Row],[ID]]&\" \"&IF(Listas[[#This Row],[Descripcion]]=\"\",\"\",\"- \"&Listas[[#This Row],[Descripcion]])","v":"212 - Copacabana"},"212","Copacabana",2040]
["Municipios_05",{"$f":"Listas[[#This Row],[ID]]&\" \"&IF(Listas[[#This Row],[Descripcion]]=\"\",\"\",\"- \"&Listas[[#This Row],[Descripcion]])","v":"234 - Dabeiba"},"234","Dabeiba",2041]
["Municipios_05",{"$f":"Listas[[#This Row],[ID]]&\" \"&IF(Listas[[#This Row],[Descripcion]]=\"\",\"\",\"- \"&Listas[[#This Row],[Descripcion]])","v":"237 - Don Matias"},"237","Don Matias",2042]
["Municipios_05",{"$f":"Listas[[#This Row],[ID]]&\" \"&IF(Listas[[#This Row],[Descripcion]]=\"\",\"\",\"- \"&Listas[[#This Row],[Descripcion]])","v":"240 - Ebéjico"},"240","Ebéjico",2043]
["Municipios_05",{"$f":"Listas[[#This Row],[ID]]&\" \"&IF(Listas[[#This Row],[Descripcion]]=\"\",\"\",\"- \"&Listas[[#This Row],[Descripcion]])","v":"250 - El Bagre"},"250","El Bagre",2044]
["Municipios_05",{"$f":"Listas[[#This Row],[ID]]&\" \"&IF(Listas[[#This Row],[Descripcion]]=\"\",\"\",\"- \"&Listas[[#This Row],[Descripcion]])","v":"264 - Entrerrios"},"264","Entrerrios",2045]
["Municipios_05",{"$f":"Listas[[#This Row],[ID]]&\" \"&IF(Listas[[#This Row],[Descripcion]]=\"\",\"\",\"- \"&Listas[[#This Row],[Descripcion]])","v":"266 - Envigado"},"266","Envigado",2046]
["Municipios_05",{"$f":"Listas[[#This Row],[ID]]&\" \"&IF(Listas[[#This Row],[Descripcion]]=\"\",\"\",\"- \"&Listas[[#This Row],[Descripcion]])","v":"282 - Fredonia"},"282","Fredonia",2047]
["Municipios_05",{"$f":"Listas[[#This Row],[ID]]&\" \"&IF(Listas[[#This Row],[Descripcion]]=\"\",\"\",\"- \"&Listas[[#This Row],[Descripcion]])","v":"284 - Frontino"},"284","Frontino",2048]
["Municipios_05",{"$f":"Listas[[#This Row],[ID]]&\" \"&IF(Listas[[#This Row],[Descripcion]]=\"\",\"\",\"- \"&Listas[[#This Row],[Descripcion]])","v":"306 - Giraldo"},"306","Giraldo",2049]
["Municipios_05",{"$f":"Listas[[#This Row],[ID]]&\" \"&IF(Listas[[#This Row],[Descripcion]]=\"\",\"\",\"- \"&Listas[[#This Row],[Descripcion]])","v":"308 - Girardota"},"308","Girardota",2050]
["Municipios_05",{"$f":"Listas[[#This Row],[ID]]&\" \"&IF(Listas[[#This Row],[Descripcion]]=\"\",\"\",\"- \"&Listas[[#This Row],[Descripcion]])","v":"310 - Gómez Plata"},"310","Gómez Plata",2051]
["Municipios_05",{"$f":"Listas[[#This Row],[ID]]&\" \"&IF(Listas[[#This Row],[Descripcion]]=\"\",\"\",\"- \"&Listas[[#This Row],[Descripcion]])","v":"313 - Granada"},"313","Granada",2052]
["Municipios_05",{"$f":"Listas[[#This Row],[ID]]&\" \"&IF(Listas[[#This Row],[Descripcion]]=\"\",\"\",\"- \"&Listas[[#This Row],[Descripcion]])","v":"315 - Guadalupe"},"315","Guadalupe",2053]
["Municipios_05",{"$f":"Listas[[#This Row],[ID]]&\" \"&IF(Listas[[#This Row],[Descripcion]]=\"\",\"\",\"- \"&Listas[[#This Row],[Descripcion]])","v":"318 - Guarne"},"318","Guarne",2054]
["Municipios_05",{"$f":"Listas[[#This Row],[ID]]&\" \"&IF(Listas[[#This Row],[Descripcion]]=\"\",\"\",\"- \"&Listas[[#This Row],[Descripcion]])","v":"321 - Guatape"},"321","Guatape",2055]
["Municipios_05",{"$f":"Listas[[#This Row],[ID]]&\" \"&IF(Listas[[#This Row],[Descripcion]]=\"\",\"\",\"- \"&Listas[[#This Row],[Descripcion]])","v":"347 - Heliconia"},"347","Heliconia",2056]
["Municipios_05",{"$f":"Listas[[#This Row],[ID]]&\" \"&IF(Listas[[#This Row],[Descripcion]]=\"\",\"\",\"- \"&Listas[[#This Row],[Descripcion]])","v":"353 - Hispania"},"353","Hispania",2057]
["Municipios_05",{"$f":"Listas[[#This Row],[ID]]&\" \"&IF(Listas[[#This Row],[Descripcion]]=\"\",\"\",\"- \"&Listas[[#This Row],[Descripcion]])","v":"360 - Itagui"},"360","Itagui",2058]
["Municipios_05",{"$f":"Listas[[#This Row],[ID]]&\" \"&IF(Listas[[#This Row],[Descripcion]]=\"\",\"\",\"- \"&Listas[[#This Row],[Descripcion]])","v":"361 - Ituango"},"361","Ituango",2059]
["Municipios_05",{"$f":"Listas[[#This Row],[ID]]&\" \"&IF(Listas[[#This Row],[Descripcion]]=\"\",\"\",\"- \"&Listas[[#This Row],[Descripcion]])","v":"364 - Jardín"},"364","Jardín",2060]
["Municipios_05",{"$f":"Listas[[#This Row],[ID]]&\" \"&IF(Listas[[#This Row],[Descripcion]]=\"\",\"\",\"- \"&Listas[[#This Row],[Descripcion]])","v":"368 - Jericó"},"368","Jericó",2061]
["Municipios_05",{"$f":"Listas[[#This Row],[ID]]&\" \"&IF(Listas[[#This Row],[Descripcion]]=\"\",\"\",\"- \"&Listas[[#This Row],[Descripcion]])","v":"376 - La Ceja"},"376","La Ceja",2062]
["Municipios_05",{"$f":"Listas[[#This Row],[ID]]&\" \"&IF(Listas[[#This Row],[Descripcion]]=\"\",\"\",\"- \"&Listas[[#This Row],[Descripcion]])","v":"380 - La Estrella"},"380","La Estrella",2063]
["Municipios_05",{"$f":"Listas[[#This Row],[ID]]&\" \"&IF(Listas[[#This Row],[Descripcion]]=\"\",\"\",\"- \"&Listas[[#This Row],[Descripcion]])","v":"390 - La Pintada"},"390","La Pintada",2064]
["Municipios_05",{"$f":"Listas[[#This Row],[ID]]&\" \"&IF(Listas[[#This Row],[Descripcion]]=\"\",\"\",\"- \"&Listas[[#This Row],[Descripcion]])","v":"400 - La Unión"},"400","La Unión",2065]
["Municipios_05",{"$f":"Listas[[#This Row],[ID]]&\" \"&IF(Listas[[#This Row],[Descripcion]]=\"\",\"\",\"- \"&Listas[[#This Row],[Descripcion]])","v":"411 - Liborina"},"411","Liborina",2066]
["Municipios_05",{"$f":"Listas[[#This Row],[ID]]&\" \"&IF(Listas[[#This Row],[Descripcion]]=\"\",\"\",\"- \"&Listas[[#This Row],[Descripcion]])","v":"425 - Maceo"},"425","Maceo",2067]
["Municipios_05",{"$f":"Listas[[#This Row],[ID]]&\" \"&IF(Listas[[#This Row],[Descripcion]]=\"\",\"\",\"- \"&Listas[[#This Row],[Descripcion]])","v":"440 - Marinilla"},"440","Marinilla",2068]
["Municipios_05",{"$f":"Listas[[#This Row],[ID]]&\" \"&IF(Listas[[#This Row],[Descripcion]]=\"\",\"\",\"- \"&Listas[[#This Row],[Descripcion]])","v":"001 - Medellín"},"001","Medellín",2069]
["Municipios_05",{"$f":"Listas[[#This Row],[ID]]&\" \"&IF(Listas[[#This Row],[Descripcion]]=\"\",\"\",\"- \"&Listas[[#This Row],[Descripcion]])","v":"467 - Montebello"},"467","Montebello",2070]
["Municipios_05",{"$f":"Listas[[#This Row],[ID]]&\" \"&IF(Listas[[#This Row],[Descripcion]]=\"\",\"\",\"- \"&Listas[[#This Row],[Descripcion]])","v":"475 - Murindó"},"475","Murindó",2071]
["Municipios_05",{"$f":"Listas[[#This Row],[ID]]&\" \"&IF(Listas[[#This Row],[Descripcion]]=\"\",\"\",\"- \"&Listas[[#This Row],[Descripcion]])","v":"480 - Mutata"},"480","Mutata",2072]
["Municipios_05",{"$f":"Listas[[#This Row],[ID]]&\" \"&IF(Listas[[#This Row],[Descripcion]]=\"\",\"\",\"- \"&Listas[[#This Row],[Descripcion]])","v":"483 - Nariño"},"483","Nariño",2073]
["Municipios_05",{"$f":"Listas[[#This Row],[ID]]&\" \"&IF(Listas[[#This Row],[Descripcion]]=\"\",\"\",\"- \"&Listas[[#This Row],[Descripcion]])","v":"495 - Nechí"},"495","Nechí",2074]
["Municipios_05",{"$f":"Listas[[#This Row],[ID]]&\" \"&IF(Listas[[#This Row],[Descripcion]]=\"\",\"\",\"- \"&Listas[[#This Row],[Descripcion]])","v":"490 - Necoclí"},"490","Necoclí",2075]
["Municipios_05",{"$f":"Listas[[#This Row],[ID]]&\" \"&IF(Listas[[#This Row],[Descripcion]]=\"\",\"\",\"- \"&Listas[[#This Row],[Descripcion]])","v":"501 - Olaya"},"501","Olaya",2076]
["Municipios_05",{"$f":"Listas[[#This Row],[ID]]&\" \"&IF(Listas[[#This Row],[Descripcion]]=\"\",\"\",\"- \"&Listas[[#This Row],[Descripcion]])","v":"541 - Peñol"},"541","Peñol",2077]
["Municipios_05",{"$f":"Listas[[#This Row],[ID]]&\" \"&IF(Listas[[#This Row],[Descripcion]]=\"\",\"\",\"- \"&Listas[[#This Row],[Descripcion]])","v":"543 - Peque"},"543","Peque",2078]
["Municipios_05",{"$f":"Listas[[#This Row],[ID]]&\" \"&IF(Listas[[#This Row],[Descripcion]]=\"\",\"\",\"- \"&Listas[[#This Row],[Descripcion]])","v":"576 - Pueblorrico"},"576","Pueblorrico",2079]
["Municipios_05",{"$f":"Listas[[#This Row],[ID]]&\" \"&IF(Listas[[#This Row],[Descripcion]]=\"\",\"\",\"- \"&Listas[[#This Row],[Descripcion]])","v":"579 - Puerto Berrio"},"579","Puerto Berrio",2080]
["Municipios_05",{"$f":"Listas[[#This Row],[ID]]&\" \"&IF(Listas[[#This Row],[Descripcion]]=\"\",\"\",\"- \"&Listas[[#This Row],[Descripcion]])","v":"585 - Puerto Nare"},"585","Puerto Nare",2081]
["Municipios_05",{"$f":"Listas[[#This Row],[ID]]&\" \"&IF(Listas[[#This Row],[Descripcion]]=\"\",\"\",\"- \"&Listas[[#This Row],[Descripcion]])","v":"591 - Puerto Triunfo"},"591","Puerto Triunfo",2082]
["Municipios_05",{"$f":"Listas[[#This Row],[ID]]&\" \"&IF(Listas[[#This Row],[Descripcion]]=\"\",\"\",\"- \"&Listas[[#This Row],[Descripcion]])","v":"604 - Remedios"},"604","Remedios",2083]
["Municipios_05",{"$f":"Listas[[#This Row],[ID]]&\" \"&IF(Listas[[#This Row],[Descripcion]]=\"\",\"\",\"- \"&Listas[[#This Row],[Descripcion]])","v":"607 - Retiro"},"607","Retiro",2084]
["Municipios_05",{"$f":"Listas[[#This Row],[ID]]&\" \"&IF(Listas[[#This Row],[Descripcion]]=\"\",\"\",\"- \"&Listas[[#This Row],[Descripcion]])","v":"615 - Rionegro"},"615","Rionegro",2085]
["Municipios_05",{"$f":"Listas[[#This Row],[ID]]&\" \"&IF(Listas[[#This Row],[Descripcion]]=\"\",\"\",\"- \"&Listas[[#This Row],[Descripcion]])","v":"628 - Sabanalarga"},"628","Sabanalarga",2086]
["Municipios_05",{"$f":"Listas[[#This Row],[ID]]&\" \"&IF(Listas[[#This Row],[Descripcion]]=\"\",\"\",\"- \"&Listas[[#This Row],[Descripcion]])","v":"631 - Sabaneta"},"631","Sabaneta",2087]
["Municipios_05",{"$f":"Listas[[#This Row],[ID]]&\" \"&IF(Listas[[#This Row],[Descripcion]]=\"\",\"\",\"- \"&Listas[[#This Row],[Descripcion]])","v":"642 - Salgar"},"642","Salgar",2088]
["Municipios_05",{"$f":"Listas[[#This Row],[ID]]&\" \"&IF(Listas[[#This Row],[Descripcion]]=\"\",\"\",\"- \"&Listas[[#This Row],[Descripcion]])","v":"647 - San Andrés"},"647","San Andrés",2089]
["Municipios_05",{"$f":"Listas[[#This Row],[ID]]&\" \"&IF(Listas[[#This Row],[Descripcion]]=\"\",\"\",\"- \"&Listas[[#This Row],[Descripcion]])","v":"649 - San Carlos"},"649","San Carlos",2090]
["Municipios_05",{"$f":"Listas[[#This Row],[ID]]&\" \"&IF(Listas[[#This Row],[Descripcion]]=\"\",\"\",\"- \"&Listas[[#This Row],[Descripcion]])","v":"652 - San Francisco"},"652","San Francisco",2091]
["Municipios_05",{"$f":"Listas[[#This Row],[ID]]&\" \"&IF(Listas[[#This Row],[Descripcion]]=\"\",\"\",\"- \"&Listas[[#This Row],[Descripcion]])","v":"656 - San Jerónimo"},"656","San Jerónimo",2092]
["Municipios_05",{"$f":"Listas[[#This Row],[ID]]&\" \"&IF(Listas[[#This Row],[Descripcion]]=\"\",\"\",\"- \"&Listas[[#This Row],[Descripcion]])","v":"658 - San José De La Montaña"},"658","San José De La Montaña",2093]
["Municipios_05",{"$f":"Listas[[#This Row],[ID]]&\" \"&IF(Listas[[#This Row],[Descripcion]]=\"\",\"\",\"- \"&Listas[[#This Row],[Descripcion]])","v":"659 - San Juan De Uraba"},"659","San Juan De Uraba",2094]
["Municipios_05",{"$f":"Listas[[#This Row],[ID]]&\" \"&IF(Listas[[#This Row],[Descripcion]]=\"\",\"\",\"- \"&Listas[[#This Row],[Descripcion]])","v":"660 - San Luis"},"660","San Luis",2095]
["Municipios_05",{"$f":"Listas[[#This Row],[ID]]&\" \"&IF(Listas[[#This Row],[Descripcion]]=\"\",\"\",\"- \"&Listas[[#This Row],[Descripcion]])","v":"664 - San Pedro"},"664","San Pedro",2096]
["Municipios_05",{"$f":"Listas[[#This Row],[ID]]&\" \"&IF(Listas[[#This Row],[Descripcion]]=\"\",\"\",\"- \"&Listas[[#This Row],[Descripcion]])","v":"665 - San Pedro De Uraba"},"665","San Pedro De Uraba",2097]
["Municipios_05",{"$f":"Listas[[#This Row],[ID]]&\" \"&IF(Listas[[#This Row],[Descripcion]]=\"\",\"\",\"- \"&Listas[[#This Row],[Descripcion]])","v":"667 - San Rafael"},"667","San Rafael",2098]
["Municipios_05",{"$f":"Listas[[#This Row],[ID]]&\" \"&IF(Listas[[#This Row],[Descripcion]]=\"\",\"\",\"- \"&Listas[[#This Row],[Descripcion]])","v":"670 - San Roque"},"670","San Roque",2099]
["Municipios_05",{"$f":"Listas[[#This Row],[ID]]&\" \"&IF(Listas[[#This Row],[Descripcion]]=\"\",\"\",\"- \"&Listas[[#This Row],[Descripcion]])","v":"674 - San Vicente"},"674","San Vicente",2100]
["Municipios_05",{"$f":"Listas[[#This Row],[ID]]&\" \"&IF(Listas[[#This Row],[Descripcion]]=\"\",\"\",\"- \"&Listas[[#This Row],[Descripcion]])","v":"679 - Santa Barbara"},"679","Santa Barbara",2101]
["Municipios_05",{"$f":"Listas[[#This Row],[ID]]&\" \"&IF(Listas[[#This Row],[Descripcion]]=\"\",\"\",\"- \"&Listas[[#This Row],[Descripcion]])","v":"686 - Santa Rosa De Osos"},"686","Santa Rosa De Osos",2102]
["Municipios_05",{"$f":"Listas[[#This Row],[ID]]&\" \"&IF(Listas[[#This Row],[Descripcion]]=\"\",\"\",\"- \"&Listas[[#This Row],[Descripcion]])","v":"042 - Santafé De Antioquia"},"042","Santafé De Antioquia",2103]
["Municipios_05",{"$f":"Listas[[#This Row],[ID]]&\" \"&IF(Listas[[#This Row],[Descripcion]]=\"\",\"\",\"- \"&Listas[[#This Row],[Descripcion]])","v":"690 - Santo Domingo"},"690","Santo Domingo",2104]
["Municipios_05",{"$f":"Listas[[#This Row],[ID]]&\" \"&IF(Listas[[#This Row],[Descripcion]]=\"\",\"\",\"- \"&Listas[[#This Row],[Descripcion]])","v":"697 - Santuario"},"697","Santuario",2105]
["Municipios_05",{"$f":"Listas[[#This Row],[ID]]&\" \"&IF(Listas[[#This Row],[Descripcion]]=\"\",\"\",\"- \"&Listas[[#This Row],[Descripcion]])","v":"736 - Segovia"},"736","Segovia",2106]
["Municipios_05",{"$f":"Listas[[#This Row],[ID]]&\" \"&IF(Listas[[#This Row],[Descripcion]]=\"\",\"\",\"- \"&Listas[[#This Row],[Descripcion]])","v":"756 - Sonson"},"756","Sonson",2107]
["Municipios_05",{"$f":"Listas[[#This Row],[ID]]&\" \"&IF(Listas[[#This Row],[Descripcion]]=\"\",\"\",\"- \"&Listas[[#This Row],[Descripcion]])","v":"761 - Sopetran"},"761","Sopetran",2108]
["Municipios_05",{"$f":"Listas[[#This Row],[ID]]&\" \"&IF(Listas[[#This Row],[Descripcion]]=\"\",\"\",\"- \"&Listas[[#This Row],[Descripcion]])","v":"789 - Támesis"},"789","Támesis",2109]
["Municipios_05",{"$f":"Listas[[#This Row],[ID]]&\" \"&IF(Listas[[#This Row],[Descripcion]]=\"\",\"\",\"- \"&Listas[[#This Row],[Descripcion]])","v":"790 - Tarazá"},"790","Tarazá",2110]
["Municipios_05",{"$f":"Listas[[#This Row],[ID]]&\" \"&IF(Listas[[#This Row],[Descripcion]]=\"\",\"\",\"- \"&Listas[[#This Row],[Descripcion]])","v":"792 - Tarso"},"792","Tarso",2111]
["Municipios_05",{"$f":"Listas[[#This Row],[ID]]&\" \"&IF(Listas[[#This Row],[Descripcion]]=\"\",\"\",\"- \"&Listas[[#This Row],[Descripcion]])","v":"809 - Titiribí"},"809","Titiribí",2112]
["Municipios_05",{"$f":"Listas[[#This Row],[ID]]&\" \"&IF(Listas[[#This Row],[Descripcion]]=\"\",\"\",\"- \"&Listas[[#This Row],[Descripcion]])","v":"819 - Toledo"},"819","Toledo",2113]
["Municipios_05",{"$f":"Listas[[#This Row],[ID]]&\" \"&IF(Listas[[#This Row],[Descripcion]]=\"\",\"\",\"- \"&Listas[[#This Row],[Descripcion]])","v":"837 - Turbo"},"837","Turbo",2114]
["Municipios_05",{"$f":"Listas[[#This Row],[ID]]&\" \"&IF(Listas[[#This Row],[Descripcion]]=\"\",\"\",\"- \"&Listas[[#This Row],[Descripcion]])","v":"842 - Uramita"},"842","Uramita",2115]
["Municipios_05",{"$f":"Listas[[#This Row],[ID]]&\" \"&IF(Listas[[#This Row],[Descripcion]]=\"\",\"\",\"- \"&Listas[[#This Row],[Descripcion]])","v":"847 - Urrao"},"847","Urrao",2116]
["Municipios_05",{"$f":"Listas[[#This Row],[ID]]&\" \"&IF(Listas[[#This Row],[Descripcion]]=\"\",\"\",\"- \"&Listas[[#This Row],[Descripcion]])","v":"854 - Valdivia"},"854","Valdivia",2117]
["Municipios_05",{"$f":"Listas[[#This Row],[ID]]&\" \"&IF(Listas[[#This Row],[Descripcion]]=\"\",\"\",\"- \"&Listas[[#This Row],[Descripcion]])","v":"856 - Valparaiso"},"856","Valparaiso",2118]
["Municipios_05",{"$f":"Listas[[#This Row],[ID]]&\" \"&IF(Listas[[#This Row],[Descripcion]]=\"\",\"\",\"- \"&Listas[[#This Row],[Descripcion]])","v":"858 - Vegachí"},"858","Vegachí",2119]
["Municipios_05",{"$f":"Listas[[#This Row],[ID]]&\" \"&IF(Listas[[#This Row],[Descripcion]]=\"\",\"\",\"- \"&Listas[[#This Row],[Descripcion]])","v":"861 - Venecia"},"861","Venecia",2120]
["Municipios_05",{"$f":"Listas[[#This Row],[ID]]&\" \"&IF(Listas[[#This Row],[Descripcion]]=\"\",\"\",\"- \"&Listas[[#This Row],[Descripcion]])","v":"873 - Vigía Del Fuerte"},"873","Vigía Del Fuerte",2121]
["Municipios_05",{"$f":"Listas[[#This Row],[ID]]&\" \"&IF(Listas[[#This Row],[Descripcion]]=\"\",\"\",\"- \"&Listas[[#This Row],[Descripcion]])","v":"885 - Yalí"},"885","Yalí",2122]
["Municipios_05",{"$f":"Listas[[#This Row],[ID]]&\" \"&IF(Listas[[#This Row],[Descripcion]]=\"\",\"\",\"- \"&Listas[[#This Row],[Descripcion]])","v":"887 - Yarumal"},"887","Yarumal",2123]
["Municipios_05",{"$f":"Listas[[#This Row],[ID]]&\" \"&IF(Listas[[#This Row],[Descripcion]]=\"\",\"\",\"- \"&Listas[[#This Row],[Descripcion]])","v":"890 - Yolombó"},"890","Yolombó",2124]
["Municipios_05",{"$f":"Listas[[#This Row],[ID]]&\" \"&IF(Listas[[#This Row],[Descripcion]]=\"\",\"\",\"- \"&Listas[[#This Row],[Descripcion]])","v":"893 - Yondó"},"893","Yondó",2125]
["Municipios_05",{"$f":"Listas[[#This Row],[ID]]&\" \"&IF(Listas[[#This Row],[Descripcion]]=\"\",\"\",\"- \"&Listas[[#This Row],[Descripcion]])","v":"895 - Zaragoza"},"895","Zaragoza",2126]
["Municipios_08",{"$f":"Listas[[#This Row],[ID]]&\" \"&IF(Listas[[#This Row],[Descripcion]]=\"\",\"\",\"- \"&Listas[[#This Row],[Descripcion]])","v":"078 - Baranoa"},"078","Baranoa",2127]
["Municipios_08",{"$f":"Listas[[#This Row],[ID]]&\" \"&IF(Listas[[#This Row],[Descripcion]]=\"\",\"\",\"- \"&Listas[[#This Row],[Descripcion]])","v":"001 - Barranquilla"},"001","Barranquilla",2128]
["Municipios_08",{"$f":"Listas[[#This Row],[ID]]&\" \"&IF(Listas[[#This Row],[Descripcion]]=\"\",\"\",\"- \"&Listas[[#This Row],[Descripcion]])","v":"137 - Campo De La Cruz"},"137","Campo De La Cruz",2129]
["Municipios_08",{"$f":"Listas[[#This Row],[ID]]&\" \"&IF(Listas[[#This Row],[Descripcion]]=\"\",\"\",\"- \"&Listas[[#This Row],[Descripcion]])","v":"141 - Candelaria"},"141","Candelaria",2130]
["Municipios_08",{"$f":"Listas[[#This Row],[ID]]&\" \"&IF(Listas[[#This Row],[Descripcion]]=\"\",\"\",\"- \"&Listas[[#This Row],[Descripcion]])","v":"296 - Galapa"},"296","Galapa",2131]
["Municipios_08",{"$f":"Listas[[#This Row],[ID]]&\" \"&IF(Listas[[#This Row],[Descripcion]]=\"\",\"\",\"- \"&Listas[[#This Row],[Descripcion]])","v":"372 - Juan De Acosta"},"372","Juan De Acosta",2132]
["Municipios_08",{"$f":"Listas[[#This Row],[ID]]&\" \"&IF(Listas[[#This Row],[Descripcion]]=\"\",\"\",\"- \"&Listas[[#This Row],[Descripcion]])","v":"421 - Luruaco"},"421","Luruaco",2133]
["Municipios_08",{"$f":"Listas[[#This Row],[ID]]&\" \"&IF(Listas[[#This Row],[Descripcion]]=\"\",\"\",\"- \"&Listas[[#This Row],[Descripcion]])","v":"433 - Malambo"},"433","Malambo",2134]
["Municipios_08",{"$f":"Listas[[#This Row],[ID]]&\" \"&IF(Listas[[#This Row],[Descripcion]]=\"\",\"\",\"- \"&Listas[[#This Row],[Descripcion]])","v":"436 - Manati"},"436","Manati",2135]
["Municipios_08",{"$f":"Listas[[#This Row],[ID]]&\" \"&IF(Listas[[#This Row],[Descripcion]]=\"\",\"\",\"- \"&Listas[[#This Row],[Descripcion]])","v":"520 - Palmar De Varela"},"520","Palmar De Varela",2136]
["Municipios_08",{"$f":"Listas[[#This Row],[ID]]&\" \"&IF(Listas[[#This Row],[Descripcion]]=\"\",\"\",\"- \"&Listas[[#This Row],[Descripcion]])","v":"549 - Piojó"},"549","Piojó",2137]
["Municipios_08",{"$f":"Listas[[#This Row],[ID]]&\" \"&IF(Listas[[#This Row],[Descripcion]]=\"\",\"\",\"- \"&Listas[[#This Row],[Descripcion]])","v":"558 - Polonuevo"},"558","Polonuevo",2138]
["Municipios_08",{"$f":"Listas[[#This Row],[ID]]&\" \"&IF(Listas[[#This Row],[Descripcion]]=\"\",\"\",\"- \"&Listas[[#This Row],[Descripcion]])","v":"560 - Ponedera"},"560","Ponedera",2139]
["Municipios_08",{"$f":"Listas[[#This Row],[ID]]&\" \"&IF(Listas[[#This Row],[Descripcion]]=\"\",\"\",\"- \"&Listas[[#This Row],[Descripcion]])","v":"573 - Puerto Colombia"},"573","Puerto Colombia",2140]
["Municipios_08",{"$f":"Listas[[#This Row],[ID]]&\" \"&IF(Listas[[#This Row],[Descripcion]]=\"\",\"\",\"- \"&Listas[[#This Row],[Descripcion]])","v":"606 - Repelon"},"606","Repelon",2141]
["Municipios_08",{"$f":"Listas[[#This Row],[ID]]&\" \"&IF(Listas[[#This Row],[Descripcion]]=\"\",\"\",\"- \"&Listas[[#This Row],[Descripcion]])","v":"634 - Sabanagrande"},"634","Sabanagrande",2142]
["Municipios_08",{"$f":"Listas[[#This Row],[ID]]&\" \"&IF(Listas[[#This Row],[Descripcion]]=\"\",\"\",\"- \"&Listas[[#This Row],[Descripcion]])","v":"638 - Sabanalarga"},"638","Sabanalarga",2143]
["Municipios_08",{"$f":"Listas[[#This Row],[ID]]&\" \"&IF(Listas[[#This Row],[Descripcion]]=\"\",\"\",\"- \"&Listas[[#This Row],[Descripcion]])","v":"675 - Santa Lucia"},"675","Santa Lucia",2144]
["Municipios_08",{"$f":"Listas[[#This Row],[ID]]&\" \"&IF(Listas[[#This Row],[Descripcion]]=\"\",\"\",\"- \"&Listas[[#This Row],[Descripcion]])","v":"685 - Santo Tomas"},"685","Santo Tomas",2145]
["Municipios_08",{"$f":"Listas[[#This Row],[ID]]&\" \"&IF(Listas[[#This Row],[Descripcion]]=\"\",\"\",\"- \"&Listas[[#This Row],[Descripcion]])","v":"758 - Soledad"},"758","Soledad",2146]
["Municipios_08",{"$f":"Listas[[#This Row],[ID]]&\" \"&IF(Listas[[#This Row],[Descripcion]]=\"\",\"\",\"- \"&Listas[[#This Row],[Descripcion]])","v":"770 - Suan"},"770","Suan",2147]
["Municipios_08",{"$f":"Listas[[#This Row],[ID]]&\" \"&IF(Listas[[#This Row],[Descripcion]]=\"\",\"\",\"- \"&Listas[[#This Row],[Descripcion]])","v":"832 - Tubara"},"832","Tubara",2148]
["Municipios_08",{"$f":"Listas[[#This Row],[ID]]&\" \"&IF(Listas[[#This Row],[Descripcion]]=\"\",\"\",\"- \"&Listas[[#This Row],[Descripcion]])","v":"849 - Usiacuri"},"849","Usiacuri",2149]
["Municipios_11",{"$f":"Listas[[#This Row],[ID]]&\" \"&IF(Listas[[#This Row],[Descripcion]]=\"\",\"\",\"- \"&Listas[[#This Row],[Descripcion]])","v":"001 - Bogota D.C."},"001","Bogota D.C.",2150]
["Municipios_13",{"$f":"Listas[[#This Row],[ID]]&\" \"&IF(Listas[[#This Row],[Descripcion]]=\"\",\"\",\"- \"&Listas[[#This Row],[Descripcion]])","v":"006 - Achí"},"006","Achí",2151]
["Municipios_13",{"$f":"Listas[[#This Row],[ID]]&\" \"&IF(Listas[[#This Row],[Descripcion]]=\"\",\"\",\"- \"&Listas[[#This Row],[Descripcion]])","v":"030 - Altos Del Rosario"},"030","Altos Del Rosario",2152]
["Municipios_13",{"$f":"Listas[[#This Row],[ID]]&\" \"&IF(Listas[[#This Row],[Descripcion]]=\"\",\"\",\"- \"&Listas[[#This Row],[Descripcion]])","v":"042 - Arenal"},"042","Arenal",2153]
["Municipios_13",{"$f":"Listas[[#This Row],[ID]]&\" \"&IF(Listas[[#This Row],[Descripcion]]=\"\",\"\",\"- \"&Listas[[#This Row],[Descripcion]])","v":"052 - Arjona"},"052","Arjona",2154]
["Municipios_13",{"$f":"Listas[[#This Row],[ID]]&\" \"&IF(Listas[[#This Row],[Descripcion]]=\"\",\"\",\"- \"&Listas[[#This Row],[Descripcion]])","v":"062 - Arroyohondo"},"062","Arroyohondo",2155]
["Municipios_13",{"$f":"Listas[[#This Row],[ID]]&\" \"&IF(Listas[[#This Row],[Descripcion]]=\"\",\"\",\"- \"&Listas[[#This Row],[Descripcion]])","v":"074 - Barranco De Loba"},"074","Barranco De Loba",2156]
["Municipios_13",{"$f":"Listas[[#This Row],[ID]]&\" \"&IF(Listas[[#This Row],[Descripcion]]=\"\",\"\",\"- \"&Listas[[#This Row],[Descripcion]])","v":"140 - Calamar"},"140","Calamar",2157]
["Municipios_13",{"$f":"Listas[[#This Row],[ID]]&\" \"&IF(Listas[[#This Row],[Descripcion]]=\"\",\"\",\"- \"&Listas[[#This Row],[Descripcion]])","v":"160 - Cantagallo"},"160","Cantagallo",2158]
["Municipios_13",{"$f":"Listas[[#This Row],[ID]]&\" \"&IF(Listas[[#This Row],[Descripcion]]=\"\",\"\",\"- \"&Listas[[#This Row],[Descripcion]])","v":"244 - Carmen De Bolívar"},"244","Carmen De Bolívar",2159]
["Municipios_13",{"$f":"Listas[[#This Row],[ID]]&\" \"&IF(Listas[[#This Row],[Descripcion]]=\"\",\"\",\"- \"&Listas[[#This Row],[Descripcion]])","v":"001 - Cartagena"},"001","Cartagena",2160]
["Municipios_13",{"$f":"Listas[[#This Row],[ID]]&\" \"&IF(Listas[[#This Row],[Descripcion]]=\"\",\"\",\"- \"&Listas[[#This Row],[Descripcion]])","v":"188 - Cicuco"},"188","Cicuco",2161]
["Municipios_13",{"$f":"Listas[[#This Row],[ID]]&\" \"&IF(Listas[[#This Row],[Descripcion]]=\"\",\"\",\"- \"&Listas[[#This Row],[Descripcion]])","v":"222 - Clemencia"},"222","Clemencia",2162]
["Municipios_13",{"$f":"Listas[[#This Row],[ID]]&\" \"&IF(Listas[[#This Row],[Descripcion]]=\"\",\"\",\"- \"&Listas[[#This Row],[Descripcion]])","v":"212 - Córdoba"},"212","Córdoba",2163]
["Municipios_13",{"$f":"Listas[[#This Row],[ID]]&\" \"&IF(Listas[[#This Row],[Descripcion]]=\"\",\"\",\"- \"&Listas[[#This Row],[Descripcion]])","v":"248 - El Guamo"},"248","El Guamo",2164]
["Municipios_13",{"$f":"Listas[[#This Row],[ID]]&\" \"&IF(Listas[[#This Row],[Descripcion]]=\"\",\"\",\"- \"&Listas[[#This Row],[Descripcion]])","v":"268 - El Peñon"},"268","El Peñon",2165]
["Municipios_13",{"$f":"Listas[[#This Row],[ID]]&\" \"&IF(Listas[[#This Row],[Descripcion]]=\"\",\"\",\"- \"&Listas[[#This Row],[Descripcion]])","v":"300 - Hatillo De Loba"},"300","Hatillo De Loba",2166]
["Municipios_13",{"$f":"Listas[[#This Row],[ID]]&\" \"&IF(Listas[[#This Row],[Descripcion]]=\"\",\"\",\"- \"&Listas[[#This Row],[Descripcion]])","v":"430 - Magangué"},"430","Magangué",2167]
["Municipios_13",{"$f":"Listas[[#This Row],[ID]]&\" \"&IF(Listas[[#This Row],[Descripcion]]=\"\",\"\",\"- \"&Listas[[#This Row],[Descripcion]])","v":"433 - Mahates"},"433","Mahates",2168]
["Municipios_13",{"$f":"Listas[[#This Row],[ID]]&\" \"&IF(Listas[[#This Row],[Descripcion]]=\"\",\"\",\"- \"&Listas[[#This Row],[Descripcion]])","v":"440 - Margarita"},"440","Margarita",2169]
["Municipios_13",{"$f":"Listas[[#This Row],[ID]]&\" \"&IF(Listas[[#This Row],[Descripcion]]=\"\",\"\",\"- \"&Listas[[#This Row],[Descripcion]])","v":"442 - María La Baja"},"442","María La Baja",2170]
["Municipios_13",{"$f":"Listas[[#This Row],[ID]]&\" \"&IF(Listas[[#This Row],[Descripcion]]=\"\",\"\",\"- \"&Listas[[#This Row],[Descripcion]])","v":"468 - Mompós"},"468","Mompós",2171]
["Municipios_13",{"$f":"Listas[[#This Row],[ID]]&\" \"&IF(Listas[[#This Row],[Descripcion]]=\"\",\"\",\"- \"&Listas[[#This Row],[Descripcion]])","v":"458 - Montecristo"},"458","Montecristo",2172]
["Municipios_13",{"$f":"Listas[[#This Row],[ID]]&\" \"&IF(Listas[[#This Row],[Descripcion]]=\"\",\"\",\"- \"&Listas[[#This Row],[Descripcion]])","v":"473 - Morales"},"473","Morales",2173]
["Municipios_13",{"$f":"Listas[[#This Row],[ID]]&\" \"&IF(Listas[[#This Row],[Descripcion]]=\"\",\"\",\"- \"&Listas[[#This Row],[Descripcion]])","v":"490 - Norosí"},"490","Norosí",2174]
["Municipios_13",{"$f":"Listas[[#This Row],[ID]]&\" \"&IF(Listas[[#This Row],[Descripcion]]=\"\",\"\",\"- \"&Listas[[#This Row],[Descripcion]])","v":"549 - Pinillos"},"549","Pinillos",2175]
["Municipios_13",{"$f":"Listas[[#This Row],[ID]]&\" \"&IF(Listas[[#This Row],[Descripcion]]=\"\",\"\",\"- \"&Listas[[#This Row],[Descripcion]])","v":"580 - Regidor"},"580","Regidor",2176]
["Municipios_13",{"$f":"Listas[[#This Row],[ID]]&\" \"&IF(Listas[[#This Row],[Descripcion]]=\"\",\"\",\"- \"&Listas[[#This Row],[Descripcion]])","v":"600 - Río Viejo"},"600","Río Viejo",2177]
["Municipios_13",{"$f":"Listas[[#This Row],[ID]]&\" \"&IF(Listas[[#This Row],[Descripcion]]=\"\",\"\",\"- \"&Listas[[#This Row],[Descripcion]])","v":"620 - San Cristobal"},"620","San Cristobal",2178]
["Municipios_13",{"$f":"Listas[[#This Row],[ID]]&\" \"&IF(Listas[[#This Row],[Descripcion]]=\"\",\"\",\"- \"&Listas[[#This Row],[Descripcion]])","v":"647 - San Estanislao"},"647","San Estanislao",2179]
["Municipios_13",{"$f":"Listas[[#This Row],[ID]]&\" \"&IF(Listas[[#This Row],[Descripcion]]=\"\",\"\",\"- \"&Listas[[#This Row],[Descripcion]])","v":"650 - San Fernando"},"650","San Fernando",2180]
["Municipios_13",{"$f":"Listas[[#This Row],[ID]]&\" \"&IF(Listas[[#This Row],[Descripcion]]=\"\",\"\",\"- \"&Listas[[#This Row],[Descripcion]])","v":"654 - San Jacinto"},"654","San Jacinto",2181]
["Municipios_13",{"$f":"Listas[[#This Row],[ID]]&\" \"&IF(Listas[[#This Row],[Descripcion]]=\"\",\"\",\"- \"&Listas[[#This Row],[Descripcion]])","v":"655 - San Jacinto Del Cauca"},"655","San Jacinto Del Cauca",2182]
["Municipios_13",{"$f":"Listas[[#This Row],[ID]]&\" \"&IF(Listas[[#This Row],[Descripcion]]=\"\",\"\",\"- \"&Listas[[#This Row],[Descripcion]])","v":"657 - San Juan Nepomuceno"},"657","San Juan Nepomuceno",2183]
["Municipios_13",{"$f":"Listas[[#This Row],[ID]]&\" \"&IF(Listas[[#This Row],[Descripcion]]=\"\",\"\",\"- \"&Listas[[#This Row],[Descripcion]])","v":"667 - San Martin De Loba"},"667","San Martin De Loba",2184]
["Municipios_13",{"$f":"Listas[[#This Row],[ID]]&\" \"&IF(Listas[[#This Row],[Descripcion]]=\"\",\"\",\"- \"&Listas[[#This Row],[Descripcion]])","v":"670 - San Pablo"},"670","San Pablo",2185]
["Municipios_13",{"$f":"Listas[[#This Row],[ID]]&\" \"&IF(Listas[[#This Row],[Descripcion]]=\"\",\"\",\"- \"&Listas[[#This Row],[Descripcion]])","v":"673 - Santa Catalina"},"673","Santa Catalina",2186]
["Municipios_13",{"$f":"Listas[[#This Row],[ID]]&\" \"&IF(Listas[[#This Row],[Descripcion]]=\"\",\"\",\"- \"&Listas[[#This Row],[Descripcion]])","v":"683 - Santa Rosa De Lima"},"683","Santa Rosa De Lima",2187]
["Municipios_13",{"$f":"Listas[[#This Row],[ID]]&\" \"&IF(Listas[[#This Row],[Descripcion]]=\"\",\"\",\"- \"&Listas[[#This Row],[Descripcion]])","v":"688 - Santa Rosa Del Sur"},"688","Santa Rosa Del Sur",2188]
["Municipios_13",{"$f":"Listas[[#This Row],[ID]]&\" \"&IF(Listas[[#This Row],[Descripcion]]=\"\",\"\",\"- \"&Listas[[#This Row],[Descripcion]])","v":"744 - Simití"},"744","Simití",2189]
["Municipios_13",{"$f":"Listas[[#This Row],[ID]]&\" \"&IF(Listas[[#This Row],[Descripcion]]=\"\",\"\",\"- \"&Listas[[#This Row],[Descripcion]])","v":"760 - Soplaviento"},"760","Soplaviento",2190]
["Municipios_13",{"$f":"Listas[[#This Row],[ID]]&\" \"&IF(Listas[[#This Row],[Descripcion]]=\"\",\"\",\"- \"&Listas[[#This Row],[Descripcion]])","v":"780 - Talaigua Nuevo"},"780","Talaigua Nuevo",2191]
["Municipios_13",{"$f":"Listas[[#This Row],[ID]]&\" \"&IF(Listas[[#This Row],[Descripcion]]=\"\",\"\",\"- \"&Listas[[#This Row],[Descripcion]])","v":"810 - Tiquisio"},"810","Tiquisio",2192]
["Municipios_13",{"$f":"Listas[[#This Row],[ID]]&\" \"&IF(Listas[[#This Row],[Descripcion]]=\"\",\"\",\"- \"&Listas[[#This Row],[Descripcion]])","v":"836 - Turbaco"},"836","Turbaco",2193]
["Municipios_13",{"$f":"Listas[[#This Row],[ID]]&\" \"&IF(Listas[[#This Row],[Descripcion]]=\"\",\"\",\"- \"&Listas[[#This Row],[Descripcion]])","v":"838 - Turbana"},"838","Turbana",2194]
["Municipios_13",{"$f":"Listas[[#This Row],[ID]]&\" \"&IF(Listas[[#This Row],[Descripcion]]=\"\",\"\",\"- \"&Listas[[#This Row],[Descripcion]])","v":"873 - Villanueva"},"873","Villanueva",2195]
["Municipios_13",{"$f":"Listas[[#This Row],[ID]]&\" \"&IF(Listas[[#This Row],[Descripcion]]=\"\",\"\",\"- \"&Listas[[#This Row],[Descripcion]])","v":"894 - Zambrano"},"894","Zambrano",2196]
["Municipios_15",{"$f":"Listas[[#This Row],[ID]]&\" \"&IF(Listas[[#This Row],[Descripcion]]=\"\",\"\",\"- \"&Listas[[#This Row],[Descripcion]])","v":"022 - Almeida"},"022","Almeida",2197]
["Municipios_15",{"$f":"Listas[[#This Row],[ID]]&\" \"&IF(Listas[[#This Row],[Descripcion]]=\"\",\"\",\"- \"&Listas[[#This Row],[Descripcion]])","v":"047 - Aquitania"},"047","Aquitania",2198]
["Municipios_15",{"$f":"Listas[[#This Row],[ID]]&\" \"&IF(Listas[[#This Row],[Descripcion]]=\"\",\"\",\"- \"&Listas[[#This Row],[Descripcion]])","v":"051 - Arcabuco"},"051","Arcabuco",2199]
["Municipios_15",{"$f":"Listas[[#This Row],[ID]]&\" \"&IF(Listas[[#This Row],[Descripcion]]=\"\",\"\",\"- \"&Listas[[#This Row],[Descripcion]])","v":"087 - Belén"},"087","Belén",2200]
["Municipios_15",{"$f":"Listas[[#This Row],[ID]]&\" \"&IF(Listas[[#This Row],[Descripcion]]=\"\",\"\",\"- \"&Listas[[#This Row],[Descripcion]])","v":"090 - Berbeo"},"090","Berbeo",2201]
["Municipios_15",{"$f":"Listas[[#This Row],[ID]]&\" \"&IF(Listas[[#This Row],[Descripcion]]=\"\",\"\",\"- \"&Listas[[#This Row],[Descripcion]])","v":"092 - Betéitiva"},"092","Betéitiva",2202]
["Municipios_15",{"$f":"Listas[[#This Row],[ID]]&\" \"&IF(Listas[[#This Row],[Descripcion]]=\"\",\"\",\"- \"&Listas[[#This Row],[Descripcion]])","v":"097 - Boavita"},"097","Boavita",2203]
["Municipios_15",{"$f":"Listas[[#This Row],[ID]]&\" \"&IF(Listas[[#This Row],[Descripcion]]=\"\",\"\",\"- \"&Listas[[#This Row],[Descripcion]])","v":"104 - Boyacá"},"104","Boyacá",2204]
["Municipios_15",{"$f":"Listas[[#This Row],[ID]]&\" \"&IF(Listas[[#This Row],[Descripcion]]=\"\",\"\",\"- \"&Listas[[#This Row],[Descripcion]])","v":"106 - Briceño"},"106","Briceño",2205]
["Municipios_15",{"$f":"Listas[[#This Row],[ID]]&\" \"&IF(Listas[[#This Row],[Descripcion]]=\"\",\"\",\"- \"&Listas[[#This Row],[Descripcion]])","v":"109 - Buenavista"},"109","Buenavista",2206]
["Municipios_15",{"$f":"Listas[[#This Row],[ID]]&\" \"&IF(Listas[[#This Row],[Descripcion]]=\"\",\"\",\"- \"&Listas[[#This Row],[Descripcion]])","v":"114 - Busbanzá"},"114","Busbanzá",2207]
["Municipios_15",{"$f":"Listas[[#This Row],[ID]]&\" \"&IF(Listas[[#This Row],[Descripcion]]=\"\",\"\",\"- \"&Listas[[#This Row],[Descripcion]])","v":"131 - Caldas"},"131","Caldas",2208]
["Municipios_15",{"$f":"Listas[[#This Row],[ID]]&\" \"&IF(Listas[[#This Row],[Descripcion]]=\"\",\"\",\"- \"&Listas[[#This Row],[Descripcion]])","v":"135 - Campohermoso"},"135","Campohermoso",2209]
["Municipios_15",{"$f":"Listas[[#This Row],[ID]]&\" \"&IF(Listas[[#This Row],[Descripcion]]=\"\",\"\",\"- \"&Listas[[#This Row],[Descripcion]])","v":"162 - Cerinza"},"162","Cerinza",2210]
["Municipios_15",{"$f":"Listas[[#This Row],[ID]]&\" \"&IF(Listas[[#This Row],[Descripcion]]=\"\",\"\",\"- \"&Listas[[#This Row],[Descripcion]])","v":"172 - Chinavita"},"172","Chinavita",2211]
["Municipios_15",{"$f":"Listas[[#This Row],[ID]]&\" \"&IF(Listas[[#This Row],[Descripcion]]=\"\",\"\",\"- \"&Listas[[#This Row],[Descripcion]])","v":"176 - Chiquinquirá"},"176","Chiquinquirá",2212]
["Municipios_15",{"$f":"Listas[[#This Row],[ID]]&\" \"&IF(Listas[[#This Row],[Descripcion]]=\"\",\"\",\"- \"&Listas[[#This Row],[Descripcion]])","v":"232 - Chíquiza"},"232","Chíquiza",2213]
["Municipios_15",{"$f":"Listas[[#This Row],[ID]]&\" \"&IF(Listas[[#This Row],[Descripcion]]=\"\",\"\",\"- \"&Listas[[#This Row],[Descripcion]])","v":"180 - Chiscas"},"180","Chiscas",2214]
["Municipios_15",{"$f":"Listas[[#This Row],[ID]]&\" \"&IF(Listas[[#This Row],[Descripcion]]=\"\",\"\",\"- \"&Listas[[#This Row],[Descripcion]])","v":"183 - Chita"},"183","Chita",2215]
["Municipios_15",{"$f":"Listas[[#This Row],[ID]]&\" \"&IF(Listas[[#This Row],[Descripcion]]=\"\",\"\",\"- \"&Listas[[#This Row],[Descripcion]])","v":"185 - Chitaraque"},"185","Chitaraque",2216]
["Municipios_15",{"$f":"Listas[[#This Row],[ID]]&\" \"&IF(Listas[[#This Row],[Descripcion]]=\"\",\"\",\"- \"&Listas[[#This Row],[Descripcion]])","v":"187 - Chivatá"},"187","Chivatá",2217]
["Municipios_15",{"$f":"Listas[[#This Row],[ID]]&\" \"&IF(Listas[[#This Row],[Descripcion]]=\"\",\"\",\"- \"&Listas[[#This Row],[Descripcion]])","v":"236 - Chivor"},"236","Chivor",2218]
["Municipios_15",{"$f":"Listas[[#This Row],[ID]]&\" \"&IF(Listas[[#This Row],[Descripcion]]=\"\",\"\",\"- \"&Listas[[#This Row],[Descripcion]])","v":"189 - Ciénega"},"189","Ciénega",2219]
["Municipios_15",{"$f":"Listas[[#This Row],[ID]]&\" \"&IF(Listas[[#This Row],[Descripcion]]=\"\",\"\",\"- \"&Listas[[#This Row],[Descripcion]])","v":"204 - Cómbita"},"204","Cómbita",2220]
["Municipios_15",{"$f":"Listas[[#This Row],[ID]]&\" \"&IF(Listas[[#This Row],[Descripcion]]=\"\",\"\",\"- \"&Listas[[#This Row],[Descripcion]])","v":"212 - Coper"},"212","Coper",2221]
["Municipios_15",{"$f":"Listas[[#This Row],[ID]]&\" \"&IF(Listas[[#This Row],[Descripcion]]=\"\",\"\",\"- \"&Listas[[#This Row],[Descripcion]])","v":"215 - Corrales"},"215","Corrales",2222]
["Municipios_15",{"$f":"Listas[[#This Row],[ID]]&\" \"&IF(Listas[[#This Row],[Descripcion]]=\"\",\"\",\"- \"&Listas[[#This Row],[Descripcion]])","v":"218 - Covarachía"},"218","Covarachía",2223]
["Municipios_15",{"$f":"Listas[[#This Row],[ID]]&\" \"&IF(Listas[[#This Row],[Descripcion]]=\"\",\"\",\"- \"&Listas[[#This Row],[Descripcion]])","v":"223 - Cubará"},"223","Cubará",2224]
["Municipios_15",{"$f":"Listas[[#This Row],[ID]]&\" \"&IF(Listas[[#This Row],[Descripcion]]=\"\",\"\",\"- \"&Listas[[#This Row],[Descripcion]])","v":"224 - Cucaita"},"224","Cucaita",2225]
["Municipios_15",{"$f":"Listas[[#This Row],[ID]]&\" \"&IF(Listas[[#This Row],[Descripcion]]=\"\",\"\",\"- \"&Listas[[#This Row],[Descripcion]])","v":"226 - Cuítiva"},"226","Cuítiva",2226]
["Municipios_15",{"$f":"Listas[[#This Row],[ID]]&\" \"&IF(Listas[[#This Row],[Descripcion]]=\"\",\"\",\"- \"&Listas[[#This Row],[Descripcion]])","v":"238 - Duitama"},"238","Duitama",2227]
["Municipios_15",{"$f":"Listas[[#This Row],[ID]]&\" \"&IF(Listas[[#This Row],[Descripcion]]=\"\",\"\",\"- \"&Listas[[#This Row],[Descripcion]])","v":"244 - El Cocuy"},"244","El Cocuy",2228]
["Municipios_15",{"$f":"Listas[[#This Row],[ID]]&\" \"&IF(Listas[[#This Row],[Descripcion]]=\"\",\"\",\"- \"&Listas[[#This Row],[Descripcion]])","v":"248 - El Espino"},"248","El Espino",2229]
["Municipios_15",{"$f":"Listas[[#This Row],[ID]]&\" \"&IF(Listas[[#This Row],[Descripcion]]=\"\",\"\",\"- \"&Listas[[#This Row],[Descripcion]])","v":"272 - Firavitoba"},"272","Firavitoba",2230]
["Municipios_15",{"$f":"Listas[[#This Row],[ID]]&\" \"&IF(Listas[[#This Row],[Descripcion]]=\"\",\"\",\"- \"&Listas[[#This Row],[Descripcion]])","v":"276 - Floresta"},"276","Floresta",2231]
["Municipios_15",{"$f":"Listas[[#This Row],[ID]]&\" \"&IF(Listas[[#This Row],[Descripcion]]=\"\",\"\",\"- \"&Listas[[#This Row],[Descripcion]])","v":"293 - Gachantivá"},"293","Gachantivá",2232]
["Municipios_15",{"$f":"Listas[[#This Row],[ID]]&\" \"&IF(Listas[[#This Row],[Descripcion]]=\"\",\"\",\"- \"&Listas[[#This Row],[Descripcion]])","v":"296 - Gameza"},"296","Gameza",2233]
["Municipios_15",{"$f":"Listas[[#This Row],[ID]]&\" \"&IF(Listas[[#This Row],[Descripcion]]=\"\",\"\",\"- \"&Listas[[#This Row],[Descripcion]])","v":"299 - Garagoa"},"299","Garagoa",2234]
["Municipios_15",{"$f":"Listas[[#This Row],[ID]]&\" \"&IF(Listas[[#This Row],[Descripcion]]=\"\",\"\",\"- \"&Listas[[#This Row],[Descripcion]])","v":"317 - Guacamayas"},"317","Guacamayas",2235]
["Municipios_15",{"$f":"Listas[[#This Row],[ID]]&\" \"&IF(Listas[[#This Row],[Descripcion]]=\"\",\"\",\"- \"&Listas[[#This Row],[Descripcion]])","v":"322 - Guateque"},"322","Guateque",2236]
["Municipios_15",{"$f":"Listas[[#This Row],[ID]]&\" \"&IF(Listas[[#This Row],[Descripcion]]=\"\",\"\",\"- \"&Listas[[#This Row],[Descripcion]])","v":"325 - Guayatá"},"325","Guayatá",2237]
["Municipios_15",{"$f":"Listas[[#This Row],[ID]]&\" \"&IF(Listas[[#This Row],[Descripcion]]=\"\",\"\",\"- \"&Listas[[#This Row],[Descripcion]])","v":"332 - Güicán"},"332","Güicán",2238]
["Municipios_15",{"$f":"Listas[[#This Row],[ID]]&\" \"&IF(Listas[[#This Row],[Descripcion]]=\"\",\"\",\"- \"&Listas[[#This Row],[Descripcion]])","v":"362 - Iza"},"362","Iza",2239]
["Municipios_15",{"$f":"Listas[[#This Row],[ID]]&\" \"&IF(Listas[[#This Row],[Descripcion]]=\"\",\"\",\"- \"&Listas[[#This Row],[Descripcion]])","v":"367 - Jenesano"},"367","Jenesano",2240]
["Municipios_15",{"$f":"Listas[[#This Row],[ID]]&\" \"&IF(Listas[[#This Row],[Descripcion]]=\"\",\"\",\"- \"&Listas[[#This Row],[Descripcion]])","v":"368 - Jericó"},"368","Jericó",2241]
["Municipios_15",{"$f":"Listas[[#This Row],[ID]]&\" \"&IF(Listas[[#This Row],[Descripcion]]=\"\",\"\",\"- \"&Listas[[#This Row],[Descripcion]])","v":"380 - La Capilla"},"380","La Capilla",2242]
["Municipios_15",{"$f":"Listas[[#This Row],[ID]]&\" \"&IF(Listas[[#This Row],[Descripcion]]=\"\",\"\",\"- \"&Listas[[#This Row],[Descripcion]])","v":"403 - La Uvita"},"403","La Uvita",2243]
["Municipios_15",{"$f":"Listas[[#This Row],[ID]]&\" \"&IF(Listas[[#This Row],[Descripcion]]=\"\",\"\",\"- \"&Listas[[#This Row],[Descripcion]])","v":"401 - La Victoria"},"401","La Victoria",2244]
["Municipios_15",{"$f":"Listas[[#This Row],[ID]]&\" \"&IF(Listas[[#This Row],[Descripcion]]=\"\",\"\",\"- \"&Listas[[#This Row],[Descripcion]])","v":"377 - Labranzagrande"},"377","Labranzagrande",2245]
["Municipios_15",{"$f":"Listas[[#This Row],[ID]]&\" \"&IF(Listas[[#This Row],[Descripcion]]=\"\",\"\",\"- \"&Listas[[#This Row],[Descripcion]])","v":"425 - Macanal"},"425","Macanal",2246]
["Municipios_15",{"$f":"Listas[[#This Row],[ID]]&\" \"&IF(Listas[[#This Row],[Descripcion]]=\"\",\"\",\"- \"&Listas[[#This Row],[Descripcion]])","v":"442 - Maripí"},"442","Maripí",2247]
["Municipios_15",{"$f":"Listas[[#This Row],[ID]]&\" \"&IF(Listas[[#This Row],[Descripcion]]=\"\",\"\",\"- \"&Listas[[#This Row],[Descripcion]])","v":"455 - Miraflores"},"455","Miraflores",2248]
["Municipios_15",{"$f":"Listas[[#This Row],[ID]]&\" \"&IF(Listas[[#This Row],[Descripcion]]=\"\",\"\",\"- \"&Listas[[#This Row],[Descripcion]])","v":"464 - Mongua"},"464","Mongua",2249]
["Municipios_15",{"$f":"Listas[[#This Row],[ID]]&\" \"&IF(Listas[[#This Row],[Descripcion]]=\"\",\"\",\"- \"&Listas[[#This Row],[Descripcion]])","v":"466 - Monguí"},"466","Monguí",2250]
["Municipios_15",{"$f":"Listas[[#This Row],[ID]]&\" \"&IF(Listas[[#This Row],[Descripcion]]=\"\",\"\",\"- \"&Listas[[#This Row],[Descripcion]])","v":"469 - Moniquirá"},"469","Moniquirá",2251]
["Municipios_15",{"$f":"Listas[[#This Row],[ID]]&\" \"&IF(Listas[[#This Row],[Descripcion]]=\"\",\"\",\"- \"&Listas[[#This Row],[Descripcion]])","v":"476 - Motavita"},"476","Motavita",2252]
["Municipios_15",{"$f":"Listas[[#This Row],[ID]]&\" \"&IF(Listas[[#This Row],[Descripcion]]=\"\",\"\",\"- \"&Listas[[#This Row],[Descripcion]])","v":"480 - Muzo"},"480","Muzo",2253]
["Municipios_15",{"$f":"Listas[[#This Row],[ID]]&\" \"&IF(Listas[[#This Row],[Descripcion]]=\"\",\"\",\"- \"&Listas[[#This Row],[Descripcion]])","v":"491 - Nobsa"},"491","Nobsa",2254]
["Municipios_15",{"$f":"Listas[[#This Row],[ID]]&\" \"&IF(Listas[[#This Row],[Descripcion]]=\"\",\"\",\"- \"&Listas[[#This Row],[Descripcion]])","v":"494 - Nuevo Colón"},"494","Nuevo Colón",2255]
["Municipios_15",{"$f":"Listas[[#This Row],[ID]]&\" \"&IF(Listas[[#This Row],[Descripcion]]=\"\",\"\",\"- \"&Listas[[#This Row],[Descripcion]])","v":"500 - Oicatá"},"500","Oicatá",2256]
["Municipios_15",{"$f":"Listas[[#This Row],[ID]]&\" \"&IF(Listas[[#This Row],[Descripcion]]=\"\",\"\",\"- \"&Listas[[#This Row],[Descripcion]])","v":"507 - Otanche"},"507","Otanche",2257]
["Municipios_15",{"$f":"Listas[[#This Row],[ID]]&\" \"&IF(Listas[[#This Row],[Descripcion]]=\"\",\"\",\"- \"&Listas[[#This Row],[Descripcion]])","v":"511 - Pachavita"},"511","Pachavita",2258]
["Municipios_15",{"$f":"Listas[[#This Row],[ID]]&\" \"&IF(Listas[[#This Row],[Descripcion]]=\"\",\"\",\"- \"&Listas[[#This Row],[Descripcion]])","v":"514 - Páez"},"514","Páez",2259]
["Municipios_15",{"$f":"Listas[[#This Row],[ID]]&\" \"&IF(Listas[[#This Row],[Descripcion]]=\"\",\"\",\"- \"&Listas[[#This Row],[Descripcion]])","v":"516 - Paipa"},"516","Paipa",2260]
["Municipios_15",{"$f":"Listas[[#This Row],[ID]]&\" \"&IF(Listas[[#This Row],[Descripcion]]=\"\",\"\",\"- \"&Listas[[#This Row],[Descripcion]])","v":"518 - Pajarito"},"518","Pajarito",2261]
["Municipios_15",{"$f":"Listas[[#This Row],[ID]]&\" \"&IF(Listas[[#This Row],[Descripcion]]=\"\",\"\",\"- \"&Listas[[#This Row],[Descripcion]])","v":"522 - Panqueba"},"522","Panqueba",2262]
["Municipios_15",{"$f":"Listas[[#This Row],[ID]]&\" \"&IF(Listas[[#This Row],[Descripcion]]=\"\",\"\",\"- \"&Listas[[#This Row],[Descripcion]])","v":"531 - Pauna"},"531","Pauna",2263]
["Municipios_15",{"$f":"Listas[[#This Row],[ID]]&\" \"&IF(Listas[[#This Row],[Descripcion]]=\"\",\"\",\"- \"&Listas[[#This Row],[Descripcion]])","v":"533 - Paya"},"533","Paya",2264]
["Municipios_15",{"$f":"Listas[[#This Row],[ID]]&\" \"&IF(Listas[[#This Row],[Descripcion]]=\"\",\"\",\"- \"&Listas[[#This Row],[Descripcion]])","v":"537 - Paz De Río"},"537","Paz De Río",2265]
["Municipios_15",{"$f":"Listas[[#This Row],[ID]]&\" \"&IF(Listas[[#This Row],[Descripcion]]=\"\",\"\",\"- \"&Listas[[#This Row],[Descripcion]])","v":"542 - Pesca"},"542","Pesca",2266]
["Municipios_15",{"$f":"Listas[[#This Row],[ID]]&\" \"&IF(Listas[[#This Row],[Descripcion]]=\"\",\"\",\"- \"&Listas[[#This Row],[Descripcion]])","v":"550 - Pisba"},"550","Pisba",2267]
["Municipios_15",{"$f":"Listas[[#This Row],[ID]]&\" \"&IF(Listas[[#This Row],[Descripcion]]=\"\",\"\",\"- \"&Listas[[#This Row],[Descripcion]])","v":"572 - Puerto Boyaca"},"572","Puerto Boyaca",2268]
["Municipios_15",{"$f":"Listas[[#This Row],[ID]]&\" \"&IF(Listas[[#This Row],[Descripcion]]=\"\",\"\",\"- \"&Listas[[#This Row],[Descripcion]])","v":"580 - Quípama"},"580","Quípama",2269]
["Municipios_15",{"$f":"Listas[[#This Row],[ID]]&\" \"&IF(Listas[[#This Row],[Descripcion]]=\"\",\"\",\"- \"&Listas[[#This Row],[Descripcion]])","v":"599 - Ramiriquí"},"599","Ramiriquí",2270]
["Municipios_15",{"$f":"Listas[[#This Row],[ID]]&\" \"&IF(Listas[[#This Row],[Descripcion]]=\"\",\"\",\"- \"&Listas[[#This Row],[Descripcion]])","v":"600 - Ráquira"},"600","Ráquira",2271]
["Municipios_15",{"$f":"Listas[[#This Row],[ID]]&\" \"&IF(Listas[[#This Row],[Descripcion]]=\"\",\"\",\"- \"&Listas[[#This Row],[Descripcion]])","v":"621 - Rondón"},"621","Rondón",2272]
["Municipios_15",{"$f":"Listas[[#This Row],[ID]]&\" \"&IF(Listas[[#This Row],[Descripcion]]=\"\",\"\",\"- \"&Listas[[#This Row],[Descripcion]])","v":"632 - Saboyá"},"632","Saboyá",2273]
["Municipios_15",{"$f":"Listas[[#This Row],[ID]]&\" \"&IF(Listas[[#This Row],[Descripcion]]=\"\",\"\",\"- \"&Listas[[#This Row],[Descripcion]])","v":"638 - Sáchica"},"638","Sáchica",2274]
["Municipios_15",{"$f":"Listas[[#This Row],[ID]]&\" \"&IF(Listas[[#This Row],[Descripcion]]=\"\",\"\",\"- \"&Listas[[#This Row],[Descripcion]])","v":"646 - Samacá"},"646","Samacá",2275]
["Municipios_15",{"$f":"Listas[[#This Row],[ID]]&\" \"&IF(Listas[[#This Row],[Descripcion]]=\"\",\"\",\"- \"&Listas[[#This Row],[Descripcion]])","v":"660 - San Eduardo"},"660","San Eduardo",2276]
["Municipios_15",{"$f":"Listas[[#This Row],[ID]]&\" \"&IF(Listas[[#This Row],[Descripcion]]=\"\",\"\",\"- \"&Listas[[#This Row],[Descripcion]])","v":"664 - San José De Pare"},"664","San José De Pare",2277]
["Municipios_15",{"$f":"Listas[[#This Row],[ID]]&\" \"&IF(Listas[[#This Row],[Descripcion]]=\"\",\"\",\"- \"&Listas[[#This Row],[Descripcion]])","v":"667 - San Luis De Gaceno"},"667","San Luis De Gaceno",2278]
["Municipios_15",{"$f":"Listas[[#This Row],[ID]]&\" \"&IF(Listas[[#This Row],[Descripcion]]=\"\",\"\",\"- \"&Listas[[#This Row],[Descripcion]])","v":"673 - San Mateo"},"673","San Mateo",2279]
["Municipios_15",{"$f":"Listas[[#This Row],[ID]]&\" \"&IF(Listas[[#This Row],[Descripcion]]=\"\",\"\",\"- \"&Listas[[#This Row],[Descripcion]])","v":"676 - San Miguel De Sema"},"676","San Miguel De Sema",2280]
["Municipios_15",{"$f":"Listas[[#This Row],[ID]]&\" \"&IF(Listas[[#This Row],[Descripcion]]=\"\",\"\",\"- \"&Listas[[#This Row],[Descripcion]])","v":"681 - San Pablo Borbur"},"681","San Pablo Borbur",2281]
["Municipios_15",{"$f":"Listas[[#This Row],[ID]]&\" \"&IF(Listas[[#This Row],[Descripcion]]=\"\",\"\",\"- \"&Listas[[#This Row],[Descripcion]])","v":"693 - San Rosa Viterbo"},"693","San Rosa Viterbo",2282]
["Municipios_15",{"$f":"Listas[[#This Row],[ID]]&\" \"&IF(Listas[[#This Row],[Descripcion]]=\"\",\"\",\"- \"&Listas[[#This Row],[Descripcion]])","v":"690 - Santa María"},"690","Santa María",2283]
["Municipios_15",{"$f":"Listas[[#This Row],[ID]]&\" \"&IF(Listas[[#This Row],[Descripcion]]=\"\",\"\",\"- \"&Listas[[#This Row],[Descripcion]])","v":"696 - Santa Sofía"},"696","Santa Sofía",2284]
["Municipios_15",{"$f":"Listas[[#This Row],[ID]]&\" \"&IF(Listas[[#This Row],[Descripcion]]=\"\",\"\",\"- \"&Listas[[#This Row],[Descripcion]])","v":"686 - Santana"},"686","Santana",2285]
["Municipios_15",{"$f":"Listas[[#This Row],[ID]]&\" \"&IF(Listas[[#This Row],[Descripcion]]=\"\",\"\",\"- \"&Listas[[#This Row],[Descripcion]])","v":"720 - Sativanorte"},"720","Sativanorte",2286]
["Municipios_15",{"$f":"Listas[[#This Row],[ID]]&\" \"&IF(Listas[[#This Row],[Descripcion]]=\"\",\"\",\"- \"&Listas[[#This Row],[Descripcion]])","v":"723 - Sativasur"},"723","Sativasur",2287]
["Municipios_15",{"$f":"Listas[[#This Row],[ID]]&\" \"&IF(Listas[[#This Row],[Descripcion]]=\"\",\"\",\"- \"&Listas[[#This Row],[Descripcion]])","v":"740 - Siachoque"},"740","Siachoque",2288]
["Municipios_15",{"$f":"Listas[[#This Row],[ID]]&\" \"&IF(Listas[[#This Row],[Descripcion]]=\"\",\"\",\"- \"&Listas[[#This Row],[Descripcion]])","v":"753 - Soatá"},"753","Soatá",2289]
["Municipios_15",{"$f":"Listas[[#This Row],[ID]]&\" \"&IF(Listas[[#This Row],[Descripcion]]=\"\",\"\",\"- \"&Listas[[#This Row],[Descripcion]])","v":"757 - Socha"},"757","Socha",2290]
["Municipios_15",{"$f":"Listas[[#This Row],[ID]]&\" \"&IF(Listas[[#This Row],[Descripcion]]=\"\",\"\",\"- \"&Listas[[#This Row],[Descripcion]])","v":"755 - Socotá"},"755","Socotá",2291]
["Municipios_15",{"$f":"Listas[[#This Row],[ID]]&\" \"&IF(Listas[[#This Row],[Descripcion]]=\"\",\"\",\"- \"&Listas[[#This Row],[Descripcion]])","v":"759 - Sogamoso"},"759","Sogamoso",2292]
["Municipios_15",{"$f":"Listas[[#This Row],[ID]]&\" \"&IF(Listas[[#This Row],[Descripcion]]=\"\",\"\",\"- \"&Listas[[#This Row],[Descripcion]])","v":"761 - Somondoco"},"761","Somondoco",2293]
["Municipios_15",{"$f":"Listas[[#This Row],[ID]]&\" \"&IF(Listas[[#This Row],[Descripcion]]=\"\",\"\",\"- \"&Listas[[#This Row],[Descripcion]])","v":"762 - Sora"},"762","Sora",2294]
["Municipios_15",{"$f":"Listas[[#This Row],[ID]]&\" \"&IF(Listas[[#This Row],[Descripcion]]=\"\",\"\",\"- \"&Listas[[#This Row],[Descripcion]])","v":"764 - Soracá"},"764","Soracá",2295]
["Municipios_15",{"$f":"Listas[[#This Row],[ID]]&\" \"&IF(Listas[[#This Row],[Descripcion]]=\"\",\"\",\"- \"&Listas[[#This Row],[Descripcion]])","v":"763 - Sotaquirá"},"763","Sotaquirá",2296]
["Municipios_15",{"$f":"Listas[[#This Row],[ID]]&\" \"&IF(Listas[[#This Row],[Descripcion]]=\"\",\"\",\"- \"&Listas[[#This Row],[Descripcion]])","v":"774 - Susacón"},"774","Susacón",2297]
["Municipios_15",{"$f":"Listas[[#This Row],[ID]]&\" \"&IF(Listas[[#This Row],[Descripcion]]=\"\",\"\",\"- \"&Listas[[#This Row],[Descripcion]])","v":"776 - Sutamarchán"},"776","Sutamarchán",2298]
["Municipios_15",{"$f":"Listas[[#This Row],[ID]]&\" \"&IF(Listas[[#This Row],[Descripcion]]=\"\",\"\",\"- \"&Listas[[#This Row],[Descripcion]])","v":"778 - Sutatenza"},"778","Sutatenza",2299]
["Municipios_15",{"$f":"Listas[[#This Row],[ID]]&\" \"&IF(Listas[[#This Row],[Descripcion]]=\"\",\"\",\"- \"&Listas[[#This Row],[Descripcion]])","v":"790 - Tasco"},"790","Tasco",2300]
["Municipios_15",{"$f":"Listas[[#This Row],[ID]]&\" \"&IF(Listas[[#This Row],[Descripcion]]=\"\",\"\",\"- \"&Listas[[#This Row],[Descripcion]])","v":"798 - Tenza"},"798","Tenza",2301]
["Municipios_15",{"$f":"Listas[[#This Row],[ID]]&\" \"&IF(Listas[[#This Row],[Descripcion]]=\"\",\"\",\"- \"&Listas[[#This Row],[Descripcion]])","v":"804 - Tibaná"},"804","Tibaná",2302]
["Municipios_15",{"$f":"Listas[[#This Row],[ID]]&\" \"&IF(Listas[[#This Row],[Descripcion]]=\"\",\"\",\"- \"&Listas[[#This Row],[Descripcion]])","v":"806 - Tibasosa"},"806","Tibasosa",2303]
["Municipios_15",{"$f":"Listas[[#This Row],[ID]]&\" \"&IF(Listas[[#This Row],[Descripcion]]=\"\",\"\",\"- \"&Listas[[#This Row],[Descripcion]])","v":"808 - Tinjacá"},"808","Tinjacá",2304]
["Municipios_15",{"$f":"Listas[[#This Row],[ID]]&\" \"&IF(Listas[[#This Row],[Descripcion]]=\"\",\"\",\"- \"&Listas[[#This Row],[Descripcion]])","v":"810 - Tipacoque"},"810","Tipacoque",2305]
["Municipios_15",{"$f":"Listas[[#This Row],[ID]]&\" \"&IF(Listas[[#This Row],[Descripcion]]=\"\",\"\",\"- \"&Listas[[#This Row],[Descripcion]])","v":"814 - Toca"},"814","Toca",2306]
["Municipios_15",{"$f":"Listas[[#This Row],[ID]]&\" \"&IF(Listas[[#This Row],[Descripcion]]=\"\",\"\",\"- \"&Listas[[#This Row],[Descripcion]])","v":"816 - Togüí"},"816","Togüí",2307]
["Municipios_15",{"$f":"Listas[[#This Row],[ID]]&\" \"&IF(Listas[[#This Row],[Descripcion]]=\"\",\"\",\"- \"&Listas[[#This Row],[Descripcion]])","v":"820 - Tópaga"},"820","Tópaga",2308]
["Municipios_15",{"$f":"Listas[[#This Row],[ID]]&\" \"&IF(Listas[[#This Row],[Descripcion]]=\"\",\"\",\"- \"&Listas[[#This Row],[Descripcion]])","v":"822 - Tota"},"822","Tota",2309]
["Municipios_15",{"$f":"Listas[[#This Row],[ID]]&\" \"&IF(Listas[[#This Row],[Descripcion]]=\"\",\"\",\"- \"&Listas[[#This Row],[Descripcion]])","v":"001 - Tunja"},"001","Tunja",2310]
["Municipios_15",{"$f":"Listas[[#This Row],[ID]]&\" \"&IF(Listas[[#This Row],[Descripcion]]=\"\",\"\",\"- \"&Listas[[#This Row],[Descripcion]])","v":"832 - Tununguá"},"832","Tununguá",2311]
["Municipios_15",{"$f":"Listas[[#This Row],[ID]]&\" \"&IF(Listas[[#This Row],[Descripcion]]=\"\",\"\",\"- \"&Listas[[#This Row],[Descripcion]])","v":"835 - Turmequé"},"835","Turmequé",2312]
["Municipios_15",{"$f":"Listas[[#This Row],[ID]]&\" \"&IF(Listas[[#This Row],[Descripcion]]=\"\",\"\",\"- \"&Listas[[#This Row],[Descripcion]])","v":"837 - Tuta"},"837","Tuta",2313]
["Municipios_15",{"$f":"Listas[[#This Row],[ID]]&\" \"&IF(Listas[[#This Row],[Descripcion]]=\"\",\"\",\"- \"&Listas[[#This Row],[Descripcion]])","v":"839 - Tutazá"},"839","Tutazá",2314]
["Municipios_15",{"$f":"Listas[[#This Row],[ID]]&\" \"&IF(Listas[[#This Row],[Descripcion]]=\"\",\"\",\"- \"&Listas[[#This Row],[Descripcion]])","v":"842 - Umbita"},"842","Umbita",2315]
["Municipios_15",{"$f":"Listas[[#This Row],[ID]]&\" \"&IF(Listas[[#This Row],[Descripcion]]=\"\",\"\",\"- \"&Listas[[#This Row],[Descripcion]])","v":"861 - Ventaquemada"},"861","Ventaquemada",2316]
["Municipios_15",{"$f":"Listas[[#This Row],[ID]]&\" \"&IF(Listas[[#This Row],[Descripcion]]=\"\",\"\",\"- \"&Listas[[#This Row],[Descripcion]])","v":"407 - Villa De Leyva"},"407","Villa De Leyva",2317]
["Municipios_15",{"$f":"Listas[[#This Row],[ID]]&\" \"&IF(Listas[[#This Row],[Descripcion]]=\"\",\"\",\"- \"&Listas[[#This Row],[Descripcion]])","v":"879 - Viracachá"},"879","Viracachá",2318]
["Municipios_15",{"$f":"Listas[[#This Row],[ID]]&\" \"&IF(Listas[[#This Row],[Descripcion]]=\"\",\"\",\"- \"&Listas[[#This Row],[Descripcion]])","v":"897 - Zetaquira"},"897","Zetaquira",2319]
["Municipios_17",{"$f":"Listas[[#This Row],[ID]]&\" \"&IF(Listas[[#This Row],[Descripcion]]=\"\",\"\",\"- \"&Listas[[#This Row],[Descripcion]])","v":"013 - Aguadas"},"013","Aguadas",2320]
["Municipios_17",{"$f":"Listas[[#This Row],[ID]]&\" \"&IF(Listas[[#This Row],[Descripcion]]=\"\",\"\",\"- \"&Listas[[#This Row],[Descripcion]])","v":"042 - Anserma"},"042","Anserma",2321]
["Municipios_17",{"$f":"Listas[[#This Row],[ID]]&\" \"&IF(Listas[[#This Row],[Descripcion]]=\"\",\"\",\"- \"&Listas[[#This Row],[Descripcion]])","v":"050 - Aranzazu"},"050","Aranzazu",2322]
["Municipios_17",{"$f":"Listas[[#This Row],[ID]]&\" \"&IF(Listas[[#This Row],[Descripcion]]=\"\",\"\",\"- \"&Listas[[#This Row],[Descripcion]])","v":"088 - Belalcázar"},"088","Belalcázar",2323]
["Municipios_17",{"$f":"Listas[[#This Row],[ID]]&\" \"&IF(Listas[[#This Row],[Descripcion]]=\"\",\"\",\"- \"&Listas[[#This Row],[Descripcion]])","v":"174 - Chinchina"},"174","Chinchina",2324]
["Municipios_17",{"$f":"Listas[[#This Row],[ID]]&\" \"&IF(Listas[[#This Row],[Descripcion]]=\"\",\"\",\"- \"&Listas[[#This Row],[Descripcion]])","v":"272 - Filadelfia"},"272","Filadelfia",2325]
["Municipios_17",{"$f":"Listas[[#This Row],[ID]]&\" \"&IF(Listas[[#This Row],[Descripcion]]=\"\",\"\",\"- \"&Listas[[#This Row],[Descripcion]])","v":"380 - La Dorada"},"380","La Dorada",2326]
["Municipios_17",{"$f":"Listas[[#This Row],[ID]]&\" \"&IF(Listas[[#This Row],[Descripcion]]=\"\",\"\",\"- \"&Listas[[#This Row],[Descripcion]])","v":"388 - La Merced"},"388","La Merced",2327]
["Municipios_17",{"$f":"Listas[[#This Row],[ID]]&\" \"&IF(Listas[[#This Row],[Descripcion]]=\"\",\"\",\"- \"&Listas[[#This Row],[Descripcion]])","v":"001 - Manizales"},"001","Manizales",2328]
["Municipios_17",{"$f":"Listas[[#This Row],[ID]]&\" \"&IF(Listas[[#This Row],[Descripcion]]=\"\",\"\",\"- \"&Listas[[#This Row],[Descripcion]])","v":"433 - Manzanares"},"433","Manzanares",2329]
["Municipios_17",{"$f":"Listas[[#This Row],[ID]]&\" \"&IF(Listas[[#This Row],[Descripcion]]=\"\",\"\",\"- \"&Listas[[#This Row],[Descripcion]])","v":"442 - Marmato"},"442","Marmato",2330]
["Municipios_17",{"$f":"Listas[[#This Row],[ID]]&\" \"&IF(Listas[[#This Row],[Descripcion]]=\"\",\"\",\"- \"&Listas[[#This Row],[Descripcion]])","v":"444 - Marquetalia"},"444","Marquetalia",2331]
["Municipios_17",{"$f":"Listas[[#This Row],[ID]]&\" \"&IF(Listas[[#This Row],[Descripcion]]=\"\",\"\",\"- \"&Listas[[#This Row],[Descripcion]])","v":"446 - Marulanda"},"446","Marulanda",2332]
["Municipios_17",{"$f":"Listas[[#This Row],[ID]]&\" \"&IF(Listas[[#This Row],[Descripcion]]=\"\",\"\",\"- \"&Listas[[#This Row],[Descripcion]])","v":"486 - Neira"},"486","Neira",2333]
["Municipios_17",{"$f":"Listas[[#This Row],[ID]]&\" \"&IF(Listas[[#This Row],[Descripcion]]=\"\",\"\",\"- \"&Listas[[#This Row],[Descripcion]])","v":"495 - Norcasia"},"495","Norcasia",2334]
["Municipios_17",{"$f":"Listas[[#This Row],[ID]]&\" \"&IF(Listas[[#This Row],[Descripcion]]=\"\",\"\",\"- \"&Listas[[#This Row],[Descripcion]])","v":"513 - Pácora"},"513","Pácora",2335]
["Municipios_17",{"$f":"Listas[[#This Row],[ID]]&\" \"&IF(Listas[[#This Row],[Descripcion]]=\"\",\"\",\"- \"&Listas[[#This Row],[Descripcion]])","v":"524 - Palestina"},"524","Palestina",2336]
["Municipios_17",{"$f":"Listas[[#This Row],[ID]]&\" \"&IF(Listas[[#This Row],[Descripcion]]=\"\",\"\",\"- \"&Listas[[#This Row],[Descripcion]])","v":"541 - Pensilvania"},"541","Pensilvania",2337]
["Municipios_17",{"$f":"Listas[[#This Row],[ID]]&\" \"&IF(Listas[[#This Row],[Descripcion]]=\"\",\"\",\"- \"&Listas[[#This Row],[Descripcion]])","v":"614 - Riosucio"},"614","Riosucio",2338]
["Municipios_17",{"$f":"Listas[[#This Row],[ID]]&\" \"&IF(Listas[[#This Row],[Descripcion]]=\"\",\"\",\"- \"&Listas[[#This Row],[Descripcion]])","v":"616 - Risaralda"},"616","Risaralda",2339]
["Municipios_17",{"$f":"Listas[[#This Row],[ID]]&\" \"&IF(Listas[[#This Row],[Descripcion]]=\"\",\"\",\"- \"&Listas[[#This Row],[Descripcion]])","v":"653 - Salamina"},"653","Salamina",2340]
["Municipios_17",{"$f":"Listas[[#This Row],[ID]]&\" \"&IF(Listas[[#This Row],[Descripcion]]=\"\",\"\",\"- \"&Listas[[#This Row],[Descripcion]])","v":"662 - Samaná"},"662","Samaná",2341]
["Municipios_17",{"$f":"Listas[[#This Row],[ID]]&\" \"&IF(Listas[[#This Row],[Descripcion]]=\"\",\"\",\"- \"&Listas[[#This Row],[Descripcion]])","v":"665 - San José"},"665","San José",2342]
["Municipios_17",{"$f":"Listas[[#This Row],[ID]]&\" \"&IF(Listas[[#This Row],[Descripcion]]=\"\",\"\",\"- \"&Listas[[#This Row],[Descripcion]])","v":"777 - Supía"},"777","Supía",2343]
["Municipios_17",{"$f":"Listas[[#This Row],[ID]]&\" \"&IF(Listas[[#This Row],[Descripcion]]=\"\",\"\",\"- \"&Listas[[#This Row],[Descripcion]])","v":"867 - Victoria"},"867","Victoria",2344]
["Municipios_17",{"$f":"Listas[[#This Row],[ID]]&\" \"&IF(Listas[[#This Row],[Descripcion]]=\"\",\"\",\"- \"&Listas[[#This Row],[Descripcion]])","v":"873 - Villamaria"},"873","Villamaria",2345]
["Municipios_17",{"$f":"Listas[[#This Row],[ID]]&\" \"&IF(Listas[[#This Row],[Descripcion]]=\"\",\"\",\"- \"&Listas[[#This Row],[Descripcion]])","v":"877 - Viterbo"},"877","Viterbo",2346]
["Municipios_18",{"$f":"Listas[[#This Row],[ID]]&\" \"&IF(Listas[[#This Row],[Descripcion]]=\"\",\"\",\"- \"&Listas[[#This Row],[Descripcion]])","v":"029 - Albania"},"029","Albania",2347]
["Municipios_18",{"$f":"Listas[[#This Row],[ID]]&\" \"&IF(Listas[[#This Row],[Descripcion]]=\"\",\"\",\"- \"&Listas[[#This Row],[Descripcion]])","v":"094 - Belén De Los Andaquies"},"094","Belén De Los Andaquies",2348]
["Municipios_18",{"$f":"Listas[[#This Row],[ID]]&\" \"&IF(Listas[[#This Row],[Descripcion]]=\"\",\"\",\"- \"&Listas[[#This Row],[Descripcion]])","v":"150 - Cartagena Del Chairá"},"150","Cartagena Del Chairá",2349]
["Municipios_18",{"$f":"Listas[[#This Row],[ID]]&\" \"&IF(Listas[[#This Row],[Descripcion]]=\"\",\"\",\"- \"&Listas[[#This Row],[Descripcion]])","v":"205 - Currillo"},"205","Currillo",2350]
["Municipios_18",{"$f":"Listas[[#This Row],[ID]]&\" \"&IF(Listas[[#This Row],[Descripcion]]=\"\",\"\",\"- \"&Listas[[#This Row],[Descripcion]])","v":"247 - El Doncello"},"247","El Doncello",2351]
["Municipios_18",{"$f":"Listas[[#This Row],[ID]]&\" \"&IF(Listas[[#This Row],[Descripcion]]=\"\",\"\",\"- \"&Listas[[#This Row],[Descripcion]])","v":"256 - El Paujil"},"256","El Paujil",2352]
["Municipios_18",{"$f":"Listas[[#This Row],[ID]]&\" \"&IF(Listas[[#This Row],[Descripcion]]=\"\",\"\",\"- \"&Listas[[#This Row],[Descripcion]])","v":"001 - Florencia"},"001","Florencia",2353]
["Municipios_18",{"$f":"Listas[[#This Row],[ID]]&\" \"&IF(Listas[[#This Row],[Descripcion]]=\"\",\"\",\"- \"&Listas[[#This Row],[Descripcion]])","v":"410 - La Montañita"},"410","La Montañita",2354]
["Municipios_18",{"$f":"Listas[[#This Row],[ID]]&\" \"&IF(Listas[[#This Row],[Descripcion]]=\"\",\"\",\"- \"&Listas[[#This Row],[Descripcion]])","v":"460 - Milan"},"460","Milan",2355]
["Municipios_18",{"$f":"Listas[[#This Row],[ID]]&\" \"&IF(Listas[[#This Row],[Descripcion]]=\"\",\"\",\"- \"&Listas[[#This Row],[Descripcion]])","v":"479 - Morelia"},"479","Morelia",2356]
["Municipios_18",{"$f":"Listas[[#This Row],[ID]]&\" \"&IF(Listas[[#This Row],[Descripcion]]=\"\",\"\",\"- \"&Listas[[#This Row],[Descripcion]])","v":"592 - Puerto Rico"},"592","Puerto Rico",2357]
["Municipios_18",{"$f":"Listas[[#This Row],[ID]]&\" \"&IF(Listas[[#This Row],[Descripcion]]=\"\",\"\",\"- \"&Listas[[#This Row],[Descripcion]])","v":"610 - San Jose Del Fragua"},"610","San Jose Del Fragua",2358]
["Municipios_18",{"$f":"Listas[[#This Row],[ID]]&\" \"&IF(Listas[[#This Row],[Descripcion]]=\"\",\"\",\"- \"&Listas[[#This Row],[Descripcion]])","v":"753 - San Vicente Del Caguán"},"753","San Vicente Del Caguán",2359]
["Municipios_18",{"$f":"Listas[[#This Row],[ID]]&\" \"&IF(Listas[[#This Row],[Descripcion]]=\"\",\"\",\"- \"&Listas[[#This Row],[Descripcion]])","v":"756 - Solano"},"756","Solano",2360]
["Municipios_18",{"$f":"Listas[[#This Row],[ID]]&\" \"&IF(Listas[[#This Row],[Descripcion]]=\"\",\"\",\"- \"&Listas[[#This Row],[Descripcion]])","v":"785 - Solita"},"785","Solita",2361]
["Municipios_18",{"$f":"Listas[[#This Row],[ID]]&\" \"&IF(Listas[[#This Row],[Descripcion]]=\"\",\"\",\"- \"&Listas[[#This Row],[Descripcion]])","v":"860 - Valparaiso"},"860","Valparaiso",2362]
["Municipios_19",{"$f":"Listas[[#This Row],[ID]]&\" \"&IF(Listas[[#This Row],[Descripcion]]=\"\",\"\",\"- \"&Listas[[#This Row],[Descripcion]])","v":"022 - Almaguer"},"022","Almaguer",2363]
["Municipios_19",{"$f":"Listas[[#This Row],[ID]]&\" \"&IF(Listas[[#This Row],[Descripcion]]=\"\",\"\",\"- \"&Listas[[#This Row],[Descripcion]])","v":"050 - Argelia"},"050","Argelia",2364]
["Municipios_19",{"$f":"Listas[[#This Row],[ID]]&\" \"&IF(Listas[[#This Row],[Descripcion]]=\"\",\"\",\"- \"&Listas[[#This Row],[Descripcion]])","v":"075 - Balboa"},"075","Balboa",2365]
["Municipios_19",{"$f":"Listas[[#This Row],[ID]]&\" \"&IF(Listas[[#This Row],[Descripcion]]=\"\",\"\",\"- \"&Listas[[#This Row],[Descripcion]])","v":"100 - Bolívar"},"100","Bolívar",2366]
["Municipios_19",{"$f":"Listas[[#This Row],[ID]]&\" \"&IF(Listas[[#This Row],[Descripcion]]=\"\",\"\",\"- \"&Listas[[#This Row],[Descripcion]])","v":"110 - Buenos Aires"},"110","Buenos Aires",2367]
["Municipios_19",{"$f":"Listas[[#This Row],[ID]]&\" \"&IF(Listas[[#This Row],[Descripcion]]=\"\",\"\",\"- \"&Listas[[#This Row],[Descripcion]])","v":"130 - Cajibío"},"130","Cajibío",2368]
["Municipios_19",{"$f":"Listas[[#This Row],[ID]]&\" \"&IF(Listas[[#This Row],[Descripcion]]=\"\",\"\",\"- \"&Listas[[#This Row],[Descripcion]])","v":"137 - Caldono"},"137","Caldono",2369]
["Municipios_19",{"$f":"Listas[[#This Row],[ID]]&\" \"&IF(Listas[[#This Row],[Descripcion]]=\"\",\"\",\"- \"&Listas[[#This Row],[Descripcion]])","v":"142 - Caloto"},"142","Caloto",2370]
["Municipios_19",{"$f":"Listas[[#This Row],[ID]]&\" \"&IF(Listas[[#This Row],[Descripcion]]=\"\",\"\",\"- \"&Listas[[#This Row],[Descripcion]])","v":"212 - Corinto"},"212","Corinto",2371]
["Municipios_19",{"$f":"Listas[[#This Row],[ID]]&\" \"&IF(Listas[[#This Row],[Descripcion]]=\"\",\"\",\"- \"&Listas[[#This Row],[Descripcion]])","v":"256 - El Tambo"},"256","El Tambo",2372]
["Municipios_19",{"$f":"Listas[[#This Row],[ID]]&\" \"&IF(Listas[[#This Row],[Descripcion]]=\"\",\"\",\"- \"&Listas[[#This Row],[Descripcion]])","v":"290 - Florencia"},"290","Florencia",2373]
["Municipios_19",{"$f":"Listas[[#This Row],[ID]]&\" \"&IF(Listas[[#This Row],[Descripcion]]=\"\",\"\",\"- \"&Listas[[#This Row],[Descripcion]])","v":"300 - Guachené"},"300","Guachené",2374]
["Municipios_19",{"$f":"Listas[[#This Row],[ID]]&\" \"&IF(Listas[[#This Row],[Descripcion]]=\"\",\"\",\"- \"&Listas[[#This Row],[Descripcion]])","v":"318 - Guapi"},"318","Guapi",2375]
["Municipios_19",{"$f":"Listas[[#This Row],[ID]]&\" \"&IF(Listas[[#This Row],[Descripcion]]=\"\",\"\",\"- \"&Listas[[#This Row],[Descripcion]])","v":"355 - Inzá"},"355","Inzá",2376]
["Municipios_19",{"$f":"Listas[[#This Row],[ID]]&\" \"&IF(Listas[[#This Row],[Descripcion]]=\"\",\"\",\"- \"&Listas[[#This Row],[Descripcion]])","v":"364 - Jambalo"},"364","Jambalo",2377]
["Municipios_19",{"$f":"Listas[[#This Row],[ID]]&\" \"&IF(Listas[[#This Row],[Descripcion]]=\"\",\"\",\"- \"&Listas[[#This Row],[Descripcion]])","v":"392 - La Sierra"},"392","La Sierra",2378]
["Municipios_19",{"$f":"Listas[[#This Row],[ID]]&\" \"&IF(Listas[[#This Row],[Descripcion]]=\"\",\"\",\"- \"&Listas[[#This Row],[Descripcion]])","v":"397 - La Vega"},"397","La Vega",2379]
["Municipios_19",{"$f":"Listas[[#This Row],[ID]]&\" \"&IF(Listas[[#This Row],[Descripcion]]=\"\",\"\",\"- \"&Listas[[#This Row],[Descripcion]])","v":"418 - Lopez"},"418","Lopez",2380]
["Municipios_19",{"$f":"Listas[[#This Row],[ID]]&\" \"&IF(Listas[[#This Row],[Descripcion]]=\"\",\"\",\"- \"&Listas[[#This Row],[Descripcion]])","v":"450 - Mercaderes"},"450","Mercaderes",2381]
["Municipios_19",{"$f":"Listas[[#This Row],[ID]]&\" \"&IF(Listas[[#This Row],[Descripcion]]=\"\",\"\",\"- \"&Listas[[#This Row],[Descripcion]])","v":"455 - Miranda"},"455","Miranda",2382]
["Municipios_19",{"$f":"Listas[[#This Row],[ID]]&\" \"&IF(Listas[[#This Row],[Descripcion]]=\"\",\"\",\"- \"&Listas[[#This Row],[Descripcion]])","v":"473 - Morales"},"473","Morales",2383]
["Municipios_19",{"$f":"Listas[[#This Row],[ID]]&\" \"&IF(Listas[[#This Row],[Descripcion]]=\"\",\"\",\"- \"&Listas[[#This Row],[Descripcion]])","v":"513 - Padilla"},"513","Padilla",2384]
["Municipios_19",{"$f":"Listas[[#This Row],[ID]]&\" \"&IF(Listas[[#This Row],[Descripcion]]=\"\",\"\",\"- \"&Listas[[#This Row],[Descripcion]])","v":"517 - Paez"},"517","Paez",2385]
["Municipios_19",{"$f":"Listas[[#This Row],[ID]]&\" \"&IF(Listas[[#This Row],[Descripcion]]=\"\",\"\",\"- \"&Listas[[#This Row],[Descripcion]])","v":"532 - Patia"},"532","Patia",2386]
["Municipios_19",{"$f":"Listas[[#This Row],[ID]]&\" \"&IF(Listas[[#This Row],[Descripcion]]=\"\",\"\",\"- \"&Listas[[#This Row],[Descripcion]])","v":"533 - Piamonte"},"533","Piamonte",2387]
["Municipios_19",{"$f":"Listas[[#This Row],[ID]]&\" \"&IF(Listas[[#This Row],[Descripcion]]=\"\",\"\",\"- \"&Listas[[#This Row],[Descripcion]])","v":"548 - Piendamo"},"548","Piendamo",2388]
["Municipios_19",{"$f":"Listas[[#This Row],[ID]]&\" \"&IF(Listas[[#This Row],[Descripcion]]=\"\",\"\",\"- \"&Listas[[#This Row],[Descripcion]])","v":"001 - Popayán"},"001","Popayán",2389]
["Municipios_19",{"$f":"Listas[[#This Row],[ID]]&\" \"&IF(Listas[[#This Row],[Descripcion]]=\"\",\"\",\"- \"&Listas[[#This Row],[Descripcion]])","v":"573 - Puerto Tejada"},"573","Puerto Tejada",2390]
["Municipios_19",{"$f":"Listas[[#This Row],[ID]]&\" \"&IF(Listas[[#This Row],[Descripcion]]=\"\",\"\",\"- \"&Listas[[#This Row],[Descripcion]])","v":"585 - Purace"},"585","Purace",2391]
["Municipios_19",{"$f":"Listas[[#This Row],[ID]]&\" \"&IF(Listas[[#This Row],[Descripcion]]=\"\",\"\",\"- \"&Listas[[#This Row],[Descripcion]])","v":"622 - Rosas"},"622","Rosas",2392]
["Municipios_19",{"$f":"Listas[[#This Row],[ID]]&\" \"&IF(Listas[[#This Row],[Descripcion]]=\"\",\"\",\"- \"&Listas[[#This Row],[Descripcion]])","v":"693 - San Sebastian"},"693","San Sebastian",2393]
["Municipios_19",{"$f":"Listas[[#This Row],[ID]]&\" \"&IF(Listas[[#This Row],[Descripcion]]=\"\",\"\",\"- \"&Listas[[#This Row],[Descripcion]])","v":"701 - Santa Rosa"},"701","Santa Rosa",2394]
["Municipios_19",{"$f":"Listas[[#This Row],[ID]]&\" \"&IF(Listas[[#This Row],[Descripcion]]=\"\",\"\",\"- \"&Listas[[#This Row],[Descripcion]])","v":"698 - Santander De Quilichao"},"698","Santander De Quilichao",2395]
["Municipios_19",{"$f":"Listas[[#This Row],[ID]]&\" \"&IF(Listas[[#This Row],[Descripcion]]=\"\",\"\",\"- \"&Listas[[#This Row],[Descripcion]])","v":"743 - Silvia"},"743","Silvia",2396]
["Municipios_19",{"$f":"Listas[[#This Row],[ID]]&\" \"&IF(Listas[[#This Row],[Descripcion]]=\"\",\"\",\"- \"&Listas[[#This Row],[Descripcion]])","v":"760 - Sotara"},"760","Sotara",2397]
["Municipios_19",{"$f":"Listas[[#This Row],[ID]]&\" \"&IF(Listas[[#This Row],[Descripcion]]=\"\",\"\",\"- \"&Listas[[#This Row],[Descripcion]])","v":"780 - Suarez"},"780","Suarez",2398]
["Municipios_19",{"$f":"Listas[[#This Row],[ID]]&\" \"&IF(Listas[[#This Row],[Descripcion]]=\"\",\"\",\"- \"&Listas[[#This Row],[Descripcion]])","v":"785 - Sucre"},"785","Sucre",2399]
["Municipios_19",{"$f":"Listas[[#This Row],[ID]]&\" \"&IF(Listas[[#This Row],[Descripcion]]=\"\",\"\",\"- \"&Listas[[#This Row],[Descripcion]])","v":"807 - Timbio"},"807","Timbio",2400]
["Municipios_19",{"$f":"Listas[[#This Row],[ID]]&\" \"&IF(Listas[[#This Row],[Descripcion]]=\"\",\"\",\"- \"&Listas[[#This Row],[Descripcion]])","v":"809 - Timbiqui"},"809","Timbiqui",2401]
["Municipios_19",{"$f":"Listas[[#This Row],[ID]]&\" \"&IF(Listas[[#This Row],[Descripcion]]=\"\",\"\",\"- \"&Listas[[#This Row],[Descripcion]])","v":"821 - Toribio"},"821","Toribio",2402]
["Municipios_19",{"$f":"Listas[[#This Row],[ID]]&\" \"&IF(Listas[[#This Row],[Descripcion]]=\"\",\"\",\"- \"&Listas[[#This Row],[Descripcion]])","v":"824 - Totoro"},"824","Totoro",2403]
["Municipios_19",{"$f":"Listas[[#This Row],[ID]]&\" \"&IF(Listas[[#This Row],[Descripcion]]=\"\",\"\",\"- \"&Listas[[#This Row],[Descripcion]])","v":"845 - Villa Rica"},"845","Villa Rica",2404]
["Municipios_20",{"$f":"Listas[[#This Row],[ID]]&\" \"&IF(Listas[[#This Row],[Descripcion]]=\"\",\"\",\"- \"&Listas[[#This Row],[Descripcion]])","v":"011 - Aguachica"},"011","Aguachica",2405]
["Municipios_20",{"$f":"Listas[[#This Row],[ID]]&\" \"&IF(Listas[[#This Row],[Descripcion]]=\"\",\"\",\"- \"&Listas[[#This Row],[Descripcion]])","v":"013 - Agustín Codazzi"},"013","Agustín Codazzi",2406]
["Municipios_20",{"$f":"Listas[[#This Row],[ID]]&\" \"&IF(Listas[[#This Row],[Descripcion]]=\"\",\"\",\"- \"&Listas[[#This Row],[Descripcion]])","v":"032 - Astrea"},"032","Astrea",2407]
["Municipios_20",{"$f":"Listas[[#This Row],[ID]]&\" \"&IF(Listas[[#This Row],[Descripcion]]=\"\",\"\",\"- \"&Listas[[#This Row],[Descripcion]])","v":"045 - Becerril"},"045","Becerril",2408]
["Municipios_20",{"$f":"Listas[[#This Row],[ID]]&\" \"&IF(Listas[[#This Row],[Descripcion]]=\"\",\"\",\"- \"&Listas[[#This Row],[Descripcion]])","v":"060 - Bosconia"},"060","Bosconia",2409]
["Municipios_20",{"$f":"Listas[[#This Row],[ID]]&\" \"&IF(Listas[[#This Row],[Descripcion]]=\"\",\"\",\"- \"&Listas[[#This Row],[Descripcion]])","v":"175 - Chimichagua"},"175","Chimichagua",2410]
["Municipios_20",{"$f":"Listas[[#This Row],[ID]]&\" \"&IF(Listas[[#This Row],[Descripcion]]=\"\",\"\",\"- \"&Listas[[#This Row],[Descripcion]])","v":"178 - Chiriguana"},"178","Chiriguana",2411]
["Municipios_20",{"$f":"Listas[[#This Row],[ID]]&\" \"&IF(Listas[[#This Row],[Descripcion]]=\"\",\"\",\"- \"&Listas[[#This Row],[Descripcion]])","v":"228 - Curumaní"},"228","Curumaní",2412]
["Municipios_20",{"$f":"Listas[[#This Row],[ID]]&\" \"&IF(Listas[[#This Row],[Descripcion]]=\"\",\"\",\"- \"&Listas[[#This Row],[Descripcion]])","v":"238 - El Copey"},"238","El Copey",2413]
["Municipios_20",{"$f":"Listas[[#This Row],[ID]]&\" \"&IF(Listas[[#This Row],[Descripcion]]=\"\",\"\",\"- \"&Listas[[#This Row],[Descripcion]])","v":"250 - El Paso"},"250","El Paso",2414]
["Municipios_20",{"$f":"Listas[[#This Row],[ID]]&\" \"&IF(Listas[[#This Row],[Descripcion]]=\"\",\"\",\"- \"&Listas[[#This Row],[Descripcion]])","v":"295 - Gamarra"},"295","Gamarra",2415]
["Municipios_20",{"$f":"Listas[[#This Row],[ID]]&\" \"&IF(Listas[[#This Row],[Descripcion]]=\"\",\"\",\"- \"&Listas[[#This Row],[Descripcion]])","v":"310 - González"},"310","González",2416]
["Municipios_20",{"$f":"Listas[[#This Row],[ID]]&\" \"&IF(Listas[[#This Row],[Descripcion]]=\"\",\"\",\"- \"&Listas[[#This Row],[Descripcion]])","v":"383 - La Gloria"},"383","La Gloria",2417]
["Municipios_20",{"$f":"Listas[[#This Row],[ID]]&\" \"&IF(Listas[[#This Row],[Descripcion]]=\"\",\"\",\"- \"&Listas[[#This Row],[Descripcion]])","v":"400 - La Jagua De Ibirico"},"400","La Jagua De Ibirico",2418]
["Municipios_20",{"$f":"Listas[[#This Row],[ID]]&\" \"&IF(Listas[[#This Row],[Descripcion]]=\"\",\"\",\"- \"&Listas[[#This Row],[Descripcion]])","v":"621 - La Paz"},"621","La Paz",2419]
["Municipios_20",{"$f":"Listas[[#This Row],[ID]]&\" \"&IF(Listas[[#This Row],[Descripcion]]=\"\",\"\",\"- \"&Listas[[#This Row],[Descripcion]])","v":"443 - Manaure"},"443","Manaure",2420]
["Municipios_20",{"$f":"Listas[[#This Row],[ID]]&\" \"&IF(Listas[[#This Row],[Descripcion]]=\"\",\"\",\"- \"&Listas[[#This Row],[Descripcion]])","v":"517 - Pailitas"},"517","Pailitas",2421]
["Municipios_20",{"$f":"Listas[[#This Row],[ID]]&\" \"&IF(Listas[[#This Row],[Descripcion]]=\"\",\"\",\"- \"&Listas[[#This Row],[Descripcion]])","v":"550 - Pelaya"},"550","Pelaya",2422]
["Municipios_20",{"$f":"Listas[[#This Row],[ID]]&\" \"&IF(Listas[[#This Row],[Descripcion]]=\"\",\"\",\"- \"&Listas[[#This Row],[Descripcion]])","v":"570 - Pueblo Bello"},"570","Pueblo Bello",2423]
["Municipios_20",{"$f":"Listas[[#This Row],[ID]]&\" \"&IF(Listas[[#This Row],[Descripcion]]=\"\",\"\",\"- \"&Listas[[#This Row],[Descripcion]])","v":"614 - Río De Oro"},"614","Río De Oro",2424]
["Municipios_20",{"$f":"Listas[[#This Row],[ID]]&\" \"&IF(Listas[[#This Row],[Descripcion]]=\"\",\"\",\"- \"&Listas[[#This Row],[Descripcion]])","v":"710 - San Alberto"},"710","San Alberto",2425]
["Municipios_20",{"$f":"Listas[[#This Row],[ID]]&\" \"&IF(Listas[[#This Row],[Descripcion]]=\"\",\"\",\"- \"&Listas[[#This Row],[Descripcion]])","v":"750 - San Diego"},"750","San Diego",2426]
["Municipios_20",{"$f":"Listas[[#This Row],[ID]]&\" \"&IF(Listas[[#This Row],[Descripcion]]=\"\",\"\",\"- \"&Listas[[#This Row],[Descripcion]])","v":"770 - San Martín"},"770","San Martín",2427]
["Municipios_20",{"$f":"Listas[[#This Row],[ID]]&\" \"&IF(Listas[[#This Row],[Descripcion]]=\"\",\"\",\"- \"&Listas[[#This Row],[Descripcion]])","v":"787 - Tamalameque"},"787","Tamalameque",2428]
["Municipios_20",{"$f":"Listas[[#This Row],[ID]]&\" \"&IF(Listas[[#This Row],[Descripcion]]=\"\",\"\",\"- \"&Listas[[#This Row],[Descripcion]])","v":"001 - Valledupar"},"001","Valledupar",2429]
["Municipios_23",{"$f":"Listas[[#This Row],[ID]]&\" \"&IF(Listas[[#This Row],[Descripcion]]=\"\",\"\",\"- \"&Listas[[#This Row],[Descripcion]])","v":"068 - Ayapel"},"068","Ayapel",2430]
["Municipios_23",{"$f":"Listas[[#This Row],[ID]]&\" \"&IF(Listas[[#This Row],[Descripcion]]=\"\",\"\",\"- \"&Listas[[#This Row],[Descripcion]])","v":"079 - Buenavista"},"079","Buenavista",2431]
["Municipios_23",{"$f":"Listas[[#This Row],[ID]]&\" \"&IF(Listas[[#This Row],[Descripcion]]=\"\",\"\",\"- \"&Listas[[#This Row],[Descripcion]])","v":"090 - Canalete"},"090","Canalete",2432]
["Municipios_23",{"$f":"Listas[[#This Row],[ID]]&\" \"&IF(Listas[[#This Row],[Descripcion]]=\"\",\"\",\"- \"&Listas[[#This Row],[Descripcion]])","v":"162 - Cereté"},"162","Cereté",2433]
["Municipios_23",{"$f":"Listas[[#This Row],[ID]]&\" \"&IF(Listas[[#This Row],[Descripcion]]=\"\",\"\",\"- \"&Listas[[#This Row],[Descripcion]])","v":"168 - Chimá"},"168","Chimá",2434]
["Municipios_23",{"$f":"Listas[[#This Row],[ID]]&\" \"&IF(Listas[[#This Row],[Descripcion]]=\"\",\"\",\"- \"&Listas[[#This Row],[Descripcion]])","v":"182 - Chinú"},"182","Chinú",2435]
["Municipios_23",{"$f":"Listas[[#This Row],[ID]]&\" \"&IF(Listas[[#This Row],[Descripcion]]=\"\",\"\",\"- \"&Listas[[#This Row],[Descripcion]])","v":"189 - Ciénaga De Oro"},"189","Ciénaga De Oro",2436]
["Municipios_23",{"$f":"Listas[[#This Row],[ID]]&\" \"&IF(Listas[[#This Row],[Descripcion]]=\"\",\"\",\"- \"&Listas[[#This Row],[Descripcion]])","v":"300 - Cotorra"},"300","Cotorra",2437]
["Municipios_23",{"$f":"Listas[[#This Row],[ID]]&\" \"&IF(Listas[[#This Row],[Descripcion]]=\"\",\"\",\"- \"&Listas[[#This Row],[Descripcion]])","v":"350 - La Apartada"},"350","La Apartada",2438]
["Municipios_23",{"$f":"Listas[[#This Row],[ID]]&\" \"&IF(Listas[[#This Row],[Descripcion]]=\"\",\"\",\"- \"&Listas[[#This Row],[Descripcion]])","v":"417 - Lorica"},"417","Lorica",2439]
["Municipios_23",{"$f":"Listas[[#This Row],[ID]]&\" \"&IF(Listas[[#This Row],[Descripcion]]=\"\",\"\",\"- \"&Listas[[#This Row],[Descripcion]])","v":"419 - Los Córdobas"},"419","Los Córdobas",2440]
["Municipios_23",{"$f":"Listas[[#This Row],[ID]]&\" \"&IF(Listas[[#This Row],[Descripcion]]=\"\",\"\",\"- \"&Listas[[#This Row],[Descripcion]])","v":"464 - Momil"},"464","Momil",2441]
["Municipios_23",{"$f":"Listas[[#This Row],[ID]]&\" \"&IF(Listas[[#This Row],[Descripcion]]=\"\",\"\",\"- \"&Listas[[#This Row],[Descripcion]])","v":"466 - Montelíbano"},"466","Montelíbano",2442]
["Municipios_23",{"$f":"Listas[[#This Row],[ID]]&\" \"&IF(Listas[[#This Row],[Descripcion]]=\"\",\"\",\"- \"&Listas[[#This Row],[Descripcion]])","v":"001 - Montería"},"001","Montería",2443]
["Municipios_23",{"$f":"Listas[[#This Row],[ID]]&\" \"&IF(Listas[[#This Row],[Descripcion]]=\"\",\"\",\"- \"&Listas[[#This Row],[Descripcion]])","v":"500 - Moñitos"},"500","Moñitos",2444]
["Municipios_23",{"$f":"Listas[[#This Row],[ID]]&\" \"&IF(Listas[[#This Row],[Descripcion]]=\"\",\"\",\"- \"&Listas[[#This Row],[Descripcion]])","v":"555 - Planeta Rica"},"555","Planeta Rica",2445]
["Municipios_23",{"$f":"Listas[[#This Row],[ID]]&\" \"&IF(Listas[[#This Row],[Descripcion]]=\"\",\"\",\"- \"&Listas[[#This Row],[Descripcion]])","v":"570 - Pueblo Nuevo"},"570","Pueblo Nuevo",2446]
["Municipios_23",{"$f":"Listas[[#This Row],[ID]]&\" \"&IF(Listas[[#This Row],[Descripcion]]=\"\",\"\",\"- \"&Listas[[#This Row],[Descripcion]])","v":"574 - Puerto Escondido"},"574","Puerto Escondido",2447]
["Municipios_23",{"$f":"Listas[[#This Row],[ID]]&\" \"&IF(Listas[[#This Row],[Descripcion]]=\"\",\"\",\"- \"&Listas[[#This Row],[Descripcion]])","v":"580 - Puerto Libertador"},"580","Puerto Libertador",2448]
["Municipios_23",{"$f":"Listas[[#This Row],[ID]]&\" \"&IF(Listas[[#This Row],[Descripcion]]=\"\",\"\",\"- \"&Listas[[#This Row],[Descripcion]])","v":"586 - Purísima"},"586","Purísima",2449]
["Municipios_23",{"$f":"Listas[[#This Row],[ID]]&\" \"&IF(Listas[[#This Row],[Descripcion]]=\"\",\"\",\"- \"&Listas[[#This Row],[Descripcion]])","v":"660 - Sahagún"},"660","Sahagún",2450]
["Municipios_23",{"$f":"Listas[[#This Row],[ID]]&\" \"&IF(Listas[[#This Row],[Descripcion]]=\"\",\"\",\"- \"&Listas[[#This Row],[Descripcion]])","v":"670 - San Andrés Sotavento"},"670","San Andrés Sotavento",2451]
["Municipios_23",{"$f":"Listas[[#This Row],[ID]]&\" \"&IF(Listas[[#This Row],[Descripcion]]=\"\",\"\",\"- \"&Listas[[#This Row],[Descripcion]])","v":"672 - San Antero"},"672","San Antero",2452]
["Municipios_23",{"$f":"Listas[[#This Row],[ID]]&\" \"&IF(Listas[[#This Row],[Descripcion]]=\"\",\"\",\"- \"&Listas[[#This Row],[Descripcion]])","v":"675 - San Bernardo Del Viento"},"675","San Bernardo Del Viento",2453]
["Municipios_23",{"$f":"Listas[[#This Row],[ID]]&\" \"&IF(Listas[[#This Row],[Descripcion]]=\"\",\"\",\"- \"&Listas[[#This Row],[Descripcion]])","v":"678 - San Carlos"},"678","San Carlos",2454]
["Municipios_23",{"$f":"Listas[[#This Row],[ID]]&\" \"&IF(Listas[[#This Row],[Descripcion]]=\"\",\"\",\"- \"&Listas[[#This Row],[Descripcion]])","v":"682 - San José de Uré"},"682","San José de Uré",2455]
["Municipios_23",{"$f":"Listas[[#This Row],[ID]]&\" \"&IF(Listas[[#This Row],[Descripcion]]=\"\",\"\",\"- \"&Listas[[#This Row],[Descripcion]])","v":"686 - San Pelayo"},"686","San Pelayo",2456]
["Municipios_23",{"$f":"Listas[[#This Row],[ID]]&\" \"&IF(Listas[[#This Row],[Descripcion]]=\"\",\"\",\"- \"&Listas[[#This Row],[Descripcion]])","v":"807 - Tierralta"},"807","Tierralta",2457]
["Municipios_23",{"$f":"Listas[[#This Row],[ID]]&\" \"&IF(Listas[[#This Row],[Descripcion]]=\"\",\"\",\"- \"&Listas[[#This Row],[Descripcion]])","v":"815 - Tuchín"},"815","Tuchín",2458]
["Municipios_23",{"$f":"Listas[[#This Row],[ID]]&\" \"&IF(Listas[[#This Row],[Descripcion]]=\"\",\"\",\"- \"&Listas[[#This Row],[Descripcion]])","v":"855 - Valencia"},"855","Valencia",2459]
["Municipios_25",{"$f":"Listas[[#This Row],[ID]]&\" \"&IF(Listas[[#This Row],[Descripcion]]=\"\",\"\",\"- \"&Listas[[#This Row],[Descripcion]])","v":"001 - Agua De Dios"},"001","Agua De Dios",2460]
["Municipios_25",{"$f":"Listas[[#This Row],[ID]]&\" \"&IF(Listas[[#This Row],[Descripcion]]=\"\",\"\",\"- \"&Listas[[#This Row],[Descripcion]])","v":"019 - Albán"},"019","Albán",2461]
["Municipios_25",{"$f":"Listas[[#This Row],[ID]]&\" \"&IF(Listas[[#This Row],[Descripcion]]=\"\",\"\",\"- \"&Listas[[#This Row],[Descripcion]])","v":"035 - Anapoima"},"035","Anapoima",2462]
["Municipios_25",{"$f":"Listas[[#This Row],[ID]]&\" \"&IF(Listas[[#This Row],[Descripcion]]=\"\",\"\",\"- \"&Listas[[#This Row],[Descripcion]])","v":"040 - Anolaima"},"040","Anolaima",2463]
["Municipios_25",{"$f":"Listas[[#This Row],[ID]]&\" \"&IF(Listas[[#This Row],[Descripcion]]=\"\",\"\",\"- \"&Listas[[#This Row],[Descripcion]])","v":"599 - Apulo"},"599","Apulo",2464]
["Municipios_25",{"$f":"Listas[[#This Row],[ID]]&\" \"&IF(Listas[[#This Row],[Descripcion]]=\"\",\"\",\"- \"&Listas[[#This Row],[Descripcion]])","v":"053 - Arbeláez"},"053","Arbeláez",2465]
["Municipios_25",{"$f":"Listas[[#This Row],[ID]]&\" \"&IF(Listas[[#This Row],[Descripcion]]=\"\",\"\",\"- \"&Listas[[#This Row],[Descripcion]])","v":"086 - Beltrán"},"086","Beltrán",2466]
["Municipios_25",{"$f":"Listas[[#This Row],[ID]]&\" \"&IF(Listas[[#This Row],[Descripcion]]=\"\",\"\",\"- \"&Listas[[#This Row],[Descripcion]])","v":"095 - Bituima"},"095","Bituima",2467]
["Municipios_25",{"$f":"Listas[[#This Row],[ID]]&\" \"&IF(Listas[[#This Row],[Descripcion]]=\"\",\"\",\"- \"&Listas[[#This Row],[Descripcion]])","v":"099 - Bojacá"},"099","Bojacá",2468]
["Municipios_25",{"$f":"Listas[[#This Row],[ID]]&\" \"&IF(Listas[[#This Row],[Descripcion]]=\"\",\"\",\"- \"&Listas[[#This Row],[Descripcion]])","v":"120 - Cabrera"},"120","Cabrera",2469]
["Municipios_25",{"$f":"Listas[[#This Row],[ID]]&\" \"&IF(Listas[[#This Row],[Descripcion]]=\"\",\"\",\"- \"&Listas[[#This Row],[Descripcion]])","v":"123 - Cachipay"},"123","Cachipay",2470]
["Municipios_25",{"$f":"Listas[[#This Row],[ID]]&\" \"&IF(Listas[[#This Row],[Descripcion]]=\"\",\"\",\"- \"&Listas[[#This Row],[Descripcion]])","v":"126 - Cajicá"},"126","Cajicá",2471]
["Municipios_25",{"$f":"Listas[[#This Row],[ID]]&\" \"&IF(Listas[[#This Row],[Descripcion]]=\"\",\"\",\"- \"&Listas[[#This Row],[Descripcion]])","v":"148 - Caparrapí"},"148","Caparrapí",2472]
["Municipios_25",{"$f":"Listas[[#This Row],[ID]]&\" \"&IF(Listas[[#This Row],[Descripcion]]=\"\",\"\",\"- \"&Listas[[#This Row],[Descripcion]])","v":"151 - Caqueza"},"151","Caqueza",2473]
["Municipios_25",{"$f":"Listas[[#This Row],[ID]]&\" \"&IF(Listas[[#This Row],[Descripcion]]=\"\",\"\",\"- \"&Listas[[#This Row],[Descripcion]])","v":"154 - Carmen De Carupa"},"154","Carmen De Carupa",2474]
["Municipios_25",{"$f":"Listas[[#This Row],[ID]]&\" \"&IF(Listas[[#This Row],[Descripcion]]=\"\",\"\",\"- \"&Listas[[#This Row],[Descripcion]])","v":"168 - Chaguaní"},"168","Chaguaní",2475]
["Municipios_25",{"$f":"Listas[[#This Row],[ID]]&\" \"&IF(Listas[[#This Row],[Descripcion]]=\"\",\"\",\"- \"&Listas[[#This Row],[Descripcion]])","v":"175 - Chía"},"175","Chía",2476]
["Municipios_25",{"$f":"Listas[[#This Row],[ID]]&\" \"&IF(Listas[[#This Row],[Descripcion]]=\"\",\"\",\"- \"&Listas[[#This Row],[Descripcion]])","v":"178 - Chipaque"},"178","Chipaque",2477]
["Municipios_25",{"$f":"Listas[[#This Row],[ID]]&\" \"&IF(Listas[[#This Row],[Descripcion]]=\"\",\"\",\"- \"&Listas[[#This Row],[Descripcion]])","v":"181 - Choachí"},"181","Choachí",2478]
["Municipios_25",{"$f":"Listas[[#This Row],[ID]]&\" \"&IF(Listas[[#This Row],[Descripcion]]=\"\",\"\",\"- \"&Listas[[#This Row],[Descripcion]])","v":"183 - Chocontá"},"183","Chocontá",2479]
["Municipios_25",{"$f":"Listas[[#This Row],[ID]]&\" \"&IF(Listas[[#This Row],[Descripcion]]=\"\",\"\",\"- \"&Listas[[#This Row],[Descripcion]])","v":"200 - Cogua"},"200","Cogua",2480]
["Municipios_25",{"$f":"Listas[[#This Row],[ID]]&\" \"&IF(Listas[[#This Row],[Descripcion]]=\"\",\"\",\"- \"&Listas[[#This Row],[Descripcion]])","v":"214 - Cota"},"214","Cota",2481]
["Municipios_25",{"$f":"Listas[[#This Row],[ID]]&\" \"&IF(Listas[[#This Row],[Descripcion]]=\"\",\"\",\"- \"&Listas[[#This Row],[Descripcion]])","v":"224 - Cucunubá"},"224","Cucunubá",2482]
["Municipios_25",{"$f":"Listas[[#This Row],[ID]]&\" \"&IF(Listas[[#This Row],[Descripcion]]=\"\",\"\",\"- \"&Listas[[#This Row],[Descripcion]])","v":"245 - El Colegio"},"245","El Colegio",2483]
["Municipios_25",{"$f":"Listas[[#This Row],[ID]]&\" \"&IF(Listas[[#This Row],[Descripcion]]=\"\",\"\",\"- \"&Listas[[#This Row],[Descripcion]])","v":"258 - El Peñón"},"258","El Peñón",2484]
["Municipios_25",{"$f":"Listas[[#This Row],[ID]]&\" \"&IF(Listas[[#This Row],[Descripcion]]=\"\",\"\",\"- \"&Listas[[#This Row],[Descripcion]])","v":"260 - El Rosal"},"260","El Rosal",2485]
["Municipios_25",{"$f":"Listas[[#This Row],[ID]]&\" \"&IF(Listas[[#This Row],[Descripcion]]=\"\",\"\",\"- \"&Listas[[#This Row],[Descripcion]])","v":"269 - Facatativá"},"269","Facatativá",2486]
["Municipios_25",{"$f":"Listas[[#This Row],[ID]]&\" \"&IF(Listas[[#This Row],[Descripcion]]=\"\",\"\",\"- \"&Listas[[#This Row],[Descripcion]])","v":"279 - Fomeque"},"279","Fomeque",2487]
["Municipios_25",{"$f":"Listas[[#This Row],[ID]]&\" \"&IF(Listas[[#This Row],[Descripcion]]=\"\",\"\",\"- \"&Listas[[#This Row],[Descripcion]])","v":"281 - Fosca"},"281","Fosca",2488]
["Municipios_25",{"$f":"Listas[[#This Row],[ID]]&\" \"&IF(Listas[[#This Row],[Descripcion]]=\"\",\"\",\"- \"&Listas[[#This Row],[Descripcion]])","v":"286 - Funza"},"286","Funza",2489]
["Municipios_25",{"$f":"Listas[[#This Row],[ID]]&\" \"&IF(Listas[[#This Row],[Descripcion]]=\"\",\"\",\"- \"&Listas[[#This Row],[Descripcion]])","v":"288 - Fúquene"},"288","Fúquene",2490]
["Municipios_25",{"$f":"Listas[[#This Row],[ID]]&\" \"&IF(Listas[[#This Row],[Descripcion]]=\"\",\"\",\"- \"&Listas[[#This Row],[Descripcion]])","v":"290 - Fusagasugá"},"290","Fusagasugá",2491]
["Municipios_25",{"$f":"Listas[[#This Row],[ID]]&\" \"&IF(Listas[[#This Row],[Descripcion]]=\"\",\"\",\"- \"&Listas[[#This Row],[Descripcion]])","v":"293 - Gachala"},"293","Gachala",2492]
["Municipios_25",{"$f":"Listas[[#This Row],[ID]]&\" \"&IF(Listas[[#This Row],[Descripcion]]=\"\",\"\",\"- \"&Listas[[#This Row],[Descripcion]])","v":"295 - Gachancipá"},"295","Gachancipá",2493]
["Municipios_25",{"$f":"Listas[[#This Row],[ID]]&\" \"&IF(Listas[[#This Row],[Descripcion]]=\"\",\"\",\"- \"&Listas[[#This Row],[Descripcion]])","v":"297 - Gacheta"},"297","Gacheta",2494]
["Municipios_25",{"$f":"Listas[[#This Row],[ID]]&\" \"&IF(Listas[[#This Row],[Descripcion]]=\"\",\"\",\"- \"&Listas[[#This Row],[Descripcion]])","v":"299 - Gama"},"299","Gama",2495]
["Municipios_25",{"$f":"Listas[[#This Row],[ID]]&\" \"&IF(Listas[[#This Row],[Descripcion]]=\"\",\"\",\"- \"&Listas[[#This Row],[Descripcion]])","v":"307 - Girardot"},"307","Girardot",2496]
["Municipios_25",{"$f":"Listas[[#This Row],[ID]]&\" \"&IF(Listas[[#This Row],[Descripcion]]=\"\",\"\",\"- \"&Listas[[#This Row],[Descripcion]])","v":"312 - Granada"},"312","Granada",2497]
["Municipios_25",{"$f":"Listas[[#This Row],[ID]]&\" \"&IF(Listas[[#This Row],[Descripcion]]=\"\",\"\",\"- \"&Listas[[#This Row],[Descripcion]])","v":"317 - Guachetá"},"317","Guachetá",2498]
["Municipios_25",{"$f":"Listas[[#This Row],[ID]]&\" \"&IF(Listas[[#This Row],[Descripcion]]=\"\",\"\",\"- \"&Listas[[#This Row],[Descripcion]])","v":"320 - Guaduas"},"320","Guaduas",2499]
["Municipios_25",{"$f":"Listas[[#This Row],[ID]]&\" \"&IF(Listas[[#This Row],[Descripcion]]=\"\",\"\",\"- \"&Listas[[#This Row],[Descripcion]])","v":"322 - Guasca"},"322","Guasca",2500]
["Municipios_25",{"$f":"Listas[[#This Row],[ID]]&\" \"&IF(Listas[[#This Row],[Descripcion]]=\"\",\"\",\"- \"&Listas[[#This Row],[Descripcion]])","v":"324 - Guataquí"},"324","Guataquí",2501]
["Municipios_25",{"$f":"Listas[[#This Row],[ID]]&\" \"&IF(Listas[[#This Row],[Descripcion]]=\"\",\"\",\"- \"&Listas[[#This Row],[Descripcion]])","v":"326 - Guatavita"},"326","Guatavita",2502]
["Municipios_25",{"$f":"Listas[[#This Row],[ID]]&\" \"&IF(Listas[[#This Row],[Descripcion]]=\"\",\"\",\"- \"&Listas[[#This Row],[Descripcion]])","v":"328 - Guayabal De Siquima"},"328","Guayabal De Siquima",2503]
["Municipios_25",{"$f":"Listas[[#This Row],[ID]]&\" \"&IF(Listas[[#This Row],[Descripcion]]=\"\",\"\",\"- \"&Listas[[#This Row],[Descripcion]])","v":"335 - Guayabetal"},"335","Guayabetal",2504]
["Municipios_25",{"$f":"Listas[[#This Row],[ID]]&\" \"&IF(Listas[[#This Row],[Descripcion]]=\"\",\"\",\"- \"&Listas[[#This Row],[Descripcion]])","v":"339 - Gutiérrez"},"339","Gutiérrez",2505]
["Municipios_25",{"$f":"Listas[[#This Row],[ID]]&\" \"&IF(Listas[[#This Row],[Descripcion]]=\"\",\"\",\"- \"&Listas[[#This Row],[Descripcion]])","v":"368 - Jerusalén"},"368","Jerusalén",2506]
["Municipios_25",{"$f":"Listas[[#This Row],[ID]]&\" \"&IF(Listas[[#This Row],[Descripcion]]=\"\",\"\",\"- \"&Listas[[#This Row],[Descripcion]])","v":"372 - Junín"},"372","Junín",2507]
["Municipios_25",{"$f":"Listas[[#This Row],[ID]]&\" \"&IF(Listas[[#This Row],[Descripcion]]=\"\",\"\",\"- \"&Listas[[#This Row],[Descripcion]])","v":"377 - La Calera"},"377","La Calera",2508]
["Municipios_25",{"$f":"Listas[[#This Row],[ID]]&\" \"&IF(Listas[[#This Row],[Descripcion]]=\"\",\"\",\"- \"&Listas[[#This Row],[Descripcion]])","v":"386 - La Mesa"},"386","La Mesa",2509]
["Municipios_25",{"$f":"Listas[[#This Row],[ID]]&\" \"&IF(Listas[[#This Row],[Descripcion]]=\"\",\"\",\"- \"&Listas[[#This Row],[Descripcion]])","v":"394 - La Palma"},"394","La Palma",2510]
["Municipios_25",{"$f":"Listas[[#This Row],[ID]]&\" \"&IF(Listas[[#This Row],[Descripcion]]=\"\",\"\",\"- \"&Listas[[#This Row],[Descripcion]])","v":"398 - La Peña"},"398","La Peña",2511]
["Municipios_25",{"$f":"Listas[[#This Row],[ID]]&\" \"&IF(Listas[[#This Row],[Descripcion]]=\"\",\"\",\"- \"&Listas[[#This Row],[Descripcion]])","v":"402 - La Vega"},"402","La Vega",2512]
["Municipios_25",{"$f":"Listas[[#This Row],[ID]]&\" \"&IF(Listas[[#This Row],[Descripcion]]=\"\",\"\",\"- \"&Listas[[#This Row],[Descripcion]])","v":"407 - Lenguazaque"},"407","Lenguazaque",2513]
["Municipios_25",{"$f":"Listas[[#This Row],[ID]]&\" \"&IF(Listas[[#This Row],[Descripcion]]=\"\",\"\",\"- \"&Listas[[#This Row],[Descripcion]])","v":"426 - Macheta"},"426","Macheta",2514]
["Municipios_25",{"$f":"Listas[[#This Row],[ID]]&\" \"&IF(Listas[[#This Row],[Descripcion]]=\"\",\"\",\"- \"&Listas[[#This Row],[Descripcion]])","v":"430 - Madrid"},"430","Madrid",2515]
["Municipios_25",{"$f":"Listas[[#This Row],[ID]]&\" \"&IF(Listas[[#This Row],[Descripcion]]=\"\",\"\",\"- \"&Listas[[#This Row],[Descripcion]])","v":"436 - Manta"},"436","Manta",2516]
["Municipios_25",{"$f":"Listas[[#This Row],[ID]]&\" \"&IF(Listas[[#This Row],[Descripcion]]=\"\",\"\",\"- \"&Listas[[#This Row],[Descripcion]])","v":"438 - Medina"},"438","Medina",2517]
["Municipios_25",{"$f":"Listas[[#This Row],[ID]]&\" \"&IF(Listas[[#This Row],[Descripcion]]=\"\",\"\",\"- \"&Listas[[#This Row],[Descripcion]])","v":"473 - Mosquera"},"473","Mosquera",2518]
["Municipios_25",{"$f":"Listas[[#This Row],[ID]]&\" \"&IF(Listas[[#This Row],[Descripcion]]=\"\",\"\",\"- \"&Listas[[#This Row],[Descripcion]])","v":"483 - Nariño"},"483","Nariño",2519]
["Municipios_25",{"$f":"Listas[[#This Row],[ID]]&\" \"&IF(Listas[[#This Row],[Descripcion]]=\"\",\"\",\"- \"&Listas[[#This Row],[Descripcion]])","v":"486 - Nemocon"},"486","Nemocon",2520]
["Municipios_25",{"$f":"Listas[[#This Row],[ID]]&\" \"&IF(Listas[[#This Row],[Descripcion]]=\"\",\"\",\"- \"&Listas[[#This Row],[Descripcion]])","v":"488 - Nilo"},"488","Nilo",2521]
["Municipios_25",{"$f":"Listas[[#This Row],[ID]]&\" \"&IF(Listas[[#This Row],[Descripcion]]=\"\",\"\",\"- \"&Listas[[#This Row],[Descripcion]])","v":"489 - Nimaima"},"489","Nimaima",2522]
["Municipios_25",{"$f":"Listas[[#This Row],[ID]]&\" \"&IF(Listas[[#This Row],[Descripcion]]=\"\",\"\",\"- \"&Listas[[#This Row],[Descripcion]])","v":"491 - Nocaima"},"491","Nocaima",2523]
["Municipios_25",{"$f":"Listas[[#This Row],[ID]]&\" \"&IF(Listas[[#This Row],[Descripcion]]=\"\",\"\",\"- \"&Listas[[#This Row],[Descripcion]])","v":"513 - Pacho"},"513","Pacho",2524]
["Municipios_25",{"$f":"Listas[[#This Row],[ID]]&\" \"&IF(Listas[[#This Row],[Descripcion]]=\"\",\"\",\"- \"&Listas[[#This Row],[Descripcion]])","v":"518 - Paime"},"518","Paime",2525]
["Municipios_25",{"$f":"Listas[[#This Row],[ID]]&\" \"&IF(Listas[[#This Row],[Descripcion]]=\"\",\"\",\"- \"&Listas[[#This Row],[Descripcion]])","v":"524 - Pandi"},"524","Pandi",2526]
["Municipios_25",{"$f":"Listas[[#This Row],[ID]]&\" \"&IF(Listas[[#This Row],[Descripcion]]=\"\",\"\",\"- \"&Listas[[#This Row],[Descripcion]])","v":"530 - Paratebueno"},"530","Paratebueno",2527]
["Municipios_25",{"$f":"Listas[[#This Row],[ID]]&\" \"&IF(Listas[[#This Row],[Descripcion]]=\"\",\"\",\"- \"&Listas[[#This Row],[Descripcion]])","v":"535 - Pasca"},"535","Pasca",2528]
["Municipios_25",{"$f":"Listas[[#This Row],[ID]]&\" \"&IF(Listas[[#This Row],[Descripcion]]=\"\",\"\",\"- \"&Listas[[#This Row],[Descripcion]])","v":"572 - Puerto Salgar"},"572","Puerto Salgar",2529]
["Municipios_25",{"$f":"Listas[[#This Row],[ID]]&\" \"&IF(Listas[[#This Row],[Descripcion]]=\"\",\"\",\"- \"&Listas[[#This Row],[Descripcion]])","v":"580 - Puli"},"580","Puli",2530]
["Municipios_25",{"$f":"Listas[[#This Row],[ID]]&\" \"&IF(Listas[[#This Row],[Descripcion]]=\"\",\"\",\"- \"&Listas[[#This Row],[Descripcion]])","v":"592 - Quebradanegra"},"592","Quebradanegra",2531]
["Municipios_25",{"$f":"Listas[[#This Row],[ID]]&\" \"&IF(Listas[[#This Row],[Descripcion]]=\"\",\"\",\"- \"&Listas[[#This Row],[Descripcion]])","v":"594 - Quetame"},"594","Quetame",2532]
["Municipios_25",{"$f":"Listas[[#This Row],[ID]]&\" \"&IF(Listas[[#This Row],[Descripcion]]=\"\",\"\",\"- \"&Listas[[#This Row],[Descripcion]])","v":"596 - Quipile"},"596","Quipile",2533]
["Municipios_25",{"$f":"Listas[[#This Row],[ID]]&\" \"&IF(Listas[[#This Row],[Descripcion]]=\"\",\"\",\"- \"&Listas[[#This Row],[Descripcion]])","v":"612 - Ricaurte"},"612","Ricaurte",2534]
["Municipios_25",{"$f":"Listas[[#This Row],[ID]]&\" \"&IF(Listas[[#This Row],[Descripcion]]=\"\",\"\",\"- \"&Listas[[#This Row],[Descripcion]])","v":"645 - San Antonio De Tequendama"},"645","San Antonio De Tequendama",2535]
["Municipios_25",{"$f":"Listas[[#This Row],[ID]]&\" \"&IF(Listas[[#This Row],[Descripcion]]=\"\",\"\",\"- \"&Listas[[#This Row],[Descripcion]])","v":"649 - San Bernardo"},"649","San Bernardo",2536]
["Municipios_25",{"$f":"Listas[[#This Row],[ID]]&\" \"&IF(Listas[[#This Row],[Descripcion]]=\"\",\"\",\"- \"&Listas[[#This Row],[Descripcion]])","v":"653 - San Cayetano"},"653","San Cayetano",2537]
["Municipios_25",{"$f":"Listas[[#This Row],[ID]]&\" \"&IF(Listas[[#This Row],[Descripcion]]=\"\",\"\",\"- \"&Listas[[#This Row],[Descripcion]])","v":"658 - San Francisco"},"658","San Francisco",2538]
["Municipios_25",{"$f":"Listas[[#This Row],[ID]]&\" \"&IF(Listas[[#This Row],[Descripcion]]=\"\",\"\",\"- \"&Listas[[#This Row],[Descripcion]])","v":"662 - San Juan De Río Seco"},"662","San Juan De Río Seco",2539]
["Municipios_25",{"$f":"Listas[[#This Row],[ID]]&\" \"&IF(Listas[[#This Row],[Descripcion]]=\"\",\"\",\"- \"&Listas[[#This Row],[Descripcion]])","v":"718 - Sasaima"},"718","Sasaima",2540]
["Municipios_25",{"$f":"Listas[[#This Row],[ID]]&\" \"&IF(Listas[[#This Row],[Descripcion]]=\"\",\"\",\"- \"&Listas[[#This Row],[Descripcion]])","v":"736 - Sesquilé"},"736","Sesquilé",2541]
["Municipios_25",{"$f":"Listas[[#This Row],[ID]]&\" \"&IF(Listas[[#This Row],[Descripcion]]=\"\",\"\",\"- \"&Listas[[#This Row],[Descripcion]])","v":"740 - Sibaté"},"740","Sibaté",2542]
["Municipios_25",{"$f":"Listas[[#This Row],[ID]]&\" \"&IF(Listas[[#This Row],[Descripcion]]=\"\",\"\",\"- \"&Listas[[#This Row],[Descripcion]])","v":"743 - Silvania"},"743","Silvania",2543]
["Municipios_25",{"$f":"Listas[[#This Row],[ID]]&\" \"&IF(Listas[[#This Row],[Descripcion]]=\"\",\"\",\"- \"&Listas[[#This Row],[Descripcion]])","v":"745 - Simijaca"},"745","Simijaca",2544]
["Municipios_25",{"$f":"Listas[[#This Row],[ID]]&\" \"&IF(Listas[[#This Row],[Descripcion]]=\"\",\"\",\"- \"&Listas[[#This Row],[Descripcion]])","v":"754 - Soacha"},"754","Soacha",2545]
["Municipios_25",{"$f":"Listas[[#This Row],[ID]]&\" \"&IF(Listas[[#This Row],[Descripcion]]=\"\",\"\",\"- \"&Listas[[#This Row],[Descripcion]])","v":"758 - Sopó"},"758","Sopó",2546]
["Municipios_25",{"$f":"Listas[[#This Row],[ID]]&\" \"&IF(Listas[[#This Row],[Descripcion]]=\"\",\"\",\"- \"&Listas[[#This Row],[Descripcion]])","v":"769 - Subachoque"},"769","Subachoque",2547]
["Municipios_25",{"$f":"Listas[[#This Row],[ID]]&\" \"&IF(Listas[[#This Row],[Descripcion]]=\"\",\"\",\"- \"&Listas[[#This Row],[Descripcion]])","v":"772 - Suesca"},"772","Suesca",2548]
["Municipios_25",{"$f":"Listas[[#This Row],[ID]]&\" \"&IF(Listas[[#This Row],[Descripcion]]=\"\",\"\",\"- \"&Listas[[#This Row],[Descripcion]])","v":"777 - Supatá"},"777","Supatá",2549]
["Municipios_25",{"$f":"Listas[[#This Row],[ID]]&\" \"&IF(Listas[[#This Row],[Descripcion]]=\"\",\"\",\"- \"&Listas[[#This Row],[Descripcion]])","v":"779 - Susa"},"779","Susa",2550]
["Municipios_25",{"$f":"Listas[[#This Row],[ID]]&\" \"&IF(Listas[[#This Row],[Descripcion]]=\"\",\"\",\"- \"&Listas[[#This Row],[Descripcion]])","v":"781 - Sutatausa"},"781","Sutatausa",2551]
["Municipios_25",{"$f":"Listas[[#This Row],[ID]]&\" \"&IF(Listas[[#This Row],[Descripcion]]=\"\",\"\",\"- \"&Listas[[#This Row],[Descripcion]])","v":"785 - Tabio"},"785","Tabio",2552]
["Municipios_25",{"$f":"Listas[[#This Row],[ID]]&\" \"&IF(Listas[[#This Row],[Descripcion]]=\"\",\"\",\"- \"&Listas[[#This Row],[Descripcion]])","v":"793 - Tausa"},"793","Tausa",2553]
["Municipios_25",{"$f":"Listas[[#This Row],[ID]]&\" \"&IF(Listas[[#This Row],[Descripcion]]=\"\",\"\",\"- \"&Listas[[#This Row],[Descripcion]])","v":"797 - Tena"},"797","Tena",2554]
["Municipios_25",{"$f":"Listas[[#This Row],[ID]]&\" \"&IF(Listas[[#This Row],[Descripcion]]=\"\",\"\",\"- \"&Listas[[#This Row],[Descripcion]])","v":"799 - Tenjo"},"799","Tenjo",2555]
["Municipios_25",{"$f":"Listas[[#This Row],[ID]]&\" \"&IF(Listas[[#This Row],[Descripcion]]=\"\",\"\",\"- \"&Listas[[#This Row],[Descripcion]])","v":"805 - Tibacuy"},"805","Tibacuy",2556]
["Municipios_25",{"$f":"Listas[[#This Row],[ID]]&\" \"&IF(Listas[[#This Row],[Descripcion]]=\"\",\"\",\"- \"&Listas[[#This Row],[Descripcion]])","v":"807 - Tibirita"},"807","Tibirita",2557]
["Municipios_25",{"$f":"Listas[[#This Row],[ID]]&\" \"&IF(Listas[[#This Row],[Descripcion]]=\"\",\"\",\"- \"&Listas[[#This Row],[Descripcion]])","v":"815 - Tocaima"},"815","Tocaima",2558]
["Municipios_25",{"$f":"Listas[[#This Row],[ID]]&\" \"&IF(Listas[[#This Row],[Descripcion]]=\"\",\"\",\"- \"&Listas[[#This Row],[Descripcion]])","v":"817 - Tocancipá"},"817","Tocancipá",2559]
["Municipios_25",{"$f":"Listas[[#This Row],[ID]]&\" \"&IF(Listas[[#This Row],[Descripcion]]=\"\",\"\",\"- \"&Listas[[#This Row],[Descripcion]])","v":"823 - Topaipi"},"823","Topaipi",2560]
["Municipios_25",{"$f":"Listas[[#This Row],[ID]]&\" \"&IF(Listas[[#This Row],[Descripcion]]=\"\",\"\",\"- \"&Listas[[#This Row],[Descripcion]])","v":"839 - Ubalá"},"839","Ubalá",2561]
["Municipios_25",{"$f":"Listas[[#This Row],[ID]]&\" \"&IF(Listas[[#This Row],[Descripcion]]=\"\",\"\",\"- \"&Listas[[#This Row],[Descripcion]])","v":"841 - Ubaque"},"841","Ubaque",2562]
["Municipios_25",{"$f":"Listas[[#This Row],[ID]]&\" \"&IF(Listas[[#This Row],[Descripcion]]=\"\",\"\",\"- \"&Listas[[#This Row],[Descripcion]])","v":"843 - Ubate"},"843","Ubate",2563]
["Municipios_25",{"$f":"Listas[[#This Row],[ID]]&\" \"&IF(Listas[[#This Row],[Descripcion]]=\"\",\"\",\"- \"&Listas[[#This Row],[Descripcion]])","v":"845 - Une"},"845","Une",2564]
["Municipios_25",{"$f":"Listas[[#This Row],[ID]]&\" \"&IF(Listas[[#This Row],[Descripcion]]=\"\",\"\",\"- \"&Listas[[#This Row],[Descripcion]])","v":"851 - Útica"},"851","Útica",2565]
["Municipios_25",{"$f":"Listas[[#This Row],[ID]]&\" \"&IF(Listas[[#This Row],[Descripcion]]=\"\",\"\",\"- \"&Listas[[#This Row],[Descripcion]])","v":"506 - Venecia"},"506","Venecia",2566]
["Municipios_25",{"$f":"Listas[[#This Row],[ID]]&\" \"&IF(Listas[[#This Row],[Descripcion]]=\"\",\"\",\"- \"&Listas[[#This Row],[Descripcion]])","v":"862 - Vergara"},"862","Vergara",2567]
["Municipios_25",{"$f":"Listas[[#This Row],[ID]]&\" \"&IF(Listas[[#This Row],[Descripcion]]=\"\",\"\",\"- \"&Listas[[#This Row],[Descripcion]])","v":"867 - Vianí"},"867","Vianí",2568]
["Municipios_25",{"$f":"Listas[[#This Row],[ID]]&\" \"&IF(Listas[[#This Row],[Descripcion]]=\"\",\"\",\"- \"&Listas[[#This Row],[Descripcion]])","v":"871 - Villagomez"},"871","Villagomez",2569]
["Municipios_25",{"$f":"Listas[[#This Row],[ID]]&\" \"&IF(Listas[[#This Row],[Descripcion]]=\"\",\"\",\"- \"&Listas[[#This Row],[Descripcion]])","v":"873 - Villapinzón"},"873","Villapinzón",2570]
["Municipios_25",{"$f":"Listas[[#This Row],[ID]]&\" \"&IF(Listas[[#This Row],[Descripcion]]=\"\",\"\",\"- \"&Listas[[#This Row],[Descripcion]])","v":"875 - Villeta"},"875","Villeta",2571]
["Municipios_25",{"$f":"Listas[[#This Row],[ID]]&\" \"&IF(Listas[[#This Row],[Descripcion]]=\"\",\"\",\"- \"&Listas[[#This Row],[Descripcion]])","v":"878 - Viotá"},"878","Viotá",2572]
["Municipios_25",{"$f":"Listas[[#This Row],[ID]]&\" \"&IF(Listas[[#This Row],[Descripcion]]=\"\",\"\",\"- \"&Listas[[#This Row],[Descripcion]])","v":"885 - Yacopí"},"885","Yacopí",2573]
["Municipios_25",{"$f":"Listas[[#This Row],[ID]]&\" \"&IF(Listas[[#This Row],[Descripcion]]=\"\",\"\",\"- \"&Listas[[#This Row],[Descripcion]])","v":"898 - Zipacon"},"898","Zipacon",2574]
["Municipios_25",{"$f":"Listas[[#This Row],[ID]]&\" \"&IF(Listas[[#This Row],[Descripcion]]=\"\",\"\",\"- \"&Listas[[#This Row],[Descripcion]])","v":"899 - Zipaquirá"},"899","Zipaquirá",2575]
["Municipios_27",{"$f":"Listas[[#This Row],[ID]]&\" \"&IF(Listas[[#This Row],[Descripcion]]=\"\",\"\",\"- \"&Listas[[#This Row],[Descripcion]])","v":"006 - Acandí"},"006","Acandí",2576]
["Municipios_27",{"$f":"Listas[[#This Row],[ID]]&\" \"&IF(Listas[[#This Row],[Descripcion]]=\"\",\"\",\"- \"&Listas[[#This Row],[Descripcion]])","v":"025 - Alto Baudó"},"025","Alto Baudó",2577]
["Municipios_27",{"$f":"Listas[[#This Row],[ID]]&\" \"&IF(Listas[[#This Row],[Descripcion]]=\"\",\"\",\"- \"&Listas[[#This Row],[Descripcion]])","v":"050 - Atrato"},"050","Atrato",2578]
["Municipios_27",{"$f":"Listas[[#This Row],[ID]]&\" \"&IF(Listas[[#This Row],[Descripcion]]=\"\",\"\",\"- \"&Listas[[#This Row],[Descripcion]])","v":"073 - Bagadó"},"073","Bagadó",2579]
["Municipios_27",{"$f":"Listas[[#This Row],[ID]]&\" \"&IF(Listas[[#This Row],[Descripcion]]=\"\",\"\",\"- \"&Listas[[#This Row],[Descripcion]])","v":"075 - Bahía Solano"},"075","Bahía Solano",2580]
["Municipios_27",{"$f":"Listas[[#This Row],[ID]]&\" \"&IF(Listas[[#This Row],[Descripcion]]=\"\",\"\",\"- \"&Listas[[#This Row],[Descripcion]])","v":"077 - Bajo Baudó"},"077","Bajo Baudó",2581]
["Municipios_27",{"$f":"Listas[[#This Row],[ID]]&\" \"&IF(Listas[[#This Row],[Descripcion]]=\"\",\"\",\"- \"&Listas[[#This Row],[Descripcion]])","v":"086 - Belén De Bajira"},"086","Belén De Bajira",2582]
["Municipios_27",{"$f":"Listas[[#This Row],[ID]]&\" \"&IF(Listas[[#This Row],[Descripcion]]=\"\",\"\",\"- \"&Listas[[#This Row],[Descripcion]])","v":"099 - Bojaya"},"099","Bojaya",2583]
["Municipios_27",{"$f":"Listas[[#This Row],[ID]]&\" \"&IF(Listas[[#This Row],[Descripcion]]=\"\",\"\",\"- \"&Listas[[#This Row],[Descripcion]])","v":"135 - Canton De San Pablo"},"135","Canton De San Pablo",2584]
["Municipios_27",{"$f":"Listas[[#This Row],[ID]]&\" \"&IF(Listas[[#This Row],[Descripcion]]=\"\",\"\",\"- \"&Listas[[#This Row],[Descripcion]])","v":"150 - Carmén Del Darién"},"150","Carmén Del Darién",2585]
["Municipios_27",{"$f":"Listas[[#This Row],[ID]]&\" \"&IF(Listas[[#This Row],[Descripcion]]=\"\",\"\",\"- \"&Listas[[#This Row],[Descripcion]])","v":"160 - Certegui"},"160","Certegui",2586]
["Municipios_27",{"$f":"Listas[[#This Row],[ID]]&\" \"&IF(Listas[[#This Row],[Descripcion]]=\"\",\"\",\"- \"&Listas[[#This Row],[Descripcion]])","v":"205 - Condoto"},"205","Condoto",2587]
["Municipios_27",{"$f":"Listas[[#This Row],[ID]]&\" \"&IF(Listas[[#This Row],[Descripcion]]=\"\",\"\",\"- \"&Listas[[#This Row],[Descripcion]])","v":"245 - El Carmen De Atrato"},"245","El Carmen De Atrato",2588]
["Municipios_27",{"$f":"Listas[[#This Row],[ID]]&\" \"&IF(Listas[[#This Row],[Descripcion]]=\"\",\"\",\"- \"&Listas[[#This Row],[Descripcion]])","v":"250 - El Litoral Del San Juan"},"250","El Litoral Del San Juan",2589]
["Municipios_27",{"$f":"Listas[[#This Row],[ID]]&\" \"&IF(Listas[[#This Row],[Descripcion]]=\"\",\"\",\"- \"&Listas[[#This Row],[Descripcion]])","v":"361 - Itsmina"},"361","Itsmina",2590]
["Municipios_27",{"$f":"Listas[[#This Row],[ID]]&\" \"&IF(Listas[[#This Row],[Descripcion]]=\"\",\"\",\"- \"&Listas[[#This Row],[Descripcion]])","v":"372 - Juradó"},"372","Juradó",2591]
["Municipios_27",{"$f":"Listas[[#This Row],[ID]]&\" \"&IF(Listas[[#This Row],[Descripcion]]=\"\",\"\",\"- \"&Listas[[#This Row],[Descripcion]])","v":"413 - Lloró"},"413","Lloró",2592]
["Municipios_27",{"$f":"Listas[[#This Row],[ID]]&\" \"&IF(Listas[[#This Row],[Descripcion]]=\"\",\"\",\"- \"&Listas[[#This Row],[Descripcion]])","v":"425 - Medio Atrato"},"425","Medio Atrato",2593]
["Municipios_27",{"$f":"Listas[[#This Row],[ID]]&\" \"&IF(Listas[[#This Row],[Descripcion]]=\"\",\"\",\"- \"&Listas[[#This Row],[Descripcion]])","v":"430 - Medio Baudó"},"430","Medio Baudó",2594]
["Municipios_27",{"$f":"Listas[[#This Row],[ID]]&\" \"&IF(Listas[[#This Row],[Descripcion]]=\"\",\"\",\"- \"&Listas[[#This Row],[Descripcion]])","v":"450 - Medio San Juan"},"450","Medio San Juan",2595]
["Municipios_27",{"$f":"Listas[[#This Row],[ID]]&\" \"&IF(Listas[[#This Row],[Descripcion]]=\"\",\"\",\"- \"&Listas[[#This Row],[Descripcion]])","v":"491 - Nóvita"},"491","Nóvita",2596]
["Municipios_27",{"$f":"Listas[[#This Row],[ID]]&\" \"&IF(Listas[[#This Row],[Descripcion]]=\"\",\"\",\"- \"&Listas[[#This Row],[Descripcion]])","v":"495 - Nuquí"},"495","Nuquí",2597]
["Municipios_27",{"$f":"Listas[[#This Row],[ID]]&\" \"&IF(Listas[[#This Row],[Descripcion]]=\"\",\"\",\"- \"&Listas[[#This Row],[Descripcion]])","v":"001 - Quibdó"},"001","Quibdó",2598]
["Municipios_27",{"$f":"Listas[[#This Row],[ID]]&\" \"&IF(Listas[[#This Row],[Descripcion]]=\"\",\"\",\"- \"&Listas[[#This Row],[Descripcion]])","v":"580 - Río Frío"},"580","Río Frío",2599]
["Municipios_27",{"$f":"Listas[[#This Row],[ID]]&\" \"&IF(Listas[[#This Row],[Descripcion]]=\"\",\"\",\"- \"&Listas[[#This Row],[Descripcion]])","v":"600 - Rio Quito"},"600","Rio Quito",2600]
["Municipios_27",{"$f":"Listas[[#This Row],[ID]]&\" \"&IF(Listas[[#This Row],[Descripcion]]=\"\",\"\",\"- \"&Listas[[#This Row],[Descripcion]])","v":"615 - Riosucio"},"615","Riosucio",2601]
["Municipios_27",{"$f":"Listas[[#This Row],[ID]]&\" \"&IF(Listas[[#This Row],[Descripcion]]=\"\",\"\",\"- \"&Listas[[#This Row],[Descripcion]])","v":"660 - San José Del Palmar"},"660","San José Del Palmar",2602]
["Municipios_27",{"$f":"Listas[[#This Row],[ID]]&\" \"&IF(Listas[[#This Row],[Descripcion]]=\"\",\"\",\"- \"&Listas[[#This Row],[Descripcion]])","v":"745 - Sipí"},"745","Sipí",2603]
["Municipios_27",{"$f":"Listas[[#This Row],[ID]]&\" \"&IF(Listas[[#This Row],[Descripcion]]=\"\",\"\",\"- \"&Listas[[#This Row],[Descripcion]])","v":"787 - Tadó"},"787","Tadó",2604]
["Municipios_27",{"$f":"Listas[[#This Row],[ID]]&\" \"&IF(Listas[[#This Row],[Descripcion]]=\"\",\"\",\"- \"&Listas[[#This Row],[Descripcion]])","v":"800 - Unguía"},"800","Unguía",2605]
["Municipios_27",{"$f":"Listas[[#This Row],[ID]]&\" \"&IF(Listas[[#This Row],[Descripcion]]=\"\",\"\",\"- \"&Listas[[#This Row],[Descripcion]])","v":"810 - Union Panamericana"},"810","Union Panamericana",2606]
["Municipios_41",{"$f":"Listas[[#This Row],[ID]]&\" \"&IF(Listas[[#This Row],[Descripcion]]=\"\",\"\",\"- \"&Listas[[#This Row],[Descripcion]])","v":"006 - Acevedo"},"006","Acevedo",2607]
["Municipios_41",{"$f":"Listas[[#This Row],[ID]]&\" \"&IF(Listas[[#This Row],[Descripcion]]=\"\",\"\",\"- \"&Listas[[#This Row],[Descripcion]])","v":"013 - Agrado"},"013","Agrado",2608]
["Municipios_41",{"$f":"Listas[[#This Row],[ID]]&\" \"&IF(Listas[[#This Row],[Descripcion]]=\"\",\"\",\"- \"&Listas[[#This Row],[Descripcion]])","v":"016 - Aipe"},"016","Aipe",2609]
["Municipios_41",{"$f":"Listas[[#This Row],[ID]]&\" \"&IF(Listas[[#This Row],[Descripcion]]=\"\",\"\",\"- \"&Listas[[#This Row],[Descripcion]])","v":"020 - Algeciras"},"020","Algeciras",2610]
["Municipios_41",{"$f":"Listas[[#This Row],[ID]]&\" \"&IF(Listas[[#This Row],[Descripcion]]=\"\",\"\",\"- \"&Listas[[#This Row],[Descripcion]])","v":"026 - Altamira"},"026","Altamira",2611]
["Municipios_41",{"$f":"Listas[[#This Row],[ID]]&\" \"&IF(Listas[[#This Row],[Descripcion]]=\"\",\"\",\"- \"&Listas[[#This Row],[Descripcion]])","v":"078 - Baraya"},"078","Baraya",2612]
["Municipios_41",{"$f":"Listas[[#This Row],[ID]]&\" \"&IF(Listas[[#This Row],[Descripcion]]=\"\",\"\",\"- \"&Listas[[#This Row],[Descripcion]])","v":"132 - Campoalegre"},"132","Campoalegre",2613]
["Municipios_41",{"$f":"Listas[[#This Row],[ID]]&\" \"&IF(Listas[[#This Row],[Descripcion]]=\"\",\"\",\"- \"&Listas[[#This Row],[Descripcion]])","v":"206 - Colombia"},"206","Colombia",2614]
["Municipios_41",{"$f":"Listas[[#This Row],[ID]]&\" \"&IF(Listas[[#This Row],[Descripcion]]=\"\",\"\",\"- \"&Listas[[#This Row],[Descripcion]])","v":"244 - Elías"},"244","Elías",2615]
["Municipios_41",{"$f":"Listas[[#This Row],[ID]]&\" \"&IF(Listas[[#This Row],[Descripcion]]=\"\",\"\",\"- \"&Listas[[#This Row],[Descripcion]])","v":"298 - Garzón"},"298","Garzón",2616]
["Municipios_41",{"$f":"Listas[[#This Row],[ID]]&\" \"&IF(Listas[[#This Row],[Descripcion]]=\"\",\"\",\"- \"&Listas[[#This Row],[Descripcion]])","v":"306 - Gigante"},"306","Gigante",2617]
["Municipios_41",{"$f":"Listas[[#This Row],[ID]]&\" \"&IF(Listas[[#This Row],[Descripcion]]=\"\",\"\",\"- \"&Listas[[#This Row],[Descripcion]])","v":"319 - Guadalupe"},"319","Guadalupe",2618]
["Municipios_41",{"$f":"Listas[[#This Row],[ID]]&\" \"&IF(Listas[[#This Row],[Descripcion]]=\"\",\"\",\"- \"&Listas[[#This Row],[Descripcion]])","v":"349 - Hobo"},"349","Hobo",2619]
["Municipios_41",{"$f":"Listas[[#This Row],[ID]]&\" \"&IF(Listas[[#This Row],[Descripcion]]=\"\",\"\",\"- \"&Listas[[#This Row],[Descripcion]])","v":"357 - Iquira"},"357","Iquira",2620]
["Municipios_41",{"$f":"Listas[[#This Row],[ID]]&\" \"&IF(Listas[[#This Row],[Descripcion]]=\"\",\"\",\"- \"&Listas[[#This Row],[Descripcion]])","v":"359 - Isnos"},"359","Isnos",2621]
["Municipios_41",{"$f":"Listas[[#This Row],[ID]]&\" \"&IF(Listas[[#This Row],[Descripcion]]=\"\",\"\",\"- \"&Listas[[#This Row],[Descripcion]])","v":"378 - La Argentina"},"378","La Argentina",2622]
["Municipios_41",{"$f":"Listas[[#This Row],[ID]]&\" \"&IF(Listas[[#This Row],[Descripcion]]=\"\",\"\",\"- \"&Listas[[#This Row],[Descripcion]])","v":"396 - La Plata"},"396","La Plata",2623]
["Municipios_41",{"$f":"Listas[[#This Row],[ID]]&\" \"&IF(Listas[[#This Row],[Descripcion]]=\"\",\"\",\"- \"&Listas[[#This Row],[Descripcion]])","v":"483 - Nátaga"},"483","Nátaga",2624]
["Municipios_41",{"$f":"Listas[[#This Row],[ID]]&\" \"&IF(Listas[[#This Row],[Descripcion]]=\"\",\"\",\"- \"&Listas[[#This Row],[Descripcion]])","v":"001 - Neiva"},"001","Neiva",2625]
["Municipios_41",{"$f":"Listas[[#This Row],[ID]]&\" \"&IF(Listas[[#This Row],[Descripcion]]=\"\",\"\",\"- \"&Listas[[#This Row],[Descripcion]])","v":"503 - Oporapa"},"503","Oporapa",2626]
["Municipios_41",{"$f":"Listas[[#This Row],[ID]]&\" \"&IF(Listas[[#This Row],[Descripcion]]=\"\",\"\",\"- \"&Listas[[#This Row],[Descripcion]])","v":"518 - Paicol"},"518","Paicol",2627]
["Municipios_41",{"$f":"Listas[[#This Row],[ID]]&\" \"&IF(Listas[[#This Row],[Descripcion]]=\"\",\"\",\"- \"&Listas[[#This Row],[Descripcion]])","v":"524 - Palermo"},"524","Palermo",2628]
["Municipios_41",{"$f":"Listas[[#This Row],[ID]]&\" \"&IF(Listas[[#This Row],[Descripcion]]=\"\",\"\",\"- \"&Listas[[#This Row],[Descripcion]])","v":"530 - Palestina"},"530","Palestina",2629]
["Municipios_41",{"$f":"Listas[[#This Row],[ID]]&\" \"&IF(Listas[[#This Row],[Descripcion]]=\"\",\"\",\"- \"&Listas[[#This Row],[Descripcion]])","v":"548 - Pital"},"548","Pital",2630]
["Municipios_41",{"$f":"Listas[[#This Row],[ID]]&\" \"&IF(Listas[[#This Row],[Descripcion]]=\"\",\"\",\"- \"&Listas[[#This Row],[Descripcion]])","v":"551 - Pitalito"},"551","Pitalito",2631]
["Municipios_41",{"$f":"Listas[[#This Row],[ID]]&\" \"&IF(Listas[[#This Row],[Descripcion]]=\"\",\"\",\"- \"&Listas[[#This Row],[Descripcion]])","v":"615 - Rivera"},"615","Rivera",2632]
["Municipios_41",{"$f":"Listas[[#This Row],[ID]]&\" \"&IF(Listas[[#This Row],[Descripcion]]=\"\",\"\",\"- \"&Listas[[#This Row],[Descripcion]])","v":"660 - Saladoblanco"},"660","Saladoblanco",2633]
["Municipios_41",{"$f":"Listas[[#This Row],[ID]]&\" \"&IF(Listas[[#This Row],[Descripcion]]=\"\",\"\",\"- \"&Listas[[#This Row],[Descripcion]])","v":"668 - San Agustín"},"668","San Agustín",2634]
["Municipios_41",{"$f":"Listas[[#This Row],[ID]]&\" \"&IF(Listas[[#This Row],[Descripcion]]=\"\",\"\",\"- \"&Listas[[#This Row],[Descripcion]])","v":"676 - Santa María"},"676","Santa María",2635]
["Municipios_41",{"$f":"Listas[[#This Row],[ID]]&\" \"&IF(Listas[[#This Row],[Descripcion]]=\"\",\"\",\"- \"&Listas[[#This Row],[Descripcion]])","v":"770 - Suaza"},"770","Suaza",2636]
["Municipios_41",{"$f":"Listas[[#This Row],[ID]]&\" \"&IF(Listas[[#This Row],[Descripcion]]=\"\",\"\",\"- \"&Listas[[#This Row],[Descripcion]])","v":"791 - Tarqui"},"791","Tarqui",2637]
["Municipios_41",{"$f":"Listas[[#This Row],[ID]]&\" \"&IF(Listas[[#This Row],[Descripcion]]=\"\",\"\",\"- \"&Listas[[#This Row],[Descripcion]])","v":"799 - Tello"},"799","Tello",2638]
["Municipios_41",{"$f":"Listas[[#This Row],[ID]]&\" \"&IF(Listas[[#This Row],[Descripcion]]=\"\",\"\",\"- \"&Listas[[#This Row],[Descripcion]])","v":"801 - Teruel"},"801","Teruel",2639]
["Municipios_41",{"$f":"Listas[[#This Row],[ID]]&\" \"&IF(Listas[[#This Row],[Descripcion]]=\"\",\"\",\"- \"&Listas[[#This Row],[Descripcion]])","v":"797 - Tesalia"},"797","Tesalia",2640]
["Municipios_41",{"$f":"Listas[[#This Row],[ID]]&\" \"&IF(Listas[[#This Row],[Descripcion]]=\"\",\"\",\"- \"&Listas[[#This Row],[Descripcion]])","v":"807 - Timaná"},"807","Timaná",2641]
["Municipios_41",{"$f":"Listas[[#This Row],[ID]]&\" \"&IF(Listas[[#This Row],[Descripcion]]=\"\",\"\",\"- \"&Listas[[#This Row],[Descripcion]])","v":"872 - Villavieja"},"872","Villavieja",2642]
["Municipios_41",{"$f":"Listas[[#This Row],[ID]]&\" \"&IF(Listas[[#This Row],[Descripcion]]=\"\",\"\",\"- \"&Listas[[#This Row],[Descripcion]])","v":"885 - Yaguará"},"885","Yaguará",2643]
["Municipios_44",{"$f":"Listas[[#This Row],[ID]]&\" \"&IF(Listas[[#This Row],[Descripcion]]=\"\",\"\",\"- \"&Listas[[#This Row],[Descripcion]])","v":"035 - Albania"},"035","Albania",2644]
["Municipios_44",{"$f":"Listas[[#This Row],[ID]]&\" \"&IF(Listas[[#This Row],[Descripcion]]=\"\",\"\",\"- \"&Listas[[#This Row],[Descripcion]])","v":"078 - Barrancas"},"078","Barrancas",2645]
["Municipios_44",{"$f":"Listas[[#This Row],[ID]]&\" \"&IF(Listas[[#This Row],[Descripcion]]=\"\",\"\",\"- \"&Listas[[#This Row],[Descripcion]])","v":"090 - Dibulla"},"090","Dibulla",2646]
["Municipios_44",{"$f":"Listas[[#This Row],[ID]]&\" \"&IF(Listas[[#This Row],[Descripcion]]=\"\",\"\",\"- \"&Listas[[#This Row],[Descripcion]])","v":"098 - Distraccion"},"098","Distraccion",2647]
["Municipios_44",{"$f":"Listas[[#This Row],[ID]]&\" \"&IF(Listas[[#This Row],[Descripcion]]=\"\",\"\",\"- \"&Listas[[#This Row],[Descripcion]])","v":"110 - El Molino"},"110","El Molino",2648]
["Municipios_44",{"$f":"Listas[[#This Row],[ID]]&\" \"&IF(Listas[[#This Row],[Descripcion]]=\"\",\"\",\"- \"&Listas[[#This Row],[Descripcion]])","v":"279 - Fonseca"},"279","Fonseca",2649]
["Municipios_44",{"$f":"Listas[[#This Row],[ID]]&\" \"&IF(Listas[[#This Row],[Descripcion]]=\"\",\"\",\"- \"&Listas[[#This Row],[Descripcion]])","v":"378 - Hatonuevo"},"378","Hatonuevo",2650]
["Municipios_44",{"$f":"Listas[[#This Row],[ID]]&\" \"&IF(Listas[[#This Row],[Descripcion]]=\"\",\"\",\"- \"&Listas[[#This Row],[Descripcion]])","v":"420 - La Jagua Del Pilar"},"420","La Jagua Del Pilar",2651]
["Municipios_44",{"$f":"Listas[[#This Row],[ID]]&\" \"&IF(Listas[[#This Row],[Descripcion]]=\"\",\"\",\"- \"&Listas[[#This Row],[Descripcion]])","v":"430 - Maicao"},"430","Maicao",2652]
["Municipios_44",{"$f":"Listas[[#This Row],[ID]]&\" \"&IF(Listas[[#This Row],[Descripcion]]=\"\",\"\",\"- \"&Listas[[#This Row],[Descripcion]])","v":"560 - Manaure"},"560","Manaure",2653]
["Municipios_44",{"$f":"Listas[[#This Row],[ID]]&\" \"&IF(Listas[[#This Row],[Descripcion]]=\"\",\"\",\"- \"&Listas[[#This Row],[Descripcion]])","v":"001 - Riohacha"},"001","Riohacha",2654]
["Municipios_44",{"$f":"Listas[[#This Row],[ID]]&\" \"&IF(Listas[[#This Row],[Descripcion]]=\"\",\"\",\"- \"&Listas[[#This Row],[Descripcion]])","v":"650 - San Juan Del Cesar"},"650","San Juan Del Cesar",2655]
["Municipios_44",{"$f":"Listas[[#This Row],[ID]]&\" \"&IF(Listas[[#This Row],[Descripcion]]=\"\",\"\",\"- \"&Listas[[#This Row],[Descripcion]])","v":"847 - Uribia"},"847","Uribia",2656]
["Municipios_44",{"$f":"Listas[[#This Row],[ID]]&\" \"&IF(Listas[[#This Row],[Descripcion]]=\"\",\"\",\"- \"&Listas[[#This Row],[Descripcion]])","v":"855 - Urumita"},"855","Urumita",2657]
["Municipios_44",{"$f":"Listas[[#This Row],[ID]]&\" \"&IF(Listas[[#This Row],[Descripcion]]=\"\",\"\",\"- \"&Listas[[#This Row],[Descripcion]])","v":"874 - Villanueva"},"874","Villanueva",2658]
["Municipios_47",{"$f":"Listas[[#This Row],[ID]]&\" \"&IF(Listas[[#This Row],[Descripcion]]=\"\",\"\",\"- \"&Listas[[#This Row],[Descripcion]])","v":"030 - Algarrobo"},"030","Algarrobo",2659]
["Municipios_47",{"$f":"Listas[[#This Row],[ID]]&\" \"&IF(Listas[[#This Row],[Descripcion]]=\"\",\"\",\"- \"&Listas[[#This Row],[Descripcion]])","v":"053 - Aracataca"},"053","Aracataca",2660]
["Municipios_47",{"$f":"Listas[[#This Row],[ID]]&\" \"&IF(Listas[[#This Row],[Descripcion]]=\"\",\"\",\"- \"&Listas[[#This Row],[Descripcion]])","v":"058 - Ariguaní"},"058","Ariguaní",2661]
["Municipios_47",{"$f":"Listas[[#This Row],[ID]]&\" \"&IF(Listas[[#This Row],[Descripcion]]=\"\",\"\",\"- \"&Listas[[#This Row],[Descripcion]])","v":"161 - Cerro San Antonio"},"161","Cerro San Antonio",2662]
["Municipios_47",{"$f":"Listas[[#This Row],[ID]]&\" \"&IF(Listas[[#This Row],[Descripcion]]=\"\",\"\",\"- \"&Listas[[#This Row],[Descripcion]])","v":"170 - Chibolo"},"170","Chibolo",2663]
["Municipios_47",{"$f":"Listas[[#This Row],[ID]]&\" \"&IF(Listas[[#This Row],[Descripcion]]=\"\",\"\",\"- \"&Listas[[#This Row],[Descripcion]])","v":"189 - Ciénaga"},"189","Ciénaga",2664]
["Municipios_47",{"$f":"Listas[[#This Row],[ID]]&\" \"&IF(Listas[[#This Row],[Descripcion]]=\"\",\"\",\"- \"&Listas[[#This Row],[Descripcion]])","v":"205 - Concordia"},"205","Concordia",2665]
["Municipios_47",{"$f":"Listas[[#This Row],[ID]]&\" \"&IF(Listas[[#This Row],[Descripcion]]=\"\",\"\",\"- \"&Listas[[#This Row],[Descripcion]])","v":"245 - El Banco"},"245","El Banco",2666]
["Municipios_47",{"$f":"Listas[[#This Row],[ID]]&\" \"&IF(Listas[[#This Row],[Descripcion]]=\"\",\"\",\"- \"&Listas[[#This Row],[Descripcion]])","v":"258 - El Piñon"},"258","El Piñon",2667]
["Municipios_47",{"$f":"Listas[[#This Row],[ID]]&\" \"&IF(Listas[[#This Row],[Descripcion]]=\"\",\"\",\"- \"&Listas[[#This Row],[Descripcion]])","v":"268 - El Reten"},"268","El Reten",2668]
["Municipios_47",{"$f":"Listas[[#This Row],[ID]]&\" \"&IF(Listas[[#This Row],[Descripcion]]=\"\",\"\",\"- \"&Listas[[#This Row],[Descripcion]])","v":"288 - Fundacion"},"288","Fundacion",2669]
["Municipios_47",{"$f":"Listas[[#This Row],[ID]]&\" \"&IF(Listas[[#This Row],[Descripcion]]=\"\",\"\",\"- \"&Listas[[#This Row],[Descripcion]])","v":"318 - Guamal"},"318","Guamal",2670]
["Municipios_47",{"$f":"Listas[[#This Row],[ID]]&\" \"&IF(Listas[[#This Row],[Descripcion]]=\"\",\"\",\"- \"&Listas[[#This Row],[Descripcion]])","v":"460 - Nueva Granada"},"460","Nueva Granada",2671]
["Municipios_47",{"$f":"Listas[[#This Row],[ID]]&\" \"&IF(Listas[[#This Row],[Descripcion]]=\"\",\"\",\"- \"&Listas[[#This Row],[Descripcion]])","v":"541 - Pedraza"},"541","Pedraza",2672]
["Municipios_47",{"$f":"Listas[[#This Row],[ID]]&\" \"&IF(Listas[[#This Row],[Descripcion]]=\"\",\"\",\"- \"&Listas[[#This Row],[Descripcion]])","v":"545 - Pijiño Del Carmen"},"545","Pijiño Del Carmen",2673]
["Municipios_47",{"$f":"Listas[[#This Row],[ID]]&\" \"&IF(Listas[[#This Row],[Descripcion]]=\"\",\"\",\"- \"&Listas[[#This Row],[Descripcion]])","v":"551 - Pivijay"},"551","Pivijay",2674]
["Municipios_47",{"$f":"Listas[[#This Row],[ID]]&\" \"&IF(Listas[[#This Row],[Descripcion]]=\"\",\"\",\"- \"&Listas[[#This Row],[Descripcion]])","v":"555 - Plato"},"555","Plato",2675]
["Municipios_47",{"$f":"Listas[[#This Row],[ID]]&\" \"&IF(Listas[[#This Row],[Descripcion]]=\"\",\"\",\"- \"&Listas[[#This Row],[Descripcion]])","v":"570 - Pueblo Viejo"},"570","Pueblo Viejo",2676]
["Municipios_47",{"$f":"Listas[[#This Row],[ID]]&\" \"&IF(Listas[[#This Row],[Descripcion]]=\"\",\"\",\"- \"&Listas[[#This Row],[Descripcion]])","v":"605 - Remolino"},"605","Remolino",2677]
["Municipios_47",{"$f":"Listas[[#This Row],[ID]]&\" \"&IF(Listas[[#This Row],[Descripcion]]=\"\",\"\",\"- \"&Listas[[#This Row],[Descripcion]])","v":"660 - Sabanas De San Angel"},"660","Sabanas De San Angel",2678]
["Municipios_47",{"$f":"Listas[[#This Row],[ID]]&\" \"&IF(Listas[[#This Row],[Descripcion]]=\"\",\"\",\"- \"&Listas[[#This Row],[Descripcion]])","v":"675 - Salamina"},"675","Salamina",2679]
["Municipios_47",{"$f":"Listas[[#This Row],[ID]]&\" \"&IF(Listas[[#This Row],[Descripcion]]=\"\",\"\",\"- \"&Listas[[#This Row],[Descripcion]])","v":"692 - San Sebastian De Buenavista"},"692","San Sebastian De Buenavista",2680]
["Municipios_47",{"$f":"Listas[[#This Row],[ID]]&\" \"&IF(Listas[[#This Row],[Descripcion]]=\"\",\"\",\"- \"&Listas[[#This Row],[Descripcion]])","v":"703 - San Zenon"},"703","San Zenon",2681]
["Municipios_47",{"$f":"Listas[[#This Row],[ID]]&\" \"&IF(Listas[[#This Row],[Descripcion]]=\"\",\"\",\"- \"&Listas[[#This Row],[Descripcion]])","v":"707 - Santa Ana"},"707","Santa Ana",2682]
["Municipios_47",{"$f":"Listas[[#This Row],[ID]]&\" \"&IF(Listas[[#This Row],[Descripcion]]=\"\",\"\",\"- \"&Listas[[#This Row],[Descripcion]])","v":"720 - Santa Barbara De Pinto"},"720","Santa Barbara De Pinto",2683]
["Municipios_47",{"$f":"Listas[[#This Row],[ID]]&\" \"&IF(Listas[[#This Row],[Descripcion]]=\"\",\"\",\"- \"&Listas[[#This Row],[Descripcion]])","v":"001 - Santa Marta"},"001","Santa Marta",2684]
["Municipios_47",{"$f":"Listas[[#This Row],[ID]]&\" \"&IF(Listas[[#This Row],[Descripcion]]=\"\",\"\",\"- \"&Listas[[#This Row],[Descripcion]])","v":"745 - Sitionuevo"},"745","Sitionuevo",2685]
["Municipios_47",{"$f":"Listas[[#This Row],[ID]]&\" \"&IF(Listas[[#This Row],[Descripcion]]=\"\",\"\",\"- \"&Listas[[#This Row],[Descripcion]])","v":"798 - Tenerife"},"798","Tenerife",2686]
["Municipios_47",{"$f":"Listas[[#This Row],[ID]]&\" \"&IF(Listas[[#This Row],[Descripcion]]=\"\",\"\",\"- \"&Listas[[#This Row],[Descripcion]])","v":"960 - Zapayan"},"960","Zapayan",2687]
["Municipios_47",{"$f":"Listas[[#This Row],[ID]]&\" \"&IF(Listas[[#This Row],[Descripcion]]=\"\",\"\",\"- \"&Listas[[#This Row],[Descripcion]])","v":"980 - Zona Bananera"},"980","Zona Bananera",2688]
["Municipios_50",{"$f":"Listas[[#This Row],[ID]]&\" \"&IF(Listas[[#This Row],[Descripcion]]=\"\",\"\",\"- \"&Listas[[#This Row],[Descripcion]])","v":"006 - Acacias"},"006","Acacias",2689]
["Municipios_50",{"$f":"Listas[[#This Row],[ID]]&\" \"&IF(Listas[[#This Row],[Descripcion]]=\"\",\"\",\"- \"&Listas[[#This Row],[Descripcion]])","v":"110 - Barranca De Upia"},"110","Barranca De Upia",2690]
["Municipios_50",{"$f":"Listas[[#This Row],[ID]]&\" \"&IF(Listas[[#This Row],[Descripcion]]=\"\",\"\",\"- \"&Listas[[#This Row],[Descripcion]])","v":"124 - Cabuyaro"},"124","Cabuyaro",2691]
["Municipios_50",{"$f":"Listas[[#This Row],[ID]]&\" \"&IF(Listas[[#This Row],[Descripcion]]=\"\",\"\",\"- \"&Listas[[#This Row],[Descripcion]])","v":"150 - Castilla La Nueva"},"150","Castilla La Nueva",2692]
["Municipios_50",{"$f":"Listas[[#This Row],[ID]]&\" \"&IF(Listas[[#This Row],[Descripcion]]=\"\",\"\",\"- \"&Listas[[#This Row],[Descripcion]])","v":"226 - Cumaral"},"226","Cumaral",2693]
["Municipios_50",{"$f":"Listas[[#This Row],[ID]]&\" \"&IF(Listas[[#This Row],[Descripcion]]=\"\",\"\",\"- \"&Listas[[#This Row],[Descripcion]])","v":"245 - El Calvario"},"245","El Calvario",2694]
["Municipios_50",{"$f":"Listas[[#This Row],[ID]]&\" \"&IF(Listas[[#This Row],[Descripcion]]=\"\",\"\",\"- \"&Listas[[#This Row],[Descripcion]])","v":"251 - El Castillo"},"251","El Castillo",2695]
["Municipios_50",{"$f":"Listas[[#This Row],[ID]]&\" \"&IF(Listas[[#This Row],[Descripcion]]=\"\",\"\",\"- \"&Listas[[#This Row],[Descripcion]])","v":"270 - El Dorado"},"270","El Dorado",2696]
["Municipios_50",{"$f":"Listas[[#This Row],[ID]]&\" \"&IF(Listas[[#This Row],[Descripcion]]=\"\",\"\",\"- \"&Listas[[#This Row],[Descripcion]])","v":"287 - Fuente De Oro"},"287","Fuente De Oro",2697]
["Municipios_50",{"$f":"Listas[[#This Row],[ID]]&\" \"&IF(Listas[[#This Row],[Descripcion]]=\"\",\"\",\"- \"&Listas[[#This Row],[Descripcion]])","v":"313 - Granada"},"313","Granada",2698]
["Municipios_50",{"$f":"Listas[[#This Row],[ID]]&\" \"&IF(Listas[[#This Row],[Descripcion]]=\"\",\"\",\"- \"&Listas[[#This Row],[Descripcion]])","v":"318 - Guamal"},"318","Guamal",2699]
["Municipios_50",{"$f":"Listas[[#This Row],[ID]]&\" \"&IF(Listas[[#This Row],[Descripcion]]=\"\",\"\",\"- \"&Listas[[#This Row],[Descripcion]])","v":"350 - La Macarena"},"350","La Macarena",2700]
["Municipios_50",{"$f":"Listas[[#This Row],[ID]]&\" \"&IF(Listas[[#This Row],[Descripcion]]=\"\",\"\",\"- \"&Listas[[#This Row],[Descripcion]])","v":"370 - La Uribe"},"370","La Uribe",2701]
["Municipios_50",{"$f":"Listas[[#This Row],[ID]]&\" \"&IF(Listas[[#This Row],[Descripcion]]=\"\",\"\",\"- \"&Listas[[#This Row],[Descripcion]])","v":"400 - Lejanías"},"400","Lejanías",2702]
["Municipios_50",{"$f":"Listas[[#This Row],[ID]]&\" \"&IF(Listas[[#This Row],[Descripcion]]=\"\",\"\",\"- \"&Listas[[#This Row],[Descripcion]])","v":"325 - Mapiripan"},"325","Mapiripan",2703]
["Municipios_50",{"$f":"Listas[[#This Row],[ID]]&\" \"&IF(Listas[[#This Row],[Descripcion]]=\"\",\"\",\"- \"&Listas[[#This Row],[Descripcion]])","v":"330 - Mesetas"},"330","Mesetas",2704]
["Municipios_50",{"$f":"Listas[[#This Row],[ID]]&\" \"&IF(Listas[[#This Row],[Descripcion]]=\"\",\"\",\"- \"&Listas[[#This Row],[Descripcion]])","v":"450 - Puerto Concordia"},"450","Puerto Concordia",2705]
["Municipios_50",{"$f":"Listas[[#This Row],[ID]]&\" \"&IF(Listas[[#This Row],[Descripcion]]=\"\",\"\",\"- \"&Listas[[#This Row],[Descripcion]])","v":"568 - Puerto Gaitán"},"568","Puerto Gaitán",2706]
["Municipios_50",{"$f":"Listas[[#This Row],[ID]]&\" \"&IF(Listas[[#This Row],[Descripcion]]=\"\",\"\",\"- \"&Listas[[#This Row],[Descripcion]])","v":"577 - Puerto Lleras"},"577","Puerto Lleras",2707]
["Municipios_50",{"$f":"Listas[[#This Row],[ID]]&\" \"&IF(Listas[[#This Row],[Descripcion]]=\"\",\"\",\"- \"&Listas[[#This Row],[Descripcion]])","v":"573 - Puerto Lopez"},"573","Puerto Lopez",2708]
["Municipios_50",{"$f":"Listas[[#This Row],[ID]]&\" \"&IF(Listas[[#This Row],[Descripcion]]=\"\",\"\",\"- \"&Listas[[#This Row],[Descripcion]])","v":"590 - Puerto Rico"},"590","Puerto Rico",2709]
["Municipios_50",{"$f":"Listas[[#This Row],[ID]]&\" \"&IF(Listas[[#This Row],[Descripcion]]=\"\",\"\",\"- \"&Listas[[#This Row],[Descripcion]])","v":"606 - Restrepo"},"606","Restrepo",2710]
["Municipios_50",{"$f":"Listas[[#This Row],[ID]]&\" \"&IF(Listas[[#This Row],[Descripcion]]=\"\",\"\",\"- \"&Listas[[#This Row],[Descripcion]])","v":"680 - San Carlos Guaroa"},"680","San Carlos Guaroa",2711]
["Municipios_50",{"$f":"Listas[[#This Row],[ID]]&\" \"&IF(Listas[[#This Row],[Descripcion]]=\"\",\"\",\"- \"&Listas[[#This Row],[Descripcion]])","v":"683 - San Juan De Arama"},"683","San Juan De Arama",2712]
["Municipios_50",{"$f":"Listas[[#This Row],[ID]]&\" \"&IF(Listas[[#This Row],[Descripcion]]=\"\",\"\",\"- \"&Listas[[#This Row],[Descripcion]])","v":"686 - San Juanito"},"686","San Juanito",2713]
["Municipios_50",{"$f":"Listas[[#This Row],[ID]]&\" \"&IF(Listas[[#This Row],[Descripcion]]=\"\",\"\",\"- \"&Listas[[#This Row],[Descripcion]])","v":"223 - San Luis De Cubarral"},"223","San Luis De Cubarral",2714]
["Municipios_50",{"$f":"Listas[[#This Row],[ID]]&\" \"&IF(Listas[[#This Row],[Descripcion]]=\"\",\"\",\"- \"&Listas[[#This Row],[Descripcion]])","v":"689 - San Martín"},"689","San Martín",2715]
["Municipios_50",{"$f":"Listas[[#This Row],[ID]]&\" \"&IF(Listas[[#This Row],[Descripcion]]=\"\",\"\",\"- \"&Listas[[#This Row],[Descripcion]])","v":"001 - Villavicencio"},"001","Villavicencio",2716]
["Municipios_50",{"$f":"Listas[[#This Row],[ID]]&\" \"&IF(Listas[[#This Row],[Descripcion]]=\"\",\"\",\"- \"&Listas[[#This Row],[Descripcion]])","v":"711 - Vista Hermosa"},"711","Vista Hermosa",2717]
["Municipios_52",{"$f":"Listas[[#This Row],[ID]]&\" \"&IF(Listas[[#This Row],[Descripcion]]=\"\",\"\",\"- \"&Listas[[#This Row],[Descripcion]])","v":"019 - Alban"},"019","Alban",2718]
["Municipios_52",{"$f":"Listas[[#This Row],[ID]]&\" \"&IF(Listas[[#This Row],[Descripcion]]=\"\",\"\",\"- \"&Listas[[#This Row],[Descripcion]])","v":"022 - Aldana"},"022","Aldana",2719]
["Municipios_52",{"$f":"Listas[[#This Row],[ID]]&\" \"&IF(Listas[[#This Row],[Descripcion]]=\"\",\"\",\"- \"&Listas[[#This Row],[Descripcion]])","v":"036 - Ancuya"},"036","Ancuya",2720]
["Municipios_52",{"$f":"Listas[[#This Row],[ID]]&\" \"&IF(Listas[[#This Row],[Descripcion]]=\"\",\"\",\"- \"&Listas[[#This Row],[Descripcion]])","v":"051 - Arboleda"},"051","Arboleda",2721]
["Municipios_52",{"$f":"Listas[[#This Row],[ID]]&\" \"&IF(Listas[[#This Row],[Descripcion]]=\"\",\"\",\"- \"&Listas[[#This Row],[Descripcion]])","v":"079 - Barbacoas"},"079","Barbacoas",2722]
["Municipios_52",{"$f":"Listas[[#This Row],[ID]]&\" \"&IF(Listas[[#This Row],[Descripcion]]=\"\",\"\",\"- \"&Listas[[#This Row],[Descripcion]])","v":"083 - Belen"},"083","Belen",2723]
["Municipios_52",{"$f":"Listas[[#This Row],[ID]]&\" \"&IF(Listas[[#This Row],[Descripcion]]=\"\",\"\",\"- \"&Listas[[#This Row],[Descripcion]])","v":"110 - Buesaco"},"110","Buesaco",2724]
["Municipios_52",{"$f":"Listas[[#This Row],[ID]]&\" \"&IF(Listas[[#This Row],[Descripcion]]=\"\",\"\",\"- \"&Listas[[#This Row],[Descripcion]])","v":"240 - Chachagui"},"240","Chachagui",2725]
["Municipios_52",{"$f":"Listas[[#This Row],[ID]]&\" \"&IF(Listas[[#This Row],[Descripcion]]=\"\",\"\",\"- \"&Listas[[#This Row],[Descripcion]])","v":"203 - Colon"},"203","Colon",2726]
["Municipios_52",{"$f":"Listas[[#This Row],[ID]]&\" \"&IF(Listas[[#This Row],[Descripcion]]=\"\",\"\",\"- \"&Listas[[#This Row],[Descripcion]])","v":"207 - Consaca"},"207","Consaca",2727]
["Municipios_52",{"$f":"Listas[[#This Row],[ID]]&\" \"&IF(Listas[[#This Row],[Descripcion]]=\"\",\"\",\"- \"&Listas[[#This Row],[Descripcion]])","v":"210 - Contadero"},"210","Contadero",2728]
["Municipios_52",{"$f":"Listas[[#This Row],[ID]]&\" \"&IF(Listas[[#This Row],[Descripcion]]=\"\",\"\",\"- \"&Listas[[#This Row],[Descripcion]])","v":"215 - Córdoba"},"215","Córdoba",2729]
["Municipios_52",{"$f":"Listas[[#This Row],[ID]]&\" \"&IF(Listas[[#This Row],[Descripcion]]=\"\",\"\",\"- \"&Listas[[#This Row],[Descripcion]])","v":"224 - Cuaspud"},"224","Cuaspud",2730]
["Municipios_52",{"$f":"Listas[[#This Row],[ID]]&\" \"&IF(Listas[[#This Row],[Descripcion]]=\"\",\"\",\"- \"&Listas[[#This Row],[Descripcion]])","v":"227 - Cumbal"},"227","Cumbal",2731]
["Municipios_52",{"$f":"Listas[[#This Row],[ID]]&\" \"&IF(Listas[[#This Row],[Descripcion]]=\"\",\"\",\"- \"&Listas[[#This Row],[Descripcion]])","v":"233 - Cumbitara"},"233","Cumbitara",2732]
["Municipios_52",{"$f":"Listas[[#This Row],[ID]]&\" \"&IF(Listas[[#This Row],[Descripcion]]=\"\",\"\",\"- \"&Listas[[#This Row],[Descripcion]])","v":"250 - El Charco"},"250","El Charco",2733]
["Municipios_52",{"$f":"Listas[[#This Row],[ID]]&\" \"&IF(Listas[[#This Row],[Descripcion]]=\"\",\"\",\"- \"&Listas[[#This Row],[Descripcion]])","v":"254 - El Peñol"},"254","El Peñol",2734]
["Municipios_52",{"$f":"Listas[[#This Row],[ID]]&\" \"&IF(Listas[[#This Row],[Descripcion]]=\"\",\"\",\"- \"&Listas[[#This Row],[Descripcion]])","v":"256 - El Rosario"},"256","El Rosario",2735]
["Municipios_52",{"$f":"Listas[[#This Row],[ID]]&\" \"&IF(Listas[[#This Row],[Descripcion]]=\"\",\"\",\"- \"&Listas[[#This Row],[Descripcion]])","v":"258 - El Tablon De Gomez"},"258","El Tablon De Gomez",2736]
["Municipios_52",{"$f":"Listas[[#This Row],[ID]]&\" \"&IF(Listas[[#This Row],[Descripcion]]=\"\",\"\",\"- \"&Listas[[#This Row],[Descripcion]])","v":"260 - El Tambo"},"260","El Tambo",2737]
["Municipios_52",{"$f":"Listas[[#This Row],[ID]]&\" \"&IF(Listas[[#This Row],[Descripcion]]=\"\",\"\",\"- \"&Listas[[#This Row],[Descripcion]])","v":"520 - Francisco Pizarro"},"520","Francisco Pizarro",2738]
["Municipios_52",{"$f":"Listas[[#This Row],[ID]]&\" \"&IF(Listas[[#This Row],[Descripcion]]=\"\",\"\",\"- \"&Listas[[#This Row],[Descripcion]])","v":"287 - Funes"},"287","Funes",2739]
["Municipios_52",{"$f":"Listas[[#This Row],[ID]]&\" \"&IF(Listas[[#This Row],[Descripcion]]=\"\",\"\",\"- \"&Listas[[#This Row],[Descripcion]])","v":"317 - Guachucal"},"317","Guachucal",2740]
["Municipios_52",{"$f":"Listas[[#This Row],[ID]]&\" \"&IF(Listas[[#This Row],[Descripcion]]=\"\",\"\",\"- \"&Listas[[#This Row],[Descripcion]])","v":"320 - Guaitarilla"},"320","Guaitarilla",2741]
["Municipios_52",{"$f":"Listas[[#This Row],[ID]]&\" \"&IF(Listas[[#This Row],[Descripcion]]=\"\",\"\",\"- \"&Listas[[#This Row],[Descripcion]])","v":"323 - Gualmatan"},"323","Gualmatan",2742]
["Municipios_52",{"$f":"Listas[[#This Row],[ID]]&\" \"&IF(Listas[[#This Row],[Descripcion]]=\"\",\"\",\"- \"&Listas[[#This Row],[Descripcion]])","v":"352 - Iles"},"352","Iles",2743]
["Municipios_52",{"$f":"Listas[[#This Row],[ID]]&\" \"&IF(Listas[[#This Row],[Descripcion]]=\"\",\"\",\"- \"&Listas[[#This Row],[Descripcion]])","v":"354 - Imues"},"354","Imues",2744]
["Municipios_52",{"$f":"Listas[[#This Row],[ID]]&\" \"&IF(Listas[[#This Row],[Descripcion]]=\"\",\"\",\"- \"&Listas[[#This Row],[Descripcion]])","v":"356 - Ipiales"},"356","Ipiales",2745]
["Municipios_52",{"$f":"Listas[[#This Row],[ID]]&\" \"&IF(Listas[[#This Row],[Descripcion]]=\"\",\"\",\"- \"&Listas[[#This Row],[Descripcion]])","v":"378 - La Cruz"},"378","La Cruz",2746]
["Municipios_52",{"$f":"Listas[[#This Row],[ID]]&\" \"&IF(Listas[[#This Row],[Descripcion]]=\"\",\"\",\"- \"&Listas[[#This Row],[Descripcion]])","v":"381 - La Florida"},"381","La Florida",2747]
["Municipios_52",{"$f":"Listas[[#This Row],[ID]]&\" \"&IF(Listas[[#This Row],[Descripcion]]=\"\",\"\",\"- \"&Listas[[#This Row],[Descripcion]])","v":"385 - La Llanada"},"385","La Llanada",2748]
["Municipios_52",{"$f":"Listas[[#This Row],[ID]]&\" \"&IF(Listas[[#This Row],[Descripcion]]=\"\",\"\",\"- \"&Listas[[#This Row],[Descripcion]])","v":"390 - La Tola"},"390","La Tola",2749]
["Municipios_52",{"$f":"Listas[[#This Row],[ID]]&\" \"&IF(Listas[[#This Row],[Descripcion]]=\"\",\"\",\"- \"&Listas[[#This Row],[Descripcion]])","v":"399 - La Union"},"399","La Union",2750]
["Municipios_52",{"$f":"Listas[[#This Row],[ID]]&\" \"&IF(Listas[[#This Row],[Descripcion]]=\"\",\"\",\"- \"&Listas[[#This Row],[Descripcion]])","v":"405 - Leiva"},"405","Leiva",2751]
["Municipios_52",{"$f":"Listas[[#This Row],[ID]]&\" \"&IF(Listas[[#This Row],[Descripcion]]=\"\",\"\",\"- \"&Listas[[#This Row],[Descripcion]])","v":"411 - Linares"},"411","Linares",2752]
["Municipios_52",{"$f":"Listas[[#This Row],[ID]]&\" \"&IF(Listas[[#This Row],[Descripcion]]=\"\",\"\",\"- \"&Listas[[#This Row],[Descripcion]])","v":"418 - Los Andes"},"418","Los Andes",2753]
["Municipios_52",{"$f":"Listas[[#This Row],[ID]]&\" \"&IF(Listas[[#This Row],[Descripcion]]=\"\",\"\",\"- \"&Listas[[#This Row],[Descripcion]])","v":"427 - Magui"},"427","Magui",2754]
["Municipios_52",{"$f":"Listas[[#This Row],[ID]]&\" \"&IF(Listas[[#This Row],[Descripcion]]=\"\",\"\",\"- \"&Listas[[#This Row],[Descripcion]])","v":"435 - Mallama"},"435","Mallama",2755]
["Municipios_52",{"$f":"Listas[[#This Row],[ID]]&\" \"&IF(Listas[[#This Row],[Descripcion]]=\"\",\"\",\"- \"&Listas[[#This Row],[Descripcion]])","v":"473 - Mosquera"},"473","Mosquera",2756]
["Municipios_52",{"$f":"Listas[[#This Row],[ID]]&\" \"&IF(Listas[[#This Row],[Descripcion]]=\"\",\"\",\"- \"&Listas[[#This Row],[Descripcion]])","v":"480 - Nariño"},"480","Nariño",2757]
["Municipios_52",{"$f":"Listas[[#This Row],[ID]]&\" \"&IF(Listas[[#This Row],[Descripcion]]=\"\",\"\",\"- \"&Listas[[#This Row],[Descripcion]])","v":"490 - Olaya Herrera"},"490","Olaya Herrera",2758]
["Municipios_52",{"$f":"Listas[[#This Row],[ID]]&\" \"&IF(Listas[[#This Row],[Descripcion]]=\"\",\"\",\"- \"&Listas[[#This Row],[Descripcion]])","v":"506 - Ospina"},"506","Ospina",2759]
["Municipios_52",{"$f":"Listas[[#This Row],[ID]]&\" \"&IF(Listas[[#This Row],[Descripcion]]=\"\",\"\",\"- \"&Listas[[#This Row],[Descripcion]])","v":"001 - Pasto"},"001","Pasto",2760]
["Municipios_52",{"$f":"Listas[[#This Row],[ID]]&\" \"&IF(Listas[[#This Row],[Descripcion]]=\"\",\"\",\"- \"&Listas[[#This Row],[Descripcion]])","v":"540 - Policarpa"},"540","Policarpa",2761]
["Municipios_52",{"$f":"Listas[[#This Row],[ID]]&\" \"&IF(Listas[[#This Row],[Descripcion]]=\"\",\"\",\"- \"&Listas[[#This Row],[Descripcion]])","v":"560 - Potosí"},"560","Potosí",2762]
["Municipios_52",{"$f":"Listas[[#This Row],[ID]]&\" \"&IF(Listas[[#This Row],[Descripcion]]=\"\",\"\",\"- \"&Listas[[#This Row],[Descripcion]])","v":"565 - Providencia"},"565","Providencia",2763]
["Municipios_52",{"$f":"Listas[[#This Row],[ID]]&\" \"&IF(Listas[[#This Row],[Descripcion]]=\"\",\"\",\"- \"&Listas[[#This Row],[Descripcion]])","v":"573 - Puerres"},"573","Puerres",2764]
["Municipios_52",{"$f":"Listas[[#This Row],[ID]]&\" \"&IF(Listas[[#This Row],[Descripcion]]=\"\",\"\",\"- \"&Listas[[#This Row],[Descripcion]])","v":"585 - Pupiales"},"585","Pupiales",2765]
["Municipios_52",{"$f":"Listas[[#This Row],[ID]]&\" \"&IF(Listas[[#This Row],[Descripcion]]=\"\",\"\",\"- \"&Listas[[#This Row],[Descripcion]])","v":"612 - Ricaurte"},"612","Ricaurte",2766]
["Municipios_52",{"$f":"Listas[[#This Row],[ID]]&\" \"&IF(Listas[[#This Row],[Descripcion]]=\"\",\"\",\"- \"&Listas[[#This Row],[Descripcion]])","v":"621 - Roberto Payan"},"621","Roberto Payan",2767]
["Municipios_52",{"$f":"Listas[[#This Row],[ID]]&\" \"&IF(Listas[[#This Row],[Descripcion]]=\"\",\"\",\"- \"&Listas[[#This Row],[Descripcion]])","v":"678 - Samaniego"},"678","Samaniego",2768]
["Municipios_52",{"$f":"Listas[[#This Row],[ID]]&\" \"&IF(Listas[[#This Row],[Descripcion]]=\"\",\"\",\"- \"&Listas[[#This Row],[Descripcion]])","v":"685 - San Bernardo"},"685","San Bernardo",2769]
["Municipios_52",{"$f":"Listas[[#This Row],[ID]]&\" \"&IF(Listas[[#This Row],[Descripcion]]=\"\",\"\",\"- \"&Listas[[#This Row],[Descripcion]])","v":"687 - San Lorenzo"},"687","San Lorenzo",2770]
["Municipios_52",{"$f":"Listas[[#This Row],[ID]]&\" \"&IF(Listas[[#This Row],[Descripcion]]=\"\",\"\",\"- \"&Listas[[#This Row],[Descripcion]])","v":"693 - San Pablo"},"693","San Pablo",2771]
["Municipios_52",{"$f":"Listas[[#This Row],[ID]]&\" \"&IF(Listas[[#This Row],[Descripcion]]=\"\",\"\",\"- \"&Listas[[#This Row],[Descripcion]])","v":"694 - San Pedro De Cartago"},"694","San Pedro De Cartago",2772]
["Municipios_52",{"$f":"Listas[[#This Row],[ID]]&\" \"&IF(Listas[[#This Row],[Descripcion]]=\"\",\"\",\"- \"&Listas[[#This Row],[Descripcion]])","v":"683 - Sandoná"},"683","Sandoná",2773]
["Municipios_52",{"$f":"Listas[[#This Row],[ID]]&\" \"&IF(Listas[[#This Row],[Descripcion]]=\"\",\"\",\"- \"&Listas[[#This Row],[Descripcion]])","v":"696 - Santa Barbara"},"696","Santa Barbara",2774]
["Municipios_52",{"$f":"Listas[[#This Row],[ID]]&\" \"&IF(Listas[[#This Row],[Descripcion]]=\"\",\"\",\"- \"&Listas[[#This Row],[Descripcion]])","v":"699 - Santa Cruz"},"699","Santa Cruz",2775]
["Municipios_52",{"$f":"Listas[[#This Row],[ID]]&\" \"&IF(Listas[[#This Row],[Descripcion]]=\"\",\"\",\"- \"&Listas[[#This Row],[Descripcion]])","v":"720 - Sapuyes"},"720","Sapuyes",2776]
["Municipios_52",{"$f":"Listas[[#This Row],[ID]]&\" \"&IF(Listas[[#This Row],[Descripcion]]=\"\",\"\",\"- \"&Listas[[#This Row],[Descripcion]])","v":"786 - Taminango"},"786","Taminango",2777]
["Municipios_52",{"$f":"Listas[[#This Row],[ID]]&\" \"&IF(Listas[[#This Row],[Descripcion]]=\"\",\"\",\"- \"&Listas[[#This Row],[Descripcion]])","v":"788 - Tangua"},"788","Tangua",2778]
["Municipios_52",{"$f":"Listas[[#This Row],[ID]]&\" \"&IF(Listas[[#This Row],[Descripcion]]=\"\",\"\",\"- \"&Listas[[#This Row],[Descripcion]])","v":"835 - Tumaco"},"835","Tumaco",2779]
["Municipios_52",{"$f":"Listas[[#This Row],[ID]]&\" \"&IF(Listas[[#This Row],[Descripcion]]=\"\",\"\",\"- \"&Listas[[#This Row],[Descripcion]])","v":"838 - Tuquerres"},"838","Tuquerres",2780]
["Municipios_52",{"$f":"Listas[[#This Row],[ID]]&\" \"&IF(Listas[[#This Row],[Descripcion]]=\"\",\"\",\"- \"&Listas[[#This Row],[Descripcion]])","v":"885 - Yacuanquer"},"885","Yacuanquer",2781]
["Municipios_54",{"$f":"Listas[[#This Row],[ID]]&\" \"&IF(Listas[[#This Row],[Descripcion]]=\"\",\"\",\"- \"&Listas[[#This Row],[Descripcion]])","v":"003 - Abrego"},"003","Abrego",2782]
["Municipios_54",{"$f":"Listas[[#This Row],[ID]]&\" \"&IF(Listas[[#This Row],[Descripcion]]=\"\",\"\",\"- \"&Listas[[#This Row],[Descripcion]])","v":"051 - Arboledas"},"051","Arboledas",2783]
["Municipios_54",{"$f":"Listas[[#This Row],[ID]]&\" \"&IF(Listas[[#This Row],[Descripcion]]=\"\",\"\",\"- \"&Listas[[#This Row],[Descripcion]])","v":"099 - Bochalema"},"099","Bochalema",2784]
["Municipios_54",{"$f":"Listas[[#This Row],[ID]]&\" \"&IF(Listas[[#This Row],[Descripcion]]=\"\",\"\",\"- \"&Listas[[#This Row],[Descripcion]])","v":"109 - Bucarasica"},"109","Bucarasica",2785]
["Municipios_54",{"$f":"Listas[[#This Row],[ID]]&\" \"&IF(Listas[[#This Row],[Descripcion]]=\"\",\"\",\"- \"&Listas[[#This Row],[Descripcion]])","v":"128 - Cachirá"},"128","Cachirá",2786]
["Municipios_54",{"$f":"Listas[[#This Row],[ID]]&\" \"&IF(Listas[[#This Row],[Descripcion]]=\"\",\"\",\"- \"&Listas[[#This Row],[Descripcion]])","v":"125 - Cácota"},"125","Cácota",2787]
["Municipios_54",{"$f":"Listas[[#This Row],[ID]]&\" \"&IF(Listas[[#This Row],[Descripcion]]=\"\",\"\",\"- \"&Listas[[#This Row],[Descripcion]])","v":"172 - Chinácota"},"172","Chinácota",2788]
["Municipios_54",{"$f":"Listas[[#This Row],[ID]]&\" \"&IF(Listas[[#This Row],[Descripcion]]=\"\",\"\",\"- \"&Listas[[#This Row],[Descripcion]])","v":"174 - Chitagá"},"174","Chitagá",2789]
["Municipios_54",{"$f":"Listas[[#This Row],[ID]]&\" \"&IF(Listas[[#This Row],[Descripcion]]=\"\",\"\",\"- \"&Listas[[#This Row],[Descripcion]])","v":"206 - Convención"},"206","Convención",2790]
["Municipios_54",{"$f":"Listas[[#This Row],[ID]]&\" \"&IF(Listas[[#This Row],[Descripcion]]=\"\",\"\",\"- \"&Listas[[#This Row],[Descripcion]])","v":"001 - Cúcuta"},"001","Cúcuta",2791]
["Municipios_54",{"$f":"Listas[[#This Row],[ID]]&\" \"&IF(Listas[[#This Row],[Descripcion]]=\"\",\"\",\"- \"&Listas[[#This Row],[Descripcion]])","v":"223 - Cucutilla"},"223","Cucutilla",2792]
["Municipios_54",{"$f":"Listas[[#This Row],[ID]]&\" \"&IF(Listas[[#This Row],[Descripcion]]=\"\",\"\",\"- \"&Listas[[#This Row],[Descripcion]])","v":"239 - Durania"},"239","Durania",2793]
["Municipios_54",{"$f":"Listas[[#This Row],[ID]]&\" \"&IF(Listas[[#This Row],[Descripcion]]=\"\",\"\",\"- \"&Listas[[#This Row],[Descripcion]])","v":"245 - El Carmen"},"245","El Carmen",2794]
["Municipios_54",{"$f":"Listas[[#This Row],[ID]]&\" \"&IF(Listas[[#This Row],[Descripcion]]=\"\",\"\",\"- \"&Listas[[#This Row],[Descripcion]])","v":"250 - El Tarra"},"250","El Tarra",2795]
["Municipios_54",{"$f":"Listas[[#This Row],[ID]]&\" \"&IF(Listas[[#This Row],[Descripcion]]=\"\",\"\",\"- \"&Listas[[#This Row],[Descripcion]])","v":"261 - El Zulia"},"261","El Zulia",2796]
["Municipios_54",{"$f":"Listas[[#This Row],[ID]]&\" \"&IF(Listas[[#This Row],[Descripcion]]=\"\",\"\",\"- \"&Listas[[#This Row],[Descripcion]])","v":"313 - Gramalote"},"313","Gramalote",2797]
["Municipios_54",{"$f":"Listas[[#This Row],[ID]]&\" \"&IF(Listas[[#This Row],[Descripcion]]=\"\",\"\",\"- \"&Listas[[#This Row],[Descripcion]])","v":"344 - Hacarí"},"344","Hacarí",2798]
["Municipios_54",{"$f":"Listas[[#This Row],[ID]]&\" \"&IF(Listas[[#This Row],[Descripcion]]=\"\",\"\",\"- \"&Listas[[#This Row],[Descripcion]])","v":"347 - Herrán"},"347","Herrán",2799]
["Municipios_54",{"$f":"Listas[[#This Row],[ID]]&\" \"&IF(Listas[[#This Row],[Descripcion]]=\"\",\"\",\"- \"&Listas[[#This Row],[Descripcion]])","v":"385 - La Esperanza"},"385","La Esperanza",2800]
["Municipios_54",{"$f":"Listas[[#This Row],[ID]]&\" \"&IF(Listas[[#This Row],[Descripcion]]=\"\",\"\",\"- \"&Listas[[#This Row],[Descripcion]])","v":"398 - La Playa"},"398","La Playa",2801]
["Municipios_54",{"$f":"Listas[[#This Row],[ID]]&\" \"&IF(Listas[[#This Row],[Descripcion]]=\"\",\"\",\"- \"&Listas[[#This Row],[Descripcion]])","v":"377 - Labateca"},"377","Labateca",2802]
["Municipios_54",{"$f":"Listas[[#This Row],[ID]]&\" \"&IF(Listas[[#This Row],[Descripcion]]=\"\",\"\",\"- \"&Listas[[#This Row],[Descripcion]])","v":"405 - Los Patios"},"405","Los Patios",2803]
["Municipios_54",{"$f":"Listas[[#This Row],[ID]]&\" \"&IF(Listas[[#This Row],[Descripcion]]=\"\",\"\",\"- \"&Listas[[#This Row],[Descripcion]])","v":"418 - Lourdes"},"418","Lourdes",2804]
["Municipios_54",{"$f":"Listas[[#This Row],[ID]]&\" \"&IF(Listas[[#This Row],[Descripcion]]=\"\",\"\",\"- \"&Listas[[#This Row],[Descripcion]])","v":"480 - Mutiscua"},"480","Mutiscua",2805]
["Municipios_54",{"$f":"Listas[[#This Row],[ID]]&\" \"&IF(Listas[[#This Row],[Descripcion]]=\"\",\"\",\"- \"&Listas[[#This Row],[Descripcion]])","v":"498 - Ocaña"},"498","Ocaña",2806]
["Municipios_54",{"$f":"Listas[[#This Row],[ID]]&\" \"&IF(Listas[[#This Row],[Descripcion]]=\"\",\"\",\"- \"&Listas[[#This Row],[Descripcion]])","v":"518 - Pamplona"},"518","Pamplona",2807]
["Municipios_54",{"$f":"Listas[[#This Row],[ID]]&\" \"&IF(Listas[[#This Row],[Descripcion]]=\"\",\"\",\"- \"&Listas[[#This Row],[Descripcion]])","v":"520 - Pamplonita"},"520","Pamplonita",2808]
["Municipios_54",{"$f":"Listas[[#This Row],[ID]]&\" \"&IF(Listas[[#This Row],[Descripcion]]=\"\",\"\",\"- \"&Listas[[#This Row],[Descripcion]])","v":"553 - Puerto Santander"},"553","Puerto Santander",2809]
["Municipios_54",{"$f":"Listas[[#This Row],[ID]]&\" \"&IF(Listas[[#This Row],[Descripcion]]=\"\",\"\",\"- \"&Listas[[#This Row],[Descripcion]])","v":"599 - Ragonvalia"},"599","Ragonvalia",2810]
["Municipios_54",{"$f":"Listas[[#This Row],[ID]]&\" \"&IF(Listas[[#This Row],[Descripcion]]=\"\",\"\",\"- \"&Listas[[#This Row],[Descripcion]])","v":"660 - Salazar"},"660","Salazar",2811]
["Municipios_54",{"$f":"Listas[[#This Row],[ID]]&\" \"&IF(Listas[[#This Row],[Descripcion]]=\"\",\"\",\"- \"&Listas[[#This Row],[Descripcion]])","v":"670 - San Calixto"},"670","San Calixto",2812]
["Municipios_54",{"$f":"Listas[[#This Row],[ID]]&\" \"&IF(Listas[[#This Row],[Descripcion]]=\"\",\"\",\"- \"&Listas[[#This Row],[Descripcion]])","v":"673 - San Cayetano"},"673","San Cayetano",2813]
["Municipios_54",{"$f":"Listas[[#This Row],[ID]]&\" \"&IF(Listas[[#This Row],[Descripcion]]=\"\",\"\",\"- \"&Listas[[#This Row],[Descripcion]])","v":"680 - Santiago"},"680","Santiago",2814]
["Municipios_54",{"$f":"Listas[[#This Row],[ID]]&\" \"&IF(Listas[[#This Row],[Descripcion]]=\"\",\"\",\"- \"&Listas[[#This Row],[Descripcion]])","v":"720 - Sardinata"},"720","Sardinata",2815]
["Municipios_54",{"$f":"Listas[[#This Row],[ID]]&\" \"&IF(Listas[[#This Row],[Descripcion]]=\"\",\"\",\"- \"&Listas[[#This Row],[Descripcion]])","v":"743 - Silos"},"743","Silos",2816]
["Municipios_54",{"$f":"Listas[[#This Row],[ID]]&\" \"&IF(Listas[[#This Row],[Descripcion]]=\"\",\"\",\"- \"&Listas[[#This Row],[Descripcion]])","v":"800 - Teorama"},"800","Teorama",2817]
["Municipios_54",{"$f":"Listas[[#This Row],[ID]]&\" \"&IF(Listas[[#This Row],[Descripcion]]=\"\",\"\",\"- \"&Listas[[#This Row],[Descripcion]])","v":"810 - Tibú"},"810","Tibú",2818]
["Municipios_54",{"$f":"Listas[[#This Row],[ID]]&\" \"&IF(Listas[[#This Row],[Descripcion]]=\"\",\"\",\"- \"&Listas[[#This Row],[Descripcion]])","v":"820 - Toledo"},"820","Toledo",2819]
["Municipios_54",{"$f":"Listas[[#This Row],[ID]]&\" \"&IF(Listas[[#This Row],[Descripcion]]=\"\",\"\",\"- \"&Listas[[#This Row],[Descripcion]])","v":"871 - Villa Caro"},"871","Villa Caro",2820]
["Municipios_54",{"$f":"Listas[[#This Row],[ID]]&\" \"&IF(Listas[[#This Row],[Descripcion]]=\"\",\"\",\"- \"&Listas[[#This Row],[Descripcion]])","v":"874 - Villa Del Rosario"},"874","Villa Del Rosario",2821]
["Municipios_63",{"$f":"Listas[[#This Row],[ID]]&\" \"&IF(Listas[[#This Row],[Descripcion]]=\"\",\"\",\"- \"&Listas[[#This Row],[Descripcion]])","v":"001 - Armenia"},"001","Armenia",2822]
["Municipios_63",{"$f":"Listas[[#This Row],[ID]]&\" \"&IF(Listas[[#This Row],[Descripcion]]=\"\",\"\",\"- \"&Listas[[#This Row],[Descripcion]])","v":"111 - Buenavista"},"111","Buenavista",2823]
["Municipios_63",{"$f":"Listas[[#This Row],[ID]]&\" \"&IF(Listas[[#This Row],[Descripcion]]=\"\",\"\",\"- \"&Listas[[#This Row],[Descripcion]])","v":"130 - Calarca"},"130","Calarca",2824]
["Municipios_63",{"$f":"Listas[[#This Row],[ID]]&\" \"&IF(Listas[[#This Row],[Descripcion]]=\"\",\"\",\"- \"&Listas[[#This Row],[Descripcion]])","v":"190 - Circasia"},"190","Circasia",2825]
["Municipios_63",{"$f":"Listas[[#This Row],[ID]]&\" \"&IF(Listas[[#This Row],[Descripcion]]=\"\",\"\",\"- \"&Listas[[#This Row],[Descripcion]])","v":"212 - Cordoba"},"212","Cordoba",2826]
["Municipios_63",{"$f":"Listas[[#This Row],[ID]]&\" \"&IF(Listas[[#This Row],[Descripcion]]=\"\",\"\",\"- \"&Listas[[#This Row],[Descripcion]])","v":"272 - Filandia"},"272","Filandia",2827]
["Municipios_63",{"$f":"Listas[[#This Row],[ID]]&\" \"&IF(Listas[[#This Row],[Descripcion]]=\"\",\"\",\"- \"&Listas[[#This Row],[Descripcion]])","v":"302 - Genova"},"302","Genova",2828]
["Municipios_63",{"$f":"Listas[[#This Row],[ID]]&\" \"&IF(Listas[[#This Row],[Descripcion]]=\"\",\"\",\"- \"&Listas[[#This Row],[Descripcion]])","v":"401 - La Tebaida"},"401","La Tebaida",2829]
["Municipios_63",{"$f":"Listas[[#This Row],[ID]]&\" \"&IF(Listas[[#This Row],[Descripcion]]=\"\",\"\",\"- \"&Listas[[#This Row],[Descripcion]])","v":"470 - Montengro"},"470","Montengro",2830]
["Municipios_63",{"$f":"Listas[[#This Row],[ID]]&\" \"&IF(Listas[[#This Row],[Descripcion]]=\"\",\"\",\"- \"&Listas[[#This Row],[Descripcion]])","v":"548 - Pijao"},"548","Pijao",2831]
["Municipios_63",{"$f":"Listas[[#This Row],[ID]]&\" \"&IF(Listas[[#This Row],[Descripcion]]=\"\",\"\",\"- \"&Listas[[#This Row],[Descripcion]])","v":"594 - Quimbaya"},"594","Quimbaya",2832]
["Municipios_63",{"$f":"Listas[[#This Row],[ID]]&\" \"&IF(Listas[[#This Row],[Descripcion]]=\"\",\"\",\"- \"&Listas[[#This Row],[Descripcion]])","v":"690 - Salento"},"690","Salento",2833]
["Municipios_66",{"$f":"Listas[[#This Row],[ID]]&\" \"&IF(Listas[[#This Row],[Descripcion]]=\"\",\"\",\"- \"&Listas[[#This Row],[Descripcion]])","v":"045 - Apía"},"045","Apía",2834]
["Municipios_66",{"$f":"Listas[[#This Row],[ID]]&\" \"&IF(Listas[[#This Row],[Descripcion]]=\"\",\"\",\"- \"&Listas[[#This Row],[Descripcion]])","v":"075 - Balboa"},"075","Balboa",2835]
["Municipios_66",{"$f":"Listas[[#This Row],[ID]]&\" \"&IF(Listas[[#This Row],[Descripcion]]=\"\",\"\",\"- \"&Listas[[#This Row],[Descripcion]])","v":"088 - Belén De Umbría"},"088","Belén De Umbría",2836]
["Municipios_66",{"$f":"Listas[[#This Row],[ID]]&\" \"&IF(Listas[[#This Row],[Descripcion]]=\"\",\"\",\"- \"&Listas[[#This Row],[Descripcion]])","v":"170 - Dosquebradas"},"170","Dosquebradas",2837]
["Municipios_66",{"$f":"Listas[[#This Row],[ID]]&\" \"&IF(Listas[[#This Row],[Descripcion]]=\"\",\"\",\"- \"&Listas[[#This Row],[Descripcion]])","v":"318 - Guática"},"318","Guática",2838]
["Municipios_66",{"$f":"Listas[[#This Row],[ID]]&\" \"&IF(Listas[[#This Row],[Descripcion]]=\"\",\"\",\"- \"&Listas[[#This Row],[Descripcion]])","v":"383 - La Celia"},"383","La Celia",2839]
["Municipios_66",{"$f":"Listas[[#This Row],[ID]]&\" \"&IF(Listas[[#This Row],[Descripcion]]=\"\",\"\",\"- \"&Listas[[#This Row],[Descripcion]])","v":"400 - La Virginia"},"400","La Virginia",2840]
["Municipios_66",{"$f":"Listas[[#This Row],[ID]]&\" \"&IF(Listas[[#This Row],[Descripcion]]=\"\",\"\",\"- \"&Listas[[#This Row],[Descripcion]])","v":"440 - Marsella"},"440","Marsella",2841]
["Municipios_66",{"$f":"Listas[[#This Row],[ID]]&\" \"&IF(Listas[[#This Row],[Descripcion]]=\"\",\"\",\"- \"&Listas[[#This Row],[Descripcion]])","v":"456 - Mistrató"},"456","Mistrató",2842]
["Municipios_66",{"$f":"Listas[[#This Row],[ID]]&\" \"&IF(Listas[[#This Row],[Descripcion]]=\"\",\"\",\"- \"&Listas[[#This Row],[Descripcion]])","v":"001 - Pereira"},"001","Pereira",2843]
["Municipios_66",{"$f":"Listas[[#This Row],[ID]]&\" \"&IF(Listas[[#This Row],[Descripcion]]=\"\",\"\",\"- \"&Listas[[#This Row],[Descripcion]])","v":"572 - Pueblo Rico"},"572","Pueblo Rico",2844]
["Municipios_66",{"$f":"Listas[[#This Row],[ID]]&\" \"&IF(Listas[[#This Row],[Descripcion]]=\"\",\"\",\"- \"&Listas[[#This Row],[Descripcion]])","v":"594 - Quinchia"},"594","Quinchia",2845]
["Municipios_66",{"$f":"Listas[[#This Row],[ID]]&\" \"&IF(Listas[[#This Row],[Descripcion]]=\"\",\"\",\"- \"&Listas[[#This Row],[Descripcion]])","v":"682 - Santa Rosa De Cabal"},"682","Santa Rosa De Cabal",2846]
["Municipios_66",{"$f":"Listas[[#This Row],[ID]]&\" \"&IF(Listas[[#This Row],[Descripcion]]=\"\",\"\",\"- \"&Listas[[#This Row],[Descripcion]])","v":"687 - Santuario"},"687","Santuario",2847]
["Municipios_68",{"$f":"Listas[[#This Row],[ID]]&\" \"&IF(Listas[[#This Row],[Descripcion]]=\"\",\"\",\"- \"&Listas[[#This Row],[Descripcion]])","v":"013 - Aguada"},"013","Aguada",2848]
["Municipios_68",{"$f":"Listas[[#This Row],[ID]]&\" \"&IF(Listas[[#This Row],[Descripcion]]=\"\",\"\",\"- \"&Listas[[#This Row],[Descripcion]])","v":"020 - Albania"},"020","Albania",2849]
["Municipios_68",{"$f":"Listas[[#This Row],[ID]]&\" \"&IF(Listas[[#This Row],[Descripcion]]=\"\",\"\",\"- \"&Listas[[#This Row],[Descripcion]])","v":"051 - Aratoca"},"051","Aratoca",2850]
["Municipios_68",{"$f":"Listas[[#This Row],[ID]]&\" \"&IF(Listas[[#This Row],[Descripcion]]=\"\",\"\",\"- \"&Listas[[#This Row],[Descripcion]])","v":"077 - Barbosa"},"077","Barbosa",2851]
["Municipios_68",{"$f":"Listas[[#This Row],[ID]]&\" \"&IF(Listas[[#This Row],[Descripcion]]=\"\",\"\",\"- \"&Listas[[#This Row],[Descripcion]])","v":"079 - Barichara"},"079","Barichara",2852]
["Municipios_68",{"$f":"Listas[[#This Row],[ID]]&\" \"&IF(Listas[[#This Row],[Descripcion]]=\"\",\"\",\"- \"&Listas[[#This Row],[Descripcion]])","v":"081 - Barrancabermeja"},"081","Barrancabermeja",2853]
["Municipios_68",{"$f":"Listas[[#This Row],[ID]]&\" \"&IF(Listas[[#This Row],[Descripcion]]=\"\",\"\",\"- \"&Listas[[#This Row],[Descripcion]])","v":"092 - Betulia"},"092","Betulia",2854]
["Municipios_68",{"$f":"Listas[[#This Row],[ID]]&\" \"&IF(Listas[[#This Row],[Descripcion]]=\"\",\"\",\"- \"&Listas[[#This Row],[Descripcion]])","v":"101 - Bolívar"},"101","Bolívar",2855]
["Municipios_68",{"$f":"Listas[[#This Row],[ID]]&\" \"&IF(Listas[[#This Row],[Descripcion]]=\"\",\"\",\"- \"&Listas[[#This Row],[Descripcion]])","v":"001 - Bucaramanga"},"001","Bucaramanga",2856]
["Municipios_68",{"$f":"Listas[[#This Row],[ID]]&\" \"&IF(Listas[[#This Row],[Descripcion]]=\"\",\"\",\"- \"&Listas[[#This Row],[Descripcion]])","v":"121 - Cabrera"},"121","Cabrera",2857]
["Municipios_68",{"$f":"Listas[[#This Row],[ID]]&\" \"&IF(Listas[[#This Row],[Descripcion]]=\"\",\"\",\"- \"&Listas[[#This Row],[Descripcion]])","v":"132 - California"},"132","California",2858]
["Municipios_68",{"$f":"Listas[[#This Row],[ID]]&\" \"&IF(Listas[[#This Row],[Descripcion]]=\"\",\"\",\"- \"&Listas[[#This Row],[Descripcion]])","v":"147 - Capitanejo"},"147","Capitanejo",2859]
["Municipios_68",{"$f":"Listas[[#This Row],[ID]]&\" \"&IF(Listas[[#This Row],[Descripcion]]=\"\",\"\",\"- \"&Listas[[#This Row],[Descripcion]])","v":"152 - Carcasí"},"152","Carcasí",2860]
["Municipios_68",{"$f":"Listas[[#This Row],[ID]]&\" \"&IF(Listas[[#This Row],[Descripcion]]=\"\",\"\",\"- \"&Listas[[#This Row],[Descripcion]])","v":"160 - Cepitá"},"160","Cepitá",2861]
["Municipios_68",{"$f":"Listas[[#This Row],[ID]]&\" \"&IF(Listas[[#This Row],[Descripcion]]=\"\",\"\",\"- \"&Listas[[#This Row],[Descripcion]])","v":"162 - Cerrito"},"162","Cerrito",2862]
["Municipios_68",{"$f":"Listas[[#This Row],[ID]]&\" \"&IF(Listas[[#This Row],[Descripcion]]=\"\",\"\",\"- \"&Listas[[#This Row],[Descripcion]])","v":"167 - Charalá"},"167","Charalá",2863]
["Municipios_68",{"$f":"Listas[[#This Row],[ID]]&\" \"&IF(Listas[[#This Row],[Descripcion]]=\"\",\"\",\"- \"&Listas[[#This Row],[Descripcion]])","v":"169 - Charta"},"169","Charta",2864]
["Municipios_68",{"$f":"Listas[[#This Row],[ID]]&\" \"&IF(Listas[[#This Row],[Descripcion]]=\"\",\"\",\"- \"&Listas[[#This Row],[Descripcion]])","v":"176 - Chima"},"176","Chima",2865]
["Municipios_68",{"$f":"Listas[[#This Row],[ID]]&\" \"&IF(Listas[[#This Row],[Descripcion]]=\"\",\"\",\"- \"&Listas[[#This Row],[Descripcion]])","v":"179 - Chipatá"},"179","Chipatá",2866]
["Municipios_68",{"$f":"Listas[[#This Row],[ID]]&\" \"&IF(Listas[[#This Row],[Descripcion]]=\"\",\"\",\"- \"&Listas[[#This Row],[Descripcion]])","v":"190 - Cimitarra"},"190","Cimitarra",2867]
["Municipios_68",{"$f":"Listas[[#This Row],[ID]]&\" \"&IF(Listas[[#This Row],[Descripcion]]=\"\",\"\",\"- \"&Listas[[#This Row],[Descripcion]])","v":"207 - Concepción"},"207","Concepción",2868]
["Municipios_68",{"$f":"Listas[[#This Row],[ID]]&\" \"&IF(Listas[[#This Row],[Descripcion]]=\"\",\"\",\"- \"&Listas[[#This Row],[Descripcion]])","v":"209 - Confines"},"209","Confines",2869]
["Municipios_68",{"$f":"Listas[[#This Row],[ID]]&\" \"&IF(Listas[[#This Row],[Descripcion]]=\"\",\"\",\"- \"&Listas[[#This Row],[Descripcion]])","v":"211 - Contratación"},"211","Contratación",2870]
["Municipios_68",{"$f":"Listas[[#This Row],[ID]]&\" \"&IF(Listas[[#This Row],[Descripcion]]=\"\",\"\",\"- \"&Listas[[#This Row],[Descripcion]])","v":"217 - Coromoro"},"217","Coromoro",2871]
["Municipios_68",{"$f":"Listas[[#This Row],[ID]]&\" \"&IF(Listas[[#This Row],[Descripcion]]=\"\",\"\",\"- \"&Listas[[#This Row],[Descripcion]])","v":"229 - Curití"},"229","Curití",2872]
["Municipios_68",{"$f":"Listas[[#This Row],[ID]]&\" \"&IF(Listas[[#This Row],[Descripcion]]=\"\",\"\",\"- \"&Listas[[#This Row],[Descripcion]])","v":"235 - El Carmen De Chucurí"},"235","El Carmen De Chucurí",2873]
["Municipios_68",{"$f":"Listas[[#This Row],[ID]]&\" \"&IF(Listas[[#This Row],[Descripcion]]=\"\",\"\",\"- \"&Listas[[#This Row],[Descripcion]])","v":"245 - El Guacamayo"},"245","El Guacamayo",2874]
["Municipios_68",{"$f":"Listas[[#This Row],[ID]]&\" \"&IF(Listas[[#This Row],[Descripcion]]=\"\",\"\",\"- \"&Listas[[#This Row],[Descripcion]])","v":"250 - El Peñón"},"250","El Peñón",2875]
["Municipios_68",{"$f":"Listas[[#This Row],[ID]]&\" \"&IF(Listas[[#This Row],[Descripcion]]=\"\",\"\",\"- \"&Listas[[#This Row],[Descripcion]])","v":"255 - El Playón"},"255","El Playón",2876]
["Municipios_68",{"$f":"Listas[[#This Row],[ID]]&\" \"&IF(Listas[[#This Row],[Descripcion]]=\"\",\"\",\"- \"&Listas[[#This Row],[Descripcion]])","v":"264 - Encino"},"264","Encino",2877]
["Municipios_68",{"$f":"Listas[[#This Row],[ID]]&\" \"&IF(Listas[[#This Row],[Descripcion]]=\"\",\"\",\"- \"&Listas[[#This Row],[Descripcion]])","v":"266 - Enciso"},"266","Enciso",2878]
["Municipios_68",{"$f":"Listas[[#This Row],[ID]]&\" \"&IF(Listas[[#This Row],[Descripcion]]=\"\",\"\",\"- \"&Listas[[#This Row],[Descripcion]])","v":"271 - Florián"},"271","Florián",2879]
["Municipios_68",{"$f":"Listas[[#This Row],[ID]]&\" \"&IF(Listas[[#This Row],[Descripcion]]=\"\",\"\",\"- \"&Listas[[#This Row],[Descripcion]])","v":"276 - Floridablanca"},"276","Floridablanca",2880]
["Municipios_68",{"$f":"Listas[[#This Row],[ID]]&\" \"&IF(Listas[[#This Row],[Descripcion]]=\"\",\"\",\"- \"&Listas[[#This Row],[Descripcion]])","v":"296 - Galán"},"296","Galán",2881]
["Municipios_68",{"$f":"Listas[[#This Row],[ID]]&\" \"&IF(Listas[[#This Row],[Descripcion]]=\"\",\"\",\"- \"&Listas[[#This Row],[Descripcion]])","v":"298 - Gambita"},"298","Gambita",2882]
["Municipios_68",{"$f":"Listas[[#This Row],[ID]]&\" \"&IF(Listas[[#This Row],[Descripcion]]=\"\",\"\",\"- \"&Listas[[#This Row],[Descripcion]])","v":"307 - Girón"},"307","Girón",2883]
["Municipios_68",{"$f":"Listas[[#This Row],[ID]]&\" \"&IF(Listas[[#This Row],[Descripcion]]=\"\",\"\",\"- \"&Listas[[#This Row],[Descripcion]])","v":"318 - Guaca"},"318","Guaca",2884]
["Municipios_68",{"$f":"Listas[[#This Row],[ID]]&\" \"&IF(Listas[[#This Row],[Descripcion]]=\"\",\"\",\"- \"&Listas[[#This Row],[Descripcion]])","v":"320 - Guadalupe"},"320","Guadalupe",2885]
["Municipios_68",{"$f":"Listas[[#This Row],[ID]]&\" \"&IF(Listas[[#This Row],[Descripcion]]=\"\",\"\",\"- \"&Listas[[#This Row],[Descripcion]])","v":"322 - Guapotá"},"322","Guapotá",2886]
["Municipios_68",{"$f":"Listas[[#This Row],[ID]]&\" \"&IF(Listas[[#This Row],[Descripcion]]=\"\",\"\",\"- \"&Listas[[#This Row],[Descripcion]])","v":"324 - Guavatá"},"324","Guavatá",2887]
["Municipios_68",{"$f":"Listas[[#This Row],[ID]]&\" \"&IF(Listas[[#This Row],[Descripcion]]=\"\",\"\",\"- \"&Listas[[#This Row],[Descripcion]])","v":"327 - Guepsa"},"327","Guepsa",2888]
["Municipios_68",{"$f":"Listas[[#This Row],[ID]]&\" \"&IF(Listas[[#This Row],[Descripcion]]=\"\",\"\",\"- \"&Listas[[#This Row],[Descripcion]])","v":"344 - Hato"},"344","Hato",2889]
["Municipios_68",{"$f":"Listas[[#This Row],[ID]]&\" \"&IF(Listas[[#This Row],[Descripcion]]=\"\",\"\",\"- \"&Listas[[#This Row],[Descripcion]])","v":"368 - Jesús María"},"368","Jesús María",2890]
["Municipios_68",{"$f":"Listas[[#This Row],[ID]]&\" \"&IF(Listas[[#This Row],[Descripcion]]=\"\",\"\",\"- \"&Listas[[#This Row],[Descripcion]])","v":"370 - Jordán"},"370","Jordán",2891]
["Municipios_68",{"$f":"Listas[[#This Row],[ID]]&\" \"&IF(Listas[[#This Row],[Descripcion]]=\"\",\"\",\"- \"&Listas[[#This Row],[Descripcion]])","v":"377 - La Belleza"},"377","La Belleza",2892]
["Municipios_68",{"$f":"Listas[[#This Row],[ID]]&\" \"&IF(Listas[[#This Row],[Descripcion]]=\"\",\"\",\"- \"&Listas[[#This Row],[Descripcion]])","v":"397 - La Paz"},"397","La Paz",2893]
["Municipios_68",{"$f":"Listas[[#This Row],[ID]]&\" \"&IF(Listas[[#This Row],[Descripcion]]=\"\",\"\",\"- \"&Listas[[#This Row],[Descripcion]])","v":"385 - Landázuri"},"385","Landázuri",2894]
["Municipios_68",{"$f":"Listas[[#This Row],[ID]]&\" \"&IF(Listas[[#This Row],[Descripcion]]=\"\",\"\",\"- \"&Listas[[#This Row],[Descripcion]])","v":"406 - Lebríja"},"406","Lebríja",2895]
["Municipios_68",{"$f":"Listas[[#This Row],[ID]]&\" \"&IF(Listas[[#This Row],[Descripcion]]=\"\",\"\",\"- \"&Listas[[#This Row],[Descripcion]])","v":"418 - Los Santos"},"418","Los Santos",2896]
["Municipios_68",{"$f":"Listas[[#This Row],[ID]]&\" \"&IF(Listas[[#This Row],[Descripcion]]=\"\",\"\",\"- \"&Listas[[#This Row],[Descripcion]])","v":"425 - Macaravita"},"425","Macaravita",2897]
["Municipios_68",{"$f":"Listas[[#This Row],[ID]]&\" \"&IF(Listas[[#This Row],[Descripcion]]=\"\",\"\",\"- \"&Listas[[#This Row],[Descripcion]])","v":"432 - Málaga"},"432","Málaga",2898]
["Municipios_68",{"$f":"Listas[[#This Row],[ID]]&\" \"&IF(Listas[[#This Row],[Descripcion]]=\"\",\"\",\"- \"&Listas[[#This Row],[Descripcion]])","v":"444 - Matanza"},"444","Matanza",2899]
["Municipios_68",{"$f":"Listas[[#This Row],[ID]]&\" \"&IF(Listas[[#This Row],[Descripcion]]=\"\",\"\",\"- \"&Listas[[#This Row],[Descripcion]])","v":"464 - Mogotes"},"464","Mogotes",2900]
["Municipios_68",{"$f":"Listas[[#This Row],[ID]]&\" \"&IF(Listas[[#This Row],[Descripcion]]=\"\",\"\",\"- \"&Listas[[#This Row],[Descripcion]])","v":"468 - Molagavita"},"468","Molagavita",2901]
["Municipios_68",{"$f":"Listas[[#This Row],[ID]]&\" \"&IF(Listas[[#This Row],[Descripcion]]=\"\",\"\",\"- \"&Listas[[#This Row],[Descripcion]])","v":"498 - Ocamonte"},"498","Ocamonte",2902]
["Municipios_68",{"$f":"Listas[[#This Row],[ID]]&\" \"&IF(Listas[[#This Row],[Descripcion]]=\"\",\"\",\"- \"&Listas[[#This Row],[Descripcion]])","v":"500 - Oiba"},"500","Oiba",2903]
["Municipios_68",{"$f":"Listas[[#This Row],[ID]]&\" \"&IF(Listas[[#This Row],[Descripcion]]=\"\",\"\",\"- \"&Listas[[#This Row],[Descripcion]])","v":"502 - Onzaga"},"502","Onzaga",2904]
["Municipios_68",{"$f":"Listas[[#This Row],[ID]]&\" \"&IF(Listas[[#This Row],[Descripcion]]=\"\",\"\",\"- \"&Listas[[#This Row],[Descripcion]])","v":"522 - Palmar"},"522","Palmar",2905]
["Municipios_68",{"$f":"Listas[[#This Row],[ID]]&\" \"&IF(Listas[[#This Row],[Descripcion]]=\"\",\"\",\"- \"&Listas[[#This Row],[Descripcion]])","v":"524 - Palmas Del Socorro"},"524","Palmas Del Socorro",2906]
["Municipios_68",{"$f":"Listas[[#This Row],[ID]]&\" \"&IF(Listas[[#This Row],[Descripcion]]=\"\",\"\",\"- \"&Listas[[#This Row],[Descripcion]])","v":"533 - Páramo"},"533","Páramo",2907]
["Municipios_68",{"$f":"Listas[[#This Row],[ID]]&\" \"&IF(Listas[[#This Row],[Descripcion]]=\"\",\"\",\"- \"&Listas[[#This Row],[Descripcion]])","v":"547 - Piedecuesta"},"547","Piedecuesta",2908]
["Municipios_68",{"$f":"Listas[[#This Row],[ID]]&\" \"&IF(Listas[[#This Row],[Descripcion]]=\"\",\"\",\"- \"&Listas[[#This Row],[Descripcion]])","v":"549 - Pinchote"},"549","Pinchote",2909]
["Municipios_68",{"$f":"Listas[[#This Row],[ID]]&\" \"&IF(Listas[[#This Row],[Descripcion]]=\"\",\"\",\"- \"&Listas[[#This Row],[Descripcion]])","v":"572 - Puente Nacional"},"572","Puente Nacional",2910]
["Municipios_68",{"$f":"Listas[[#This Row],[ID]]&\" \"&IF(Listas[[#This Row],[Descripcion]]=\"\",\"\",\"- \"&Listas[[#This Row],[Descripcion]])","v":"573 - Puerto Parra"},"573","Puerto Parra",2911]
["Municipios_68",{"$f":"Listas[[#This Row],[ID]]&\" \"&IF(Listas[[#This Row],[Descripcion]]=\"\",\"\",\"- \"&Listas[[#This Row],[Descripcion]])","v":"575 - Puerto Wilches"},"575","Puerto Wilches",2912]
["Municipios_68",{"$f":"Listas[[#This Row],[ID]]&\" \"&IF(Listas[[#This Row],[Descripcion]]=\"\",\"\",\"- \"&Listas[[#This Row],[Descripcion]])","v":"615 - Rionegro"},"615","Rionegro",2913]
["Municipios_68",{"$f":"Listas[[#This Row],[ID]]&\" \"&IF(Listas[[#This Row],[Descripcion]]=\"\",\"\",\"- \"&Listas[[#This Row],[Descripcion]])","v":"655 - Sabana De Torres"},"655","Sabana De Torres",2914]
["Municipios_68",{"$f":"Listas[[#This Row],[ID]]&\" \"&IF(Listas[[#This Row],[Descripcion]]=\"\",\"\",\"- \"&Listas[[#This Row],[Descripcion]])","v":"669 - San Andrés"},"669","San Andrés",2915]
["Municipios_68",{"$f":"Listas[[#This Row],[ID]]&\" \"&IF(Listas[[#This Row],[Descripcion]]=\"\",\"\",\"- \"&Listas[[#This Row],[Descripcion]])","v":"673 - San Benito"},"673","San Benito",2916]
["Municipios_68",{"$f":"Listas[[#This Row],[ID]]&\" \"&IF(Listas[[#This Row],[Descripcion]]=\"\",\"\",\"- \"&Listas[[#This Row],[Descripcion]])","v":"679 - San Gil"},"679","San Gil",2917]
["Municipios_68",{"$f":"Listas[[#This Row],[ID]]&\" \"&IF(Listas[[#This Row],[Descripcion]]=\"\",\"\",\"- \"&Listas[[#This Row],[Descripcion]])","v":"682 - San Joaquín"},"682","San Joaquín",2918]
["Municipios_68",{"$f":"Listas[[#This Row],[ID]]&\" \"&IF(Listas[[#This Row],[Descripcion]]=\"\",\"\",\"- \"&Listas[[#This Row],[Descripcion]])","v":"684 - San José De Miranda"},"684","San José De Miranda",2919]
["Municipios_68",{"$f":"Listas[[#This Row],[ID]]&\" \"&IF(Listas[[#This Row],[Descripcion]]=\"\",\"\",\"- \"&Listas[[#This Row],[Descripcion]])","v":"686 - San Miguel"},"686","San Miguel",2920]
["Municipios_68",{"$f":"Listas[[#This Row],[ID]]&\" \"&IF(Listas[[#This Row],[Descripcion]]=\"\",\"\",\"- \"&Listas[[#This Row],[Descripcion]])","v":"689 - San Vicente De Chucurí"},"689","San Vicente De Chucurí",2921]
["Municipios_68",{"$f":"Listas[[#This Row],[ID]]&\" \"&IF(Listas[[#This Row],[Descripcion]]=\"\",\"\",\"- \"&Listas[[#This Row],[Descripcion]])","v":"705 - Santa Bárbara"},"705","Santa Bárbara",2922]
["Municipios_68",{"$f":"Listas[[#This Row],[ID]]&\" \"&IF(Listas[[#This Row],[Descripcion]]=\"\",\"\",\"- \"&Listas[[#This Row],[Descripcion]])","v":"720 - Santa Helena Del Opón"},"720","Santa Helena Del Opón",2923]
["Municipios_68",{"$f":"Listas[[#This Row],[ID]]&\" \"&IF(Listas[[#This Row],[Descripcion]]=\"\",\"\",\"- \"&Listas[[#This Row],[Descripcion]])","v":"745 - Simacota"},"745","Simacota",2924]
["Municipios_68",{"$f":"Listas[[#This Row],[ID]]&\" \"&IF(Listas[[#This Row],[Descripcion]]=\"\",\"\",\"- \"&Listas[[#This Row],[Descripcion]])","v":"755 - Socorro"},"755","Socorro",2925]
["Municipios_68",{"$f":"Listas[[#This Row],[ID]]&\" \"&IF(Listas[[#This Row],[Descripcion]]=\"\",\"\",\"- \"&Listas[[#This Row],[Descripcion]])","v":"770 - Suaita"},"770","Suaita",2926]
["Municipios_68",{"$f":"Listas[[#This Row],[ID]]&\" \"&IF(Listas[[#This Row],[Descripcion]]=\"\",\"\",\"- \"&Listas[[#This Row],[Descripcion]])","v":"773 - Sucre"},"773","Sucre",2927]
["Municipios_68",{"$f":"Listas[[#This Row],[ID]]&\" \"&IF(Listas[[#This Row],[Descripcion]]=\"\",\"\",\"- \"&Listas[[#This Row],[Descripcion]])","v":"780 - Surata"},"780","Surata",2928]
["Municipios_68",{"$f":"Listas[[#This Row],[ID]]&\" \"&IF(Listas[[#This Row],[Descripcion]]=\"\",\"\",\"- \"&Listas[[#This Row],[Descripcion]])","v":"820 - Tona"},"820","Tona",2929]
["Municipios_68",{"$f":"Listas[[#This Row],[ID]]&\" \"&IF(Listas[[#This Row],[Descripcion]]=\"\",\"\",\"- \"&Listas[[#This Row],[Descripcion]])","v":"855 - Valle De San José"},"855","Valle De San José",2930]
["Municipios_68",{"$f":"Listas[[#This Row],[ID]]&\" \"&IF(Listas[[#This Row],[Descripcion]]=\"\",\"\",\"- \"&Listas[[#This Row],[Descripcion]])","v":"861 - Vélez"},"861","Vélez",2931]
["Municipios_68",{"$f":"Listas[[#This Row],[ID]]&\" \"&IF(Listas[[#This Row],[Descripcion]]=\"\",\"\",\"- \"&Listas[[#This Row],[Descripcion]])","v":"867 - Vetas"},"867","Vetas",2932]
["Municipios_68",{"$f":"Listas[[#This Row],[ID]]&\" \"&IF(Listas[[#This Row],[Descripcion]]=\"\",\"\",\"- \"&Listas[[#This Row],[Descripcion]])","v":"872 - Villanueva"},"872","Villanueva",2933]
["Municipios_68",{"$f":"Listas[[#This Row],[ID]]&\" \"&IF(Listas[[#This Row],[Descripcion]]=\"\",\"\",\"- \"&Listas[[#This Row],[Descripcion]])","v":"895 - Zapatoca"},"895","Zapatoca",2934]
["Municipios_70",{"$f":"Listas[[#This Row],[ID]]&\" \"&IF(Listas[[#This Row],[Descripcion]]=\"\",\"\",\"- \"&Listas[[#This Row],[Descripcion]])","v":"110 - Buenavista"},"110","Buenavista",2935]
["Municipios_70",{"$f":"Listas[[#This Row],[ID]]&\" \"&IF(Listas[[#This Row],[Descripcion]]=\"\",\"\",\"- \"&Listas[[#This Row],[Descripcion]])","v":"124 - Caimito"},"124","Caimito",2936]
["Municipios_70",{"$f":"Listas[[#This Row],[ID]]&\" \"&IF(Listas[[#This Row],[Descripcion]]=\"\",\"\",\"- \"&Listas[[#This Row],[Descripcion]])","v":"230 - Chalán"},"230","Chalán",2937]
["Municipios_70",{"$f":"Listas[[#This Row],[ID]]&\" \"&IF(Listas[[#This Row],[Descripcion]]=\"\",\"\",\"- \"&Listas[[#This Row],[Descripcion]])","v":"204 - Coloso"},"204","Coloso",2938]
["Municipios_70",{"$f":"Listas[[#This Row],[ID]]&\" \"&IF(Listas[[#This Row],[Descripcion]]=\"\",\"\",\"- \"&Listas[[#This Row],[Descripcion]])","v":"215 - Corozal"},"215","Corozal",2939]
["Municipios_70",{"$f":"Listas[[#This Row],[ID]]&\" \"&IF(Listas[[#This Row],[Descripcion]]=\"\",\"\",\"- \"&Listas[[#This Row],[Descripcion]])","v":"221 - Coveñas"},"221","Coveñas",2940]
["Municipios_70",{"$f":"Listas[[#This Row],[ID]]&\" \"&IF(Listas[[#This Row],[Descripcion]]=\"\",\"\",\"- \"&Listas[[#This Row],[Descripcion]])","v":"233 - El Roble"},"233","El Roble",2941]
["Municipios_70",{"$f":"Listas[[#This Row],[ID]]&\" \"&IF(Listas[[#This Row],[Descripcion]]=\"\",\"\",\"- \"&Listas[[#This Row],[Descripcion]])","v":"235 - Galeras"},"235","Galeras",2942]
["Municipios_70",{"$f":"Listas[[#This Row],[ID]]&\" \"&IF(Listas[[#This Row],[Descripcion]]=\"\",\"\",\"- \"&Listas[[#This Row],[Descripcion]])","v":"265 - Guaranda"},"265","Guaranda",2943]
["Municipios_70",{"$f":"Listas[[#This Row],[ID]]&\" \"&IF(Listas[[#This Row],[Descripcion]]=\"\",\"\",\"- \"&Listas[[#This Row],[Descripcion]])","v":"400 - La Unión"},"400","La Unión",2944]
["Municipios_70",{"$f":"Listas[[#This Row],[ID]]&\" \"&IF(Listas[[#This Row],[Descripcion]]=\"\",\"\",\"- \"&Listas[[#This Row],[Descripcion]])","v":"418 - Los Palmitos"},"418","Los Palmitos",2945]
["Municipios_70",{"$f":"Listas[[#This Row],[ID]]&\" \"&IF(Listas[[#This Row],[Descripcion]]=\"\",\"\",\"- \"&Listas[[#This Row],[Descripcion]])","v":"429 - Majagual"},"429","Majagual",2946]
["Municipios_70",{"$f":"Listas[[#This Row],[ID]]&\" \"&IF(Listas[[#This Row],[Descripcion]]=\"\",\"\",\"- \"&Listas[[#This Row],[Descripcion]])","v":"473 - Morroa"},"473","Morroa",2947]
["Municipios_70",{"$f":"Listas[[#This Row],[ID]]&\" \"&IF(Listas[[#This Row],[Descripcion]]=\"\",\"\",\"- \"&Listas[[#This Row],[Descripcion]])","v":"508 - Ovejas"},"508","Ovejas",2948]
["Municipios_70",{"$f":"Listas[[#This Row],[ID]]&\" \"&IF(Listas[[#This Row],[Descripcion]]=\"\",\"\",\"- \"&Listas[[#This Row],[Descripcion]])","v":"523 - Palmito"},"523","Palmito",2949]
["Municipios_70",{"$f":"Listas[[#This Row],[ID]]&\" \"&IF(Listas[[#This Row],[Descripcion]]=\"\",\"\",\"- \"&Listas[[#This Row],[Descripcion]])","v":"670 - Sampués"},"670","Sampués",2950]
["Municipios_70",{"$f":"Listas[[#This Row],[ID]]&\" \"&IF(Listas[[#This Row],[Descripcion]]=\"\",\"\",\"- \"&Listas[[#This Row],[Descripcion]])","v":"678 - San Benito Abad"},"678","San Benito Abad",2951]
["Municipios_70",{"$f":"Listas[[#This Row],[ID]]&\" \"&IF(Listas[[#This Row],[Descripcion]]=\"\",\"\",\"- \"&Listas[[#This Row],[Descripcion]])","v":"702 - San Juan Betulia"},"702","San Juan Betulia",2952]
["Municipios_70",{"$f":"Listas[[#This Row],[ID]]&\" \"&IF(Listas[[#This Row],[Descripcion]]=\"\",\"\",\"- \"&Listas[[#This Row],[Descripcion]])","v":"708 - San Marcos"},"708","San Marcos",2953]
["Municipios_70",{"$f":"Listas[[#This Row],[ID]]&\" \"&IF(Listas[[#This Row],[Descripcion]]=\"\",\"\",\"- \"&Listas[[#This Row],[Descripcion]])","v":"713 - San Onofre"},"713","San Onofre",2954]
["Municipios_70",{"$f":"Listas[[#This Row],[ID]]&\" \"&IF(Listas[[#This Row],[Descripcion]]=\"\",\"\",\"- \"&Listas[[#This Row],[Descripcion]])","v":"717 - San Pedro"},"717","San Pedro",2955]
["Municipios_70",{"$f":"Listas[[#This Row],[ID]]&\" \"&IF(Listas[[#This Row],[Descripcion]]=\"\",\"\",\"- \"&Listas[[#This Row],[Descripcion]])","v":"820 - Santiago De Tolú"},"820","Santiago De Tolú",2956]
["Municipios_70",{"$f":"Listas[[#This Row],[ID]]&\" \"&IF(Listas[[#This Row],[Descripcion]]=\"\",\"\",\"- \"&Listas[[#This Row],[Descripcion]])","v":"742 - Sincé"},"742","Sincé",2957]
["Municipios_70",{"$f":"Listas[[#This Row],[ID]]&\" \"&IF(Listas[[#This Row],[Descripcion]]=\"\",\"\",\"- \"&Listas[[#This Row],[Descripcion]])","v":"001 - Sincelejo"},"001","Sincelejo",2958]
["Municipios_70",{"$f":"Listas[[#This Row],[ID]]&\" \"&IF(Listas[[#This Row],[Descripcion]]=\"\",\"\",\"- \"&Listas[[#This Row],[Descripcion]])","v":"771 - Sucre"},"771","Sucre",2959]
["Municipios_70",{"$f":"Listas[[#This Row],[ID]]&\" \"&IF(Listas[[#This Row],[Descripcion]]=\"\",\"\",\"- \"&Listas[[#This Row],[Descripcion]])","v":"823 - Tolú Viejo"},"823","Tolú Viejo",2960]
["Municipios_73",{"$f":"Listas[[#This Row],[ID]]&\" \"&IF(Listas[[#This Row],[Descripcion]]=\"\",\"\",\"- \"&Listas[[#This Row],[Descripcion]])","v":"024 - Alpujarra"},"024","Alpujarra",2961]
["Municipios_73",{"$f":"Listas[[#This Row],[ID]]&\" \"&IF(Listas[[#This Row],[Descripcion]]=\"\",\"\",\"- \"&Listas[[#This Row],[Descripcion]])","v":"026 - Alvarado"},"026","Alvarado",2962]
["Municipios_73",{"$f":"Listas[[#This Row],[ID]]&\" \"&IF(Listas[[#This Row],[Descripcion]]=\"\",\"\",\"- \"&Listas[[#This Row],[Descripcion]])","v":"030 - Ambalema"},"030","Ambalema",2963]
["Municipios_73",{"$f":"Listas[[#This Row],[ID]]&\" \"&IF(Listas[[#This Row],[Descripcion]]=\"\",\"\",\"- \"&Listas[[#This Row],[Descripcion]])","v":"043 - Anzoátegui"},"043","Anzoátegui",2964]
["Municipios_73",{"$f":"Listas[[#This Row],[ID]]&\" \"&IF(Listas[[#This Row],[Descripcion]]=\"\",\"\",\"- \"&Listas[[#This Row],[Descripcion]])","v":"055 - Armero"},"055","Armero",2965]
["Municipios_73",{"$f":"Listas[[#This Row],[ID]]&\" \"&IF(Listas[[#This Row],[Descripcion]]=\"\",\"\",\"- \"&Listas[[#This Row],[Descripcion]])","v":"067 - Ataco"},"067","Ataco",2966]
["Municipios_73",{"$f":"Listas[[#This Row],[ID]]&\" \"&IF(Listas[[#This Row],[Descripcion]]=\"\",\"\",\"- \"&Listas[[#This Row],[Descripcion]])","v":"124 - Cajamarca"},"124","Cajamarca",2967]
["Municipios_73",{"$f":"Listas[[#This Row],[ID]]&\" \"&IF(Listas[[#This Row],[Descripcion]]=\"\",\"\",\"- \"&Listas[[#This Row],[Descripcion]])","v":"148 - Carmen De Apicalá"},"148","Carmen De Apicalá",2968]
["Municipios_73",{"$f":"Listas[[#This Row],[ID]]&\" \"&IF(Listas[[#This Row],[Descripcion]]=\"\",\"\",\"- \"&Listas[[#This Row],[Descripcion]])","v":"152 - Casabianca"},"152","Casabianca",2969]
["Municipios_73",{"$f":"Listas[[#This Row],[ID]]&\" \"&IF(Listas[[#This Row],[Descripcion]]=\"\",\"\",\"- \"&Listas[[#This Row],[Descripcion]])","v":"168 - Chaparral"},"168","Chaparral",2970]
["Municipios_73",{"$f":"Listas[[#This Row],[ID]]&\" \"&IF(Listas[[#This Row],[Descripcion]]=\"\",\"\",\"- \"&Listas[[#This Row],[Descripcion]])","v":"200 - Coello"},"200","Coello",2971]
["Municipios_73",{"$f":"Listas[[#This Row],[ID]]&\" \"&IF(Listas[[#This Row],[Descripcion]]=\"\",\"\",\"- \"&Listas[[#This Row],[Descripcion]])","v":"217 - Coyaima"},"217","Coyaima",2972]
["Municipios_73",{"$f":"Listas[[#This Row],[ID]]&\" \"&IF(Listas[[#This Row],[Descripcion]]=\"\",\"\",\"- \"&Listas[[#This Row],[Descripcion]])","v":"226 - Cunday"},"226","Cunday",2973]
["Municipios_73",{"$f":"Listas[[#This Row],[ID]]&\" \"&IF(Listas[[#This Row],[Descripcion]]=\"\",\"\",\"- \"&Listas[[#This Row],[Descripcion]])","v":"236 - Dolores"},"236","Dolores",2974]
["Municipios_73",{"$f":"Listas[[#This Row],[ID]]&\" \"&IF(Listas[[#This Row],[Descripcion]]=\"\",\"\",\"- \"&Listas[[#This Row],[Descripcion]])","v":"268 - Espinal"},"268","Espinal",2975]
["Municipios_73",{"$f":"Listas[[#This Row],[ID]]&\" \"&IF(Listas[[#This Row],[Descripcion]]=\"\",\"\",\"- \"&Listas[[#This Row],[Descripcion]])","v":"270 - Falan"},"270","Falan",2976]
["Municipios_73",{"$f":"Listas[[#This Row],[ID]]&\" \"&IF(Listas[[#This Row],[Descripcion]]=\"\",\"\",\"- \"&Listas[[#This Row],[Descripcion]])","v":"275 - Flandes"},"275","Flandes",2977]
["Municipios_73",{"$f":"Listas[[#This Row],[ID]]&\" \"&IF(Listas[[#This Row],[Descripcion]]=\"\",\"\",\"- \"&Listas[[#This Row],[Descripcion]])","v":"283 - Fresno"},"283","Fresno",2978]
["Municipios_73",{"$f":"Listas[[#This Row],[ID]]&\" \"&IF(Listas[[#This Row],[Descripcion]]=\"\",\"\",\"- \"&Listas[[#This Row],[Descripcion]])","v":"319 - Guamo"},"319","Guamo",2979]
["Municipios_73",{"$f":"Listas[[#This Row],[ID]]&\" \"&IF(Listas[[#This Row],[Descripcion]]=\"\",\"\",\"- \"&Listas[[#This Row],[Descripcion]])","v":"347 - Herveo"},"347","Herveo",2980]
["Municipios_73",{"$f":"Listas[[#This Row],[ID]]&\" \"&IF(Listas[[#This Row],[Descripcion]]=\"\",\"\",\"- \"&Listas[[#This Row],[Descripcion]])","v":"349 - Honda"},"349","Honda",2981]
["Municipios_73",{"$f":"Listas[[#This Row],[ID]]&\" \"&IF(Listas[[#This Row],[Descripcion]]=\"\",\"\",\"- \"&Listas[[#This Row],[Descripcion]])","v":"001 - Ibague"},"001","Ibague",2982]
["Municipios_73",{"$f":"Listas[[#This Row],[ID]]&\" \"&IF(Listas[[#This Row],[Descripcion]]=\"\",\"\",\"- \"&Listas[[#This Row],[Descripcion]])","v":"352 - Icononzo"},"352","Icononzo",2983]
["Municipios_73",{"$f":"Listas[[#This Row],[ID]]&\" \"&IF(Listas[[#This Row],[Descripcion]]=\"\",\"\",\"- \"&Listas[[#This Row],[Descripcion]])","v":"408 - Lerida"},"408","Lerida",2984]
["Municipios_73",{"$f":"Listas[[#This Row],[ID]]&\" \"&IF(Listas[[#This Row],[Descripcion]]=\"\",\"\",\"- \"&Listas[[#This Row],[Descripcion]])","v":"411 - Libano"},"411","Libano",2985]
["Municipios_73",{"$f":"Listas[[#This Row],[ID]]&\" \"&IF(Listas[[#This Row],[Descripcion]]=\"\",\"\",\"- \"&Listas[[#This Row],[Descripcion]])","v":"443 - Mariquita"},"443","Mariquita",2986]
["Municipios_73",{"$f":"Listas[[#This Row],[ID]]&\" \"&IF(Listas[[#This Row],[Descripcion]]=\"\",\"\",\"- \"&Listas[[#This Row],[Descripcion]])","v":"449 - Melgar"},"449","Melgar",2987]
["Municipios_73",{"$f":"Listas[[#This Row],[ID]]&\" \"&IF(Listas[[#This Row],[Descripcion]]=\"\",\"\",\"- \"&Listas[[#This Row],[Descripcion]])","v":"461 - Murillo"},"461","Murillo",2988]
["Municipios_73",{"$f":"Listas[[#This Row],[ID]]&\" \"&IF(Listas[[#This Row],[Descripcion]]=\"\",\"\",\"- \"&Listas[[#This Row],[Descripcion]])","v":"483 - Natagaima"},"483","Natagaima",2989]
["Municipios_73",{"$f":"Listas[[#This Row],[ID]]&\" \"&IF(Listas[[#This Row],[Descripcion]]=\"\",\"\",\"- \"&Listas[[#This Row],[Descripcion]])","v":"504 - Ortega"},"504","Ortega",2990]
["Municipios_73",{"$f":"Listas[[#This Row],[ID]]&\" \"&IF(Listas[[#This Row],[Descripcion]]=\"\",\"\",\"- \"&Listas[[#This Row],[Descripcion]])","v":"520 - Palocabildo"},"520","Palocabildo",2991]
["Municipios_73",{"$f":"Listas[[#This Row],[ID]]&\" \"&IF(Listas[[#This Row],[Descripcion]]=\"\",\"\",\"- \"&Listas[[#This Row],[Descripcion]])","v":"547 - Piedras"},"547","Piedras",2992]
["Municipios_73",{"$f":"Listas[[#This Row],[ID]]&\" \"&IF(Listas[[#This Row],[Descripcion]]=\"\",\"\",\"- \"&Listas[[#This Row],[Descripcion]])","v":"555 - Planadas"},"555","Planadas",2993]
["Municipios_73",{"$f":"Listas[[#This Row],[ID]]&\" \"&IF(Listas[[#This Row],[Descripcion]]=\"\",\"\",\"- \"&Listas[[#This Row],[Descripcion]])","v":"563 - Prado"},"563","Prado",2994]
["Municipios_73",{"$f":"Listas[[#This Row],[ID]]&\" \"&IF(Listas[[#This Row],[Descripcion]]=\"\",\"\",\"- \"&Listas[[#This Row],[Descripcion]])","v":"585 - Purificación"},"585","Purificación",2995]
["Municipios_73",{"$f":"Listas[[#This Row],[ID]]&\" \"&IF(Listas[[#This Row],[Descripcion]]=\"\",\"\",\"- \"&Listas[[#This Row],[Descripcion]])","v":"616 - Rioblanco"},"616","Rioblanco",2996]
["Municipios_73",{"$f":"Listas[[#This Row],[ID]]&\" \"&IF(Listas[[#This Row],[Descripcion]]=\"\",\"\",\"- \"&Listas[[#This Row],[Descripcion]])","v":"622 - Roncesvalles"},"622","Roncesvalles",2997]
["Municipios_73",{"$f":"Listas[[#This Row],[ID]]&\" \"&IF(Listas[[#This Row],[Descripcion]]=\"\",\"\",\"- \"&Listas[[#This Row],[Descripcion]])","v":"624 - Rovira"},"624","Rovira",2998]
["Municipios_73",{"$f":"Listas[[#This Row],[ID]]&\" \"&IF(Listas[[#This Row],[Descripcion]]=\"\",\"\",\"- \"&Listas[[#This Row],[Descripcion]])","v":"671 - Saldaña"},"671","Saldaña",2999]
["Municipios_73",{"$f":"Listas[[#This Row],[ID]]&\" \"&IF(Listas[[#This Row],[Descripcion]]=\"\",\"\",\"- \"&Listas[[#This Row],[Descripcion]])","v":"675 - San Antonio"},"675","San Antonio",3000]
["Municipios_73",{"$f":"Listas[[#This Row],[ID]]&\" \"&IF(Listas[[#This Row],[Descripcion]]=\"\",\"\",\"- \"&Listas[[#This Row],[Descripcion]])","v":"678 - San Luis"},"678","San Luis",3001]
["Municipios_73",{"$f":"Listas[[#This Row],[ID]]&\" \"&IF(Listas[[#This Row],[Descripcion]]=\"\",\"\",\"- \"&Listas[[#This Row],[Descripcion]])","v":"686 - Santa Isabel"},"686","Santa Isabel",3002]
["Municipios_73",{"$f":"Listas[[#This Row],[ID]]&\" \"&IF(Listas[[#This Row],[Descripcion]]=\"\",\"\",\"- \"&Listas[[#This Row],[Descripcion]])","v":"770 - Suárez"},"770","Suárez",3003]
["Municipios_73",{"$f":"Listas[[#This Row],[ID]]&\" \"&IF(Listas[[#This Row],[Descripcion]]=\"\",\"\",\"- \"&Listas[[#This Row],[Descripcion]])","v":"854 - Valle De San Juan"},"854","Valle De San Juan",3004]
["Municipios_73",{"$f":"Listas[[#This Row],[ID]]&\" \"&IF(Listas[[#This Row],[Descripcion]]=\"\",\"\",\"- \"&Listas[[#This Row],[Descripcion]])","v":"861 - Venadillo"},"861","Venadillo",3005]
["Municipios_73",{"$f":"Listas[[#This Row],[ID]]&\" \"&IF(Listas[[#This Row],[Descripcion]]=\"\",\"\",\"- \"&Listas[[#This Row],[Descripcion]])","v":"870 - Villahermosa"},"870","Villahermosa",3006]
["Municipios_73",{"$f":"Listas[[#This Row],[ID]]&\" \"&IF(Listas[[#This Row],[Descripcion]]=\"\",\"\",\"- \"&Listas[[#This Row],[Descripcion]])","v":"873 - Villarrica"},"873","Villarrica",3007]
["Municipios_76",{"$f":"Listas[[#This Row],[ID]]&\" \"&IF(Listas[[#This Row],[Descripcion]]=\"\",\"\",\"- \"&Listas[[#This Row],[Descripcion]])","v":"020 - Alcala"},"020","Alcala",3008]
["Municipios_76",{"$f":"Listas[[#This Row],[ID]]&\" \"&IF(Listas[[#This Row],[Descripcion]]=\"\",\"\",\"- \"&Listas[[#This Row],[Descripcion]])","v":"036 - Andalucía"},"036","Andalucía",3009]
["Municipios_76",{"$f":"Listas[[#This Row],[ID]]&\" \"&IF(Listas[[#This Row],[Descripcion]]=\"\",\"\",\"- \"&Listas[[#This Row],[Descripcion]])","v":"041 - Ansermanuevo"},"041","Ansermanuevo",3010]
["Municipios_76",{"$f":"Listas[[#This Row],[ID]]&\" \"&IF(Listas[[#This Row],[Descripcion]]=\"\",\"\",\"- \"&Listas[[#This Row],[Descripcion]])","v":"054 - Argelia"},"054","Argelia",3011]
["Municipios_76",{"$f":"Listas[[#This Row],[ID]]&\" \"&IF(Listas[[#This Row],[Descripcion]]=\"\",\"\",\"- \"&Listas[[#This Row],[Descripcion]])","v":"100 - Bolívar"},"100","Bolívar",3012]
["Municipios_76",{"$f":"Listas[[#This Row],[ID]]&\" \"&IF(Listas[[#This Row],[Descripcion]]=\"\",\"\",\"- \"&Listas[[#This Row],[Descripcion]])","v":"109 - Buenaventura"},"109","Buenaventura",3013]
["Municipios_76",{"$f":"Listas[[#This Row],[ID]]&\" \"&IF(Listas[[#This Row],[Descripcion]]=\"\",\"\",\"- \"&Listas[[#This Row],[Descripcion]])","v":"111 - Buga"},"111","Buga",3014]
["Municipios_76",{"$f":"Listas[[#This Row],[ID]]&\" \"&IF(Listas[[#This Row],[Descripcion]]=\"\",\"\",\"- \"&Listas[[#This Row],[Descripcion]])","v":"113 - Bugalagrande"},"113","Bugalagrande",3015]
["Municipios_76",{"$f":"Listas[[#This Row],[ID]]&\" \"&IF(Listas[[#This Row],[Descripcion]]=\"\",\"\",\"- \"&Listas[[#This Row],[Descripcion]])","v":"122 - Caicedonia"},"122","Caicedonia",3016]
["Municipios_76",{"$f":"Listas[[#This Row],[ID]]&\" \"&IF(Listas[[#This Row],[Descripcion]]=\"\",\"\",\"- \"&Listas[[#This Row],[Descripcion]])","v":"001 - Cali"},"001","Cali",3017]
["Municipios_76",{"$f":"Listas[[#This Row],[ID]]&\" \"&IF(Listas[[#This Row],[Descripcion]]=\"\",\"\",\"- \"&Listas[[#This Row],[Descripcion]])","v":"126 - Calima"},"126","Calima",3018]
["Municipios_76",{"$f":"Listas[[#This Row],[ID]]&\" \"&IF(Listas[[#This Row],[Descripcion]]=\"\",\"\",\"- \"&Listas[[#This Row],[Descripcion]])","v":"130 - Candelaria"},"130","Candelaria",3019]
["Municipios_76",{"$f":"Listas[[#This Row],[ID]]&\" \"&IF(Listas[[#This Row],[Descripcion]]=\"\",\"\",\"- \"&Listas[[#This Row],[Descripcion]])","v":"147 - Cartago"},"147","Cartago",3020]
["Municipios_76",{"$f":"Listas[[#This Row],[ID]]&\" \"&IF(Listas[[#This Row],[Descripcion]]=\"\",\"\",\"- \"&Listas[[#This Row],[Descripcion]])","v":"233 - Dagua"},"233","Dagua",3021]
["Municipios_76",{"$f":"Listas[[#This Row],[ID]]&\" \"&IF(Listas[[#This Row],[Descripcion]]=\"\",\"\",\"- \"&Listas[[#This Row],[Descripcion]])","v":"243 - El Águila"},"243","El Águila",3022]
["Municipios_76",{"$f":"Listas[[#This Row],[ID]]&\" \"&IF(Listas[[#This Row],[Descripcion]]=\"\",\"\",\"- \"&Listas[[#This Row],[Descripcion]])","v":"246 - El Cairo"},"246","El Cairo",3023]
["Municipios_76",{"$f":"Listas[[#This Row],[ID]]&\" \"&IF(Listas[[#This Row],[Descripcion]]=\"\",\"\",\"- \"&Listas[[#This Row],[Descripcion]])","v":"248 - El Cerrito"},"248","El Cerrito",3024]
["Municipios_76",{"$f":"Listas[[#This Row],[ID]]&\" \"&IF(Listas[[#This Row],[Descripcion]]=\"\",\"\",\"- \"&Listas[[#This Row],[Descripcion]])","v":"250 - El Dovio"},"250","El Dovio",3025]
["Municipios_76",{"$f":"Listas[[#This Row],[ID]]&\" \"&IF(Listas[[#This Row],[Descripcion]]=\"\",\"\",\"- \"&Listas[[#This Row],[Descripcion]])","v":"275 - Florida"},"275","Florida",3026]
["Municipios_76",{"$f":"Listas[[#This Row],[ID]]&\" \"&IF(Listas[[#This Row],[Descripcion]]=\"\",\"\",\"- \"&Listas[[#This Row],[Descripcion]])","v":"306 - Ginebra"},"306","Ginebra",3027]
["Municipios_76",{"$f":"Listas[[#This Row],[ID]]&\" \"&IF(Listas[[#This Row],[Descripcion]]=\"\",\"\",\"- \"&Listas[[#This Row],[Descripcion]])","v":"318 - Guacarí"},"318","Guacarí",3028]
["Municipios_76",{"$f":"Listas[[#This Row],[ID]]&\" \"&IF(Listas[[#This Row],[Descripcion]]=\"\",\"\",\"- \"&Listas[[#This Row],[Descripcion]])","v":"364 - Jamundí"},"364","Jamundí",3029]
["Municipios_76",{"$f":"Listas[[#This Row],[ID]]&\" \"&IF(Listas[[#This Row],[Descripcion]]=\"\",\"\",\"- \"&Listas[[#This Row],[Descripcion]])","v":"377 - La Cumbre"},"377","La Cumbre",3030]
["Municipios_76",{"$f":"Listas[[#This Row],[ID]]&\" \"&IF(Listas[[#This Row],[Descripcion]]=\"\",\"\",\"- \"&Listas[[#This Row],[Descripcion]])","v":"400 - La Unión"},"400","La Unión",3031]
["Municipios_76",{"$f":"Listas[[#This Row],[ID]]&\" \"&IF(Listas[[#This Row],[Descripcion]]=\"\",\"\",\"- \"&Listas[[#This Row],[Descripcion]])","v":"403 - La Victoria"},"403","La Victoria",3032]
["Municipios_76",{"$f":"Listas[[#This Row],[ID]]&\" \"&IF(Listas[[#This Row],[Descripcion]]=\"\",\"\",\"- \"&Listas[[#This Row],[Descripcion]])","v":"497 - Obando"},"497","Obando",3033]
["Municipios_76",{"$f":"Listas[[#This Row],[ID]]&\" \"&IF(Listas[[#This Row],[Descripcion]]=\"\",\"\",\"- \"&Listas[[#This Row],[Descripcion]])","v":"520 - Palmira"},"520","Palmira",3034]
["Municipios_76",{"$f":"Listas[[#This Row],[ID]]&\" \"&IF(Listas[[#This Row],[Descripcion]]=\"\",\"\",\"- \"&Listas[[#This Row],[Descripcion]])","v":"563 - Pradera"},"563","Pradera",3035]
["Municipios_76",{"$f":"Listas[[#This Row],[ID]]&\" \"&IF(Listas[[#This Row],[Descripcion]]=\"\",\"\",\"- \"&Listas[[#This Row],[Descripcion]])","v":"606 - Restrepo"},"606","Restrepo",3036]
["Municipios_76",{"$f":"Listas[[#This Row],[ID]]&\" \"&IF(Listas[[#This Row],[Descripcion]]=\"\",\"\",\"- \"&Listas[[#This Row],[Descripcion]])","v":"616 - Riofrio"},"616","Riofrio",3037]
["Municipios_76",{"$f":"Listas[[#This Row],[ID]]&\" \"&IF(Listas[[#This Row],[Descripcion]]=\"\",\"\",\"- \"&Listas[[#This Row],[Descripcion]])","v":"622 - Roldanillo"},"622","Roldanillo",3038]
["Municipios_76",{"$f":"Listas[[#This Row],[ID]]&\" \"&IF(Listas[[#This Row],[Descripcion]]=\"\",\"\",\"- \"&Listas[[#This Row],[Descripcion]])","v":"670 - San Pedro"},"670","San Pedro",3039]
["Municipios_76",{"$f":"Listas[[#This Row],[ID]]&\" \"&IF(Listas[[#This Row],[Descripcion]]=\"\",\"\",\"- \"&Listas[[#This Row],[Descripcion]])","v":"736 - Sevilla"},"736","Sevilla",3040]
["Municipios_76",{"$f":"Listas[[#This Row],[ID]]&\" \"&IF(Listas[[#This Row],[Descripcion]]=\"\",\"\",\"- \"&Listas[[#This Row],[Descripcion]])","v":"823 - Toro"},"823","Toro",3041]
["Municipios_76",{"$f":"Listas[[#This Row],[ID]]&\" \"&IF(Listas[[#This Row],[Descripcion]]=\"\",\"\",\"- \"&Listas[[#This Row],[Descripcion]])","v":"828 - Trujillo"},"828","Trujillo",3042]
["Municipios_76",{"$f":"Listas[[#This Row],[ID]]&\" \"&IF(Listas[[#This Row],[Descripcion]]=\"\",\"\",\"- \"&Listas[[#This Row],[Descripcion]])","v":"834 - Tuluá"},"834","Tuluá",3043]
["Municipios_76",{"$f":"Listas[[#This Row],[ID]]&\" \"&IF(Listas[[#This Row],[Descripcion]]=\"\",\"\",\"- \"&Listas[[#This Row],[Descripcion]])","v":"845 - Ulloa"},"845","Ulloa",3044]
["Municipios_76",{"$f":"Listas[[#This Row],[ID]]&\" \"&IF(Listas[[#This Row],[Descripcion]]=\"\",\"\",\"- \"&Listas[[#This Row],[Descripcion]])","v":"863 - Versalles"},"863","Versalles",3045]
["Municipios_76",{"$f":"Listas[[#This Row],[ID]]&\" \"&IF(Listas[[#This Row],[Descripcion]]=\"\",\"\",\"- \"&Listas[[#This Row],[Descripcion]])","v":"869 - Vijes"},"869","Vijes",3046]
["Municipios_76",{"$f":"Listas[[#This Row],[ID]]&\" \"&IF(Listas[[#This Row],[Descripcion]]=\"\",\"\",\"- \"&Listas[[#This Row],[Descripcion]])","v":"890 - Yotoco"},"890","Yotoco",3047]
["Municipios_76",{"$f":"Listas[[#This Row],[ID]]&\" \"&IF(Listas[[#This Row],[Descripcion]]=\"\",\"\",\"- \"&Listas[[#This Row],[Descripcion]])","v":"892 - Yumbo"},"892","Yumbo",3048]
["Municipios_76",{"$f":"Listas[[#This Row],[ID]]&\" \"&IF(Listas[[#This Row],[Descripcion]]=\"\",\"\",\"- \"&Listas[[#This Row],[Descripcion]])","v":"895 - Zarzal"},"895","Zarzal",3049]
["Municipios_81",{"$f":"Listas[[#This Row],[ID]]&\" \"&IF(Listas[[#This Row],[Descripcion]]=\"\",\"\",\"- \"&Listas[[#This Row],[Descripcion]])","v":"001 - Arauca"},"001","Arauca",3050]
["Municipios_81",{"$f":"Listas[[#This Row],[ID]]&\" \"&IF(Listas[[#This Row],[Descripcion]]=\"\",\"\",\"- \"&Listas[[#This Row],[Descripcion]])","v":"065 - Arauquita"},"065","Arauquita",3051]
["Municipios_81",{"$f":"Listas[[#This Row],[ID]]&\" \"&IF(Listas[[#This Row],[Descripcion]]=\"\",\"\",\"- \"&Listas[[#This Row],[Descripcion]])","v":"220 - Cravo Norte"},"220","Cravo Norte",3052]
["Municipios_81",{"$f":"Listas[[#This Row],[ID]]&\" \"&IF(Listas[[#This Row],[Descripcion]]=\"\",\"\",\"- \"&Listas[[#This Row],[Descripcion]])","v":"300 - Fortul"},"300","Fortul",3053]
["Municipios_81",{"$f":"Listas[[#This Row],[ID]]&\" \"&IF(Listas[[#This Row],[Descripcion]]=\"\",\"\",\"- \"&Listas[[#This Row],[Descripcion]])","v":"591 - Puerto Rondón"},"591","Puerto Rondón",3054]
["Municipios_81",{"$f":"Listas[[#This Row],[ID]]&\" \"&IF(Listas[[#This Row],[Descripcion]]=\"\",\"\",\"- \"&Listas[[#This Row],[Descripcion]])","v":"736 - Saravena"},"736","Saravena",3055]
["Municipios_81",{"$f":"Listas[[#This Row],[ID]]&\" \"&IF(Listas[[#This Row],[Descripcion]]=\"\",\"\",\"- \"&Listas[[#This Row],[Descripcion]])","v":"794 - Tame"},"794","Tame",3056]
["Municipios_85",{"$f":"Listas[[#This Row],[ID]]&\" \"&IF(Listas[[#This Row],[Descripcion]]=\"\",\"\",\"- \"&Listas[[#This Row],[Descripcion]])","v":"010 - Aguazul"},"010","Aguazul",3057]
["Municipios_85",{"$f":"Listas[[#This Row],[ID]]&\" \"&IF(Listas[[#This Row],[Descripcion]]=\"\",\"\",\"- \"&Listas[[#This Row],[Descripcion]])","v":"015 - Chameza"},"015","Chameza",3058]
["Municipios_85",{"$f":"Listas[[#This Row],[ID]]&\" \"&IF(Listas[[#This Row],[Descripcion]]=\"\",\"\",\"- \"&Listas[[#This Row],[Descripcion]])","v":"125 - Hato Corozal"},"125","Hato Corozal",3059]
["Municipios_85",{"$f":"Listas[[#This Row],[ID]]&\" \"&IF(Listas[[#This Row],[Descripcion]]=\"\",\"\",\"- \"&Listas[[#This Row],[Descripcion]])","v":"136 - La Salina"},"136","La Salina",3060]
["Municipios_85",{"$f":"Listas[[#This Row],[ID]]&\" \"&IF(Listas[[#This Row],[Descripcion]]=\"\",\"\",\"- \"&Listas[[#This Row],[Descripcion]])","v":"139 - Maní"},"139","Maní",3061]
["Municipios_85",{"$f":"Listas[[#This Row],[ID]]&\" \"&IF(Listas[[#This Row],[Descripcion]]=\"\",\"\",\"- \"&Listas[[#This Row],[Descripcion]])","v":"162 - Monterrey"},"162","Monterrey",3062]
["Municipios_85",{"$f":"Listas[[#This Row],[ID]]&\" \"&IF(Listas[[#This Row],[Descripcion]]=\"\",\"\",\"- \"&Listas[[#This Row],[Descripcion]])","v":"225 - Nunchía"},"225","Nunchía",3063]
["Municipios_85",{"$f":"Listas[[#This Row],[ID]]&\" \"&IF(Listas[[#This Row],[Descripcion]]=\"\",\"\",\"- \"&Listas[[#This Row],[Descripcion]])","v":"230 - Orocué"},"230","Orocué",3064]
["Municipios_85",{"$f":"Listas[[#This Row],[ID]]&\" \"&IF(Listas[[#This Row],[Descripcion]]=\"\",\"\",\"- \"&Listas[[#This Row],[Descripcion]])","v":"250 - Paz De Ariporo"},"250","Paz De Ariporo",3065]
["Municipios_85",{"$f":"Listas[[#This Row],[ID]]&\" \"&IF(Listas[[#This Row],[Descripcion]]=\"\",\"\",\"- \"&Listas[[#This Row],[Descripcion]])","v":"263 - Pore"},"263","Pore",3066]
["Municipios_85",{"$f":"Listas[[#This Row],[ID]]&\" \"&IF(Listas[[#This Row],[Descripcion]]=\"\",\"\",\"- \"&Listas[[#This Row],[Descripcion]])","v":"279 - Recetor"},"279","Recetor",3067]
["Municipios_85",{"$f":"Listas[[#This Row],[ID]]&\" \"&IF(Listas[[#This Row],[Descripcion]]=\"\",\"\",\"- \"&Listas[[#This Row],[Descripcion]])","v":"300 - Sabanalarga"},"300","Sabanalarga",3068]
["Municipios_85",{"$f":"Listas[[#This Row],[ID]]&\" \"&IF(Listas[[#This Row],[Descripcion]]=\"\",\"\",\"- \"&Listas[[#This Row],[Descripcion]])","v":"315 - Sácama"},"315","Sácama",3069]
["Municipios_85",{"$f":"Listas[[#This Row],[ID]]&\" \"&IF(Listas[[#This Row],[Descripcion]]=\"\",\"\",\"- \"&Listas[[#This Row],[Descripcion]])","v":"325 - San Luis De Palenque"},"325","San Luis De Palenque",3070]
["Municipios_85",{"$f":"Listas[[#This Row],[ID]]&\" \"&IF(Listas[[#This Row],[Descripcion]]=\"\",\"\",\"- \"&Listas[[#This Row],[Descripcion]])","v":"400 - Támara"},"400","Támara",3071]
["Municipios_85",{"$f":"Listas[[#This Row],[ID]]&\" \"&IF(Listas[[#This Row],[Descripcion]]=\"\",\"\",\"- \"&Listas[[#This Row],[Descripcion]])","v":"410 - Tauramena"},"410","Tauramena",3072]
["Municipios_85",{"$f":"Listas[[#This Row],[ID]]&\" \"&IF(Listas[[#This Row],[Descripcion]]=\"\",\"\",\"- \"&Listas[[#This Row],[Descripcion]])","v":"430 - Trinidad"},"430","Trinidad",3073]
["Municipios_85",{"$f":"Listas[[#This Row],[ID]]&\" \"&IF(Listas[[#This Row],[Descripcion]]=\"\",\"\",\"- \"&Listas[[#This Row],[Descripcion]])","v":"440 - Villanueva"},"440","Villanueva",3074]
["Municipios_85",{"$f":"Listas[[#This Row],[ID]]&\" \"&IF(Listas[[#This Row],[Descripcion]]=\"\",\"\",\"- \"&Listas[[#This Row],[Descripcion]])","v":"001 - Yopal"},"001","Yopal",3075]
["Municipios_86",{"$f":"Listas[[#This Row],[ID]]&\" \"&IF(Listas[[#This Row],[Descripcion]]=\"\",\"\",\"- \"&Listas[[#This Row],[Descripcion]])","v":"219 - Colón"},"219","Colón",3076]
["Municipios_86",{"$f":"Listas[[#This Row],[ID]]&\" \"&IF(Listas[[#This Row],[Descripcion]]=\"\",\"\",\"- \"&Listas[[#This Row],[Descripcion]])","v":"001 - Mocoa"},"001","Mocoa",3077]
["Municipios_86",{"$f":"Listas[[#This Row],[ID]]&\" \"&IF(Listas[[#This Row],[Descripcion]]=\"\",\"\",\"- \"&Listas[[#This Row],[Descripcion]])","v":"320 - Orito"},"320","Orito",3078]
["Municipios_86",{"$f":"Listas[[#This Row],[ID]]&\" \"&IF(Listas[[#This Row],[Descripcion]]=\"\",\"\",\"- \"&Listas[[#This Row],[Descripcion]])","v":"568 - Puerto Asis"},"568","Puerto Asis",3079]
["Municipios_86",{"$f":"Listas[[#This Row],[ID]]&\" \"&IF(Listas[[#This Row],[Descripcion]]=\"\",\"\",\"- \"&Listas[[#This Row],[Descripcion]])","v":"569 - Puerto Caicedo"},"569","Puerto Caicedo",3080]
["Municipios_86",{"$f":"Listas[[#This Row],[ID]]&\" \"&IF(Listas[[#This Row],[Descripcion]]=\"\",\"\",\"- \"&Listas[[#This Row],[Descripcion]])","v":"571 - Puerto Guzman"},"571","Puerto Guzman",3081]
["Municipios_86",{"$f":"Listas[[#This Row],[ID]]&\" \"&IF(Listas[[#This Row],[Descripcion]]=\"\",\"\",\"- \"&Listas[[#This Row],[Descripcion]])","v":"573 - Puerto Leguizamo"},"573","Puerto Leguizamo",3082]
["Municipios_86",{"$f":"Listas[[#This Row],[ID]]&\" \"&IF(Listas[[#This Row],[Descripcion]]=\"\",\"\",\"- \"&Listas[[#This Row],[Descripcion]])","v":"755 - San Francisco"},"755","San Francisco",3083]
["Municipios_86",{"$f":"Listas[[#This Row],[ID]]&\" \"&IF(Listas[[#This Row],[Descripcion]]=\"\",\"\",\"- \"&Listas[[#This Row],[Descripcion]])","v":"757 - San Miguel"},"757","San Miguel",3084]
["Municipios_86",{"$f":"Listas[[#This Row],[ID]]&\" \"&IF(Listas[[#This Row],[Descripcion]]=\"\",\"\",\"- \"&Listas[[#This Row],[Descripcion]])","v":"760 - Santiago"},"760","Santiago",3085]
["Municipios_86",{"$f":"Listas[[#This Row],[ID]]&\" \"&IF(Listas[[#This Row],[Descripcion]]=\"\",\"\",\"- \"&Listas[[#This Row],[Descripcion]])","v":"749 - Sibundoy"},"749","Sibundoy",3086]
["Municipios_86",{"$f":"Listas[[#This Row],[ID]]&\" \"&IF(Listas[[#This Row],[Descripcion]]=\"\",\"\",\"- \"&Listas[[#This Row],[Descripcion]])","v":"865 - Valle Del Guamuez"},"865","Valle Del Guamuez",3087]
["Municipios_86",{"$f":"Listas[[#This Row],[ID]]&\" \"&IF(Listas[[#This Row],[Descripcion]]=\"\",\"\",\"- \"&Listas[[#This Row],[Descripcion]])","v":"885 - Villa Garzon"},"885","Villa Garzon",3088]
["Municipios_88",{"$f":"Listas[[#This Row],[ID]]&\" \"&IF(Listas[[#This Row],[Descripcion]]=\"\",\"\",\"- \"&Listas[[#This Row],[Descripcion]])","v":"564 - Providencia Y Santa Catalina"},"564","Providencia Y Santa Catalina",3089]
["Municipios_88",{"$f":"Listas[[#This Row],[ID]]&\" \"&IF(Listas[[#This Row],[Descripcion]]=\"\",\"\",\"- \"&Listas[[#This Row],[Descripcion]])","v":"001 - San Andres"},"001","San Andres",3090]
["Municipios_91",{"$f":"Listas[[#This Row],[ID]]&\" \"&IF(Listas[[#This Row],[Descripcion]]=\"\",\"\",\"- \"&Listas[[#This Row],[Descripcion]])","v":"263 - El Encanto"},"263","El Encanto",3091]
["Municipios_91",{"$f":"Listas[[#This Row],[ID]]&\" \"&IF(Listas[[#This Row],[Descripcion]]=\"\",\"\",\"- \"&Listas[[#This Row],[Descripcion]])","v":"405 - La Chorrera"},"405","La Chorrera",3092]
["Municipios_91",{"$f":"Listas[[#This Row],[ID]]&\" \"&IF(Listas[[#This Row],[Descripcion]]=\"\",\"\",\"- \"&Listas[[#This Row],[Descripcion]])","v":"407 - La Pedrera"},"407","La Pedrera",3093]
["Municipios_91",{"$f":"Listas[[#This Row],[ID]]&\" \"&IF(Listas[[#This Row],[Descripcion]]=\"\",\"\",\"- \"&Listas[[#This Row],[Descripcion]])","v":"430 - La Victoria"},"430","La Victoria",3094]
["Municipios_91",{"$f":"Listas[[#This Row],[ID]]&\" \"&IF(Listas[[#This Row],[Descripcion]]=\"\",\"\",\"- \"&Listas[[#This Row],[Descripcion]])","v":"001 - Leticia"},"001","Leticia",3095]
["Municipios_91",{"$f":"Listas[[#This Row],[ID]]&\" \"&IF(Listas[[#This Row],[Descripcion]]=\"\",\"\",\"- \"&Listas[[#This Row],[Descripcion]])","v":"460 - Miriti - Paraná"},"460","Miriti - Paraná",3096]
["Municipios_91",{"$f":"Listas[[#This Row],[ID]]&\" \"&IF(Listas[[#This Row],[Descripcion]]=\"\",\"\",\"- \"&Listas[[#This Row],[Descripcion]])","v":"530 - Puerto Alegria"},"530","Puerto Alegria",3097]
["Municipios_91",{"$f":"Listas[[#This Row],[ID]]&\" \"&IF(Listas[[#This Row],[Descripcion]]=\"\",\"\",\"- \"&Listas[[#This Row],[Descripcion]])","v":"536 - Puerto Arica"},"536","Puerto Arica",3098]
["Municipios_91",{"$f":"Listas[[#This Row],[ID]]&\" \"&IF(Listas[[#This Row],[Descripcion]]=\"\",\"\",\"- \"&Listas[[#This Row],[Descripcion]])","v":"540 - Puerto Nariño"},"540","Puerto Nariño",3099]
["Municipios_91",{"$f":"Listas[[#This Row],[ID]]&\" \"&IF(Listas[[#This Row],[Descripcion]]=\"\",\"\",\"- \"&Listas[[#This Row],[Descripcion]])","v":"669 - Puerto Santander"},"669","Puerto Santander",3100]
["Municipios_91",{"$f":"Listas[[#This Row],[ID]]&\" \"&IF(Listas[[#This Row],[Descripcion]]=\"\",\"\",\"- \"&Listas[[#This Row],[Descripcion]])","v":"798 - Tarapacá"},"798","Tarapacá",3101]
["Municipios_94",{"$f":"Listas[[#This Row],[ID]]&\" \"&IF(Listas[[#This Row],[Descripcion]]=\"\",\"\",\"- \"&Listas[[#This Row],[Descripcion]])","v":"343 - Barranco Mina"},"343","Barranco Mina",3102]
["Municipios_94",{"$f":"Listas[[#This Row],[ID]]&\" \"&IF(Listas[[#This Row],[Descripcion]]=\"\",\"\",\"- \"&Listas[[#This Row],[Descripcion]])","v":"001 - Inírida"},"001","Inírida",3103]
["Municipios_94",{"$f":"Listas[[#This Row],[ID]]&\" \"&IF(Listas[[#This Row],[Descripcion]]=\"\",\"\",\"- \"&Listas[[#This Row],[Descripcion]])","v":"663 - Mapiripan"},"663","Mapiripan",3104]
["Municipios_95",{"$f":"Listas[[#This Row],[ID]]&\" \"&IF(Listas[[#This Row],[Descripcion]]=\"\",\"\",\"- \"&Listas[[#This Row],[Descripcion]])","v":"015 - Calamar"},"015","Calamar",3105]
["Municipios_95",{"$f":"Listas[[#This Row],[ID]]&\" \"&IF(Listas[[#This Row],[Descripcion]]=\"\",\"\",\"- \"&Listas[[#This Row],[Descripcion]])","v":"025 - El Retorno"},"025","El Retorno",3106]
["Municipios_95",{"$f":"Listas[[#This Row],[ID]]&\" \"&IF(Listas[[#This Row],[Descripcion]]=\"\",\"\",\"- \"&Listas[[#This Row],[Descripcion]])","v":"200 - Miraflores"},"200","Miraflores",3107]
["Municipios_95",{"$f":"Listas[[#This Row],[ID]]&\" \"&IF(Listas[[#This Row],[Descripcion]]=\"\",\"\",\"- \"&Listas[[#This Row],[Descripcion]])","v":"001 - San José Del Guaviare"},"001","San José Del Guaviare",3108]
["Municipios_97",{"$f":"Listas[[#This Row],[ID]]&\" \"&IF(Listas[[#This Row],[Descripcion]]=\"\",\"\",\"- \"&Listas[[#This Row],[Descripcion]])","v":"161 - Caruru"},"161","Caruru",3109]
["Municipios_97",{"$f":"Listas[[#This Row],[ID]]&\" \"&IF(Listas[[#This Row],[Descripcion]]=\"\",\"\",\"- \"&Listas[[#This Row],[Descripcion]])","v":"001 - Mitú"},"001","Mitú",3110]
["Municipios_97",{"$f":"Listas[[#This Row],[ID]]&\" \"&IF(Listas[[#This Row],[Descripcion]]=\"\",\"\",\"- \"&Listas[[#This Row],[Descripcion]])","v":"666 - Taraira"},"666","Taraira",3111]
["Municipios_99",{"$f":"Listas[[#This Row],[ID]]&\" \"&IF(Listas[[#This Row],[Descripcion]]=\"\",\"\",\"- \"&Listas[[#This Row],[Descripcion]])","v":"773 - Cumaribo"},"773","Cumaribo",3112]
["Municipios_99",{"$f":"Listas[[#This Row],[ID]]&\" \"&IF(Listas[[#This Row],[Descripcion]]=\"\",\"\",\"- \"&Listas[[#This Row],[Descripcion]])","v":"524 - La Primavera"},"524","La Primavera",3113]
["Municipios_99",{"$f":"Listas[[#This Row],[ID]]&\" \"&IF(Listas[[#This Row],[Descripcion]]=\"\",\"\",\"- \"&Listas[[#This Row],[Descripcion]])","v":"001 - Puerto Carreño"},"001","Puerto Carreño",3114]
["Municipios_99",{"$f":"Listas[[#This Row],[ID]]&\" \"&IF(Listas[[#This Row],[Descripcion]]=\"\",\"\",\"- \"&Listas[[#This Row],[Descripcion]])","v":"624 - Santa Rosalía"},"624","Santa Rosalía",3115]
["SubTipoFide_1",{"$f":"Listas[[#This Row],[ID]]&\" \"&IF(Listas[[#This Row],[Descripcion]]=\"\",\"\",\"- \"&Listas[[#This Row],[Descripcion]])","v":"0101 - Fideicomisos de Inversion con destinacion especifica"},"0101","Fideicomisos de Inversion con destinacion especifica",3116]
["SubTipoFide_1",{"$f":"Listas[[#This Row],[ID]]&\" \"&IF(Listas[[#This Row],[Descripcion]]=\"\",\"\",\"- \"&Listas[[#This Row],[Descripcion]])","v":"0102 - Administracion de Inversiones de Fondos Mutuos de Inversion"},"0102","Administracion de Inversiones de Fondos Mutuos de Inversion",3117]
["SubTipoFide_1",{"$f":"Listas[[#This Row],[ID]]&\" \"&IF(Listas[[#This Row],[Descripcion]]=\"\",\"\",\"- \"&Listas[[#This Row],[Descripcion]])","v":"0103 - Inversión de capitales del exterior de portafolio"},"0103","Inversión de capitales del exterior de portafolio",3118]
["SubTipoFide_1",{"$f":"Listas[[#This Row],[ID]]&\" \"&IF(Listas[[#This Row],[Descripcion]]=\"\",\"\",\"- \"&Listas[[#This Row],[Descripcion]])","v":"0104 - Inversión de capitales del exterior directa"},"0104","Inversión de capitales del exterior directa",3119]
["SubTipoFide_2",{"$f":"Listas[[#This Row],[ID]]&\" \"&IF(Listas[[#This Row],[Descripcion]]=\"\",\"\",\"- \"&Listas[[#This Row],[Descripcion]])","v":"0201 - Administracion y Pagos"},"0201","Administracion y Pagos",3120]
["SubTipoFide_2",{"$f":"Listas[[#This Row],[ID]]&\" \"&IF(Listas[[#This Row],[Descripcion]]=\"\",\"\",\"- \"&Listas[[#This Row],[Descripcion]])","v":"0202 - Tesoreria"},"0202","Tesoreria",3121]
["SubTipoFide_2",{"$f":"Listas[[#This Row],[ID]]&\" \"&IF(Listas[[#This Row],[Descripcion]]=\"\",\"\",\"- \"&Listas[[#This Row],[Descripcion]])","v":"0203 - Preventas"},"0203","Preventas",3122]
["SubTipoFide_3",{"$f":"Listas[[#This Row],[ID]]&\" \"&IF(Listas[[#This Row],[Descripcion]]=\"\",\"\",\"- \"&Listas[[#This Row],[Descripcion]])","v":"0301 - Administracion y Pagos"},"0301","Administracion y Pagos",3123]
["SubTipoFide_3",{"$f":"Listas[[#This Row],[ID]]&\" \"&IF(Listas[[#This Row],[Descripcion]]=\"\",\"\",\"- \"&Listas[[#This Row],[Descripcion]])","v":"0302 - Administracion de Procesos de Titularizacion"},"0302","Administracion de Procesos de Titularizacion",3124]
["SubTipoFide_3",{"$f":"Listas[[#This Row],[ID]]&\" \"&IF(Listas[[#This Row],[Descripcion]]=\"\",\"\",\"- \"&Listas[[#This Row],[Descripcion]])","v":"0303 - Administracion de Cartera"},"0303","Administracion de Cartera",3125]
["SubTipoFide_3",{"$f":"Listas[[#This Row],[ID]]&\" \"&IF(Listas[[#This Row],[Descripcion]]=\"\",\"\",\"- \"&Listas[[#This Row],[Descripcion]])","v":"0304 - Administracion de Procesos Concursales"},"0304","Administracion de Procesos Concursales",3126]
["SubTipoFide_4",{"$f":"Listas[[#This Row],[ID]]&\" \"&IF(Listas[[#This Row],[Descripcion]]=\"\",\"\",\"- \"&Listas[[#This Row],[Descripcion]])","v":"0401 - Fiducia en Garantia"},"0401","Fiducia en Garantia",3127]
["SubTipoFide_4",{"$f":"Listas[[#This Row],[ID]]&\" \"&IF(Listas[[#This Row],[Descripcion]]=\"\",\"\",\"- \"&Listas[[#This Row],[Descripcion]])","v":"0402 - Fiducia en Garantia y Fuente de Pagos"},"0402","Fiducia en Garantia y Fuente de Pagos",3128]
["SubTipoFide_6",{"$f":"Listas[[#This Row],[ID]]&\" \"&IF(Listas[[#This Row],[Descripcion]]=\"\",\"\",\"- \"&Listas[[#This Row],[Descripcion]])","v":"0603 - Pasivos Pensionales"},"0603","Pasivos Pensionales",3129]
["SubTipoFide_6",{"$f":"Listas[[#This Row],[ID]]&\" \"&IF(Listas[[#This Row],[Descripcion]]=\"\",\"\",\"- \"&Listas[[#This Row],[Descripcion]])","v":"0604 - Recursos de la Seguridad Social"},"0604","Recursos de la Seguridad Social",3130]
["Conceptos_5248_1",{"$f":"Listas[[#This Row],[ID]]&\" \"&IF(Listas[[#This Row],[Descripcion]]=\"\",\"\",\"- \"&Listas[[#This Row],[Descripcion]])","v":"4040 - Mandato y/o Administración delegada"},"4040","Mandato y/o Administración delegada",3131]
["Conceptos_5248_1",{"$f":"Listas[[#This Row],[ID]]&\" \"&IF(Listas[[#This Row],[Descripcion]]=\"\",\"\",\"- \"&Listas[[#This Row],[Descripcion]])","v":"4090 - Valor RTE FTE trasladada  participante contrato colaboración"},"4090","Valor RTE FTE trasladada  participante contrato colaboración",3132]
["Conceptos_5248_2",{"$f":"Listas[[#This Row],[ID]]&\" \"&IF(Listas[[#This Row],[Descripcion]]=\"\",\"\",\"- \"&Listas[[#This Row],[Descripcion]])","v":"4010 - Consorcio y/o Union Temporal"},"4010","Consorcio y/o Union Temporal",3133]
["Conceptos_5248_2",{"$f":"Listas[[#This Row],[ID]]&\" \"&IF(Listas[[#This Row],[Descripcion]]=\"\",\"\",\"- \"&Listas[[#This Row],[Descripcion]])","v":"4090 - Valor RTE FTE trasladada  participante contrato colaboración"},"4090","Valor RTE FTE trasladada  participante contrato colaboración",3134]
["Conceptos_5248_3",{"$f":"Listas[[#This Row],[ID]]&\" \"&IF(Listas[[#This Row],[Descripcion]]=\"\",\"\",\"- \"&Listas[[#This Row],[Descripcion]])","v":"4050 - Exploración y Explotación de hidrocarburos, gases y minerales"},"4050","Exploración y Explotación de hidrocarburos, gases y minerales",3135]
["Conceptos_5248_3",{"$f":"Listas[[#This Row],[ID]]&\" \"&IF(Listas[[#This Row],[Descripcion]]=\"\",\"\",\"- \"&Listas[[#This Row],[Descripcion]])","v":"4090 - Valor RTE FTE trasladada  participante contrato colaboración"},"4090","Valor RTE FTE trasladada  participante contrato colaboración",3136]
["Conceptos_5248_4",{"$f":"Listas[[#This Row],[ID]]&\" \"&IF(Listas[[#This Row],[Descripcion]]=\"\",\"\",\"- \"&Listas[[#This Row],[Descripcion]])","v":"4060 - Joint Venture"},"4060","Joint Venture",3137]
["Conceptos_5248_4",{"$f":"Listas[[#This Row],[ID]]&\" \"&IF(Listas[[#This Row],[Descripcion]]=\"\",\"\",\"- \"&Listas[[#This Row],[Descripcion]])","v":"4090 - Valor RTE FTE trasladada  participante contrato colaboración"},"4090","Valor RTE FTE trasladada  participante contrato colaboración",3138]
["Conceptos_5248_5",{"$f":"Listas[[#This Row],[ID]]&\" \"&IF(Listas[[#This Row],[Descripcion]]=\"\",\"\",\"- \"&Listas[[#This Row],[Descripcion]])","v":"4030 - Cuentas en participación"},"4030","Cuentas en participación",3139]
["Conceptos_5248_5",{"$f":"Listas[[#This Row],[ID]]&\" \"&IF(Listas[[#This Row],[Descripcion]]=\"\",\"\",\"- \"&Listas[[#This Row],[Descripcion]])","v":"4090 - Valor RTE FTE trasladada  participante contrato colaboración"},"4090","Valor RTE FTE trasladada  participante contrato colaboración",3140]
["Conceptos_5248_6",{"$f":"Listas[[#This Row],[ID]]&\" \"&IF(Listas[[#This Row],[Descripcion]]=\"\",\"\",\"- \"&Listas[[#This Row],[Descripcion]])","v":"4080 - Convenios de cooperación con entidades públicas"},"4080","Convenios de cooperación con entidades públicas",3141]
["Conceptos_5248_6",{"$f":"Listas[[#This Row],[ID]]&\" \"&IF(Listas[[#This Row],[Descripcion]]=\"\",\"\",\"- \"&Listas[[#This Row],[Descripcion]])","v":"4090 - Valor RTE FTE trasladada  participante contrato colaboración"},"4090","Valor RTE FTE trasladada  participante contrato colaboración",3142]

{"sheet":"Tabla_Formatos_x_Informante","index":9,"n_rows":6,"n_cols":18,"rows_kept":6,"hidden":true}
["Nombre del formato","Número","Versión","¿Cambió la versión para el reporte de este año?","Información que debe reportarse en cada formato","Corte con que se debe elaborar el formato","Artículos de la Resolución  000124 que mencionan la exigencia de los reportes","Artículos del Estatuto Tributario que son la base para solicitar la información","Prevalidador que contiene a dicho formato","Persona o entidad informante","Listado","Formato","raiz","sum","CasNIT","CasNitSec","Llave","Hijos"]
["Descuentos Tributarios Solicitados","1004",8,"No","Se deberá suministrar la información de los terceros y los valores que dieron lugar a la solicitud de descuentos tributarios en la declaración de renta o en la declaración anual consolidada del Régimen Simple del año gravable.","Anual","Artículos 1 y Numeral 26.1 del artículo 26","Literal d) y k) del 631","Prevalidador de Informantes Tributarios","Informantes tributarios",{"$f":"Tabla_Formatos_x_Informante[[#This Row],[Número]]&\" - \"&Tabla_Formatos_x_Informante[[#This Row],[Nombre del formato]]","v":"1004 - Descuentos Tributarios Solicitados"},"F1004","descuentos","tdoc",4,null,"1|2|3"]
["Impuesto a las Ventas por Pagar (Descontable)","1005",7,"No","Se debe reportar el valor del impuesto sobre las ventas - IVA descontable y el valor del impuesto sobre las ventas - IVA resultante por devoluciones en ventas anuladas, rescindidas o resueltas, correspondientes al año gravable, indicando los apellidos y nombres o razón social e identificación de cada uno de los terceros.","Anual","Numeral 20.1 del artículo 20","Literales e) y f) del 631 y 631-3","Prevalidador de Informantes Tributarios","Informantes tributarios",{"$f":"Tabla_Formatos_x_Informante[[#This Row],[Número]]&\" - \"&Tabla_Formatos_x_Informante[[#This Row],[Nombre del formato]]","v":"1005 - Impuesto a las Ventas por Pagar (Descontable)"},"F1005","impventas","tdoc","3",null,"1|2"]
["Impuesto a las Ventas por Pagar (Generado) e Impuesto al Consumo","1006",8,"No","Se debe reportar el valor del impuesto sobre las ventas - IVA generado y/o el impuesto nacional al consumo y el valor del impuesto sobre las ventas - IVA recuperado en devoluciones en compras anuladas, rescindidas o resueltas, correspondientes al año gravable, se debe reportar indicando los apellidos y nombres o razón social e identificación de cada uno de los terceros.","Anual","Artículos 1 y 19","Literal f) del 631","Prevalidador de Informantes Tributarios","Informantes tributarios",{"$f":"Tabla_Formatos_x_Informante[[#This Row],[Número]]&\" - \"&Tabla_Formatos_x_Informante[[#This Row],[Nombre del formato]]","v":"1006 - Impuesto a las Ventas por Pagar (Generado) e Impuesto al Consumo"},"F1006","impoventas","tdoc","3",null,"1|2"]
["Ingresos Recibidos para Terceros","1647",2,"No","Se deberán reportar apellidos y nombres o razón social, identificación y país de residencia o domicilio de cada una de las personas o entidades nacionales o extranjeras, de quienes se recibieron ingresos para terceros y los apellidos y nombres o razón social, identificación, dirección y país de residencia o domicilio de cada una de las personas o entidades nacionales o extranjeras del tercero para quien se recibió el ingreso, indicando el valor total de la operación, el valor de los ingresos reintegrados, transferidos o distribuidos al tercero y el valor de la retención en la fuente transferida o distribuida al tercero, con el concepto 4070.\n\nEl valor mínimo a reportar corresponderá al valor anual acumulado de los ingresos recibidos para terceros, reintegrados, transferidos o distribuidos a cada beneficiario cuando la cuantía sea superior a un millón de pesos ($1.000.000).\n\nPara los ingresos obtenidos de entidades o sociedades del exterior, al reportar el número de identificación se debe diligenciar con el número, código o clave de identificación, tal como figura en el registro fiscal tributario del país de residencia o domicilio y tipo de documento 42. Cuando en dicho país no se utilice número, código o clave fiscal, se debe informar con identificación 444444001 en forma ascendente, variando consecutivamente en una unidad hasta el 444449999 y con tipo de documento 43.","Anual","Artículo 24","Literal g) del 631","Prevalidador de Informantes Tributarios","Informantes tributarios",{"$f":"Tabla_Formatos_x_Informante[[#This Row],[Número]]&\" - \"&Tabla_Formatos_x_Informante[[#This Row],[Nombre del formato]]","v":"1647 - Ingresos Recibidos para Terceros"},"F1647","ingresos","vtotal",4,16,"1|2|3|14|15"]
["Pagos o abonos en cuenta y retenciones practicadas en contratos de colaboración empresarial","5247",1,"No","Se debe reportar el valor total de las operaciones realizadas durante el año gravable inherentes a las actividades ejecutadas en desarrollo de cada uno de los contratos de colaboración, tales como, consorcios o uniones temporales, contratos de mandato o administración delegada, contratos de exploración y explotación de hidrocarburos, gases y minerales, joint venture, cuentas en participación y convenios de cooperación con entidades públicas.","Anual","Artículo 27","Literales b), e), f), h) e i) del 631","Prevalidador de CCE - Contratos, Consorcios y Exploración","Contratos de cooperación empresarial",{"$f":"Tabla_Formatos_x_Informante[[#This Row],[Número]]&\" - \"&Tabla_Formatos_x_Informante[[#This Row],[Nombre del formato]]","v":"5247 - Pagos o abonos en cuenta y retenciones practicadas en contratos de colaboración empresarial"},"F5247","pagos","cpt",5,null,"1|2|3|4|21|22"]