{"text_format":"3","workbook":"xlsx","n_sheets":5,"sheets":["Listas","Campos_Ingreso_Datos","Comentarios","Desarrollador"," "],"not_rendered":{"images":83,"macros":1,"defined_names":25},"read":"whole","date_system":"1900"}

{"sheet":"Listas","index":0,"n_rows":608,"n_cols":17,"rows_kept":608,"hidden":true}
[]
[null,"Permanente","Sí","Individual",null,{"v":0.33,"d":"33%"},null,"Lineal",{"$nulls":8},"General"]
[null,"Temporaria","No","General",null,{"v":0.05,"d":"5%"},null,"Decreciente",null,null,"CONCEPTOS DE BIENES A DEPRECIAR","TASA DE DEPRECIACIÓN FISCAL ANUAL %",{"$nulls":4},"Detallada"]
[{"$nulls":5},{"v":0.1,"d":"10%"},null,"Basado en el uso",null,null,"Construcciones y Edificaciones",{"v":0.0222,"d":"2.22%"}]
[null,null,"Seleccione la opción de aplica a la empresa/sociedad",null,null,{"v":0.15,"d":"15%"},{"$nulls":4},"Acueducto, Plantas y Redes",{"v":0.025,"d":"2.50%"},{"$nulls":4},"Tasa amortización"]
[null,"Artículo 240 del ET ","Comercial   ",{"v":0.35,"d":"35%"},{"$nulls":6},"Vías de Comunicación",{"v":0.025,"d":"2.50%"},{"$nulls":4},"Vida útil"]
[null,"Artículo 240 del ET ","De Servicios",{"v":0.35,"d":"35%"},null,{"v":0.35,"d":"35%"},{"$nulls":4},"Flota y Equipo Aéreo",{"v":0.0333,"d":"3.33%"}]
[null,"Artículo 19-4 del ET ","Cooperativa",{"v":0.2,"d":"20%"},null,{"v":0.33,"d":"33%"},null,0,null,null,"Flota y Equipo Férreo",{"v":0.05,"d":"5.00%"}]
[null,"Artículo 268 de la Ley 1955 de 2019","Sociedad constituida en la ZESE - Dentro de los primeros 5 años de operaciones",{"v":0,"d":"0%"},null,{"v":0.285,"d":"28.5%"},null,1,null,null,"Flota y Equipo Fluvial",{"v":0.0667,"d":"6.67%"}]
[null,"Artículo 268 de la Ley 1955 de 2019","Sociedad constituida en la ZESE - Dentro del 6 y 10 año de operaciones",{"$f":"35%*50%","v":{"v":0.175,"d":"17.5%"}},null,{"v":0.27,"d":"27%"},null,2,null,null,"Armamento y Equipo de Vigilancia",{"v":0.1,"d":"10.00%"}]
[null,"Par. 1 Artículo 240-1 del ET ","Usuario de Zonas Francas comerciales",{"v":0.35,"d":"35%"},null,{"v":0.2625,"d":"26.25%"},null,3,null,null,"Equipo Eléctrico",{"v":0.1,"d":"10.00%"}]
[null,"Inciso 1 Artículo 240-1 del ET","Usuario de Zonas Francas no comerciales",{"v":0.2,"d":"20%"},null,{"v":0.22,"d":"22%"},null,4,null,null,"Flota y Equipo de Transporte Terrestre",{"v":0.1,"d":"10.00%"}]
[null,"Par. 4 Artículo 240-1 del ET ","Usuario de nuevas zonas francas de Cúcuta creadas entre enero de 2017 y diciembre de 2019",{"v":0.15,"d":"15%"},null,{"v":0.2,"d":"20%"},null,5,null,null,"Maquinaria, Equipos ",{"v":0.1,"d":"10.00%"},{"$nulls":4},"https://www.youtube.com/watch?v=NkNEkuWvq78"]
[null,"Artículo 356 del ET","Régimen Tributario Especial",{"v":0.2,"d":"20%"},null,{"v":0.175,"d":"17.5%"},null,6,null,null,"Muebles y Enseres",{"v":0.1,"d":"10.00%"}]
[null,"Parágrafo 1 artículo 240 del ET ","Servicios hoteleros prestados en nuevos hoteles construidos entre el 1 de enero de 2033 y el 31 de diciembre de 2017",{"v":0.09,"d":"9%"},null,{"v":0.155,"d":"15.5%"},null,7,null,null,"Equipo Médico Científico",{"v":0.125,"d":"12.50%"}]
[null,"Parágrafo 1 artículo 240 del ET ","Servicios hoteleros prestados en nuevos hoteles remodelados y/o ampliados entre el 1 de enero de 2033 y el 31 de diciembre de 2017",{"v":0.09,"d":"9%"},null,{"v":0.15,"d":"15%"},null,8,null,null,"Envases, Empaques y Herramientas",{"v":0.2,"d":"20.00%"}]
[null,"Parágrafo 1 artículo 240 del ET ","Servicios de ecoturismo ",{"v":0.09,"d":"9%"},null,{"v":0.09,"d":"9%"},null,9,null,null,"Equipo de Computación",{"v":0.2,"d":"20.00%"}]
[null,"Parágrafo 2 artículo 240 del ET ","Empresa industrial y comercial el Estado ",{"v":0.09,"d":"9%"},null,{"v":0.0875,"d":"8.75%"},{"$nulls":4},"Redes de Procesamientos de Datos",{"v":0.2,"d":"20.00%"}]
[null,"Parágrafo 2 artículo 240 del ET ","Sociedad de economía mixta del orden nacional, departamental, municipal y distrital, en las cuales la participación del Estado sea superior del 90% que ejerzan los monopolios de suerte y azar y de licores y alcoholes.",{"v":0.09,"d":"9%"},null,{"v":0.02,"d":"2%"},{"$nulls":4},"Equipos de Comunicación",{"v":0.2,"d":"20.00%"}]
[null,"Artículo 237 de la Ley 1819 de 2016","Micro y pequeñas empresas que inicien actividades en las ZOMAC por el año 2022 (25% de la tarifa general)",{"$f":"35%*25%","v":{"v":0.0875,"d":"8.75%"}},null,{"v":0,"d":"0%"}]
[null,"Artículo 237 de la Ley 1819 de 2016","Medianas y grandes empresas que inicien actividades en las ZOMAC por el año 2022 (75% de la tarifa general)",{"$f":"35%*75%","v":{"v":0.26249999999999996,"d":"26.25%"}}]
[null,"Parágrafo 4 artículo 240 del ET ","Empresa editorial",{"v":0.09,"d":"9%"}]
[null,"Literal a del parágrafo 5 del artículo 240 del ET","Servicios prestados en nuevos hoteles construidos o que se construyan en municipios de hasta doscientos mil habitantes",{"v":0.09,"d":"9%"}]
[null,"Literal b del parágrafo 5 del artículo 240 del ET","Servicios prestados en hoteles que se remodelen y/o amplien en municipios de hasta doscientos mil habitantes",{"v":0.09,"d":"9%"}]
[null,"Literal c del parágrafo 5 del artículo 240 del ET","Servicios prestados en nuevos hoteles que se construyan en municipios de Igual o superior a doscientos mil habitantes",{"v":0.09,"d":"9%"}]
[null,"Literal d del parágrafo 5 del artículo 240 del ET","Servicios prestados en hoteles que se remodelen y/o amplien en municipios con población igual o superior a doscientos mil habitantes, siempre y cuando el valor de la remodelación y/o ampliación no sea inferior al 50% del valor de la adquisición del inmueble remodelado y/o ampliado",{"v":0.09,"d":"9%"}]
[null,"Literal f del parágrafo 5 del artículo 240 del ET","Desarrollo de nuevos proyectos de parques temáticos, nuevos proyectos de parques de ecoturismo y agroturismo y nuevos muelles náuticos que se construyan en municipios de hasta doscientos mil habitantes",{"v":0.09,"d":"9%"}]
[null,"Literal g del parágrafo 5 del artículo 240 del ET","Desarrollo de nuevos proyectos de parques temáticos, nuevos proyectos de parques de ecoturismo y agroturismo y nuevos muelles náuticos que se construyan en municipios de Igual o superior a doscientos mil habitantes",{"v":0.09,"d":"9%"}]
[null,"Literal h del parágrafo 5 del artículo 240 del ET","Servicios prestados en parques temáticos, que se remodelen y/o amplíen entre el 31 de diciembre de 2020 y el 31 de diciembre de 2016, siempre y cuando el valor de la remodelación y/o ampliación no sea inferior al 30% de sus activos",{"v":0.09,"d":"9%"}]
[null,"Literal j del parágrafo 5 del artículo 240 del ET","Servicios de cuidados, alimentación, enfermería, alojamiento, fisioterapia recuperación y demás servicios asistenciales prestados en centros de asistencia para turista adulto mayor, que hayan iniciado operaciones entre los años 2020 y 2026 o en estos plazos acrediten un avance de obra de por lo menos el 51% del proyecto, e inicien operaciones a más tardar el 31 de diciembre de 2026",{"v":0.09,"d":"9%"}]
[null,"Literal k del parágrafo 5 del artículo 240 del ET","Servicios de cuidados, alimentación, enfermería, alojamiento, fisioterapia, recuperación y demás servicios asistenciales prestados en centros de asistencia para turista adulto mayor, que hayan iniciado operaciones antes del 1 de enero de 2020, siempre y cuando acrediten haber realizado remodelaciones y/a ampliaciones durante los años gravables 2020 a 2026 y que el valor de la remodelación y/o ampliación no sea inferior al 50% del valor de adquisición del inmueble remodelado y/o ampliado",{"v":0.09,"d":"9%"}]
[null,"Parágrafo 8 artículo 240 del ET ","Servicios de transporte marítimo internacional, que realicen naves o artefactos navales inscritos en el registro colombiano ",{"v":0.02,"d":"2%"}]
[null,"Artículo 235-3 del ET ","Mega inversiones en actividades comerciales, industriales y/o de servicios",{"v":0.27,"d":"27%"}]
[null,"Artículo 235-3 del ET ","Mega inversiones en servicios hoteleros ",{"v":0.09,"d":"9%"}]
[null,null,"Otras actividades no especificadas anteriormente a las cuales les aplica la tarifa general del impuesto de renta ",{"v":0.35,"d":"35%"}]
{"$rows_empty":10}
[null,"Código","Descripción Actividades Economicas","Código"]
[null,"0111"," - Cultivo de cereales (excepto arroz), legumbres y semillas oleaginosas.",{"$f":"+CONCATENATE(B47,C47)","v":"0111 - Cultivo de cereales (excepto arroz), legumbres y semillas oleaginosas."}]
[null,"0112"," - Cultivo de arroz.",{"$f":"+CONCATENATE(B48,C48)","v":"0112 - Cultivo de arroz."}]
[null,"0113"," - Cultivo de hortalizas, raíces y tubérculos.","0113 - Cultivo de hortalizas, raíces y tubérculos."]
[null,"0114"," - Cultivo de tabaco.","0114 - Cultivo de tabaco."]
[null,"0115"," - Cultivo de plantas textiles.","0115 - Cultivo de plantas textiles."]
[null,"0119"," - Otros cultivos transitorios n.c.p.","0119 - Otros cultivos transitorios n.c.p."]
[null,"0121"," - Cultivo de frutas tropicales y subtropicales.","0121 - Cultivo de frutas tropicales y subtropicales."]
[null,"0122"," - Cultivo de plátano y banano.","0122 - Cultivo de plátano y banano."]
[null,"0123"," - Cultivo de café.","0123 - Cultivo de café."]
[null,"0124"," - Cultivo de caña de azúcar.","0124 - Cultivo de caña de azúcar."]
[null,"0125"," - Cultivo de flor de corte.","0125 - Cultivo de flor de corte."]
[null,"0126"," - Cultivo de palma para aceite (palma africana) y otros frutos oleaginosos.","0126 - Cultivo de palma para aceite (palma africana) y otros frutos oleaginosos."]
[null,"0127"," - Cultivo de plantas con las que se preparan bebidas.","0127 - Cultivo de plantas con las que se preparan bebidas."]
[null,"0128"," - Cultivo de especias y de plantas aromáticas y medicinales.","0128 - Cultivo de especias y de plantas aromáticas y medicinales."]
[null,"0129"," - Otros cultivos permanentes n.c.p.","0129 - Otros cultivos permanentes n.c.p."]
[null,"0130"," - Propagación de plantas (actividades de los viveros, excepto viveros forestales).","0130 - Propagación de plantas (actividades de los viveros, excepto viveros forestales)."]
[null,"0141"," - Cría de ganado bovino y bufalino.","0141 - Cría de ganado bovino y bufalino."]
[null,"0142"," - Cría de caballos y otros equinos.","0142 - Cría de caballos y otros equinos."]
[null,"0143"," - Cría de ovejas y cabras.","0143 - Cría de ovejas y cabras."]
[null,"0144"," - Cría de ganado porcino.","0144 - Cría de ganado porcino."]
[null,"0145"," - Cría de aves de corral.","0145 - Cría de aves de corral."]
[null,"0149"," - Cría de otros animales n.c.p.","0149 - Cría de otros animales n.c.p."]
[null,"0150"," - Explotación mixta (agrícola y pecuaria).","0150 - Explotación mixta (agrícola y pecuaria)."]
[null,"0161"," - Actividades de apoyo a la agricultura.","0161 - Actividades de apoyo a la agricultura."]
[null,"0162"," - Actividades de apoyo a la ganadería.","0162 - Actividades de apoyo a la ganadería."]
[null,"0163"," - Actividades posteriores a la cosecha.","0163 - Actividades posteriores a la cosecha."]
[null,"0164"," - Tratamiento de semillas para propagación.","0164 - Tratamiento de semillas para propagación."]
[null,"0170"," - Caza ordinaria y mediante trampas y actividades de servicios conexas.","0170 - Caza ordinaria y mediante trampas y actividades de servicios conexas."]
[null,"0210"," - Silvicultura y otras actividades forestales.","0210 - Silvicultura y otras actividades forestales."]
[null,"0220"," - Extracción de madera.","0220 - Extracción de madera."]
[null,"0230"," - Recolección de productos forestales diferentes a la madera.","0230 - Recolección de productos forestales diferentes a la madera."]
[null,"0240"," - Servicios de apoyo a la silvicultura.","0240 - Servicios de apoyo a la silvicultura."]
[null,"0311"," - Pesca marítima.","0311 - Pesca marítima."]
[null,"0312"," - Pesca de agua dulce.","0312 - Pesca de agua dulce."]
[null,"0321"," - Acuicultura marítima.","0321 - Acuicultura marítima."]
[null,"0322"," - Acuicultura de agua dulce.","0322 - Acuicultura de agua dulce."]
[null,"0510"," - Extracción de hulla (carbón de piedra).","0510 - Extracción de hulla (carbón de piedra)."]
[null,"0520"," - Extracción de carbón lignito.","0520 - Extracción de carbón lignito."]
[null,"0610"," - Extracción de petróleo crudo.","0610 - Extracción de petróleo crudo."]
[null,"0620"," - Extracción de gas natural.","0620 - Extracción de gas natural."]
[null,"0710"," - Extracción de minerales de hierro.","0710 - Extracción de minerales de hierro."]
[null,"0721"," - Extracción de minerales de uranio y de torio.","0721 - Extracción de minerales de uranio y de torio."]
[null,"0722"," - Extracción de oro y otros metales preciosos.","0722 - Extracción de oro y otros metales preciosos."]
[null,"0723"," - Extracción de minerales de níquel.","0723 - Extracción de minerales de níquel."]
[null,"0729"," - Extracción de otros minerales metalíferos no ferrosos n.c.p.","0729 - Extracción de otros minerales metalíferos no ferrosos n.c.p."]
[null,"0811"," - Extracción de piedra, arena, arcillas comunes, yeso y anhidrita.","0811 - Extracción de piedra, arena, arcillas comunes, yeso y anhidrita."]
[null,"0812"," - Extracción de arcillas de uso industrial, caliza, caolín y bentonitas.","0812 - Extracción de arcillas de uso industrial, caliza, caolín y bentonitas."]
[null,"0820"," - Extracción de esmeraldas, piedras preciosas y semipreciosas.","0820 - Extracción de esmeraldas, piedras preciosas y semipreciosas."]
[null,"0891"," - Extracción de minerales para la fabricación de abonos y productos químicos.","0891 - Extracción de minerales para la fabricación de abonos y productos químicos."]
[null,"0892"," - Extracción de halita (sal).","0892 - Extracción de halita (sal)."]
[null,"0899"," - Extracción de otros minerales no metálicos n.c.p.","0899 - Extracción de otros minerales no metálicos n.c.p."]
[null,"0910"," - Actividades de apoyo para la extracción de petróleo y de gas natural.","0910 - Actividades de apoyo para la extracción de petróleo y de gas natural."]
[null,"0990"," - Actividades de apoyo para otras actividades de explotación de minas y canteras.","0990 - Actividades de apoyo para otras actividades de explotación de minas y canteras."]
[null,1011," - Procesamiento y conservación de carne y productos cárnicos.","1011 - Procesamiento y conservación de carne y productos cárnicos."]
[null,1012," - Procesamiento y conservación de pescados, crustáceos y moluscos.","1012 - Procesamiento y conservación de pescados, crustáceos y moluscos."]
[null,1020," - Procesamiento y conservación de frutas, legumbres, hortalizas y tubérculos.","1020 - Procesamiento y conservación de frutas, legumbres, hortalizas y tubérculos."]
[null,1030," - Elaboración de aceites y grasas de origen vegetal y animal.","1030 - Elaboración de aceites y grasas de origen vegetal y animal."]
[null,1040," - Elaboración de productos lácteos.","1040 - Elaboración de productos lácteos."]
[null,1051," - Elaboración de productos de molinería.","1051 - Elaboración de productos de molinería."]
[null,1052," - Elaboración de almidones y productos derivados del almidón.","1052 - Elaboración de almidones y productos derivados del almidón."]
[null,1061," - Trilla de café.","1061 - Trilla de café."]
[null,1062," - Descafeinado, tostión y molienda del café.","1062 - Descafeinado, tostión y molienda del café."]
[null,1063," - Otros derivados del café.","1063 - Otros derivados del café."]
[null,1071," - Elaboración y refinación de azúcar.","1071 - Elaboración y refinación de azúcar."]
[null,1072," - Elaboración de panela.","1072 - Elaboración de panela."]
[null,1081," - Elaboración de productos de panadería.",{"$f":"+CONCATENATE(B112,C112)","v":"1081 - Elaboración de productos de panadería."}]
[null,1082," - Elaboración de cacao, chocolate y productos de confitería.","1082 - Elaboración de cacao, chocolate y productos de confitería."]
[null,1083," - Elaboración de macarrones, fideos, alcuzcuz y productos farináceos similares.","1083 - Elaboración de macarrones, fideos, alcuzcuz y productos farináceos similares."]
[null,1084," - Elaboración de comidas y platos preparados.","1084 - Elaboración de comidas y platos preparados."]
[null,1089," - Elaboración de otros productos alimenticios n.c.p.","1089 - Elaboración de otros productos alimenticios n.c.p."]
[null,1090," - Elaboración de alimentos preparados para animales.","1090 - Elaboración de alimentos preparados para animales."]
[null,"1101"," - Destilación, rectificación y mezcla de bebidas alcohólicas.","1101 - Destilación, rectificación y mezcla de bebidas alcohólicas."]
[null,"1102"," - Elaboración de bebidas fermentadas no destiladas.","1102 - Elaboración de bebidas fermentadas no destiladas."]
[null,"1103"," - Producción de malta, elaboración de cervezas y otras bebidas malteadas.","1103 - Producción de malta, elaboración de cervezas y otras bebidas malteadas."]
[null,"1104"," - Elaboración de bebidas no alcohólicas, producción de aguas minerales y otras aguas embotelladas.","1104 - Elaboración de bebidas no alcohólicas, producción de aguas minerales y otras aguas embotelladas."]
[null,"1200"," - Elaboración de productos de tabaco.","1200 - Elaboración de productos de tabaco."]
[null,1311," - Preparación e hilatura de fibras textiles.","1311 - Preparación e hilatura de fibras textiles."]
[null,1312," - Tejeduría de productos textiles.","1312 - Tejeduría de productos textiles."]
[null,1313," - Acabado de productos textiles.","1313 - Acabado de productos textiles."]
[null,1391," - Fabricación de tejidos de punto y ganchillo.","1391 - Fabricación de tejidos de punto y ganchillo."]
[null,1392," - Confección de artículos con materiales textiles, excepto prendas de vestir.","1392 - Confección de artículos con materiales textiles, excepto prendas de vestir."]
[null,1393," - Fabricación de tapetes y alfombras para pisos.","1393 - Fabricación de tapetes y alfombras para pisos."]
[null,1394," - Fabricación de cuerdas, cordeles, cables, bramantes y redes.","1394 - Fabricación de cuerdas, cordeles, cables, bramantes y redes."]
[null,1399," - Fabricación de otros artículos textiles n.c.p.","1399 - Fabricación de otros artículos textiles n.c.p."]
[null,1410," - Confección de prendas de vestir, excepto prendas de piel.","1410 - Confección de prendas de vestir, excepto prendas de piel."]
[null,1420," - Fabricación de artículos de piel.","1420 - Fabricación de artículos de piel."]
[null,1430," - Fabricación de artículos de punto y ganchillo.","1430 - Fabricación de artículos de punto y ganchillo."]
[null,"1511"," - Curtido y recurtido de cueros; recurtido y teñido de pieles.","1511 - Curtido y recurtido de cueros; recurtido y teñido de pieles."]
[null,1512," - Fabricación de artículos de viaje, bolsos de mano y artículos similares elaborados en cuero, y fabricación de artículos de talabartería y guarnicionería.","1512 - Fabricación de artículos de viaje, bolsos de mano y artículos similares elaborados en cuero, y fabricación de artículos de talabartería y guarnicionería."]
[null,1513," - Fabricación de artículos de viaje, bolsos de mano y artículos similares; artículos de talabartería y guarnicionería elaborados en otros materiales.","1513 - Fabricación de artículos de viaje, bolsos de mano y artículos similares; artículos de talabartería y guarnicionería elaborados en otros materiales."]
[null,1521," - Fabricación de calzado de cuero y piel, con cualquier tipo de suela.","1521 - Fabricación de calzado de cuero y piel, con cualquier tipo de suela."]
[null,1522," - Fabricación de otros tipos de calzado, excepto calzado de cuero y piel.","1522 - Fabricación de otros tipos de calzado, excepto calzado de cuero y piel."]
[null,1523," - Fabricación de partes del calzado.","1523 - Fabricación de partes del calzado."]
[null,1610," - Aserrado, acepillado e impregnación de la madera.","1610 - Aserrado, acepillado e impregnación de la madera."]
[null,"1620"," - Fabricación   de   hojas   de   madera   para   enchapado; fabricación   de   tableros contrachapados,  tableros  laminados,  tableros  de  partículas y otros  tableros  y paneles.","1620 - Fabricación   de   hojas   de   madera   para   enchapado; fabricación   de   tableros contrachapados,  tableros  laminados,  tableros  de  partículas y otros  tableros  y paneles."]
[null,1630," - Fabricación  de  partes  y  piezas  de  madera,  de  carpintería  y  ebanistería  para  la  construcción.","1630 - Fabricación  de  partes  y  piezas  de  madera,  de  carpintería  y  ebanistería  para  la  construcción."]
[null,1640," - Fabricación de recipientes de madera.","1640 - Fabricación de recipientes de madera."]
[null,1690," - Fabricación de otros  productos  de  madera; fabricación  de  artículos  de  corcho, cestería y espartería.","1690 - Fabricación de otros  productos  de  madera; fabricación  de  artículos  de  corcho, cestería y espartería."]
[null,1701," - Fabricación de pulpas (pastas) celulósicas; papel y cartón.","1701 - Fabricación de pulpas (pastas) celulósicas; papel y cartón."]
[null,1702," - Fabricación  de  papel  y  cartón  ondulado  (corrugado); fabricación  de  envases, empaques y de embalajes de papel y cartón.","1702 - Fabricación  de  papel  y  cartón  ondulado  (corrugado); fabricación  de  envases, empaques y de embalajes de papel y cartón."]
[null,1709," - Fabricación de otros artículos de papel y cartón.","1709 - Fabricación de otros artículos de papel y cartón."]
[null,1811," - Actividades de impresión.","1811 - Actividades de impresión."]
[null,1812," - Actividades de servicios relacionados con la impresión.","1812 - Actividades de servicios relacionados con la impresión."]
[null,1820," - Producción de copias a partir de grabaciones originales.","1820 - Producción de copias a partir de grabaciones originales."]
[null,1910," - Fabricación de productos de hornos de coque.","1910 - Fabricación de productos de hornos de coque."]
[null,1921," - Fabricación de productos de la refinación del petróleo.","1921 - Fabricación de productos de la refinación del petróleo."]
[null,1922," - Actividad de mezcla de combustibles.","1922 - Actividad de mezcla de combustibles."]
[null,2011," - Fabricación de sustancias y productos químicos básicos.","2011 - Fabricación de sustancias y productos químicos básicos."]
[null,2012," - Fabricación de abonos y compuestos inorgánicos nitrogenados.","2012 - Fabricación de abonos y compuestos inorgánicos nitrogenados."]
[null,2013," - Fabricación de plásticos en formas primarias.","2013 - Fabricación de plásticos en formas primarias."]
[null,2014," - Fabricación de caucho sintético en formas primarias.","2014 - Fabricación de caucho sintético en formas primarias."]
[null,2021," - Fabricación de plaguicidas y otros productos químicos de uso agropecuario.","2021 - Fabricación de plaguicidas y otros productos químicos de uso agropecuario."]
[null,2022," - Fabricación de pinturas, barnices y revestimientos similares, tintas para impresión y masillas.","2022 - Fabricación de pinturas, barnices y revestimientos similares, tintas para impresión y masillas."]
[null,2023," - Fabricación de jabones y detergentes, preparados para limpiar y pulir; perfumes y preparados de tocador.","2023 - Fabricación de jabones y detergentes, preparados para limpiar y pulir; perfumes y preparados de tocador."]
[null,2029," - Fabricación de otros productos químicos n.c.p.","2029 - Fabricación de otros productos químicos n.c.p."]
[null,2030," - Fabricación de fibras sintéticas y artificiales.","2030 - Fabricación de fibras sintéticas y artificiales."]
[null,"2100"," - Fabricación de productos farmacéuticos, sustancias químicas medicinales y productos botánicos de uso farmacéutico.","2100 - Fabricación de productos farmacéuticos, sustancias químicas medicinales y productos botánicos de uso farmacéutico."]
[null,2211," - Fabricación de llantas y neumáticos de caucho.","2211 - Fabricación de llantas y neumáticos de caucho."]
[null,2212," - Reencauche de llantas usadas.","2212 - Reencauche de llantas usadas."]
[null,2219," - Fabricación de formas básicas de caucho y otros productos de caucho n.c.p.","2219 - Fabricación de formas básicas de caucho y otros productos de caucho n.c.p."]
[null,2221," - Fabricación de formas básicas de plástico.","2221 - Fabricación de formas básicas de plástico."]
[null,2229," - Fabricación de artículos de plástico n.c.p.","2229 - Fabricación de artículos de plástico n.c.p."]
[null,2310," - Fabricación de vidrio y productos de vidrio.","2310 - Fabricación de vidrio y productos de vidrio."]
[null,2391," - Fabricación de productos refractarios.","2391 - Fabricación de productos refractarios."]
[null,2392," - Fabricación de materiales de arcilla para la construcción.","2392 - Fabricación de materiales de arcilla para la construcción."]
[null,2393," - Fabricación de otros productos de cerámica y porcelana.","2393 - Fabricación de otros productos de cerámica y porcelana."]
[null,2394," - Fabricación de cemento, cal y yeso.","2394 - Fabricación de cemento, cal y yeso."]
[null,2395," - Fabricación de artículos de hormigón, cemento y yeso.","2395 - Fabricación de artículos de hormigón, cemento y yeso."]
[null,2396," - Corte, tallado y acabado de la piedra.","2396 - Corte, tallado y acabado de la piedra."]
[null,2399," - Fabricación de otros productos minerales no metálicos n.c.p.",{"$f":"+CONCATENATE(B176,C176)","v":"2399 - Fabricación de otros productos minerales no metálicos n.c.p."}]
[null,2410," - Industrias básicas de hierro y de acero.","2410 - Industrias básicas de hierro y de acero."]
[null,2421," - Industrias básicas de metales preciosos.","2421 - Industrias básicas de metales preciosos."]
[null,2429," - Industrias básicas de otros metales no ferrosos.","2429 - Industrias básicas de otros metales no ferrosos."]
[null,2431," - Fundición de hierro y de acero.","2431 - Fundición de hierro y de acero."]
[null,2432," - Fundición de metales no ferrosos.","2432 - Fundición de metales no ferrosos."]
[null,2511," - Fabricación de productos metálicos para uso estructural.","2511 - Fabricación de productos metálicos para uso estructural."]
[null,2512," - Fabricación de tanques, depósitos y recipientes de metal, excepto los utilizados para el envase o el transporte de mercancías.","2512 - Fabricación de tanques, depósitos y recipientes de metal, excepto los utilizados para el envase o el transporte de mercancías."]
[null,2513," - Fabricación de generadores de vapor, excepto calderas de agua caliente para calefacción central.","2513 - Fabricación de generadores de vapor, excepto calderas de agua caliente para calefacción central."]
[null,2520," - Fabricación de armas y municiones.","2520 - Fabricación de armas y municiones."]
[null,2591," - Forja, prensado, estampado y laminado de metal; pulvimetalurgia.","2591 - Forja, prensado, estampado y laminado de metal; pulvimetalurgia."]
[null,2592," - Tratamiento y revestimiento de metales; mecanizado.","2592 - Tratamiento y revestimiento de metales; mecanizado."]
[null,2593," - Fabricación de artículos de cuchillería, herramientas de mano y artículos de ferretería.","2593 - Fabricación de artículos de cuchillería, herramientas de mano y artículos de ferretería."]
[null,2599," - Fabricación de otros productos elaborados de metal n.c.p.","2599 - Fabricación de otros productos elaborados de metal n.c.p."]
[null,2610," - Fabricación de componentes y tableros electrónicos.","2610 - Fabricación de componentes y tableros electrónicos."]
[null,2620," - Fabricación de computadoras y de equipo periférico.","2620 - Fabricación de computadoras y de equipo periférico."]
[null,2630," - Fabricación de equipos de comunicación.","2630 - Fabricación de equipos de comunicación."]
[null,2640," - Fabricación de aparatos electrónicos de consumo.","2640 - Fabricación de aparatos electrónicos de consumo."]
[null,2651," - Fabricación de equipo de medición, prueba, navegación y control.","2651 - Fabricación de equipo de medición, prueba, navegación y control."]
[null,2652," - Fabricación de relojes.","2652 - Fabricación de relojes."]
[null,"2660"," - Fabricación de equipo de irradiación y equipo electrónico de uso médico y terapéutico.","2660 - Fabricación de equipo de irradiación y equipo electrónico de uso médico y terapéutico."]
[null,2670," - Fabricación de instrumentos ópticos y equipo fotográfico.","2670 - Fabricación de instrumentos ópticos y equipo fotográfico."]
[null,2680," - Fabricación de medios magnéticos y ópticos para almacenamiento de datos.","2680 - Fabricación de medios magnéticos y ópticos para almacenamiento de datos."]
[null,2711," - Fabricación de motores, generadores y transformadores eléctricos.","2711 - Fabricación de motores, generadores y transformadores eléctricos."]
[null,2712," - Fabricación de aparatos de distribución y control de la energía eléctrica.","2712 - Fabricación de aparatos de distribución y control de la energía eléctrica."]
[null,2720," - Fabricación de pilas, baterías y acumuladores eléctricos.","2720 - Fabricación de pilas, baterías y acumuladores eléctricos."]
[null,2731," - Fabricación de hilos y cables eléctricos y de fibra óptica.","2731 - Fabricación de hilos y cables eléctricos y de fibra óptica."]
[null,2732," - Fabricación de dispositivos de cableado.","2732 - Fabricación de dispositivos de cableado."]
[null,2740," - Fabricación de equipos eléctricos de iluminación.","2740 - Fabricación de equipos eléctricos de iluminación."]
[null,"2750"," - Fabricación de aparatos de uso doméstico.","2750 - Fabricación de aparatos de uso doméstico."]
[null,"2790"," - Fabricación de otros tipos de equipo eléctrico n.c.p.","2790 - Fabricación de otros tipos de equipo eléctrico n.c.p."]
[null,2811," - Fabricación de motores, turbinas, y partes para motores de combustión interna.","2811 - Fabricación de motores, turbinas, y partes para motores de combustión interna."]
[null,2812," - Fabricación de equipos de potencia hidráulica y neumática.","2812 - Fabricación de equipos de potencia hidráulica y neumática."]
[null,2813," - Fabricación de otras bombas, compresores, grifos y válvulas.","2813 - Fabricación de otras bombas, compresores, grifos y válvulas."]
[null,2814," - Fabricación de cojinetes, engranajes, trenes de engranajes y piezas de transmisión.","2814 - Fabricación de cojinetes, engranajes, trenes de engranajes y piezas de transmisión."]
[null,2815," - Fabricación de hornos, hogares y quemadores industriales.","2815 - Fabricación de hornos, hogares y quemadores industriales."]
[null,2816," - Fabricación de equipo de elevación y manipulación.","2816 - Fabricación de equipo de elevación y manipulación."]
[null,2817," - Fabricación de maquinaria y equipo de oficina (excepto computadoras y equipo periférico).","2817 - Fabricación de maquinaria y equipo de oficina (excepto computadoras y equipo periférico)."]
[null,2818," - Fabricación de herramientas manuales con motor.","2818 - Fabricación de herramientas manuales con motor."]
[null,2819," - Fabricación de otros tipos de maquinaria y equipo de uso general n.c.p.","2819 - Fabricación de otros tipos de maquinaria y equipo de uso general n.c.p."]
[null,2821," - Fabricación de maquinaria agropecuaria y forestal.","2821 - Fabricación de maquinaria agropecuaria y forestal."]
[null,2822," - Fabricación de máquinas formadoras de metal y de máquinas herramienta.","2822 - Fabricación de máquinas formadoras de metal y de máquinas herramienta."]
[null,2823," - Fabricación de maquinaria para la metalurgia.","2823 - Fabricación de maquinaria para la metalurgia."]
[null,2824," - Fabricación de maquinaria para explotación de minas y canteras y para obras de construcción.","2824 - Fabricación de maquinaria para explotación de minas y canteras y para obras de construcción."]
[null,2825," - Fabricación de maquinaria para la elaboración de alimentos, bebidas y tabaco.","2825 - Fabricación de maquinaria para la elaboración de alimentos, bebidas y tabaco."]
[null,2826," - Fabricación de maquinaria para la elaboración de productos textiles, prendas de vestir y cueros.","2826 - Fabricación de maquinaria para la elaboración de productos textiles, prendas de vestir y cueros."]
[null,2829," - Fabricación de otros tipos de maquinaria y equipo de uso especial n.c.p.","2829 - Fabricación de otros tipos de maquinaria y equipo de uso especial n.c.p."]
[null,2910," - Fabricación de vehículos automotores y sus motores.","2910 - Fabricación de vehículos automotores y sus motores."]
[null,2920," - Fabricación de carrocerías para vehículos automotores; fabricación de remolques y semirremolques.","2920 - Fabricación de carrocerías para vehículos automotores; fabricación de remolques y semirremolques."]
[null,2930," - Fabricación de partes, piezas (autopartes) y accesorios (lujos) para vehículos automotores.","2930 - Fabricación de partes, piezas (autopartes) y accesorios (lujos) para vehículos automotores."]
[null,3011," - Construcción de barcos y de estructuras flotantes.","3011 - Construcción de barcos y de estructuras flotantes."]
[null,3012," - Construcción de embarcaciones de recreo y deporte.","3012 - Construcción de embarcaciones de recreo y deporte."]
[null,3020," - Fabricación de locomotoras y de material rodante para ferrocarriles.","3020 - Fabricación de locomotoras y de material rodante para ferrocarriles."]
[null,3030," - Fabricación de aeronaves, naves espaciales y de maquinaria conexa.","3030 - Fabricación de aeronaves, naves espaciales y de maquinaria conexa."]
[null,3040," - Fabricación de vehículos militares de combate.","3040 - Fabricación de vehículos militares de combate."]
[null,3091," - Fabricación de motocicletas.","3091 - Fabricación de motocicletas."]
[null,3092," - Fabricación de bicicletas y de sillas de ruedas para personas con discapacidad.","3092 - Fabricación de bicicletas y de sillas de ruedas para personas con discapacidad."]
[null,3099," - Fabricación de otros tipos de equipo de transporte n.c.p.","3099 - Fabricación de otros tipos de equipo de transporte n.c.p."]
[null,3110," - Fabricación de muebles.","3110 - Fabricación de muebles."]
[null,3120," - Fabricación de colchones y somieres.","3120 - Fabricación de colchones y somieres."]
[null,3210," - Fabricación de joyas, bisutería y artículos conexos.","3210 - Fabricación de joyas, bisutería y artículos conexos."]
[null,3220," - Fabricación de instrumentos musicales.","3220 - Fabricación de instrumentos musicales."]
[null,3230," - Fabricación de artículos y equipo para la práctica del deporte.","3230 - Fabricación de artículos y equipo para la práctica del deporte."]
[null,3240," - Fabricación de juegos, juguetes y rompecabezas.","3240 - Fabricación de juegos, juguetes y rompecabezas."]
[null,3250," - Fabricación de instrumentos, aparatos y materiales médicos y odontológicos (incluido mobiliario).",{"$f":"+CONCATENATE(B240,C240)","v":"3250 - Fabricación de instrumentos, aparatos y materiales médicos y odontológicos (incluido mobiliario)."}]
[null,"3290"," - Otras industrias manufactureras n.c.p.","3290 - Otras industrias manufactureras n.c.p."]
[null,3311," - Mantenimiento y reparación especializado de productos elaborados en metal.","3311 - Mantenimiento y reparación especializado de productos elaborados en metal."]
[null,3312," - Mantenimiento y  reparación especializado de maquinaria y equipo.","3312 - Mantenimiento y  reparación especializado de maquinaria y equipo."]
[null,3313," - Mantenimiento y  reparación especializado de equipo electrónico y óptico.","3313 - Mantenimiento y  reparación especializado de equipo electrónico y óptico."]
[null,3314," - Mantenimiento y  reparación especializado de equipo eléctrico.","3314 - Mantenimiento y  reparación especializado de equipo eléctrico."]
[null,3315," - Mantenimiento y  reparación especializado de equipo de transporte, excepto los vehículos automotores, motocicletas y bicicletas.","3315 - Mantenimiento y  reparación especializado de equipo de transporte, excepto los vehículos automotores, motocicletas y bicicletas."]
[null,3319," - Mantenimiento y reparación de otros tipos de equipos y sus componentes n.c.p.","3319 - Mantenimiento y reparación de otros tipos de equipos y sus componentes n.c.p."]
[null,3320," - Instalación especializada de maquinaria y equipo industrial.","3320 - Instalación especializada de maquinaria y equipo industrial."]
[null,3511," - Generación de energía eléctrica.","3511 - Generación de energía eléctrica."]
[null,3512," - Transmisión de energía eléctrica.","3512 - Transmisión de energía eléctrica."]
[null,3513," - Distribución de energía eléctrica.","3513 - Distribución de energía eléctrica."]
[null,3514," - Comercialización de energía eléctrica.","3514 - Comercialización de energía eléctrica."]
[null,3520," - Producción de gas; distribución de combustibles gaseosos por tuberías.","3520 - Producción de gas; distribución de combustibles gaseosos por tuberías."]
[null,3530," - Suministro de vapor y aire acondicionado.","3530 - Suministro de vapor y aire acondicionado."]
[null,"3600"," - Captación, tratamiento y distribución de agua.","3600 - Captación, tratamiento y distribución de agua."]
[null,"3700"," - Evacuación y tratamiento de aguas residuales.","3700 - Evacuación y tratamiento de aguas residuales."]
[null,3811," - Recolección de desechos no peligrosos.","3811 - Recolección de desechos no peligrosos."]
[null,3812," - Recolección de desechos peligrosos.","3812 - Recolección de desechos peligrosos."]
[null,3821,"- Tratamiento y disposición de desechos no peligrosos.","3821- Tratamiento y disposición de desechos no peligrosos."]
[null,3822," - Tratamiento y disposición de desechos peligrosos.","3822 - Tratamiento y disposición de desechos peligrosos."]
[null,3830," - Recuperación de materiales.","3830 - Recuperación de materiales."]
[null,"3900"," - Actividades de saneamiento ambiental y otros servicios de gestión de desechos.","3900 - Actividades de saneamiento ambiental y otros servicios de gestión de desechos."]
[null,4111," - Construcción de edificios residenciales.","4111 - Construcción de edificios residenciales."]
[null,4112," - Construcción de edificios no residenciales.","4112 - Construcción de edificios no residenciales."]
[null,4210," - Construcción de carreteras y vías de ferrocarril.","4210 - Construcción de carreteras y vías de ferrocarril."]
[null,4220," - Construcción de proyectos de servicio público.","4220 - Construcción de proyectos de servicio público."]
[null,4290," - Construcción de otras obras de ingeniería civil.","4290 - Construcción de otras obras de ingeniería civil."]
[null,4311," - Demolición.","4311 - Demolición."]
[null,4312," - Preparación del terreno.","4312 - Preparación del terreno."]
[null,4321," - Instalaciones eléctricas.","4321 - Instalaciones eléctricas."]
[null,4322," - Instalaciones de fontanería, calefacción y aire acondicionado.","4322 - Instalaciones de fontanería, calefacción y aire acondicionado."]
[null,4329," - Otras instalaciones especializadas.","4329 - Otras instalaciones especializadas."]
[null,4330," - Terminación y acabado de edificios y obras de ingeniería civil.","4330 - Terminación y acabado de edificios y obras de ingeniería civil."]
[null,4390," - Otras actividades especializadas para la construcción de edificios y obras de ingeniería civil.","4390 - Otras actividades especializadas para la construcción de edificios y obras de ingeniería civil."]
[null,4511," - Comercio de vehículos automotores nuevos.","4511 - Comercio de vehículos automotores nuevos."]
[null,4512," - Comercio de vehículos automotores usados.","4512 - Comercio de vehículos automotores usados."]
[null,4520," - Mantenimiento y reparación de vehículos automotores.","4520 - Mantenimiento y reparación de vehículos automotores."]
[null,4530," - Comercio de partes, piezas (autopartes) y accesorios (lujos) para vehículos automotores.","4530 - Comercio de partes, piezas (autopartes) y accesorios (lujos) para vehículos automotores."]
[null,4541," - Comercio de motocicletas y de sus partes, piezas y accesorios.","4541 - Comercio de motocicletas y de sus partes, piezas y accesorios."]
[null,4542," - Mantenimiento y reparación de motocicletas y de sus partes y piezas.","4542 - Mantenimiento y reparación de motocicletas y de sus partes y piezas."]
[null,4610," - Comercio al por mayor a cambio de una retribución o por contrata.","4610 - Comercio al por mayor a cambio de una retribución o por contrata."]
[null,4620," - Comercio al por mayor de materias primas agropecuarias; animales vivos.","4620 - Comercio al por mayor de materias primas agropecuarias; animales vivos."]
[null,4631," - Comercio al por mayor de productos alimenticios.","4631 - Comercio al por mayor de productos alimenticios."]
[null,4632," - Comercio al por mayor de bebidas y tabaco.","4632 - Comercio al por mayor de bebidas y tabaco."]
[null,4641," - Comercio al por mayor de productos textiles, productos confeccionados para uso doméstico.","4641 - Comercio al por mayor de productos textiles, productos confeccionados para uso doméstico."]
[null,4642," - Comercio al por mayor de prendas de vestir.","4642 - Comercio al por mayor de prendas de vestir."]
[null,4643," - Comercio al por mayor de calzado.","4643 - Comercio al por mayor de calzado."]
[null,4644," - Comercio al por mayor de aparatos y equipo de uso doméstico.","4644 - Comercio al por mayor de aparatos y equipo de uso doméstico."]
[null,4645," - Comercio al por mayor de productos farmacéuticos, medicinales, cosméticos y de tocador.","4645 - Comercio al por mayor de productos farmacéuticos, medicinales, cosméticos y de tocador."]
[null,4649," - Comercio al por mayor de otros utensilios domésticos n.c.p.","4649 - Comercio al por mayor de otros utensilios domésticos n.c.p."]
[null,4651," - Comercio al por mayor de computadores, equipo periférico y programas de informática.","4651 - Comercio al por mayor de computadores, equipo periférico y programas de informática."]
[null,4652," - Comercio al por mayor de equipo, partes y piezas electrónicos y de telecomunicaciones.","4652 - Comercio al por mayor de equipo, partes y piezas electrónicos y de telecomunicaciones."]
[null,4653," - Comercio al por mayor de maquinaria y equipo agropecuarios.","4653 - Comercio al por mayor de maquinaria y equipo agropecuarios."]
[null,4659," - Comercio al por mayor de otros tipos de maquinaria y equipo n.c.p.","4659 - Comercio al por mayor de otros tipos de maquinaria y equipo n.c.p."]
[null,4661," - Comercio al por mayor de combustibles  sólidos,  líquidos,  gaseosos  y  productos conexos.","4661 - Comercio al por mayor de combustibles  sólidos,  líquidos,  gaseosos  y  productos conexos."]
[null,4662," - Comercio al por mayor de metales y productos metalíferos.","4662 - Comercio al por mayor de metales y productos metalíferos."]
[null,4663," - Comercio al por mayor de materiales de construcción, artículos de ferretería, pinturas, productos de vidrio, equipo y materiales de fontanería y calefacción.","4663 - Comercio al por mayor de materiales de construcción, artículos de ferretería, pinturas, productos de vidrio, equipo y materiales de fontanería y calefacción."]
[null,4664," - Comercio al por mayor de productos químicos básicos, cauchos y plásticos en formas primarias y productos químicos de uso agropecuario.","4664 - Comercio al por mayor de productos químicos básicos, cauchos y plásticos en formas primarias y productos químicos de uso agropecuario."]
[null,4665," - Comercio al por mayor de desperdicios, desechos y chatarra.","4665 - Comercio al por mayor de desperdicios, desechos y chatarra."]
[null,4669," - Comercio al por mayor de otros productos n.c.p.","4669 - Comercio al por mayor de otros productos n.c.p."]
[null,4690," - Comercio al por mayor no especializado.","4690 - Comercio al por mayor no especializado."]
[null,"4711"," - Comercio al por menor en establecimientos no especializados con surtido compuesto principalmente por alimentos, bebidas (alcohólicas y no alcohólicas) o tabaco.","4711 - Comercio al por menor en establecimientos no especializados con surtido compuesto principalmente por alimentos, bebidas (alcohólicas y no alcohólicas) o tabaco."]
[null,"4719"," - Comercio al por menor en establecimientos no especializados, con surtido compuesto principalmente por productos diferentes de alimentos (víveres en general), bebidas (alcohólicas y no alcohólicas) y tabaco.","4719 - Comercio al por menor en establecimientos no especializados, con surtido compuesto principalmente por productos diferentes de alimentos (víveres en general), bebidas (alcohólicas y no alcohólicas) y tabaco."]
[null,"4721"," - Comercio al por menor de productos agrícolas para el consumo en establecimientos especializados.",{"$f":"+CONCATENATE(B304,C304)","v":"4721 - Comercio al por menor de productos agrícolas para el consumo en establecimientos especializados."}]
[null,"4722"," - Comercio al por menor de leche, productos lácteos y huevos, en establecimientos especializados.","4722 - Comercio al por menor de leche, productos lácteos y huevos, en establecimientos especializados."]
[null,"4723"," - Comercio al por menor de carnes (incluye aves de corral), productos cárnicos, pescados y productos de mar, en establecimientos especializados.","4723 - Comercio al por menor de carnes (incluye aves de corral), productos cárnicos, pescados y productos de mar, en establecimientos especializados."]
[null,"4724"," - Comercio al por menor de bebidas y productos del tabaco, en establecimientos especializados.","4724 - Comercio al por menor de bebidas y productos del tabaco, en establecimientos especializados."]
[null,"4729"," - Comercio al por menor de  - Otros productos alimenticios n.c.p., en establecimientos especializados.","4729 - Comercio al por menor de  - Otros productos alimenticios n.c.p., en establecimientos especializados."]
[null,"4731"," - Comercio al por menor de combustible para automotores.","4731 - Comercio al por menor de combustible para automotores."]
[null,"4732"," - Comercio al por menor de lubricantes (aceites, grasas), aditivos y productos de limpieza para vehículos automotores.","4732 - Comercio al por menor de lubricantes (aceites, grasas), aditivos y productos de limpieza para vehículos automotores."]
[null,"4741"," - Comercio al por menor de computadores, equipos periféricos, programas de informática y equipos de telecomunicaciones en establecimientos especializados.","4741 - Comercio al por menor de computadores, equipos periféricos, programas de informática y equipos de telecomunicaciones en establecimientos especializados."]
[null,"4742"," - Comercio al por menor de equipos y aparatos de sonido y de video, en establecimientos especializados.","4742 - Comercio al por menor de equipos y aparatos de sonido y de video, en establecimientos especializados."]
[null,"4751"," - Comercio al por menor de productos textiles en establecimientos especializados.","4751 - Comercio al por menor de productos textiles en establecimientos especializados."]
[null,"4752"," - Comercio al por menor de artículos de ferretería, pinturas y productos de vidrio en establecimientos especializados.","4752 - Comercio al por menor de artículos de ferretería, pinturas y productos de vidrio en establecimientos especializados."]
[null,"4753"," - Comercio al por menor de tapices, alfombras y recubrimientos para paredes y pisos en establecimientos especializados.","4753 - Comercio al por menor de tapices, alfombras y recubrimientos para paredes y pisos en establecimientos especializados."]
[null,"4754"," - Comercio al por menor de electrodomésticos y gasodomésticos de uso doméstico, muebles y equipos de iluminación en establecimientos especializados.","4754 - Comercio al por menor de electrodomésticos y gasodomésticos de uso doméstico, muebles y equipos de iluminación en establecimientos especializados."]
[null,4755," - Comercio al por menor de artículos y utensilios de uso doméstico en establecimientos especializados.","4755 - Comercio al por menor de artículos y utensilios de uso doméstico en establecimientos especializados."]
[null,4759," - Comercio al por menor de  - Otros artículos domésticos en establecimientos especializados.","4759 - Comercio al por menor de  - Otros artículos domésticos en establecimientos especializados."]
[null,4761," - Comercio al por menor de libros, periódicos, materiales y artículos de papelería y escritorio, en establecimientos especializados.","4761 - Comercio al por menor de libros, periódicos, materiales y artículos de papelería y escritorio, en establecimientos especializados."]
[null,4762," - Comercio al por menor de artículos deportivos, en establecimientos especializados.","4762 - Comercio al por menor de artículos deportivos, en establecimientos especializados."]
[null,4769," - Comercio al por menor de otros artículos culturales y de entretenimiento n.c.p. en establecimientos especializados.","4769 - Comercio al por menor de otros artículos culturales y de entretenimiento n.c.p. en establecimientos especializados."]
[null,4771," - Comercio al por menor de prendas de vestir y sus accesorios (incluye artículos de piel) en establecimientos especializados.","4771 - Comercio al por menor de prendas de vestir y sus accesorios (incluye artículos de piel) en establecimientos especializados."]
[null,"4772"," - Comercio al por menor de todo tipo de calzado y artículos de cuero y sucedáneos del cuero en establecimientos especializados.","4772 - Comercio al por menor de todo tipo de calzado y artículos de cuero y sucedáneos del cuero en establecimientos especializados."]
[null,"4773"," - Comercio al por menor de productos farmacéuticos y medicinales, cosméticos y artículos de tocador en establecimientos especializados.","4773 - Comercio al por menor de productos farmacéuticos y medicinales, cosméticos y artículos de tocador en establecimientos especializados."]
[null,"4774"," - Comercio al por menor de otros productos nuevos en establecimientos especializados.","4774 - Comercio al por menor de otros productos nuevos en establecimientos especializados."]
[null,4775," - Comercio al por menor de artículos de segunda mano.","4775 - Comercio al por menor de artículos de segunda mano."]
[null,4781," - Comercio al por menor de alimentos, bebidas y tabaco, en puestos de venta móviles.","4781 - Comercio al por menor de alimentos, bebidas y tabaco, en puestos de venta móviles."]
[null,4782," - Comercio al por menor de productos textiles, prendas de vestir y calzado, en puestos de venta móviles.","4782 - Comercio al por menor de productos textiles, prendas de vestir y calzado, en puestos de venta móviles."]
[null,4789," - Comercio al por menor de otros productos en puestos de venta móviles.","4789 - Comercio al por menor de otros productos en puestos de venta móviles."]
[null,4791," - Comercio al por menor realizado a través de Internet.","4791 - Comercio al por menor realizado a través de Internet."]
[null,4792," - Comercio al por menor realizado a través de casas de venta o por correo.","4792 - Comercio al por menor realizado a través de casas de venta o por correo."]
[null,4799," - Otros tipos de comercio al por menor no realizado en establecimientos, puestos de venta o mercados.","4799 - Otros tipos de comercio al por menor no realizado en establecimientos, puestos de venta o mercados."]
[null,"4911"," - Transporte férreo de pasajeros.","4911 - Transporte férreo de pasajeros."]
[null,"4912"," - Transporte férreo de carga.","4912 - Transporte férreo de carga."]
[null,4921," - Transporte de pasajeros.","4921 - Transporte de pasajeros."]
[null,4922," - Transporte mixto.","4922 - Transporte mixto."]
[null,4923," - Transporte de carga por carretera.","4923 - Transporte de carga por carretera."]
[null,4930," - Transporte por tuberías.","4930 - Transporte por tuberías."]
[null,5011," - Transporte de pasajeros marítimo y de cabotaje.","5011 - Transporte de pasajeros marítimo y de cabotaje."]
[null,5012," - Transporte de carga marítimo y de cabotaje.","5012 - Transporte de carga marítimo y de cabotaje."]
[null,5021," - Transporte fluvial de pasajeros.","5021 - Transporte fluvial de pasajeros."]
[null,5022," - Transporte fluvial de carga.","5022 - Transporte fluvial de carga."]
[null,5111," - Transporte aéreo nacional de pasajeros.","5111 - Transporte aéreo nacional de pasajeros."]
[null,5112," - Transporte aéreo internacional de pasajeros.","5112 - Transporte aéreo internacional de pasajeros."]
[null,5121," - Transporte aéreo nacional de carga.","5121 - Transporte aéreo nacional de carga."]
[null,5122," - Transporte aéreo internacional de carga.","5122 - Transporte aéreo internacional de carga."]
[null,5210," - Almacenamiento y depósito.","5210 - Almacenamiento y depósito."]
[null,"5221"," - Actividades de estaciones, vías y servicios complementarios para el transporte terrestre.","5221 - Actividades de estaciones, vías y servicios complementarios para el transporte terrestre."]
[null,"5222"," - Actividades de puertos y servicios complementarios para el transporte acuático.","5222 - Actividades de puertos y servicios complementarios para el transporte acuático."]
[null,"5223"," - Actividades de aeropuertos, servicios de navegación aérea y demás actividades conexas al transporte aéreo.","5223 - Actividades de aeropuertos, servicios de navegación aérea y demás actividades conexas al transporte aéreo."]
[null,"5224"," - Manipulación de carga.","5224 - Manipulación de carga."]
[null,5229," - Otras actividades complementarias al transporte.","5229 - Otras actividades complementarias al transporte."]
[null,"5310"," - Actividades postales nacionales.","5310 - Actividades postales nacionales."]
[null,"5320"," - Actividades de mensajería.","5320 - Actividades de mensajería."]
[null,5511," - Alojamiento en hoteles.","5511 - Alojamiento en hoteles."]
[null,5512," - Alojamiento en apartahoteles.","5512 - Alojamiento en apartahoteles."]
[null,5513," - Alojamiento en centros vacacionales.","5513 - Alojamiento en centros vacacionales."]
[null,5514," - Alojamiento rural.","5514 - Alojamiento rural."]
[null,5519," - Otros tipos de alojamiento para visitantes.","5519 - Otros tipos de alojamiento para visitantes."]
[null,5520," - Actividades de zonas de camping y parques para vehículos recreacionales.","5520 - Actividades de zonas de camping y parques para vehículos recreacionales."]
[null,5530," - Servicio de estancia por horas.","5530 - Servicio de estancia por horas."]
[null,5590," - Otros tipos de alojamiento n.c.p.","5590 - Otros tipos de alojamiento n.c.p."]
[null,5611," - Expendio a la mesa de comidas preparadas.","5611 - Expendio a la mesa de comidas preparadas."]
[null,5612," - Expendio por autoservicio de comidas preparadas.","5612 - Expendio por autoservicio de comidas preparadas."]
[null,5613," - Expendio de comidas preparadas en cafeterías.","5613 - Expendio de comidas preparadas en cafeterías."]
[null,5619," - Otros tipos de expendio de comidas preparadas n.c.p.","5619 - Otros tipos de expendio de comidas preparadas n.c.p."]
[null,5621," - Catering para eventos.","5621 - Catering para eventos."]
[null,5629," - Actividades de otros servicios de comidas.",{"$f":"+CONCATENATE(B368,C368)","v":"5629 - Actividades de otros servicios de comidas."}]
[null,5630," - Expendio de bebidas alcohólicas para el consumo dentro del establecimiento.","5630 - Expendio de bebidas alcohólicas para el consumo dentro del establecimiento."]
[null,5811," - Edición de libros.","5811 - Edición de libros."]
[null,5812," - Edición de directorios y listas de correo.","5812 - Edición de directorios y listas de correo."]
[null,5813," - Edición de periódicos, revistas y otras publicaciones periódicas.","5813 - Edición de periódicos, revistas y otras publicaciones periódicas."]
[null,5819," - Otros trabajos de edición.","5819 - Otros trabajos de edición."]
[null,5820," - Edición de programas de informática (software).","5820 - Edición de programas de informática (software)."]
[null,5911," - Actividades de producción de películas cinematográficas, videos, programas, anuncios y comerciales de televisión.","5911 - Actividades de producción de películas cinematográficas, videos, programas, anuncios y comerciales de televisión."]
[null,5912," - Actividades de postproducción de películas cinematográficas, videos, programas, anuncios y comerciales de televisión.","5912 - Actividades de postproducción de películas cinematográficas, videos, programas, anuncios y comerciales de televisión."]
[null,5913," - Actividades de distribución de películas cinematográficas, videos, programas, anuncios y comerciales de televisión.","5913 - Actividades de distribución de películas cinematográficas, videos, programas, anuncios y comerciales de televisión."]
[null,5914," - Actividades de exhibición de películas cinematográficas y videos.","5914 - Actividades de exhibición de películas cinematográficas y videos."]
[null,5920," - Actividades de grabación de sonido y edición de música.","5920 - Actividades de grabación de sonido y edición de música."]
[null,6010," - Actividades de programación y transmisión en el servicio de radiodifusión sonora.","6010 - Actividades de programación y transmisión en el servicio de radiodifusión sonora."]
[null,6020," - Actividades de programación y transmisión de televisión.","6020 - Actividades de programación y transmisión de televisión."]
[null,6110," - Actividades de telecomunicaciones alámbricas.","6110 - Actividades de telecomunicaciones alámbricas."]
[null,6120," - Actividades de telecomunicaciones inalámbricas.","6120 - Actividades de telecomunicaciones inalámbricas."]
[null,6130," - Actividades de telecomunicación satelital.","6130 - Actividades de telecomunicación satelital."]
[null,"6190"," - Otras actividades de telecomunicaciones.","6190 - Otras actividades de telecomunicaciones."]
[null,"6201"," - Actividades de desarrollo de sistemas informáticos (planificación, análisis, diseño, programación, pruebas).","6201 - Actividades de desarrollo de sistemas informáticos (planificación, análisis, diseño, programación, pruebas)."]
[null,"6202"," - Actividades de consultoría informática y actividades de administración de instalaciones informáticas.","6202 - Actividades de consultoría informática y actividades de administración de instalaciones informáticas."]
[null,"6209"," - Otras actividades de tecnologías de información y actividades de servicios informáticos.","6209 - Otras actividades de tecnologías de información y actividades de servicios informáticos."]
[null,6311," - Procesamiento de datos, alojamiento (hosting) y actividades relacionadas.","6311 - Procesamiento de datos, alojamiento (hosting) y actividades relacionadas."]
[null,6312," - Portales web.","6312 - Portales web."]
[null,6391," - Actividades de agencias de noticias.","6391 - Actividades de agencias de noticias."]
[null,6399," - Otras actividades de servicios de información n.c.p.","6399 - Otras actividades de servicios de información n.c.p."]
[null,6411," - Banco Central.","6411 - Banco Central."]
[null,6412," - Bancos comerciales.","6412 - Bancos comerciales."]
[null,6421," - Actividades de las corporaciones financieras.","6421 - Actividades de las corporaciones financieras."]
[null,6422," - Actividades de las compañías de financiamiento.","6422 - Actividades de las compañías de financiamiento."]
[null,6423," - Banca de segundo piso.","6423 - Banca de segundo piso."]
[null,6424," - Actividades de las cooperativas financieras.","6424 - Actividades de las cooperativas financieras."]
[null,6431," - Fideicomisos, fondos y entidades financieras similares.","6431 - Fideicomisos, fondos y entidades financieras similares."]
[null,6432," - Fondos de cesantías.","6432 - Fondos de cesantías."]
[null,6491," - Leasing financiero (arrendamiento financiero).","6491 - Leasing financiero (arrendamiento financiero)."]
[null,6492," - Actividades financieras de fondos de empleados y otras formas asociativas del sector solidario.","6492 - Actividades financieras de fondos de empleados y otras formas asociativas del sector solidario."]
[null,6493," - Actividades de compra de cartera o factoring.","6493 - Actividades de compra de cartera o factoring."]
[null,6494," - Otras actividades de distribución de fondos.","6494 - Otras actividades de distribución de fondos."]
[null,6495," - Instituciones especiales oficiales.","6495 - Instituciones especiales oficiales."]
[null,6496," - Capitalización","6496 - Capitalización"]
[null,6499," - Otras actividades de servicio financiero, excepto las de seguros y pensiones n.c.p.","6499 - Otras actividades de servicio financiero, excepto las de seguros y pensiones n.c.p."]
[null,6511," - Seguros generales.","6511 - Seguros generales."]
[null,6512," - Seguros de vida.","6512 - Seguros de vida."]
[null,6513," - Reaseguros.","6513 - Reaseguros."]
[null,6515," - Seguros de salud.","6515 - Seguros de salud."]
[null,6521," - Servicios de seguros sociales de salud.","6521 - Servicios de seguros sociales de salud."]
[null,6522," - Servicios de seguros sociales en riesgos laborales.","6522 - Servicios de seguros sociales en riesgos laborales."]
[null,6523," - Servicios de  seguros sociales en riesgos familia.","6523 - Servicios de  seguros sociales en riesgos familia."]
[null,"6531"," - Régimen de prima media con prestación definida (RPM).","6531 - Régimen de prima media con prestación definida (RPM)."]
[null,"6532"," - Régimen de ahorro con solidaridad (RAIS).","6532 - Régimen de ahorro con solidaridad (RAIS)."]
[null,6611," - Administración de mercados financieros.","6611 - Administración de mercados financieros."]
[null,6612," - Corretaje de valores y de contratos de productos básicos.","6612 - Corretaje de valores y de contratos de productos básicos."]
[null,6613," - Otras actividades relacionadas con el mercado de valores.","6613 - Otras actividades relacionadas con el mercado de valores."]
[null,6614," - Actividades de las sociedades de intermediación cambiaria y de servicios financieros especiales.","6614 - Actividades de las sociedades de intermediación cambiaria y de servicios financieros especiales."]
[null,6615," - Actividades de los profesionales de compra y venta de divisas.","6615 - Actividades de los profesionales de compra y venta de divisas."]
[null,6619," - Otras actividades auxiliares de las actividades de servicios financieros n.c.p.","6619 - Otras actividades auxiliares de las actividades de servicios financieros n.c.p."]
[null,6621," - Actividades de agentes y corredores de seguros.","6621 - Actividades de agentes y corredores de seguros."]
[null,6629," - Evaluación de riesgos y daños, y otras actividades de servicios auxiliares.","6629 - Evaluación de riesgos y daños, y otras actividades de servicios auxiliares."]
[null,6630," - Actividades de administración de fondos.","6630 - Actividades de administración de fondos."]
[null,6810," - Actividades inmobiliarias realizadas con bienes propios o arrendados.","6810 - Actividades inmobiliarias realizadas con bienes propios o arrendados."]
[null,6820," - Actividades inmobiliarias realizadas a cambio de una retribución o por contrata.","6820 - Actividades inmobiliarias realizadas a cambio de una retribución o por contrata."]
[null,"6910"," - Actividades jurídicas.","6910 - Actividades jurídicas."]
[null,"6920"," - Actividades  de  contabilidad,  teneduría  de  libros,  auditoría  financiera  y  asesoría tributaria.","6920 - Actividades  de  contabilidad,  teneduría  de  libros,  auditoría  financiera  y  asesoría tributaria."]
[null,"7010"," - Actividades de administración empresarial.","7010 - Actividades de administración empresarial."]
[null,"7020"," - Actividades de consultoría de gestión.","7020 - Actividades de consultoría de gestión."]
[null,"7111"," - Actividades de arquitectura.",{"$f":"+CONCATENATE(B432,C432)","v":"7111 - Actividades de arquitectura."}]
[null,"7112"," - Actividades de ingeniería y otras actividades conexas de consultoría técnica.","7112 - Actividades de ingeniería y otras actividades conexas de consultoría técnica."]
[null,"7120"," - Ensayos y análisis técnicos.","7120 - Ensayos y análisis técnicos."]
[null,7210," - Investigaciones y desarrollo experimental en el campo de las ciencias naturales y la ingeniería.","7210 - Investigaciones y desarrollo experimental en el campo de las ciencias naturales y la ingeniería."]
[null,7220," - Investigaciones y desarrollo experimental en el campo de las ciencias sociales y las humanidades.","7220 - Investigaciones y desarrollo experimental en el campo de las ciencias sociales y las humanidades."]
[null,7310," - Publicidad.","7310 - Publicidad."]
[null,7320," - Estudios de mercado y realización de encuestas de opinión pública.","7320 - Estudios de mercado y realización de encuestas de opinión pública."]
[null,7410," - Actividades especializadas de diseño.","7410 - Actividades especializadas de diseño."]
[null,7420," - Actividades de fotografía.","7420 - Actividades de fotografía."]
[null,7490," - Otras actividades profesionales, científicas y técnicas n.c.p.","7490 - Otras actividades profesionales, científicas y técnicas n.c.p."]
[null,"7500"," - Actividades veterinarias.","7500 - Actividades veterinarias."]
[null,7710," - Alquiler y arrendamiento de vehículos automotores.","7710 - Alquiler y arrendamiento de vehículos automotores."]
[null,7721," - Alquiler y arrendamiento de equipo recreativo y deportivo.","7721 - Alquiler y arrendamiento de equipo recreativo y deportivo."]
[null,7722," - Alquiler de videos y discos.","7722 - Alquiler de videos y discos."]
[null,7729," - Alquiler y arrendamiento de otros efectos personales y enseres domésticos n.c.p.","7729 - Alquiler y arrendamiento de otros efectos personales y enseres domésticos n.c.p."]
[null,7730," - Alquiler y arrendamiento de otros tipos de maquinaria, equipo y bienes tangibles n.c.p.","7730 - Alquiler y arrendamiento de otros tipos de maquinaria, equipo y bienes tangibles n.c.p."]
[null,7740," - Arrendamiento de propiedad intelectual y productos similares, excepto obras protegidas por derechos de autor.","7740 - Arrendamiento de propiedad intelectual y productos similares, excepto obras protegidas por derechos de autor."]
[null,7810," - Actividades de agencias de gestión y colocación empleo.","7810 - Actividades de agencias de gestión y colocación empleo."]
[null,7820," - Actividades de empresas de servicios temporales.","7820 - Actividades de empresas de servicios temporales."]
[null,7830," - Otras actividades de provisión de talento humano.","7830 - Otras actividades de provisión de talento humano."]
[null,7911," - Actividades de las agencias de viaje.","7911 - Actividades de las agencias de viaje."]
[null,7912," - Actividades de operadores turísticos.","7912 - Actividades de operadores turísticos."]
[null,7990," - Otros servicios de reserva y  actividades relacionadas.","7990 - Otros servicios de reserva y  actividades relacionadas."]
[null,8010," - Actividades de seguridad privada.","8010 - Actividades de seguridad privada."]
[null,8020," - Actividades de servicios de sistemas de seguridad.","8020 - Actividades de servicios de sistemas de seguridad."]
[null,8030," - Actividades de detectives e investigadores privados.","8030 - Actividades de detectives e investigadores privados."]
[null,8110," - Actividades combinadas de apoyo a instalaciones.","8110 - Actividades combinadas de apoyo a instalaciones."]
[null,8121," - Limpieza general interior de edificios.","8121 - Limpieza general interior de edificios."]
[null,8129," - Otras actividades de limpieza de edificios e instalaciones industriales.","8129 - Otras actividades de limpieza de edificios e instalaciones industriales."]
[null,8130," - Actividades de paisajismo y servicios de mantenimiento conexos.","8130 - Actividades de paisajismo y servicios de mantenimiento conexos."]
[null,8211," - Actividades combinadas de servicios administrativos de oficina.","8211 - Actividades combinadas de servicios administrativos de oficina."]
[null,8219," - Fotocopiado,  oeparación  de  documentos  y  otras actividades  especializadas apoyo a oficina.","8219 - Fotocopiado,  oeparación  de  documentos  y  otras actividades  especializadas apoyo a oficina."]
[null,8220," - Actividades de centros de llamadas (call center).","8220 - Actividades de centros de llamadas (call center)."]
[null,8230," - Organización de convenciones y eventos comerciales.","8230 - Organización de convenciones y eventos comerciales."]
[null,8291," - Actividades de agencias de cobranza y oficinas de calificación crediticia.","8291 - Actividades de agencias de cobranza y oficinas de calificación crediticia."]
[null,8292," - Actividades de envase y empaque.","8292 - Actividades de envase y empaque."]
[null,8299," - Otras actividades de servicio de apoyo a las empresas n.c.p.","8299 - Otras actividades de servicio de apoyo a las empresas n.c.p."]
[null,"8411"," - Actividades legislativas de la administración pública.","8411 - Actividades legislativas de la administración pública."]
[null,"8412"," - Actividades ejecutivas de la administración pública.","8412 - Actividades ejecutivas de la administración pública."]
[null,"8413"," - Actividades de organismos que prestan servicios de salud, educativos, culturales y otros servicios sociales, excepto servicios de seguridad social.","8413 - Actividades de organismos que prestan servicios de salud, educativos, culturales y otros servicios sociales, excepto servicios de seguridad social."]
[null,8414," - Actividades reguladoras y facilitadoras de la actividad económica.","8414 - Actividades reguladoras y facilitadoras de la actividad económica."]
[null,8415," - Actividades de los órganos de control y otras instituciones.","8415 - Actividades de los órganos de control y otras instituciones."]
[null,8421," - Relaciones exteriores.","8421 - Relaciones exteriores."]
[null,8422," - Actividades de defensa.","8422 - Actividades de defensa."]
[null,8423," - Orden público y actividades de seguridad.","8423 - Orden público y actividades de seguridad."]
[null,8424," - Administración de justicia.","8424 - Administración de justicia."]
[null,8430," - Actividades de planes de seguridad social de afiliación obligatoria.","8430 - Actividades de planes de seguridad social de afiliación obligatoria."]
[null,8511," - Educación de la primera infancia.","8511 - Educación de la primera infancia."]
[null,8512," - Educación preescolar.","8512 - Educación preescolar."]
[null,8513," - Educación básica primaria.","8513 - Educación básica primaria."]
[null,8521," - Educación básica secundaria.","8521 - Educación básica secundaria."]
[null,8522," - Educación media académica.","8522 - Educación media académica."]
[null,8523," - Educación media técnica.","8523 - Educación media técnica."]
[null,8530," - Establecimientos que combinan diferentes niveles de educación.","8530 - Establecimientos que combinan diferentes niveles de educación."]
[null,8541," - Educación técnica profesional.","8541 - Educación técnica profesional."]
[null,8542," - Educación tecnológica.","8542 - Educación tecnológica."]
[null,8543," - Educación de instituciones universitarias o de escuelas tecnológicas.","8543 - Educación de instituciones universitarias o de escuelas tecnológicas."]
[null,8544," - Educación de universidades.","8544 - Educación de universidades."]
[null,8551," - Formación para el trabajo.","8551 - Formación para el trabajo."]
[null,8552," - Enseñanza deportiva y recreativa.","8552 - Enseñanza deportiva y recreativa."]
[null,8553," - Enseñanza cultural.","8553 - Enseñanza cultural."]
[null,8559," - Otros tipos de educación n.c.p.","8559 - Otros tipos de educación n.c.p."]
[null,8560," - Actividades de apoyo a la educación.","8560 - Actividades de apoyo a la educación."]
[null,8610," - Actividades de hospitales y clínicas, con internación.","8610 - Actividades de hospitales y clínicas, con internación."]
[null,8621," - Actividades de la práctica médica, sin internación.",{"$f":"+CONCATENATE(B496,C496)","v":"8621 - Actividades de la práctica médica, sin internación."}]
[null,8622," - Actividades de la práctica odontológica.","8622 - Actividades de la práctica odontológica."]
[null,8691," - Actividades de apoyo diagnóstico.","8691 - Actividades de apoyo diagnóstico."]
[null,8692," - Actividades de apoyo terapéutico.","8692 - Actividades de apoyo terapéutico."]
[null,8699," - Otras actividades de atención de la salud humana.","8699 - Otras actividades de atención de la salud humana."]
[null,8710," - Actividades de atención residencial medicalizada de tipo general.","8710 - Actividades de atención residencial medicalizada de tipo general."]
[null,8720," - Actividades de atención residencial, para el cuidado de pacientes con retardo mental, enfermedad mental y consumo de sustancias psicoactivas.","8720 - Actividades de atención residencial, para el cuidado de pacientes con retardo mental, enfermedad mental y consumo de sustancias psicoactivas."]
[null,"8730"," - Actividades de atención en instituciones para el cuidado de personas mayores y/o discapacitadas.","8730 - Actividades de atención en instituciones para el cuidado de personas mayores y/o discapacitadas."]
[null,8790," - Otras actividades de atención en instituciones con alojamiento.","8790 - Otras actividades de atención en instituciones con alojamiento."]
[null,8810," - Actividades de asistencia social sin alojamiento para personas mayores y discapacitadas.","8810 - Actividades de asistencia social sin alojamiento para personas mayores y discapacitadas."]
[null,8891," - Actividades de guarderías para niños y niñas.","8891 - Actividades de guarderías para niños y niñas."]
[null,8899," - Otras actividades de asistencia social n.c.p.","8899 - Otras actividades de asistencia social n.c.p."]
[null,9001," - Creación literaria.","9001 - Creación literaria."]
[null,9002," - Creación musical.","9002 - Creación musical."]
[null,9003," - Creación teatral.","9003 - Creación teatral."]
[null,9004," - Creación audiovisual.","9004 - Creación audiovisual."]
[null,9005," - Artes plásticas y visuales.","9005 - Artes plásticas y visuales."]
[null,9006," - Actividades teatrales.","9006 - Actividades teatrales."]
[null,9007," - Actividades de espectáculos musicales en vivo.","9007 - Actividades de espectáculos musicales en vivo."]
[null,9008," - Otras actividades de espectáculos en vivo n.c.p.","9008 - Otras actividades de espectáculos en vivo n.c.p."]
[null,9101," - Actividades de bibliotecas y archivos.","9101 - Actividades de bibliotecas y archivos."]
[null,9102," - Actividades   y   funcionamiento   de   museos,   conservación   de   edificios   y   sitios históricos.","9102 - Actividades   y   funcionamiento   de   museos,   conservación   de   edificios   y   sitios históricos."]
[null,9103," - Actividades de jardines botánicos, zoológicos y reservas naturales.","9103 - Actividades de jardines botánicos, zoológicos y reservas naturales."]
[null,"9200"," - Actividades de juegos de azar y apuestas.","9200 - Actividades de juegos de azar y apuestas."]
[null,9311," - Gestión de instalaciones deportivas.","9311 - Gestión de instalaciones deportivas."]
[null,9312," - Actividades de clubes deportivos.","9312 - Actividades de clubes deportivos."]
[null,9319," - Otras actividades deportivas.","9319 - Otras actividades deportivas."]
[null,9321," - Actividades de parques de atracciones y parques temáticos.","9321 - Actividades de parques de atracciones y parques temáticos."]
[null,9329," - Otras actividades recreativas y de esparcimiento n.c.p.","9329 - Otras actividades recreativas y de esparcimiento n.c.p."]
[null,9411," - Actividades de asociaciones empresariales y de empleadores.","9411 - Actividades de asociaciones empresariales y de empleadores."]
[null,9412," - Actividades de asociaciones profesionales.","9412 - Actividades de asociaciones profesionales."]
[null,9420," - Actividades de sindicatos de empleados.","9420 - Actividades de sindicatos de empleados."]
[null,9491," - Actividades de asociaciones religiosas.","9491 - Actividades de asociaciones religiosas."]
[null,"9492"," - Actividades de asociaciones políticas.","9492 - Actividades de asociaciones políticas."]
[null,9499," - Actividades de otras asociaciones n.c.p.","9499 - Actividades de otras asociaciones n.c.p."]
[null,9511," - Mantenimiento y reparación de computadores y de equipo periférico.","9511 - Mantenimiento y reparación de computadores y de equipo periférico."]
[null,9512," - Mantenimiento y reparación de equipos de comunicación.","9512 - Mantenimiento y reparación de equipos de comunicación."]
[null,9521," - Mantenimiento y reparación de aparatos electrónicos de consumo.","9521 - Mantenimiento y reparación de aparatos electrónicos de consumo."]
[null,9522," - Mantenimiento y reparación de aparatos y equipos domésticos y de jardinería.","9522 - Mantenimiento y reparación de aparatos y equipos domésticos y de jardinería."]
[null,9523," - Reparación de calzado y artículos de cuero.","9523 - Reparación de calzado y artículos de cuero."]
[null,9524," - Reparación de muebles y accesorios para el hogar.","9524 - Reparación de muebles y accesorios para el hogar."]
[null,9529," - Mantenimiento y reparación de otros efectos personales y enseres domésticos.","9529 - Mantenimiento y reparación de otros efectos personales y enseres domésticos."]
[null,"9601"," - Lavado y limpieza, incluso la limpieza en seco, de productos textiles y de piel.","9601 - Lavado y limpieza, incluso la limpieza en seco, de productos textiles y de piel."]
[null,"9602"," - Peluquería y otros tratamientos de belleza.","9602 - Peluquería y otros tratamientos de belleza."]
[null,"9603"," - Pompas fúnebres y actividades relacionadas.","9603 - Pompas fúnebres y actividades relacionadas."]
[null,"9609"," - Otras actividades de servicios personales n.c.p.","9609 - Otras actividades de servicios personales n.c.p."]
[null,"9700"," - Actividades de los hogares individuales como empleadores de personal doméstico.","9700 - Actividades de los hogares individuales como empleadores de personal doméstico."]
[null,"9810"," - Actividades no diferenciadas de los hogares individuales como productores de bienes para uso propio.","9810 - Actividades no diferenciadas de los hogares individuales como productores de bienes para uso propio."]
[null,"9820"," - Actividades no diferenciadas de los hogares individuales como productores de servicios para uso propio.","9820 - Actividades no diferenciadas de los hogares individuales como productores de servicios para uso propio."]
[null,"9900"," - Actividades de organizaciones y entidades extraterritoriales.","9900 - Actividades de organizaciones y entidades extraterritoriales."]
[null,"0010"," - Asalariados","0010 - Asalariados"]
[null,"0020"," - Pensionados","0020 - Pensionados"]
[null,"0081"," - Personas naturales y sucesiones ilíquidas sin actividad económica","0081 - Personas naturales y sucesiones ilíquidas sin actividad económica"]
[null,"0082"," - Personas naturales subsidiadas por terceros","0082 - Personas naturales subsidiadas por terceros"]
[null,"0090"," - Rentistas de Capital, solo para personas naturales y sucesiones ilíquidas.","0090 - Rentistas de Capital, solo para personas naturales y sucesiones ilíquidas."]
[{"$nulls":3},""]
[]
[]
[]
[null,"Código","Lugares Administrativos","Código"]
[null,"00 - ","Nivel Central",{"$f":"+CONCATENATE(B556,C556)","v":"00 - Nivel Central"}]
[null,"01 - ","Dirección Seccional de Impuestos y Aduanas de Armenia",{"$f":"+CONCATENATE(B557,C557)","v":"01 - Dirección Seccional de Impuestos y Aduanas de Armenia"}]
[null,"02 - ","Dirección Seccional de Impuestos de Barranquilla","02 - Dirección Seccional de Impuestos de Barranquilla"]
[null,"03 - ","Dirección Seccional de Aduanas de Bogotá – Aeropuerto El Dorado","03 - Dirección Seccional de Aduanas de Bogotá – Aeropuerto El Dorado"]
[null,"04 - ","Dirección Seccional de Impuestos y Aduanas de Bucaramanga","04 - Dirección Seccional de Impuestos y Aduanas de Bucaramanga"]
[null,"05 - ","Dirección Seccional de Impuestos de Cali","05 - Dirección Seccional de Impuestos de Cali"]
[null,"06 - ","Dirección Seccional de Impuestos de Cartagena","06 - Dirección Seccional de Impuestos de Cartagena"]
[null,"07 - ","Dirección Seccional de Impuestos de Cúcuta","07 - Dirección Seccional de Impuestos de Cúcuta"]
[null,"08 - ","Dirección Seccional de Impuestos y Aduanas de Girardot","08 - Dirección Seccional de Impuestos y Aduanas de Girardot"]
[null,"09 - ","Dirección Seccional de Impuestos y Aduanas de Ibagué","09 - Dirección Seccional de Impuestos y Aduanas de Ibagué"]
[null,"10 - ","Dirección Seccional de Impuestos y Aduanas de Manizales","10 - Dirección Seccional de Impuestos y Aduanas de Manizales"]
[null,"11 - ","Dirección Seccional de Impuestos de Medellín","11 - Dirección Seccional de Impuestos de Medellín"]
[null,"12 - ","Dirección Seccional de Impuestos y Aduanas de Montería","12 - Dirección Seccional de Impuestos y Aduanas de Montería"]
[null,"13 - ","Dirección Seccional de Impuestos y Aduanas de Neiva","13 - Dirección Seccional de Impuestos y Aduanas de Neiva"]
[null,"14 - ","Dirección Seccional de Impuestos y Aduanas de Pasto","14 - Dirección Seccional de Impuestos y Aduanas de Pasto"]
[null,"15 - ","Dirección Seccional de Impuestos y Aduanas de Palmira","15 - Dirección Seccional de Impuestos y Aduanas de Palmira"]
[null,"16 - ","Dirección Seccional de Impuestos y Aduanas de Pereira","16 - Dirección Seccional de Impuestos y Aduanas de Pereira"]
[null,"17 - ","Dirección Seccional de Impuestos y Aduanas de Popayán","17 - Dirección Seccional de Impuestos y Aduanas de Popayán"]
[null,"18 - ","Dirección Seccional de Impuestos y Aduanas de Quibdó","18 - Dirección Seccional de Impuestos y Aduanas de Quibdó"]
[null,"19 - ","Dirección Seccional de Impuestos y Aduanas de Santa Marta","19 - Dirección Seccional de Impuestos y Aduanas de Santa Marta"]
[null,"20 - ","Dirección Seccional de Impuestos y Aduanas de Tunja","20 - Dirección Seccional de Impuestos y Aduanas de Tunja"]
[null,"21 - ","Dirección Seccional de Impuestos y Aduanas de Tuluá","21 - Dirección Seccional de Impuestos y Aduanas de Tuluá"]
[null,"22 - ","Dirección Seccional de Impuestos y Aduanas de Villavicencio","22 - Dirección Seccional de Impuestos y Aduanas de Villavicencio"]
[null,"23 - ","Dirección Seccional de Impuestos y Aduanas de Sincelejo","23 - Dirección Seccional de Impuestos y Aduanas de Sincelejo"]
[null,"24 - ","Dirección Seccional de Impuestos y Aduanas de Valledupar","24 - Dirección Seccional de Impuestos y Aduanas de Valledupar"]
[null,"25 - ","Dirección Seccional de Impuestos y Aduanas de Riohacha","25 - Dirección Seccional de Impuestos y Aduanas de Riohacha"]
[null,"26 - ","Dirección Seccional de Impuestos y Aduanas de Sogamoso","26 - Dirección Seccional de Impuestos y Aduanas de Sogamoso"]
[null,"27 - ","Dirección Seccional de Impuestos y Aduanas de San Andrés","27 - Dirección Seccional de Impuestos y Aduanas de San Andrés"]
[null,"28 - ","Dirección Seccional de Impuestos y Aduanas de Florencia","28 - Dirección Seccional de Impuestos y Aduanas de Florencia"]
[null,"29 - ","Dirección Seccional de Impuestos y Aduanas de Barrancabermeja","29 - Dirección Seccional de Impuestos y Aduanas de Barrancabermeja"]
[null,"31 - ","Dirección Operativa de Grandes Contribuyentes","31 - Dirección Operativa de Grandes Contribuyentes"]
[null,"32 - ","Dirección Seccional de Impuestos de Bogotá","32 - Dirección Seccional de Impuestos de Bogotá"]
[null,"34 - ","Dirección Seccional de Impuestos y Aduanas de Arauca","34 - Dirección Seccional de Impuestos y Aduanas de Arauca"]
[null,"35 - ","Dirección Seccional de Impuestos y Aduanas de Buenaventura","35 - Dirección Seccional de Impuestos y Aduanas de Buenaventura"]
[null,"37 - ","Dirección Seccional de Impuestos y Aduanas de Ipiales","37 - Dirección Seccional de Impuestos y Aduanas de Ipiales"]
[null,"38 - ","Dirección Seccional de Impuestos y Aduanas de Leticia","38 - Dirección Seccional de Impuestos y Aduanas de Leticia"]
[null,"39 - ","Dirección Seccional de Impuestos y Aduanas de Maicao","39 - Dirección Seccional de Impuestos y Aduanas de Maicao"]
[null,"40 - ","Dirección Seccional de Impuestos y Aduanas de Tumaco","40 - Dirección Seccional de Impuestos y Aduanas de Tumaco"]
[null,"41 - ","Dirección Seccional de Impuestos y Aduanas de Urabá","41 - Dirección Seccional de Impuestos y Aduanas de Urabá"]
[null,"42 - ","Dirección Seccional Delegada de Impuestos y Aduanas de Puerto Carreño","42 - Dirección Seccional Delegada de Impuestos y Aduanas de Puerto Carreño"]
[null,"43 - ","Dirección Seccional Delegada de Impuestos y Aduanas de Puerto Inírida","43 - Dirección Seccional Delegada de Impuestos y Aduanas de Puerto Inírida"]
[null,"44 - ","Dirección Seccional de Impuestos y Aduanas de Yopal","44 - Dirección Seccional de Impuestos y Aduanas de Yopal"]
[null,"45 - ","Dirección Seccional Delegada de Impuestos y Aduanas Mitú","45 - Dirección Seccional Delegada de Impuestos y Aduanas Mitú"]
[null,"46 - ","Dirección Seccional de Impuestos y Aduanas de Puerto Asís","46 - Dirección Seccional de Impuestos y Aduanas de Puerto Asís"]
[null,"48 - ","Dirección Seccional de Aduanas de Cartagena","48 - Dirección Seccional de Aduanas de Cartagena"]
[null,"78 - ","Dirección Seccional Delegada de Impuestos y Aduanas de San José de Guaviare","78 - Dirección Seccional Delegada de Impuestos y Aduanas de San José de Guaviare"]
[null,"86 - ","Dirección Seccional Delegada de Impuestos y Aduanas de Pamplona","86 - Dirección Seccional Delegada de Impuestos y Aduanas de Pamplona"]
[null,"87 - ","Dirección Seccional de Aduanas de Barranquilla","87 - Dirección Seccional de Aduanas de Barranquilla"]
[null,"88 - ","Dirección Seccional de Aduanas de Cali","88 - Dirección Seccional de Aduanas de Cali"]
[null,"89 - ","Dirección Seccional de Aduanas de Cúcuta","89 - Dirección Seccional de Aduanas de Cúcuta"]
[null,"90 - ","Dirección Seccional de Aduanas de Medellín","90 - Dirección Seccional de Aduanas de Medellín"]
[null,"91 - ","Dirección Seccional de Aduanas de Bogotá","91 - Dirección Seccional de Aduanas de Bogotá"]
[{"$nulls":3},""]

{"sheet":"Campos_Ingreso_Datos","index":1,"n_rows":743,"n_cols":6,"rows_kept":743,"hidden":true}
["SEGMENTO","Vinculo","Rango","Formato","Ubicacion_Original","Restablacer"]
["Datos basicos empresa",{"$f":"' '!$F$47","v":0},{"$f":"FORMULATEXTO_Act(Campos_Ingreso_Datos[[#This Row],[Vinculo]])","v":"=' '!$F$47"},"General","Datos basicos empresa$E$5"]
["Datos basicos empresa",{"$f":"' '!$F$48","v":0},{"$f":"FORMULATEXTO_Act(Campos_Ingreso_Datos[[#This Row],[Vinculo]])","v":"=' '!$F$48"},"#,##0","Datos basicos empresa$E$6"]
[null,{"$f":"' '!$F$50","v":"0112 - Cultivo de arroz."},{"$f":"FORMULATEXTO_Act(Campos_Ingreso_Datos[[#This Row],[Vinculo]])","v":"=' '!$F$50"},null,"Datos basicos empresa$E$8"]
[null,{"$f":"' '!$F$51","v":0},{"$f":"FORMULATEXTO_Act(Campos_Ingreso_Datos[[#This Row],[Vinculo]])","v":"=' '!$F$51"},null,"Datos basicos empresa$E$9"]
[null,{"$f":"' '!$F$52","v":0},{"$f":"FORMULATEXTO_Act(Campos_Ingreso_Datos[[#This Row],[Vinculo]])","v":"=' '!$F$52"},null,"Datos basicos empresa$E$10"]
[null,{"$f":"' '!$F$54","v":0},{"$f":"FORMULATEXTO_Act(Campos_Ingreso_Datos[[#This Row],[Vinculo]])","v":"=' '!$F$54"},null,"Datos basicos empresa$E$12"]
[null,{"$f":"' '!$F$55","v":"Detallada"},{"$f":"FORMULATEXTO_Act(Campos_Ingreso_Datos[[#This Row],[Vinculo]])","v":"=' '!$F$55"},null,"Datos basicos empresa$E$13"]
["Info. años anteriores",{"$f":"' '!$E$62","v":0},{"$f":"FORMULATEXTO_Act(Campos_Ingreso_Datos[[#This Row],[Vinculo]])","v":"=' '!$E$62"},"#,##0","Info. años anteriores$D$5"]
["Info. años anteriores",{"$f":"' '!$F$62","v":0},{"$f":"FORMULATEXTO_Act(Campos_Ingreso_Datos[[#This Row],[Vinculo]])","v":"=' '!$F$62"},"#,##0","Info. años anteriores$E$5"]
["Info. años anteriores",{"$f":"' '!$E$63","v":0},{"$f":"FORMULATEXTO_Act(Campos_Ingreso_Datos[[#This Row],[Vinculo]])","v":"=' '!$E$63"},"#,##0","Info. años anteriores$D$6"]
["Info. años anteriores",{"$f":"' '!$F$63","v":0},{"$f":"FORMULATEXTO_Act(Campos_Ingreso_Datos[[#This Row],[Vinculo]])","v":"=' '!$F$63"},"#,##0","Info. años anteriores$E$6"]
["Info. años anteriores",{"$f":"' '!$E$64","v":0},{"$f":"FORMULATEXTO_Act(Campos_Ingreso_Datos[[#This Row],[Vinculo]])","v":"=' '!$E$64"},"#,##0","Info. años anteriores$D$7"]
["Info. años anteriores",{"$f":"' '!$F$64","v":0},{"$f":"FORMULATEXTO_Act(Campos_Ingreso_Datos[[#This Row],[Vinculo]])","v":"=' '!$F$64"},"#,##0","Info. años anteriores$E$7"]
["Info. años anteriores",{"$f":"' '!$E$67","v":0},{"$f":"FORMULATEXTO_Act(Campos_Ingreso_Datos[[#This Row],[Vinculo]])","v":"=' '!$E$67"},"#,##0","Info. años anteriores$D$8"]
["Info. años anteriores",{"$f":"' '!$F$67","v":0},{"$f":"FORMULATEXTO_Act(Campos_Ingreso_Datos[[#This Row],[Vinculo]])","v":"=' '!$F$67"},"#,##0","Info. años anteriores$E$8"]
["Info. años anteriores",{"$f":"' '!$E$68","v":0},{"$f":"FORMULATEXTO_Act(Campos_Ingreso_Datos[[#This Row],[Vinculo]])","v":"=' '!$E$68"},"#,##0","Info. años anteriores$D$9"]
["Info. años anteriores",{"$f":"' '!$F$68","v":0},{"$f":"FORMULATEXTO_Act(Campos_Ingreso_Datos[[#This Row],[Vinculo]])","v":"=' '!$F$68"},"#,##0","Info. años anteriores$E$9"]
["Info. años anteriores",{"$f":"' '!$E$71","v":0},{"$f":"FORMULATEXTO_Act(Campos_Ingreso_Datos[[#This Row],[Vinculo]])","v":"=' '!$E$71"},"#,##0","Info. años anteriores$D$10"]
["Info. años anteriores",{"$f":"' '!$F$71","v":0},{"$f":"FORMULATEXTO_Act(Campos_Ingreso_Datos[[#This Row],[Vinculo]])","v":"=' '!$F$71"},"#,##0","Info. años anteriores$E$10"]
["Info. años anteriores",{"$f":"' '!$E$72","v":0},{"$f":"FORMULATEXTO_Act(Campos_Ingreso_Datos[[#This Row],[Vinculo]])","v":"=' '!$E$72"},"#,##0","Info. años anteriores$D$11"]
["Info. años anteriores",{"$f":"' '!$F$72","v":0},{"$f":"FORMULATEXTO_Act(Campos_Ingreso_Datos[[#This Row],[Vinculo]])","v":"=' '!$F$72"},"#,##0","Info. años anteriores$E$11"]
["Info. años anteriores",{"$f":"' '!$E$73","v":0},{"$f":"FORMULATEXTO_Act(Campos_Ingreso_Datos[[#This Row],[Vinculo]])","v":"=' '!$E$73"},"#,##0","Info. años anteriores$D$12"]
["Info. años anteriores",{"$f":"' '!$F$73","v":0},{"$f":"FORMULATEXTO_Act(Campos_Ingreso_Datos[[#This Row],[Vinculo]])","v":"=' '!$F$73"},"#,##0","Info. años anteriores$E$12"]
["Info. años anteriores",{"$f":"' '!$E$74","v":0},{"$f":"FORMULATEXTO_Act(Campos_Ingreso_Datos[[#This Row],[Vinculo]])","v":"=' '!$E$74"},"#,##0","Info. años anteriores$D$13"]
["Info. años anteriores",{"$f":"' '!$F$74","v":0},{"$f":"FORMULATEXTO_Act(Campos_Ingreso_Datos[[#This Row],[Vinculo]])","v":"=' '!$F$74"},"#,##0","Info. años anteriores$E$13"]
["Info. años anteriores",{"$f":"' '!$E$75","v":0},{"$f":"FORMULATEXTO_Act(Campos_Ingreso_Datos[[#This Row],[Vinculo]])","v":"=' '!$E$75"},"#,##0","Info. años anteriores$D$14"]
["Info. años anteriores",{"$f":"' '!$F$75","v":0},{"$f":"FORMULATEXTO_Act(Campos_Ingreso_Datos[[#This Row],[Vinculo]])","v":"=' '!$F$75"},"#,##0","Info. años anteriores$E$14"]
["Info. años anteriores",{"$f":"' '!$E$76","v":0},{"$f":"FORMULATEXTO_Act(Campos_Ingreso_Datos[[#This Row],[Vinculo]])","v":"=' '!$E$76"},"#,##0","Info. años anteriores$D$15"]
["Info. años anteriores",{"$f":"' '!$F$76","v":0},{"$f":"FORMULATEXTO_Act(Campos_Ingreso_Datos[[#This Row],[Vinculo]])","v":"=' '!$F$76"},"#,##0","Info. años anteriores$E$15"]
["Info. años anteriores",{"$f":"' '!$E$77","v":0},{"$f":"FORMULATEXTO_Act(Campos_Ingreso_Datos[[#This Row],[Vinculo]])","v":"=' '!$E$77"},"#,##0","Info. años anteriores$D$16"]
["Info. años anteriores",{"$f":"' '!$F$77","v":0},{"$f":"FORMULATEXTO_Act(Campos_Ingreso_Datos[[#This Row],[Vinculo]])","v":"=' '!$F$77"},"#,##0","Info. años anteriores$E$16"]
["Info. años anteriores",{"$f":"' '!$E$78","v":0},{"$f":"FORMULATEXTO_Act(Campos_Ingreso_Datos[[#This Row],[Vinculo]])","v":"=' '!$E$78"},"#,##0","Info. años anteriores$D$17"]
["Info. años anteriores",{"$f":"' '!$F$78","v":0},{"$f":"FORMULATEXTO_Act(Campos_Ingreso_Datos[[#This Row],[Vinculo]])","v":"=' '!$F$78"},"#,##0","Info. años anteriores$E$17"]
["Info. años anteriores",{"$f":"' '!$E$79","v":0},{"$f":"FORMULATEXTO_Act(Campos_Ingreso_Datos[[#This Row],[Vinculo]])","v":"=' '!$E$79"},"#,##0","Info. años anteriores$D$18"]
["Info. años anteriores",{"$f":"' '!$F$79","v":0},{"$f":"FORMULATEXTO_Act(Campos_Ingreso_Datos[[#This Row],[Vinculo]])","v":"=' '!$F$79"},"#,##0","Info. años anteriores$E$18"]
["Info. años anteriores",{"$f":"' '!$E$80","v":0},{"$f":"FORMULATEXTO_Act(Campos_Ingreso_Datos[[#This Row],[Vinculo]])","v":"=' '!$E$80"},"#,##0","Info. años anteriores$D$19"]
["Info. años anteriores",{"$f":"' '!$F$80","v":0},{"$f":"FORMULATEXTO_Act(Campos_Ingreso_Datos[[#This Row],[Vinculo]])","v":"=' '!$F$80"},"#,##0","Info. años anteriores$E$19"]
["Info. años anteriores",{"$f":"' '!$E$81","v":0},{"$f":"FORMULATEXTO_Act(Campos_Ingreso_Datos[[#This Row],[Vinculo]])","v":"=' '!$E$81"},"#,##0","Info. años anteriores$D$20"]
["Info. años anteriores",{"$f":"' '!$F$81","v":0},{"$f":"FORMULATEXTO_Act(Campos_Ingreso_Datos[[#This Row],[Vinculo]])","v":"=' '!$F$81"},"#,##0","Info. años anteriores$E$20"]
["Info. años anteriores",{"$f":"' '!$E$82","v":0},{"$f":"FORMULATEXTO_Act(Campos_Ingreso_Datos[[#This Row],[Vinculo]])","v":"=' '!$E$82"},"#,##0","Info. años anteriores$D$21"]
["Info. años anteriores",{"$f":"' '!$F$82","v":0},{"$f":"FORMULATEXTO_Act(Campos_Ingreso_Datos[[#This Row],[Vinculo]])","v":"=' '!$F$82"},"#,##0","Info. años anteriores$E$21"]
["Info. años anteriores",{"$f":"' '!$E$83","v":0},{"$f":"FORMULATEXTO_Act(Campos_Ingreso_Datos[[#This Row],[Vinculo]])","v":"=' '!$E$83"},"#,##0","Info. años anteriores$D$22"]
["Info. años anteriores",{"$f":"' '!$F$83","v":0},{"$f":"FORMULATEXTO_Act(Campos_Ingreso_Datos[[#This Row],[Vinculo]])","v":"=' '!$F$83"},"#,##0","Info. años anteriores$E$22"]
["Det. Acum. CxC",{"$f":"' '!$U$224","v":{"v":0,"d":"0.00%"}},{"$f":"FORMULATEXTO_Act(Campos_Ingreso_Datos[[#This Row],[Vinculo]])","v":"=' '!$U$224"},"dd/mm/yyyy;@","Det. Acum. CxC$T$3"]
["Det. Acum. CxC",{"$f":"' '!$U$225","v":0},{"$f":"FORMULATEXTO_Act(Campos_Ingreso_Datos[[#This Row],[Vinculo]])","v":"=' '!$U$225"},"General","Det. Acum. CxC$T$4"]
["Det. Acum. CxC",{"$f":"' '!$U$226","v":{"v":0,"d":"0.00%"}},{"$f":"FORMULATEXTO_Act(Campos_Ingreso_Datos[[#This Row],[Vinculo]])","v":"=' '!$U$226"},"0.0%","Det. Acum. CxC$T$5"]
[null,{"$f":"' '!$U$229","v":{"v":0,"d":"0.00%"}},{"$f":"FORMULATEXTO_Act(Campos_Ingreso_Datos[[#This Row],[Vinculo]])","v":"=' '!$U$229"},null,"Det. Acum. CxC$T$8"]
[null,{"$f":"' '!$U$230","v":{"v":0,"d":"0.00%"}},{"$f":"FORMULATEXTO_Act(Campos_Ingreso_Datos[[#This Row],[Vinculo]])","v":"=' '!$U$230"},null,"Det. Acum. CxC$T$9"]
[null,{"$f":"' '!$Q$338","v":{"v":0,"d":"0.00%"}},{"$f":"FORMULATEXTO_Act(Campos_Ingreso_Datos[[#This Row],[Vinculo]])","v":"=' '!$Q$338"},null,"Dep. Acum. P, P y E$P$3"]
[null,{"$f":"' '!$N$408","v":{"v":0,"d":"0.00%"}},{"$f":"FORMULATEXTO_Act(Campos_Ingreso_Datos[[#This Row],[Vinculo]])","v":"=' '!$N$408"},null,"Amort. Acum Act. Intang.$M$3"]
[null,{"$f":"' '!$Q$454","v":{"v":0,"d":"0.00%"}},{"$f":"FORMULATEXTO_Act(Campos_Ingreso_Datos[[#This Row],[Vinculo]])","v":"=' '!$Q$454"},null,"Dep. Acum. Prop. Inver$P$3"]
[null,{"$f":"' '!$P$512","v":{"v":0,"d":"0.00%"}},{"$f":"FORMULATEXTO_Act(Campos_Ingreso_Datos[[#This Row],[Vinculo]])","v":"=' '!$P$512"},null,"Dep. Acum Act. Biol$O$3"]
["Pérdidas Fiscales",{"$f":"' '!$C$605","v":0},{"$f":"FORMULATEXTO_Act(Campos_Ingreso_Datos[[#This Row],[Vinculo]])","v":"=' '!$C$605"},"General","Pérdidas Fiscales$B$4"]
["Pérdidas Fiscales",{"$f":"' '!$D$605","v":0},{"$f":"FORMULATEXTO_Act(Campos_Ingreso_Datos[[#This Row],[Vinculo]])","v":"=' '!$D$605"},"#,##0","Pérdidas Fiscales$C$4"]
["Pérdidas Fiscales",{"$f":"' '!$E$605","v":0},{"$f":"FORMULATEXTO_Act(Campos_Ingreso_Datos[[#This Row],[Vinculo]])","v":"=' '!$E$605"},"#,##0","Pérdidas Fiscales$D$4"]
["Pérdidas Fiscales",{"$f":"' '!$F$605","v":0},{"$f":"FORMULATEXTO_Act(Campos_Ingreso_Datos[[#This Row],[Vinculo]])","v":"=' '!$F$605"},"#,##0","Pérdidas Fiscales$E$4"]
["Pérdidas Fiscales",{"$f":"' '!$C$606","v":0},{"$f":"FORMULATEXTO_Act(Campos_Ingreso_Datos[[#This Row],[Vinculo]])","v":"=' '!$C$606"},"General","Pérdidas Fiscales$B$5"]
["Pérdidas Fiscales",{"$f":"' '!$D$606","v":0},{"$f":"FORMULATEXTO_Act(Campos_Ingreso_Datos[[#This Row],[Vinculo]])","v":"=' '!$D$606"},"#,##0","Pérdidas Fiscales$C$5"]
["Pérdidas Fiscales",{"$f":"' '!$E$606","v":0},{"$f":"FORMULATEXTO_Act(Campos_Ingreso_Datos[[#This Row],[Vinculo]])","v":"=' '!$E$606"},"#,##0","Pérdidas Fiscales$D$5"]
["Pérdidas Fiscales",{"$f":"' '!$F$606","v":0},{"$f":"FORMULATEXTO_Act(Campos_Ingreso_Datos[[#This Row],[Vinculo]])","v":"=' '!$F$606"},"#,##0","Pérdidas Fiscales$E$5"]
["Pérdidas Fiscales",{"$f":"' '!$C$607","v":0},{"$f":"FORMULATEXTO_Act(Campos_Ingreso_Datos[[#This Row],[Vinculo]])","v":"=' '!$C$607"},"General","Pérdidas Fiscales$B$6"]
["Pérdidas Fiscales",{"$f":"' '!$D$607","v":0},{"$f":"FORMULATEXTO_Act(Campos_Ingreso_Datos[[#This Row],[Vinculo]])","v":"=' '!$D$607"},"#,##0","Pérdidas Fiscales$C$6"]
["Pérdidas Fiscales",{"$f":"' '!$E$607","v":0},{"$f":"FORMULATEXTO_Act(Campos_Ingreso_Datos[[#This Row],[Vinculo]])","v":"=' '!$E$607"},"#,##0","Pérdidas Fiscales$D$6"]
["Pérdidas Fiscales",{"$f":"' '!$F$607","v":0},{"$f":"FORMULATEXTO_Act(Campos_Ingreso_Datos[[#This Row],[Vinculo]])","v":"=' '!$F$607"},"#,##0","Pérdidas Fiscales$E$6"]
["Pérdidas Fiscales",{"$f":"' '!$C$608","v":0},{"$f":"FORMULATEXTO_Act(Campos_Ingreso_Datos[[#This Row],[Vinculo]])","v":"=' '!$C$608"},"General","Pérdidas Fiscales$B$7"]
["Pérdidas Fiscales",{"$f":"' '!$D$608","v":0},{"$f":"FORMULATEXTO_Act(Campos_Ingreso_Datos[[#This Row],[Vinculo]])","v":"=' '!$D$608"},"#,##0","Pérdidas Fiscales$C$7"]
["Pérdidas Fiscales",{"$f":"' '!$E$608","v":0},{"$f":"FORMULATEXTO_Act(Campos_Ingreso_Datos[[#This Row],[Vinculo]])","v":"=' '!$E$608"},"#,##0","Pérdidas Fiscales$D$7"]
["Pérdidas Fiscales",{"$f":"' '!$F$608","v":0},{"$f":"FORMULATEXTO_Act(Campos_Ingreso_Datos[[#This Row],[Vinculo]])","v":"=' '!$F$608"},"#,##0","Pérdidas Fiscales$E$7"]
["Pérdidas Fiscales",{"$f":"' '!$C$609","v":0},{"$f":"FORMULATEXTO_Act(Campos_Ingreso_Datos[[#This Row],[Vinculo]])","v":"=' '!$C$609"},"General","Pérdidas Fiscales$B$8"]
["Pérdidas Fiscales",{"$f":"' '!$D$609","v":0},{"$f":"FORMULATEXTO_Act(Campos_Ingreso_Datos[[#This Row],[Vinculo]])","v":"=' '!$D$609"},"#,##0","Pérdidas Fiscales$C$8"]
["Pérdidas Fiscales",{"$f":"' '!$E$609","v":0},{"$f":"FORMULATEXTO_Act(Campos_Ingreso_Datos[[#This Row],[Vinculo]])","v":"=' '!$E$609"},"#,##0","Pérdidas Fiscales$D$8"]
["Pérdidas Fiscales",{"$f":"' '!$F$609","v":0},{"$f":"FORMULATEXTO_Act(Campos_Ingreso_Datos[[#This Row],[Vinculo]])","v":"=' '!$F$609"},"#,##0","Pérdidas Fiscales$E$8"]
["Pérdidas Fiscales",{"$f":"' '!$C$610","v":0},{"$f":"FORMULATEXTO_Act(Campos_Ingreso_Datos[[#This Row],[Vinculo]])","v":"=' '!$C$610"},"General","Pérdidas Fiscales$B$9"]
["Pérdidas Fiscales",{"$f":"' '!$D$610","v":0},{"$f":"FORMULATEXTO_Act(Campos_Ingreso_Datos[[#This Row],[Vinculo]])","v":"=' '!$D$610"},"#,##0","Pérdidas Fiscales$C$9"]
["Pérdidas Fiscales",{"$f":"' '!$E$610","v":0},{"$f":"FORMULATEXTO_Act(Campos_Ingreso_Datos[[#This Row],[Vinculo]])","v":"=' '!$E$610"},"#,##0","Pérdidas Fiscales$D$9"]
["Pérdidas Fiscales",{"$f":"' '!$F$610","v":0},{"$f":"FORMULATEXTO_Act(Campos_Ingreso_Datos[[#This Row],[Vinculo]])","v":"=' '!$F$610"},"#,##0","Pérdidas Fiscales$E$9"]
["Pérdidas Fiscales",{"$f":"' '!$C$611","v":0},{"$f":"FORMULATEXTO_Act(Campos_Ingreso_Datos[[#This Row],[Vinculo]])","v":"=' '!$C$611"},"General","Pérdidas Fiscales$B$10"]
["Pérdidas Fiscales",{"$f":"' '!$D$611","v":0},{"$f":"FORMULATEXTO_Act(Campos_Ingreso_Datos[[#This Row],[Vinculo]])","v":"=' '!$D$611"},"#,##0","Pérdidas Fiscales$C$10"]
["Pérdidas Fiscales",{"$f":"' '!$E$611","v":0},{"$f":"FORMULATEXTO_Act(Campos_Ingreso_Datos[[#This Row],[Vinculo]])","v":"=' '!$E$611"},"#,##0","Pérdidas Fiscales$D$10"]
["Pérdidas Fiscales",{"$f":"' '!$F$611","v":0},{"$f":"FORMULATEXTO_Act(Campos_Ingreso_Datos[[#This Row],[Vinculo]])","v":"=' '!$F$611"},"#,##0","Pérdidas Fiscales$E$10"]
["Pérdidas Fiscales",{"$f":"' '!$C$612","v":0},{"$f":"FORMULATEXTO_Act(Campos_Ingreso_Datos[[#This Row],[Vinculo]])","v":"=' '!$C$612"},"General","Pérdidas Fiscales$B$11"]
["Pérdidas Fiscales",{"$f":"' '!$D$612","v":0},{"$f":"FORMULATEXTO_Act(Campos_Ingreso_Datos[[#This Row],[Vinculo]])","v":"=' '!$D$612"},"#,##0","Pérdidas Fiscales$C$11"]
["Pérdidas Fiscales",{"$f":"' '!$E$612","v":0},{"$f":"FORMULATEXTO_Act(Campos_Ingreso_Datos[[#This Row],[Vinculo]])","v":"=' '!$E$612"},"#,##0","Pérdidas Fiscales$D$11"]
["Pérdidas Fiscales",{"$f":"' '!$F$612","v":0},{"$f":"FORMULATEXTO_Act(Campos_Ingreso_Datos[[#This Row],[Vinculo]])","v":"=' '!$F$612"},"#,##0","Pérdidas Fiscales$E$11"]
["Pérdidas Fiscales",{"$f":"' '!$C$613","v":0},{"$f":"FORMULATEXTO_Act(Campos_Ingreso_Datos[[#This Row],[Vinculo]])","v":"=' '!$C$613"},"General","Pérdidas Fiscales$B$12"]
["Pérdidas Fiscales",{"$f":"' '!$D$613","v":0},{"$f":"FORMULATEXTO_Act(Campos_Ingreso_Datos[[#This Row],[Vinculo]])","v":"=' '!$D$613"},"#,##0","Pérdidas Fiscales$C$12"]
["Pérdidas Fiscales",{"$f":"' '!$E$613","v":0},{"$f":"FORMULATEXTO_Act(Campos_Ingreso_Datos[[#This Row],[Vinculo]])","v":"=' '!$E$613"},"#,##0","Pérdidas Fiscales$D$12"]
["Pérdidas Fiscales",{"$f":"' '!$F$613","v":0},{"$f":"FORMULATEXTO_Act(Campos_Ingreso_Datos[[#This Row],[Vinculo]])","v":"=' '!$F$613"},"#,##0","Pérdidas Fiscales$E$12"]
["Pérdidas Fiscales",{"$f":"' '!$C$614","v":0},{"$f":"FORMULATEXTO_Act(Campos_Ingreso_Datos[[#This Row],[Vinculo]])","v":"=' '!$C$614"},"General","Pérdidas Fiscales$B$13"]
["Pérdidas Fiscales",{"$f":"' '!$D$614","v":0},{"$f":"FORMULATEXTO_Act(Campos_Ingreso_Datos[[#This Row],[Vinculo]])","v":"=' '!$D$614"},"#,##0","Pérdidas Fiscales$C$13"]
["Pérdidas Fiscales",{"$f":"' '!$E$614","v":0},{"$f":"FORMULATEXTO_Act(Campos_Ingreso_Datos[[#This Row],[Vinculo]])","v":"=' '!$E$614"},"#,##0","Pérdidas Fiscales$D$13"]
["Pérdidas Fiscales",{"$f":"' '!$F$614","v":0},{"$f":"FORMULATEXTO_Act(Campos_Ingreso_Datos[[#This Row],[Vinculo]])","v":"=' '!$F$614"},"#,##0","Pérdidas Fiscales$E$13"]
["Pérdidas Fiscales",{"$f":"' '!$C$615","v":0},{"$f":"FORMULATEXTO_Act(Campos_Ingreso_Datos[[#This Row],[Vinculo]])","v":"=' '!$C$615"},"General","Pérdidas Fiscales$B$14"]
["Pérdidas Fiscales",{"$f":"' '!$D$615","v":0},{"$f":"FORMULATEXTO_Act(Campos_Ingreso_Datos[[#This Row],[Vinculo]])","v":"=' '!$D$615"},"#,##0","Pérdidas Fiscales$C$14"]
["Pérdidas Fiscales",{"$f":"' '!$E$615","v":0},{"$f":"FORMULATEXTO_Act(Campos_Ingreso_Datos[[#This Row],[Vinculo]])","v":"=' '!$E$615"},"#,##0","Pérdidas Fiscales$D$14"]
["Pérdidas Fiscales",{"$f":"' '!$F$615","v":0},{"$f":"FORMULATEXTO_Act(Campos_Ingreso_Datos[[#This Row],[Vinculo]])","v":"=' '!$F$615"},"#,##0","Pérdidas Fiscales$E$14"]
["Pérdidas Fiscales",{"$f":"' '!$C$616","v":0},{"$f":"FORMULATEXTO_Act(Campos_Ingreso_Datos[[#This Row],[Vinculo]])","v":"=' '!$C$616"},"General","Pérdidas Fiscales$B$15"]
["Pérdidas Fiscales",{"$f":"' '!$D$616","v":0},{"$f":"FORMULATEXTO_Act(Campos_Ingreso_Datos[[#This Row],[Vinculo]])","v":"=' '!$D$616"},"#,##0","Pérdidas Fiscales$C$15"]
["Pérdidas Fiscales",{"$f":"' '!$E$616","v":0},{"$f":"FORMULATEXTO_Act(Campos_Ingreso_Datos[[#This Row],[Vinculo]])","v":"=' '!$E$616"},"#,##0","Pérdidas Fiscales$D$15"]
["Pérdidas Fiscales",{"$f":"' '!$F$616","v":0},{"$f":"FORMULATEXTO_Act(Campos_Ingreso_Datos[[#This Row],[Vinculo]])","v":"=' '!$F$616"},"#,##0","Pérdidas Fiscales$E$15"]
["Pérdidas Fiscales",{"$f":"' '!$C$617","v":0},{"$f":"FORMULATEXTO_Act(Campos_Ingreso_Datos[[#This Row],[Vinculo]])","v":"=' '!$C$617"},"General","Pérdidas Fiscales$B$16"]
["Pérdidas Fiscales",{"$f":"' '!$D$617","v":0},{"$f":"FORMULATEXTO_Act(Campos_Ingreso_Datos[[#This Row],[Vinculo]])","v":"=' '!$D$617"},"#,##0","Pérdidas Fiscales$C$16"]
["Pérdidas Fiscales",{"$f":"' '!$E$617","v":0},{"$f":"FORMULATEXTO_Act(Campos_Ingreso_Datos[[#This Row],[Vinculo]])","v":"=' '!$E$617"},"#,##0","Pérdidas Fiscales$D$16"]
["Pérdidas Fiscales",{"$f":"' '!$F$617","v":0},{"$f":"FORMULATEXTO_Act(Campos_Ingreso_Datos[[#This Row],[Vinculo]])","v":"=' '!$F$617"},"#,##0","Pérdidas Fiscales$E$16"]
["Pérdidas Fiscales",{"$f":"' '!$C$618","v":0},{"$f":"FORMULATEXTO_Act(Campos_Ingreso_Datos[[#This Row],[Vinculo]])","v":"=' '!$C$618"},"General","Pérdidas Fiscales$B$17"]
["Pérdidas Fiscales",{"$f":"' '!$D$618","v":0},{"$f":"FORMULATEXTO_Act(Campos_Ingreso_Datos[[#This Row],[Vinculo]])","v":"=' '!$D$618"},"#,##0","Pérdidas Fiscales$C$17"]
["Pérdidas Fiscales",{"$f":"' '!$E$618","v":0},{"$f":"FORMULATEXTO_Act(Campos_Ingreso_Datos[[#This Row],[Vinculo]])","v":"=' '!$E$618"},"#,##0","Pérdidas Fiscales$D$17"]
["Pérdidas Fiscales",{"$f":"' '!$F$618","v":0},{"$f":"FORMULATEXTO_Act(Campos_Ingreso_Datos[[#This Row],[Vinculo]])","v":"=' '!$F$618"},"#,##0","Pérdidas Fiscales$E$17"]
["Pérdidas Fiscales",{"$f":"' '!$C$619","v":0},{"$f":"FORMULATEXTO_Act(Campos_Ingreso_Datos[[#This Row],[Vinculo]])","v":"=' '!$C$619"},"General","Pérdidas Fiscales$B$18"]
["Pérdidas Fiscales",{"$f":"' '!$D$619","v":0},{"$f":"FORMULATEXTO_Act(Campos_Ingreso_Datos[[#This Row],[Vinculo]])","v":"=' '!$D$619"},"#,##0","Pérdidas Fiscales$C$18"]
["Pérdidas Fiscales",{"$f":"' '!$E$619","v":0},{"$f":"FORMULATEXTO_Act(Campos_Ingreso_Datos[[#This Row],[Vinculo]])","v":"=' '!$E$619"},"#,##0","Pérdidas Fiscales$D$18"]
["Pérdidas Fiscales",{"$f":"' '!$F$619","v":0},{"$f":"FORMULATEXTO_Act(Campos_Ingreso_Datos[[#This Row],[Vinculo]])","v":"=' '!$F$619"},"#,##0","Pérdidas Fiscales$E$18"]
["Pérdidas Fiscales",{"$f":"' '!$C$620","v":0},{"$f":"FORMULATEXTO_Act(Campos_Ingreso_Datos[[#This Row],[Vinculo]])","v":"=' '!$C$620"},"General","Pérdidas Fiscales$B$19"]
["Pérdidas Fiscales",{"$f":"' '!$D$620","v":0},{"$f":"FORMULATEXTO_Act(Campos_Ingreso_Datos[[#This Row],[Vinculo]])","v":"=' '!$D$620"},"#,##0","Pérdidas Fiscales$C$19"]
["Pérdidas Fiscales",{"$f":"' '!$E$620","v":0},{"$f":"FORMULATEXTO_Act(Campos_Ingreso_Datos[[#This Row],[Vinculo]])","v":"=' '!$E$620"},"#,##0","Pérdidas Fiscales$D$19"]
["Pérdidas Fiscales",{"$f":"' '!$F$620","v":0},{"$f":"FORMULATEXTO_Act(Campos_Ingreso_Datos[[#This Row],[Vinculo]])","v":"=' '!$F$620"},"#,##0","Pérdidas Fiscales$E$19"]
["Pérdidas Fiscales",{"$f":"' '!$C$621","v":0},{"$f":"FORMULATEXTO_Act(Campos_Ingreso_Datos[[#This Row],[Vinculo]])","v":"=' '!$C$621"},"General","Pérdidas Fiscales$B$20"]
["Pérdidas Fiscales",{"$f":"' '!$D$621","v":{"v":0,"d":"0.00"}},{"$f":"FORMULATEXTO_Act(Campos_Ingreso_Datos[[#This Row],[Vinculo]])","v":"=' '!$D$621"},"#,##0","Pérdidas Fiscales$C$20"]
["Pérdidas Fiscales",{"$f":"' '!$E$621","v":{"v":0,"d":"0.00"}},{"$f":"FORMULATEXTO_Act(Campos_Ingreso_Datos[[#This Row],[Vinculo]])","v":"=' '!$E$621"},"#,##0","Pérdidas Fiscales$D$20"]
["Pérdidas Fiscales",{"$f":"' '!$F$621","v":{"v":0,"d":"0.00"}},{"$f":"FORMULATEXTO_Act(Campos_Ingreso_Datos[[#This Row],[Vinculo]])","v":"=' '!$F$621"},"#,##0","Pérdidas Fiscales$E$20"]
["Pérdidas Fiscales",{"$f":"' '!$C$622","v":0},{"$f":"FORMULATEXTO_Act(Campos_Ingreso_Datos[[#This Row],[Vinculo]])","v":"=' '!$C$622"},"General","Pérdidas Fiscales$B$21"]
["Pérdidas Fiscales",{"$f":"' '!$D$622","v":{"v":0,"d":"0.00"}},{"$f":"FORMULATEXTO_Act(Campos_Ingreso_Datos[[#This Row],[Vinculo]])","v":"=' '!$D$622"},"#,##0","Pérdidas Fiscales$C$21"]
["Pérdidas Fiscales",{"$f":"' '!$E$622","v":{"v":0,"d":"0.00"}},{"$f":"FORMULATEXTO_Act(Campos_Ingreso_Datos[[#This Row],[Vinculo]])","v":"=' '!$E$622"},"#,##0","Pérdidas Fiscales$D$21"]
["Pérdidas Fiscales",{"$f":"' '!$F$622","v":{"v":0,"d":"0.00"}},{"$f":"FORMULATEXTO_Act(Campos_Ingreso_Datos[[#This Row],[Vinculo]])","v":"=' '!$F$622"},"#,##0","Pérdidas Fiscales$E$21"]
["Pérdidas Fiscales",{"$f":"' '!$C$623","v":0},{"$f":"FORMULATEXTO_Act(Campos_Ingreso_Datos[[#This Row],[Vinculo]])","v":"=' '!$C$623"},"General","Pérdidas Fiscales$B$22"]
["Pérdidas Fiscales",{"$f":"' '!$D$623","v":{"v":0,"d":"0.00"}},{"$f":"FORMULATEXTO_Act(Campos_Ingreso_Datos[[#This Row],[Vinculo]])","v":"=' '!$D$623"},"#,##0","Pérdidas Fiscales$C$22"]
["Pérdidas Fiscales",{"$f":"' '!$E$623","v":{"v":0,"d":"0.00"}},{"$f":"FORMULATEXTO_Act(Campos_Ingreso_Datos[[#This Row],[Vinculo]])","v":"=' '!$E$623"},"#,##0","Pérdidas Fiscales$D$22"]
["Pérdidas Fiscales",{"$f":"' '!$F$623","v":{"v":0,"d":"0.00"}},{"$f":"FORMULATEXTO_Act(Campos_Ingreso_Datos[[#This Row],[Vinculo]])","v":"=' '!$F$623"},"#,##0","Pérdidas Fiscales$E$22"]
["Pérdidas Fiscales",{"$f":"' '!$C$624","v":0},{"$f":"FORMULATEXTO_Act(Campos_Ingreso_Datos[[#This Row],[Vinculo]])","v":"=' '!$C$624"},"General","Pérdidas Fiscales$B$23"]
["Pérdidas Fiscales",{"$f":"' '!$D$624","v":{"v":0,"d":"0.00"}},{"$f":"FORMULATEXTO_Act(Campos_Ingreso_Datos[[#This Row],[Vinculo]])","v":"=' '!$D$624"},"#,##0","Pérdidas Fiscales$C$23"]
["Pérdidas Fiscales",{"$f":"' '!$E$624","v":{"v":0,"d":"0.00"}},{"$f":"FORMULATEXTO_Act(Campos_Ingreso_Datos[[#This Row],[Vinculo]])","v":"=' '!$E$624"},"#,##0","Pérdidas Fiscales$D$23"]
["Pérdidas Fiscales",{"$f":"' '!$F$624","v":{"v":0,"d":"0.00"}},{"$f":"FORMULATEXTO_Act(Campos_Ingreso_Datos[[#This Row],[Vinculo]])","v":"=' '!$F$624"},"#,##0","Pérdidas Fiscales$E$23"]
["Pérdidas Fiscales",{"$f":"' '!$C$625","v":0},{"$f":"FORMULATEXTO_Act(Campos_Ingreso_Datos[[#This Row],[Vinculo]])","v":"=' '!$C$625"},"General","Pérdidas Fiscales$B$24"]
["Pérdidas Fiscales",{"$f":"' '!$D$625","v":0},{"$f":"FORMULATEXTO_Act(Campos_Ingreso_Datos[[#This Row],[Vinculo]])","v":"=' '!$D$625"},"#,##0","Pérdidas Fiscales$C$24"]
["Pérdidas Fiscales",{"$f":"' '!$E$625","v":0},{"$f":"FORMULATEXTO_Act(Campos_Ingreso_Datos[[#This Row],[Vinculo]])","v":"=' '!$E$625"},"#,##0","Pérdidas Fiscales$D$24"]
["Pérdidas Fiscales",{"$f":"' '!$F$625","v":0},{"$f":"FORMULATEXTO_Act(Campos_Ingreso_Datos[[#This Row],[Vinculo]])","v":"=' '!$F$625"},"#,##0","Pérdidas Fiscales$E$24"]
["Pérdidas Fiscales",{"$f":"' '!$C$626","v":0},{"$f":"FORMULATEXTO_Act(Campos_Ingreso_Datos[[#This Row],[Vinculo]])","v":"=' '!$C$626"},"General","Pérdidas Fiscales$B$25"]
["Pérdidas Fiscales",{"$f":"' '!$D$626","v":0},{"$f":"FORMULATEXTO_Act(Campos_Ingreso_Datos[[#This Row],[Vinculo]])","v":"=' '!$D$626"},"#,##0","Pérdidas Fiscales$C$25"]
["Pérdidas Fiscales",{"$f":"' '!$E$626","v":0},{"$f":"FORMULATEXTO_Act(Campos_Ingreso_Datos[[#This Row],[Vinculo]])","v":"=' '!$E$626"},"#,##0","Pérdidas Fiscales$D$25"]
["Pérdidas Fiscales",{"$f":"' '!$F$626","v":0},{"$f":"FORMULATEXTO_Act(Campos_Ingreso_Datos[[#This Row],[Vinculo]])","v":"=' '!$F$626"},"#,##0","Pérdidas Fiscales$E$25"]
["Pérdidas Fiscales",{"$f":"' '!$C$627","v":0},{"$f":"FORMULATEXTO_Act(Campos_Ingreso_Datos[[#This Row],[Vinculo]])","v":"=' '!$C$627"},"General","Pérdidas Fiscales$B$26"]
["Pérdidas Fiscales",{"$f":"' '!$D$627","v":0},{"$f":"FORMULATEXTO_Act(Campos_Ingreso_Datos[[#This Row],[Vinculo]])","v":"=' '!$D$627"},"#,##0","Pérdidas Fiscales$C$26"]
["Pérdidas Fiscales",{"$f":"' '!$E$627","v":0},{"$f":"FORMULATEXTO_Act(Campos_Ingreso_Datos[[#This Row],[Vinculo]])","v":"=' '!$E$627"},"#,##0","Pérdidas Fiscales$D$26"]
["Pérdidas Fiscales",{"$f":"' '!$F$627","v":0},{"$f":"FORMULATEXTO_Act(Campos_Ingreso_Datos[[#This Row],[Vinculo]])","v":"=' '!$F$627"},"#,##0","Pérdidas Fiscales$E$26"]
["Pérdidas Fiscales",{"$f":"' '!$C$628","v":0},{"$f":"FORMULATEXTO_Act(Campos_Ingreso_Datos[[#This Row],[Vinculo]])","v":"=' '!$C$628"},"General","Pérdidas Fiscales$B$27"]
["Pérdidas Fiscales",{"$f":"' '!$D$628","v":0},{"$f":"FORMULATEXTO_Act(Campos_Ingreso_Datos[[#This Row],[Vinculo]])","v":"=' '!$D$628"},"#,##0","Pérdidas Fiscales$C$27"]
["Pérdidas Fiscales",{"$f":"' '!$E$628","v":0},{"$f":"FORMULATEXTO_Act(Campos_Ingreso_Datos[[#This Row],[Vinculo]])","v":"=' '!$E$628"},"#,##0","Pérdidas Fiscales$D$27"]
["Pérdidas Fiscales",{"$f":"' '!$F$628","v":0},{"$f":"FORMULATEXTO_Act(Campos_Ingreso_Datos[[#This Row],[Vinculo]])","v":"=' '!$F$628"},"#,##0","Pérdidas Fiscales$E$27"]
["Pérdidas Fiscales",{"$f":"' '!$C$629","v":0},{"$f":"FORMULATEXTO_Act(Campos_Ingreso_Datos[[#This Row],[Vinculo]])","v":"=' '!$C$629"},"General","Pérdidas Fiscales$B$28"]
["Pérdidas Fiscales",{"$f":"' '!$D$629","v":0},{"$f":"FORMULATEXTO_Act(Campos_Ingreso_Datos[[#This Row],[Vinculo]])","v":"=' '!$D$629"},"#,##0","Pérdidas Fiscales$C$28"]
["Pérdidas Fiscales",{"$f":"' '!$E$629","v":0},{"$f":"FORMULATEXTO_Act(Campos_Ingreso_Datos[[#This Row],[Vinculo]])","v":"=' '!$E$629"},"#,##0","Pérdidas Fiscales$D$28"]
["Pérdidas Fiscales",{"$f":"' '!$F$629","v":0},{"$f":"FORMULATEXTO_Act(Campos_Ingreso_Datos[[#This Row],[Vinculo]])","v":"=' '!$F$629"},"#,##0","Pérdidas Fiscales$E$28"]
["Pérdidas Fiscales",{"$f":"' '!$C$630","v":0},{"$f":"FORMULATEXTO_Act(Campos_Ingreso_Datos[[#This Row],[Vinculo]])","v":"=' '!$C$630"},"General","Pérdidas Fiscales$B$29"]
["Pérdidas Fiscales",{"$f":"' '!$D$630","v":0},{"$f":"FORMULATEXTO_Act(Campos_Ingreso_Datos[[#This Row],[Vinculo]])","v":"=' '!$D$630"},"#,##0","Pérdidas Fiscales$C$29"]
["Pérdidas Fiscales",{"$f":"' '!$E$630","v":0},{"$f":"FORMULATEXTO_Act(Campos_Ingreso_Datos[[#This Row],[Vinculo]])","v":"=' '!$E$630"},"#,##0","Pérdidas Fiscales$D$29"]
["Pérdidas Fiscales",{"$f":"' '!$F$630","v":0},{"$f":"FORMULATEXTO_Act(Campos_Ingreso_Datos[[#This Row],[Vinculo]])","v":"=' '!$F$630"},"#,##0","Pérdidas Fiscales$E$29"]
["Partidas",{"$f":"' '!$C$821","v":"Efectivo "},{"$f":"FORMULATEXTO_Act(Campos_Ingreso_Datos[[#This Row],[Vinculo]])","v":"=' '!$C$821"},"General","Partidas$C$6","Efectivo "]
["Partidas",{"$f":"' '!$D$821","v":0},{"$f":"FORMULATEXTO_Act(Campos_Ingreso_Datos[[#This Row],[Vinculo]])","v":"=' '!$D$821"},"#,##0","Partidas$D$6"]
["Partidas",{"$f":"' '!$F$821","v":0},{"$f":"FORMULATEXTO_Act(Campos_Ingreso_Datos[[#This Row],[Vinculo]])","v":"=' '!$F$821"},"#,##0","Partidas$F$6"]
["Partidas",{"$f":"' '!$G$821","v":0},{"$f":"FORMULATEXTO_Act(Campos_Ingreso_Datos[[#This Row],[Vinculo]])","v":"=' '!$G$821"},"#,##0","Partidas$G$6"]
["Partidas",{"$f":"' '!$C$822","v":"Equivalentes del Efectivo "},{"$f":"FORMULATEXTO_Act(Campos_Ingreso_Datos[[#This Row],[Vinculo]])","v":"=' '!$C$822"},"General","Partidas$C$7","Equivalentes del Efectivo "]
["Partidas",{"$f":"' '!$D$822","v":0},{"$f":"FORMULATEXTO_Act(Campos_Ingreso_Datos[[#This Row],[Vinculo]])","v":"=' '!$D$822"},"#,##0","Partidas$D$7"]
["Partidas",{"$f":"' '!$F$822","v":0},{"$f":"FORMULATEXTO_Act(Campos_Ingreso_Datos[[#This Row],[Vinculo]])","v":"=' '!$F$822"},"#,##0","Partidas$F$7"]
["Partidas",{"$f":"' '!$G$822","v":0},{"$f":"FORMULATEXTO_Act(Campos_Ingreso_Datos[[#This Row],[Vinculo]])","v":"=' '!$G$822"},"#,##0","Partidas$G$7"]
["Partidas",{"$f":"' '!$C$823","v":"Efectivo Restringido"},{"$f":"FORMULATEXTO_Act(Campos_Ingreso_Datos[[#This Row],[Vinculo]])","v":"=' '!$C$823"},"General","Partidas$C$8","Efectivo Restringido"]
["Partidas",{"$f":"' '!$D$823","v":0},{"$f":"FORMULATEXTO_Act(Campos_Ingreso_Datos[[#This Row],[Vinculo]])","v":"=' '!$D$823"},"#,##0","Partidas$D$8"]
["Partidas",{"$f":"' '!$F$823","v":0},{"$f":"FORMULATEXTO_Act(Campos_Ingreso_Datos[[#This Row],[Vinculo]])","v":"=' '!$F$823"},"#,##0","Partidas$F$8"]
["Partidas",{"$f":"' '!$G$823","v":0},{"$f":"FORMULATEXTO_Act(Campos_Ingreso_Datos[[#This Row],[Vinculo]])","v":"=' '!$G$823"},"#,##0","Partidas$G$8"]
["Partidas",{"$f":"' '!$C$824","v":"Otros equivalentes del efectivo "},{"$f":"FORMULATEXTO_Act(Campos_Ingreso_Datos[[#This Row],[Vinculo]])","v":"=' '!$C$824"},"General","Partidas$C$9","Otros equivalentes del efectivo "]
["Partidas",{"$f":"' '!$D$824","v":0},{"$f":"FORMULATEXTO_Act(Campos_Ingreso_Datos[[#This Row],[Vinculo]])","v":"=' '!$D$824"},"#,##0","Partidas$D$9"]
["Partidas",{"$f":"' '!$F$824","v":0},{"$f":"FORMULATEXTO_Act(Campos_Ingreso_Datos[[#This Row],[Vinculo]])","v":"=' '!$F$824"},"#,##0","Partidas$F$9"]
["Partidas",{"$f":"' '!$G$824","v":0},{"$f":"FORMULATEXTO_Act(Campos_Ingreso_Datos[[#This Row],[Vinculo]])","v":"=' '!$G$824"},"#,##0","Partidas$G$9"]
["Partidas",{"$f":"' '!$C$826","v":"Derechos de recompras de inversiones "},{"$f":"FORMULATEXTO_Act(Campos_Ingreso_Datos[[#This Row],[Vinculo]])","v":"=' '!$C$826"},"General","Partidas$C$11","Derechos de recompras de inversiones "]
["Partidas",{"$f":"' '!$D$826","v":0},{"$f":"FORMULATEXTO_Act(Campos_Ingreso_Datos[[#This Row],[Vinculo]])","v":"=' '!$D$826"},"#,##0","Partidas$D$11"]
["Partidas",{"$f":"' '!$F$826","v":0},{"$f":"FORMULATEXTO_Act(Campos_Ingreso_Datos[[#This Row],[Vinculo]])","v":"=' '!$F$826"},"#,##0","Partidas$F$11"]
["Partidas",{"$f":"' '!$G$826","v":0},{"$f":"FORMULATEXTO_Act(Campos_Ingreso_Datos[[#This Row],[Vinculo]])","v":"=' '!$G$826"},"#,##0","Partidas$G$11"]
["Partidas",{"$f":"' '!$C$827","v":"Inversiones en subsidiarias, asociadas y \nnegocios conjuntos medidas a valor \nrazonable con cambios en resultados "},{"$f":"FORMULATEXTO_Act(Campos_Ingreso_Datos[[#This Row],[Vinculo]])","v":"=' '!$C$827"},"General","Partidas$C$12","Inversiones en subsidiarias, asociadas y \nnegocios conjuntos medidas a valor \nrazonable con cambios en resultados "]
["Partidas",{"$f":"' '!$D$827","v":0},{"$f":"FORMULATEXTO_Act(Campos_Ingreso_Datos[[#This Row],[Vinculo]])","v":"=' '!$D$827"},"#,##0","Partidas$D$12"]
["Partidas",{"$f":"' '!$F$827","v":0},{"$f":"FORMULATEXTO_Act(Campos_Ingreso_Datos[[#This Row],[Vinculo]])","v":"=' '!$F$827"},"#,##0","Partidas$F$12"]
["Partidas",{"$f":"' '!$G$827","v":0},{"$f":"FORMULATEXTO_Act(Campos_Ingreso_Datos[[#This Row],[Vinculo]])","v":"=' '!$G$827"},"#,##0","Partidas$G$12"]
["Partidas",{"$f":"' '!$C$828","v":"Inversiones en subsidiarias, asociadas y \nnegocios conjuntos medidas a valor \nrazonable con cambios en el ORI"},{"$f":"FORMULATEXTO_Act(Campos_Ingreso_Datos[[#This Row],[Vinculo]])","v":"=' '!$C$828"},"General","Partidas$C$13","Inversiones en subsidiarias, asociadas y \nnegocios conjuntos medidas a valor \nrazonable con cambios en el ORI"]
["Partidas",{"$f":"' '!$D$828","v":0},{"$f":"FORMULATEXTO_Act(Campos_Ingreso_Datos[[#This Row],[Vinculo]])","v":"=' '!$D$828"},"#,##0","Partidas$D$13"]
["Partidas",{"$f":"' '!$F$828","v":0},{"$f":"FORMULATEXTO_Act(Campos_Ingreso_Datos[[#This Row],[Vinculo]])","v":"=' '!$F$828"},"#,##0","Partidas$F$13"]
["Partidas",{"$f":"' '!$G$828","v":0},{"$f":"FORMULATEXTO_Act(Campos_Ingreso_Datos[[#This Row],[Vinculo]])","v":"=' '!$G$828"},"#,##0","Partidas$G$13"]
["Partidas",{"$f":"' '!$C$829","v":"Inversiones en subsidiarias, asociadas y \nnegocios conjuntos medidas con método \nde participación"},{"$f":"FORMULATEXTO_Act(Campos_Ingreso_Datos[[#This Row],[Vinculo]])","v":"=' '!$C$829"},"General","Partidas$C$14","Inversiones en subsidiarias, asociadas y \nnegocios conjuntos medidas con método \nde participación"]
["Partidas",{"$f":"' '!$D$829","v":0},{"$f":"FORMULATEXTO_Act(Campos_Ingreso_Datos[[#This Row],[Vinculo]])","v":"=' '!$D$829"},"#,##0","Partidas$D$14"]
["Partidas",{"$f":"' '!$F$829","v":0},{"$f":"FORMULATEXTO_Act(Campos_Ingreso_Datos[[#This Row],[Vinculo]])","v":"=' '!$F$829"},"#,##0","Partidas$F$14"]
["Partidas",{"$f":"' '!$G$829","v":0},{"$f":"FORMULATEXTO_Act(Campos_Ingreso_Datos[[#This Row],[Vinculo]])","v":"=' '!$G$829"},"#,##0","Partidas$G$14"]
["Partidas",{"$f":"' '!$C$830","v":"Inversiones en subsidiarias, asociadas y negocios conjuntos medidas al costo"},{"$f":"FORMULATEXTO_Act(Campos_Ingreso_Datos[[#This Row],[Vinculo]])","v":"=' '!$C$830"},"General","Partidas$C$15","Inversiones en subsidiarias, asociadas y negocios conjuntos medidas al costo"]
["Partidas",{"$f":"' '!$D$830","v":0},{"$f":"FORMULATEXTO_Act(Campos_Ingreso_Datos[[#This Row],[Vinculo]])","v":"=' '!$D$830"},"#,##0","Partidas$D$15"]
["Partidas",{"$f":"' '!$F$830","v":0},{"$f":"FORMULATEXTO_Act(Campos_Ingreso_Datos[[#This Row],[Vinculo]])","v":"=' '!$F$830"},"#,##0","Partidas$F$15"]
["Partidas",{"$f":"' '!$G$830","v":0},{"$f":"FORMULATEXTO_Act(Campos_Ingreso_Datos[[#This Row],[Vinculo]])","v":"=' '!$G$830"},"#,##0","Partidas$G$15"]
["Partidas",{"$f":"' '!$C$831","v":"Instrumentos de deuda a costo amortizado "},{"$f":"FORMULATEXTO_Act(Campos_Ingreso_Datos[[#This Row],[Vinculo]])","v":"=' '!$C$831"},"General","Partidas$C$16","Instrumentos de deuda a costo amortizado "]
["Partidas",{"$f":"' '!$D$831","v":0},{"$f":"FORMULATEXTO_Act(Campos_Ingreso_Datos[[#This Row],[Vinculo]])","v":"=' '!$D$831"},"#,##0","Partidas$D$16"]
["Partidas",{"$f":"' '!$F$831","v":0},{"$f":"FORMULATEXTO_Act(Campos_Ingreso_Datos[[#This Row],[Vinculo]])","v":"=' '!$F$831"},"#,##0","Partidas$F$16"]
["Partidas",{"$f":"' '!$G$831","v":0},{"$f":"FORMULATEXTO_Act(Campos_Ingreso_Datos[[#This Row],[Vinculo]])","v":"=' '!$G$831"},"#,##0","Partidas$G$16"]
["Partidas",{"$f":"' '!$C$832","v":"Instrumentos de deuda o patrimonio al costo "},{"$f":"FORMULATEXTO_Act(Campos_Ingreso_Datos[[#This Row],[Vinculo]])","v":"=' '!$C$832"},"General","Partidas$C$17","Instrumentos de deuda o patrimonio al costo "]
["Partidas",{"$f":"' '!$D$832","v":0},{"$f":"FORMULATEXTO_Act(Campos_Ingreso_Datos[[#This Row],[Vinculo]])","v":"=' '!$D$832"},"#,##0","Partidas$D$17"]
["Partidas",{"$f":"' '!$F$832","v":0},{"$f":"FORMULATEXTO_Act(Campos_Ingreso_Datos[[#This Row],[Vinculo]])","v":"=' '!$F$832"},"#,##0","Partidas$F$17"]
["Partidas",{"$f":"' '!$G$832","v":0},{"$f":"FORMULATEXTO_Act(Campos_Ingreso_Datos[[#This Row],[Vinculo]])","v":"=' '!$G$832"},"#,##0","Partidas$G$17"]
["Partidas",{"$f":"' '!$C$833","v":"Instrumentos de deuda o patrimonio al valor razonable con cambios en resultados "},{"$f":"FORMULATEXTO_Act(Campos_Ingreso_Datos[[#This Row],[Vinculo]])","v":"=' '!$C$833"},"General","Partidas$C$18","Instrumentos de deuda o patrimonio al valor razonable con cambios en resultados "]
["Partidas",{"$f":"' '!$D$833","v":0},{"$f":"FORMULATEXTO_Act(Campos_Ingreso_Datos[[#This Row],[Vinculo]])","v":"=' '!$D$833"},"#,##0","Partidas$D$18"]
["Partidas",{"$f":"' '!$F$833","v":0},{"$f":"FORMULATEXTO_Act(Campos_Ingreso_Datos[[#This Row],[Vinculo]])","v":"=' '!$F$833"},"#,##0","Partidas$F$18"]
["Partidas",{"$f":"' '!$G$833","v":0},{"$f":"FORMULATEXTO_Act(Campos_Ingreso_Datos[[#This Row],[Vinculo]])","v":"=' '!$G$833"},"#,##0","Partidas$G$18"]
["Partidas",{"$f":"' '!$C$834","v":"Instrumentos de deuda o patrimonio al valor razonable con cambios en el ORI"},{"$f":"FORMULATEXTO_Act(Campos_Ingreso_Datos[[#This Row],[Vinculo]])","v":"=' '!$C$834"},"General","Partidas$C$19","Instrumentos de deuda o patrimonio al valor razonable con cambios en el ORI"]
["Partidas",{"$f":"' '!$D$834","v":0},{"$f":"FORMULATEXTO_Act(Campos_Ingreso_Datos[[#This Row],[Vinculo]])","v":"=' '!$D$834"},"#,##0","Partidas$D$19"]
["Partidas",{"$f":"' '!$F$834","v":0},{"$f":"FORMULATEXTO_Act(Campos_Ingreso_Datos[[#This Row],[Vinculo]])","v":"=' '!$F$834"},"#,##0","Partidas$F$19"]
["Partidas",{"$f":"' '!$G$834","v":0},{"$f":"FORMULATEXTO_Act(Campos_Ingreso_Datos[[#This Row],[Vinculo]])","v":"=' '!$G$834"},"#,##0","Partidas$G$19"]
["Partidas",{"$f":"' '!$C$835","v":"Instrumentos financieros derivados con \nfines de negociación "},{"$f":"FORMULATEXTO_Act(Campos_Ingreso_Datos[[#This Row],[Vinculo]])","v":"=' '!$C$835"},"General","Partidas$C$20","Instrumentos financieros derivados con \nfines de negociación "]
["Partidas",{"$f":"' '!$D$835","v":0},{"$f":"FORMULATEXTO_Act(Campos_Ingreso_Datos[[#This Row],[Vinculo]])","v":"=' '!$D$835"},"#,##0","Partidas$D$20"]
["Partidas",{"$f":"' '!$F$835","v":0},{"$f":"FORMULATEXTO_Act(Campos_Ingreso_Datos[[#This Row],[Vinculo]])","v":"=' '!$F$835"},"#,##0","Partidas$F$20"]
["Partidas",{"$f":"' '!$G$835","v":0},{"$f":"FORMULATEXTO_Act(Campos_Ingreso_Datos[[#This Row],[Vinculo]])","v":"=' '!$G$835"},"#,##0","Partidas$G$20"]
["Partidas",{"$f":"' '!$C$836","v":"Instrumentos financieros derivados con \nfines de cobertura"},{"$f":"FORMULATEXTO_Act(Campos_Ingreso_Datos[[#This Row],[Vinculo]])","v":"=' '!$C$836"},"General","Partidas$C$21","Instrumentos financieros derivados con \nfines de cobertura"]
["Partidas",{"$f":"' '!$D$836","v":0},{"$f":"FORMULATEXTO_Act(Campos_Ingreso_Datos[[#This Row],[Vinculo]])","v":"=' '!$D$836"},"#,##0","Partidas$D$21"]
["Partidas",{"$f":"' '!$F$836","v":0},{"$f":"FORMULATEXTO_Act(Campos_Ingreso_Datos[[#This Row],[Vinculo]])","v":"=' '!$F$836"},"#,##0","Partidas$F$21"]
["Partidas",{"$f":"' '!$G$836","v":0},{"$f":"FORMULATEXTO_Act(Campos_Ingreso_Datos[[#This Row],[Vinculo]])","v":"=' '!$G$836"},"#,##0","Partidas$G$21"]
["Partidas",{"$f":"' '!$C$837","v":"Derechos fiduciarios "},{"$f":"FORMULATEXTO_Act(Campos_Ingreso_Datos[[#This Row],[Vinculo]])","v":"=' '!$C$837"},"General","Partidas$C$22","Derechos fiduciarios "]
["Partidas",{"$f":"' '!$D$837","v":0},{"$f":"FORMULATEXTO_Act(Campos_Ingreso_Datos[[#This Row],[Vinculo]])","v":"=' '!$D$837"},"#,##0","Partidas$D$22"]
["Partidas",{"$f":"' '!$F$837","v":0},{"$f":"FORMULATEXTO_Act(Campos_Ingreso_Datos[[#This Row],[Vinculo]])","v":"=' '!$F$837"},"#,##0","Partidas$F$22"]
["Partidas",{"$f":"' '!$G$837","v":0},{"$f":"FORMULATEXTO_Act(Campos_Ingreso_Datos[[#This Row],[Vinculo]])","v":"=' '!$G$837"},"#,##0","Partidas$G$22"]
["Partidas",{"$f":"' '!$C$838","v":"Otros "},{"$f":"FORMULATEXTO_Act(Campos_Ingreso_Datos[[#This Row],[Vinculo]])","v":"=' '!$C$838"},"General","Partidas$C$23","Otros "]
["Partidas",{"$f":"' '!$D$838","v":0},{"$f":"FORMULATEXTO_Act(Campos_Ingreso_Datos[[#This Row],[Vinculo]])","v":"=' '!$D$838"},"#,##0","Partidas$D$23"]
["Partidas",{"$f":"' '!$F$838","v":0},{"$f":"FORMULATEXTO_Act(Campos_Ingreso_Datos[[#This Row],[Vinculo]])","v":"=' '!$F$838"},"#,##0","Partidas$F$23"]
["Partidas",{"$f":"' '!$G$838","v":0},{"$f":"FORMULATEXTO_Act(Campos_Ingreso_Datos[[#This Row],[Vinculo]])","v":"=' '!$G$838"},"#,##0","Partidas$G$23"]
["Partidas",{"$f":"' '!$C$839","v":"Deterioro acumulado de las Inversiones e Instrumentos Derivados"},{"$f":"FORMULATEXTO_Act(Campos_Ingreso_Datos[[#This Row],[Vinculo]])","v":"=' '!$C$839"},"General","Partidas$C$24","Deterioro acumulado de las Inversiones e Instrumentos Derivados"]
["Partidas",{"$f":"' '!$D$839","v":0},{"$f":"FORMULATEXTO_Act(Campos_Ingreso_Datos[[#This Row],[Vinculo]])","v":"=' '!$D$839"},"#,##0","Partidas$D$24"]
["Partidas",{"$f":"' '!$G$839","v":0},{"$f":"FORMULATEXTO_Act(Campos_Ingreso_Datos[[#This Row],[Vinculo]])","v":"=' '!$G$839"},"#,##0","Partidas$G$24"]
["Partidas",{"$f":"' '!$C$841","v":"Cartera de crédito (préstamos bancarios)"},{"$f":"FORMULATEXTO_Act(Campos_Ingreso_Datos[[#This Row],[Vinculo]])","v":"=' '!$C$841"},"General","Partidas$C$26","Cartera de crédito (préstamos bancarios)"]
["Partidas",{"$f":"' '!$D$841","v":0},{"$f":"FORMULATEXTO_Act(Campos_Ingreso_Datos[[#This Row],[Vinculo]])","v":"=' '!$D$841"},"#,##0","Partidas$D$26"]
["Partidas",{"$f":"' '!$F$841","v":0},{"$f":"FORMULATEXTO_Act(Campos_Ingreso_Datos[[#This Row],[Vinculo]])","v":"=' '!$F$841"},"#,##0","Partidas$F$26"]
["Partidas",{"$f":"' '!$G$841","v":0},{"$f":"FORMULATEXTO_Act(Campos_Ingreso_Datos[[#This Row],[Vinculo]])","v":"=' '!$G$841"},"#,##0","Partidas$G$26"]
["Partidas",{"$f":"' '!$C$842","v":"Cuentas comerciales por cobrar "},{"$f":"FORMULATEXTO_Act(Campos_Ingreso_Datos[[#This Row],[Vinculo]])","v":"=' '!$C$842"},"General","Partidas$C$27","Cuentas comerciales por cobrar "]
["Partidas",{"$f":"' '!$D$842","v":0},{"$f":"FORMULATEXTO_Act(Campos_Ingreso_Datos[[#This Row],[Vinculo]])","v":"=' '!$D$842"},"#,##0","Partidas$D$27"]
["Partidas",{"$f":"' '!$F$842","v":0},{"$f":"FORMULATEXTO_Act(Campos_Ingreso_Datos[[#This Row],[Vinculo]])","v":"=' '!$F$842"},"#,##0","Partidas$F$27"]
["Partidas",{"$f":"' '!$G$842","v":0},{"$f":"FORMULATEXTO_Act(Campos_Ingreso_Datos[[#This Row],[Vinculo]])","v":"=' '!$G$842"},"#,##0","Partidas$G$27"]
["Partidas",{"$f":"' '!$C$843","v":"Cuentas por cobrar en acuerdos de concesión (modelos del activo financiero) "},{"$f":"FORMULATEXTO_Act(Campos_Ingreso_Datos[[#This Row],[Vinculo]])","v":"=' '!$C$843"},"General","Partidas$C$28","Cuentas por cobrar en acuerdos de concesión (modelos del activo financiero) "]
["Partidas",{"$f":"' '!$D$843","v":0},{"$f":"FORMULATEXTO_Act(Campos_Ingreso_Datos[[#This Row],[Vinculo]])","v":"=' '!$D$843"},"#,##0","Partidas$D$28"]
["Partidas",{"$f":"' '!$F$843","v":0},{"$f":"FORMULATEXTO_Act(Campos_Ingreso_Datos[[#This Row],[Vinculo]])","v":"=' '!$F$843"},"#,##0","Partidas$F$28"]
["Partidas",{"$f":"' '!$G$843","v":0},{"$f":"FORMULATEXTO_Act(Campos_Ingreso_Datos[[#This Row],[Vinculo]])","v":"=' '!$G$843"},"#,##0","Partidas$G$28"]
["Partidas",{"$f":"' '!$C$844","v":"Arrendamiento financiero o leasing financiero "},{"$f":"FORMULATEXTO_Act(Campos_Ingreso_Datos[[#This Row],[Vinculo]])","v":"=' '!$C$844"},"General","Partidas$C$29","Arrendamiento financiero o leasing financiero "]
["Partidas",{"$f":"' '!$D$844","v":0},{"$f":"FORMULATEXTO_Act(Campos_Ingreso_Datos[[#This Row],[Vinculo]])","v":"=' '!$D$844"},"#,##0","Partidas$D$29"]
["Partidas",{"$f":"' '!$F$844","v":0},{"$f":"FORMULATEXTO_Act(Campos_Ingreso_Datos[[#This Row],[Vinculo]])","v":"=' '!$F$844"},"#,##0","Partidas$F$29"]
["Partidas",{"$f":"' '!$G$844","v":0},{"$f":"FORMULATEXTO_Act(Campos_Ingreso_Datos[[#This Row],[Vinculo]])","v":"=' '!$G$844"},"#,##0","Partidas$G$29"]
["Partidas",{"$f":"' '!$C$845","v":"Dividendos y participaciones "},{"$f":"FORMULATEXTO_Act(Campos_Ingreso_Datos[[#This Row],[Vinculo]])","v":"=' '!$C$845"},"General","Partidas$C$30","Dividendos y participaciones "]
["Partidas",{"$f":"' '!$D$845","v":0},{"$f":"FORMULATEXTO_Act(Campos_Ingreso_Datos[[#This Row],[Vinculo]])","v":"=' '!$D$845"},"#,##0","Partidas$D$30"]
["Partidas",{"$f":"' '!$F$845","v":0},{"$f":"FORMULATEXTO_Act(Campos_Ingreso_Datos[[#This Row],[Vinculo]])","v":"=' '!$F$845"},"#,##0","Partidas$F$30"]
["Partidas",{"$f":"' '!$G$845","v":0},{"$f":"FORMULATEXTO_Act(Campos_Ingreso_Datos[[#This Row],[Vinculo]])","v":"=' '!$G$845"},"#,##0","Partidas$G$30"]
["Partidas",{"$f":"' '!$C$846","v":"Cuentas por cobrar a socios, accionistas o partícipes "},{"$f":"FORMULATEXTO_Act(Campos_Ingreso_Datos[[#This Row],[Vinculo]])","v":"=' '!$C$846"},"General","Partidas$C$31","Cuentas por cobrar a socios, accionistas o partícipes "]
["Partidas",{"$f":"' '!$D$846","v":0},{"$f":"FORMULATEXTO_Act(Campos_Ingreso_Datos[[#This Row],[Vinculo]])","v":"=' '!$D$846"},"#,##0","Partidas$D$31"]
["Partidas",{"$f":"' '!$F$846","v":0},{"$f":"FORMULATEXTO_Act(Campos_Ingreso_Datos[[#This Row],[Vinculo]])","v":"=' '!$F$846"},"#,##0","Partidas$F$31"]
["Partidas",{"$f":"' '!$G$846","v":0},{"$f":"FORMULATEXTO_Act(Campos_Ingreso_Datos[[#This Row],[Vinculo]])","v":"=' '!$G$846"},"#,##0","Partidas$G$31"]
["Partidas",{"$f":"' '!$C$847","v":"Cuentas y documentos por cobrar a otras partes relacionadas y asociadas "},{"$f":"FORMULATEXTO_Act(Campos_Ingreso_Datos[[#This Row],[Vinculo]])","v":"=' '!$C$847"},"General","Partidas$C$32","Cuentas y documentos por cobrar a otras partes relacionadas y asociadas "]
["Partidas",{"$f":"' '!$D$847","v":0},{"$f":"FORMULATEXTO_Act(Campos_Ingreso_Datos[[#This Row],[Vinculo]])","v":"=' '!$D$847"},"#,##0","Partidas$D$32"]
["Partidas",{"$f":"' '!$F$847","v":0},{"$f":"FORMULATEXTO_Act(Campos_Ingreso_Datos[[#This Row],[Vinculo]])","v":"=' '!$F$847"},"#,##0","Partidas$F$32"]
["Partidas",{"$f":"' '!$G$847","v":0},{"$f":"FORMULATEXTO_Act(Campos_Ingreso_Datos[[#This Row],[Vinculo]])","v":"=' '!$G$847"},"#,##0","Partidas$G$32"]
["Partidas",{"$f":"' '!$C$848","v":"Primas de seguros por recaudar "},{"$f":"FORMULATEXTO_Act(Campos_Ingreso_Datos[[#This Row],[Vinculo]])","v":"=' '!$C$848"},"General","Partidas$C$33","Primas de seguros por recaudar "]
["Partidas",{"$f":"' '!$D$848","v":0},{"$f":"FORMULATEXTO_Act(Campos_Ingreso_Datos[[#This Row],[Vinculo]])","v":"=' '!$D$848"},"#,##0","Partidas$D$33"]
["Partidas",{"$f":"' '!$F$848","v":0},{"$f":"FORMULATEXTO_Act(Campos_Ingreso_Datos[[#This Row],[Vinculo]])","v":"=' '!$F$848"},"#,##0","Partidas$F$33"]
["Partidas",{"$f":"' '!$G$848","v":0},{"$f":"FORMULATEXTO_Act(Campos_Ingreso_Datos[[#This Row],[Vinculo]])","v":"=' '!$G$848"},"#,##0","Partidas$G$33"]
["Partidas",{"$f":"' '!$C$849","v":"Cartera de difícil cobro "},{"$f":"FORMULATEXTO_Act(Campos_Ingreso_Datos[[#This Row],[Vinculo]])","v":"=' '!$C$849"},"General","Partidas$C$34","Cartera de difícil cobro "]
["Partidas",{"$f":"' '!$D$849","v":0},{"$f":"FORMULATEXTO_Act(Campos_Ingreso_Datos[[#This Row],[Vinculo]])","v":"=' '!$D$849"},"#,##0","Partidas$D$34"]
["Partidas",{"$f":"' '!$F$849","v":0},{"$f":"FORMULATEXTO_Act(Campos_Ingreso_Datos[[#This Row],[Vinculo]])","v":"=' '!$F$849"},"#,##0","Partidas$F$34"]
["Partidas",{"$f":"' '!$G$849","v":0},{"$f":"FORMULATEXTO_Act(Campos_Ingreso_Datos[[#This Row],[Vinculo]])","v":"=' '!$G$849"},"#,##0","Partidas$G$34"]
["Partidas",{"$f":"' '!$C$850","v":"Reclamaciones por cobrar "},{"$f":"FORMULATEXTO_Act(Campos_Ingreso_Datos[[#This Row],[Vinculo]])","v":"=' '!$C$850"},"General","Partidas$C$35","Reclamaciones por cobrar "]
["Partidas",{"$f":"' '!$D$850","v":0},{"$f":"FORMULATEXTO_Act(Campos_Ingreso_Datos[[#This Row],[Vinculo]])","v":"=' '!$D$850"},"#,##0","Partidas$D$35"]
["Partidas",{"$f":"' '!$F$850","v":0},{"$f":"FORMULATEXTO_Act(Campos_Ingreso_Datos[[#This Row],[Vinculo]])","v":"=' '!$F$850"},"#,##0","Partidas$F$35"]
["Partidas",{"$f":"' '!$G$850","v":0},{"$f":"FORMULATEXTO_Act(Campos_Ingreso_Datos[[#This Row],[Vinculo]])","v":"=' '!$G$850"},"#,##0","Partidas$G$35"]
["Partidas",{"$f":"' '!$C$851","v":"Anticipos de pagos "},{"$f":"FORMULATEXTO_Act(Campos_Ingreso_Datos[[#This Row],[Vinculo]])","v":"=' '!$C$851"},"General","Partidas$C$36","Anticipos de pagos "]
["Partidas",{"$f":"' '!$D$851","v":0},{"$f":"FORMULATEXTO_Act(Campos_Ingreso_Datos[[#This Row],[Vinculo]])","v":"=' '!$D$851"},"#,##0","Partidas$D$36"]
["Partidas",{"$f":"' '!$F$851","v":0},{"$f":"FORMULATEXTO_Act(Campos_Ingreso_Datos[[#This Row],[Vinculo]])","v":"=' '!$F$851"},"#,##0","Partidas$F$36"]
["Partidas",{"$f":"' '!$G$851","v":0},{"$f":"FORMULATEXTO_Act(Campos_Ingreso_Datos[[#This Row],[Vinculo]])","v":"=' '!$G$851"},"#,##0","Partidas$G$36"]
["Partidas",{"$f":"' '!$C$852","v":"Otras cuentas y documentos por cobrar "},{"$f":"FORMULATEXTO_Act(Campos_Ingreso_Datos[[#This Row],[Vinculo]])","v":"=' '!$C$852"},"General","Partidas$C$37","Otras cuentas y documentos por cobrar "]
["Partidas",{"$f":"' '!$D$852","v":0},{"$f":"FORMULATEXTO_Act(Campos_Ingreso_Datos[[#This Row],[Vinculo]])","v":"=' '!$D$852"},"#,##0","Partidas$D$37"]
["Partidas",{"$f":"' '!$F$852","v":0},{"$f":"FORMULATEXTO_Act(Campos_Ingreso_Datos[[#This Row],[Vinculo]])","v":"=' '!$F$852"},"#,##0","Partidas$F$37"]
["Partidas",{"$f":"' '!$G$852","v":0},{"$f":"FORMULATEXTO_Act(Campos_Ingreso_Datos[[#This Row],[Vinculo]])","v":"=' '!$G$852"},"#,##0","Partidas$G$37"]
["Partidas",{"$f":"' '!$C$853","v":"Otras cuentas por cobrar"},{"$f":"FORMULATEXTO_Act(Campos_Ingreso_Datos[[#This Row],[Vinculo]])","v":"=' '!$C$853"},"General","Partidas$C$38","Otras cuentas por cobrar"]
["Partidas",{"$f":"' '!$D$853","v":0},{"$f":"FORMULATEXTO_Act(Campos_Ingreso_Datos[[#This Row],[Vinculo]])","v":"=' '!$D$853"},"#,##0","Partidas$D$38"]
["Partidas",{"$f":"' '!$F$853","v":0},{"$f":"FORMULATEXTO_Act(Campos_Ingreso_Datos[[#This Row],[Vinculo]])","v":"=' '!$F$853"},"#,##0","Partidas$F$38"]
["Partidas",{"$f":"' '!$G$853","v":0},{"$f":"FORMULATEXTO_Act(Campos_Ingreso_Datos[[#This Row],[Vinculo]])","v":"=' '!$G$853"},"#,##0","Partidas$G$38"]
["Partidas",{"$f":"' '!$C$854","v":"Deterioro acumulado de las cuentas por \ncobrar"},{"$f":"FORMULATEXTO_Act(Campos_Ingreso_Datos[[#This Row],[Vinculo]])","v":"=' '!$C$854"},"General","Partidas$C$39","Deterioro acumulado de las cuentas por \ncobrar"]
["Partidas",{"$f":"' '!$D$854","v":0},{"$f":"FORMULATEXTO_Act(Campos_Ingreso_Datos[[#This Row],[Vinculo]])","v":"=' '!$D$854"},"#,##0","Partidas$D$39"]
["Partidas",{"$f":"' '!$G$854","v":0},{"$f":"FORMULATEXTO_Act(Campos_Ingreso_Datos[[#This Row],[Vinculo]])","v":"=' '!$G$854"},"#,##0","Partidas$G$39"]
["Partidas",{"$f":"' '!$C$862","v":"Inventarios para la venta no producidos por la empresa "},{"$f":"FORMULATEXTO_Act(Campos_Ingreso_Datos[[#This Row],[Vinculo]])","v":"=' '!$C$862"},"General","Partidas$C$41","Inventarios para la venta no producidos por la empresa "]
["Partidas",{"$f":"' '!$D$862","v":0},{"$f":"FORMULATEXTO_Act(Campos_Ingreso_Datos[[#This Row],[Vinculo]])","v":"=' '!$D$862"},"#,##0","Partidas$D$41"]
["Partidas",{"$f":"' '!$F$862","v":0},{"$f":"FORMULATEXTO_Act(Campos_Ingreso_Datos[[#This Row],[Vinculo]])","v":"=' '!$F$862"},"#,##0","Partidas$F$41"]
["Partidas",{"$f":"' '!$G$862","v":0},{"$f":"FORMULATEXTO_Act(Campos_Ingreso_Datos[[#This Row],[Vinculo]])","v":"=' '!$G$862"},"#,##0","Partidas$G$41"]
["Partidas",{"$f":"' '!$C$863","v":"Inventarios en proceso (diferentes de obras o inmuebles en construcción para la venta)"},{"$f":"FORMULATEXTO_Act(Campos_Ingreso_Datos[[#This Row],[Vinculo]])","v":"=' '!$C$863"},"General","Partidas$C$42","Inventarios en proceso (diferentes de obras o inmuebles en construcción para la venta)"]
["Partidas",{"$f":"' '!$D$863","v":0},{"$f":"FORMULATEXTO_Act(Campos_Ingreso_Datos[[#This Row],[Vinculo]])","v":"=' '!$D$863"},"#,##0","Partidas$D$42"]
["Partidas",{"$f":"' '!$F$863","v":0},{"$f":"FORMULATEXTO_Act(Campos_Ingreso_Datos[[#This Row],[Vinculo]])","v":"=' '!$F$863"},"#,##0","Partidas$F$42"]
["Partidas",{"$f":"' '!$G$863","v":0},{"$f":"FORMULATEXTO_Act(Campos_Ingreso_Datos[[#This Row],[Vinculo]])","v":"=' '!$G$863"},"#,##0","Partidas$G$42"]
["Partidas",{"$f":"' '!$C$864","v":"Materias primas, suministros y materiales"},{"$f":"FORMULATEXTO_Act(Campos_Ingreso_Datos[[#This Row],[Vinculo]])","v":"=' '!$C$864"},"General","Partidas$C$43","Materias primas, suministros y materiales"]
["Partidas",{"$f":"' '!$D$864","v":0},{"$f":"FORMULATEXTO_Act(Campos_Ingreso_Datos[[#This Row],[Vinculo]])","v":"=' '!$D$864"},"#,##0","Partidas$D$43"]
["Partidas",{"$f":"' '!$F$864","v":0},{"$f":"FORMULATEXTO_Act(Campos_Ingreso_Datos[[#This Row],[Vinculo]])","v":"=' '!$F$864"},"#,##0","Partidas$F$43"]
["Partidas",{"$f":"' '!$G$864","v":0},{"$f":"FORMULATEXTO_Act(Campos_Ingreso_Datos[[#This Row],[Vinculo]])","v":"=' '!$G$864"},"#,##0","Partidas$G$43"]
["Partidas",{"$f":"' '!$C$865","v":"Inventarios en tránsito "},{"$f":"FORMULATEXTO_Act(Campos_Ingreso_Datos[[#This Row],[Vinculo]])","v":"=' '!$C$865"},"General","Partidas$C$44","Inventarios en tránsito "]
["Partidas",{"$f":"' '!$D$865","v":0},{"$f":"FORMULATEXTO_Act(Campos_Ingreso_Datos[[#This Row],[Vinculo]])","v":"=' '!$D$865"},"#,##0","Partidas$D$44"]
["Partidas",{"$f":"' '!$F$865","v":0},{"$f":"FORMULATEXTO_Act(Campos_Ingreso_Datos[[#This Row],[Vinculo]])","v":"=' '!$F$865"},"#,##0","Partidas$F$44"]
["Partidas",{"$f":"' '!$G$865","v":0},{"$f":"FORMULATEXTO_Act(Campos_Ingreso_Datos[[#This Row],[Vinculo]])","v":"=' '!$G$865"},"#,##0","Partidas$G$44"]
["Partidas",{"$f":"' '!$C$866","v":"Obras o inmuebles en construcción para la venta"},{"$f":"FORMULATEXTO_Act(Campos_Ingreso_Datos[[#This Row],[Vinculo]])","v":"=' '!$C$866"},"General","Partidas$C$45","Obras o inmuebles en construcción para la venta"]
["Partidas",{"$f":"' '!$D$866","v":0},{"$f":"FORMULATEXTO_Act(Campos_Ingreso_Datos[[#This Row],[Vinculo]])","v":"=' '!$D$866"},"#,##0","Partidas$D$45"]
["Partidas",{"$f":"' '!$F$866","v":0},{"$f":"FORMULATEXTO_Act(Campos_Ingreso_Datos[[#This Row],[Vinculo]])","v":"=' '!$F$866"},"#,##0","Partidas$F$45"]
["Partidas",{"$f":"' '!$G$866","v":0},{"$f":"FORMULATEXTO_Act(Campos_Ingreso_Datos[[#This Row],[Vinculo]])","v":"=' '!$G$866"},"#,##0","Partidas$G$45"]
["Partidas",{"$f":"' '!$C$867","v":"Obras o inmuebles terminados para la venta"},{"$f":"FORMULATEXTO_Act(Campos_Ingreso_Datos[[#This Row],[Vinculo]])","v":"=' '!$C$867"},"General","Partidas$C$46","Obras o inmuebles terminados para la venta"]
["Partidas",{"$f":"' '!$D$867","v":0},{"$f":"FORMULATEXTO_Act(Campos_Ingreso_Datos[[#This Row],[Vinculo]])","v":"=' '!$D$867"},"#,##0","Partidas$D$46"]
["Partidas",{"$f":"' '!$F$867","v":0},{"$f":"FORMULATEXTO_Act(Campos_Ingreso_Datos[[#This Row],[Vinculo]])","v":"=' '!$F$867"},"#,##0","Partidas$F$46"]
["Partidas",{"$f":"' '!$G$867","v":0},{"$f":"FORMULATEXTO_Act(Campos_Ingreso_Datos[[#This Row],[Vinculo]])","v":"=' '!$G$867"},"#,##0","Partidas$G$46"]
["Partidas",{"$f":"' '!$C$868","v":"Producto terminado (diferentes de obras o inmuebles terminados para la venta)"},{"$f":"FORMULATEXTO_Act(Campos_Ingreso_Datos[[#This Row],[Vinculo]])","v":"=' '!$C$868"},"General","Partidas$C$47","Producto terminado (diferentes de obras o inmuebles terminados para la venta)"]
["Partidas",{"$f":"' '!$D$868","v":0},{"$f":"FORMULATEXTO_Act(Campos_Ingreso_Datos[[#This Row],[Vinculo]])","v":"=' '!$D$868"},"#,##0","Partidas$D$47"]
["Partidas",{"$f":"' '!$F$868","v":0},{"$f":"FORMULATEXTO_Act(Campos_Ingreso_Datos[[#This Row],[Vinculo]])","v":"=' '!$F$868"},"#,##0","Partidas$F$47"]
["Partidas",{"$f":"' '!$G$868","v":0},{"$f":"FORMULATEXTO_Act(Campos_Ingreso_Datos[[#This Row],[Vinculo]])","v":"=' '!$G$868"},"#,##0","Partidas$G$47"]
["Partidas",{"$f":"' '!$C$869","v":"Piezas de repuesto y equipo auxiliar clasificados como inventarios"},{"$f":"FORMULATEXTO_Act(Campos_Ingreso_Datos[[#This Row],[Vinculo]])","v":"=' '!$C$869"},"General","Partidas$C$48","Piezas de repuesto y equipo auxiliar clasificados como inventarios"]
["Partidas",{"$f":"' '!$D$869","v":0},{"$f":"FORMULATEXTO_Act(Campos_Ingreso_Datos[[#This Row],[Vinculo]])","v":"=' '!$D$869"},"#,##0","Partidas$D$48"]
["Partidas",{"$f":"' '!$F$869","v":0},{"$f":"FORMULATEXTO_Act(Campos_Ingreso_Datos[[#This Row],[Vinculo]])","v":"=' '!$F$869"},"#,##0","Partidas$F$48"]
["Partidas",{"$f":"' '!$G$869","v":0},{"$f":"FORMULATEXTO_Act(Campos_Ingreso_Datos[[#This Row],[Vinculo]])","v":"=' '!$G$869"},"#,##0","Partidas$G$48"]
["Partidas",{"$f":"' '!$C$870","v":"Inventario que surge de la actividad de extracción"},{"$f":"FORMULATEXTO_Act(Campos_Ingreso_Datos[[#This Row],[Vinculo]])","v":"=' '!$C$870"},"General","Partidas$C$49","Inventario que surge de la actividad de extracción"]
["Partidas",{"$f":"' '!$D$870","v":0},{"$f":"FORMULATEXTO_Act(Campos_Ingreso_Datos[[#This Row],[Vinculo]])","v":"=' '!$D$870"},"#,##0","Partidas$D$49"]
["Partidas",{"$f":"' '!$F$870","v":0},{"$f":"FORMULATEXTO_Act(Campos_Ingreso_Datos[[#This Row],[Vinculo]])","v":"=' '!$F$870"},"#,##0","Partidas$F$49"]
["Partidas",{"$f":"' '!$G$870","v":0},{"$f":"FORMULATEXTO_Act(Campos_Ingreso_Datos[[#This Row],[Vinculo]])","v":"=' '!$G$870"},"#,##0","Partidas$G$49"]
["Partidas",{"$f":"' '!$C$871","v":"Costos prestadores de servicios"},{"$f":"FORMULATEXTO_Act(Campos_Ingreso_Datos[[#This Row],[Vinculo]])","v":"=' '!$C$871"},"General","Partidas$C$50","Costos prestadores de servicios"]
["Partidas",{"$f":"' '!$D$871","v":0},{"$f":"FORMULATEXTO_Act(Campos_Ingreso_Datos[[#This Row],[Vinculo]])","v":"=' '!$D$871"},"#,##0","Partidas$D$50"]
["Partidas",{"$f":"' '!$F$871","v":0},{"$f":"FORMULATEXTO_Act(Campos_Ingreso_Datos[[#This Row],[Vinculo]])","v":"=' '!$F$871"},"#,##0","Partidas$F$50"]
["Partidas",{"$f":"' '!$G$871","v":0},{"$f":"FORMULATEXTO_Act(Campos_Ingreso_Datos[[#This Row],[Vinculo]])","v":"=' '!$G$871"},"#,##0","Partidas$G$50"]
["Partidas",{"$f":"' '!$C$872","v":"Otros inventarios no mencionados anteriormente"},{"$f":"FORMULATEXTO_Act(Campos_Ingreso_Datos[[#This Row],[Vinculo]])","v":"=' '!$C$872"},"General","Partidas$C$51","Otros inventarios no mencionados anteriormente"]
["Partidas",{"$f":"' '!$D$872","v":0},{"$f":"FORMULATEXTO_Act(Campos_Ingreso_Datos[[#This Row],[Vinculo]])","v":"=' '!$D$872"},"#,##0","Partidas$D$51"]
["Partidas",{"$f":"' '!$F$872","v":0},{"$f":"FORMULATEXTO_Act(Campos_Ingreso_Datos[[#This Row],[Vinculo]])","v":"=' '!$F$872"},"#,##0","Partidas$F$51"]
["Partidas",{"$f":"' '!$G$872","v":0},{"$f":"FORMULATEXTO_Act(Campos_Ingreso_Datos[[#This Row],[Vinculo]])","v":"=' '!$G$872"},"#,##0","Partidas$G$51"]
["Partidas",{"$f":"' '!$C$873","v":"Deterioro acumulado de los inventarios"},{"$f":"FORMULATEXTO_Act(Campos_Ingreso_Datos[[#This Row],[Vinculo]])","v":"=' '!$C$873"},"General","Partidas$C$52","Deterioro acumulado de los inventarios"]
["Partidas",{"$f":"' '!$D$873","v":0},{"$f":"FORMULATEXTO_Act(Campos_Ingreso_Datos[[#This Row],[Vinculo]])","v":"=' '!$D$873"},"#,##0","Partidas$D$52"]
["Partidas",{"$f":"' '!$G$873","v":0},{"$f":"FORMULATEXTO_Act(Campos_Ingreso_Datos[[#This Row],[Vinculo]])","v":"=' '!$G$873"},"#,##0","Partidas$G$52"]
["Partidas",{"$f":"' '!$C$875","v":"Terrenos "},{"$f":"FORMULATEXTO_Act(Campos_Ingreso_Datos[[#This Row],[Vinculo]])","v":"=' '!$C$875"},"General","Partidas$C$54","Terrenos "]
["Partidas",{"$f":"' '!$D$875","v":0},{"$f":"FORMULATEXTO_Act(Campos_Ingreso_Datos[[#This Row],[Vinculo]])","v":"=' '!$D$875"},"#,##0","Partidas$D$54"]
["Partidas",{"$f":"' '!$F$875","v":0},{"$f":"FORMULATEXTO_Act(Campos_Ingreso_Datos[[#This Row],[Vinculo]])","v":"=' '!$F$875"},"#,##0","Partidas$F$54"]
["Partidas",{"$f":"' '!$G$875","v":0},{"$f":"FORMULATEXTO_Act(Campos_Ingreso_Datos[[#This Row],[Vinculo]])","v":"=' '!$G$875"},"#,##0","Partidas$G$54"]
["Partidas",{"$f":"' '!$C$876","v":"Construcciones en proceso"},{"$f":"FORMULATEXTO_Act(Campos_Ingreso_Datos[[#This Row],[Vinculo]])","v":"=' '!$C$876"},"General","Partidas$C$55","Construcciones en proceso"]
["Partidas",{"$f":"' '!$D$876","v":0},{"$f":"FORMULATEXTO_Act(Campos_Ingreso_Datos[[#This Row],[Vinculo]])","v":"=' '!$D$876"},"#,##0","Partidas$D$55"]
["Partidas",{"$f":"' '!$F$876","v":0},{"$f":"FORMULATEXTO_Act(Campos_Ingreso_Datos[[#This Row],[Vinculo]])","v":"=' '!$F$876"},"#,##0","Partidas$F$55"]
["Partidas",{"$f":"' '!$G$876","v":0},{"$f":"FORMULATEXTO_Act(Campos_Ingreso_Datos[[#This Row],[Vinculo]])","v":"=' '!$G$876"},"#,##0","Partidas$G$55"]
["Partidas",{"$f":"' '!$C$877","v":"Edificios - Al costo "},{"$f":"FORMULATEXTO_Act(Campos_Ingreso_Datos[[#This Row],[Vinculo]])","v":"=' '!$C$877"},"General","Partidas$C$56","Edificios - Al costo "]
["Partidas",{"$f":"' '!$D$877","v":0},{"$f":"FORMULATEXTO_Act(Campos_Ingreso_Datos[[#This Row],[Vinculo]])","v":"=' '!$D$877"},"#,##0","Partidas$D$56"]
["Partidas",{"$f":"' '!$F$877","v":0},{"$f":"FORMULATEXTO_Act(Campos_Ingreso_Datos[[#This Row],[Vinculo]])","v":"=' '!$F$877"},"#,##0","Partidas$F$56"]
["Partidas",{"$f":"' '!$G$877","v":0},{"$f":"FORMULATEXTO_Act(Campos_Ingreso_Datos[[#This Row],[Vinculo]])","v":"=' '!$G$877"},"#,##0","Partidas$G$56"]
["Partidas",{"$f":"' '!$C$878","v":"Edificios - Ajuste acumulado por revaluaciones o reexpresiones"},{"$f":"FORMULATEXTO_Act(Campos_Ingreso_Datos[[#This Row],[Vinculo]])","v":"=' '!$C$878"},"General","Partidas$C$57","Edificios - Ajuste acumulado por revaluaciones o reexpresiones"]
["Partidas",{"$f":"' '!$D$878","v":0},{"$f":"FORMULATEXTO_Act(Campos_Ingreso_Datos[[#This Row],[Vinculo]])","v":"=' '!$D$878"},"#,##0","Partidas$D$57"]
["Partidas",{"$f":"' '!$F$878","v":0},{"$f":"FORMULATEXTO_Act(Campos_Ingreso_Datos[[#This Row],[Vinculo]])","v":"=' '!$F$878"},"#,##0","Partidas$F$57"]
["Partidas",{"$f":"' '!$G$878","v":0},{"$f":"FORMULATEXTO_Act(Campos_Ingreso_Datos[[#This Row],[Vinculo]])","v":"=' '!$G$878"},"#,##0","Partidas$G$57"]
["Partidas",{"$f":"' '!$C$879","v":"Otras propiedades, plantas y equipo - Al costo"},{"$f":"FORMULATEXTO_Act(Campos_Ingreso_Datos[[#This Row],[Vinculo]])","v":"=' '!$C$879"},"General","Partidas$C$58","Otras propiedades, plantas y equipo - Al costo"]
["Partidas",{"$f":"' '!$D$879","v":0},{"$f":"FORMULATEXTO_Act(Campos_Ingreso_Datos[[#This Row],[Vinculo]])","v":"=' '!$D$879"},"#,##0","Partidas$D$58"]
["Partidas",{"$f":"' '!$F$879","v":0},{"$f":"FORMULATEXTO_Act(Campos_Ingreso_Datos[[#This Row],[Vinculo]])","v":"=' '!$F$879"},"#,##0","Partidas$F$58"]
["Partidas",{"$f":"' '!$G$879","v":0},{"$f":"FORMULATEXTO_Act(Campos_Ingreso_Datos[[#This Row],[Vinculo]])","v":"=' '!$G$879"},"#,##0","Partidas$G$58"]
["Partidas",{"$f":"' '!$C$880","v":"Otras propiedades, plantas y equipo - Ajuste acumulado por revaluaciones o reexpresiones"},{"$f":"FORMULATEXTO_Act(Campos_Ingreso_Datos[[#This Row],[Vinculo]])","v":"=' '!$C$880"},"General","Partidas$C$59","Otras propiedades, plantas y equipo - Ajuste acumulado por revaluaciones o reexpresiones"]
["Partidas",{"$f":"' '!$D$880","v":0},{"$f":"FORMULATEXTO_Act(Campos_Ingreso_Datos[[#This Row],[Vinculo]])","v":"=' '!$D$880"},"#,##0","Partidas$D$59"]
["Partidas",{"$f":"' '!$F$880","v":0},{"$f":"FORMULATEXTO_Act(Campos_Ingreso_Datos[[#This Row],[Vinculo]])","v":"=' '!$F$880"},"#,##0","Partidas$F$59"]
["Partidas",{"$f":"' '!$G$880","v":0},{"$f":"FORMULATEXTO_Act(Campos_Ingreso_Datos[[#This Row],[Vinculo]])","v":"=' '!$G$880"},"#,##0","Partidas$G$59"]
["Partidas",{"$f":"' '!$C$881","v":"Activos tangibles para exploración y evaluación de recursos minerales"},{"$f":"FORMULATEXTO_Act(Campos_Ingreso_Datos[[#This Row],[Vinculo]])","v":"=' '!$C$881"},"General","Partidas$C$60","Activos tangibles para exploración y evaluación de recursos minerales"]
["Partidas",{"$f":"' '!$D$881","v":0},{"$f":"FORMULATEXTO_Act(Campos_Ingreso_Datos[[#This Row],[Vinculo]])","v":"=' '!$D$881"},"#,##0","Partidas$D$60"]
["Partidas",{"$f":"' '!$F$881","v":0},{"$f":"FORMULATEXTO_Act(Campos_Ingreso_Datos[[#This Row],[Vinculo]])","v":"=' '!$F$881"},"#,##0","Partidas$F$60"]
["Partidas",{"$f":"' '!$G$881","v":0},{"$f":"FORMULATEXTO_Act(Campos_Ingreso_Datos[[#This Row],[Vinculo]])","v":"=' '!$G$881"},"#,##0","Partidas$G$60"]
["Partidas",{"$f":"' '!$C$882","v":"Depreciación acumulada de las Propiedades, Planta y Equipo"},{"$f":"FORMULATEXTO_Act(Campos_Ingreso_Datos[[#This Row],[Vinculo]])","v":"=' '!$C$882"},"General","Partidas$C$61","Depreciación acumulada de las Propiedades, Planta y Equipo"]
["Partidas",{"$f":"' '!$D$882","v":0},{"$f":"FORMULATEXTO_Act(Campos_Ingreso_Datos[[#This Row],[Vinculo]])","v":"=' '!$D$882"},"#,##0","Partidas$D$61"]
["Partidas",{"$f":"' '!$G$882","v":0},{"$f":"FORMULATEXTO_Act(Campos_Ingreso_Datos[[#This Row],[Vinculo]])","v":"=' '!$G$882"},"#,##0","Partidas$G$61"]
["Partidas",{"$f":"' '!$C$883","v":"Deterioro acumulado de las Propiedades, \nPlanta y Equipo"},{"$f":"FORMULATEXTO_Act(Campos_Ingreso_Datos[[#This Row],[Vinculo]])","v":"=' '!$C$883"},"General","Partidas$C$62","Deterioro acumulado de las Propiedades, \nPlanta y Equipo"]
["Partidas",{"$f":"' '!$D$883","v":0},{"$f":"FORMULATEXTO_Act(Campos_Ingreso_Datos[[#This Row],[Vinculo]])","v":"=' '!$D$883"},"#,##0","Partidas$D$62"]
["Partidas",{"$f":"' '!$G$883","v":0},{"$f":"FORMULATEXTO_Act(Campos_Ingreso_Datos[[#This Row],[Vinculo]])","v":"=' '!$G$883"},"#,##0","Partidas$G$62"]
["Partidas",{"$f":"' '!$C$891","v":"Acuerdos de concesión (modelo del activo intangible)"},{"$f":"FORMULATEXTO_Act(Campos_Ingreso_Datos[[#This Row],[Vinculo]])","v":"=' '!$C$891"},"General","Partidas$C$64","Acuerdos de concesión (modelo del activo intangible)"]
["Partidas",{"$f":"' '!$D$891","v":0},{"$f":"FORMULATEXTO_Act(Campos_Ingreso_Datos[[#This Row],[Vinculo]])","v":"=' '!$D$891"},"#,##0","Partidas$D$64"]
["Partidas",{"$f":"' '!$F$891","v":0},{"$f":"FORMULATEXTO_Act(Campos_Ingreso_Datos[[#This Row],[Vinculo]])","v":"=' '!$F$891"},"#,##0","Partidas$F$64"]
["Partidas",{"$f":"' '!$G$891","v":0},{"$f":"FORMULATEXTO_Act(Campos_Ingreso_Datos[[#This Row],[Vinculo]])","v":"=' '!$G$891"},"#,##0","Partidas$G$64"]
["Partidas",{"$f":"' '!$C$892","v":"Activos intangibles exploración y evaluación de recursos minerales"},{"$f":"FORMULATEXTO_Act(Campos_Ingreso_Datos[[#This Row],[Vinculo]])","v":"=' '!$C$892"},"General","Partidas$C$65","Activos intangibles exploración y evaluación de recursos minerales"]
["Partidas",{"$f":"' '!$D$892","v":0},{"$f":"FORMULATEXTO_Act(Campos_Ingreso_Datos[[#This Row],[Vinculo]])","v":"=' '!$D$892"},"#,##0","Partidas$D$65"]
["Partidas",{"$f":"' '!$F$892","v":0},{"$f":"FORMULATEXTO_Act(Campos_Ingreso_Datos[[#This Row],[Vinculo]])","v":"=' '!$F$892"},"#,##0","Partidas$F$65"]
["Partidas",{"$f":"' '!$G$892","v":0},{"$f":"FORMULATEXTO_Act(Campos_Ingreso_Datos[[#This Row],[Vinculo]])","v":"=' '!$G$892"},"#,##0","Partidas$G$65"]
["Partidas",{"$f":"' '!$C$893","v":"Marcas, patentes, licencias y otros derechos - Al costo"},{"$f":"FORMULATEXTO_Act(Campos_Ingreso_Datos[[#This Row],[Vinculo]])","v":"=' '!$C$893"},"General","Partidas$C$66","Marcas, patentes, licencias y otros derechos - Al costo"]
["Partidas",{"$f":"' '!$D$893","v":0},{"$f":"FORMULATEXTO_Act(Campos_Ingreso_Datos[[#This Row],[Vinculo]])","v":"=' '!$D$893"},"#,##0","Partidas$D$66"]
["Partidas",{"$f":"' '!$F$893","v":0},{"$f":"FORMULATEXTO_Act(Campos_Ingreso_Datos[[#This Row],[Vinculo]])","v":"=' '!$F$893"},"#,##0","Partidas$F$66"]
["Partidas",{"$f":"' '!$G$893","v":0},{"$f":"FORMULATEXTO_Act(Campos_Ingreso_Datos[[#This Row],[Vinculo]])","v":"=' '!$G$893"},"#,##0","Partidas$G$66"]
["Partidas",{"$f":"' '!$C$894","v":"Marcas, patentes, licencias y otros derechos - Ajuste acumulado por revaluaciones o reexpresiones"},{"$f":"FORMULATEXTO_Act(Campos_Ingreso_Datos[[#This Row],[Vinculo]])","v":"=' '!$C$894"},"General","Partidas$C$67","Marcas, patentes, licencias y otros derechos - Ajuste acumulado por revaluaciones o reexpresiones"]
["Partidas",{"$f":"' '!$D$894","v":0},{"$f":"FORMULATEXTO_Act(Campos_Ingreso_Datos[[#This Row],[Vinculo]])","v":"=' '!$D$894"},"#,##0","Partidas$D$67"]
["Partidas",{"$f":"' '!$F$894","v":0},{"$f":"FORMULATEXTO_Act(Campos_Ingreso_Datos[[#This Row],[Vinculo]])","v":"=' '!$F$894"},"#,##0","Partidas$F$67"]
["Partidas",{"$f":"' '!$G$894","v":0},{"$f":"FORMULATEXTO_Act(Campos_Ingreso_Datos[[#This Row],[Vinculo]])","v":"=' '!$G$894"},"#,##0","Partidas$G$67"]
["Partidas",{"$f":"' '!$C$895","v":"Arrendamiento Financiero - Al costo"},{"$f":"FORMULATEXTO_Act(Campos_Ingreso_Datos[[#This Row],[Vinculo]])","v":"=' '!$C$895"},"General","Partidas$C$68","Arrendamiento Financiero - Al costo"]
["Partidas",{"$f":"' '!$D$895","v":0},{"$f":"FORMULATEXTO_Act(Campos_Ingreso_Datos[[#This Row],[Vinculo]])","v":"=' '!$D$895"},"#,##0","Partidas$D$68"]
["Partidas",{"$f":"' '!$F$895","v":0},{"$f":"FORMULATEXTO_Act(Campos_Ingreso_Datos[[#This Row],[Vinculo]])","v":"=' '!$F$895"},"#,##0","Partidas$F$68"]
["Partidas",{"$f":"' '!$G$895","v":0},{"$f":"FORMULATEXTO_Act(Campos_Ingreso_Datos[[#This Row],[Vinculo]])","v":"=' '!$G$895"},"#,##0","Partidas$G$68"]
["Partidas",{"$f":"' '!$C$896","v":"Arrendamiento Financiero - Ajuste acumulado por revaluaciones o reexpresiones"},{"$f":"FORMULATEXTO_Act(Campos_Ingreso_Datos[[#This Row],[Vinculo]])","v":"=' '!$C$896"},"General","Partidas$C$69","Arrendamiento Financiero - Ajuste acumulado por revaluaciones o reexpresiones"]
["Partidas",{"$f":"' '!$D$896","v":0},{"$f":"FORMULATEXTO_Act(Campos_Ingreso_Datos[[#This Row],[Vinculo]])","v":"=' '!$D$896"},"#,##0","Partidas$D$69"]
["Partidas",{"$f":"' '!$F$896","v":0},{"$f":"FORMULATEXTO_Act(Campos_Ingreso_Datos[[#This Row],[Vinculo]])","v":"=' '!$F$896"},"#,##0","Partidas$F$69"]
["Partidas",{"$f":"' '!$G$896","v":0},{"$f":"FORMULATEXTO_Act(Campos_Ingreso_Datos[[#This Row],[Vinculo]])","v":"=' '!$G$896"},"#,##0","Partidas$G$69"]
["Partidas",{"$f":"' '!$C$897","v":"Otros activos intangibles - Al costo"},{"$f":"FORMULATEXTO_Act(Campos_Ingreso_Datos[[#This Row],[Vinculo]])","v":"=' '!$C$897"},"General","Partidas$C$70","Otros activos intangibles - Al costo"]
["Partidas",{"$f":"' '!$D$897","v":0},{"$f":"FORMULATEXTO_Act(Campos_Ingreso_Datos[[#This Row],[Vinculo]])","v":"=' '!$D$897"},"#,##0","Partidas$D$70"]
["Partidas",{"$f":"' '!$F$897","v":0},{"$f":"FORMULATEXTO_Act(Campos_Ingreso_Datos[[#This Row],[Vinculo]])","v":"=' '!$F$897"},"#,##0","Partidas$F$70"]
["Partidas",{"$f":"' '!$G$897","v":0},{"$f":"FORMULATEXTO_Act(Campos_Ingreso_Datos[[#This Row],[Vinculo]])","v":"=' '!$G$897"},"#,##0","Partidas$G$70"]
["Partidas",{"$f":"' '!$C$898","v":"Otros activos intangibles - Ajuste acumulado por revaluaciones o reexpresiones"},{"$f":"FORMULATEXTO_Act(Campos_Ingreso_Datos[[#This Row],[Vinculo]])","v":"=' '!$C$898"},"General","Partidas$C$71","Otros activos intangibles - Ajuste acumulado por revaluaciones o reexpresiones"]
["Partidas",{"$f":"' '!$D$898","v":0},{"$f":"FORMULATEXTO_Act(Campos_Ingreso_Datos[[#This Row],[Vinculo]])","v":"=' '!$D$898"},"#,##0","Partidas$D$71"]
["Partidas",{"$f":"' '!$F$898","v":0},{"$f":"FORMULATEXTO_Act(Campos_Ingreso_Datos[[#This Row],[Vinculo]])","v":"=' '!$F$898"},"#,##0","Partidas$F$71"]
["Partidas",{"$f":"' '!$G$898","v":0},{"$f":"FORMULATEXTO_Act(Campos_Ingreso_Datos[[#This Row],[Vinculo]])","v":"=' '!$G$898"},"#,##0","Partidas$G$71"]
["Partidas",{"$f":"' '!$C$899","v":"Plusvalía o Good Will - Adquisición de establecimiento de comercio"},{"$f":"FORMULATEXTO_Act(Campos_Ingreso_Datos[[#This Row],[Vinculo]])","v":"=' '!$C$899"},"General","Partidas$C$72","Plusvalía o Good Will - Adquisición de establecimiento de comercio"]
["Partidas",{"$f":"' '!$D$899","v":0},{"$f":"FORMULATEXTO_Act(Campos_Ingreso_Datos[[#This Row],[Vinculo]])","v":"=' '!$D$899"},"#,##0","Partidas$D$72"]
["Partidas",{"$f":"' '!$F$899","v":0},{"$f":"FORMULATEXTO_Act(Campos_Ingreso_Datos[[#This Row],[Vinculo]])","v":"=' '!$F$899"},"#,##0","Partidas$F$72"]
["Partidas",{"$f":"' '!$G$899","v":0},{"$f":"FORMULATEXTO_Act(Campos_Ingreso_Datos[[#This Row],[Vinculo]])","v":"=' '!$G$899"},"#,##0","Partidas$G$72"]
["Partidas",{"$f":"' '!$C$900","v":"Plusvalía o Good Will - Fusiones"},{"$f":"FORMULATEXTO_Act(Campos_Ingreso_Datos[[#This Row],[Vinculo]])","v":"=' '!$C$900"},"General","Partidas$C$73","Plusvalía o Good Will - Fusiones"]
["Partidas",{"$f":"' '!$D$900","v":0},{"$f":"FORMULATEXTO_Act(Campos_Ingreso_Datos[[#This Row],[Vinculo]])","v":"=' '!$D$900"},"#,##0","Partidas$D$73"]
["Partidas",{"$f":"' '!$F$900","v":0},{"$f":"FORMULATEXTO_Act(Campos_Ingreso_Datos[[#This Row],[Vinculo]])","v":"=' '!$F$900"},"#,##0","Partidas$F$73"]
["Partidas",{"$f":"' '!$G$900","v":0},{"$f":"FORMULATEXTO_Act(Campos_Ingreso_Datos[[#This Row],[Vinculo]])","v":"=' '!$G$900"},"#,##0","Partidas$G$73"]
["Partidas",{"$f":"' '!$C$901","v":"Plusvalía o Good Will - Escisiones"},{"$f":"FORMULATEXTO_Act(Campos_Ingreso_Datos[[#This Row],[Vinculo]])","v":"=' '!$C$901"},"General","Partidas$C$74","Plusvalía o Good Will - Escisiones"]
["Partidas",{"$f":"' '!$D$901","v":0},{"$f":"FORMULATEXTO_Act(Campos_Ingreso_Datos[[#This Row],[Vinculo]])","v":"=' '!$D$901"},"#,##0","Partidas$D$74"]
["Partidas",{"$f":"' '!$F$901","v":0},{"$f":"FORMULATEXTO_Act(Campos_Ingreso_Datos[[#This Row],[Vinculo]])","v":"=' '!$F$901"},"#,##0","Partidas$F$74"]
["Partidas",{"$f":"' '!$G$901","v":0},{"$f":"FORMULATEXTO_Act(Campos_Ingreso_Datos[[#This Row],[Vinculo]])","v":"=' '!$G$901"},"#,##0","Partidas$G$74"]
["Partidas",{"$f":"' '!$C$902","v":"Plusvalía o Good Will - Compras de Acciones "},{"$f":"FORMULATEXTO_Act(Campos_Ingreso_Datos[[#This Row],[Vinculo]])","v":"=' '!$C$902"},"General","Partidas$C$75","Plusvalía o Good Will - Compras de Acciones "]
["Partidas",{"$f":"' '!$D$902","v":0},{"$f":"FORMULATEXTO_Act(Campos_Ingreso_Datos[[#This Row],[Vinculo]])","v":"=' '!$D$902"},"#,##0","Partidas$D$75"]
["Partidas",{"$f":"' '!$F$902","v":0},{"$f":"FORMULATEXTO_Act(Campos_Ingreso_Datos[[#This Row],[Vinculo]])","v":"=' '!$F$902"},"#,##0","Partidas$F$75"]
["Partidas",{"$f":"' '!$G$902","v":0},{"$f":"FORMULATEXTO_Act(Campos_Ingreso_Datos[[#This Row],[Vinculo]])","v":"=' '!$G$902"},"#,##0","Partidas$G$75"]
["Partidas",{"$f":"' '!$C$903","v":"Amortización acumulada activos intangibles"},{"$f":"FORMULATEXTO_Act(Campos_Ingreso_Datos[[#This Row],[Vinculo]])","v":"=' '!$C$903"},"General","Partidas$C$76","Amortización acumulada activos intangibles"]
["Partidas",{"$f":"' '!$D$903","v":0},{"$f":"FORMULATEXTO_Act(Campos_Ingreso_Datos[[#This Row],[Vinculo]])","v":"=' '!$D$903"},"#,##0","Partidas$D$76"]
["Partidas",{"$f":"' '!$G$903","v":0},{"$f":"FORMULATEXTO_Act(Campos_Ingreso_Datos[[#This Row],[Vinculo]])","v":"=' '!$G$903"},"#,##0","Partidas$G$76"]
["Partidas",{"$f":"' '!$C$904","v":"Deterioro acumulado activos intangibles"},{"$f":"FORMULATEXTO_Act(Campos_Ingreso_Datos[[#This Row],[Vinculo]])","v":"=' '!$C$904"},"General","Partidas$C$77","Deterioro acumulado activos intangibles"]
["Partidas",{"$f":"' '!$D$904","v":0},{"$f":"FORMULATEXTO_Act(Campos_Ingreso_Datos[[#This Row],[Vinculo]])","v":"=' '!$D$904"},"#,##0","Partidas$D$77"]
["Partidas",{"$f":"' '!$G$904","v":0},{"$f":"FORMULATEXTO_Act(Campos_Ingreso_Datos[[#This Row],[Vinculo]])","v":"=' '!$G$904"},"#,##0","Partidas$G$77"]
["Partidas",{"$f":"' '!$C$906","v":"Terrenos - Al costo"},{"$f":"FORMULATEXTO_Act(Campos_Ingreso_Datos[[#This Row],[Vinculo]])","v":"=' '!$C$906"},"General","Partidas$C$79","Terrenos - Al costo"]
["Partidas",{"$f":"' '!$D$906","v":0},{"$f":"FORMULATEXTO_Act(Campos_Ingreso_Datos[[#This Row],[Vinculo]])","v":"=' '!$D$906"},"#,##0","Partidas$D$79"]
["Partidas",{"$f":"' '!$F$906","v":0},{"$f":"FORMULATEXTO_Act(Campos_Ingreso_Datos[[#This Row],[Vinculo]])","v":"=' '!$F$906"},"#,##0","Partidas$F$79"]
["Partidas",{"$f":"' '!$G$906","v":0},{"$f":"FORMULATEXTO_Act(Campos_Ingreso_Datos[[#This Row],[Vinculo]])","v":"=' '!$G$906"},"#,##0","Partidas$G$79"]
["Partidas",{"$f":"' '!$C$907","v":"Terrenos - Al valor razonable"},{"$f":"FORMULATEXTO_Act(Campos_Ingreso_Datos[[#This Row],[Vinculo]])","v":"=' '!$C$907"},"General","Partidas$C$80","Terrenos - Al valor razonable"]
["Partidas",{"$f":"' '!$D$907","v":0},{"$f":"FORMULATEXTO_Act(Campos_Ingreso_Datos[[#This Row],[Vinculo]])","v":"=' '!$D$907"},"#,##0","Partidas$D$80"]
["Partidas",{"$f":"' '!$F$907","v":0},{"$f":"FORMULATEXTO_Act(Campos_Ingreso_Datos[[#This Row],[Vinculo]])","v":"=' '!$F$907"},"#,##0","Partidas$F$80"]
["Partidas",{"$f":"' '!$G$907","v":0},{"$f":"FORMULATEXTO_Act(Campos_Ingreso_Datos[[#This Row],[Vinculo]])","v":"=' '!$G$907"},"#,##0","Partidas$G$80"]
["Partidas",{"$f":"' '!$C$908","v":"Edificaciones - Al costo"},{"$f":"FORMULATEXTO_Act(Campos_Ingreso_Datos[[#This Row],[Vinculo]])","v":"=' '!$C$908"},"General","Partidas$C$81","Edificaciones - Al costo"]
["Partidas",{"$f":"' '!$D$908","v":0},{"$f":"FORMULATEXTO_Act(Campos_Ingreso_Datos[[#This Row],[Vinculo]])","v":"=' '!$D$908"},"#,##0","Partidas$D$81"]
["Partidas",{"$f":"' '!$F$908","v":0},{"$f":"FORMULATEXTO_Act(Campos_Ingreso_Datos[[#This Row],[Vinculo]])","v":"=' '!$F$908"},"#,##0","Partidas$F$81"]
["Partidas",{"$f":"' '!$G$908","v":0},{"$f":"FORMULATEXTO_Act(Campos_Ingreso_Datos[[#This Row],[Vinculo]])","v":"=' '!$G$908"},"#,##0","Partidas$G$81"]
["Partidas",{"$f":"' '!$C$909","v":"Edificaciones - A valor razonable"},{"$f":"FORMULATEXTO_Act(Campos_Ingreso_Datos[[#This Row],[Vinculo]])","v":"=' '!$C$909"},"General","Partidas$C$82","Edificaciones - A valor razonable"]
["Partidas",{"$f":"' '!$D$909","v":0},{"$f":"FORMULATEXTO_Act(Campos_Ingreso_Datos[[#This Row],[Vinculo]])","v":"=' '!$D$909"},"#,##0","Partidas$D$82"]
["Partidas",{"$f":"' '!$F$909","v":0},{"$f":"FORMULATEXTO_Act(Campos_Ingreso_Datos[[#This Row],[Vinculo]])","v":"=' '!$F$909"},"#,##0","Partidas$F$82"]
["Partidas",{"$f":"' '!$G$909","v":0},{"$f":"FORMULATEXTO_Act(Campos_Ingreso_Datos[[#This Row],[Vinculo]])","v":"=' '!$G$909"},"#,##0","Partidas$G$82"]
["Partidas",{"$f":"' '!$C$910","v":"Otras propiedades de inversión - Al costo"},{"$f":"FORMULATEXTO_Act(Campos_Ingreso_Datos[[#This Row],[Vinculo]])","v":"=' '!$C$910"},"General","Partidas$C$83","Otras propiedades de inversión - Al costo"]
["Partidas",{"$f":"' '!$D$910","v":0},{"$f":"FORMULATEXTO_Act(Campos_Ingreso_Datos[[#This Row],[Vinculo]])","v":"=' '!$D$910"},"#,##0","Partidas$D$83"]
["Partidas",{"$f":"' '!$F$910","v":0},{"$f":"FORMULATEXTO_Act(Campos_Ingreso_Datos[[#This Row],[Vinculo]])","v":"=' '!$F$910"},"#,##0","Partidas$F$83"]
["Partidas",{"$f":"' '!$G$910","v":0},{"$f":"FORMULATEXTO_Act(Campos_Ingreso_Datos[[#This Row],[Vinculo]])","v":"=' '!$G$910"},"#,##0","Partidas$G$83"]
["Partidas",{"$f":"' '!$C$911","v":"Otras propiedades de inversión - Al valor razonable"},{"$f":"FORMULATEXTO_Act(Campos_Ingreso_Datos[[#This Row],[Vinculo]])","v":"=' '!$C$911"},"General","Partidas$C$84","Otras propiedades de inversión - Al valor razonable"]
["Partidas",{"$f":"' '!$D$911","v":0},{"$f":"FORMULATEXTO_Act(Campos_Ingreso_Datos[[#This Row],[Vinculo]])","v":"=' '!$D$911"},"#,##0","Partidas$D$84"]
["Partidas",{"$f":"' '!$F$911","v":0},{"$f":"FORMULATEXTO_Act(Campos_Ingreso_Datos[[#This Row],[Vinculo]])","v":"=' '!$F$911"},"#,##0","Partidas$F$84"]
["Partidas",{"$f":"' '!$G$911","v":0},{"$f":"FORMULATEXTO_Act(Campos_Ingreso_Datos[[#This Row],[Vinculo]])","v":"=' '!$G$911"},"#,##0","Partidas$G$84"]
["Partidas",{"$f":"' '!$C$912","v":"Depreciación acumulada propiedades de \ninversión "},{"$f":"FORMULATEXTO_Act(Campos_Ingreso_Datos[[#This Row],[Vinculo]])","v":"=' '!$C$912"},"General","Partidas$C$85","Depreciación acumulada propiedades de \ninversión "]
["Partidas",{"$f":"' '!$D$912","v":0},{"$f":"FORMULATEXTO_Act(Campos_Ingreso_Datos[[#This Row],[Vinculo]])","v":"=' '!$D$912"},"#,##0","Partidas$D$85"]
["Partidas",{"$f":"' '!$G$912","v":0},{"$f":"FORMULATEXTO_Act(Campos_Ingreso_Datos[[#This Row],[Vinculo]])","v":"=' '!$G$912"},"#,##0","Partidas$G$85"]
["Partidas",{"$f":"' '!$C$913","v":"Deterioro acumulado propiedades de \ninversión "},{"$f":"FORMULATEXTO_Act(Campos_Ingreso_Datos[[#This Row],[Vinculo]])","v":"=' '!$C$913"},"General","Partidas$C$86","Deterioro acumulado propiedades de \ninversión "]
["Partidas",{"$f":"' '!$D$913","v":0},{"$f":"FORMULATEXTO_Act(Campos_Ingreso_Datos[[#This Row],[Vinculo]])","v":"=' '!$D$913"},"#,##0","Partidas$D$86"]
["Partidas",{"$f":"' '!$G$913","v":0},{"$f":"FORMULATEXTO_Act(Campos_Ingreso_Datos[[#This Row],[Vinculo]])","v":"=' '!$G$913"},"#,##0","Partidas$G$86"]
["Partidas",{"$f":"' '!$C$915","v":"Animales productores medidos al costo"},{"$f":"FORMULATEXTO_Act(Campos_Ingreso_Datos[[#This Row],[Vinculo]])","v":"=' '!$C$915"},"General","Partidas$C$88","Animales productores medidos al costo"]
["Partidas",{"$f":"' '!$D$915","v":0},{"$f":"FORMULATEXTO_Act(Campos_Ingreso_Datos[[#This Row],[Vinculo]])","v":"=' '!$D$915"},"#,##0","Partidas$D$88"]
["Partidas",{"$f":"' '!$F$915","v":0},{"$f":"FORMULATEXTO_Act(Campos_Ingreso_Datos[[#This Row],[Vinculo]])","v":"=' '!$F$915"},"#,##0","Partidas$F$88"]
["Partidas",{"$f":"' '!$G$915","v":0},{"$f":"FORMULATEXTO_Act(Campos_Ingreso_Datos[[#This Row],[Vinculo]])","v":"=' '!$G$915"},"#,##0","Partidas$G$88"]
["Partidas",{"$f":"' '!$C$916","v":"Animales productores medidos al valor \nrazonable menos costos de venta"},{"$f":"FORMULATEXTO_Act(Campos_Ingreso_Datos[[#This Row],[Vinculo]])","v":"=' '!$C$916"},"General","Partidas$C$89","Animales productores medidos al valor \nrazonable menos costos de venta"]
["Partidas",{"$f":"' '!$D$916","v":0},{"$f":"FORMULATEXTO_Act(Campos_Ingreso_Datos[[#This Row],[Vinculo]])","v":"=' '!$D$916"},"#,##0","Partidas$D$89"]
["Partidas",{"$f":"' '!$F$916","v":0},{"$f":"FORMULATEXTO_Act(Campos_Ingreso_Datos[[#This Row],[Vinculo]])","v":"=' '!$F$916"},"#,##0","Partidas$F$89"]
["Partidas",{"$f":"' '!$G$916","v":0},{"$f":"FORMULATEXTO_Act(Campos_Ingreso_Datos[[#This Row],[Vinculo]])","v":"=' '!$G$916"},"#,##0","Partidas$G$89"]
["Partidas",{"$f":"' '!$C$917","v":"Animales consumibles medidos al costo"},{"$f":"FORMULATEXTO_Act(Campos_Ingreso_Datos[[#This Row],[Vinculo]])","v":"=' '!$C$917"},"General","Partidas$C$90","Animales consumibles medidos al costo"]
["Partidas",{"$f":"' '!$D$917","v":0},{"$f":"FORMULATEXTO_Act(Campos_Ingreso_Datos[[#This Row],[Vinculo]])","v":"=' '!$D$917"},"#,##0","Partidas$D$90"]
["Partidas",{"$f":"' '!$F$917","v":0},{"$f":"FORMULATEXTO_Act(Campos_Ingreso_Datos[[#This Row],[Vinculo]])","v":"=' '!$F$917"},"#,##0","Partidas$F$90"]
["Partidas",{"$f":"' '!$G$917","v":0},{"$f":"FORMULATEXTO_Act(Campos_Ingreso_Datos[[#This Row],[Vinculo]])","v":"=' '!$G$917"},"#,##0","Partidas$G$90"]
["Partidas",{"$f":"' '!$C$918","v":"Animales consumibles medidos al valor \nrazonable menos costos de venta"},{"$f":"FORMULATEXTO_Act(Campos_Ingreso_Datos[[#This Row],[Vinculo]])","v":"=' '!$C$918"},"General","Partidas$C$91","Animales consumibles medidos al valor \nrazonable menos costos de venta"]
["Partidas",{"$f":"' '!$D$918","v":0},{"$f":"FORMULATEXTO_Act(Campos_Ingreso_Datos[[#This Row],[Vinculo]])","v":"=' '!$D$918"},"#,##0","Partidas$D$91"]
["Partidas",{"$f":"' '!$F$918","v":0},{"$f":"FORMULATEXTO_Act(Campos_Ingreso_Datos[[#This Row],[Vinculo]])","v":"=' '!$F$918"},"#,##0","Partidas$F$91"]
["Partidas",{"$f":"' '!$G$918","v":0},{"$f":"FORMULATEXTO_Act(Campos_Ingreso_Datos[[#This Row],[Vinculo]])","v":"=' '!$G$918"},"#,##0","Partidas$G$91"]
["Partidas",{"$f":"' '!$C$919","v":"Plantas productoras medidas al costo"},{"$f":"FORMULATEXTO_Act(Campos_Ingreso_Datos[[#This Row],[Vinculo]])","v":"=' '!$C$919"},"General","Partidas$C$92","Plantas productoras medidas al costo"]
["Partidas",{"$f":"' '!$D$919","v":0},{"$f":"FORMULATEXTO_Act(Campos_Ingreso_Datos[[#This Row],[Vinculo]])","v":"=' '!$D$919"},"#,##0","Partidas$D$92"]
["Partidas",{"$f":"' '!$F$919","v":0},{"$f":"FORMULATEXTO_Act(Campos_Ingreso_Datos[[#This Row],[Vinculo]])","v":"=' '!$F$919"},"#,##0","Partidas$F$92"]
["Partidas",{"$f":"' '!$G$919","v":0},{"$f":"FORMULATEXTO_Act(Campos_Ingreso_Datos[[#This Row],[Vinculo]])","v":"=' '!$G$919"},"#,##0","Partidas$G$92"]
["Partidas",{"$f":"' '!$C$920","v":"Plantas productoras medidas al valor \nrazonable"},{"$f":"FORMULATEXTO_Act(Campos_Ingreso_Datos[[#This Row],[Vinculo]])","v":"=' '!$C$920"},"General","Partidas$C$93","Plantas productoras medidas al valor \nrazonable"]
["Partidas",{"$f":"' '!$D$920","v":0},{"$f":"FORMULATEXTO_Act(Campos_Ingreso_Datos[[#This Row],[Vinculo]])","v":"=' '!$D$920"},"#,##0","Partidas$D$93"]
["Partidas",{"$f":"' '!$F$920","v":0},{"$f":"FORMULATEXTO_Act(Campos_Ingreso_Datos[[#This Row],[Vinculo]])","v":"=' '!$F$920"},"#,##0","Partidas$F$93"]
["Partidas",{"$f":"' '!$G$920","v":0},{"$f":"FORMULATEXTO_Act(Campos_Ingreso_Datos[[#This Row],[Vinculo]])","v":"=' '!$G$920"},"#,##0","Partidas$G$93"]
["Partidas",{"$f":"' '!$C$921","v":"Cultivos consumibles medidos al costo"},{"$f":"FORMULATEXTO_Act(Campos_Ingreso_Datos[[#This Row],[Vinculo]])","v":"=' '!$C$921"},"General","Partidas$C$94","Cultivos consumibles medidos al costo"]
["Partidas",{"$f":"' '!$D$921","v":0},{"$f":"FORMULATEXTO_Act(Campos_Ingreso_Datos[[#This Row],[Vinculo]])","v":"=' '!$D$921"},"#,##0","Partidas$D$94"]
["Partidas",{"$f":"' '!$F$921","v":0},{"$f":"FORMULATEXTO_Act(Campos_Ingreso_Datos[[#This Row],[Vinculo]])","v":"=' '!$F$921"},"#,##0","Partidas$F$94"]
["Partidas",{"$f":"' '!$G$921","v":0},{"$f":"FORMULATEXTO_Act(Campos_Ingreso_Datos[[#This Row],[Vinculo]])","v":"=' '!$G$921"},"#,##0","Partidas$G$94"]
["Partidas",{"$f":"' '!$C$922","v":"Cultivos consumibles medidos al valor \nrazonable menos costos de venta"},{"$f":"FORMULATEXTO_Act(Campos_Ingreso_Datos[[#This Row],[Vinculo]])","v":"=' '!$C$922"},"General","Partidas$C$95","Cultivos consumibles medidos al valor \nrazonable menos costos de venta"]
["Partidas",{"$f":"' '!$D$922","v":0},{"$f":"FORMULATEXTO_Act(Campos_Ingreso_Datos[[#This Row],[Vinculo]])","v":"=' '!$D$922"},"#,##0","Partidas$D$95"]
["Partidas",{"$f":"' '!$F$922","v":0},{"$f":"FORMULATEXTO_Act(Campos_Ingreso_Datos[[#This Row],[Vinculo]])","v":"=' '!$F$922"},"#,##0","Partidas$F$95"]
["Partidas",{"$f":"' '!$G$922","v":0},{"$f":"FORMULATEXTO_Act(Campos_Ingreso_Datos[[#This Row],[Vinculo]])","v":"=' '!$G$922"},"#,##0","Partidas$G$95"]
["Partidas",{"$f":"' '!$C$923","v":"Otros activos biológicos medidos al costo "},{"$f":"FORMULATEXTO_Act(Campos_Ingreso_Datos[[#This Row],[Vinculo]])","v":"=' '!$C$923"},"General","Partidas$C$96","Otros activos biológicos medidos al costo "]
["Partidas",{"$f":"' '!$D$923","v":0},{"$f":"FORMULATEXTO_Act(Campos_Ingreso_Datos[[#This Row],[Vinculo]])","v":"=' '!$D$923"},"#,##0","Partidas$D$96"]
["Partidas",{"$f":"' '!$F$923","v":0},{"$f":"FORMULATEXTO_Act(Campos_Ingreso_Datos[[#This Row],[Vinculo]])","v":"=' '!$F$923"},"#,##0","Partidas$F$96"]
["Partidas",{"$f":"' '!$G$923","v":0},{"$f":"FORMULATEXTO_Act(Campos_Ingreso_Datos[[#This Row],[Vinculo]])","v":"=' '!$G$923"},"#,##0","Partidas$G$96"]
["Partidas",{"$f":"' '!$C$924","v":"Otros activos biológicos medidos al valor razonable "},{"$f":"FORMULATEXTO_Act(Campos_Ingreso_Datos[[#This Row],[Vinculo]])","v":"=' '!$C$924"},"General","Partidas$C$97","Otros activos biológicos medidos al valor razonable "]
["Partidas",{"$f":"' '!$D$924","v":0},{"$f":"FORMULATEXTO_Act(Campos_Ingreso_Datos[[#This Row],[Vinculo]])","v":"=' '!$D$924"},"#,##0","Partidas$D$97"]
["Partidas",{"$f":"' '!$F$924","v":0},{"$f":"FORMULATEXTO_Act(Campos_Ingreso_Datos[[#This Row],[Vinculo]])","v":"=' '!$F$924"},"#,##0","Partidas$F$97"]
["Partidas",{"$f":"' '!$G$924","v":0},{"$f":"FORMULATEXTO_Act(Campos_Ingreso_Datos[[#This Row],[Vinculo]])","v":"=' '!$G$924"},"#,##0","Partidas$G$97"]
["Partidas",{"$f":"' '!$C$925","v":"Depreciación acumulada activos biológicos"},{"$f":"FORMULATEXTO_Act(Campos_Ingreso_Datos[[#This Row],[Vinculo]])","v":"=' '!$C$925"},"General","Partidas$C$98","Depreciación acumulada activos biológicos"]
["Partidas",{"$f":"' '!$D$925","v":0},{"$f":"FORMULATEXTO_Act(Campos_Ingreso_Datos[[#This Row],[Vinculo]])","v":"=' '!$D$925"},"#,##0","Partidas$D$98"]
["Partidas",{"$f":"' '!$G$925","v":0},{"$f":"FORMULATEXTO_Act(Campos_Ingreso_Datos[[#This Row],[Vinculo]])","v":"=' '!$G$925"},"#,##0","Partidas$G$98"]
["Partidas",{"$f":"' '!$C$926","v":"Deterioro acumulado activos biológicos"},{"$f":"FORMULATEXTO_Act(Campos_Ingreso_Datos[[#This Row],[Vinculo]])","v":"=' '!$C$926"},"General","Partidas$C$99","Deterioro acumulado activos biológicos"]
["Partidas",{"$f":"' '!$D$926","v":0},{"$f":"FORMULATEXTO_Act(Campos_Ingreso_Datos[[#This Row],[Vinculo]])","v":"=' '!$D$926"},"#,##0","Partidas$D$99"]
["Partidas",{"$f":"' '!$G$926","v":0},{"$f":"FORMULATEXTO_Act(Campos_Ingreso_Datos[[#This Row],[Vinculo]])","v":"=' '!$G$926"},"#,##0","Partidas$G$99"]
["Partidas",{"$f":"' '!$C$928","v":"Mantenidos para la venta"},{"$f":"FORMULATEXTO_Act(Campos_Ingreso_Datos[[#This Row],[Vinculo]])","v":"=' '!$C$928"},"General","Partidas$C$101","Mantenidos para la venta"]
["Partidas",{"$f":"' '!$D$928","v":0},{"$f":"FORMULATEXTO_Act(Campos_Ingreso_Datos[[#This Row],[Vinculo]])","v":"=' '!$D$928"},"#,##0","Partidas$D$101"]
["Partidas",{"$f":"' '!$F$928","v":0},{"$f":"FORMULATEXTO_Act(Campos_Ingreso_Datos[[#This Row],[Vinculo]])","v":"=' '!$F$928"},"#,##0","Partidas$F$101"]
["Partidas",{"$f":"' '!$G$928","v":0},{"$f":"FORMULATEXTO_Act(Campos_Ingreso_Datos[[#This Row],[Vinculo]])","v":"=' '!$G$928"},"#,##0","Partidas$G$101"]
["Partidas",{"$f":"' '!$C$929","v":"Mantenidos para distribuir a propietarios"},{"$f":"FORMULATEXTO_Act(Campos_Ingreso_Datos[[#This Row],[Vinculo]])","v":"=' '!$C$929"},"General","Partidas$C$102","Mantenidos para distribuir a propietarios"]
["Partidas",{"$f":"' '!$D$929","v":0},{"$f":"FORMULATEXTO_Act(Campos_Ingreso_Datos[[#This Row],[Vinculo]])","v":"=' '!$D$929"},"#,##0","Partidas$D$102"]
["Partidas",{"$f":"' '!$F$929","v":0},{"$f":"FORMULATEXTO_Act(Campos_Ingreso_Datos[[#This Row],[Vinculo]])","v":"=' '!$F$929"},"#,##0","Partidas$F$102"]
["Partidas",{"$f":"' '!$G$929","v":0},{"$f":"FORMULATEXTO_Act(Campos_Ingreso_Datos[[#This Row],[Vinculo]])","v":"=' '!$G$929"},"#,##0","Partidas$G$102"]
["Partidas",{"$f":"' '!$C$930","v":"Deterioro acumulado activos no corrientes \nmantenidos para la venta y/o para \ndistribuir a propietarios "},{"$f":"FORMULATEXTO_Act(Campos_Ingreso_Datos[[#This Row],[Vinculo]])","v":"=' '!$C$930"},"General","Partidas$C$103","Deterioro acumulado activos no corrientes \nmantenidos para la venta y/o para \ndistribuir a propietarios "]
["Partidas",{"$f":"' '!$D$930","v":0},{"$f":"FORMULATEXTO_Act(Campos_Ingreso_Datos[[#This Row],[Vinculo]])","v":"=' '!$D$930"},"#,##0","Partidas$D$103"]
["Partidas",{"$f":"' '!$G$930","v":0},{"$f":"FORMULATEXTO_Act(Campos_Ingreso_Datos[[#This Row],[Vinculo]])","v":"=' '!$G$930"},"#,##0","Partidas$G$103"]
["Partidas",{"$f":"' '!$C$932","v":"Cargos diferidos"},{"$f":"FORMULATEXTO_Act(Campos_Ingreso_Datos[[#This Row],[Vinculo]])","v":"=' '!$C$932"},"General","Partidas$C$105","Cargos diferidos"]
["Partidas",{"$f":"' '!$F$932","v":0},{"$f":"FORMULATEXTO_Act(Campos_Ingreso_Datos[[#This Row],[Vinculo]])","v":"=' '!$F$932"},"#,##0","Partidas$F$105"]
["Partidas",{"$f":"' '!$G$932","v":0},{"$f":"FORMULATEXTO_Act(Campos_Ingreso_Datos[[#This Row],[Vinculo]])","v":"=' '!$G$932"},"#,##0","Partidas$G$105"]
["Partidas",{"$f":"' '!$C$933","v":"Otros activos reconocidos solamente para fines fiscales "},{"$f":"FORMULATEXTO_Act(Campos_Ingreso_Datos[[#This Row],[Vinculo]])","v":"=' '!$C$933"},"General","Partidas$C$106","Otros activos reconocidos solamente para fines fiscales "]
["Partidas",{"$f":"' '!$F$933","v":0},{"$f":"FORMULATEXTO_Act(Campos_Ingreso_Datos[[#This Row],[Vinculo]])","v":"=' '!$F$933"},"#,##0","Partidas$F$106"]
["Partidas",{"$f":"' '!$G$933","v":0},{"$f":"FORMULATEXTO_Act(Campos_Ingreso_Datos[[#This Row],[Vinculo]])","v":"=' '!$G$933"},"#,##0","Partidas$G$106"]
["Partidas",{"$f":"' '!$C$935","v":"Otros activos "},{"$f":"FORMULATEXTO_Act(Campos_Ingreso_Datos[[#This Row],[Vinculo]])","v":"=' '!$C$935"},"General","Partidas$C$108","Otros activos "]
["Partidas",{"$f":"' '!$D$935","v":0},{"$f":"FORMULATEXTO_Act(Campos_Ingreso_Datos[[#This Row],[Vinculo]])","v":"=' '!$D$935"},"#,##0","Partidas$D$108"]
["Partidas",{"$f":"' '!$F$935","v":0},{"$f":"FORMULATEXTO_Act(Campos_Ingreso_Datos[[#This Row],[Vinculo]])","v":"=' '!$F$935"},"#,##0","Partidas$F$108"]
["Partidas",{"$f":"' '!$G$935","v":0},{"$f":"FORMULATEXTO_Act(Campos_Ingreso_Datos[[#This Row],[Vinculo]])","v":"=' '!$G$935"},"#,##0","Partidas$G$108"]
["Partidas",{"$f":"' '!$C$937","v":"Pérdidas fiscales por compensar"},{"$f":"FORMULATEXTO_Act(Campos_Ingreso_Datos[[#This Row],[Vinculo]])","v":"=' '!$C$937"},"General","Partidas$C$110","Pérdidas fiscales por compensar"]
["Partidas",{"$f":"' '!$F$937","v":0},{"$f":"FORMULATEXTO_Act(Campos_Ingreso_Datos[[#This Row],[Vinculo]])","v":"=' '!$F$937"},"#,##0","Partidas$F$110"]
["Partidas",{"$f":"' '!$G$937","v":0},{"$f":"FORMULATEXTO_Act(Campos_Ingreso_Datos[[#This Row],[Vinculo]])","v":"=' '!$G$937"},"#,##0","Partidas$G$110"]
["Partidas",{"$f":"' '!$C$939","v":"Obligaciones financieras en moneda local "},{"$f":"FORMULATEXTO_Act(Campos_Ingreso_Datos[[#This Row],[Vinculo]])","v":"=' '!$C$939"},"General","Partidas$C$112","Obligaciones financieras en moneda local "]
["Partidas",{"$f":"' '!$D$939","v":0},{"$f":"FORMULATEXTO_Act(Campos_Ingreso_Datos[[#This Row],[Vinculo]])","v":"=' '!$D$939"},"#,##0","Partidas$D$112"]
["Partidas",{"$f":"' '!$F$939","v":0},{"$f":"FORMULATEXTO_Act(Campos_Ingreso_Datos[[#This Row],[Vinculo]])","v":"=' '!$F$939"},"#,##0","Partidas$F$112"]
["Partidas",{"$f":"' '!$G$939","v":0},{"$f":"FORMULATEXTO_Act(Campos_Ingreso_Datos[[#This Row],[Vinculo]])","v":"=' '!$G$939"},"#,##0","Partidas$G$112"]
["Partidas",{"$f":"' '!$C$940","v":"Obligaciones financieras en moneda extranjera"},{"$f":"FORMULATEXTO_Act(Campos_Ingreso_Datos[[#This Row],[Vinculo]])","v":"=' '!$C$940"},"General","Partidas$C$113","Obligaciones financieras en moneda extranjera"]
["Partidas",{"$f":"' '!$D$940","v":0},{"$f":"FORMULATEXTO_Act(Campos_Ingreso_Datos[[#This Row],[Vinculo]])","v":"=' '!$D$940"},"#,##0","Partidas$D$113"]
["Partidas",{"$f":"' '!$F$940","v":0},{"$f":"FORMULATEXTO_Act(Campos_Ingreso_Datos[[#This Row],[Vinculo]])","v":"=' '!$F$940"},"#,##0","Partidas$F$113"]
["Partidas",{"$f":"' '!$G$940","v":0},{"$f":"FORMULATEXTO_Act(Campos_Ingreso_Datos[[#This Row],[Vinculo]])","v":"=' '!$G$940"},"#,##0","Partidas$G$113"]
["Partidas",{"$f":"' '!$C$941","v":"Depósitos y exigibilidades"},{"$f":"FORMULATEXTO_Act(Campos_Ingreso_Datos[[#This Row],[Vinculo]])","v":"=' '!$C$941"},"General","Partidas$C$114","Depósitos y exigibilidades"]
["Partidas",{"$f":"' '!$D$941","v":0},{"$f":"FORMULATEXTO_Act(Campos_Ingreso_Datos[[#This Row],[Vinculo]])","v":"=' '!$D$941"},"#,##0","Partidas$D$114"]
["Partidas",{"$f":"' '!$F$941","v":0},{"$f":"FORMULATEXTO_Act(Campos_Ingreso_Datos[[#This Row],[Vinculo]])","v":"=' '!$F$941"},"#,##0","Partidas$F$114"]
["Partidas",{"$f":"' '!$G$941","v":0},{"$f":"FORMULATEXTO_Act(Campos_Ingreso_Datos[[#This Row],[Vinculo]])","v":"=' '!$G$941"},"#,##0","Partidas$G$114"]
["Partidas",{"$f":"' '!$C$942","v":"Cuentas comerciales por pagar en moneda local"},{"$f":"FORMULATEXTO_Act(Campos_Ingreso_Datos[[#This Row],[Vinculo]])","v":"=' '!$C$942"},"General","Partidas$C$115","Cuentas comerciales por pagar en moneda local"]
["Partidas",{"$f":"' '!$D$942","v":0},{"$f":"FORMULATEXTO_Act(Campos_Ingreso_Datos[[#This Row],[Vinculo]])","v":"=' '!$D$942"},"#,##0","Partidas$D$115"]
["Partidas",{"$f":"' '!$F$942","v":0},{"$f":"FORMULATEXTO_Act(Campos_Ingreso_Datos[[#This Row],[Vinculo]])","v":"=' '!$F$942"},"#,##0","Partidas$F$115"]
["Partidas",{"$f":"' '!$G$942","v":0},{"$f":"FORMULATEXTO_Act(Campos_Ingreso_Datos[[#This Row],[Vinculo]])","v":"=' '!$G$942"},"#,##0","Partidas$G$115"]
["Partidas",{"$f":"' '!$C$943","v":"Cuentas comerciales por pagar en moneda extranjera"},{"$f":"FORMULATEXTO_Act(Campos_Ingreso_Datos[[#This Row],[Vinculo]])","v":"=' '!$C$943"},"General","Partidas$C$116","Cuentas comerciales por pagar en moneda extranjera"]
["Partidas",{"$f":"' '!$D$943","v":0},{"$f":"FORMULATEXTO_Act(Campos_Ingreso_Datos[[#This Row],[Vinculo]])","v":"=' '!$D$943"},"#,##0","Partidas$D$116"]
["Partidas",{"$f":"' '!$F$943","v":0},{"$f":"FORMULATEXTO_Act(Campos_Ingreso_Datos[[#This Row],[Vinculo]])","v":"=' '!$F$943"},"#,##0","Partidas$F$116"]
["Partidas",{"$f":"' '!$G$943","v":0},{"$f":"FORMULATEXTO_Act(Campos_Ingreso_Datos[[#This Row],[Vinculo]])","v":"=' '!$G$943"},"#,##0","Partidas$G$116"]
["Partidas",{"$f":"' '!$C$944","v":"Dividendos y participaciones por pagar"},{"$f":"FORMULATEXTO_Act(Campos_Ingreso_Datos[[#This Row],[Vinculo]])","v":"=' '!$C$944"},"General","Partidas$C$117","Dividendos y participaciones por pagar"]
["Partidas",{"$f":"' '!$D$944","v":0},{"$f":"FORMULATEXTO_Act(Campos_Ingreso_Datos[[#This Row],[Vinculo]])","v":"=' '!$D$944"},"#,##0","Partidas$D$117"]
["Partidas",{"$f":"' '!$F$944","v":0},{"$f":"FORMULATEXTO_Act(Campos_Ingreso_Datos[[#This Row],[Vinculo]])","v":"=' '!$F$944"},"#,##0","Partidas$F$117"]
["Partidas",{"$f":"' '!$G$944","v":0},{"$f":"FORMULATEXTO_Act(Campos_Ingreso_Datos[[#This Row],[Vinculo]])","v":"=' '!$G$944"},"#,##0","Partidas$G$117"]
["Partidas",{"$f":"' '!$C$945","v":"Cuentas por pagar a socios, accionistas o partícipes"},{"$f":"FORMULATEXTO_Act(Campos_Ingreso_Datos[[#This Row],[Vinculo]])","v":"=' '!$C$945"},"General","Partidas$C$118","Cuentas por pagar a socios, accionistas o partícipes"]
["Partidas",{"$f":"' '!$D$945","v":0},{"$f":"FORMULATEXTO_Act(Campos_Ingreso_Datos[[#This Row],[Vinculo]])","v":"=' '!$D$945"},"#,##0","Partidas$D$118"]
["Partidas",{"$f":"' '!$F$945","v":0},{"$f":"FORMULATEXTO_Act(Campos_Ingreso_Datos[[#This Row],[Vinculo]])","v":"=' '!$F$945"},"#,##0","Partidas$F$118"]
["Partidas",{"$f":"' '!$G$945","v":0},{"$f":"FORMULATEXTO_Act(Campos_Ingreso_Datos[[#This Row],[Vinculo]])","v":"=' '!$G$945"},"#,##0","Partidas$G$118"]
["Partidas",{"$f":"' '!$C$946","v":"Cuentas y documentos por pagar a otras partes relacionadas y asociadas"},{"$f":"FORMULATEXTO_Act(Campos_Ingreso_Datos[[#This Row],[Vinculo]])","v":"=' '!$C$946"},"General","Partidas$C$119","Cuentas y documentos por pagar a otras partes relacionadas y asociadas"]
["Partidas",{"$f":"' '!$D$946","v":0},{"$f":"FORMULATEXTO_Act(Campos_Ingreso_Datos[[#This Row],[Vinculo]])","v":"=' '!$D$946"},"#,##0","Partidas$D$119"]
["Partidas",{"$f":"' '!$F$946","v":0},{"$f":"FORMULATEXTO_Act(Campos_Ingreso_Datos[[#This Row],[Vinculo]])","v":"=' '!$F$946"},"#,##0","Partidas$F$119"]
["Partidas",{"$f":"' '!$G$946","v":0},{"$f":"FORMULATEXTO_Act(Campos_Ingreso_Datos[[#This Row],[Vinculo]])","v":"=' '!$G$946"},"#,##0","Partidas$G$119"]
["Partidas",{"$f":"' '!$C$947","v":"Reserva matemática y/o técnica y otros pasivos exclusivos en compañías de seguros"},{"$f":"FORMULATEXTO_Act(Campos_Ingreso_Datos[[#This Row],[Vinculo]])","v":"=' '!$C$947"},"General","Partidas$C$120","Reserva matemática y/o técnica y otros pasivos exclusivos en compañías de seguros"]
["Partidas",{"$f":"' '!$D$947","v":0},{"$f":"FORMULATEXTO_Act(Campos_Ingreso_Datos[[#This Row],[Vinculo]])","v":"=' '!$D$947"},"#,##0","Partidas$D$120"]
["Partidas",{"$f":"' '!$F$947","v":0},{"$f":"FORMULATEXTO_Act(Campos_Ingreso_Datos[[#This Row],[Vinculo]])","v":"=' '!$F$947"},"#,##0","Partidas$F$120"]
["Partidas",{"$f":"' '!$G$947","v":0},{"$f":"FORMULATEXTO_Act(Campos_Ingreso_Datos[[#This Row],[Vinculo]])","v":"=' '!$G$947"},"#,##0","Partidas$G$120"]
["Partidas",{"$f":"' '!$C$948","v":"Recaudo a favor de terceros"},{"$f":"FORMULATEXTO_Act(Campos_Ingreso_Datos[[#This Row],[Vinculo]])","v":"=' '!$C$948"},"General","Partidas$C$121","Recaudo a favor de terceros"]
["Partidas",{"$f":"' '!$D$948","v":0},{"$f":"FORMULATEXTO_Act(Campos_Ingreso_Datos[[#This Row],[Vinculo]])","v":"=' '!$D$948"},"#,##0","Partidas$D$121"]
["Partidas",{"$f":"' '!$F$948","v":0},{"$f":"FORMULATEXTO_Act(Campos_Ingreso_Datos[[#This Row],[Vinculo]])","v":"=' '!$F$948"},"#,##0","Partidas$F$121"]
["Partidas",{"$f":"' '!$G$948","v":0},{"$f":"FORMULATEXTO_Act(Campos_Ingreso_Datos[[#This Row],[Vinculo]])","v":"=' '!$G$948"},"#,##0","Partidas$G$121"]
["Partidas",{"$f":"' '!$C$949","v":"Otras cuentas y documentos por pagar en moneda local"},{"$f":"FORMULATEXTO_Act(Campos_Ingreso_Datos[[#This Row],[Vinculo]])","v":"=' '!$C$949"},"General","Partidas$C$122","Otras cuentas y documentos por pagar en moneda local"]
["Partidas",{"$f":"' '!$D$949","v":0},{"$f":"FORMULATEXTO_Act(Campos_Ingreso_Datos[[#This Row],[Vinculo]])","v":"=' '!$D$949"},"#,##0","Partidas$D$122"]
["Partidas",{"$f":"' '!$F$949","v":0},{"$f":"FORMULATEXTO_Act(Campos_Ingreso_Datos[[#This Row],[Vinculo]])","v":"=' '!$F$949"},"#,##0","Partidas$F$122"]
["Partidas",{"$f":"' '!$G$949","v":0},{"$f":"FORMULATEXTO_Act(Campos_Ingreso_Datos[[#This Row],[Vinculo]])","v":"=' '!$G$949"},"#,##0","Partidas$G$122"]
["Partidas",{"$f":"' '!$C$950","v":"Otras cuentas y documentos por pagar en moneda extranjera"},{"$f":"FORMULATEXTO_Act(Campos_Ingreso_Datos[[#This Row],[Vinculo]])","v":"=' '!$C$950"},"General","Partidas$C$123","Otras cuentas y documentos por pagar en moneda extranjera"]
["Partidas",{"$f":"' '!$D$950","v":0},{"$f":"FORMULATEXTO_Act(Campos_Ingreso_Datos[[#This Row],[Vinculo]])","v":"=' '!$D$950"},"#,##0","Partidas$D$123"]
["Partidas",{"$f":"' '!$F$950","v":0},{"$f":"FORMULATEXTO_Act(Campos_Ingreso_Datos[[#This Row],[Vinculo]])","v":"=' '!$F$950"},"#,##0","Partidas$F$123"]
["Partidas",{"$f":"' '!$G$950","v":0},{"$f":"FORMULATEXTO_Act(Campos_Ingreso_Datos[[#This Row],[Vinculo]])","v":"=' '!$G$950"},"#,##0","Partidas$G$123"]
["Partidas",{"$f":"' '!$C$952","v":"Impuesto de renta "},{"$f":"FORMULATEXTO_Act(Campos_Ingreso_Datos[[#This Row],[Vinculo]])","v":"=' '!$C$952"},"General","Partidas$C$125","Impuesto de renta "]
["Partidas",{"$f":"' '!$D$952","v":0},{"$f":"FORMULATEXTO_Act(Campos_Ingreso_Datos[[#This Row],[Vinculo]])","v":"=' '!$D$952"},"#,##0","Partidas$D$125"]
["Partidas",{"$f":"' '!$F$952","v":0},{"$f":"FORMULATEXTO_Act(Campos_Ingreso_Datos[[#This Row],[Vinculo]])","v":"=' '!$F$952"},"#,##0","Partidas$F$125"]
["Partidas",{"$f":"' '!$G$952","v":0},{"$f":"FORMULATEXTO_Act(Campos_Ingreso_Datos[[#This Row],[Vinculo]])","v":"=' '!$G$952"},"#,##0","Partidas$G$125"]
["Partidas",{"$f":"' '!$C$953","v":"Impuesto a las ventas - IVA "},{"$f":"FORMULATEXTO_Act(Campos_Ingreso_Datos[[#This Row],[Vinculo]])","v":"=' '!$C$953"},"General","Partidas$C$126","Impuesto a las ventas - IVA "]
["Partidas",{"$f":"' '!$D$953","v":0},{"$f":"FORMULATEXTO_Act(Campos_Ingreso_Datos[[#This Row],[Vinculo]])","v":"=' '!$D$953"},"#,##0","Partidas$D$126"]
["Partidas",{"$f":"' '!$F$953","v":0},{"$f":"FORMULATEXTO_Act(Campos_Ingreso_Datos[[#This Row],[Vinculo]])","v":"=' '!$F$953"},"#,##0","Partidas$F$126"]
["Partidas",{"$f":"' '!$G$953","v":0},{"$f":"FORMULATEXTO_Act(Campos_Ingreso_Datos[[#This Row],[Vinculo]])","v":"=' '!$G$953"},"#,##0","Partidas$G$126"]
["Partidas",{"$f":"' '!$C$954","v":"Otros impuestos, gravámenes y tasas por pagar "},{"$f":"FORMULATEXTO_Act(Campos_Ingreso_Datos[[#This Row],[Vinculo]])","v":"=' '!$C$954"},"General","Partidas$C$127","Otros impuestos, gravámenes y tasas por pagar "]
["Partidas",{"$f":"' '!$D$954","v":0},{"$f":"FORMULATEXTO_Act(Campos_Ingreso_Datos[[#This Row],[Vinculo]])","v":"=' '!$D$954"},"#,##0","Partidas$D$127"]
["Partidas",{"$f":"' '!$F$954","v":0},{"$f":"FORMULATEXTO_Act(Campos_Ingreso_Datos[[#This Row],[Vinculo]])","v":"=' '!$F$954"},"#,##0","Partidas$F$127"]
["Partidas",{"$f":"' '!$G$954","v":0},{"$f":"FORMULATEXTO_Act(Campos_Ingreso_Datos[[#This Row],[Vinculo]])","v":"=' '!$G$954"},"#,##0","Partidas$G$127"]
["Partidas",{"$f":"' '!$C$956","v":"De corto plazo "},{"$f":"FORMULATEXTO_Act(Campos_Ingreso_Datos[[#This Row],[Vinculo]])","v":"=' '!$C$956"},"General","Partidas$C$129","De corto plazo "]
["Partidas",{"$f":"' '!$D$956","v":0},{"$f":"FORMULATEXTO_Act(Campos_Ingreso_Datos[[#This Row],[Vinculo]])","v":"=' '!$D$956"},"#,##0","Partidas$D$129"]
["Partidas",{"$f":"' '!$F$956","v":0},{"$f":"FORMULATEXTO_Act(Campos_Ingreso_Datos[[#This Row],[Vinculo]])","v":"=' '!$F$956"},"#,##0","Partidas$F$129"]
["Partidas",{"$f":"' '!$G$956","v":0},{"$f":"FORMULATEXTO_Act(Campos_Ingreso_Datos[[#This Row],[Vinculo]])","v":"=' '!$G$956"},"#,##0","Partidas$G$129"]
["Partidas",{"$f":"' '!$C$957","v":"De largo plazo"},{"$f":"FORMULATEXTO_Act(Campos_Ingreso_Datos[[#This Row],[Vinculo]])","v":"=' '!$C$957"},"General","Partidas$C$130","De largo plazo"]
["Partidas",{"$f":"' '!$D$957","v":0},{"$f":"FORMULATEXTO_Act(Campos_Ingreso_Datos[[#This Row],[Vinculo]])","v":"=' '!$D$957"},"#,##0","Partidas$D$130"]
["Partidas",{"$f":"' '!$F$957","v":0},{"$f":"FORMULATEXTO_Act(Campos_Ingreso_Datos[[#This Row],[Vinculo]])","v":"=' '!$F$957"},"#,##0","Partidas$F$130"]
["Partidas",{"$f":"' '!$G$957","v":0},{"$f":"FORMULATEXTO_Act(Campos_Ingreso_Datos[[#This Row],[Vinculo]])","v":"=' '!$G$957"},"#,##0","Partidas$G$130"]
["Partidas",{"$f":"' '!$C$958","v":"Por terminación de vínculo laboral o contractual"},{"$f":"FORMULATEXTO_Act(Campos_Ingreso_Datos[[#This Row],[Vinculo]])","v":"=' '!$C$958"},"General","Partidas$C$131","Por terminación de vínculo laboral o contractual"]
["Partidas",{"$f":"' '!$D$958","v":0},{"$f":"FORMULATEXTO_Act(Campos_Ingreso_Datos[[#This Row],[Vinculo]])","v":"=' '!$D$958"},"#,##0","Partidas$D$131"]
["Partidas",{"$f":"' '!$F$958","v":0},{"$f":"FORMULATEXTO_Act(Campos_Ingreso_Datos[[#This Row],[Vinculo]])","v":"=' '!$F$958"},"#,##0","Partidas$F$131"]
["Partidas",{"$f":"' '!$G$958","v":0},{"$f":"FORMULATEXTO_Act(Campos_Ingreso_Datos[[#This Row],[Vinculo]])","v":"=' '!$G$958"},"#,##0","Partidas$G$131"]
["Partidas",{"$f":"' '!$C$959","v":"Post empleo"},{"$f":"FORMULATEXTO_Act(Campos_Ingreso_Datos[[#This Row],[Vinculo]])","v":"=' '!$C$959"},"General","Partidas$C$132","Post empleo"]
["Partidas",{"$f":"' '!$D$959","v":0},{"$f":"FORMULATEXTO_Act(Campos_Ingreso_Datos[[#This Row],[Vinculo]])","v":"=' '!$D$959"},"#,##0","Partidas$D$132"]
["Partidas",{"$f":"' '!$F$959","v":0},{"$f":"FORMULATEXTO_Act(Campos_Ingreso_Datos[[#This Row],[Vinculo]])","v":"=' '!$F$959"},"#,##0","Partidas$F$132"]
["Partidas",{"$f":"' '!$G$959","v":0},{"$f":"FORMULATEXTO_Act(Campos_Ingreso_Datos[[#This Row],[Vinculo]])","v":"=' '!$G$959"},"#,##0","Partidas$G$132"]
["Partidas",{"$f":"' '!$C$961","v":"Procesos legales (litigios y demandas)"},{"$f":"FORMULATEXTO_Act(Campos_Ingreso_Datos[[#This Row],[Vinculo]])","v":"=' '!$C$961"},"General","Partidas$C$134","Procesos legales (litigios y demandas)"]
["Partidas",{"$f":"' '!$D$961","v":0},{"$f":"FORMULATEXTO_Act(Campos_Ingreso_Datos[[#This Row],[Vinculo]])","v":"=' '!$D$961"},"#,##0","Partidas$D$134"]
["Partidas",{"$f":"' '!$F$961","v":0},{"$f":"FORMULATEXTO_Act(Campos_Ingreso_Datos[[#This Row],[Vinculo]])","v":"=' '!$F$961"},"#,##0","Partidas$F$134"]
["Partidas",{"$f":"' '!$G$961","v":0},{"$f":"FORMULATEXTO_Act(Campos_Ingreso_Datos[[#This Row],[Vinculo]])","v":"=' '!$G$961"},"#,##0","Partidas$G$134"]
["Partidas",{"$f":"' '!$C$962","v":"Mantenimiento y reparaciones"},{"$f":"FORMULATEXTO_Act(Campos_Ingreso_Datos[[#This Row],[Vinculo]])","v":"=' '!$C$962"},"General","Partidas$C$135","Mantenimiento y reparaciones"]
["Partidas",{"$f":"' '!$D$962","v":0},{"$f":"FORMULATEXTO_Act(Campos_Ingreso_Datos[[#This Row],[Vinculo]])","v":"=' '!$D$962"},"#,##0","Partidas$D$135"]
["Partidas",{"$f":"' '!$F$962","v":0},{"$f":"FORMULATEXTO_Act(Campos_Ingreso_Datos[[#This Row],[Vinculo]])","v":"=' '!$F$962"},"#,##0","Partidas$F$135"]
["Partidas",{"$f":"' '!$G$962","v":0},{"$f":"FORMULATEXTO_Act(Campos_Ingreso_Datos[[#This Row],[Vinculo]])","v":"=' '!$G$962"},"#,##0","Partidas$G$135"]
["Partidas",{"$f":"' '!$C$963","v":"Obligaciones fiscales "},{"$f":"FORMULATEXTO_Act(Campos_Ingreso_Datos[[#This Row],[Vinculo]])","v":"=' '!$C$963"},"General","Partidas$C$136","Obligaciones fiscales "]
["Partidas",{"$f":"' '!$D$963","v":0},{"$f":"FORMULATEXTO_Act(Campos_Ingreso_Datos[[#This Row],[Vinculo]])","v":"=' '!$D$963"},"#,##0","Partidas$D$136"]
["Partidas",{"$f":"' '!$F$963","v":0},{"$f":"FORMULATEXTO_Act(Campos_Ingreso_Datos[[#This Row],[Vinculo]])","v":"=' '!$F$963"},"#,##0","Partidas$F$136"]
["Partidas",{"$f":"' '!$G$963","v":0},{"$f":"FORMULATEXTO_Act(Campos_Ingreso_Datos[[#This Row],[Vinculo]])","v":"=' '!$G$963"},"#,##0","Partidas$G$136"]
["Partidas",{"$f":"' '!$C$964","v":"Desmantelamientos, restauración y rehabilitación "},{"$f":"FORMULATEXTO_Act(Campos_Ingreso_Datos[[#This Row],[Vinculo]])","v":"=' '!$C$964"},"General","Partidas$C$137","Desmantelamientos, restauración y rehabilitación "]
["Partidas",{"$f":"' '!$D$964","v":0},{"$f":"FORMULATEXTO_Act(Campos_Ingreso_Datos[[#This Row],[Vinculo]])","v":"=' '!$D$964"},"#,##0","Partidas$D$137"]
["Partidas",{"$f":"' '!$F$964","v":0},{"$f":"FORMULATEXTO_Act(Campos_Ingreso_Datos[[#This Row],[Vinculo]])","v":"=' '!$F$964"},"#,##0","Partidas$F$137"]
["Partidas",{"$f":"' '!$G$964","v":0},{"$f":"FORMULATEXTO_Act(Campos_Ingreso_Datos[[#This Row],[Vinculo]])","v":"=' '!$G$964"},"#,##0","Partidas$G$137"]
["Partidas",{"$f":"' '!$C$965","v":"Garantías "},{"$f":"FORMULATEXTO_Act(Campos_Ingreso_Datos[[#This Row],[Vinculo]])","v":"=' '!$C$965"},"General","Partidas$C$138","Garantías "]
["Partidas",{"$f":"' '!$D$965","v":0},{"$f":"FORMULATEXTO_Act(Campos_Ingreso_Datos[[#This Row],[Vinculo]])","v":"=' '!$D$965"},"#,##0","Partidas$D$138"]
["Partidas",{"$f":"' '!$F$965","v":0},{"$f":"FORMULATEXTO_Act(Campos_Ingreso_Datos[[#This Row],[Vinculo]])","v":"=' '!$F$965"},"#,##0","Partidas$F$138"]
["Partidas",{"$f":"' '!$G$965","v":0},{"$f":"FORMULATEXTO_Act(Campos_Ingreso_Datos[[#This Row],[Vinculo]])","v":"=' '!$G$965"},"#,##0","Partidas$G$138"]
["Partidas",{"$f":"' '!$C$966","v":"Contratos onerosos"},{"$f":"FORMULATEXTO_Act(Campos_Ingreso_Datos[[#This Row],[Vinculo]])","v":"=' '!$C$966"},"General","Partidas$C$139","Contratos onerosos"]
["Partidas",{"$f":"' '!$D$966","v":0},{"$f":"FORMULATEXTO_Act(Campos_Ingreso_Datos[[#This Row],[Vinculo]])","v":"=' '!$D$966"},"#,##0","Partidas$D$139"]
["Partidas",{"$f":"' '!$F$966","v":0},{"$f":"FORMULATEXTO_Act(Campos_Ingreso_Datos[[#This Row],[Vinculo]])","v":"=' '!$F$966"},"#,##0","Partidas$F$139"]
["Partidas",{"$f":"' '!$G$966","v":0},{"$f":"FORMULATEXTO_Act(Campos_Ingreso_Datos[[#This Row],[Vinculo]])","v":"=' '!$G$966"},"#,##0","Partidas$G$139"]
["Partidas",{"$f":"' '!$C$967","v":"Reembolsos a clientes"},{"$f":"FORMULATEXTO_Act(Campos_Ingreso_Datos[[#This Row],[Vinculo]])","v":"=' '!$C$967"},"General","Partidas$C$140","Reembolsos a clientes"]
["Partidas",{"$f":"' '!$D$967","v":0},{"$f":"FORMULATEXTO_Act(Campos_Ingreso_Datos[[#This Row],[Vinculo]])","v":"=' '!$D$967"},"#,##0","Partidas$D$140"]
["Partidas",{"$f":"' '!$F$967","v":0},{"$f":"FORMULATEXTO_Act(Campos_Ingreso_Datos[[#This Row],[Vinculo]])","v":"=' '!$F$967"},"#,##0","Partidas$F$140"]
["Partidas",{"$f":"' '!$G$967","v":0},{"$f":"FORMULATEXTO_Act(Campos_Ingreso_Datos[[#This Row],[Vinculo]])","v":"=' '!$G$967"},"#,##0","Partidas$G$140"]
["Partidas",{"$f":"' '!$C$968","v":"Reestructuraciones de negocios "},{"$f":"FORMULATEXTO_Act(Campos_Ingreso_Datos[[#This Row],[Vinculo]])","v":"=' '!$C$968"},"General","Partidas$C$141","Reestructuraciones de negocios "]
["Partidas",{"$f":"' '!$D$968","v":0},{"$f":"FORMULATEXTO_Act(Campos_Ingreso_Datos[[#This Row],[Vinculo]])","v":"=' '!$D$968"},"#,##0","Partidas$D$141"]
["Partidas",{"$f":"' '!$F$968","v":0},{"$f":"FORMULATEXTO_Act(Campos_Ingreso_Datos[[#This Row],[Vinculo]])","v":"=' '!$F$968"},"#,##0","Partidas$F$141"]
["Partidas",{"$f":"' '!$G$968","v":0},{"$f":"FORMULATEXTO_Act(Campos_Ingreso_Datos[[#This Row],[Vinculo]])","v":"=' '!$G$968"},"#,##0","Partidas$G$141"]
["Partidas",{"$f":"' '!$C$969","v":"Pasivos contingentes asumidos en una combinación de negocios "},{"$f":"FORMULATEXTO_Act(Campos_Ingreso_Datos[[#This Row],[Vinculo]])","v":"=' '!$C$969"},"General","Partidas$C$142","Pasivos contingentes asumidos en una combinación de negocios "]
["Partidas",{"$f":"' '!$D$969","v":0},{"$f":"FORMULATEXTO_Act(Campos_Ingreso_Datos[[#This Row],[Vinculo]])","v":"=' '!$D$969"},"#,##0","Partidas$D$142"]
["Partidas",{"$f":"' '!$F$969","v":0},{"$f":"FORMULATEXTO_Act(Campos_Ingreso_Datos[[#This Row],[Vinculo]])","v":"=' '!$F$969"},"#,##0","Partidas$F$142"]
["Partidas",{"$f":"' '!$G$969","v":0},{"$f":"FORMULATEXTO_Act(Campos_Ingreso_Datos[[#This Row],[Vinculo]])","v":"=' '!$G$969"},"#,##0","Partidas$G$142"]
["Partidas",{"$f":"' '!$C$970","v":"Relacionadas con el medio ambiente "},{"$f":"FORMULATEXTO_Act(Campos_Ingreso_Datos[[#This Row],[Vinculo]])","v":"=' '!$C$970"},"General","Partidas$C$143","Relacionadas con el medio ambiente "]
["Partidas",{"$f":"' '!$D$970","v":0},{"$f":"FORMULATEXTO_Act(Campos_Ingreso_Datos[[#This Row],[Vinculo]])","v":"=' '!$D$970"},"#,##0","Partidas$D$143"]
["Partidas",{"$f":"' '!$F$970","v":0},{"$f":"FORMULATEXTO_Act(Campos_Ingreso_Datos[[#This Row],[Vinculo]])","v":"=' '!$F$970"},"#,##0","Partidas$F$143"]
["Partidas",{"$f":"' '!$G$970","v":0},{"$f":"FORMULATEXTO_Act(Campos_Ingreso_Datos[[#This Row],[Vinculo]])","v":"=' '!$G$970"},"#,##0","Partidas$G$143"]
["Partidas",{"$f":"' '!$C$971","v":"Otras provisiones "},{"$f":"FORMULATEXTO_Act(Campos_Ingreso_Datos[[#This Row],[Vinculo]])","v":"=' '!$C$971"},"General","Partidas$C$144","Otras provisiones "]
["Partidas",{"$f":"' '!$D$971","v":0},{"$f":"FORMULATEXTO_Act(Campos_Ingreso_Datos[[#This Row],[Vinculo]])","v":"=' '!$D$971"},"#,##0","Partidas$D$144"]
["Partidas",{"$f":"' '!$F$971","v":0},{"$f":"FORMULATEXTO_Act(Campos_Ingreso_Datos[[#This Row],[Vinculo]])","v":"=' '!$F$971"},"#,##0","Partidas$F$144"]
["Partidas",{"$f":"' '!$G$971","v":0},{"$f":"FORMULATEXTO_Act(Campos_Ingreso_Datos[[#This Row],[Vinculo]])","v":"=' '!$G$971"},"#,##0","Partidas$G$144"]
["Partidas",{"$f":"' '!$C$973","v":"Arrendamientos por pagar "},{"$f":"FORMULATEXTO_Act(Campos_Ingreso_Datos[[#This Row],[Vinculo]])","v":"=' '!$C$973"},"General","Partidas$C$146","Arrendamientos por pagar "]
["Partidas",{"$f":"' '!$D$973","v":0},{"$f":"FORMULATEXTO_Act(Campos_Ingreso_Datos[[#This Row],[Vinculo]])","v":"=' '!$D$973"},"#,##0","Partidas$D$146"]
["Partidas",{"$f":"' '!$F$973","v":0},{"$f":"FORMULATEXTO_Act(Campos_Ingreso_Datos[[#This Row],[Vinculo]])","v":"=' '!$F$973"},"#,##0","Partidas$F$146"]
["Partidas",{"$f":"' '!$G$973","v":0},{"$f":"FORMULATEXTO_Act(Campos_Ingreso_Datos[[#This Row],[Vinculo]])","v":"=' '!$G$973"},"#,##0","Partidas$G$146"]
["Partidas",{"$f":"' '!$C$974","v":"Otros pasivos financieros "},{"$f":"FORMULATEXTO_Act(Campos_Ingreso_Datos[[#This Row],[Vinculo]])","v":"=' '!$C$974"},"General","Partidas$C$147","Otros pasivos financieros "]
["Partidas",{"$f":"' '!$D$974","v":0},{"$f":"FORMULATEXTO_Act(Campos_Ingreso_Datos[[#This Row],[Vinculo]])","v":"=' '!$D$974"},"#,##0","Partidas$D$147"]
["Partidas",{"$f":"' '!$F$974","v":0},{"$f":"FORMULATEXTO_Act(Campos_Ingreso_Datos[[#This Row],[Vinculo]])","v":"=' '!$F$974"},"#,##0","Partidas$F$147"]
["Partidas",{"$f":"' '!$G$974","v":0},{"$f":"FORMULATEXTO_Act(Campos_Ingreso_Datos[[#This Row],[Vinculo]])","v":"=' '!$G$974"},"#,##0","Partidas$G$147"]
["Partidas",{"$f":"' '!$C$975","v":"Pasivos por ingresos diferidos "},{"$f":"FORMULATEXTO_Act(Campos_Ingreso_Datos[[#This Row],[Vinculo]])","v":"=' '!$C$975"},"General","Partidas$C$148","Pasivos por ingresos diferidos "]
["Partidas",{"$f":"' '!$D$975","v":0},{"$f":"FORMULATEXTO_Act(Campos_Ingreso_Datos[[#This Row],[Vinculo]])","v":"=' '!$D$975"},"#,##0","Partidas$D$148"]
["Partidas",{"$f":"' '!$F$975","v":0},{"$f":"FORMULATEXTO_Act(Campos_Ingreso_Datos[[#This Row],[Vinculo]])","v":"=' '!$F$975"},"#,##0","Partidas$F$148"]
["Partidas",{"$f":"' '!$G$975","v":0},{"$f":"FORMULATEXTO_Act(Campos_Ingreso_Datos[[#This Row],[Vinculo]])","v":"=' '!$G$975"},"#,##0","Partidas$G$148"]
["Partidas",{"$f":"' '!$C$976","v":"Otros pasivos "},{"$f":"FORMULATEXTO_Act(Campos_Ingreso_Datos[[#This Row],[Vinculo]])","v":"=' '!$C$976"},"General","Partidas$C$149","Otros pasivos "]
["Partidas",{"$f":"' '!$D$976","v":0},{"$f":"FORMULATEXTO_Act(Campos_Ingreso_Datos[[#This Row],[Vinculo]])","v":"=' '!$D$976"},"#,##0","Partidas$D$149"]
["Partidas",{"$f":"' '!$F$976","v":0},{"$f":"FORMULATEXTO_Act(Campos_Ingreso_Datos[[#This Row],[Vinculo]])","v":"=' '!$F$976"},"#,##0","Partidas$F$149"]
["Partidas",{"$f":"' '!$G$976","v":0},{"$f":"FORMULATEXTO_Act(Campos_Ingreso_Datos[[#This Row],[Vinculo]])","v":"=' '!$G$976"},"#,##0","Partidas$G$149"]
["Partidas",{"$f":"' '!$C$978","v":"Pasivos reconocidos para fines fiscales"},{"$f":"FORMULATEXTO_Act(Campos_Ingreso_Datos[[#This Row],[Vinculo]])","v":"=' '!$C$978"},"General","Partidas$C$151","Pasivos reconocidos para fines fiscales"]
["Partidas",{"$f":"' '!$F$978","v":0},{"$f":"FORMULATEXTO_Act(Campos_Ingreso_Datos[[#This Row],[Vinculo]])","v":"=' '!$F$978"},"#,##0","Partidas$F$151"]
["Partidas",{"$f":"' '!$G$978","v":0},{"$f":"FORMULATEXTO_Act(Campos_Ingreso_Datos[[#This Row],[Vinculo]])","v":"=' '!$G$978"},"#,##0","Partidas$G$151"]
["Impuesto Diferido",{"$f":"' '!$K$987","v":{"v":0,"d":"0%"}},{"$f":"FORMULATEXTO_Act(Campos_Ingreso_Datos[[#This Row],[Vinculo]])","v":"=' '!$K$987"},"0.0%","Impuesto Diferido$J$6"]
["Impuesto Diferido",{"$f":"' '!$K$988","v":{"v":0,"d":"0%"}},{"$f":"FORMULATEXTO_Act(Campos_Ingreso_Datos[[#This Row],[Vinculo]])","v":"=' '!$K$988"},"0.0%","Impuesto Diferido$J$7"]
["Impuesto Diferido",{"$f":"' '!$K$989","v":{"v":0,"d":"0%"}},{"$f":"FORMULATEXTO_Act(Campos_Ingreso_Datos[[#This Row],[Vinculo]])","v":"=' '!$K$989"},"0.0%","Impuesto Diferido$J$8"]
["Impuesto Diferido",{"$f":"' '!$K$992","v":{"v":0,"d":"0%"}},{"$f":"FORMULATEXTO_Act(Campos_Ingreso_Datos[[#This Row],[Vinculo]])","v":"=' '!$K$992"},"0.0%","Impuesto Diferido$J$9"]
["Impuesto Diferido",{"$f":"' '!$K$993","v":{"v":0,"d":"0%"}},{"$f":"FORMULATEXTO_Act(Campos_Ingreso_Datos[[#This Row],[Vinculo]])","v":"=' '!$K$993"},"0.0%","Impuesto Diferido$J$10"]
["Impuesto Diferido",{"$f":"' '!$K$996","v":{"v":0,"d":"0%"}},{"$f":"FORMULATEXTO_Act(Campos_Ingreso_Datos[[#This Row],[Vinculo]])","v":"=' '!$K$996"},"0.0%","Impuesto Diferido$J$11"]
["Impuesto Diferido",{"$f":"' '!$K$997","v":{"v":0,"d":"0%"}},{"$f":"FORMULATEXTO_Act(Campos_Ingreso_Datos[[#This Row],[Vinculo]])","v":"=' '!$K$997"},"0.0%","Impuesto Diferido$J$12"]
["Impuesto Diferido",{"$f":"' '!$K$998","v":{"v":0,"d":"0%"}},{"$f":"FORMULATEXTO_Act(Campos_Ingreso_Datos[[#This Row],[Vinculo]])","v":"=' '!$K$998"},"0.0%","Impuesto Diferido$J$13"]
["Impuesto Diferido",{"$f":"' '!$K$999","v":{"v":0,"d":"0%"}},{"$f":"FORMULATEXTO_Act(Campos_Ingreso_Datos[[#This Row],[Vinculo]])","v":"=' '!$K$999"},"0.0%","Impuesto Diferido$J$14"]
["Impuesto Diferido",{"$f":"' '!$K$1000","v":{"v":0,"d":"0%"}},{"$f":"FORMULATEXTO_Act(Campos_Ingreso_Datos[[#This Row],[Vinculo]])","v":"=' '!$K$1000"},"0.0%","Impuesto Diferido$J$15"]
["Impuesto Diferido",{"$f":"' '!$K$1001","v":{"v":0,"d":"0%"}},{"$f":"FORMULATEXTO_Act(Campos_Ingreso_Datos[[#This Row],[Vinculo]])","v":"=' '!$K$1001"},"0.0%","Impuesto Diferido$J$16"]
["Impuesto Diferido",{"$f":"' '!$K$1002","v":{"v":0,"d":"0%"}},{"$f":"FORMULATEXTO_Act(Campos_Ingreso_Datos[[#This Row],[Vinculo]])","v":"=' '!$K$1002"},"0.0%","Impuesto Diferido$J$17"]
["Impuesto Diferido",{"$f":"' '!$K$1003","v":{"v":0,"d":"0%"}},{"$f":"FORMULATEXTO_Act(Campos_Ingreso_Datos[[#This Row],[Vinculo]])","v":"=' '!$K$1003"},"0.0%","Impuesto Diferido$J$18"]
["Impuesto Diferido",{"$f":"' '!$K$1004","v":{"v":0,"d":"0%"}},{"$f":"FORMULATEXTO_Act(Campos_Ingreso_Datos[[#This Row],[Vinculo]])","v":"=' '!$K$1004"},"0.0%","Impuesto Diferido$J$19"]
["Impuesto Diferido",{"$f":"' '!$K$1005","v":{"v":0,"d":"0%"}},{"$f":"FORMULATEXTO_Act(Campos_Ingreso_Datos[[#This Row],[Vinculo]])","v":"=' '!$K$1005"},"0.0%","Impuesto Diferido$J$20"]
["Impuesto Diferido",{"$f":"' '!$K$1006","v":{"v":0,"d":"0%"}},{"$f":"FORMULATEXTO_Act(Campos_Ingreso_Datos[[#This Row],[Vinculo]])","v":"=' '!$K$1006"},"0.0%","Impuesto Diferido$J$21"]
["Impuesto Diferido",{"$f":"' '!$K$1007","v":{"v":0,"d":"0%"}},{"$f":"FORMULATEXTO_Act(Campos_Ingreso_Datos[[#This Row],[Vinculo]])","v":"=' '!$K$1007"},"0.0%","Impuesto Diferido$J$22"]
["Impuesto Diferido",{"$f":"' '!$K$1008","v":{"v":0,"d":"0%"}},{"$f":"FORMULATEXTO_Act(Campos_Ingreso_Datos[[#This Row],[Vinculo]])","v":"=' '!$K$1008"},"0.0%","Impuesto Diferido$J$23"]
["Impuesto Diferido",{"$f":"' '!$K$1011","v":{"v":0,"d":"0%"}},{"$f":"FORMULATEXTO_Act(Campos_Ingreso_Datos[[#This Row],[Vinculo]])","v":"=' '!$K$1011"},"0.0%","Impuesto Diferido$J$26"]
["Impuesto Diferido",{"$f":"' '!$K$1012","v":{"v":0,"d":"0%"}},{"$f":"FORMULATEXTO_Act(Campos_Ingreso_Datos[[#This Row],[Vinculo]])","v":"=' '!$K$1012"},"0.0%","Impuesto Diferido$J$27"]
["Impuesto Diferido",{"$f":"' '!$K$1013","v":{"v":0,"d":"0%"}},{"$f":"FORMULATEXTO_Act(Campos_Ingreso_Datos[[#This Row],[Vinculo]])","v":"=' '!$K$1013"},"0.0%","Impuesto Diferido$J$28"]
["Impuesto Diferido",{"$f":"' '!$K$1016","v":{"v":0,"d":"0%"}},{"$f":"FORMULATEXTO_Act(Campos_Ingreso_Datos[[#This Row],[Vinculo]])","v":"=' '!$K$1016"},"0.0%","Impuesto Diferido$J$29"]
["Impuesto Diferido",{"$f":"' '!$K$1017","v":{"v":0,"d":"0%"}},{"$f":"FORMULATEXTO_Act(Campos_Ingreso_Datos[[#This Row],[Vinculo]])","v":"=' '!$K$1017"},"0.0%","Impuesto Diferido$J$30"]
["Impuesto Diferido",{"$f":"' '!$K$1020","v":{"v":0,"d":"0%"}},{"$f":"FORMULATEXTO_Act(Campos_Ingreso_Datos[[#This Row],[Vinculo]])","v":"=' '!$K$1020"},"0.0%","Impuesto Diferido$J$31"]
["Impuesto Diferido",{"$f":"' '!$K$1021","v":{"v":0,"d":"0%"}},{"$f":"FORMULATEXTO_Act(Campos_Ingreso_Datos[[#This Row],[Vinculo]])","v":"=' '!$K$1021"},"0.0%","Impuesto Diferido$J$32"]
["Impuesto Diferido",{"$f":"' '!$K$1022","v":{"v":0,"d":"0%"}},{"$f":"FORMULATEXTO_Act(Campos_Ingreso_Datos[[#This Row],[Vinculo]])","v":"=' '!$K$1022"},"0.0%","Impuesto Diferido$J$33"]
["Impuesto Diferido",{"$f":"' '!$K$1023","v":{"v":0,"d":"0%"}},{"$f":"FORMULATEXTO_Act(Campos_Ingreso_Datos[[#This Row],[Vinculo]])","v":"=' '!$K$1023"},"0.0%","Impuesto Diferido$J$34"]
["Impuesto Diferido",{"$f":"' '!$K$1024","v":{"v":0,"d":"0%"}},{"$f":"FORMULATEXTO_Act(Campos_Ingreso_Datos[[#This Row],[Vinculo]])","v":"=' '!$K$1024"},"0.0%","Impuesto Diferido$J$35"]
["Impuesto Diferido",{"$f":"' '!$K$1025","v":{"v":0,"d":"0%"}},{"$f":"FORMULATEXTO_Act(Campos_Ingreso_Datos[[#This Row],[Vinculo]])","v":"=' '!$K$1025"},"0.0%","Impuesto Diferido$J$36"]
["Impuesto Diferido",{"$f":"' '!$K$1026","v":{"v":0,"d":"0%"}},{"$f":"FORMULATEXTO_Act(Campos_Ingreso_Datos[[#This Row],[Vinculo]])","v":"=' '!$K$1026"},"0.0%","Impuesto Diferido$J$37"]
["Impuesto Diferido",{"$f":"' '!$K$1027","v":{"v":0,"d":"0%"}},{"$f":"FORMULATEXTO_Act(Campos_Ingreso_Datos[[#This Row],[Vinculo]])","v":"=' '!$K$1027"},"0.0%","Impuesto Diferido$J$38"]
["Impuesto Diferido",{"$f":"' '!$K$1028","v":{"v":0,"d":"0%"}},{"$f":"FORMULATEXTO_Act(Campos_Ingreso_Datos[[#This Row],[Vinculo]])","v":"=' '!$K$1028"},"0.0%","Impuesto Diferido$J$39"]
["Impuesto Diferido",{"$f":"' '!$K$1029","v":{"v":0,"d":"0%"}},{"$f":"FORMULATEXTO_Act(Campos_Ingreso_Datos[[#This Row],[Vinculo]])","v":"=' '!$K$1029"},"0.0%","Impuesto Diferido$J$40"]
["Impuesto Diferido",{"$f":"' '!$K$1030","v":{"v":0,"d":"0%"}},{"$f":"FORMULATEXTO_Act(Campos_Ingreso_Datos[[#This Row],[Vinculo]])","v":"=' '!$K$1030"},"0.0%","Impuesto Diferido$J$41"]
["Impuesto Diferido",{"$f":"' '!$K$1031","v":{"v":0,"d":"0%"}},{"$f":"FORMULATEXTO_Act(Campos_Ingreso_Datos[[#This Row],[Vinculo]])","v":"=' '!$K$1031"},"0.0%","Impuesto Diferido$J$42"]
[null,{"$f":"' '!$G$987","v":0},{"$f":"FORMULATEXTO_Act(Campos_Ingreso_Datos[[#This Row],[Vinculo]])","v":"=' '!$G$987"},null,"Impuesto Diferido$F$6"]
[null,{"$f":"' '!$G$988","v":0},{"$f":"FORMULATEXTO_Act(Campos_Ingreso_Datos[[#This Row],[Vinculo]])","v":"=' '!$G$988"},null,"Impuesto Diferido$F$7"]
[null,{"$f":"' '!$G$989","v":0},{"$f":"FORMULATEXTO_Act(Campos_Ingreso_Datos[[#This Row],[Vinculo]])","v":"=' '!$G$989"},null,"Impuesto Diferido$F$8"]
[null,{"$f":"' '!$G$992","v":0},{"$f":"FORMULATEXTO_Act(Campos_Ingreso_Datos[[#This Row],[Vinculo]])","v":"=' '!$G$992"},null,"Impuesto Diferido$F$9"]
[null,{"$f":"' '!$G$993","v":0},{"$f":"FORMULATEXTO_Act(Campos_Ingreso_Datos[[#This Row],[Vinculo]])","v":"=' '!$G$993"},null,"Impuesto Diferido$F$10"]
[null,{"$f":"' '!$G$996","v":0},{"$f":"FORMULATEXTO_Act(Campos_Ingreso_Datos[[#This Row],[Vinculo]])","v":"=' '!$G$996"},null,"Impuesto Diferido$F$11"]
[null,{"$f":"' '!$G$997","v":0},{"$f":"FORMULATEXTO_Act(Campos_Ingreso_Datos[[#This Row],[Vinculo]])","v":"=' '!$G$997"},null,"Impuesto Diferido$F$12"]
[null,{"$f":"' '!$G$998","v":0},{"$f":"FORMULATEXTO_Act(Campos_Ingreso_Datos[[#This Row],[Vinculo]])","v":"=' '!$G$998"},null,"Impuesto Diferido$F$13"]
[null,{"$f":"' '!$G$999","v":0},{"$f":"FORMULATEXTO_Act(Campos_Ingreso_Datos[[#This Row],[Vinculo]])","v":"=' '!$G$999"},null,"Impuesto Diferido$F$14"]
[null,{"$f":"' '!$G$1000","v":0},{"$f":"FORMULATEXTO_Act(Campos_Ingreso_Datos[[#This Row],[Vinculo]])","v":"=' '!$G$1000"},null,"Impuesto Diferido$F$15"]
[null,{"$f":"' '!$G$1001","v":0},{"$f":"FORMULATEXTO_Act(Campos_Ingreso_Datos[[#This Row],[Vinculo]])","v":"=' '!$G$1001"},null,"Impuesto Diferido$F$16"]
[null,{"$f":"' '!$G$1002","v":0},{"$f":"FORMULATEXTO_Act(Campos_Ingreso_Datos[[#This Row],[Vinculo]])","v":"=' '!$G$1002"},null,"Impuesto Diferido$F$17"]
[null,{"$f":"' '!$G$1003","v":0},{"$f":"FORMULATEXTO_Act(Campos_Ingreso_Datos[[#This Row],[Vinculo]])","v":"=' '!$G$1003"},null,"Impuesto Diferido$F$18"]
[null,{"$f":"' '!$G$1004","v":0},{"$f":"FORMULATEXTO_Act(Campos_Ingreso_Datos[[#This Row],[Vinculo]])","v":"=' '!$G$1004"},null,"Impuesto Diferido$F$19"]
[null,{"$f":"' '!$G$1005","v":0},{"$f":"FORMULATEXTO_Act(Campos_Ingreso_Datos[[#This Row],[Vinculo]])","v":"=' '!$G$1005"},null,"Impuesto Diferido$F$20"]
[null,{"$f":"' '!$G$1006","v":0},{"$f":"FORMULATEXTO_Act(Campos_Ingreso_Datos[[#This Row],[Vinculo]])","v":"=' '!$G$1006"},null,"Impuesto Diferido$F$21"]
[null,{"$f":"' '!$G$1007","v":0},{"$f":"FORMULATEXTO_Act(Campos_Ingreso_Datos[[#This Row],[Vinculo]])","v":"=' '!$G$1007"},null,"Impuesto Diferido$F$22"]
[null,{"$f":"' '!$G$1008","v":0},{"$f":"FORMULATEXTO_Act(Campos_Ingreso_Datos[[#This Row],[Vinculo]])","v":"=' '!$G$1008"},null,"Impuesto Diferido$F$23"]
[null,{"$f":"' '!$G$1011","v":0},{"$f":"FORMULATEXTO_Act(Campos_Ingreso_Datos[[#This Row],[Vinculo]])","v":"=' '!$G$1011"},null,"Impuesto Diferido$F$26"]
[null,{"$f":"' '!$G$1012","v":0},{"$f":"FORMULATEXTO_Act(Campos_Ingreso_Datos[[#This Row],[Vinculo]])","v":"=' '!$G$1012"},null,"Impuesto Diferido$F$27"]
[null,{"$f":"' '!$G$1013","v":0},{"$f":"FORMULATEXTO_Act(Campos_Ingreso_Datos[[#This Row],[Vinculo]])","v":"=' '!$G$1013"},null,"Impuesto Diferido$F$28"]
[null,{"$f":"' '!$G$1016","v":0},{"$f":"FORMULATEXTO_Act(Campos_Ingreso_Datos[[#This Row],[Vinculo]])","v":"=' '!$G$1016"},null,"Impuesto Diferido$F$29"]
[null,{"$f":"' '!$G$1017","v":0},{"$f":"FORMULATEXTO_Act(Campos_Ingreso_Datos[[#This Row],[Vinculo]])","v":"=' '!$G$1017"},null,"Impuesto Diferido$F$30"]
[null,{"$f":"' '!$G$1020","v":0},{"$f":"FORMULATEXTO_Act(Campos_Ingreso_Datos[[#This Row],[Vinculo]])","v":"=' '!$G$1020"},null,"Impuesto Diferido$F$31"]
[null,{"$f":"' '!$G$1021","v":0},{"$f":"FORMULATEXTO_Act(Campos_Ingreso_Datos[[#This Row],[Vinculo]])","v":"=' '!$G$1021"},null,"Impuesto Diferido$F$32"]
[null,{"$f":"' '!$G$1022","v":0},{"$f":"FORMULATEXTO_Act(Campos_Ingreso_Datos[[#This Row],[Vinculo]])","v":"=' '!$G$1022"},null,"Impuesto Diferido$F$33"]
[null,{"$f":"' '!$G$1023","v":0},{"$f":"FORMULATEXTO_Act(Campos_Ingreso_Datos[[#This Row],[Vinculo]])","v":"=' '!$G$1023"},null,"Impuesto Diferido$F$34"]
[null,{"$f":"' '!$G$1024","v":0},{"$f":"FORMULATEXTO_Act(Campos_Ingreso_Datos[[#This Row],[Vinculo]])","v":"=' '!$G$1024"},null,"Impuesto Diferido$F$35"]
[null,{"$f":"' '!$G$1025","v":0},{"$f":"FORMULATEXTO_Act(Campos_Ingreso_Datos[[#This Row],[Vinculo]])","v":"=' '!$G$1025"},null,"Impuesto Diferido$F$36"]
[null,{"$f":"' '!$G$1026","v":0},{"$f":"FORMULATEXTO_Act(Campos_Ingreso_Datos[[#This Row],[Vinculo]])","v":"=' '!$G$1026"},null,"Impuesto Diferido$F$37"]
[null,{"$f":"' '!$G$1027","v":0},{"$f":"FORMULATEXTO_Act(Campos_Ingreso_Datos[[#This Row],[Vinculo]])","v":"=' '!$G$1027"},null,"Impuesto Diferido$F$38"]
[null,{"$f":"' '!$G$1028","v":0},{"$f":"FORMULATEXTO_Act(Campos_Ingreso_Datos[[#This Row],[Vinculo]])","v":"=' '!$G$1028"},null,"Impuesto Diferido$F$39"]
[null,{"$f":"' '!$G$1029","v":0},{"$f":"FORMULATEXTO_Act(Campos_Ingreso_Datos[[#This Row],[Vinculo]])","v":"=' '!$G$1029"},null,"Impuesto Diferido$F$40"]
[null,{"$f":"' '!$G$1030","v":0},{"$f":"FORMULATEXTO_Act(Campos_Ingreso_Datos[[#This Row],[Vinculo]])","v":"=' '!$G$1030"},null,"Impuesto Diferido$F$41"]
[null,{"$f":"' '!$G$1031","v":0},{"$f":"FORMULATEXTO_Act(Campos_Ingreso_Datos[[#This Row],[Vinculo]])","v":"=' '!$G$1031"},null,"Impuesto Diferido$F$42"]
["Info. años anteriores",{"$f":"' '!$E$65","v":0},{"$f":"FORMULATEXTO_Act(Campos_Ingreso_Datos[[#This Row],[Vinculo]])","v":"=' '!$E$65"},"#,##0","Info. años anteriores$D$8 2023"]
["Info. años anteriores",{"$f":"' '!$F$65","v":0},{"$f":"FORMULATEXTO_Act(Campos_Ingreso_Datos[[#This Row],[Vinculo]])","v":"=' '!$F$65"},"#,##0","Info. años anteriores$D$8 2023"]
["Info. años anteriores",{"$f":"' '!$E$66","v":0},{"$f":"FORMULATEXTO_Act(Campos_Ingreso_Datos[[#This Row],[Vinculo]])","v":"=' '!$E$66"},"#,##0","Info. años anteriores$D$8 2023"]
["Info. años anteriores",{"$f":"' '!$F$66","v":0},{"$f":"FORMULATEXTO_Act(Campos_Ingreso_Datos[[#This Row],[Vinculo]])","v":"=' '!$F$66"},"#,##0","Info. años anteriores$D$8 2023"]
["Info años anteriores",{"$f":"' '!$E$69","v":0},{"$f":"_xlfn.FORMULATEXT(Campos_Ingreso_Datos[[#This Row],[Vinculo]])","v":"=' '!$E$69"},"#,##0","Info años anteriores$E$69 2023"]
["Info años anteriores",{"$f":"' '!$F$69","v":0},{"$f":"_xlfn.FORMULATEXT(Campos_Ingreso_Datos[[#This Row],[Vinculo]])","v":"=' '!$F$69"},"#,##0","Info años anteriores$F$69 2023"]
["Info años anteriores",{"$f":"' '!$E$70","v":0},{"$f":"_xlfn.FORMULATEXT(Campos_Ingreso_Datos[[#This Row],[Vinculo]])","v":"=' '!$E$70"},"#,##0","Info años anteriores$E$70 2023"]
["Info años anteriores",{"$f":"' '!$F$70","v":0},{"$f":"_xlfn.FORMULATEXT(Campos_Ingreso_Datos[[#This Row],[Vinculo]])","v":"=' '!$F$70"},"#,##0","Info años anteriores$F$70 2023"]
["Impuesto Diferido",{"$f":"' '!$K$990","v":0},{"$f":"_xlfn.FORMULATEXT(Campos_Ingreso_Datos[[#This Row],[Vinculo]])","v":"=' '!$K$990"},"#,##0","Impuesto Diferido$K$981 2023"]
["Impuesto Diferido",{"$f":"' '!$K$991","v":0},{"$f":"_xlfn.FORMULATEXT(Campos_Ingreso_Datos[[#This Row],[Vinculo]])","v":"=' '!$K$991"},"#,##0","Impuesto Diferido$K$982 2023"]
["Impuesto Diferido",{"$f":"' '!$K$994","v":0},{"$f":"_xlfn.FORMULATEXT(Campos_Ingreso_Datos[[#This Row],[Vinculo]])","v":"=' '!$K$994"},"#,##0","Impuesto Diferido$K$985 2023"]
["Impuesto Diferido",{"$f":"' '!$K$995","v":0},{"$f":"_xlfn.FORMULATEXT(Campos_Ingreso_Datos[[#This Row],[Vinculo]])","v":"=' '!$K$995"},"#,##0","Impuesto Diferido$K$986 2023"]
["Impuesto Diferido",{"$f":"' '!$K$1014","v":0},{"$f":"_xlfn.FORMULATEXT(Campos_Ingreso_Datos[[#This Row],[Vinculo]])","v":"=' '!$K$1014"},"#,##0","Impuesto Diferido$K$1005 2023"]
["Impuesto Diferido",{"$f":"' '!$K$1015","v":0},{"$f":"_xlfn.FORMULATEXT(Campos_Ingreso_Datos[[#This Row],[Vinculo]])","v":"=' '!$K$1015"},"#,##0","Impuesto Diferido$K$1006 2023"]
["Impuesto Diferido",{"$f":"' '!$K$1018","v":0},{"$f":"_xlfn.FORMULATEXT(Campos_Ingreso_Datos[[#This Row],[Vinculo]])","v":"=' '!$K$1018"},"#,##0","Impuesto Diferido$K$1009 2023"]
["Impuesto Diferido",{"$f":"' '!$K$1019","v":0},{"$f":"_xlfn.FORMULATEXT(Campos_Ingreso_Datos[[#This Row],[Vinculo]])","v":"=' '!$K$1019"},"#,##0","Impuesto Diferido$K$1010 2023"]

{"sheet":"Comentarios","index":2,"n_rows":117,"n_cols":8,"rows_kept":117,"hidden":true}
["RUTA","Formulada","Comentario","Largo","Segmento","Color","Columna1","Columna2"]
[{"$f":"SUBSTITUTE(SUBSTITUTE(FORMULATEXTO_Act(B2),\"=\",\"\"),\"'\",\"\")","v":" !$F$55"},{"$f":"' '!$F$55","v":"Detallada"},"Si desea ingresar la información de manera detallada, es decir, registrando los saldos de cada uno de los rubros que conforma las partidas, deberá seleccionar la opción \"Detallada\"; en caso de que desee registrar únicamente los saldos totales de las partidas, deberá seleccionar la opción \"General\". ",300,{"$f":"OFFSET(Ref_Segmento,ROW(INDIRECT(IF(SUBSTITUTE(Comentarios[[#This Row],[RUTA]],\" \",\"\")=Comentarios[[#This Row],[RUTA]],Comentarios[[#This Row],[RUTA]],\"'\"&SUBSTITUTE(Comentarios[[#This Row],[RUTA]],\"!\",\"'!\"))))-1,0)","v":"Datos basicos empresa"},"Verde",{"$f":"LEFT(Comentarios[[#This Row],[Comentario]],254)","v":"Si desea ingresar la información de manera detallada, es decir, registrando los saldos de cada uno de los rubros que conforma las partidas, deberá seleccionar la opción \"Detallada\"; en caso de que desee registrar únicamente los saldos totales de las part"},{"$f":"COUNTIF(Comentarios[Columna1],Comentarios[[#This Row],[Columna1]])","v":1}]
[{"$f":"SUBSTITUTE(SUBSTITUTE(FORMULATEXTO_Act(B3),\"=\",\"\"),\"'\",\"\")","v":" !$F$54"},{"$f":"' '!$F$54","v":0},"Tenga en cuenta que, si la respuesta a esta pregunta es afirmativa, deberá registrar la tarifa aplicable en cada una de las partidas de manera manual, en la ventana \"Impuesto diferido\"; en caso de que la respuesta sea negativa, la tarifa aplicable se registrará de manera automática de acuerdo con el tipo de empresa que se haya seleccionado. ",343,{"$f":"OFFSET(Ref_Segmento,ROW(INDIRECT(IF(SUBSTITUTE(Comentarios[[#This Row],[RUTA]],\" \",\"\")=Comentarios[[#This Row],[RUTA]],Comentarios[[#This Row],[RUTA]],\"'\"&SUBSTITUTE(Comentarios[[#This Row],[RUTA]],\"!\",\"'!\"))))-1,0)","v":"Datos basicos empresa"},"Verde",{"$f":"LEFT(Comentarios[[#This Row],[Comentario]],254)","v":"Tenga en cuenta que, si la respuesta a esta pregunta es afirmativa, deberá registrar la tarifa aplicable en cada una de las partidas de manera manual, en la ventana \"Impuesto diferido\"; en caso de que la respuesta sea negativa, la tarifa aplicable se reg"},{"$f":"COUNTIF(Comentarios[Columna1],Comentarios[[#This Row],[Columna1]])","v":1}]
[{"$f":"SUBSTITUTE(SUBSTITUTE(FORMULATEXTO_Act(B4),\"=\",\"\"),\"'\",\"\")","v":" !$C$94"},{"$f":"' '!$C$94","v":"Equivalentes al efectivo"},"De acuerdo con el artículo 271 del ET, para efectos fiscales, a los bonos, CDT, títulos y otras inversiones que sí coticen en bolsa, se les debe ajustar su valor patrimonial para que queden declarados según los índices de cotización en bolsa a diciembre 31 de 2023.",265,{"$f":"OFFSET(Ref_Segmento,ROW(INDIRECT(IF(SUBSTITUTE(Comentarios[[#This Row],[RUTA]],\" \",\"\")=Comentarios[[#This Row],[RUTA]],Comentarios[[#This Row],[RUTA]],\"'\"&SUBSTITUTE(Comentarios[[#This Row],[RUTA]],\"!\",\"'!\"))))-1,0)","v":"Efectivo y equiv ef"},"Gris",{"$f":"LEFT(Comentarios[[#This Row],[Comentario]],254)","v":"De acuerdo con el artículo 271 del ET, para efectos fiscales, a los bonos, CDT, títulos y otras inversiones que sí coticen en bolsa, se les debe ajustar su valor patrimonial para que queden declarados según los índices de cotización en bolsa a diciembre "},{"$f":"COUNTIF(Comentarios[Columna1],Comentarios[[#This Row],[Columna1]])","v":10}]
[{"$f":"SUBSTITUTE(SUBSTITUTE(FORMULATEXTO_Act(B5),\"=\",\"\"),\"'\",\"\")","v":" !$C$88"},{"$f":"' '!$C$88","v":"Efectivo y Equivalentes del Efectivo "},"El efectivo y los equivalentes del efectivo se deben reconocer y medir siguiendo los lineamientos señalados en la Sección 11 - Instrumentos Financieros Básicos.",160,{"$f":"OFFSET(Ref_Segmento,ROW(INDIRECT(IF(SUBSTITUTE(Comentarios[[#This Row],[RUTA]],\" \",\"\")=Comentarios[[#This Row],[RUTA]],Comentarios[[#This Row],[RUTA]],\"'\"&SUBSTITUTE(Comentarios[[#This Row],[RUTA]],\"!\",\"'!\"))))-1,0)","v":"Efectivo y equiv ef"},"Gris",{"$f":"LEFT(Comentarios[[#This Row],[Comentario]],254)","v":"El efectivo y los equivalentes del efectivo se deben reconocer y medir siguiendo los lineamientos señalados en la Sección 11 - Instrumentos Financieros Básicos."},{"$f":"COUNTIF(Comentarios[Columna1],Comentarios[[#This Row],[Columna1]])","v":1}]
[{"$f":"SUBSTITUTE(SUBSTITUTE(FORMULATEXTO_Act(B6),\"=\",\"\"),\"'\",\"\")","v":" !$C$131"},{"$f":"' '!$C$131","v":"Instrumentos de deuda o patrimonio al costo "},"De acuerdo con el artículo 271 del ET, para efectos fiscales, a los bonos, CDT, títulos y otras inversiones que sí coticen en bolsa, se les debe ajustar su valor patrimonial para que queden declarados según los índices de cotización en bolsa a diciembre 31 de 2023.",265,{"$f":"OFFSET(Ref_Segmento,ROW(INDIRECT(IF(SUBSTITUTE(Comentarios[[#This Row],[RUTA]],\" \",\"\")=Comentarios[[#This Row],[RUTA]],Comentarios[[#This Row],[RUTA]],\"'\"&SUBSTITUTE(Comentarios[[#This Row],[RUTA]],\"!\",\"'!\"))))-1,0)","v":"Inversiones e Instr Deriv"},"Gris",{"$f":"LEFT(Comentarios[[#This Row],[Comentario]],254)","v":"De acuerdo con el artículo 271 del ET, para efectos fiscales, a los bonos, CDT, títulos y otras inversiones que sí coticen en bolsa, se les debe ajustar su valor patrimonial para que queden declarados según los índices de cotización en bolsa a diciembre "},{"$f":"COUNTIF(Comentarios[Columna1],Comentarios[[#This Row],[Columna1]])","v":10}]
[{"$f":"SUBSTITUTE(SUBSTITUTE(FORMULATEXTO_Act(B7),\"=\",\"\"),\"'\",\"\")","v":" !$C$140"},{"$f":"' '!$C$140","v":"Instrumentos financieros derivados con \nfines de negociación "},"De acuerdo con el artículo 271 del ET, para efectos fiscales, a los bonos, CDT, títulos y otras inversiones que sí coticen en bolsa, se les debe ajustar su valor patrimonial para que queden declarados según los índices de cotización en bolsa a diciembre 31 de 2023.",265,{"$f":"OFFSET(Ref_Segmento,ROW(INDIRECT(IF(SUBSTITUTE(Comentarios[[#This Row],[RUTA]],\" \",\"\")=Comentarios[[#This Row],[RUTA]],Comentarios[[#This Row],[RUTA]],\"'\"&SUBSTITUTE(Comentarios[[#This Row],[RUTA]],\"!\",\"'!\"))))-1,0)","v":"Inversiones e Instr Deriv"},"Gris",{"$f":"LEFT(Comentarios[[#This Row],[Comentario]],254)","v":"De acuerdo con el artículo 271 del ET, para efectos fiscales, a los bonos, CDT, títulos y otras inversiones que sí coticen en bolsa, se les debe ajustar su valor patrimonial para que queden declarados según los índices de cotización en bolsa a diciembre "},{"$f":"COUNTIF(Comentarios[Columna1],Comentarios[[#This Row],[Columna1]])","v":10}]
[{"$f":"SUBSTITUTE(SUBSTITUTE(FORMULATEXTO_Act(B8),\"=\",\"\"),\"'\",\"\")","v":" !$C$143"},{"$f":"' '!$C$143","v":"Instrumentos financieros derivados con \nfines de cobertura"},"De acuerdo con el artículo 271 del ET, para efectos fiscales, a los bonos, CDT, títulos y otras inversiones que sí coticen en bolsa, se les debe ajustar su valor patrimonial para que queden declarados según los índices de cotización en bolsa a diciembre 31 de 2023.",265,{"$f":"OFFSET(Ref_Segmento,ROW(INDIRECT(IF(SUBSTITUTE(Comentarios[[#This Row],[RUTA]],\" \",\"\")=Comentarios[[#This Row],[RUTA]],Comentarios[[#This Row],[RUTA]],\"'\"&SUBSTITUTE(Comentarios[[#This Row],[RUTA]],\"!\",\"'!\"))))-1,0)","v":"Inversiones e Instr Deriv"},"Gris",{"$f":"LEFT(Comentarios[[#This Row],[Comentario]],254)","v":"De acuerdo con el artículo 271 del ET, para efectos fiscales, a los bonos, CDT, títulos y otras inversiones que sí coticen en bolsa, se les debe ajustar su valor patrimonial para que queden declarados según los índices de cotización en bolsa a diciembre "},{"$f":"COUNTIF(Comentarios[Columna1],Comentarios[[#This Row],[Columna1]])","v":10}]
[{"$f":"SUBSTITUTE(SUBSTITUTE(FORMULATEXTO_Act(B9),\"=\",\"\"),\"'\",\"\")","v":" !$C$146"},{"$f":"' '!$C$146","v":"Derechos fiduciarios "},"De acuerdo con el artículo 271 del ET, para efectos fiscales, a los bonos, CDT, títulos y otras inversiones que sí coticen en bolsa, se les debe ajustar su valor patrimonial para que queden declarados según los índices de cotización en bolsa a diciembre 31 de 2023.",265,{"$f":"OFFSET(Ref_Segmento,ROW(INDIRECT(IF(SUBSTITUTE(Comentarios[[#This Row],[RUTA]],\" \",\"\")=Comentarios[[#This Row],[RUTA]],Comentarios[[#This Row],[RUTA]],\"'\"&SUBSTITUTE(Comentarios[[#This Row],[RUTA]],\"!\",\"'!\"))))-1,0)","v":"Inversiones e Instr Deriv"},"Gris",{"$f":"LEFT(Comentarios[[#This Row],[Comentario]],254)","v":"De acuerdo con el artículo 271 del ET, para efectos fiscales, a los bonos, CDT, títulos y otras inversiones que sí coticen en bolsa, se les debe ajustar su valor patrimonial para que queden declarados según los índices de cotización en bolsa a diciembre "},{"$f":"COUNTIF(Comentarios[Columna1],Comentarios[[#This Row],[Columna1]])","v":10}]
[{"$f":"SUBSTITUTE(SUBSTITUTE(FORMULATEXTO_Act(B10),\"=\",\"\"),\"'\",\"\")","v":" !$C$122"},{"$f":"' '!$C$122","v":"Inversiones en subsidiarias, asociadas y \nnegocios conjuntos medidas con método de \nparticipación"},"De acuerdo con el numeral 4 del artículo 28 y el literal a del numeral 2 de artículo 105 del ET, los valores que se registran contablemente por la aplicación del método de participación patrimonial no son objeto del impuesto de renta.",234,{"$f":"OFFSET(Ref_Segmento,ROW(INDIRECT(IF(SUBSTITUTE(Comentarios[[#This Row],[RUTA]],\" \",\"\")=Comentarios[[#This Row],[RUTA]],Comentarios[[#This Row],[RUTA]],\"'\"&SUBSTITUTE(Comentarios[[#This Row],[RUTA]],\"!\",\"'!\"))))-1,0)","v":"Inversiones e Instr Deriv"},"Gris",{"$f":"LEFT(Comentarios[[#This Row],[Comentario]],254)","v":"De acuerdo con el numeral 4 del artículo 28 y el literal a del numeral 2 de artículo 105 del ET, los valores que se registran contablemente por la aplicación del método de participación patrimonial no son objeto del impuesto de renta."},{"$f":"COUNTIF(Comentarios[Columna1],Comentarios[[#This Row],[Columna1]])","v":2}]
[{"$f":"SUBSTITUTE(SUBSTITUTE(FORMULATEXTO_Act(B11),\"=\",\"\"),\"'\",\"\")","v":" !$C$116"},{"$f":"' '!$C$116","v":"Inversiones en subsidiarias, asociadas y \nnegocios conjuntos medidas a valor razonable \ncon cambios en resultados "},"El parágrafo 6 de artículo 21-1 del ET señala que, para efectos fiscales, las mediciones que se efectúen a valor presente o valor razonable de acuerdo con los marcos técnicos normativos contables, deben reconocerse al costo, precio de adquisición o valor nominal, siempre y cuando no exista un tratamiento diferente en el estatuto. Por lo tanto, las diferencias que resulten del sistema de medición contable y fiscal no tendrán efectos en el impuesto sobre la renta hasta que la transacción se realice mediante la transferencia económica del activo o la extinción del pasivo, según corresponda (ver también: numeral 5 del artículo 28 del ET; numeral 4 del artículo 33 del ET; literal c del numeral artículo 59 del ET; numeral 4 del artículo 93 del ET; artículo 94 del ET; literal b del numeral 1 del artículo 105 del ET). ",822,{"$f":"OFFSET(Ref_Segmento,ROW(INDIRECT(IF(SUBSTITUTE(Comentarios[[#This Row],[RUTA]],\" \",\"\")=Comentarios[[#This Row],[RUTA]],Comentarios[[#This Row],[RUTA]],\"'\"&SUBSTITUTE(Comentarios[[#This Row],[RUTA]],\"!\",\"'!\"))))-1,0)","v":"Inversiones e Instr Deriv"},"Gris",{"$f":"LEFT(Comentarios[[#This Row],[Comentario]],254)","v":"El parágrafo 6 de artículo 21-1 del ET señala que, para efectos fiscales, las mediciones que se efectúen a valor presente o valor razonable de acuerdo con los marcos técnicos normativos contables, deben reconocerse al costo, precio de adquisición o valor"},{"$f":"COUNTIF(Comentarios[Columna1],Comentarios[[#This Row],[Columna1]])","v":16}]
[{"$f":"SUBSTITUTE(SUBSTITUTE(FORMULATEXTO_Act(B12),\"=\",\"\"),\"'\",\"\")","v":" !$C$119"},{"$f":"' '!$C$119","v":"Inversiones en subsidiarias, asociadas y \nnegocios conjuntos medidas a valor razonable \ncon cambios en el ORI"},"El parágrafo 6 de artículo 21-1 del ET señala que, para efectos fiscales, las mediciones que se efectúen a valor presente o valor razonable de acuerdo con los marcos técnicos normativos contables, deben reconocerse al costo, precio de adquisición o valor nominal, siempre y cuando no exista un tratamiento diferente en el estatuto. Por lo tanto, las diferencias que resulten del sistema de medición contable y fiscal no tendrán efectos en el impuesto sobre la renta hasta que la transacción se realice mediante la transferencia económica del activo o la extinción del pasivo, según corresponda (ver también: numeral 5 del artículo 28 del ET; numeral 4 del artículo 33 del ET; literal c del numeral artículo 59 del ET; numeral 4 del artículo 93 del ET; artículo 94 del ET; literal b del numeral 1 del artículo 105 del ET). ",822,{"$f":"OFFSET(Ref_Segmento,ROW(INDIRECT(IF(SUBSTITUTE(Comentarios[[#This Row],[RUTA]],\" \",\"\")=Comentarios[[#This Row],[RUTA]],Comentarios[[#This Row],[RUTA]],\"'\"&SUBSTITUTE(Comentarios[[#This Row],[RUTA]],\"!\",\"'!\"))))-1,0)","v":"Inversiones e Instr Deriv"},"Gris",{"$f":"LEFT(Comentarios[[#This Row],[Comentario]],254)","v":"El parágrafo 6 de artículo 21-1 del ET señala que, para efectos fiscales, las mediciones que se efectúen a valor presente o valor razonable de acuerdo con los marcos técnicos normativos contables, deben reconocerse al costo, precio de adquisición o valor"},{"$f":"COUNTIF(Comentarios[Columna1],Comentarios[[#This Row],[Columna1]])","v":16}]
[{"$f":"SUBSTITUTE(SUBSTITUTE(FORMULATEXTO_Act(B13),\"=\",\"\"),\"'\",\"\")","v":" !$C$134"},{"$f":"' '!$C$134","v":"Instrumentos de deuda o patrimonio al valor \nrazonable con cambios en resultados "},"El parágrafo 6 de artículo 21-1 del ET señala que, para efectos fiscales, las mediciones que se efectúen a valor presente o valor razonable de acuerdo con los marcos técnicos normativos contables, deben reconocerse al costo, precio de adquisición o valor nominal, siempre y cuando no exista un tratamiento diferente en el estatuto. Por lo tanto, las diferencias que resulten del sistema de medición contable y fiscal no tendrán efectos en el impuesto sobre la renta hasta que la transacción se realice mediante la transferencia económica del activo o la extinción del pasivo, según corresponda (ver también: numeral 5 del artículo 28 del ET; numeral 4 del artículo 33 del ET; literal c del numeral artículo 59 del ET; numeral 4 del artículo 93 del ET; artículo 94 del ET; literal b del numeral 1 del artículo 105 del ET). ",822,{"$f":"OFFSET(Ref_Segmento,ROW(INDIRECT(IF(SUBSTITUTE(Comentarios[[#This Row],[RUTA]],\" \",\"\")=Comentarios[[#This Row],[RUTA]],Comentarios[[#This Row],[RUTA]],\"'\"&SUBSTITUTE(Comentarios[[#This Row],[RUTA]],\"!\",\"'!\"))))-1,0)","v":"Inversiones e Instr Deriv"},"Gris",{"$f":"LEFT(Comentarios[[#This Row],[Comentario]],254)","v":"El parágrafo 6 de artículo 21-1 del ET señala que, para efectos fiscales, las mediciones que se efectúen a valor presente o valor razonable de acuerdo con los marcos técnicos normativos contables, deben reconocerse al costo, precio de adquisición o valor"},{"$f":"COUNTIF(Comentarios[Columna1],Comentarios[[#This Row],[Columna1]])","v":16}]
[{"$f":"SUBSTITUTE(SUBSTITUTE(FORMULATEXTO_Act(B14),\"=\",\"\"),\"'\",\"\")","v":" !$C$137"},{"$f":"' '!$C$137","v":"Instrumentos de deuda o patrimonio al valor razonable con cambios en el ORI"},"El parágrafo 6 de artículo 21-1 del ET señala que, para efectos fiscales, las mediciones que se efectúen a valor presente o valor razonable de acuerdo con los marcos técnicos normativos contables, deben reconocerse al costo, precio de adquisición o valor nominal, siempre y cuando no exista un tratamiento diferente en el estatuto. Por lo tanto, las diferencias que resulten del sistema de medición contable y fiscal no tendrán efectos en el impuesto sobre la renta hasta que la transacción se realice mediante la transferencia económica del activo o la extinción del pasivo, según corresponda (ver también: numeral 5 del artículo 28 del ET; numeral 4 del artículo 33 del ET; literal c del numeral artículo 59 del ET; numeral 4 del artículo 93 del ET; artículo 94 del ET; literal b del numeral 1 del artículo 105 del ET). ",822,{"$f":"OFFSET(Ref_Segmento,ROW(INDIRECT(IF(SUBSTITUTE(Comentarios[[#This Row],[RUTA]],\" \",\"\")=Comentarios[[#This Row],[RUTA]],Comentarios[[#This Row],[RUTA]],\"'\"&SUBSTITUTE(Comentarios[[#This Row],[RUTA]],\"!\",\"'!\"))))-1,0)","v":"Inversiones e Instr Deriv"},"Gris",{"$f":"LEFT(Comentarios[[#This Row],[Comentario]],254)","v":"El parágrafo 6 de artículo 21-1 del ET señala que, para efectos fiscales, las mediciones que se efectúen a valor presente o valor razonable de acuerdo con los marcos técnicos normativos contables, deben reconocerse al costo, precio de adquisición o valor"},{"$f":"COUNTIF(Comentarios[Columna1],Comentarios[[#This Row],[Columna1]])","v":16}]
[{"$f":"SUBSTITUTE(SUBSTITUTE(FORMULATEXTO_Act(B15),\"=\",\"\"),\"'\",\"\")","v":" !$C$158"},{"$f":"' '!$C$158","v":"Deterioro de Inversiones e Instrumentos \nDerivados"},"Los deterioros no son aceptados para efectos fiscales. De acuerdo con el párrafo 27.5 de la Sección 27 - Deterioro del Valor de los Activos (Anexo 2 del Decreto 2483 de 2018), una entidad debe reducir el importe en libros del activo hasta su importe recuperable si, y solo si, el importe recuperable es inferior al importe en libros, pues esa reducción es una pérdida por deterioro del valor.\nAsimismo, el párrafo 27.7 de la misma sección, indica que, la entidad debe evaluar, en cada fecha de presentación, si existe algún indicio del deterioro del valor de algún activo. En caso de que existan indicios, la entidad debe estimar el importe recuperable del activo; si no existen indicios de deterioro del valor. no será necesario estimar el importe recuperable.",761,{"$f":"OFFSET(Ref_Segmento,ROW(INDIRECT(IF(SUBSTITUTE(Comentarios[[#This Row],[RUTA]],\" \",\"\")=Comentarios[[#This Row],[RUTA]],Comentarios[[#This Row],[RUTA]],\"'\"&SUBSTITUTE(Comentarios[[#This Row],[RUTA]],\"!\",\"'!\"))))-1,0)","v":"Inversiones e Instr Deriv"},"Gris",{"$f":"LEFT(Comentarios[[#This Row],[Comentario]],254)","v":"Los deterioros no son aceptados para efectos fiscales. De acuerdo con el párrafo 27.5 de la Sección 27 - Deterioro del Valor de los Activos (Anexo 2 del Decreto 2483 de 2018), una entidad debe reducir el importe en libros del activo hasta su importe recu"},{"$f":"COUNTIF(Comentarios[Columna1],Comentarios[[#This Row],[Columna1]])","v":14}]
[{"$f":"SUBSTITUTE(SUBSTITUTE(FORMULATEXTO_Act(B16),\"=\",\"\"),\"'\",\"\")","v":" !$J$166"},{"$f":"' '!$J$166","v":"Deterioro "},"De acuerdo con el párrafo 27.5 de la Sección 27 - Deterioro del Valor de los Activos (Anexo 2 del Decreto 2483 de 2018), una entidad debe reducir el importe en libros del activo hasta su importe recuperable si, y solo si, el importe recuperable es inferior al importe en libros, pues esa reducción es una pérdida por deterioro del valor.\nAsimismo, el párrafo 27.7 de la misma sección, indica que, la entidad debe evaluar, en cada fecha de presentación, si existe algún indicio del deterioro del valor de algún activo. En caso de que existan indicios, la entidad debe estimar el importe recuperable del activo; si no existen indicios de deterioro del valor. no será necesario estimar el importe recuperable. \nAl evaluar si existe algún indicio de que pueda haberse deteriorado el valor de un activo, la entidad deberá considerar, como mínimo, los siguientes indicios: \n\nFuentes externas de información\n\n- Durante el periodo, el valor de mercado del activo ha disminuido significativamente más de lo que cabría esperar como consecuencia del paso del tiempo o de su uso normal.\n- Durante el periodo han tenido lugar, o van a tener lugar en un futuro inmediato, cambios significativos con un efecto adverso sobre la entidad, referentes al entorno legal, económico, tecnológico o de mercado en los que esta opera, o bien en el mercado al que está destinado el activo.\n- Durante el periodo, las tasas de interés de mercado, u otras tasas de mercado de rendimiento de inversiones, se han incrementado yesos incrementos van probablemente a afectar significativamente a la tasa de descuento utilizada para calcular el valor en uso de un activo y disminuyen su valor razonable menos costos de venta.\n- El importe en libros de los activos netos de la entidad es superior al valor razonable estimado de la entidad en conjunto (esta estimación se puede haber calculado, por ejemplo, para una venta potencial total o parcial de la entidad).\n\nFuentes internas de información\n\n- Se dispone de evidencia sobre la obsolescencia o deterioro físico de un activo.\n- Durante el periodo han tenido lugar, o se espera que tengan lugar en un futuro inmediato, cambios significativos en la forma en que se usa o se espera usar el activo, que afectarán desfavorablemente a la entidad. Estos cambios incluyen el hecho de que el activo esté ocioso, los planes de discontinuación o restructuración de la operación a la que pertenece el activo y los planes para disponer del activo antes de la fecha prevista.\n- Se dispone de evidencia procedente de informes internos, que indica que el rendimiento económico de un activo es, o va a ser, peor que el esperado. En este contexto, el rendimiento económico incluye los resultados de las operaciones y los flujos de efectivo. ",2740,{"$f":"OFFSET(Ref_Segmento,ROW(INDIRECT(IF(SUBSTITUTE(Comentarios[[#This Row],[RUTA]],\" \",\"\")=Comentarios[[#This Row],[RUTA]],Comentarios[[#This Row],[RUTA]],\"'\"&SUBSTITUTE(Comentarios[[#This Row],[RUTA]],\"!\",\"'!\"))))-1,0)","v":"Det Acum Inver"},"Azul",{"$f":"LEFT(Comentarios[[#This Row],[Comentario]],254)","v":"De acuerdo con el párrafo 27.5 de la Sección 27 - Deterioro del Valor de los Activos (Anexo 2 del Decreto 2483 de 2018), una entidad debe reducir el importe en libros del activo hasta su importe recuperable si, y solo si, el importe recuperable es inferi"},{"$f":"COUNTIF(Comentarios[Columna1],Comentarios[[#This Row],[Columna1]])","v":6}]
[{"$f":"SUBSTITUTE(SUBSTITUTE(FORMULATEXTO_Act(B17),\"=\",\"\"),\"'\",\"\")","v":" !$F$166"},{"$f":"' '!$F$166","v":"Valor \nRazonable"},"El párrafo 11.27 de la Sección 11 - Instrumentos Financieros Básicos (Anexo 2 del Decreto 2483 de 2018) indica que, el valor razonable de un activo se deberá estimar siguiendo la siguiente jerarquía:\n\n- La mejor evidencia del valor razonable es un precio cotizado para un activo idéntico (o un activo similar) en un mercado activo. Éste suele ser el precio comprador actual.\n- Cuando no están disponibles precios cotizados, el precio en un acuerdo de venta vinculante o en una transacción reciente para un activo idéntico (o activo similar) en condiciones de independencia mutua entre partes interesadas y debidamente informadas, proporciona evidencia del valor razonable. Sin embargo, este precio puede no ser una buena estimación del valor razonable si ha habido cambios significativos en las circunstancias económicas o un periodo de tiempo significativo entre la fecha del acuerdo de venta vinculante, o la transacción, y la fecha de medición. Si la entidad puede demostrar que el último precio de transacción no es un buen estimador del valor razonable (por ejemplo, porque refleja el importe que una entidad recibiría o pagaría en una transacción forzada, liquidación involuntaria o una venta urgente), después ese precio se ajusta.\n- Si el mercado para el activo no está activo y cualquier acuerdo de venta vinculante o las transacciones recientes de un activo idéntico (o un activo similar) por sí solas no constituyen una buena estimación del valor razonable, una entidad estimará el valor razonable utilizando otra técnica de valoración. El objetivo de utilizar una técnica de valoración es estimar el precio de transacción que se habría alcanzado en la fecha de medición en un intercambio entre partes que actúen en condiciones de independencia mutua, motivado por contraprestaciones normales del negocio. \n\nAdemás de lo anterior, pueden consultarse los párrafos 11.28 a 11.32 de la sección antes mencionada, para ampliar la información relacionada con la determinación del valor razonable de un activo. ",2015,{"$f":"OFFSET(Ref_Segmento,ROW(INDIRECT(IF(SUBSTITUTE(Comentarios[[#This Row],[RUTA]],\" \",\"\")=Comentarios[[#This Row],[RUTA]],Comentarios[[#This Row],[RUTA]],\"'\"&SUBSTITUTE(Comentarios[[#This Row],[RUTA]],\"!\",\"'!\"))))-1,0)","v":"Det Acum Inver"},"Azul",{"$f":"LEFT(Comentarios[[#This Row],[Comentario]],254)","v":"El párrafo 11.27 de la Sección 11 - Instrumentos Financieros Básicos (Anexo 2 del Decreto 2483 de 2018) indica que, el valor razonable de un activo se deberá estimar siguiendo la siguiente jerarquía:\n\n- La mejor evidencia del valor razonable es un precio"},{"$f":"COUNTIF(Comentarios[Columna1],Comentarios[[#This Row],[Columna1]])","v":6}]
[{"$f":"SUBSTITUTE(SUBSTITUTE(FORMULATEXTO_Act(B18),\"=\",\"\"),\"'\",\"\")","v":" !$I$166"},{"$f":"' '!$I$166","v":"Importe \nRecuperable"},"El párrafo 27.11 de la Sección 27 - Deterior del Valor de los Activos (Anexo 2 del Decreto 2483 de 2018) establece que, el importe recuperable de un activo o de una unidad generadora de efectivo es el mayor entre su valor razonable menos los costos de venta y su valor en uso. \n\nDebe tenerse en cuenta que, no siempre es necesario determinar el valor razonable del activo menos los costos de venta y su valor en uso.; esto porque, si cualquiera de esos importes excediera al importe en libros del activo, este no habría sufrido un deterioro de su valor y no sería necesario estimar el otro importe. Además, si no hubiese razón para creer que el valor en uso de un activo excede de forma significativa a su valor razonable menos los costos de venta, se considerará a este último como su importe recuperable. Este será, con frecuencia, el caso de un activo que se mantiene para su disposición. ",892,{"$f":"OFFSET(Ref_Segmento,ROW(INDIRECT(IF(SUBSTITUTE(Comentarios[[#This Row],[RUTA]],\" \",\"\")=Comentarios[[#This Row],[RUTA]],Comentarios[[#This Row],[RUTA]],\"'\"&SUBSTITUTE(Comentarios[[#This Row],[RUTA]],\"!\",\"'!\"))))-1,0)","v":"Det Acum Inver"},"Azul",{"$f":"LEFT(Comentarios[[#This Row],[Comentario]],254)","v":"El párrafo 27.11 de la Sección 27 - Deterior del Valor de los Activos (Anexo 2 del Decreto 2483 de 2018) establece que, el importe recuperable de un activo o de una unidad generadora de efectivo es el mayor entre su valor razonable menos los costos de ve"},{"$f":"COUNTIF(Comentarios[Columna1],Comentarios[[#This Row],[Columna1]])","v":6}]
[{"$f":"SUBSTITUTE(SUBSTITUTE(FORMULATEXTO_Act(B19),\"=\",\"\"),\"'\",\"\")","v":" !$H$166"},{"$f":"' '!$H$166","v":"Valor \nen Uso"},"La sección 27 - Deterioro del Valor de los Activos (Anexo 2 del Decreto 2483 de 2018) indica que, el valor en uso es el valor presente de los flujos futuros de efectivo que se espera obtener de un activo. El cálculo del valor presente involucra las siguientes fases:\n\n- Estimar las entradas y salidas futuras de efectivo derivadas de la utilización continuada del activo y de su disposición final; y  \n- Aplicar la tasa de descuento adecuada a estos flujos de efectivo futuros.\n\nEn el cálculo del valor en uso de un activo deben tenerse en cuenta los siguientes elementos: \n\n- Una estimación de los flujos de efectivo futuros que la entidad espera obtener del activo;\n- Las expectativas sobre posibles variaciones en el importe o en la distribución temporal de dichos flujos de efectivo futuros;\n- El valor del dinero en el tiempo, representado por la tasa de interés de mercado sin riesgo;\n- El precio por la presencia de incertidumbre inherente en el activo; y\n- Otros factores, tales como la iliquidez, que los participantes en el mercado reflejarían al poner precio a los flujos de efectivo futuros que la entidad espera que se deriven del activo.\n\nAdemás, al medir el valor en uso, las estimaciones de los flujos de efectivo futuros deberán  incluir:\n\n- Proyecciones de entradas de efectivo procedentes de la utilización continuada del activo;\n- Proyecciones de salidas de efectivo en las que sea necesario incurrir para generar las entradas de efectivo por la utilización continuada del activo (incluyendo, en su caso, los pagos que sean necesarios para preparar al activo para su utilización), y puedan ser atribuidas directamente, o distribuidas según una base razonable y uniforme a dicho activo; y\n- Flujos netos de efectivo que, si los hubiera, se espera recibir (o pagar) por la disposición del activo, al final de su vida útil, en una transacción realizada en condiciones de independencia mutua entre partes interesadas y debidamente informadas. ",1959,{"$f":"OFFSET(Ref_Segmento,ROW(INDIRECT(IF(SUBSTITUTE(Comentarios[[#This Row],[RUTA]],\" \",\"\")=Comentarios[[#This Row],[RUTA]],Comentarios[[#This Row],[RUTA]],\"'\"&SUBSTITUTE(Comentarios[[#This Row],[RUTA]],\"!\",\"'!\"))))-1,0)","v":"Det Acum Inver"},"Azul",{"$f":"LEFT(Comentarios[[#This Row],[Comentario]],254)","v":"La sección 27 - Deterioro del Valor de los Activos (Anexo 2 del Decreto 2483 de 2018) indica que, el valor en uso es el valor presente de los flujos futuros de efectivo que se espera obtener de un activo. El cálculo del valor presente involucra las sigui"},{"$f":"COUNTIF(Comentarios[Columna1],Comentarios[[#This Row],[Columna1]])","v":6}]
[{"$f":"SUBSTITUTE(SUBSTITUTE(FORMULATEXTO_Act(B20),\"=\",\"\"),\"'\",\"\")","v":" !$C$218"},{"$f":"' '!$C$218","v":"Deterioro cuentas por cobrar"},"Los deterioros no son aceptados para efectos fiscales. De acuerdo con el párrafo 27.5 de la Sección 27 - Deterioro del Valor de los Activos (Anexo 2 del Decreto 2483 de 2018), una entidad debe reducir el importe en libros del activo hasta su importe recuperable si, y solo si, el importe recuperable es inferior al importe en libros, pues esa reducción es una pérdida por deterioro del valor.\nAsimismo, el párrafo 27.7 de la misma sección, indica que, la entidad debe evaluar, en cada fecha de presentación, si existe algún indicio del deterioro del valor de algún activo. En caso de que existan indicios, la entidad debe estimar el importe recuperable del activo; si no existen indicios de deterioro del valor. no será necesario estimar el importe recuperable.",761,{"$f":"OFFSET(Ref_Segmento,ROW(INDIRECT(IF(SUBSTITUTE(Comentarios[[#This Row],[RUTA]],\" \",\"\")=Comentarios[[#This Row],[RUTA]],Comentarios[[#This Row],[RUTA]],\"'\"&SUBSTITUTE(Comentarios[[#This Row],[RUTA]],\"!\",\"'!\"))))-1,0)","v":"Cuentas x cobrar"},"Gris",{"$f":"LEFT(Comentarios[[#This Row],[Comentario]],254)","v":"Los deterioros no son aceptados para efectos fiscales. De acuerdo con el párrafo 27.5 de la Sección 27 - Deterioro del Valor de los Activos (Anexo 2 del Decreto 2483 de 2018), una entidad debe reducir el importe en libros del activo hasta su importe recu"},{"$f":"COUNTIF(Comentarios[Columna1],Comentarios[[#This Row],[Columna1]])","v":14}]
[{"$f":"SUBSTITUTE(SUBSTITUTE(FORMULATEXTO_Act(B21),\"=\",\"\"),\"'\",\"\")","v":" !$M$231"},{"$f":"' '!$M$231","v":"Deterioro Fiscal"},"El artículo 145 del ET establece que, los contribuyentes obligados a llevar contabilidad, podrán deducir las cantidades razonables que fije el reglamento como deterioro de cartera de dudoso o difícil cobro, siempre que tales deudas se hayan originado en operaciones productoras de renta, correspondan a cartera vencida y se cumplan los demás requisitos legales.\nAl respecto, el artículo 1.2.1.18.20 del Decreto 1625 de 2016 establece la provisión individual de cartera, indicando que, como deducción por concepto de provisión individual para deudas de dudoso o difícil cobro la cuota razonable por provisión puede ser hasta del 33% anual del valor nominal de cada deuda que tenga más de un año de vencida o en estado de mora. \nAsimismo, el artículo 1.2.1.18.21 del Decreto 1625 de 2016 señala la provisión general de cartera, indicando que, los contribuyentes que lleven contabilidad de causación y cuyo sistema de operaciones origine regular y permanentemente créditos a su favor, tendrán derecho a que se les deduzca de su renta bruta, por concepto de provisión general para deudas de dudoso o difícil cobro, un porcentaje en la cartera vencida, así: \n\n- El 5% para las deudas que en el último día del ejercicio gravable lleven más de 3 meses de vencidas, sin exceder de 6 meses. \n\n- El 10% para las deudas que en el último día del ejercicio gravable lleven más de 6 meses de vencidas sin exceder de 1 año. \n\n- El 15% para las deudas que en el último día del ejercicio gravable lleven más de 1 año de vencidas. ",1513,{"$f":"OFFSET(Ref_Segmento,ROW(INDIRECT(IF(SUBSTITUTE(Comentarios[[#This Row],[RUTA]],\" \",\"\")=Comentarios[[#This Row],[RUTA]],Comentarios[[#This Row],[RUTA]],\"'\"&SUBSTITUTE(Comentarios[[#This Row],[RUTA]],\"!\",\"'!\"))))-1,0)","v":"Det Acum CxC"},"Azul",{"$f":"LEFT(Comentarios[[#This Row],[Comentario]],254)","v":"El artículo 145 del ET establece que, los contribuyentes obligados a llevar contabilidad, podrán deducir las cantidades razonables que fije el reglamento como deterioro de cartera de dudoso o difícil cobro, siempre que tales deudas se hayan originado en "},{"$f":"COUNTIF(Comentarios[Columna1],Comentarios[[#This Row],[Columna1]])","v":1}]
[{"$f":"SUBSTITUTE(SUBSTITUTE(FORMULATEXTO_Act(B22),\"=\",\"\"),\"'\",\"\")","v":" !$H$231"},{"$f":"' '!$H$231","v":"Deterioro Contable "},"El párrafo 11.21 de la Sección 11 - Instrumentos financieros básicos (anexo 2 del Decreto 2483 de 2018) indica que, al final de cada periodo sobre el que se informa, la entidad debe evaluar si existe evidencia objetiva de deterioro del valor de los activos financieros que se midan al costo o al costo amortizado. Por lo tanto, debe llevarse a cabo una prueba de deterioro que permita validar esta situación. Las evidencias de deterioro son circunstancias, hechos o situaciones que llevan a la entidad a concluir que el valor de la cartera no es recuperable. Las siguientes son algunos ejemplos de situaciones podrían generar un deterioro de la cuentas por cobrar:\n\n- Dificultades financieras significativas del emisor u obligado.\n- Infracciones del contrato, tales como incumplimientos o moras en el pago de los intereses o del principal.\n- Que el acreedor, por razones económicas o legales relacionadas con dificultades financieras del deudor, otorga a este concesiones que no le habría otorgado en otras circunstancias.\n- Que pase a ser probable que el deudor entre en quiebra o en otra forma de reorganización financiera. \n- Que los datos observables indiquen que ha habido una disminución medible en los flujos futuros estimados de efectivo de un grupo de activos financieros desde su reconocimiento inicial, aunque la disminución no pueda todavía identificarse con activos financieros individuales incluidos en el grupo, tales como condiciones económicas adversas nacionales o locales o cambios adversos en las condiciones del sector industrial.\n\nEs importante que este análisis se realice con cada uno de los terceros que se encuentran en mora, para, de esta manera, establecer la posible recuperación o no de la cartera adeudada. \n\nPor otra parte, aunque  las normas no establecen una metodología determinada que permita evaluar el porcentaje de la pérdida, es posible realizar una provisión utilizando la tasa de mercado anual aplicable a productos similares, de esta manera, sería posible determinar un deterioro general de la cartera. \n",2048,{"$f":"OFFSET(Ref_Segmento,ROW(INDIRECT(IF(SUBSTITUTE(Comentarios[[#This Row],[RUTA]],\" \",\"\")=Comentarios[[#This Row],[RUTA]],Comentarios[[#This Row],[RUTA]],\"'\"&SUBSTITUTE(Comentarios[[#This Row],[RUTA]],\"!\",\"'!\"))))-1,0)","v":"Det Acum CxC"},"Azul",{"$f":"LEFT(Comentarios[[#This Row],[Comentario]],254)","v":"El párrafo 11.21 de la Sección 11 - Instrumentos financieros básicos (anexo 2 del Decreto 2483 de 2018) indica que, al final de cada periodo sobre el que se informa, la entidad debe evaluar si existe evidencia objetiva de deterioro del valor de los activ"},{"$f":"COUNTIF(Comentarios[Columna1],Comentarios[[#This Row],[Columna1]])","v":1}]
[{"$f":"SUBSTITUTE(SUBSTITUTE(FORMULATEXTO_Act(B23),\"=\",\"\"),\"'\",\"\")","v":" !$U$229"},{"$f":"' '!$U$229","v":0},"Si la respuesta a esta pregunta es \"General\", se deberá mostrar la columna I y se deberá ocultar la columna H. \n\nSi la respuesta a esta pregunta es Individual, se deberá mostrar la columna H y se deberá ocultar la columna I. ",225,{"$f":"OFFSET(Ref_Segmento,ROW(INDIRECT(IF(SUBSTITUTE(Comentarios[[#This Row],[RUTA]],\" \",\"\")=Comentarios[[#This Row],[RUTA]],Comentarios[[#This Row],[RUTA]],\"'\"&SUBSTITUTE(Comentarios[[#This Row],[RUTA]],\"!\",\"'!\"))))-1,0)","v":"Det Acum CxC"},null,{"$f":"LEFT(Comentarios[[#This Row],[Comentario]],254)","v":"Si la respuesta a esta pregunta es \"General\", se deberá mostrar la columna I y se deberá ocultar la columna H. \n\nSi la respuesta a esta pregunta es Individual, se deberá mostrar la columna H y se deberá ocultar la columna I. "},{"$f":"COUNTIF(Comentarios[Columna1],Comentarios[[#This Row],[Columna1]])","v":1}]
[{"$f":"SUBSTITUTE(SUBSTITUTE(FORMULATEXTO_Act(B24),\"=\",\"\"),\"'\",\"\")","v":" !$U$230"},{"$f":"' '!$U$230","v":0},"Si la respuesta a esta pregunta es \"General\", se deberán mostrar las columnas N, O y P, y se deberá ocultar la columna M. \n\nSi la respuesta a esta pregunta es Individual, se deberá mostrar la columna M y se deberán ocultar las columnas N, O y P. \n",247,{"$f":"OFFSET(Ref_Segmento,ROW(INDIRECT(IF(SUBSTITUTE(Comentarios[[#This Row],[RUTA]],\" \",\"\")=Comentarios[[#This Row],[RUTA]],Comentarios[[#This Row],[RUTA]],\"'\"&SUBSTITUTE(Comentarios[[#This Row],[RUTA]],\"!\",\"'!\"))))-1,0)","v":"Det Acum CxC"},null,{"$f":"LEFT(Comentarios[[#This Row],[Comentario]],254)","v":"Si la respuesta a esta pregunta es \"General\", se deberán mostrar las columnas N, O y P, y se deberá ocultar la columna M. \n\nSi la respuesta a esta pregunta es Individual, se deberá mostrar la columna M y se deberán ocultar las columnas N, O y P. \n"},{"$f":"COUNTIF(Comentarios[Columna1],Comentarios[[#This Row],[Columna1]])","v":1}]
[{"$f":"SUBSTITUTE(SUBSTITUTE(FORMULATEXTO_Act(B25),\"=\",\"\"),\"'\",\"\")","v":" !$C$287"},{"$f":"' '!$C$287","v":"Deterioro de los inventarios"},"Los párrafos 27.2 y 27.3 de la Sección 27 - Deterioro del valor de los inventarios (anexo 2 del Decreto 2483 de 2018) señalan que la entidad debe evaluar en cada fecha sobre la que se informa si ha habido un deterioro del valor de los inventarios. Para esto, la entidad realizará la evaluación comparando el importe en libros de cada partida del inventario, con su precio de venta menos los costos de terminación y venta. Si a una partida del inventario (o grupo de partidas similares) se le ha deteriorado su valor, la entidad reducirá el importe en libros del inventario a su precio de venta menos los costos de terminación y venta. Esa reducción es una pérdida por deterioro del valor y se reconoce inmediatamente en resultados.\n\nEn caso de que sea impracticable determinar el precio de venta menos los costos de terminación y venta de los inventarios, partida por partida, la entidad podrá agrupar, a efectos de evaluar el deterioro del valor, las partidas de inventario relacionadas con la misma línea de producto que tengan similar propósito o uso final, y se produzcan y comercialicen en la misma zona geográfica.",1120,{"$f":"OFFSET(Ref_Segmento,ROW(INDIRECT(IF(SUBSTITUTE(Comentarios[[#This Row],[RUTA]],\" \",\"\")=Comentarios[[#This Row],[RUTA]],Comentarios[[#This Row],[RUTA]],\"'\"&SUBSTITUTE(Comentarios[[#This Row],[RUTA]],\"!\",\"'!\"))))-1,0)","v":"Inventarios"},"Gris",{"$f":"LEFT(Comentarios[[#This Row],[Comentario]],254)","v":"Los párrafos 27.2 y 27.3 de la Sección 27 - Deterioro del valor de los inventarios (anexo 2 del Decreto 2483 de 2018) señalan que la entidad debe evaluar en cada fecha sobre la que se informa si ha habido un deterioro del valor de los inventarios. Para e"},{"$f":"COUNTIF(Comentarios[Columna1],Comentarios[[#This Row],[Columna1]])","v":3}]
[{"$f":"SUBSTITUTE(SUBSTITUTE(FORMULATEXTO_Act(B26),\"=\",\"\"),\"'\",\"\")","v":" !$N$293"},{"$f":"' '!$N$293","v":"Deterioro Fiscal"},"El artículo 64-1 del ET establece que, para efectos fiscales, el inventario podrá disminuirse por los siguientes conceptos:\n\n1. Cuando se trate de faltantes de inventarios de fácil destrucción o pérdida, las unidades del inventario final pueden disminuirse hasta en un 3% de la suma del inventario inicial más las compras. Si se puede demostrar la ocurrencia de hechos constitutivos de fuerza mayor o caso fortuito, pueden aceptarse disminuciones mayores.\n\nCuando el costo de los inventarios vendidos se determine por el sistema de inventario permanente, serán deducibles las disminuciones ocurridas en inventarios de fácil destrucción o pérdida, siempre que se demuestre el hecho que dio lugar a la pérdida o destrucción, hasta en un 3% de la suma del inventario inicial más las compras.\n\n2. Los inventarios dados de baja por obsolescencia y debidamente destruidos, reciclados o chatarrizados; siempre y cuando sean diferentes a los previstos en el punto anterior, serán deducibles del impuesto sobre la renta en su precio de adquisición, más costos directamente atribuibles y costos de transformación en caso de que sean aplicables. Para la aceptación de esta disminución de inventarios se requiere como mínimo un documento donde conste: cantidad, descripción del producto, costo fiscal unitario y total y justificación de la obsolescencia o destrucción, debidamente firmado por el representante legal o quien haga sus veces y las personas responsables de tal destrucción y demás pruebas que sean pertinentes.\n\n3. En aquellos eventos en que los inventarios se encuentren asegurados, la pérdida fiscal objeto de deducción será la correspondiente a la parte que no esté cubierta por la indemnización o seguros. El mismo tratamiento será aplicable a aquellos casos en los que el valor de la pérdida sea asumido por un tercero.",1825,{"$f":"OFFSET(Ref_Segmento,ROW(INDIRECT(IF(SUBSTITUTE(Comentarios[[#This Row],[RUTA]],\" \",\"\")=Comentarios[[#This Row],[RUTA]],Comentarios[[#This Row],[RUTA]],\"'\"&SUBSTITUTE(Comentarios[[#This Row],[RUTA]],\"!\",\"'!\"))))-1,0)","v":"Det Acum Invent"},"Azul",{"$f":"LEFT(Comentarios[[#This Row],[Comentario]],254)","v":"El artículo 64-1 del ET establece que, para efectos fiscales, el inventario podrá disminuirse por los siguientes conceptos:\n\n1. Cuando se trate de faltantes de inventarios de fácil destrucción o pérdida, las unidades del inventario final pueden disminuir"},{"$f":"COUNTIF(Comentarios[Columna1],Comentarios[[#This Row],[Columna1]])","v":1}]
[{"$f":"SUBSTITUTE(SUBSTITUTE(FORMULATEXTO_Act(B27),\"=\",\"\"),\"'\",\"\")","v":" !$K$294"},{"$f":"' '!$K$294","v":"Valor Neto \nRealización "},"El valor neto de realización es igual al valor esperado de venta, menos los costos necesarios para la terminación y venta de los inventarios. ",142,{"$f":"OFFSET(Ref_Segmento,ROW(INDIRECT(IF(SUBSTITUTE(Comentarios[[#This Row],[RUTA]],\" \",\"\")=Comentarios[[#This Row],[RUTA]],Comentarios[[#This Row],[RUTA]],\"'\"&SUBSTITUTE(Comentarios[[#This Row],[RUTA]],\"!\",\"'!\"))))-1,0)","v":"Det Acum Invent"},"Azul",{"$f":"LEFT(Comentarios[[#This Row],[Comentario]],254)","v":"El valor neto de realización es igual al valor esperado de venta, menos los costos necesarios para la terminación y venta de los inventarios. "},{"$f":"COUNTIF(Comentarios[Columna1],Comentarios[[#This Row],[Columna1]])","v":1}]
[{"$f":"SUBSTITUTE(SUBSTITUTE(FORMULATEXTO_Act(B28),\"=\",\"\"),\"'\",\"\")","v":" !$H$293"},{"$f":"' '!$H$293","v":"Deterioro Contable "},"Los párrafos 27.2 y 27.3 de la Sección 27 - Deterioro del valor de los inventarios (anexo 2 del Decreto 2483 de 2018) señalan que la entidad debe evaluar en cada fecha sobre la que se informa si ha habido un deterioro del valor de los inventarios. Para esto, la entidad realizará la evaluación comparando el importe en libros de cada partida del inventario, con su precio de venta menos los costos de terminación y venta. Si a una partida del inventario (o grupo de partidas similares) se le ha deteriorado su valor, la entidad reducirá el importe en libros del inventario a su precio de venta menos los costos de terminación y venta. Esa reducción es una pérdida por deterioro del valor y se reconoce inmediatamente en resultados.\n\nEn caso de que sea impracticable determinar el precio de venta menos los costos de terminación y venta de los inventarios, partida por partida, la entidad podrá agrupar, a efectos de evaluar el deterioro del valor, las partidas de inventario relacionadas con la misma línea de producto que tengan similar propósito o uso final, y se produzcan y comercialicen en la misma zona geográfica. ",1121,{"$f":"OFFSET(Ref_Segmento,ROW(INDIRECT(IF(SUBSTITUTE(Comentarios[[#This Row],[RUTA]],\" \",\"\")=Comentarios[[#This Row],[RUTA]],Comentarios[[#This Row],[RUTA]],\"'\"&SUBSTITUTE(Comentarios[[#This Row],[RUTA]],\"!\",\"'!\"))))-1,0)","v":"Det Acum Invent"},"Azul",{"$f":"LEFT(Comentarios[[#This Row],[Comentario]],254)","v":"Los párrafos 27.2 y 27.3 de la Sección 27 - Deterioro del valor de los inventarios (anexo 2 del Decreto 2483 de 2018) señalan que la entidad debe evaluar en cada fecha sobre la que se informa si ha habido un deterioro del valor de los inventarios. Para e"},{"$f":"COUNTIF(Comentarios[Columna1],Comentarios[[#This Row],[Columna1]])","v":3}]
[{"$f":"SUBSTITUTE(SUBSTITUTE(FORMULATEXTO_Act(B29),\"=\",\"\"),\"'\",\"\")","v":" !$C$332"},{"$f":"' '!$C$332","v":"Deterioro de las Propiedades, Planta y Equipo"},"Los deterioros no son aceptados para efectos fiscales. De acuerdo con el párrafo 27.5 de la Sección 27 - Deterioro del Valor de los Activos (Anexo 2 del Decreto 2483 de 2018), una entidad debe reducir el importe en libros del activo hasta su importe recuperable si, y solo si, el importe recuperable es inferior al importe en libros, pues esa reducción es una pérdida por deterioro del valor.\n\nAsimismo, el párrafo 27.7 de la misma sección, indica que, la entidad debe evaluar, en cada fecha de presentación, si existe algún indicio del deterioro del valor de algún activo. En caso de que existan indicios, la entidad debe estimar el importe recuperable del activo; si no existen indicios de deterioro del valor. no será necesario estimar el importe recuperable.",762,{"$f":"OFFSET(Ref_Segmento,ROW(INDIRECT(IF(SUBSTITUTE(Comentarios[[#This Row],[RUTA]],\" \",\"\")=Comentarios[[#This Row],[RUTA]],Comentarios[[#This Row],[RUTA]],\"'\"&SUBSTITUTE(Comentarios[[#This Row],[RUTA]],\"!\",\"'!\"))))-1,0)","v":"Prop, plan y Equip"},"Gris",{"$f":"LEFT(Comentarios[[#This Row],[Comentario]],254)","v":"Los deterioros no son aceptados para efectos fiscales. De acuerdo con el párrafo 27.5 de la Sección 27 - Deterioro del Valor de los Activos (Anexo 2 del Decreto 2483 de 2018), una entidad debe reducir el importe en libros del activo hasta su importe recu"},{"$f":"COUNTIF(Comentarios[Columna1],Comentarios[[#This Row],[Columna1]])","v":14}]
[{"$f":"SUBSTITUTE(SUBSTITUTE(FORMULATEXTO_Act(B30),\"=\",\"\"),\"'\",\"\")","v":" !$Q$338"},{"$f":"' '!$Q$338","v":{"v":0,"d":"0%"}},"- Si la respuesta a esta pregunta es \"Lineal\", se deberá mostrar la columna F y ocultar las columnas G, H e I. \n\n- Si la respuesta a esta pregunta es \"Decreciente\", se deberá mostrar la columna G, y ocultar las columnas G, H e I. \n\n- Si la respuesta a esta pregunta es \"Basado en el uso\", se deberán mostrar las columnas H e I, y ocultar las columnas F y G. ",358,{"$f":"OFFSET(Ref_Segmento,ROW(INDIRECT(IF(SUBSTITUTE(Comentarios[[#This Row],[RUTA]],\" \",\"\")=Comentarios[[#This Row],[RUTA]],Comentarios[[#This Row],[RUTA]],\"'\"&SUBSTITUTE(Comentarios[[#This Row],[RUTA]],\"!\",\"'!\"))))-1,0)","v":"Dep Acum P, P y E"},null,{"$f":"LEFT(Comentarios[[#This Row],[Comentario]],254)","v":"- Si la respuesta a esta pregunta es \"Lineal\", se deberá mostrar la columna F y ocultar las columnas G, H e I. \n\n- Si la respuesta a esta pregunta es \"Decreciente\", se deberá mostrar la columna G, y ocultar las columnas G, H e I. \n\n- Si la respuesta a es"},{"$f":"COUNTIF(Comentarios[Columna1],Comentarios[[#This Row],[Columna1]])","v":3}]
[{"$f":"SUBSTITUTE(SUBSTITUTE(FORMULATEXTO_Act(B31),\"=\",\"\"),\"'\",\"\")","v":" !$M$339"},{"$f":"' '!$M$339","v":"Depreciación Fiscal"},"El artículo 137 del ET establece las tasas máximas de depreciación aceptadas para efectos fiscales, las cuales oscilan entre el 2,22% y el 33%. \n\nLa norma también indica que, para efectos fiscales, la vida útil es el periodo durante el cual se espera que el activo brinde beneficios económicos futuros al contribuyente; por lo cual la tasa de depreciación fiscal no necesariamente coincidirá con la tasa de depreciación contable. La vida útil de los activos depreciables deberá estar soportada para efectos fiscales por medio de, entre otros, estudios técnicos, manuales de uso e informes. También son admisibles para soportar la vida útil de los activos documentos probatorios elaborados por un experto en la materia.\n\nEn caso de que el contribuyente realice la depreciación de un elemento de la propiedad, planta y equipo por componentes principales de conformidad con la técnica contable, la deducción por depreciación para efectos fiscales no podrá ser superior a la depreciación o alícuota permitida en la norma tributaria, para el elemento de propiedad, planta y equipo en su totalidad.\n \nLas deducciones por depreciación no deducibles porque exceden los límites establecidos en la norma tributaria, en el año o periodo gravable, generarán una diferencia que será deducible en los periodos siguientes al término de la vida útil del activo.",1345,{"$f":"OFFSET(Ref_Segmento,ROW(INDIRECT(IF(SUBSTITUTE(Comentarios[[#This Row],[RUTA]],\" \",\"\")=Comentarios[[#This Row],[RUTA]],Comentarios[[#This Row],[RUTA]],\"'\"&SUBSTITUTE(Comentarios[[#This Row],[RUTA]],\"!\",\"'!\"))))-1,0)","v":"Dep Acum P, P y E"},"Azul",{"$f":"LEFT(Comentarios[[#This Row],[Comentario]],254)","v":"El artículo 137 del ET establece las tasas máximas de depreciación aceptadas para efectos fiscales, las cuales oscilan entre el 2,22% y el 33%. \n\nLa norma también indica que, para efectos fiscales, la vida útil es el periodo durante el cual se espera que"},{"$f":"COUNTIF(Comentarios[Columna1],Comentarios[[#This Row],[Columna1]])","v":2}]
[{"$f":"SUBSTITUTE(SUBSTITUTE(FORMULATEXTO_Act(B32),\"=\",\"\"),\"'\",\"\")","v":" !$O$340"},{"$f":"' '!$O$340","v":"Tasa de depreciación fiscal"},"Las tasas de depreciación máximas aceptadas fiscalmente, se encuentran establecidas en el artículo 137 del ET.",110,{"$f":"OFFSET(Ref_Segmento,ROW(INDIRECT(IF(SUBSTITUTE(Comentarios[[#This Row],[RUTA]],\" \",\"\")=Comentarios[[#This Row],[RUTA]],Comentarios[[#This Row],[RUTA]],\"'\"&SUBSTITUTE(Comentarios[[#This Row],[RUTA]],\"!\",\"'!\"))))-1,0)","v":"Dep Acum P, P y E"},"Azul",{"$f":"LEFT(Comentarios[[#This Row],[Comentario]],254)","v":"Las tasas de depreciación máximas aceptadas fiscalmente, se encuentran establecidas en el artículo 137 del ET."},{"$f":"COUNTIF(Comentarios[Columna1],Comentarios[[#This Row],[Columna1]])","v":3}]
[{"$f":"SUBSTITUTE(SUBSTITUTE(FORMULATEXTO_Act(B33),\"=\",\"\"),\"'\",\"\")","v":" !$F$339"},{"$f":"' '!$F$339","v":"Depreciación Contable "},"Los párrafos 17.19 a 17.23 de la Sección 17 - Propiedades, planta y equipo (anexo 2 del Decreto 2483 de 2018), indican que, la entidad debe seleccionar un método de depreciación que refleje el patrón con arreglo al cual espera consumir los beneficios económicos futuros del activo. Los métodos posibles de depreciación incluyen el método lineal, el método de depreciación decreciente y los métodos basados en el uso, como por ejemplo el método de las unidades de producción.\n\nEn caso de que exista alguna indicación de que se ha producido un cambio significativo, desde la fecha del último informe anual. en el patrón con arreglo al cual una entidad espera consumir los beneficios económicos futuros de un activo, dicha entidad revisará su método de depreciación presente y, si las expectativas actuales son diferentes, cambiará el método de depreciación para reflejar el nuevo patrón.",885,{"$f":"OFFSET(Ref_Segmento,ROW(INDIRECT(IF(SUBSTITUTE(Comentarios[[#This Row],[RUTA]],\" \",\"\")=Comentarios[[#This Row],[RUTA]],Comentarios[[#This Row],[RUTA]],\"'\"&SUBSTITUTE(Comentarios[[#This Row],[RUTA]],\"!\",\"'!\"))))-1,0)","v":"Dep Acum P, P y E"},"Azul",{"$f":"LEFT(Comentarios[[#This Row],[Comentario]],254)","v":"Los párrafos 17.19 a 17.23 de la Sección 17 - Propiedades, planta y equipo (anexo 2 del Decreto 2483 de 2018), indican que, la entidad debe seleccionar un método de depreciación que refleje el patrón con arreglo al cual espera consumir los beneficios eco"},{"$f":"COUNTIF(Comentarios[Columna1],Comentarios[[#This Row],[Columna1]])","v":4}]
[{"$f":"SUBSTITUTE(SUBSTITUTE(FORMULATEXTO_Act(B34),\"=\",\"\"),\"'\",\"\")","v":" !$J$349"},{"$f":"' '!$J$349","v":"Deterioro "},"De acuerdo con el párrafo 27.5 de la Sección 27 - Deterioro del Valor de los Activos (Anexo 2 del Decreto 2483 de 2018), una entidad debe reducir el importe en libros del activo hasta su importe recuperable si, y solo si, el importe recuperable es inferior al importe en libros, pues esa reducción es una pérdida por deterioro del valor.\nAsimismo, el párrafo 27.7 de la misma sección, indica que, la entidad debe evaluar, en cada fecha de presentación, si existe algún indicio del deterioro del valor de algún activo. En caso de que existan indicios, la entidad debe estimar el importe recuperable del activo; si no existen indicios de deterioro del valor. no será necesario estimar el importe recuperable. \nAl evaluar si existe algún indicio de que pueda haberse deteriorado el valor de un activo, la entidad deberá considerar, como mínimo, los siguientes indicios: \n\nFuentes externas de información\n\n- Durante el periodo, el valor de mercado del activo ha disminuido significativamente más de lo que cabría esperar como consecuencia del paso del tiempo o de su uso normal.\n- Durante el periodo han tenido lugar, o van a tener lugar en un futuro inmediato, cambios significativos con un efecto adverso sobre la entidad, referentes al entorno legal, económico, tecnológico o de mercado en los que esta opera, o bien en el mercado al que está destinado el activo.\n- Durante el periodo, las tasas de interés de mercado, u otras tasas de mercado de rendimiento de inversiones, se han incrementado yesos incrementos van probablemente a afectar significativamente a la tasa de descuento utilizada para calcular el valor en uso de un activo y disminuyen su valor razonable menos costos de venta.\n- El importe en libros de los activos netos de la entidad es superior al valor razonable estimado de la entidad en conjunto (esta estimación se puede haber calculado, por ejemplo, para una venta potencial total o parcial de la entidad).\n\nFuentes internas de información\n\n- Se dispone de evidencia sobre la obsolescencia o deterioro físico de un activo.\n- Durante el periodo han tenido lugar, o se espera que tengan lugar en un futuro inmediato, cambios significativos en la forma en que se usa o se espera usar el activo, que afectarán desfavorablemente a la entidad. Estos cambios incluyen el hecho de que el activo esté ocioso, los planes de discontinuación o restructuración de la operación a la que pertenece el activo y los planes para disponer del activo antes de la fecha prevista.\n- Se dispone de evidencia procedente de informes internos, que indica que el rendimiento económico de un activo es, o va a ser, peor que el esperado. En este contexto, el rendimiento económico incluye los resultados de las operaciones y los flujos de efectivo. ",2740,{"$f":"OFFSET(Ref_Segmento,ROW(INDIRECT(IF(SUBSTITUTE(Comentarios[[#This Row],[RUTA]],\" \",\"\")=Comentarios[[#This Row],[RUTA]],Comentarios[[#This Row],[RUTA]],\"'\"&SUBSTITUTE(Comentarios[[#This Row],[RUTA]],\"!\",\"'!\"))))-1,0)","v":"Det Acum P, P y E"},"Azul",{"$f":"LEFT(Comentarios[[#This Row],[Comentario]],254)","v":"De acuerdo con el párrafo 27.5 de la Sección 27 - Deterioro del Valor de los Activos (Anexo 2 del Decreto 2483 de 2018), una entidad debe reducir el importe en libros del activo hasta su importe recuperable si, y solo si, el importe recuperable es inferi"},{"$f":"COUNTIF(Comentarios[Columna1],Comentarios[[#This Row],[Columna1]])","v":6}]
[{"$f":"SUBSTITUTE(SUBSTITUTE(FORMULATEXTO_Act(B35),\"=\",\"\"),\"'\",\"\")","v":" !$F$349"},{"$f":"' '!$F$349","v":"Valor \nRazonable"},"El párrafo 11.27 de la Sección 11 - Instrumentos Financieros Básicos (Anexo 2 del Decreto 2483 de 2018) indica que, el valor razonable de un activo se deberá estimar siguiendo la siguiente jerarquía:\n\n- La mejor evidencia del valor razonable es un precio cotizado para un activo idéntico (o un activo similar) en un mercado activo. Éste suele ser el precio comprador actual.\n- Cuando no están disponibles precios cotizados, el precio en un acuerdo de venta vinculante o en una transacción reciente para un activo idéntico (o activo similar) en condiciones de independencia mutua entre partes interesadas y debidamente informadas, proporciona evidencia del valor razonable. Sin embargo, este precio puede no ser una buena estimación del valor razonable si ha habido cambios significativos en las circunstancias económicas o un periodo de tiempo significativo entre la fecha del acuerdo de venta vinculante, o la transacción, y la fecha de medición. Si la entidad puede demostrar que el último precio de transacción no es un buen estimador del valor razonable (por ejemplo, porque refleja el importe que una entidad recibiría o pagaría en una transacción forzada, liquidación involuntaria o una venta urgente), después ese precio se ajusta.\n- Si el mercado para el activo no está activo y cualquier acuerdo de venta vinculante o las transacciones recientes de un activo idéntico (o un activo similar) por sí solas no constituyen una buena estimación del valor razonable, una entidad estimará el valor razonable utilizando otra técnica de valoración. El objetivo de utilizar una técnica de valoración es estimar el precio de transacción que se habría alcanzado en la fecha de medición en un intercambio entre partes que actúen en condiciones de independencia mutua, motivado por contraprestaciones normales del negocio. \n\nAdemás de lo anterior, pueden consultarse los párrafos 11.28 a 11.32 de la sección antes mencionada, para ampliar la información relacionada con la determinación del valor razonable de un activo. ",2015,{"$f":"OFFSET(Ref_Segmento,ROW(INDIRECT(IF(SUBSTITUTE(Comentarios[[#This Row],[RUTA]],\" \",\"\")=Comentarios[[#This Row],[RUTA]],Comentarios[[#This Row],[RUTA]],\"'\"&SUBSTITUTE(Comentarios[[#This Row],[RUTA]],\"!\",\"'!\"))))-1,0)","v":"Det Acum P, P y E"},"Azul",{"$f":"LEFT(Comentarios[[#This Row],[Comentario]],254)","v":"El párrafo 11.27 de la Sección 11 - Instrumentos Financieros Básicos (Anexo 2 del Decreto 2483 de 2018) indica que, el valor razonable de un activo se deberá estimar siguiendo la siguiente jerarquía:\n\n- La mejor evidencia del valor razonable es un precio"},{"$f":"COUNTIF(Comentarios[Columna1],Comentarios[[#This Row],[Columna1]])","v":6}]
[{"$f":"SUBSTITUTE(SUBSTITUTE(FORMULATEXTO_Act(B36),\"=\",\"\"),\"'\",\"\")","v":" !$I$349"},{"$f":"' '!$I$349","v":"Importe \nRecuperable"},"El párrafo 27.11 de la Sección 27 - Deterior del Valor de los Activos (Anexo 2 del Decreto 2483 de 2018) establece que, el importe recuperable de un activo o de una unidad generadora de efectivo es el mayor entre su valor razonable menos los costos de venta y su valor en uso. \n\nDebe tenerse en cuenta que, no siempre es necesario determinar el valor razonable del activo menos los costos de venta y su valor en uso.; esto porque, si cualquiera de esos importes excediera al importe en libros del activo, este no habría sufrido un deterioro de su valor y no sería necesario estimar el otro importe. Además, si no hubiese razón para creer que el valor en uso de un activo excede de forma significativa a su valor razonable menos los costos de venta, se considerará a este último como su importe recuperable. Este será, con frecuencia, el caso de un activo que se mantiene para su disposición. ",892,{"$f":"OFFSET(Ref_Segmento,ROW(INDIRECT(IF(SUBSTITUTE(Comentarios[[#This Row],[RUTA]],\" \",\"\")=Comentarios[[#This Row],[RUTA]],Comentarios[[#This Row],[RUTA]],\"'\"&SUBSTITUTE(Comentarios[[#This Row],[RUTA]],\"!\",\"'!\"))))-1,0)","v":"Det Acum P, P y E"},"Azul",{"$f":"LEFT(Comentarios[[#This Row],[Comentario]],254)","v":"El párrafo 27.11 de la Sección 27 - Deterior del Valor de los Activos (Anexo 2 del Decreto 2483 de 2018) establece que, el importe recuperable de un activo o de una unidad generadora de efectivo es el mayor entre su valor razonable menos los costos de ve"},{"$f":"COUNTIF(Comentarios[Columna1],Comentarios[[#This Row],[Columna1]])","v":6}]
[{"$f":"SUBSTITUTE(SUBSTITUTE(FORMULATEXTO_Act(B37),\"=\",\"\"),\"'\",\"\")","v":" !$H$349"},{"$f":"' '!$H$349","v":"Valor \nen Uso"},"La sección 27 - Deterioro del Valor de los Activos (Anexo 2 del Decreto 2483 de 2018) indica que, el valor en uso es el valor presente de los flujos futuros de efectivo que se espera obtener de un activo. El cálculo del valor presente involucra las siguientes fases:\n\n- Estimar las entradas y salidas futuras de efectivo derivadas de la utilización continuada del activo y de su disposición final; y  \n- Aplicar la tasa de descuento adecuada a estos flujos de efectivo futuros.\n\nEn el cálculo del valor en uso de un activo deben tenerse en cuenta los siguientes elementos: \n\n- Una estimación de los flujos de efectivo futuros que la entidad espera obtener del activo;\n- Las expectativas sobre posibles variaciones en el importe o en la distribución temporal de dichos flujos de efectivo futuros;\n- El valor del dinero en el tiempo, representado por la tasa de interés de mercado sin riesgo;\n- El precio por la presencia de incertidumbre inherente en el activo; y\n- Otros factores, tales como la iliquidez, que los participantes en el mercado reflejarían al poner precio a los flujos de efectivo futuros que la entidad espera que se deriven del activo.\n\nAdemás, al medir el valor en uso, las estimaciones de los flujos de efectivo futuros deberán  incluir:\n\n- Proyecciones de entradas de efectivo procedentes de la utilización continuada del activo;\n- Proyecciones de salidas de efectivo en las que sea necesario incurrir para generar las entradas de efectivo por la utilización continuada del activo (incluyendo, en su caso, los pagos que sean necesarios para preparar al activo para su utilización), y puedan ser atribuidas directamente, o distribuidas según una base razonable y uniforme a dicho activo; y\n- Flujos netos de efectivo que, si los hubiera, se espera recibir (o pagar) por la disposición del activo, al final de su vida útil, en una transacción realizada en condiciones de independencia mutua entre partes interesadas y debidamente informadas. ",1959,{"$f":"OFFSET(Ref_Segmento,ROW(INDIRECT(IF(SUBSTITUTE(Comentarios[[#This Row],[RUTA]],\" \",\"\")=Comentarios[[#This Row],[RUTA]],Comentarios[[#This Row],[RUTA]],\"'\"&SUBSTITUTE(Comentarios[[#This Row],[RUTA]],\"!\",\"'!\"))))-1,0)","v":"Det Acum P, P y E"},"Azul",{"$f":"LEFT(Comentarios[[#This Row],[Comentario]],254)","v":"La sección 27 - Deterioro del Valor de los Activos (Anexo 2 del Decreto 2483 de 2018) indica que, el valor en uso es el valor presente de los flujos futuros de efectivo que se espera obtener de un activo. El cálculo del valor presente involucra las sigui"},{"$f":"COUNTIF(Comentarios[Columna1],Comentarios[[#This Row],[Columna1]])","v":6}]
[{"$f":"SUBSTITUTE(SUBSTITUTE(FORMULATEXTO_Act(B38),\"=\",\"\"),\"'\",\"\")","v":" !$C$401"},{"$f":"' '!$C$401","v":"Amortización acumulada activos intangibles"},"De acuerdo con los artículo 74 y 143 del ET, los amortización de las plusvalías no es aceptada fiscalmente.",107,{"$f":"OFFSET(Ref_Segmento,ROW(INDIRECT(IF(SUBSTITUTE(Comentarios[[#This Row],[RUTA]],\" \",\"\")=Comentarios[[#This Row],[RUTA]],Comentarios[[#This Row],[RUTA]],\"'\"&SUBSTITUTE(Comentarios[[#This Row],[RUTA]],\"!\",\"'!\"))))-1,0)","v":"Activos Intangibles"},"Gris",{"$f":"LEFT(Comentarios[[#This Row],[Comentario]],254)","v":"De acuerdo con los artículo 74 y 143 del ET, los amortización de las plusvalías no es aceptada fiscalmente."},{"$f":"COUNTIF(Comentarios[Columna1],Comentarios[[#This Row],[Columna1]])","v":2}]
[{"$f":"SUBSTITUTE(SUBSTITUTE(FORMULATEXTO_Act(B39),\"=\",\"\"),\"'\",\"\")","v":" !$C$402"},{"$f":"' '!$C$402","v":"Deterioro acumulado activos intangibles"},"Los deterioros no son aceptados para efectos fiscales. De acuerdo con el párrafo 27.5 de la Sección 27 - Deterioro del Valor de los Activos (Anexo 2 del Decreto 2483 de 2018), una entidad debe reducir el importe en libros del activo hasta su importe recuperable si, y solo si, el importe recuperable es inferior al importe en libros, pues esa reducción es una pérdida por deterioro del valor.\n\nAsimismo, el párrafo 27.7 de la misma sección, indica que, la entidad debe evaluar, en cada fecha de presentación, si existe algún indicio del deterioro del valor de algún activo. En caso de que existan indicios, la entidad debe estimar el importe recuperable del activo; si no existen indicios de deterioro del valor. no será necesario estimar el importe recuperable.",762,{"$f":"OFFSET(Ref_Segmento,ROW(INDIRECT(IF(SUBSTITUTE(Comentarios[[#This Row],[RUTA]],\" \",\"\")=Comentarios[[#This Row],[RUTA]],Comentarios[[#This Row],[RUTA]],\"'\"&SUBSTITUTE(Comentarios[[#This Row],[RUTA]],\"!\",\"'!\"))))-1,0)","v":"Activos Intangibles"},"Gris",{"$f":"LEFT(Comentarios[[#This Row],[Comentario]],254)","v":"Los deterioros no son aceptados para efectos fiscales. De acuerdo con el párrafo 27.5 de la Sección 27 - Deterioro del Valor de los Activos (Anexo 2 del Decreto 2483 de 2018), una entidad debe reducir el importe en libros del activo hasta su importe recu"},{"$f":"COUNTIF(Comentarios[Columna1],Comentarios[[#This Row],[Columna1]])","v":14}]
[{"$f":"SUBSTITUTE(SUBSTITUTE(FORMULATEXTO_Act(B40),\"=\",\"\"),\"'\",\"\")","v":" !$N$408"},{"$f":"' '!$N$408","v":0},"- Si la respuesta a esta pregunta es \"Tasa amortización\", se mostrará la columna E, y se ocultará la columna F. \n\n- Si la respuesta a esta pregunta es \"Vida útil\", se mostrará la columna F y se ocultará la columna E.",216,{"$f":"OFFSET(Ref_Segmento,ROW(INDIRECT(IF(SUBSTITUTE(Comentarios[[#This Row],[RUTA]],\" \",\"\")=Comentarios[[#This Row],[RUTA]],Comentarios[[#This Row],[RUTA]],\"'\"&SUBSTITUTE(Comentarios[[#This Row],[RUTA]],\"!\",\"'!\"))))-1,0)","v":"Amort Acum Act Intang"},null,{"$f":"LEFT(Comentarios[[#This Row],[Comentario]],254)","v":"- Si la respuesta a esta pregunta es \"Tasa amortización\", se mostrará la columna E, y se ocultará la columna F. \n\n- Si la respuesta a esta pregunta es \"Vida útil\", se mostrará la columna F y se ocultará la columna E."},{"$f":"COUNTIF(Comentarios[Columna1],Comentarios[[#This Row],[Columna1]])","v":1}]
[{"$f":"SUBSTITUTE(SUBSTITUTE(FORMULATEXTO_Act(B41),\"=\",\"\"),\"'\",\"\")","v":" !$J$409"},{"$f":"' '!$J$409","v":"Amortización Fiscal"},"El artículo 143 del ET establece la base para el cálculo de amortización de los activos intangibles será su costo, determinado según lo señalado en el artículo 74 del ET. Además, el método para la amortización del intangible será determinado de acuerdo con la técnica contable, siempre y cuando la alícuota anual no sea superior del 20%, del costo fiscal.\n\nLa norma también señala que, los gastos por amortización no deducibles porque exceden el límite del 20%, en el año o periodo gravable, generarán una diferencia que será deducible en los periodos siguientes al término de la vida útil del activo intangible, sin exceder el 20% del costo fiscal del activo por año o periodo gravable.",687,{"$f":"OFFSET(Ref_Segmento,ROW(INDIRECT(IF(SUBSTITUTE(Comentarios[[#This Row],[RUTA]],\" \",\"\")=Comentarios[[#This Row],[RUTA]],Comentarios[[#This Row],[RUTA]],\"'\"&SUBSTITUTE(Comentarios[[#This Row],[RUTA]],\"!\",\"'!\"))))-1,0)","v":"Amort Acum Act Intang"},"Azul",{"$f":"LEFT(Comentarios[[#This Row],[Comentario]],254)","v":"El artículo 143 del ET establece la base para el cálculo de amortización de los activos intangibles será su costo, determinado según lo señalado en el artículo 74 del ET. Además, el método para la amortización del intangible será determinado de acuerdo c"},{"$f":"COUNTIF(Comentarios[Columna1],Comentarios[[#This Row],[Columna1]])","v":1}]
[{"$f":"SUBSTITUTE(SUBSTITUTE(FORMULATEXTO_Act(B42),\"=\",\"\"),\"'\",\"\")","v":" !$E$409"},{"$f":"' '!$E$409","v":"Amortización Contable "},"Los párrafos 18.19, 18.20 y 18.22 de la Sección 18 de la NIIF para Pymes - Activos Intangibles distintos de la Plusvalía (Anexo 2 del Decreto 2483 de 2018), indican que, los activos intangibles tienen una vida útil finita. La vida útil de un activo intangible que surja de un derecho contractual o legal de otro tipo no excederá el periodo de esos derechos pero puede ser inferior, dependiendo del periodo a lo largo del cual la entidad espera utilizar el activo. Si el derecho contractual o legal de otro tipo se hubiera fijado por un plazo limitado que puede ser renovado, la vida útil del activo intangible solo incluirá el periodo o periodos de renovación cuando exista evidencia que respalde la renovación por parte de la entidad sin un costo significativo. Asimismo, si la vida útil de un activo intangible no puede establecerse con fiabilidad se determinará sobre la base de la mejor estimación de la gerencia y no excederá de diez años. \nAdicionalmente, la norma señala que, la amortización comenzará cuando el activo intangible esté disponible para su utilización, es decir, cuando se encuentre en la ubicación y condiciones necesarias para que se pueda usar de la forma prevista por la gerencia. La amortización cesa cuando el activo se da de baja en cuentas. La entidad elegirá un método de amortización que refleje el patrón esperado de consumo de los beneficios económicos futuros derivados del activo. Si la entidad no puede determinar ese patrón de forma fiable, utilizará el método lineal de amortización. ",1522,{"$f":"OFFSET(Ref_Segmento,ROW(INDIRECT(IF(SUBSTITUTE(Comentarios[[#This Row],[RUTA]],\" \",\"\")=Comentarios[[#This Row],[RUTA]],Comentarios[[#This Row],[RUTA]],\"'\"&SUBSTITUTE(Comentarios[[#This Row],[RUTA]],\"!\",\"'!\"))))-1,0)","v":"Amort Acum Act Intang"},"Azul",{"$f":"LEFT(Comentarios[[#This Row],[Comentario]],254)","v":"Los párrafos 18.19, 18.20 y 18.22 de la Sección 18 de la NIIF para Pymes - Activos Intangibles distintos de la Plusvalía (Anexo 2 del Decreto 2483 de 2018), indican que, los activos intangibles tienen una vida útil finita. La vida útil de un activo intan"},{"$f":"COUNTIF(Comentarios[Columna1],Comentarios[[#This Row],[Columna1]])","v":1}]
[{"$f":"SUBSTITUTE(SUBSTITUTE(FORMULATEXTO_Act(B43),\"=\",\"\"),\"'\",\"\")","v":" !$J$419"},{"$f":"' '!$J$419","v":"Deterioro "},"De acuerdo con el párrafo 27.5 de la Sección 27 - Deterioro del Valor de los Activos (Anexo 2 del Decreto 2483 de 2018), una entidad debe reducir el importe en libros del activo hasta su importe recuperable si, y solo si, el importe recuperable es inferior al importe en libros, pues esa reducción es una pérdida por deterioro del valor.\nAsimismo, el párrafo 27.7 de la misma sección, indica que, la entidad debe evaluar, en cada fecha de presentación, si existe algún indicio del deterioro del valor de algún activo. En caso de que existan indicios, la entidad debe estimar el importe recuperable del activo; si no existen indicios de deterioro del valor. no será necesario estimar el importe recuperable. \nAl evaluar si existe algún indicio de que pueda haberse deteriorado el valor de un activo, la entidad deberá considerar, como mínimo, los siguientes indicios: \n\nFuentes externas de información\n\n- Durante el periodo, el valor de mercado del activo ha disminuido significativamente más de lo que cabría esperar como consecuencia del paso del tiempo o de su uso normal.\n- Durante el periodo han tenido lugar, o van a tener lugar en un futuro inmediato, cambios significativos con un efecto adverso sobre la entidad, referentes al entorno legal, económico, tecnológico o de mercado en los que esta opera, o bien en el mercado al que está destinado el activo.\n- Durante el periodo, las tasas de interés de mercado, u otras tasas de mercado de rendimiento de inversiones, se han incrementado yesos incrementos van probablemente a afectar significativamente a la tasa de descuento utilizada para calcular el valor en uso de un activo y disminuyen su valor razonable menos costos de venta.\n- El importe en libros de los activos netos de la entidad es superior al valor razonable estimado de la entidad en conjunto (esta estimación se puede haber calculado, por ejemplo, para una venta potencial total o parcial de la entidad).\n\nFuentes internas de información\n\n- Se dispone de evidencia sobre la obsolescencia o deterioro físico de un activo.\n- Durante el periodo han tenido lugar, o se espera que tengan lugar en un futuro inmediato, cambios significativos en la forma en que se usa o se espera usar el activo, que afectarán desfavorablemente a la entidad. Estos cambios incluyen el hecho de que el activo esté ocioso, los planes de discontinuación o restructuración de la operación a la que pertenece el activo y los planes para disponer del activo antes de la fecha prevista.\n- Se dispone de evidencia procedente de informes internos, que indica que el rendimiento económico de un activo es, o va a ser, peor que el esperado. En este contexto, el rendimiento económico incluye los resultados de las operaciones y los flujos de efectivo. ",2740,{"$f":"OFFSET(Ref_Segmento,ROW(INDIRECT(IF(SUBSTITUTE(Comentarios[[#This Row],[RUTA]],\" \",\"\")=Comentarios[[#This Row],[RUTA]],Comentarios[[#This Row],[RUTA]],\"'\"&SUBSTITUTE(Comentarios[[#This Row],[RUTA]],\"!\",\"'!\"))))-1,0)","v":"Det Acum Act Intang"},"Azul",{"$f":"LEFT(Comentarios[[#This Row],[Comentario]],254)","v":"De acuerdo con el párrafo 27.5 de la Sección 27 - Deterioro del Valor de los Activos (Anexo 2 del Decreto 2483 de 2018), una entidad debe reducir el importe en libros del activo hasta su importe recuperable si, y solo si, el importe recuperable es inferi"},{"$f":"COUNTIF(Comentarios[Columna1],Comentarios[[#This Row],[Columna1]])","v":6}]
[{"$f":"SUBSTITUTE(SUBSTITUTE(FORMULATEXTO_Act(B44),\"=\",\"\"),\"'\",\"\")","v":" !$C$417"},{"$f":"' '!$C$417","v":"Deterioro de Activos Intangibles"},"De acuerdo con párrafo 18.18 de la Sección 18 - Activos Intangibles distintos de la Plusvalía (Anexo 2 del Decreto 2483 de 2018), el deterioro de los activos intangibles se determina siguiendo los lineamientos establecidos en la Sección 27 - Deterioro del valor de los Activos. ",278,{"$f":"OFFSET(Ref_Segmento,ROW(INDIRECT(IF(SUBSTITUTE(Comentarios[[#This Row],[RUTA]],\" \",\"\")=Comentarios[[#This Row],[RUTA]],Comentarios[[#This Row],[RUTA]],\"'\"&SUBSTITUTE(Comentarios[[#This Row],[RUTA]],\"!\",\"'!\"))))-1,0)","v":"Det Acum Act Intang"},"Gris",{"$f":"LEFT(Comentarios[[#This Row],[Comentario]],254)","v":"De acuerdo con párrafo 18.18 de la Sección 18 - Activos Intangibles distintos de la Plusvalía (Anexo 2 del Decreto 2483 de 2018), el deterioro de los activos intangibles se determina siguiendo los lineamientos establecidos en la Sección 27 - Deterioro de"},{"$f":"COUNTIF(Comentarios[Columna1],Comentarios[[#This Row],[Columna1]])","v":1}]
[{"$f":"SUBSTITUTE(SUBSTITUTE(FORMULATEXTO_Act(B45),\"=\",\"\"),\"'\",\"\")","v":" !$F$419"},{"$f":"' '!$F$419","v":"Valor \nRazonable"},"El párrafo 11.27 de la Sección 11 - Instrumentos Financieros Básicos (Anexo 2 del Decreto 2483 de 2018) indica que, el valor razonable de un activo se deberá estimar siguiendo la siguiente jerarquía:\n\n- La mejor evidencia del valor razonable es un precio cotizado para un activo idéntico (o un activo similar) en un mercado activo. Éste suele ser el precio comprador actual.\n- Cuando no están disponibles precios cotizados, el precio en un acuerdo de venta vinculante o en una transacción reciente para un activo idéntico (o activo similar) en condiciones de independencia mutua entre partes interesadas y debidamente informadas, proporciona evidencia del valor razonable. Sin embargo, este precio puede no ser una buena estimación del valor razonable si ha habido cambios significativos en las circunstancias económicas o un periodo de tiempo significativo entre la fecha del acuerdo de venta vinculante, o la transacción, y la fecha de medición. Si la entidad puede demostrar que el último precio de transacción no es un buen estimador del valor razonable (por ejemplo, porque refleja el importe que una entidad recibiría o pagaría en una transacción forzada, liquidación involuntaria o una venta urgente), después ese precio se ajusta.\n- Si el mercado para el activo no está activo y cualquier acuerdo de venta vinculante o las transacciones recientes de un activo idéntico (o un activo similar) por sí solas no constituyen una buena estimación del valor razonable, una entidad estimará el valor razonable utilizando otra técnica de valoración. El objetivo de utilizar una técnica de valoración es estimar el precio de transacción que se habría alcanzado en la fecha de medición en un intercambio entre partes que actúen en condiciones de independencia mutua, motivado por contraprestaciones normales del negocio. \n\nAdemás de lo anterior, pueden consultarse los párrafos 11.28 a 11.32 de la sección antes mencionada, para ampliar la información relacionada con la determinación del valor razonable de un activo. ",2015,{"$f":"OFFSET(Ref_Segmento,ROW(INDIRECT(IF(SUBSTITUTE(Comentarios[[#This Row],[RUTA]],\" \",\"\")=Comentarios[[#This Row],[RUTA]],Comentarios[[#This Row],[RUTA]],\"'\"&SUBSTITUTE(Comentarios[[#This Row],[RUTA]],\"!\",\"'!\"))))-1,0)","v":"Det Acum Act Intang"},"Azul",{"$f":"LEFT(Comentarios[[#This Row],[Comentario]],254)","v":"El párrafo 11.27 de la Sección 11 - Instrumentos Financieros Básicos (Anexo 2 del Decreto 2483 de 2018) indica que, el valor razonable de un activo se deberá estimar siguiendo la siguiente jerarquía:\n\n- La mejor evidencia del valor razonable es un precio"},{"$f":"COUNTIF(Comentarios[Columna1],Comentarios[[#This Row],[Columna1]])","v":6}]
[{"$f":"SUBSTITUTE(SUBSTITUTE(FORMULATEXTO_Act(B46),\"=\",\"\"),\"'\",\"\")","v":" !$I$419"},{"$f":"' '!$I$419","v":"Importe \nRecuperable"},"El párrafo 27.11 de la Sección 27 - Deterior del Valor de los Activos (Anexo 2 del Decreto 2483 de 2018) establece que, el importe recuperable de un activo o de una unidad generadora de efectivo es el mayor entre su valor razonable menos los costos de venta y su valor en uso. \n\nDebe tenerse en cuenta que, no siempre es necesario determinar el valor razonable del activo menos los costos de venta y su valor en uso.; esto porque, si cualquiera de esos importes excediera al importe en libros del activo, este no habría sufrido un deterioro de su valor y no sería necesario estimar el otro importe. Además, si no hubiese razón para creer que el valor en uso de un activo excede de forma significativa a su valor razonable menos los costos de venta, se considerará a este último como su importe recuperable. Este será, con frecuencia, el caso de un activo que se mantiene para su disposición. ",892,{"$f":"OFFSET(Ref_Segmento,ROW(INDIRECT(IF(SUBSTITUTE(Comentarios[[#This Row],[RUTA]],\" \",\"\")=Comentarios[[#This Row],[RUTA]],Comentarios[[#This Row],[RUTA]],\"'\"&SUBSTITUTE(Comentarios[[#This Row],[RUTA]],\"!\",\"'!\"))))-1,0)","v":"Det Acum Act Intang"},"Azul",{"$f":"LEFT(Comentarios[[#This Row],[Comentario]],254)","v":"El párrafo 27.11 de la Sección 27 - Deterior del Valor de los Activos (Anexo 2 del Decreto 2483 de 2018) establece que, el importe recuperable de un activo o de una unidad generadora de efectivo es el mayor entre su valor razonable menos los costos de ve"},{"$f":"COUNTIF(Comentarios[Columna1],Comentarios[[#This Row],[Columna1]])","v":6}]
[{"$f":"SUBSTITUTE(SUBSTITUTE(FORMULATEXTO_Act(B47),\"=\",\"\"),\"'\",\"\")","v":" !$H$419"},{"$f":"' '!$H$419","v":"Valor \nen Uso"},"La sección 27 - Deterioro del Valor de los Activos (Anexo 2 del Decreto 2483 de 2018) indica que, el valor en uso es el valor presente de los flujos futuros de efectivo que se espera obtener de un activo. El cálculo del valor presente involucra las siguientes fases:\n\n- Estimar las entradas y salidas futuras de efectivo derivadas de la utilización continuada del activo y de su disposición final; y  \n- Aplicar la tasa de descuento adecuada a estos flujos de efectivo futuros.\n\nEn el cálculo del valor en uso de un activo deben tenerse en cuenta los siguientes elementos: \n\n- Una estimación de los flujos de efectivo futuros que la entidad espera obtener del activo;\n- Las expectativas sobre posibles variaciones en el importe o en la distribución temporal de dichos flujos de efectivo futuros;\n- El valor del dinero en el tiempo, representado por la tasa de interés de mercado sin riesgo;\n- El precio por la presencia de incertidumbre inherente en el activo; y\n- Otros factores, tales como la iliquidez, que los participantes en el mercado reflejarían al poner precio a los flujos de efectivo futuros que la entidad espera que se deriven del activo.\n\nAdemás, al medir el valor en uso, las estimaciones de los flujos de efectivo futuros deberán  incluir:\n\n- Proyecciones de entradas de efectivo procedentes de la utilización continuada del activo;\n- Proyecciones de salidas de efectivo en las que sea necesario incurrir para generar las entradas de efectivo por la utilización continuada del activo (incluyendo, en su caso, los pagos que sean necesarios para preparar al activo para su utilización), y puedan ser atribuidas directamente, o distribuidas según una base razonable y uniforme a dicho activo; y\n- Flujos netos de efectivo que, si los hubiera, se espera recibir (o pagar) por la disposición del activo, al final de su vida útil, en una transacción realizada en condiciones de independencia mutua entre partes interesadas y debidamente informadas. ",1959,{"$f":"OFFSET(Ref_Segmento,ROW(INDIRECT(IF(SUBSTITUTE(Comentarios[[#This Row],[RUTA]],\" \",\"\")=Comentarios[[#This Row],[RUTA]],Comentarios[[#This Row],[RUTA]],\"'\"&SUBSTITUTE(Comentarios[[#This Row],[RUTA]],\"!\",\"'!\"))))-1,0)","v":"Det Acum Act Intang"},"Azul",{"$f":"LEFT(Comentarios[[#This Row],[Comentario]],254)","v":"La sección 27 - Deterioro del Valor de los Activos (Anexo 2 del Decreto 2483 de 2018) indica que, el valor en uso es el valor presente de los flujos futuros de efectivo que se espera obtener de un activo. El cálculo del valor presente involucra las sigui"},{"$f":"COUNTIF(Comentarios[Columna1],Comentarios[[#This Row],[Columna1]])","v":6}]
[{"$f":"SUBSTITUTE(SUBSTITUTE(FORMULATEXTO_Act(B48),\"=\",\"\"),\"'\",\"\")","v":" !$C$448"},{"$f":"' '!$C$448","v":"Deterioro acumulado propiedades de inversión "},"Los deterioros no son aceptados para efectos fiscales. De acuerdo con el párrafo 27.5 de la Sección 27 - Deterioro del Valor de los Activos (Anexo 2 del Decreto 2483 de 2018), una entidad debe reducir el importe en libros del activo hasta su importe recuperable si, y solo si, el importe recuperable es inferior al importe en libros, pues esa reducción es una pérdida por deterioro del valor.\n\nAsimismo, el párrafo 27.7 de la misma sección, indica que, la entidad debe evaluar, en cada fecha de presentación, si existe algún indicio del deterioro del valor de algún activo. En caso de que existan indicios, la entidad debe estimar el importe recuperable del activo; si no existen indicios de deterioro del valor. no será necesario estimar el importe recuperable.",762,{"$f":"OFFSET(Ref_Segmento,ROW(INDIRECT(IF(SUBSTITUTE(Comentarios[[#This Row],[RUTA]],\" \",\"\")=Comentarios[[#This Row],[RUTA]],Comentarios[[#This Row],[RUTA]],\"'\"&SUBSTITUTE(Comentarios[[#This Row],[RUTA]],\"!\",\"'!\"))))-1,0)","v":"Prop de Inversión"},"Gris",{"$f":"LEFT(Comentarios[[#This Row],[Comentario]],254)","v":"Los deterioros no son aceptados para efectos fiscales. De acuerdo con el párrafo 27.5 de la Sección 27 - Deterioro del Valor de los Activos (Anexo 2 del Decreto 2483 de 2018), una entidad debe reducir el importe en libros del activo hasta su importe recu"},{"$f":"COUNTIF(Comentarios[Columna1],Comentarios[[#This Row],[Columna1]])","v":14}]
[{"$f":"SUBSTITUTE(SUBSTITUTE(FORMULATEXTO_Act(B49),\"=\",\"\"),\"'\",\"\")","v":" !$Q$454"},{"$f":"' '!$Q$454","v":{"v":0,"d":"0%"}},"- Si la respuesta a esta pregunta es \"Lineal\", se deberá mostrar la columna F y ocultar las columnas G, H e I. \n\n- Si la respuesta a esta pregunta es \"Decreciente\", se deberá mostrar la columna G, y ocultar las columnas G, H e I. \n\n- Si la respuesta a esta pregunta es \"Basado en el uso\", se deberán mostrar las columnas H e I, y ocultar las columnas F y G. ",358,{"$f":"OFFSET(Ref_Segmento,ROW(INDIRECT(IF(SUBSTITUTE(Comentarios[[#This Row],[RUTA]],\" \",\"\")=Comentarios[[#This Row],[RUTA]],Comentarios[[#This Row],[RUTA]],\"'\"&SUBSTITUTE(Comentarios[[#This Row],[RUTA]],\"!\",\"'!\"))))-1,0)","v":"Dep Acum Prop Inver"},null,{"$f":"LEFT(Comentarios[[#This Row],[Comentario]],254)","v":"- Si la respuesta a esta pregunta es \"Lineal\", se deberá mostrar la columna F y ocultar las columnas G, H e I. \n\n- Si la respuesta a esta pregunta es \"Decreciente\", se deberá mostrar la columna G, y ocultar las columnas G, H e I. \n\n- Si la respuesta a es"},{"$f":"COUNTIF(Comentarios[Columna1],Comentarios[[#This Row],[Columna1]])","v":3}]
[{"$f":"SUBSTITUTE(SUBSTITUTE(FORMULATEXTO_Act(B50),\"=\",\"\"),\"'\",\"\")","v":" !$M$455"},{"$f":"' '!$M$455","v":"Depreciación Fiscal"},"El artículo 137 del ET establece las tasas máximas de depreciación aceptadas para efectos fiscales, las cuales oscilan entre el 2,22% y el 33%. \n\nLa norma también indica que, para efectos fiscales, la vida útil es el periodo durante el cual se espera que el activo brinde beneficios económicos futuros al contribuyente; por lo cual la tasa de depreciación fiscal no necesariamente coincidirá con la tasa de depreciación contable. La vida útil de los activos depreciables deberá estar soportada para efectos fiscales por medio de, entre otros, estudios técnicos, manuales de uso e informes. También son admisibles para soportar la vida útil de los activos documentos probatorios elaborados por un experto en la materia.\n\nEn caso de que el contribuyente realice la depreciación de un elemento de la propiedad, planta y equipo por componentes principales de conformidad con la técnica contable, la deducción por depreciación para efectos fiscales no podrá ser superior a la depreciación o alícuota permitida en la norma tributaria, para el elemento de propiedad, planta y equipo en su totalidad.\n \nLas deducciones por depreciación no deducibles porque exceden los límites establecidos en la norma tributaria, en el año o periodo gravable, generarán una diferencia que será deducible en los periodos siguientes al término de la vida útil del activo.",1345,{"$f":"OFFSET(Ref_Segmento,ROW(INDIRECT(IF(SUBSTITUTE(Comentarios[[#This Row],[RUTA]],\" \",\"\")=Comentarios[[#This Row],[RUTA]],Comentarios[[#This Row],[RUTA]],\"'\"&SUBSTITUTE(Comentarios[[#This Row],[RUTA]],\"!\",\"'!\"))))-1,0)","v":"Dep Acum Prop Inver"},"Azul",{"$f":"LEFT(Comentarios[[#This Row],[Comentario]],254)","v":"El artículo 137 del ET establece las tasas máximas de depreciación aceptadas para efectos fiscales, las cuales oscilan entre el 2,22% y el 33%. \n\nLa norma también indica que, para efectos fiscales, la vida útil es el periodo durante el cual se espera que"},{"$f":"COUNTIF(Comentarios[Columna1],Comentarios[[#This Row],[Columna1]])","v":2}]
[{"$f":"SUBSTITUTE(SUBSTITUTE(FORMULATEXTO_Act(B51),\"=\",\"\"),\"'\",\"\")","v":" !$F$455"},{"$f":"' '!$F$455","v":"Depreciación Contable "},"La norma establece que, la entidad debe seleccionar un método de depreciación que refleje el patrón con arreglo al cual espera consumir los beneficios económicos futuros del activo. Los métodos posibles de depreciación incluyen el método lineal, el método de depreciación decreciente y los métodos basados en el uso, como por ejemplo el método de las unidades de producción.\n\nEn caso de que exista alguna indicación de que se ha producido un cambio significativo, desde la fecha del último informe anual. en el patrón con arreglo al cual una entidad espera consumir los beneficios económicos futuros de un activo, dicha entidad revisará su método de depreciación presente y, si las expectativas actuales son diferentes, cambiará el método de depreciación para reflejar el nuevo patrón.",785,{"$f":"OFFSET(Ref_Segmento,ROW(INDIRECT(IF(SUBSTITUTE(Comentarios[[#This Row],[RUTA]],\" \",\"\")=Comentarios[[#This Row],[RUTA]],Comentarios[[#This Row],[RUTA]],\"'\"&SUBSTITUTE(Comentarios[[#This Row],[RUTA]],\"!\",\"'!\"))))-1,0)","v":"Dep Acum Prop Inver"},"Azul",{"$f":"LEFT(Comentarios[[#This Row],[Comentario]],254)","v":"La norma establece que, la entidad debe seleccionar un método de depreciación que refleje el patrón con arreglo al cual espera consumir los beneficios económicos futuros del activo. Los métodos posibles de depreciación incluyen el método lineal, el métod"},{"$f":"COUNTIF(Comentarios[Columna1],Comentarios[[#This Row],[Columna1]])","v":2}]
[{"$f":"SUBSTITUTE(SUBSTITUTE(FORMULATEXTO_Act(B52),\"=\",\"\"),\"'\",\"\")","v":" !$O$456"},{"$f":"' '!$O$456","v":"Tasa de \ndepreciación \nfiscal"},"Las tasas de depreciación máximas aceptadas fiscalmente, se encuentran establecidas en el artículo 137 del ET.",110,{"$f":"OFFSET(Ref_Segmento,ROW(INDIRECT(IF(SUBSTITUTE(Comentarios[[#This Row],[RUTA]],\" \",\"\")=Comentarios[[#This Row],[RUTA]],Comentarios[[#This Row],[RUTA]],\"'\"&SUBSTITUTE(Comentarios[[#This Row],[RUTA]],\"!\",\"'!\"))))-1,0)","v":"Dep Acum Prop Inver"},"Azul",{"$f":"LEFT(Comentarios[[#This Row],[Comentario]],254)","v":"Las tasas de depreciación máximas aceptadas fiscalmente, se encuentran establecidas en el artículo 137 del ET."},{"$f":"COUNTIF(Comentarios[Columna1],Comentarios[[#This Row],[Columna1]])","v":3}]
[{"$f":"SUBSTITUTE(SUBSTITUTE(FORMULATEXTO_Act(B53),\"=\",\"\"),\"'\",\"\")","v":" !$J$465"},{"$f":"' '!$J$465","v":"Deterioro "},"De acuerdo con el párrafo 27.5 de la Sección 27 - Deterioro del Valor de los Activos (Anexo 2 del Decreto 2483 de 2018), una entidad debe reducir el importe en libros del activo hasta su importe recuperable si, y solo si, el importe recuperable es inferior al importe en libros, pues esa reducción es una pérdida por deterioro del valor.\nAsimismo, el párrafo 27.7 de la misma sección, indica que, la entidad debe evaluar, en cada fecha de presentación, si existe algún indicio del deterioro del valor de algún activo. En caso de que existan indicios, la entidad debe estimar el importe recuperable del activo; si no existen indicios de deterioro del valor. no será necesario estimar el importe recuperable. \nAl evaluar si existe algún indicio de que pueda haberse deteriorado el valor de un activo, la entidad deberá considerar, como mínimo, los siguientes indicios: \n\nFuentes externas de información\n\n- Durante el periodo, el valor de mercado del activo ha disminuido significativamente más de lo que cabría esperar como consecuencia del paso del tiempo o de su uso normal.\n- Durante el periodo han tenido lugar, o van a tener lugar en un futuro inmediato, cambios significativos con un efecto adverso sobre la entidad, referentes al entorno legal, económico, tecnológico o de mercado en los que esta opera, o bien en el mercado al que está destinado el activo.\n- Durante el periodo, las tasas de interés de mercado, u otras tasas de mercado de rendimiento de inversiones, se han incrementado yesos incrementos van probablemente a afectar significativamente a la tasa de descuento utilizada para calcular el valor en uso de un activo y disminuyen su valor razonable menos costos de venta.\n- El importe en libros de los activos netos de la entidad es superior al valor razonable estimado de la entidad en conjunto (esta estimación se puede haber calculado, por ejemplo, para una venta potencial total o parcial de la entidad).\n\nFuentes internas de información\n\n- Se dispone de evidencia sobre la obsolescencia o deterioro físico de un activo.\n- Durante el periodo han tenido lugar, o se espera que tengan lugar en un futuro inmediato, cambios significativos en la forma en que se usa o se espera usar el activo, que afectarán desfavorablemente a la entidad. Estos cambios incluyen el hecho de que el activo esté ocioso, los planes de discontinuación o restructuración de la operación a la que pertenece el activo y los planes para disponer del activo antes de la fecha prevista.\n- Se dispone de evidencia procedente de informes internos, que indica que el rendimiento económico de un activo es, o va a ser, peor que el esperado. En este contexto, el rendimiento económico incluye los resultados de las operaciones y los flujos de efectivo. ",2740,{"$f":"OFFSET(Ref_Segmento,ROW(INDIRECT(IF(SUBSTITUTE(Comentarios[[#This Row],[RUTA]],\" \",\"\")=Comentarios[[#This Row],[RUTA]],Comentarios[[#This Row],[RUTA]],\"'\"&SUBSTITUTE(Comentarios[[#This Row],[RUTA]],\"!\",\"'!\"))))-1,0)","v":"Det Acum Prop Inver"},"Azul",{"$f":"LEFT(Comentarios[[#This Row],[Comentario]],254)","v":"De acuerdo con el párrafo 27.5 de la Sección 27 - Deterioro del Valor de los Activos (Anexo 2 del Decreto 2483 de 2018), una entidad debe reducir el importe en libros del activo hasta su importe recuperable si, y solo si, el importe recuperable es inferi"},{"$f":"COUNTIF(Comentarios[Columna1],Comentarios[[#This Row],[Columna1]])","v":6}]
[{"$f":"SUBSTITUTE(SUBSTITUTE(FORMULATEXTO_Act(B54),\"=\",\"\"),\"'\",\"\")","v":" !$F$465"},{"$f":"' '!$F$465","v":"Valor \nRazonable"},"El párrafo 11.27 de la Sección 11 - Instrumentos Financieros Básicos (Anexo 2 del Decreto 2483 de 2018) indica que, el valor razonable de un activo se deberá estimar siguiendo la siguiente jerarquía:\n\n- La mejor evidencia del valor razonable es un precio cotizado para un activo idéntico (o un activo similar) en un mercado activo. Éste suele ser el precio comprador actual.\n- Cuando no están disponibles precios cotizados, el precio en un acuerdo de venta vinculante o en una transacción reciente para un activo idéntico (o activo similar) en condiciones de independencia mutua entre partes interesadas y debidamente informadas, proporciona evidencia del valor razonable. Sin embargo, este precio puede no ser una buena estimación del valor razonable si ha habido cambios significativos en las circunstancias económicas o un periodo de tiempo significativo entre la fecha del acuerdo de venta vinculante, o la transacción, y la fecha de medición. Si la entidad puede demostrar que el último precio de transacción no es un buen estimador del valor razonable (por ejemplo, porque refleja el importe que una entidad recibiría o pagaría en una transacción forzada, liquidación involuntaria o una venta urgente), después ese precio se ajusta.\n- Si el mercado para el activo no está activo y cualquier acuerdo de venta vinculante o las transacciones recientes de un activo idéntico (o un activo similar) por sí solas no constituyen una buena estimación del valor razonable, una entidad estimará el valor razonable utilizando otra técnica de valoración. El objetivo de utilizar una técnica de valoración es estimar el precio de transacción que se habría alcanzado en la fecha de medición en un intercambio entre partes que actúen en condiciones de independencia mutua, motivado por contraprestaciones normales del negocio. \n\nAdemás de lo anterior, pueden consultarse los párrafos 11.28 a 11.32 de la sección antes mencionada, para ampliar la información relacionada con la determinación del valor razonable de un activo. ",2015,{"$f":"OFFSET(Ref_Segmento,ROW(INDIRECT(IF(SUBSTITUTE(Comentarios[[#This Row],[RUTA]],\" \",\"\")=Comentarios[[#This Row],[RUTA]],Comentarios[[#This Row],[RUTA]],\"'\"&SUBSTITUTE(Comentarios[[#This Row],[RUTA]],\"!\",\"'!\"))))-1,0)","v":"Det Acum Prop Inver"},"Azul",{"$f":"LEFT(Comentarios[[#This Row],[Comentario]],254)","v":"El párrafo 11.27 de la Sección 11 - Instrumentos Financieros Básicos (Anexo 2 del Decreto 2483 de 2018) indica que, el valor razonable de un activo se deberá estimar siguiendo la siguiente jerarquía:\n\n- La mejor evidencia del valor razonable es un precio"},{"$f":"COUNTIF(Comentarios[Columna1],Comentarios[[#This Row],[Columna1]])","v":6}]
[{"$f":"SUBSTITUTE(SUBSTITUTE(FORMULATEXTO_Act(B55),\"=\",\"\"),\"'\",\"\")","v":" !$I$465"},{"$f":"' '!$I$465","v":"Importe \nRecuperable"},"El párrafo 27.11 de la Sección 27 - Deterior del Valor de los Activos (Anexo 2 del Decreto 2483 de 2018) establece que, el importe recuperable de un activo o de una unidad generadora de efectivo es el mayor entre su valor razonable menos los costos de venta y su valor en uso. \n\nDebe tenerse en cuenta que, no siempre es necesario determinar el valor razonable del activo menos los costos de venta y su valor en uso.; esto porque, si cualquiera de esos importes excediera al importe en libros del activo, este no habría sufrido un deterioro de su valor y no sería necesario estimar el otro importe. Además, si no hubiese razón para creer que el valor en uso de un activo excede de forma significativa a su valor razonable menos los costos de venta, se considerará a este último como su importe recuperable. Este será, con frecuencia, el caso de un activo que se mantiene para su disposición. ",892,{"$f":"OFFSET(Ref_Segmento,ROW(INDIRECT(IF(SUBSTITUTE(Comentarios[[#This Row],[RUTA]],\" \",\"\")=Comentarios[[#This Row],[RUTA]],Comentarios[[#This Row],[RUTA]],\"'\"&SUBSTITUTE(Comentarios[[#This Row],[RUTA]],\"!\",\"'!\"))))-1,0)","v":"Det Acum Prop Inver"},"Azul",{"$f":"LEFT(Comentarios[[#This Row],[Comentario]],254)","v":"El párrafo 27.11 de la Sección 27 - Deterior del Valor de los Activos (Anexo 2 del Decreto 2483 de 2018) establece que, el importe recuperable de un activo o de una unidad generadora de efectivo es el mayor entre su valor razonable menos los costos de ve"},{"$f":"COUNTIF(Comentarios[Columna1],Comentarios[[#This Row],[Columna1]])","v":6}]
[{"$f":"SUBSTITUTE(SUBSTITUTE(FORMULATEXTO_Act(B56),\"=\",\"\"),\"'\",\"\")","v":" !$H$465"},{"$f":"' '!$H$465","v":"Valor \nen Uso"},"La sección 27 - Deterioro del Valor de los Activos (Anexo 2 del Decreto 2483 de 2018) indica que, el valor en uso es el valor presente de los flujos futuros de efectivo que se espera obtener de un activo. El cálculo del valor presente involucra las siguientes fases:\n\n- Estimar las entradas y salidas futuras de efectivo derivadas de la utilización continuada del activo y de su disposición final; y  \n- Aplicar la tasa de descuento adecuada a estos flujos de efectivo futuros.\n\nEn el cálculo del valor en uso de un activo deben tenerse en cuenta los siguientes elementos: \n\n- Una estimación de los flujos de efectivo futuros que la entidad espera obtener del activo;\n- Las expectativas sobre posibles variaciones en el importe o en la distribución temporal de dichos flujos de efectivo futuros;\n- El valor del dinero en el tiempo, representado por la tasa de interés de mercado sin riesgo;\n- El precio por la presencia de incertidumbre inherente en el activo; y\n- Otros factores, tales como la iliquidez, que los participantes en el mercado reflejarían al poner precio a los flujos de efectivo futuros que la entidad espera que se deriven del activo.\n\nAdemás, al medir el valor en uso, las estimaciones de los flujos de efectivo futuros deberán  incluir:\n\n- Proyecciones de entradas de efectivo procedentes de la utilización continuada del activo;\n- Proyecciones de salidas de efectivo en las que sea necesario incurrir para generar las entradas de efectivo por la utilización continuada del activo (incluyendo, en su caso, los pagos que sean necesarios para preparar al activo para su utilización), y puedan ser atribuidas directamente, o distribuidas según una base razonable y uniforme a dicho activo; y\n- Flujos netos de efectivo que, si los hubiera, se espera recibir (o pagar) por la disposición del activo, al final de su vida útil, en una transacción realizada en condiciones de independencia mutua entre partes interesadas y debidamente informadas. ",1959,{"$f":"OFFSET(Ref_Segmento,ROW(INDIRECT(IF(SUBSTITUTE(Comentarios[[#This Row],[RUTA]],\" \",\"\")=Comentarios[[#This Row],[RUTA]],Comentarios[[#This Row],[RUTA]],\"'\"&SUBSTITUTE(Comentarios[[#This Row],[RUTA]],\"!\",\"'!\"))))-1,0)","v":"Det Acum Prop Inver"},"Azul",{"$f":"LEFT(Comentarios[[#This Row],[Comentario]],254)","v":"La sección 27 - Deterioro del Valor de los Activos (Anexo 2 del Decreto 2483 de 2018) indica que, el valor en uso es el valor presente de los flujos futuros de efectivo que se espera obtener de un activo. El cálculo del valor presente involucra las sigui"},{"$f":"COUNTIF(Comentarios[Columna1],Comentarios[[#This Row],[Columna1]])","v":6}]
[{"$f":"SUBSTITUTE(SUBSTITUTE(FORMULATEXTO_Act(B57),\"=\",\"\"),\"'\",\"\")","v":" !$C$478"},{"$f":"' '!$C$478","v":"Animales productores medidos al valor \nrazonable menos costos de venta"},"El parágrafo 6 de artículo 21-1 del ET señala que, para efectos fiscales, las mediciones que se efectúen a valor presente o valor razonable de acuerdo con los marcos técnicos normativos contables, deben reconocerse al costo, precio de adquisición o valor nominal, siempre y cuando no exista un tratamiento diferente en el estatuto. Por lo tanto, las diferencias que resulten del sistema de medición contable y fiscal no tendrán efectos en el impuesto sobre la renta hasta que la transacción se realice mediante la transferencia económica del activo o la extinción del pasivo, según corresponda (ver también: numeral 5 del artículo 28 del ET; numeral 4 del artículo 33 del ET; literal c del numeral artículo 59 del ET; numeral 4 del artículo 93 del ET; artículo 94 del ET; literal b del numeral 1 del artículo 105 del ET). ",822,{"$f":"OFFSET(Ref_Segmento,ROW(INDIRECT(IF(SUBSTITUTE(Comentarios[[#This Row],[RUTA]],\" \",\"\")=Comentarios[[#This Row],[RUTA]],Comentarios[[#This Row],[RUTA]],\"'\"&SUBSTITUTE(Comentarios[[#This Row],[RUTA]],\"!\",\"'!\"))))-1,0)","v":"Activos Biológicos"},"Gris",{"$f":"LEFT(Comentarios[[#This Row],[Comentario]],254)","v":"El parágrafo 6 de artículo 21-1 del ET señala que, para efectos fiscales, las mediciones que se efectúen a valor presente o valor razonable de acuerdo con los marcos técnicos normativos contables, deben reconocerse al costo, precio de adquisición o valor"},{"$f":"COUNTIF(Comentarios[Columna1],Comentarios[[#This Row],[Columna1]])","v":16}]
[{"$f":"SUBSTITUTE(SUBSTITUTE(FORMULATEXTO_Act(B58),\"=\",\"\"),\"'\",\"\")","v":" !$C$484"},{"$f":"' '!$C$484","v":"Animales consumibles medidos al valor \nrazonable menos costos de venta"},"El parágrafo 6 de artículo 21-1 del ET señala que, para efectos fiscales, las mediciones que se efectúen a valor presente o valor razonable de acuerdo con los marcos técnicos normativos contables, deben reconocerse al costo, precio de adquisición o valor nominal, siempre y cuando no exista un tratamiento diferente en el estatuto. Por lo tanto, las diferencias que resulten del sistema de medición contable y fiscal no tendrán efectos en el impuesto sobre la renta hasta que la transacción se realice mediante la transferencia económica del activo o la extinción del pasivo, según corresponda (ver también: numeral 5 del artículo 28 del ET; numeral 4 del artículo 33 del ET; literal c del numeral artículo 59 del ET; numeral 4 del artículo 93 del ET; artículo 94 del ET; literal b del numeral 1 del artículo 105 del ET). ",822,{"$f":"OFFSET(Ref_Segmento,ROW(INDIRECT(IF(SUBSTITUTE(Comentarios[[#This Row],[RUTA]],\" \",\"\")=Comentarios[[#This Row],[RUTA]],Comentarios[[#This Row],[RUTA]],\"'\"&SUBSTITUTE(Comentarios[[#This Row],[RUTA]],\"!\",\"'!\"))))-1,0)","v":"Activos Biológicos"},"Gris",{"$f":"LEFT(Comentarios[[#This Row],[Comentario]],254)","v":"El parágrafo 6 de artículo 21-1 del ET señala que, para efectos fiscales, las mediciones que se efectúen a valor presente o valor razonable de acuerdo con los marcos técnicos normativos contables, deben reconocerse al costo, precio de adquisición o valor"},{"$f":"COUNTIF(Comentarios[Columna1],Comentarios[[#This Row],[Columna1]])","v":16}]
[{"$f":"SUBSTITUTE(SUBSTITUTE(FORMULATEXTO_Act(B59),\"=\",\"\"),\"'\",\"\")","v":" !$C$490"},{"$f":"' '!$C$490","v":"Plantas productoras medidas al valor \nrazonable"},"El parágrafo 6 de artículo 21-1 del ET señala que, para efectos fiscales, las mediciones que se efectúen a valor presente o valor razonable de acuerdo con los marcos técnicos normativos contables, deben reconocerse al costo, precio de adquisición o valor nominal, siempre y cuando no exista un tratamiento diferente en el estatuto. Por lo tanto, las diferencias que resulten del sistema de medición contable y fiscal no tendrán efectos en el impuesto sobre la renta hasta que la transacción se realice mediante la transferencia económica del activo o la extinción del pasivo, según corresponda (ver también: numeral 5 del artículo 28 del ET; numeral 4 del artículo 33 del ET; literal c del numeral artículo 59 del ET; numeral 4 del artículo 93 del ET; artículo 94 del ET; literal b del numeral 1 del artículo 105 del ET). ",822,{"$f":"OFFSET(Ref_Segmento,ROW(INDIRECT(IF(SUBSTITUTE(Comentarios[[#This Row],[RUTA]],\" \",\"\")=Comentarios[[#This Row],[RUTA]],Comentarios[[#This Row],[RUTA]],\"'\"&SUBSTITUTE(Comentarios[[#This Row],[RUTA]],\"!\",\"'!\"))))-1,0)","v":"Activos Biológicos"},"Gris",{"$f":"LEFT(Comentarios[[#This Row],[Comentario]],254)","v":"El parágrafo 6 de artículo 21-1 del ET señala que, para efectos fiscales, las mediciones que se efectúen a valor presente o valor razonable de acuerdo con los marcos técnicos normativos contables, deben reconocerse al costo, precio de adquisición o valor"},{"$f":"COUNTIF(Comentarios[Columna1],Comentarios[[#This Row],[Columna1]])","v":16}]
[{"$f":"SUBSTITUTE(SUBSTITUTE(FORMULATEXTO_Act(B60),\"=\",\"\"),\"'\",\"\")","v":" !$C$496"},{"$f":"' '!$C$496","v":"Cultivos consumibles medidos al valor \nrazonable menos costos de venta"},"El parágrafo 6 de artículo 21-1 del ET señala que, para efectos fiscales, las mediciones que se efectúen a valor presente o valor razonable de acuerdo con los marcos técnicos normativos contables, deben reconocerse al costo, precio de adquisición o valor nominal, siempre y cuando no exista un tratamiento diferente en el estatuto. Por lo tanto, las diferencias que resulten del sistema de medición contable y fiscal no tendrán efectos en el impuesto sobre la renta hasta que la transacción se realice mediante la transferencia económica del activo o la extinción del pasivo, según corresponda (ver también: numeral 5 del artículo 28 del ET; numeral 4 del artículo 33 del ET; literal c del numeral artículo 59 del ET; numeral 4 del artículo 93 del ET; artículo 94 del ET; literal b del numeral 1 del artículo 105 del ET). ",822,{"$f":"OFFSET(Ref_Segmento,ROW(INDIRECT(IF(SUBSTITUTE(Comentarios[[#This Row],[RUTA]],\" \",\"\")=Comentarios[[#This Row],[RUTA]],Comentarios[[#This Row],[RUTA]],\"'\"&SUBSTITUTE(Comentarios[[#This Row],[RUTA]],\"!\",\"'!\"))))-1,0)","v":"Activos Biológicos"},"Gris",{"$f":"LEFT(Comentarios[[#This Row],[Comentario]],254)","v":"El parágrafo 6 de artículo 21-1 del ET señala que, para efectos fiscales, las mediciones que se efectúen a valor presente o valor razonable de acuerdo con los marcos técnicos normativos contables, deben reconocerse al costo, precio de adquisición o valor"},{"$f":"COUNTIF(Comentarios[Columna1],Comentarios[[#This Row],[Columna1]])","v":16}]
[{"$f":"SUBSTITUTE(SUBSTITUTE(FORMULATEXTO_Act(B61),\"=\",\"\"),\"'\",\"\")","v":" !$C$506"},{"$f":"' '!$C$506","v":"Deterioro acumulado activos biológicos"},"Los deterioros no son aceptados para efectos fiscales. De acuerdo con el párrafo 27.5 de la Sección 27 - Deterioro del Valor de los Activos (Anexo 2 del Decreto 2483 de 2018), una entidad debe reducir el importe en libros del activo hasta su importe recuperable si, y solo si, el importe recuperable es inferior al importe en libros, pues esa reducción es una pérdida por deterioro del valor.\n\nAsimismo, el párrafo 27.7 de la misma sección, indica que, la entidad debe evaluar, en cada fecha de presentación, si existe algún indicio del deterioro del valor de algún activo. En caso de que existan indicios, la entidad debe estimar el importe recuperable del activo; si no existen indicios de deterioro del valor. no será necesario estimar el importe recuperable.",762,{"$f":"OFFSET(Ref_Segmento,ROW(INDIRECT(IF(SUBSTITUTE(Comentarios[[#This Row],[RUTA]],\" \",\"\")=Comentarios[[#This Row],[RUTA]],Comentarios[[#This Row],[RUTA]],\"'\"&SUBSTITUTE(Comentarios[[#This Row],[RUTA]],\"!\",\"'!\"))))-1,0)","v":"Activos Biológicos"},"Gris",{"$f":"LEFT(Comentarios[[#This Row],[Comentario]],254)","v":"Los deterioros no son aceptados para efectos fiscales. De acuerdo con el párrafo 27.5 de la Sección 27 - Deterioro del Valor de los Activos (Anexo 2 del Decreto 2483 de 2018), una entidad debe reducir el importe en libros del activo hasta su importe recu"},{"$f":"COUNTIF(Comentarios[Columna1],Comentarios[[#This Row],[Columna1]])","v":14}]
[{"$f":"SUBSTITUTE(SUBSTITUTE(FORMULATEXTO_Act(B62),\"=\",\"\"),\"'\",\"\")","v":" !$P$512"},{"$f":"' '!$P$512","v":{"v":0,"d":"0%"}},"- Si la respuesta a esta pregunta es \"Lineal\", se deberá mostrar la columna F y ocultar las columnas G, H e I. \n\n- Si la respuesta a esta pregunta es \"Decreciente\", se deberá mostrar la columna G, y ocultar las columnas G, H e I. \n\n- Si la respuesta a esta pregunta es \"Basado en el uso\", se deberán mostrar las columnas H e I, y ocultar las columnas F y G. ",358,{"$f":"OFFSET(Ref_Segmento,ROW(INDIRECT(IF(SUBSTITUTE(Comentarios[[#This Row],[RUTA]],\" \",\"\")=Comentarios[[#This Row],[RUTA]],Comentarios[[#This Row],[RUTA]],\"'\"&SUBSTITUTE(Comentarios[[#This Row],[RUTA]],\"!\",\"'!\"))))-1,0)","v":"Dep Acum Act Biol"},null,{"$f":"LEFT(Comentarios[[#This Row],[Comentario]],254)","v":"- Si la respuesta a esta pregunta es \"Lineal\", se deberá mostrar la columna F y ocultar las columnas G, H e I. \n\n- Si la respuesta a esta pregunta es \"Decreciente\", se deberá mostrar la columna G, y ocultar las columnas G, H e I. \n\n- Si la respuesta a es"},{"$f":"COUNTIF(Comentarios[Columna1],Comentarios[[#This Row],[Columna1]])","v":3}]
[{"$f":"SUBSTITUTE(SUBSTITUTE(FORMULATEXTO_Act(B63),\"=\",\"\"),\"'\",\"\")","v":" !$L$513"},{"$f":"' '!$L$513","v":"Depreciación Fiscal"},"El artículo 137 del ET establece las tasas máximas de depreciación aceptadas para efectos fiscales, las cuales oscilan entre el 2,22% y el 33%. La norma también indica que, para efectos fiscales, la vida útil es el periodo durante el cual se espera que el activo brinde beneficios económicos futuros al contribuyente; por lo cual la tasa de depreciación fiscal no necesariamente coincidirá con la tasa de depreciación contable. La vida útil de los activos depreciables deberá estar soportada para efectos fiscales por medio de, entre otros, estudios técnicos, manuales de uso e informes. También son admisibles para soportar la vida útil de los activos documentos probatorios elaborados por un experto en la materia.\n\nEn caso de que el contribuyente realice la depreciación de un elemento de la propiedad, planta y equipo por componentes principales de conformidad con la técnica contable, la deducción por depreciación para efectos fiscales no podrá ser superior a la depreciación o alícuota permitida en la norma tributaria, para el elemento de propiedad, planta y equipo en su totalidad.\n \nLas deducciones por depreciación no deducibles porque exceden los límites establecidos en la norma tributaria, en el año o periodo gravable, generarán una diferencia que será deducible en los periodos siguientes al término de la vida útil del activo.",1343,{"$f":"OFFSET(Ref_Segmento,ROW(INDIRECT(IF(SUBSTITUTE(Comentarios[[#This Row],[RUTA]],\" \",\"\")=Comentarios[[#This Row],[RUTA]],Comentarios[[#This Row],[RUTA]],\"'\"&SUBSTITUTE(Comentarios[[#This Row],[RUTA]],\"!\",\"'!\"))))-1,0)","v":"Dep Acum Act Biol"},"Azul",{"$f":"LEFT(Comentarios[[#This Row],[Comentario]],254)","v":"El artículo 137 del ET establece las tasas máximas de depreciación aceptadas para efectos fiscales, las cuales oscilan entre el 2,22% y el 33%. La norma también indica que, para efectos fiscales, la vida útil es el periodo durante el cual se espera que e"},{"$f":"COUNTIF(Comentarios[Columna1],Comentarios[[#This Row],[Columna1]])","v":1}]
[{"$f":"SUBSTITUTE(SUBSTITUTE(FORMULATEXTO_Act(B64),\"=\",\"\"),\"'\",\"\")","v":" !$E$513"},{"$f":"' '!$E$513","v":"Depreciación Contable "},"La norma establece que, la entidad debe seleccionar un método de depreciación que refleje el patrón con arreglo al cual espera consumir los beneficios económicos futuros del activo. Los métodos posibles de depreciación incluyen el método lineal, el método de depreciación decreciente y los métodos basados en el uso, como por ejemplo el método de las unidades de producción.\n\nEn caso de que exista alguna indicación de que se ha producido un cambio significativo, desde la fecha del último informe anual. en el patrón con arreglo al cual una entidad espera consumir los beneficios económicos futuros de un activo, dicha entidad revisará su método de depreciación presente y, si las expectativas actuales son diferentes, cambiará el método de depreciación para reflejar el nuevo patrón.",785,{"$f":"OFFSET(Ref_Segmento,ROW(INDIRECT(IF(SUBSTITUTE(Comentarios[[#This Row],[RUTA]],\" \",\"\")=Comentarios[[#This Row],[RUTA]],Comentarios[[#This Row],[RUTA]],\"'\"&SUBSTITUTE(Comentarios[[#This Row],[RUTA]],\"!\",\"'!\"))))-1,0)","v":"Dep Acum Act Biol"},"Azul",{"$f":"LEFT(Comentarios[[#This Row],[Comentario]],254)","v":"La norma establece que, la entidad debe seleccionar un método de depreciación que refleje el patrón con arreglo al cual espera consumir los beneficios económicos futuros del activo. Los métodos posibles de depreciación incluyen el método lineal, el métod"},{"$f":"COUNTIF(Comentarios[Columna1],Comentarios[[#This Row],[Columna1]])","v":2}]
[{"$f":"SUBSTITUTE(SUBSTITUTE(FORMULATEXTO_Act(B65),\"=\",\"\"),\"'\",\"\")","v":" !$N$514"},{"$f":"' '!$N$514","v":"Tasa de \ndepreciación \nfiscal"},"Las tasas de depreciación máximas aceptadas fiscalmente, se encuentran establecidas en el artículo 137 del ET.",110,{"$f":"OFFSET(Ref_Segmento,ROW(INDIRECT(IF(SUBSTITUTE(Comentarios[[#This Row],[RUTA]],\" \",\"\")=Comentarios[[#This Row],[RUTA]],Comentarios[[#This Row],[RUTA]],\"'\"&SUBSTITUTE(Comentarios[[#This Row],[RUTA]],\"!\",\"'!\"))))-1,0)","v":"Dep Acum Act Biol"},"Azul",{"$f":"LEFT(Comentarios[[#This Row],[Comentario]],254)","v":"Las tasas de depreciación máximas aceptadas fiscalmente, se encuentran establecidas en el artículo 137 del ET."},{"$f":"COUNTIF(Comentarios[Columna1],Comentarios[[#This Row],[Columna1]])","v":3}]
[{"$f":"SUBSTITUTE(SUBSTITUTE(FORMULATEXTO_Act(B66),\"=\",\"\"),\"'\",\"\")","v":" !$J$523"},{"$f":"' '!$J$523","v":"Deterioro "},"De acuerdo con el párrafo 27.5 de la Sección 27 - Deterioro del Valor de los Activos (Anexo 2 del Decreto 2483 de 2018), una entidad debe reducir el importe en libros del activo hasta su importe recuperable si, y solo si, el importe recuperable es inferior al importe en libros, pues esa reducción es una pérdida por deterioro del valor.\nAsimismo, el párrafo 27.7 de la misma sección, indica que, la entidad debe evaluar, en cada fecha de presentación, si existe algún indicio del deterioro del valor de algún activo. En caso de que existan indicios, la entidad debe estimar el importe recuperable del activo; si no existen indicios de deterioro del valor. no será necesario estimar el importe recuperable. \nAl evaluar si existe algún indicio de que pueda haberse deteriorado el valor de un activo, la entidad deberá considerar, como mínimo, los siguientes indicios: \n\nFuentes externas de información\n\n- Durante el periodo, el valor de mercado del activo ha disminuido significativamente más de lo que cabría esperar como consecuencia del paso del tiempo o de su uso normal.\n- Durante el periodo han tenido lugar, o van a tener lugar en un futuro inmediato, cambios significativos con un efecto adverso sobre la entidad, referentes al entorno legal, económico, tecnológico o de mercado en los que esta opera, o bien en el mercado al que está destinado el activo.\n- Durante el periodo, las tasas de interés de mercado, u otras tasas de mercado de rendimiento de inversiones, se han incrementado yesos incrementos van probablemente a afectar significativamente a la tasa de descuento utilizada para calcular el valor en uso de un activo y disminuyen su valor razonable menos costos de venta.\n- El importe en libros de los activos netos de la entidad es superior al valor razonable estimado de la entidad en conjunto (esta estimación se puede haber calculado, por ejemplo, para una venta potencial total o parcial de la entidad).\n\nFuentes internas de información\n\n- Se dispone de evidencia sobre la obsolescencia o deterioro físico de un activo.\n- Durante el periodo han tenido lugar, o se espera que tengan lugar en un futuro inmediato, cambios significativos en la forma en que se usa o se espera usar el activo, que afectarán desfavorablemente a la entidad. Estos cambios incluyen el hecho de que el activo esté ocioso, los planes de discontinuación o restructuración de la operación a la que pertenece el activo y los planes para disponer del activo antes de la fecha prevista.\n- Se dispone de evidencia procedente de informes internos, que indica que el rendimiento económico de un activo es, o va a ser, peor que el esperado. En este contexto, el rendimiento económico incluye los resultados de las operaciones y los flujos de efectivo. ",2740,{"$f":"OFFSET(Ref_Segmento,ROW(INDIRECT(IF(SUBSTITUTE(Comentarios[[#This Row],[RUTA]],\" \",\"\")=Comentarios[[#This Row],[RUTA]],Comentarios[[#This Row],[RUTA]],\"'\"&SUBSTITUTE(Comentarios[[#This Row],[RUTA]],\"!\",\"'!\"))))-1,0)","v":"Det Acum Act Biol"},"Azul",{"$f":"LEFT(Comentarios[[#This Row],[Comentario]],254)","v":"De acuerdo con el párrafo 27.5 de la Sección 27 - Deterioro del Valor de los Activos (Anexo 2 del Decreto 2483 de 2018), una entidad debe reducir el importe en libros del activo hasta su importe recuperable si, y solo si, el importe recuperable es inferi"},{"$f":"COUNTIF(Comentarios[Columna1],Comentarios[[#This Row],[Columna1]])","v":6}]
[{"$f":"SUBSTITUTE(SUBSTITUTE(FORMULATEXTO_Act(B67),\"=\",\"\"),\"'\",\"\")","v":" !$F$523"},{"$f":"' '!$F$523","v":"Valor \nRazonable"},"El párrafo 11.27 de la Sección 11 - Instrumentos Financieros Básicos (Anexo 2 del Decreto 2483 de 2018) indica que, el valor razonable de un activo se deberá estimar siguiendo la siguiente jerarquía:\n\n- La mejor evidencia del valor razonable es un precio cotizado para un activo idéntico (o un activo similar) en un mercado activo. Éste suele ser el precio comprador actual.\n- Cuando no están disponibles precios cotizados, el precio en un acuerdo de venta vinculante o en una transacción reciente para un activo idéntico (o activo similar) en condiciones de independencia mutua entre partes interesadas y debidamente informadas, proporciona evidencia del valor razonable. Sin embargo, este precio puede no ser una buena estimación del valor razonable si ha habido cambios significativos en las circunstancias económicas o un periodo de tiempo significativo entre la fecha del acuerdo de venta vinculante, o la transacción, y la fecha de medición. Si la entidad puede demostrar que el último precio de transacción no es un buen estimador del valor razonable (por ejemplo, porque refleja el importe que una entidad recibiría o pagaría en una transacción forzada, liquidación involuntaria o una venta urgente), después ese precio se ajusta.\n- Si el mercado para el activo no está activo y cualquier acuerdo de venta vinculante o las transacciones recientes de un activo idéntico (o un activo similar) por sí solas no constituyen una buena estimación del valor razonable, una entidad estimará el valor razonable utilizando otra técnica de valoración. El objetivo de utilizar una técnica de valoración es estimar el precio de transacción que se habría alcanzado en la fecha de medición en un intercambio entre partes que actúen en condiciones de independencia mutua, motivado por contraprestaciones normales del negocio. \n\nAdemás de lo anterior, pueden consultarse los párrafos 11.28 a 11.32 de la sección antes mencionada, para ampliar la información relacionada con la determinación del valor razonable de un activo. ",2015,{"$f":"OFFSET(Ref_Segmento,ROW(INDIRECT(IF(SUBSTITUTE(Comentarios[[#This Row],[RUTA]],\" \",\"\")=Comentarios[[#This Row],[RUTA]],Comentarios[[#This Row],[RUTA]],\"'\"&SUBSTITUTE(Comentarios[[#This Row],[RUTA]],\"!\",\"'!\"))))-1,0)","v":"Det Acum Act Biol"},"Azul",{"$f":"LEFT(Comentarios[[#This Row],[Comentario]],254)","v":"El párrafo 11.27 de la Sección 11 - Instrumentos Financieros Básicos (Anexo 2 del Decreto 2483 de 2018) indica que, el valor razonable de un activo se deberá estimar siguiendo la siguiente jerarquía:\n\n- La mejor evidencia del valor razonable es un precio"},{"$f":"COUNTIF(Comentarios[Columna1],Comentarios[[#This Row],[Columna1]])","v":6}]
[{"$f":"SUBSTITUTE(SUBSTITUTE(FORMULATEXTO_Act(B68),\"=\",\"\"),\"'\",\"\")","v":" !$I$523"},{"$f":"' '!$I$523","v":"Importe \nRecuperable"},"El párrafo 27.11 de la Sección 27 - Deterior del Valor de los Activos (Anexo 2 del Decreto 2483 de 2018) establece que, el importe recuperable de un activo o de una unidad generadora de efectivo es el mayor entre su valor razonable menos los costos de venta y su valor en uso. \n\nDebe tenerse en cuenta que, no siempre es necesario determinar el valor razonable del activo menos los costos de venta y su valor en uso.; esto porque, si cualquiera de esos importes excediera al importe en libros del activo, este no habría sufrido un deterioro de su valor y no sería necesario estimar el otro importe. Además, si no hubiese razón para creer que el valor en uso de un activo excede de forma significativa a su valor razonable menos los costos de venta, se considerará a este último como su importe recuperable. Este será, con frecuencia, el caso de un activo que se mantiene para su disposición. ",892,{"$f":"OFFSET(Ref_Segmento,ROW(INDIRECT(IF(SUBSTITUTE(Comentarios[[#This Row],[RUTA]],\" \",\"\")=Comentarios[[#This Row],[RUTA]],Comentarios[[#This Row],[RUTA]],\"'\"&SUBSTITUTE(Comentarios[[#This Row],[RUTA]],\"!\",\"'!\"))))-1,0)","v":"Det Acum Act Biol"},"Azul",{"$f":"LEFT(Comentarios[[#This Row],[Comentario]],254)","v":"El párrafo 27.11 de la Sección 27 - Deterior del Valor de los Activos (Anexo 2 del Decreto 2483 de 2018) establece que, el importe recuperable de un activo o de una unidad generadora de efectivo es el mayor entre su valor razonable menos los costos de ve"},{"$f":"COUNTIF(Comentarios[Columna1],Comentarios[[#This Row],[Columna1]])","v":6}]
[{"$f":"SUBSTITUTE(SUBSTITUTE(FORMULATEXTO_Act(B69),\"=\",\"\"),\"'\",\"\")","v":" !$H$523"},{"$f":"' '!$H$523","v":"Valor \nen Uso"},"La sección 27 - Deterioro del Valor de los Activos (Anexo 2 del Decreto 2483 de 2018) indica que, el valor en uso es el valor presente de los flujos futuros de efectivo que se espera obtener de un activo. El cálculo del valor presente involucra las siguientes fases:\n\n- Estimar las entradas y salidas futuras de efectivo derivadas de la utilización continuada del activo y de su disposición final; y  \n- Aplicar la tasa de descuento adecuada a estos flujos de efectivo futuros.\n\nEn el cálculo del valor en uso de un activo deben tenerse en cuenta los siguientes elementos: \n\n- Una estimación de los flujos de efectivo futuros que la entidad espera obtener del activo;\n- Las expectativas sobre posibles variaciones en el importe o en la distribución temporal de dichos flujos de efectivo futuros;\n- El valor del dinero en el tiempo, representado por la tasa de interés de mercado sin riesgo;\n- El precio por la presencia de incertidumbre inherente en el activo; y\n- Otros factores, tales como la iliquidez, que los participantes en el mercado reflejarían al poner precio a los flujos de efectivo futuros que la entidad espera que se deriven del activo.\n\nAdemás, al medir el valor en uso, las estimaciones de los flujos de efectivo futuros deberán  incluir:\n\n- Proyecciones de entradas de efectivo procedentes de la utilización continuada del activo;\n- Proyecciones de salidas de efectivo en las que sea necesario incurrir para generar las entradas de efectivo por la utilización continuada del activo (incluyendo, en su caso, los pagos que sean necesarios para preparar al activo para su utilización), y puedan ser atribuidas directamente, o distribuidas según una base razonable y uniforme a dicho activo; y\n- Flujos netos de efectivo que, si los hubiera, se espera recibir (o pagar) por la disposición del activo, al final de su vida útil, en una transacción realizada en condiciones de independencia mutua entre partes interesadas y debidamente informadas. ",1959,{"$f":"OFFSET(Ref_Segmento,ROW(INDIRECT(IF(SUBSTITUTE(Comentarios[[#This Row],[RUTA]],\" \",\"\")=Comentarios[[#This Row],[RUTA]],Comentarios[[#This Row],[RUTA]],\"'\"&SUBSTITUTE(Comentarios[[#This Row],[RUTA]],\"!\",\"'!\"))))-1,0)","v":"Det Acum Act Biol"},"Azul",{"$f":"LEFT(Comentarios[[#This Row],[Comentario]],254)","v":"La sección 27 - Deterioro del Valor de los Activos (Anexo 2 del Decreto 2483 de 2018) indica que, el valor en uso es el valor presente de los flujos futuros de efectivo que se espera obtener de un activo. El cálculo del valor presente involucra las sigui"},{"$f":"COUNTIF(Comentarios[Columna1],Comentarios[[#This Row],[Columna1]])","v":6}]
[{"$f":"SUBSTITUTE(SUBSTITUTE(FORMULATEXTO_Act(B70),\"=\",\"\"),\"'\",\"\")","v":" !$C$545"},{"$f":"' '!$C$545","v":"Deterioro acumulado activos no corrientes mantenidos para la venta y/o para distribuir \na propietarios "},"Los deterioros no son aceptados para efectos fiscales. De acuerdo con el párrafo 27.5 de la Sección 27 - Deterioro del Valor de los Activos (Anexo 2 del Decreto 2483 de 2018), una entidad debe reducir el importe en libros del activo hasta su importe recuperable si, y solo si, el importe recuperable es inferior al importe en libros, pues esa reducción es una pérdida por deterioro del valor.\n\nAsimismo, el párrafo 27.7 de la misma sección, indica que, la entidad debe evaluar, en cada fecha de presentación, si existe algún indicio del deterioro del valor de algún activo. En caso de que existan indicios, la entidad debe estimar el importe recuperable del activo; si no existen indicios de deterioro del valor. no será necesario estimar el importe recuperable.\n",763,{"$f":"OFFSET(Ref_Segmento,ROW(INDIRECT(IF(SUBSTITUTE(Comentarios[[#This Row],[RUTA]],\" \",\"\")=Comentarios[[#This Row],[RUTA]],Comentarios[[#This Row],[RUTA]],\"'\"&SUBSTITUTE(Comentarios[[#This Row],[RUTA]],\"!\",\"'!\"))))-1,0)","v":"Act N Corr Mant Vent"},"Gris",{"$f":"LEFT(Comentarios[[#This Row],[Comentario]],254)","v":"Los deterioros no son aceptados para efectos fiscales. De acuerdo con el párrafo 27.5 de la Sección 27 - Deterioro del Valor de los Activos (Anexo 2 del Decreto 2483 de 2018), una entidad debe reducir el importe en libros del activo hasta su importe recu"},{"$f":"COUNTIF(Comentarios[Columna1],Comentarios[[#This Row],[Columna1]])","v":14}]
[{"$f":"SUBSTITUTE(SUBSTITUTE(FORMULATEXTO_Act(B71),\"=\",\"\"),\"'\",\"\")","v":" !$J$552"},{"$f":"' '!$J$552","v":"Deterioro "},"De acuerdo con el párrafo 27.5 de la Sección 27 - Deterioro del Valor de los Activos (Anexo 2 del Decreto 2483 de 2018), una entidad debe reducir el importe en libros del activo hasta su importe recuperable si, y solo si, el importe recuperable es inferior al importe en libros, pues esa reducción es una pérdida por deterioro del valor.\nAsimismo, el párrafo 27.7 de la misma sección, indica que, la entidad debe evaluar, en cada fecha de presentación, si existe algún indicio del deterioro del valor de algún activo. En caso de que existan indicios, la entidad debe estimar el importe recuperable del activo; si no existen indicios de deterioro del valor. no será necesario estimar el importe recuperable. \nAl evaluar si existe algún indicio de que pueda haberse deteriorado el valor de un activo, la entidad deberá considerar, como mínimo, los siguientes indicios: \n\nFuentes externas de información\n\n- Durante el periodo, el valor de mercado del activo ha disminuido significativamente más de lo que cabría esperar como consecuencia del paso del tiempo o de su uso normal.\n- Durante el periodo han tenido lugar, o van a tener lugar en un futuro inmediato, cambios significativos con un efecto adverso sobre la entidad, referentes al entorno legal, económico, tecnológico o de mercado en los que esta opera, o bien en el mercado al que está destinado el activo.\n- Durante el periodo, las tasas de interés de mercado, u otras tasas de mercado de rendimiento de inversiones, se han incrementado yesos incrementos van probablemente a afectar significativamente a la tasa de descuento utilizada para calcular el valor en uso de un activo y disminuyen su valor razonable menos costos de venta.\n- El importe en libros de los activos netos de la entidad es superior al valor razonable estimado de la entidad en conjunto (esta estimación se puede haber calculado, por ejemplo, para una venta potencial total o parcial de la entidad).\n\nFuentes internas de información\n\n- Se dispone de evidencia sobre la obsolescencia o deterioro físico de un activo.\n- Durante el periodo han tenido lugar, o se espera que tengan lugar en un futuro inmediato, cambios significativos en la forma en que se usa o se espera usar el activo, que afectarán desfavorablemente a la entidad. Estos cambios incluyen el hecho de que el activo esté ocioso, los planes de discontinuación o restructuración de la operación a la que pertenece el activo y los planes para disponer del activo antes de la fecha prevista.\n- Se dispone de evidencia procedente de informes internos, que indica que el rendimiento económico de un activo es, o va a ser, peor que el esperado. En este contexto, el rendimiento económico incluye los resultados de las operaciones y los flujos de efectivo. ",2740,{"$f":"OFFSET(Ref_Segmento,ROW(INDIRECT(IF(SUBSTITUTE(Comentarios[[#This Row],[RUTA]],\" \",\"\")=Comentarios[[#This Row],[RUTA]],Comentarios[[#This Row],[RUTA]],\"'\"&SUBSTITUTE(Comentarios[[#This Row],[RUTA]],\"!\",\"'!\"))))-1,0)","v":"Det Acum ANC Mant Vent"},"Azul",{"$f":"LEFT(Comentarios[[#This Row],[Comentario]],254)","v":"De acuerdo con el párrafo 27.5 de la Sección 27 - Deterioro del Valor de los Activos (Anexo 2 del Decreto 2483 de 2018), una entidad debe reducir el importe en libros del activo hasta su importe recuperable si, y solo si, el importe recuperable es inferi"},{"$f":"COUNTIF(Comentarios[Columna1],Comentarios[[#This Row],[Columna1]])","v":6}]
[{"$f":"SUBSTITUTE(SUBSTITUTE(FORMULATEXTO_Act(B72),\"=\",\"\"),\"'\",\"\")","v":" !$F$552"},{"$f":"' '!$F$552","v":"Valor \nRazonable"},"El párrafo 11.27 de la Sección 11 - Instrumentos Financieros Básicos (Anexo 2 del Decreto 2483 de 2018) indica que, el valor razonable de un activo se deberá estimar siguiendo la siguiente jerarquía:\n\n- La mejor evidencia del valor razonable es un precio cotizado para un activo idéntico (o un activo similar) en un mercado activo. Éste suele ser el precio comprador actual.\n- Cuando no están disponibles precios cotizados, el precio en un acuerdo de venta vinculante o en una transacción reciente para un activo idéntico (o activo similar) en condiciones de independencia mutua entre partes interesadas y debidamente informadas, proporciona evidencia del valor razonable. Sin embargo, este precio puede no ser una buena estimación del valor razonable si ha habido cambios significativos en las circunstancias económicas o un periodo de tiempo significativo entre la fecha del acuerdo de venta vinculante, o la transacción, y la fecha de medición. Si la entidad puede demostrar que el último precio de transacción no es un buen estimador del valor razonable (por ejemplo, porque refleja el importe que una entidad recibiría o pagaría en una transacción forzada, liquidación involuntaria o una venta urgente), después ese precio se ajusta.\n- Si el mercado para el activo no está activo y cualquier acuerdo de venta vinculante o las transacciones recientes de un activo idéntico (o un activo similar) por sí solas no constituyen una buena estimación del valor razonable, una entidad estimará el valor razonable utilizando otra técnica de valoración. El objetivo de utilizar una técnica de valoración es estimar el precio de transacción que se habría alcanzado en la fecha de medición en un intercambio entre partes que actúen en condiciones de independencia mutua, motivado por contraprestaciones normales del negocio. \n\nAdemás de lo anterior, pueden consultarse los párrafos 11.28 a 11.32 de la sección antes mencionada, para ampliar la información relacionada con la determinación del valor razonable de un activo. ",2015,{"$f":"OFFSET(Ref_Segmento,ROW(INDIRECT(IF(SUBSTITUTE(Comentarios[[#This Row],[RUTA]],\" \",\"\")=Comentarios[[#This Row],[RUTA]],Comentarios[[#This Row],[RUTA]],\"'\"&SUBSTITUTE(Comentarios[[#This Row],[RUTA]],\"!\",\"'!\"))))-1,0)","v":"Det Acum ANC Mant Vent"},"Azul",{"$f":"LEFT(Comentarios[[#This Row],[Comentario]],254)","v":"El párrafo 11.27 de la Sección 11 - Instrumentos Financieros Básicos (Anexo 2 del Decreto 2483 de 2018) indica que, el valor razonable de un activo se deberá estimar siguiendo la siguiente jerarquía:\n\n- La mejor evidencia del valor razonable es un precio"},{"$f":"COUNTIF(Comentarios[Columna1],Comentarios[[#This Row],[Columna1]])","v":6}]
[{"$f":"SUBSTITUTE(SUBSTITUTE(FORMULATEXTO_Act(B73),\"=\",\"\"),\"'\",\"\")","v":" !$I$552"},{"$f":"' '!$I$552","v":"Importe \nRecuperable"},"El párrafo 27.11 de la Sección 27 - Deterior del Valor de los Activos (Anexo 2 del Decreto 2483 de 2018) establece que, el importe recuperable de un activo o de una unidad generadora de efectivo es el mayor entre su valor razonable menos los costos de venta y su valor en uso. \n\nDebe tenerse en cuenta que, no siempre es necesario determinar el valor razonable del activo menos los costos de venta y su valor en uso.; esto porque, si cualquiera de esos importes excediera al importe en libros del activo, este no habría sufrido un deterioro de su valor y no sería necesario estimar el otro importe. Además, si no hubiese razón para creer que el valor en uso de un activo excede de forma significativa a su valor razonable menos los costos de venta, se considerará a este último como su importe recuperable. Este será, con frecuencia, el caso de un activo que se mantiene para su disposición. ",892,{"$f":"OFFSET(Ref_Segmento,ROW(INDIRECT(IF(SUBSTITUTE(Comentarios[[#This Row],[RUTA]],\" \",\"\")=Comentarios[[#This Row],[RUTA]],Comentarios[[#This Row],[RUTA]],\"'\"&SUBSTITUTE(Comentarios[[#This Row],[RUTA]],\"!\",\"'!\"))))-1,0)","v":"Det Acum ANC Mant Vent"},"Azul",{"$f":"LEFT(Comentarios[[#This Row],[Comentario]],254)","v":"El párrafo 27.11 de la Sección 27 - Deterior del Valor de los Activos (Anexo 2 del Decreto 2483 de 2018) establece que, el importe recuperable de un activo o de una unidad generadora de efectivo es el mayor entre su valor razonable menos los costos de ve"},{"$f":"COUNTIF(Comentarios[Columna1],Comentarios[[#This Row],[Columna1]])","v":6}]
[{"$f":"SUBSTITUTE(SUBSTITUTE(FORMULATEXTO_Act(B74),\"=\",\"\"),\"'\",\"\")","v":" !$H$552"},{"$f":"' '!$H$552","v":"Valor \nen Uso"},"La sección 27 - Deterioro del Valor de los Activos (Anexo 2 del Decreto 2483 de 2018) indica que, el valor en uso es el valor presente de los flujos futuros de efectivo que se espera obtener de un activo. El cálculo del valor presente involucra las siguientes fases:\n\n- Estimar las entradas y salidas futuras de efectivo derivadas de la utilización continuada del activo y de su disposición final; y  \n- Aplicar la tasa de descuento adecuada a estos flujos de efectivo futuros.\n\nEn el cálculo del valor en uso de un activo deben tenerse en cuenta los siguientes elementos: \n\n- Una estimación de los flujos de efectivo futuros que la entidad espera obtener del activo;\n- Las expectativas sobre posibles variaciones en el importe o en la distribución temporal de dichos flujos de efectivo futuros;\n- El valor del dinero en el tiempo, representado por la tasa de interés de mercado sin riesgo;\n- El precio por la presencia de incertidumbre inherente en el activo; y\n- Otros factores, tales como la iliquidez, que los participantes en el mercado reflejarían al poner precio a los flujos de efectivo futuros que la entidad espera que se deriven del activo.\n\nAdemás, al medir el valor en uso, las estimaciones de los flujos de efectivo futuros deberán  incluir:\n\n- Proyecciones de entradas de efectivo procedentes de la utilización continuada del activo;\n- Proyecciones de salidas de efectivo en las que sea necesario incurrir para generar las entradas de efectivo por la utilización continuada del activo (incluyendo, en su caso, los pagos que sean necesarios para preparar al activo para su utilización), y puedan ser atribuidas directamente, o distribuidas según una base razonable y uniforme a dicho activo; y\n- Flujos netos de efectivo que, si los hubiera, se espera recibir (o pagar) por la disposición del activo, al final de su vida útil, en una transacción realizada en condiciones de independencia mutua entre partes interesadas y debidamente informadas. ",1959,{"$f":"OFFSET(Ref_Segmento,ROW(INDIRECT(IF(SUBSTITUTE(Comentarios[[#This Row],[RUTA]],\" \",\"\")=Comentarios[[#This Row],[RUTA]],Comentarios[[#This Row],[RUTA]],\"'\"&SUBSTITUTE(Comentarios[[#This Row],[RUTA]],\"!\",\"'!\"))))-1,0)","v":"Det Acum ANC Mant Vent"},"Azul",{"$f":"LEFT(Comentarios[[#This Row],[Comentario]],254)","v":"La sección 27 - Deterioro del Valor de los Activos (Anexo 2 del Decreto 2483 de 2018) indica que, el valor en uso es el valor presente de los flujos futuros de efectivo que se espera obtener de un activo. El cálculo del valor presente involucra las sigui"},{"$f":"COUNTIF(Comentarios[Columna1],Comentarios[[#This Row],[Columna1]])","v":6}]
[{"$f":"SUBSTITUTE(SUBSTITUTE(FORMULATEXTO_Act(B75),\"=\",\"\"),\"'\",\"\")","v":" !$C$603"},{"$f":"' '!$C$603","v":"Pérdidas Fiscales "},"La Sección 29 - Impuesto a las ganancias (contenida en el Anexo 2 del Decreto 2483 de 2018), indica que, las pérdidas líquidas fiscales obtenidas en un periodo, pueden dar lugar al reconocimiento de un activo por impuestos diferidos, siempre que dichas pérdidas se puedan compensar con utilidades fiscales de periodos posteriores, pero solo en la medida en que sea probable la disponibilidad de\nutilidades fiscales futuras, contra las cuales compensas esas pérdidas. Al evaluar la probabilidad de disponer de utilidades fiscales futuras contra las cuales compensar las pérdidas fiscales generadas, la norma sugiere considerar los siguientes criterios:\n\n- Que sea probable que la entidad tenga utilidades fiscales antes de que prescriba el derecho de compensación de las\npérdidas fiscales;\n- Que las pérdidas fiscales generadas hayan sido producidas por causas identificables, cuya repetición sea improbable;\n- Que la entidad disponga de oportunidades de planeación fiscal que vayan a generar utilidades en los periodos en que las pérdidas fiscales puedan ser compensados.\n\nLa norma también señala que, en la medida en que no sea probable disponer de utilidades fiscales contra las cuales compensar las pérdidas fiscales generadas, NO se procederá a reconocer los activos por impuestos diferidos. Además menciona que, la existencia de pérdidas fiscales puede ser una evidencia importante de que, en el futuro, no se dispondrá de utilidades fiscales. Por lo tanto, cuando una entidad tiene en su historial pérdidas recientes, podrá reconocer un activo por impuestos diferidos surgido de pérdidas fiscales, solo si existe alguna evidencia convincente de que dispondrá en el futuro de suficiente utilidad fiscal, contra la cual compensar dichas pérdidas o créditos.\n\nTeniendo en cuenta lo anterior, es importante evaluar con prudencia los criterios mencionados con anterioridad y establecer si es razonable reconocer un activo por impuesto diferido por pérdidas fiscales a compensar. ",1980,{"$f":"OFFSET(Ref_Segmento,ROW(INDIRECT(IF(SUBSTITUTE(Comentarios[[#This Row],[RUTA]],\" \",\"\")=Comentarios[[#This Row],[RUTA]],Comentarios[[#This Row],[RUTA]],\"'\"&SUBSTITUTE(Comentarios[[#This Row],[RUTA]],\"!\",\"'!\"))))-1,0)","v":"Pérdidas Fiscales"},"Verde",{"$f":"LEFT(Comentarios[[#This Row],[Comentario]],254)","v":"La Sección 29 - Impuesto a las ganancias (contenida en el Anexo 2 del Decreto 2483 de 2018), indica que, las pérdidas líquidas fiscales obtenidas en un periodo, pueden dar lugar al reconocimiento de un activo por impuestos diferidos, siempre que dichas p"},{"$f":"COUNTIF(Comentarios[Columna1],Comentarios[[#This Row],[Columna1]])","v":1}]
[{"$f":"SUBSTITUTE(SUBSTITUTE(FORMULATEXTO_Act(B76),\"=\",\"\"),\"'\",\"\")","v":" !$C$730"},{"$f":"' '!$C$730","v":"Provisiones"},"De acuerdo con el numeral literal d del numeral 1 del artículo 105 del ET y el artículo 286 del ET, los pasivos por provisiones, por ser simplemente estimados o no tener un beneficiario externo real, son pasivos que no son aceptados fiscalmente.",245,{"$f":"OFFSET(Ref_Segmento,ROW(INDIRECT(IF(SUBSTITUTE(Comentarios[[#This Row],[RUTA]],\" \",\"\")=Comentarios[[#This Row],[RUTA]],Comentarios[[#This Row],[RUTA]],\"'\"&SUBSTITUTE(Comentarios[[#This Row],[RUTA]],\"!\",\"'!\"))))-1,0)","v":"Provisiones"},"Azul",{"$f":"LEFT(Comentarios[[#This Row],[Comentario]],254)","v":"De acuerdo con el numeral literal d del numeral 1 del artículo 105 del ET y el artículo 286 del ET, los pasivos por provisiones, por ser simplemente estimados o no tener un beneficiario externo real, son pasivos que no son aceptados fiscalmente."},{"$f":"COUNTIF(Comentarios[Columna1],Comentarios[[#This Row],[Columna1]])","v":2}]
[{"$f":"SUBSTITUTE(SUBSTITUTE(FORMULATEXTO_Act(B77),\"=\",\"\"),\"'\",\"\")","v":" !$C$779"},{"$f":"' '!$C$779","v":"Arrendamientos por pagar "},"Sección 20 de la NIIF para Pymes (Anexo 2 - Decreto 2483 de 2018)",65,{"$f":"OFFSET(Ref_Segmento,ROW(INDIRECT(IF(SUBSTITUTE(Comentarios[[#This Row],[RUTA]],\" \",\"\")=Comentarios[[#This Row],[RUTA]],Comentarios[[#This Row],[RUTA]],\"'\"&SUBSTITUTE(Comentarios[[#This Row],[RUTA]],\"!\",\"'!\"))))-1,0)","v":"Otros Pasivos, Antic y Avanc"},"Gris",{"$f":"LEFT(Comentarios[[#This Row],[Comentario]],254)","v":"Sección 20 de la NIIF para Pymes (Anexo 2 - Decreto 2483 de 2018)"},{"$f":"COUNTIF(Comentarios[Columna1],Comentarios[[#This Row],[Columna1]])","v":1}]
[{"$f":"SUBSTITUTE(SUBSTITUTE(FORMULATEXTO_Act(B78),\"=\",\"\"),\"'\",\"\")","v":" !$C$820"},{"$f":"' '!$C$820","v":"Efectivos y Equivalentes del Efectivo "},"De acuerdo con el artículo 271 del ET, para efectos fiscales, a los bonos, CDT, títulos y otras inversiones que sí coticen en bolsa, se les debe ajustar su valor patrimonial para que queden declarados según los índices de cotización en bolsa a diciembre 31 de 2023.",265,{"$f":"OFFSET(Ref_Segmento,ROW(INDIRECT(IF(SUBSTITUTE(Comentarios[[#This Row],[RUTA]],\" \",\"\")=Comentarios[[#This Row],[RUTA]],Comentarios[[#This Row],[RUTA]],\"'\"&SUBSTITUTE(Comentarios[[#This Row],[RUTA]],\"!\",\"'!\"))))-1,0)","v":"Partidas"},"Gris",{"$f":"LEFT(Comentarios[[#This Row],[Comentario]],254)","v":"De acuerdo con el artículo 271 del ET, para efectos fiscales, a los bonos, CDT, títulos y otras inversiones que sí coticen en bolsa, se les debe ajustar su valor patrimonial para que queden declarados según los índices de cotización en bolsa a diciembre "},{"$f":"COUNTIF(Comentarios[Columna1],Comentarios[[#This Row],[Columna1]])","v":10}]
[{"$f":"SUBSTITUTE(SUBSTITUTE(FORMULATEXTO_Act(B79),\"=\",\"\"),\"'\",\"\")","v":" !$C$832"},{"$f":"' '!$C$832","v":"Instrumentos de deuda o patrimonio al costo "},"De acuerdo con el artículo 271 del ET, para efectos fiscales, a los bonos, CDT, títulos y otras inversiones que sí coticen en bolsa, se les debe ajustar su valor patrimonial para que queden declarados según los índices de cotización en bolsa a diciembre 31 de 2023.",265,{"$f":"OFFSET(Ref_Segmento,ROW(INDIRECT(IF(SUBSTITUTE(Comentarios[[#This Row],[RUTA]],\" \",\"\")=Comentarios[[#This Row],[RUTA]],Comentarios[[#This Row],[RUTA]],\"'\"&SUBSTITUTE(Comentarios[[#This Row],[RUTA]],\"!\",\"'!\"))))-1,0)","v":"Partidas"},"Gris",{"$f":"LEFT(Comentarios[[#This Row],[Comentario]],254)","v":"De acuerdo con el artículo 271 del ET, para efectos fiscales, a los bonos, CDT, títulos y otras inversiones que sí coticen en bolsa, se les debe ajustar su valor patrimonial para que queden declarados según los índices de cotización en bolsa a diciembre "},{"$f":"COUNTIF(Comentarios[Columna1],Comentarios[[#This Row],[Columna1]])","v":10}]
[{"$f":"SUBSTITUTE(SUBSTITUTE(FORMULATEXTO_Act(B80),\"=\",\"\"),\"'\",\"\")","v":" !$C$835"},{"$f":"' '!$C$835","v":"Instrumentos financieros derivados con \nfines de negociación "},"De acuerdo con el artículo 271 del ET, para efectos fiscales, a los bonos, CDT, títulos y otras inversiones que sí coticen en bolsa, se les debe ajustar su valor patrimonial para que queden declarados según los índices de cotización en bolsa a diciembre 31 de 2023.",265,{"$f":"OFFSET(Ref_Segmento,ROW(INDIRECT(IF(SUBSTITUTE(Comentarios[[#This Row],[RUTA]],\" \",\"\")=Comentarios[[#This Row],[RUTA]],Comentarios[[#This Row],[RUTA]],\"'\"&SUBSTITUTE(Comentarios[[#This Row],[RUTA]],\"!\",\"'!\"))))-1,0)","v":"Partidas"},"Gris",{"$f":"LEFT(Comentarios[[#This Row],[Comentario]],254)","v":"De acuerdo con el artículo 271 del ET, para efectos fiscales, a los bonos, CDT, títulos y otras inversiones que sí coticen en bolsa, se les debe ajustar su valor patrimonial para que queden declarados según los índices de cotización en bolsa a diciembre "},{"$f":"COUNTIF(Comentarios[Columna1],Comentarios[[#This Row],[Columna1]])","v":10}]
[{"$f":"SUBSTITUTE(SUBSTITUTE(FORMULATEXTO_Act(B81),\"=\",\"\"),\"'\",\"\")","v":" !$C$836"},{"$f":"' '!$C$836","v":"Instrumentos financieros derivados con \nfines de cobertura"},"De acuerdo con el artículo 271 del ET, para efectos fiscales, a los bonos, CDT, títulos y otras inversiones que sí coticen en bolsa, se les debe ajustar su valor patrimonial para que queden declarados según los índices de cotización en bolsa a diciembre 31 de 2023.",265,{"$f":"OFFSET(Ref_Segmento,ROW(INDIRECT(IF(SUBSTITUTE(Comentarios[[#This Row],[RUTA]],\" \",\"\")=Comentarios[[#This Row],[RUTA]],Comentarios[[#This Row],[RUTA]],\"'\"&SUBSTITUTE(Comentarios[[#This Row],[RUTA]],\"!\",\"'!\"))))-1,0)","v":"Partidas"},"Gris",{"$f":"LEFT(Comentarios[[#This Row],[Comentario]],254)","v":"De acuerdo con el artículo 271 del ET, para efectos fiscales, a los bonos, CDT, títulos y otras inversiones que sí coticen en bolsa, se les debe ajustar su valor patrimonial para que queden declarados según los índices de cotización en bolsa a diciembre "},{"$f":"COUNTIF(Comentarios[Columna1],Comentarios[[#This Row],[Columna1]])","v":10}]
[{"$f":"SUBSTITUTE(SUBSTITUTE(FORMULATEXTO_Act(B82),\"=\",\"\"),\"'\",\"\")","v":" !$C$837"},{"$f":"' '!$C$837","v":"Derechos fiduciarios "},"De acuerdo con el artículo 271 del ET, para efectos fiscales, a los bonos, CDT, títulos y otras inversiones que sí coticen en bolsa, se les debe ajustar su valor patrimonial para que queden declarados según los índices de cotización en bolsa a diciembre 31 de 2023.",265,{"$f":"OFFSET(Ref_Segmento,ROW(INDIRECT(IF(SUBSTITUTE(Comentarios[[#This Row],[RUTA]],\" \",\"\")=Comentarios[[#This Row],[RUTA]],Comentarios[[#This Row],[RUTA]],\"'\"&SUBSTITUTE(Comentarios[[#This Row],[RUTA]],\"!\",\"'!\"))))-1,0)","v":"Partidas"},"Gris",{"$f":"LEFT(Comentarios[[#This Row],[Comentario]],254)","v":"De acuerdo con el artículo 271 del ET, para efectos fiscales, a los bonos, CDT, títulos y otras inversiones que sí coticen en bolsa, se les debe ajustar su valor patrimonial para que queden declarados según los índices de cotización en bolsa a diciembre "},{"$f":"COUNTIF(Comentarios[Columna1],Comentarios[[#This Row],[Columna1]])","v":10}]
[{"$f":"SUBSTITUTE(SUBSTITUTE(FORMULATEXTO_Act(B83),\"=\",\"\"),\"'\",\"\")","v":" !$C$829"},{"$f":"' '!$C$829","v":"Inversiones en subsidiarias, asociadas y \nnegocios conjuntos medidas con método \nde participación"},"De acuerdo con el numeral 4 del artículo 28 y el literal a del numeral 2 de artículo 105 del ET, los valores que se registran contablemente por la aplicación del método de participación patrimonial no son objeto del impuesto de renta.",234,{"$f":"OFFSET(Ref_Segmento,ROW(INDIRECT(IF(SUBSTITUTE(Comentarios[[#This Row],[RUTA]],\" \",\"\")=Comentarios[[#This Row],[RUTA]],Comentarios[[#This Row],[RUTA]],\"'\"&SUBSTITUTE(Comentarios[[#This Row],[RUTA]],\"!\",\"'!\"))))-1,0)","v":"Partidas"},"Gris",{"$f":"LEFT(Comentarios[[#This Row],[Comentario]],254)","v":"De acuerdo con el numeral 4 del artículo 28 y el literal a del numeral 2 de artículo 105 del ET, los valores que se registran contablemente por la aplicación del método de participación patrimonial no son objeto del impuesto de renta."},{"$f":"COUNTIF(Comentarios[Columna1],Comentarios[[#This Row],[Columna1]])","v":2}]
[{"$f":"SUBSTITUTE(SUBSTITUTE(FORMULATEXTO_Act(B84),\"=\",\"\"),\"'\",\"\")","v":" !$C$960"},{"$f":"' '!$C$960","v":"Provisiones"},"De acuerdo con el numeral literal d del numeral 1 del artículo 105 del ET y el artículo 286 del ET, los pasivos por provisiones, por ser simplemente estimados o no tener un beneficiario externo real, son pasivos que no son aceptados fiscalmente.",245,{"$f":"OFFSET(Ref_Segmento,ROW(INDIRECT(IF(SUBSTITUTE(Comentarios[[#This Row],[RUTA]],\" \",\"\")=Comentarios[[#This Row],[RUTA]],Comentarios[[#This Row],[RUTA]],\"'\"&SUBSTITUTE(Comentarios[[#This Row],[RUTA]],\"!\",\"'!\"))))-1,0)","v":"Partidas"},"Gris",{"$f":"LEFT(Comentarios[[#This Row],[Comentario]],254)","v":"De acuerdo con el numeral literal d del numeral 1 del artículo 105 del ET y el artículo 286 del ET, los pasivos por provisiones, por ser simplemente estimados o no tener un beneficiario externo real, son pasivos que no son aceptados fiscalmente."},{"$f":"COUNTIF(Comentarios[Columna1],Comentarios[[#This Row],[Columna1]])","v":2}]
[{"$f":"SUBSTITUTE(SUBSTITUTE(FORMULATEXTO_Act(B85),\"=\",\"\"),\"'\",\"\")","v":" !$C$903"},{"$f":"' '!$C$903","v":"Amortización acumulada activos intangibles"},"De acuerdo con los artículo 74 y 143 del ET, los amortización de las plusvalías no es aceptada fiscalmente.",107,{"$f":"OFFSET(Ref_Segmento,ROW(INDIRECT(IF(SUBSTITUTE(Comentarios[[#This Row],[RUTA]],\" \",\"\")=Comentarios[[#This Row],[RUTA]],Comentarios[[#This Row],[RUTA]],\"'\"&SUBSTITUTE(Comentarios[[#This Row],[RUTA]],\"!\",\"'!\"))))-1,0)","v":"Partidas"},"Gris",{"$f":"LEFT(Comentarios[[#This Row],[Comentario]],254)","v":"De acuerdo con los artículo 74 y 143 del ET, los amortización de las plusvalías no es aceptada fiscalmente."},{"$f":"COUNTIF(Comentarios[Columna1],Comentarios[[#This Row],[Columna1]])","v":2}]
[{"$f":"SUBSTITUTE(SUBSTITUTE(FORMULATEXTO_Act(B86),\"=\",\"\"),\"'\",\"\")","v":" !$C$827"},{"$f":"' '!$C$827","v":"Inversiones en subsidiarias, asociadas y \nnegocios conjuntos medidas a valor \nrazonable con cambios en resultados "},"El parágrafo 6 de artículo 21-1 del ET señala que, para efectos fiscales, las mediciones que se efectúen a valor presente o valor razonable de acuerdo con los marcos técnicos normativos contables, deben reconocerse al costo, precio de adquisición o valor nominal, siempre y cuando no exista un tratamiento diferente en el estatuto. Por lo tanto, las diferencias que resulten del sistema de medición contable y fiscal no tendrán efectos en el impuesto sobre la renta hasta que la transacción se realice mediante la transferencia económica del activo o la extinción del pasivo, según corresponda (ver también: numeral 5 del artículo 28 del ET; numeral 4 del artículo 33 del ET; literal c del numeral artículo 59 del ET; numeral 4 del artículo 93 del ET; artículo 94 del ET; literal b del numeral 1 del artículo 105 del ET). ",822,{"$f":"OFFSET(Ref_Segmento,ROW(INDIRECT(IF(SUBSTITUTE(Comentarios[[#This Row],[RUTA]],\" \",\"\")=Comentarios[[#This Row],[RUTA]],Comentarios[[#This Row],[RUTA]],\"'\"&SUBSTITUTE(Comentarios[[#This Row],[RUTA]],\"!\",\"'!\"))))-1,0)","v":"Partidas"},"Gris",{"$f":"LEFT(Comentarios[[#This Row],[Comentario]],254)","v":"El parágrafo 6 de artículo 21-1 del ET señala que, para efectos fiscales, las mediciones que se efectúen a valor presente o valor razonable de acuerdo con los marcos técnicos normativos contables, deben reconocerse al costo, precio de adquisición o valor"},{"$f":"COUNTIF(Comentarios[Columna1],Comentarios[[#This Row],[Columna1]])","v":16}]
[{"$f":"SUBSTITUTE(SUBSTITUTE(FORMULATEXTO_Act(B87),\"=\",\"\"),\"'\",\"\")","v":" !$C$828"},{"$f":"' '!$C$828","v":"Inversiones en subsidiarias, asociadas y \nnegocios conjuntos medidas a valor \nrazonable con cambios en el ORI"},"El parágrafo 6 de artículo 21-1 del ET señala que, para efectos fiscales, las mediciones que se efectúen a valor presente o valor razonable de acuerdo con los marcos técnicos normativos contables, deben reconocerse al costo, precio de adquisición o valor nominal, siempre y cuando no exista un tratamiento diferente en el estatuto. Por lo tanto, las diferencias que resulten del sistema de medición contable y fiscal no tendrán efectos en el impuesto sobre la renta hasta que la transacción se realice mediante la transferencia económica del activo o la extinción del pasivo, según corresponda (ver también: numeral 5 del artículo 28 del ET; numeral 4 del artículo 33 del ET; literal c del numeral artículo 59 del ET; numeral 4 del artículo 93 del ET; artículo 94 del ET; literal b del numeral 1 del artículo 105 del ET). ",822,{"$f":"OFFSET(Ref_Segmento,ROW(INDIRECT(IF(SUBSTITUTE(Comentarios[[#This Row],[RUTA]],\" \",\"\")=Comentarios[[#This Row],[RUTA]],Comentarios[[#This Row],[RUTA]],\"'\"&SUBSTITUTE(Comentarios[[#This Row],[RUTA]],\"!\",\"'!\"))))-1,0)","v":"Partidas"},"Gris",{"$f":"LEFT(Comentarios[[#This Row],[Comentario]],254)","v":"El parágrafo 6 de artículo 21-1 del ET señala que, para efectos fiscales, las mediciones que se efectúen a valor presente o valor razonable de acuerdo con los marcos técnicos normativos contables, deben reconocerse al costo, precio de adquisición o valor"},{"$f":"COUNTIF(Comentarios[Columna1],Comentarios[[#This Row],[Columna1]])","v":16}]
[{"$f":"SUBSTITUTE(SUBSTITUTE(FORMULATEXTO_Act(B88),\"=\",\"\"),\"'\",\"\")","v":" !$C$833"},{"$f":"' '!$C$833","v":"Instrumentos de deuda o patrimonio al valor razonable con cambios en resultados "},"El parágrafo 6 de artículo 21-1 del ET señala que, para efectos fiscales, las mediciones que se efectúen a valor presente o valor razonable de acuerdo con los marcos técnicos normativos contables, deben reconocerse al costo, precio de adquisición o valor nominal, siempre y cuando no exista un tratamiento diferente en el estatuto. Por lo tanto, las diferencias que resulten del sistema de medición contable y fiscal no tendrán efectos en el impuesto sobre la renta hasta que la transacción se realice mediante la transferencia económica del activo o la extinción del pasivo, según corresponda (ver también: numeral 5 del artículo 28 del ET; numeral 4 del artículo 33 del ET; literal c del numeral artículo 59 del ET; numeral 4 del artículo 93 del ET; artículo 94 del ET; literal b del numeral 1 del artículo 105 del ET). ",822,{"$f":"OFFSET(Ref_Segmento,ROW(INDIRECT(IF(SUBSTITUTE(Comentarios[[#This Row],[RUTA]],\" \",\"\")=Comentarios[[#This Row],[RUTA]],Comentarios[[#This Row],[RUTA]],\"'\"&SUBSTITUTE(Comentarios[[#This Row],[RUTA]],\"!\",\"'!\"))))-1,0)","v":"Partidas"},"Gris",{"$f":"LEFT(Comentarios[[#This Row],[Comentario]],254)","v":"El parágrafo 6 de artículo 21-1 del ET señala que, para efectos fiscales, las mediciones que se efectúen a valor presente o valor razonable de acuerdo con los marcos técnicos normativos contables, deben reconocerse al costo, precio de adquisición o valor"},{"$f":"COUNTIF(Comentarios[Columna1],Comentarios[[#This Row],[Columna1]])","v":16}]
[{"$f":"SUBSTITUTE(SUBSTITUTE(FORMULATEXTO_Act(B89),\"=\",\"\"),\"'\",\"\")","v":" !$C$834"},{"$f":"' '!$C$834","v":"Instrumentos de deuda o patrimonio al valor razonable con cambios en el ORI"},"El parágrafo 6 de artículo 21-1 del ET señala que, para efectos fiscales, las mediciones que se efectúen a valor presente o valor razonable de acuerdo con los marcos técnicos normativos contables, deben reconocerse al costo, precio de adquisición o valor nominal, siempre y cuando no exista un tratamiento diferente en el estatuto. Por lo tanto, las diferencias que resulten del sistema de medición contable y fiscal no tendrán efectos en el impuesto sobre la renta hasta que la transacción se realice mediante la transferencia económica del activo o la extinción del pasivo, según corresponda (ver también: numeral 5 del artículo 28 del ET; numeral 4 del artículo 33 del ET; literal c del numeral artículo 59 del ET; numeral 4 del artículo 93 del ET; artículo 94 del ET; literal b del numeral 1 del artículo 105 del ET). ",822,{"$f":"OFFSET(Ref_Segmento,ROW(INDIRECT(IF(SUBSTITUTE(Comentarios[[#This Row],[RUTA]],\" \",\"\")=Comentarios[[#This Row],[RUTA]],Comentarios[[#This Row],[RUTA]],\"'\"&SUBSTITUTE(Comentarios[[#This Row],[RUTA]],\"!\",\"'!\"))))-1,0)","v":"Partidas"},"Gris",{"$f":"LEFT(Comentarios[[#This Row],[Comentario]],254)","v":"El parágrafo 6 de artículo 21-1 del ET señala que, para efectos fiscales, las mediciones que se efectúen a valor presente o valor razonable de acuerdo con los marcos técnicos normativos contables, deben reconocerse al costo, precio de adquisición o valor"},{"$f":"COUNTIF(Comentarios[Columna1],Comentarios[[#This Row],[Columna1]])","v":16}]
[{"$f":"SUBSTITUTE(SUBSTITUTE(FORMULATEXTO_Act(B90),\"=\",\"\"),\"'\",\"\")","v":" !$C$916"},{"$f":"' '!$C$916","v":"Animales productores medidos al valor \nrazonable menos costos de venta"},"El parágrafo 6 de artículo 21-1 del ET señala que, para efectos fiscales, las mediciones que se efectúen a valor presente o valor razonable de acuerdo con los marcos técnicos normativos contables, deben reconocerse al costo, precio de adquisición o valor nominal, siempre y cuando no exista un tratamiento diferente en el estatuto. Por lo tanto, las diferencias que resulten del sistema de medición contable y fiscal no tendrán efectos en el impuesto sobre la renta hasta que la transacción se realice mediante la transferencia económica del activo o la extinción del pasivo, según corresponda (ver también: numeral 5 del artículo 28 del ET; numeral 4 del artículo 33 del ET; literal c del numeral artículo 59 del ET; numeral 4 del artículo 93 del ET; artículo 94 del ET; literal b del numeral 1 del artículo 105 del ET). ",822,{"$f":"OFFSET(Ref_Segmento,ROW(INDIRECT(IF(SUBSTITUTE(Comentarios[[#This Row],[RUTA]],\" \",\"\")=Comentarios[[#This Row],[RUTA]],Comentarios[[#This Row],[RUTA]],\"'\"&SUBSTITUTE(Comentarios[[#This Row],[RUTA]],\"!\",\"'!\"))))-1,0)","v":"Partidas"},"Gris",{"$f":"LEFT(Comentarios[[#This Row],[Comentario]],254)","v":"El parágrafo 6 de artículo 21-1 del ET señala que, para efectos fiscales, las mediciones que se efectúen a valor presente o valor razonable de acuerdo con los marcos técnicos normativos contables, deben reconocerse al costo, precio de adquisición o valor"},{"$f":"COUNTIF(Comentarios[Columna1],Comentarios[[#This Row],[Columna1]])","v":16}]
[{"$f":"SUBSTITUTE(SUBSTITUTE(FORMULATEXTO_Act(B91),\"=\",\"\"),\"'\",\"\")","v":" !$C$918"},{"$f":"' '!$C$918","v":"Animales consumibles medidos al valor \nrazonable menos costos de venta"},"El parágrafo 6 de artículo 21-1 del ET señala que, para efectos fiscales, las mediciones que se efectúen a valor presente o valor razonable de acuerdo con los marcos técnicos normativos contables, deben reconocerse al costo, precio de adquisición o valor nominal, siempre y cuando no exista un tratamiento diferente en el estatuto. Por lo tanto, las diferencias que resulten del sistema de medición contable y fiscal no tendrán efectos en el impuesto sobre la renta hasta que la transacción se realice mediante la transferencia económica del activo o la extinción del pasivo, según corresponda (ver también: numeral 5 del artículo 28 del ET; numeral 4 del artículo 33 del ET; literal c del numeral artículo 59 del ET; numeral 4 del artículo 93 del ET; artículo 94 del ET; literal b del numeral 1 del artículo 105 del ET). ",822,{"$f":"OFFSET(Ref_Segmento,ROW(INDIRECT(IF(SUBSTITUTE(Comentarios[[#This Row],[RUTA]],\" \",\"\")=Comentarios[[#This Row],[RUTA]],Comentarios[[#This Row],[RUTA]],\"'\"&SUBSTITUTE(Comentarios[[#This Row],[RUTA]],\"!\",\"'!\"))))-1,0)","v":"Partidas"},"Gris",{"$f":"LEFT(Comentarios[[#This Row],[Comentario]],254)","v":"El parágrafo 6 de artículo 21-1 del ET señala que, para efectos fiscales, las mediciones que se efectúen a valor presente o valor razonable de acuerdo con los marcos técnicos normativos contables, deben reconocerse al costo, precio de adquisición o valor"},{"$f":"COUNTIF(Comentarios[Columna1],Comentarios[[#This Row],[Columna1]])","v":16}]
[{"$f":"SUBSTITUTE(SUBSTITUTE(FORMULATEXTO_Act(B92),\"=\",\"\"),\"'\",\"\")","v":" !$C$920"},{"$f":"' '!$C$920","v":"Plantas productoras medidas al valor \nrazonable"},"El parágrafo 6 de artículo 21-1 del ET señala que, para efectos fiscales, las mediciones que se efectúen a valor presente o valor razonable de acuerdo con los marcos técnicos normativos contables, deben reconocerse al costo, precio de adquisición o valor nominal, siempre y cuando no exista un tratamiento diferente en el estatuto. Por lo tanto, las diferencias que resulten del sistema de medición contable y fiscal no tendrán efectos en el impuesto sobre la renta hasta que la transacción se realice mediante la transferencia económica del activo o la extinción del pasivo, según corresponda (ver también: numeral 5 del artículo 28 del ET; numeral 4 del artículo 33 del ET; literal c del numeral artículo 59 del ET; numeral 4 del artículo 93 del ET; artículo 94 del ET; literal b del numeral 1 del artículo 105 del ET). ",822,{"$f":"OFFSET(Ref_Segmento,ROW(INDIRECT(IF(SUBSTITUTE(Comentarios[[#This Row],[RUTA]],\" \",\"\")=Comentarios[[#This Row],[RUTA]],Comentarios[[#This Row],[RUTA]],\"'\"&SUBSTITUTE(Comentarios[[#This Row],[RUTA]],\"!\",\"'!\"))))-1,0)","v":"Partidas"},"Gris",{"$f":"LEFT(Comentarios[[#This Row],[Comentario]],254)","v":"El parágrafo 6 de artículo 21-1 del ET señala que, para efectos fiscales, las mediciones que se efectúen a valor presente o valor razonable de acuerdo con los marcos técnicos normativos contables, deben reconocerse al costo, precio de adquisición o valor"},{"$f":"COUNTIF(Comentarios[Columna1],Comentarios[[#This Row],[Columna1]])","v":16}]
[{"$f":"SUBSTITUTE(SUBSTITUTE(FORMULATEXTO_Act(B93),\"=\",\"\"),\"'\",\"\")","v":" !$C$922"},{"$f":"' '!$C$922","v":"Cultivos consumibles medidos al valor \nrazonable menos costos de venta"},"El parágrafo 6 de artículo 21-1 del ET señala que, para efectos fiscales, las mediciones que se efectúen a valor presente o valor razonable de acuerdo con los marcos técnicos normativos contables, deben reconocerse al costo, precio de adquisición o valor nominal, siempre y cuando no exista un tratamiento diferente en el estatuto. Por lo tanto, las diferencias que resulten del sistema de medición contable y fiscal no tendrán efectos en el impuesto sobre la renta hasta que la transacción se realice mediante la transferencia económica del activo o la extinción del pasivo, según corresponda (ver también: numeral 5 del artículo 28 del ET; numeral 4 del artículo 33 del ET; literal c del numeral artículo 59 del ET; numeral 4 del artículo 93 del ET; artículo 94 del ET; literal b del numeral 1 del artículo 105 del ET). ",822,{"$f":"OFFSET(Ref_Segmento,ROW(INDIRECT(IF(SUBSTITUTE(Comentarios[[#This Row],[RUTA]],\" \",\"\")=Comentarios[[#This Row],[RUTA]],Comentarios[[#This Row],[RUTA]],\"'\"&SUBSTITUTE(Comentarios[[#This Row],[RUTA]],\"!\",\"'!\"))))-1,0)","v":"Partidas"},"Gris",{"$f":"LEFT(Comentarios[[#This Row],[Comentario]],254)","v":"El parágrafo 6 de artículo 21-1 del ET señala que, para efectos fiscales, las mediciones que se efectúen a valor presente o valor razonable de acuerdo con los marcos técnicos normativos contables, deben reconocerse al costo, precio de adquisición o valor"},{"$f":"COUNTIF(Comentarios[Columna1],Comentarios[[#This Row],[Columna1]])","v":16}]
[{"$f":"SUBSTITUTE(SUBSTITUTE(FORMULATEXTO_Act(B94),\"=\",\"\"),\"'\",\"\")","v":" !$C$839"},{"$f":"' '!$C$839","v":"Deterioro acumulado de las Inversiones e Instrumentos Derivados"},"Los deterioros no son aceptados para efectos fiscales. De acuerdo con el párrafo 27.5 de la Sección 27 - Deterioro del Valor de los Activos (Anexo 2 del Decreto 2483 de 2018), una entidad debe reducir el importe en libros del activo hasta su importe recuperable si, y solo si, el importe recuperable es inferior al importe en libros, pues esa reducción es una pérdida por deterioro del valor.\nAsimismo, el párrafo 27.7 de la misma sección, indica que, la entidad debe evaluar, en cada fecha de presentación, si existe algún indicio del deterioro del valor de algún activo. En caso de que existan indicios, la entidad debe estimar el importe recuperable del activo; si no existen indicios de deterioro del valor. no será necesario estimar el importe recuperable.",761,{"$f":"OFFSET(Ref_Segmento,ROW(INDIRECT(IF(SUBSTITUTE(Comentarios[[#This Row],[RUTA]],\" \",\"\")=Comentarios[[#This Row],[RUTA]],Comentarios[[#This Row],[RUTA]],\"'\"&SUBSTITUTE(Comentarios[[#This Row],[RUTA]],\"!\",\"'!\"))))-1,0)","v":"Partidas"},"Gris",{"$f":"LEFT(Comentarios[[#This Row],[Comentario]],254)","v":"Los deterioros no son aceptados para efectos fiscales. De acuerdo con el párrafo 27.5 de la Sección 27 - Deterioro del Valor de los Activos (Anexo 2 del Decreto 2483 de 2018), una entidad debe reducir el importe en libros del activo hasta su importe recu"},{"$f":"COUNTIF(Comentarios[Columna1],Comentarios[[#This Row],[Columna1]])","v":14}]
[{"$f":"SUBSTITUTE(SUBSTITUTE(FORMULATEXTO_Act(B95),\"=\",\"\"),\"'\",\"\")","v":" !$C$854"},{"$f":"' '!$C$854","v":"Deterioro acumulado de las cuentas por \ncobrar"},"Los deterioros no son aceptados para efectos fiscales. De acuerdo con el párrafo 27.5 de la Sección 27 - Deterioro del Valor de los Activos (Anexo 2 del Decreto 2483 de 2018), una entidad debe reducir el importe en libros del activo hasta su importe recuperable si, y solo si, el importe recuperable es inferior al importe en libros, pues esa reducción es una pérdida por deterioro del valor.\nAsimismo, el párrafo 27.7 de la misma sección, indica que, la entidad debe evaluar, en cada fecha de presentación, si existe algún indicio del deterioro del valor de algún activo. En caso de que existan indicios, la entidad debe estimar el importe recuperable del activo; si no existen indicios de deterioro del valor. no será necesario estimar el importe recuperable.",761,{"$f":"OFFSET(Ref_Segmento,ROW(INDIRECT(IF(SUBSTITUTE(Comentarios[[#This Row],[RUTA]],\" \",\"\")=Comentarios[[#This Row],[RUTA]],Comentarios[[#This Row],[RUTA]],\"'\"&SUBSTITUTE(Comentarios[[#This Row],[RUTA]],\"!\",\"'!\"))))-1,0)","v":"Partidas"},"Gris",{"$f":"LEFT(Comentarios[[#This Row],[Comentario]],254)","v":"Los deterioros no son aceptados para efectos fiscales. De acuerdo con el párrafo 27.5 de la Sección 27 - Deterioro del Valor de los Activos (Anexo 2 del Decreto 2483 de 2018), una entidad debe reducir el importe en libros del activo hasta su importe recu"},{"$f":"COUNTIF(Comentarios[Columna1],Comentarios[[#This Row],[Columna1]])","v":14}]
[{"$f":"SUBSTITUTE(SUBSTITUTE(FORMULATEXTO_Act(B96),\"=\",\"\"),\"'\",\"\")","v":" !$C$883"},{"$f":"' '!$C$883","v":"Deterioro acumulado de las Propiedades, \nPlanta y Equipo"},"Los deterioros no son aceptados para efectos fiscales. De acuerdo con el párrafo 27.5 de la Sección 27 - Deterioro del Valor de los Activos (Anexo 2 del Decreto 2483 de 2018), una entidad debe reducir el importe en libros del activo hasta su importe recuperable si, y solo si, el importe recuperable es inferior al importe en libros, pues esa reducción es una pérdida por deterioro del valor.\n\nAsimismo, el párrafo 27.7 de la misma sección, indica que, la entidad debe evaluar, en cada fecha de presentación, si existe algún indicio del deterioro del valor de algún activo. En caso de que existan indicios, la entidad debe estimar el importe recuperable del activo; si no existen indicios de deterioro del valor. no será necesario estimar el importe recuperable.",762,{"$f":"OFFSET(Ref_Segmento,ROW(INDIRECT(IF(SUBSTITUTE(Comentarios[[#This Row],[RUTA]],\" \",\"\")=Comentarios[[#This Row],[RUTA]],Comentarios[[#This Row],[RUTA]],\"'\"&SUBSTITUTE(Comentarios[[#This Row],[RUTA]],\"!\",\"'!\"))))-1,0)","v":"Partidas"},"Gris",{"$f":"LEFT(Comentarios[[#This Row],[Comentario]],254)","v":"Los deterioros no son aceptados para efectos fiscales. De acuerdo con el párrafo 27.5 de la Sección 27 - Deterioro del Valor de los Activos (Anexo 2 del Decreto 2483 de 2018), una entidad debe reducir el importe en libros del activo hasta su importe recu"},{"$f":"COUNTIF(Comentarios[Columna1],Comentarios[[#This Row],[Columna1]])","v":14}]
[{"$f":"SUBSTITUTE(SUBSTITUTE(FORMULATEXTO_Act(B97),\"=\",\"\"),\"'\",\"\")","v":" !$C$904"},{"$f":"' '!$C$904","v":"Deterioro acumulado activos intangibles"},"Los deterioros no son aceptados para efectos fiscales. De acuerdo con el párrafo 27.5 de la Sección 27 - Deterioro del Valor de los Activos (Anexo 2 del Decreto 2483 de 2018), una entidad debe reducir el importe en libros del activo hasta su importe recuperable si, y solo si, el importe recuperable es inferior al importe en libros, pues esa reducción es una pérdida por deterioro del valor.\n\nAsimismo, el párrafo 27.7 de la misma sección, indica que, la entidad debe evaluar, en cada fecha de presentación, si existe algún indicio del deterioro del valor de algún activo. En caso de que existan indicios, la entidad debe estimar el importe recuperable del activo; si no existen indicios de deterioro del valor. no será necesario estimar el importe recuperable.",762,{"$f":"OFFSET(Ref_Segmento,ROW(INDIRECT(IF(SUBSTITUTE(Comentarios[[#This Row],[RUTA]],\" \",\"\")=Comentarios[[#This Row],[RUTA]],Comentarios[[#This Row],[RUTA]],\"'\"&SUBSTITUTE(Comentarios[[#This Row],[RUTA]],\"!\",\"'!\"))))-1,0)","v":"Partidas"},"Gris",{"$f":"LEFT(Comentarios[[#This Row],[Comentario]],254)","v":"Los deterioros no son aceptados para efectos fiscales. De acuerdo con el párrafo 27.5 de la Sección 27 - Deterioro del Valor de los Activos (Anexo 2 del Decreto 2483 de 2018), una entidad debe reducir el importe en libros del activo hasta su importe recu"},{"$f":"COUNTIF(Comentarios[Columna1],Comentarios[[#This Row],[Columna1]])","v":14}]
[{"$f":"SUBSTITUTE(SUBSTITUTE(FORMULATEXTO_Act(B98),\"=\",\"\"),\"'\",\"\")","v":" !$C$913"},{"$f":"' '!$C$913","v":"Deterioro acumulado propiedades de \ninversión "},"Los deterioros no son aceptados para efectos fiscales. De acuerdo con el párrafo 27.5 de la Sección 27 - Deterioro del Valor de los Activos (Anexo 2 del Decreto 2483 de 2018), una entidad debe reducir el importe en libros del activo hasta su importe recuperable si, y solo si, el importe recuperable es inferior al importe en libros, pues esa reducción es una pérdida por deterioro del valor.\n\nAsimismo, el párrafo 27.7 de la misma sección, indica que, la entidad debe evaluar, en cada fecha de presentación, si existe algún indicio del deterioro del valor de algún activo. En caso de que existan indicios, la entidad debe estimar el importe recuperable del activo; si no existen indicios de deterioro del valor. no será necesario estimar el importe recuperable.",762,{"$f":"OFFSET(Ref_Segmento,ROW(INDIRECT(IF(SUBSTITUTE(Comentarios[[#This Row],[RUTA]],\" \",\"\")=Comentarios[[#This Row],[RUTA]],Comentarios[[#This Row],[RUTA]],\"'\"&SUBSTITUTE(Comentarios[[#This Row],[RUTA]],\"!\",\"'!\"))))-1,0)","v":"Partidas"},"Gris",{"$f":"LEFT(Comentarios[[#This Row],[Comentario]],254)","v":"Los deterioros no son aceptados para efectos fiscales. De acuerdo con el párrafo 27.5 de la Sección 27 - Deterioro del Valor de los Activos (Anexo 2 del Decreto 2483 de 2018), una entidad debe reducir el importe en libros del activo hasta su importe recu"},{"$f":"COUNTIF(Comentarios[Columna1],Comentarios[[#This Row],[Columna1]])","v":14}]
[{"$f":"SUBSTITUTE(SUBSTITUTE(FORMULATEXTO_Act(B99),\"=\",\"\"),\"'\",\"\")","v":" !$C$926"},{"$f":"' '!$C$926","v":"Deterioro acumulado activos biológicos"},"Los deterioros no son aceptados para efectos fiscales. De acuerdo con el párrafo 27.5 de la Sección 27 - Deterioro del Valor de los Activos (Anexo 2 del Decreto 2483 de 2018), una entidad debe reducir el importe en libros del activo hasta su importe recuperable si, y solo si, el importe recuperable es inferior al importe en libros, pues esa reducción es una pérdida por deterioro del valor.\n\nAsimismo, el párrafo 27.7 de la misma sección, indica que, la entidad debe evaluar, en cada fecha de presentación, si existe algún indicio del deterioro del valor de algún activo. En caso de que existan indicios, la entidad debe estimar el importe recuperable del activo; si no existen indicios de deterioro del valor. no será necesario estimar el importe recuperable.",762,{"$f":"OFFSET(Ref_Segmento,ROW(INDIRECT(IF(SUBSTITUTE(Comentarios[[#This Row],[RUTA]],\" \",\"\")=Comentarios[[#This Row],[RUTA]],Comentarios[[#This Row],[RUTA]],\"'\"&SUBSTITUTE(Comentarios[[#This Row],[RUTA]],\"!\",\"'!\"))))-1,0)","v":"Partidas"},"Gris",{"$f":"LEFT(Comentarios[[#This Row],[Comentario]],254)","v":"Los deterioros no son aceptados para efectos fiscales. De acuerdo con el párrafo 27.5 de la Sección 27 - Deterioro del Valor de los Activos (Anexo 2 del Decreto 2483 de 2018), una entidad debe reducir el importe en libros del activo hasta su importe recu"},{"$f":"COUNTIF(Comentarios[Columna1],Comentarios[[#This Row],[Columna1]])","v":14}]
[{"$f":"SUBSTITUTE(SUBSTITUTE(FORMULATEXTO_Act(B100),\"=\",\"\"),\"'\",\"\")","v":" !$C$930"},{"$f":"' '!$C$930","v":"Deterioro acumulado activos no corrientes \nmantenidos para la venta y/o para \ndistribuir a propietarios "},"Los deterioros no son aceptados para efectos fiscales. De acuerdo con el párrafo 27.5 de la Sección 27 - Deterioro del Valor de los Activos (Anexo 2 del Decreto 2483 de 2018), una entidad debe reducir el importe en libros del activo hasta su importe recuperable si, y solo si, el importe recuperable es inferior al importe en libros, pues esa reducción es una pérdida por deterioro del valor.\n\nAsimismo, el párrafo 27.7 de la misma sección, indica que, la entidad debe evaluar, en cada fecha de presentación, si existe algún indicio del deterioro del valor de algún activo. En caso de que existan indicios, la entidad debe estimar el importe recuperable del activo; si no existen indicios de deterioro del valor. no será necesario estimar el importe recuperable.",762,{"$f":"OFFSET(Ref_Segmento,ROW(INDIRECT(IF(SUBSTITUTE(Comentarios[[#This Row],[RUTA]],\" \",\"\")=Comentarios[[#This Row],[RUTA]],Comentarios[[#This Row],[RUTA]],\"'\"&SUBSTITUTE(Comentarios[[#This Row],[RUTA]],\"!\",\"'!\"))))-1,0)","v":"Partidas"},"Gris",{"$f":"LEFT(Comentarios[[#This Row],[Comentario]],254)","v":"Los deterioros no son aceptados para efectos fiscales. De acuerdo con el párrafo 27.5 de la Sección 27 - Deterioro del Valor de los Activos (Anexo 2 del Decreto 2483 de 2018), una entidad debe reducir el importe en libros del activo hasta su importe recu"},{"$f":"COUNTIF(Comentarios[Columna1],Comentarios[[#This Row],[Columna1]])","v":14}]
[{"$f":"SUBSTITUTE(SUBSTITUTE(FORMULATEXTO_Act(B101),\"=\",\"\"),\"'\",\"\")","v":" !$C$882"},{"$f":"' '!$C$882","v":"Depreciación acumulada de las Propiedades, Planta y Equipo"},"Los párrafos 17.19 a 17.23 de la Sección 17 - Propiedades, planta y equipo (anexo 2 del Decreto 2483 de 2018), indican que, la entidad debe seleccionar un método de depreciación que refleje el patrón con arreglo al cual espera consumir los beneficios económicos futuros del activo. Los métodos posibles de depreciación incluyen el método lineal, el método de depreciación decreciente y los métodos basados en el uso, como por ejemplo el método de las unidades de producción.\n\nEn caso de que exista alguna indicación de que se ha producido un cambio significativo, desde la fecha del último informe anual. en el patrón con arreglo al cual una entidad espera consumir los beneficios económicos futuros de un activo, dicha entidad revisará su método de depreciación presente y, si las expectativas actuales son diferentes, cambiará el método de depreciación para reflejar el nuevo patrón.\n\nPara efectos fiscales, el artículo 137 del ET establece las tasas máximas de depreciación aceptadas para efectos fiscales, las cuales oscilan entre el 2,22% y el 33%. \n\nLa norma también indica que, para efectos fiscales, la vida útil es el periodo durante el cual se espera que el activo brinde beneficios económicos futuros al contribuyente; por lo cual la tasa de depreciación fiscal no necesariamente coincidirá con la tasa de depreciación contable. La vida útil de los activos depreciables deberá estar soportada para efectos fiscales por medio de, entre otros, estudios técnicos, manuales de uso e informes. También son admisibles para soportar la vida útil de los activos documentos probatorios elaborados por un experto en la materia.\n\nEn caso de que el contribuyente realice la depreciación de un elemento de la propiedad, planta y equipo por componentes principales de conformidad con la técnica contable, la deducción por depreciación para efectos fiscales no podrá ser superior a la depreciación o alícuota permitida en la norma tributaria, para el elemento de propiedad, planta y equipo en su totalidad.\n \nLas deducciones por depreciación no deducibles porque exceden los límites establecidos en la norma tributaria, en el año o periodo gravable, generarán una diferencia que será deducible en los periodos siguientes al término de la vida útil del activo.",2255,{"$f":"OFFSET(Ref_Segmento,ROW(INDIRECT(IF(SUBSTITUTE(Comentarios[[#This Row],[RUTA]],\" \",\"\")=Comentarios[[#This Row],[RUTA]],Comentarios[[#This Row],[RUTA]],\"'\"&SUBSTITUTE(Comentarios[[#This Row],[RUTA]],\"!\",\"'!\"))))-1,0)","v":"Partidas"},"Gris",{"$f":"LEFT(Comentarios[[#This Row],[Comentario]],254)","v":"Los párrafos 17.19 a 17.23 de la Sección 17 - Propiedades, planta y equipo (anexo 2 del Decreto 2483 de 2018), indican que, la entidad debe seleccionar un método de depreciación que refleje el patrón con arreglo al cual espera consumir los beneficios eco"},{"$f":"COUNTIF(Comentarios[Columna1],Comentarios[[#This Row],[Columna1]])","v":4}]
[{"$f":"SUBSTITUTE(SUBSTITUTE(FORMULATEXTO_Act(B102),\"=\",\"\"),\"'\",\"\")","v":" !$C$912"},{"$f":"' '!$C$912","v":"Depreciación acumulada propiedades de \ninversión "},"Los párrafos 17.19 a 17.23 de la Sección 17 - Propiedades, planta y equipo (anexo 2 del Decreto 2483 de 2018), indican que, la entidad debe seleccionar un método de depreciación que refleje el patrón con arreglo al cual espera consumir los beneficios económicos futuros del activo. Los métodos posibles de depreciación incluyen el método lineal, el método de depreciación decreciente y los métodos basados en el uso, como por ejemplo el método de las unidades de producción.\n\nEn caso de que exista alguna indicación de que se ha producido un cambio significativo, desde la fecha del último informe anual. en el patrón con arreglo al cual una entidad espera consumir los beneficios económicos futuros de un activo, dicha entidad revisará su método de depreciación presente y, si las expectativas actuales son diferentes, cambiará el método de depreciación para reflejar el nuevo patrón.\n\nPara efectos fiscales, el artículo 137 del ET establece las tasas máximas de depreciación aceptadas para efectos fiscales, las cuales oscilan entre el 2,22% y el 33%. \n\nLa norma también indica que, para efectos fiscales, la vida útil es el periodo durante el cual se espera que el activo brinde beneficios económicos futuros al contribuyente; por lo cual la tasa de depreciación fiscal no necesariamente coincidirá con la tasa de depreciación contable. La vida útil de los activos depreciables deberá estar soportada para efectos fiscales por medio de, entre otros, estudios técnicos, manuales de uso e informes. También son admisibles para soportar la vida útil de los activos documentos probatorios elaborados por un experto en la materia.\n\nEn caso de que el contribuyente realice la depreciación de un elemento de la propiedad, planta y equipo por componentes principales de conformidad con la técnica contable, la deducción por depreciación para efectos fiscales no podrá ser superior a la depreciación o alícuota permitida en la norma tributaria, para el elemento de propiedad, planta y equipo en su totalidad.\n \nLas deducciones por depreciación no deducibles porque exceden los límites establecidos en la norma tributaria, en el año o periodo gravable, generarán una diferencia que será deducible en los periodos siguientes al término de la vida útil del activo.",2255,{"$f":"OFFSET(Ref_Segmento,ROW(INDIRECT(IF(SUBSTITUTE(Comentarios[[#This Row],[RUTA]],\" \",\"\")=Comentarios[[#This Row],[RUTA]],Comentarios[[#This Row],[RUTA]],\"'\"&SUBSTITUTE(Comentarios[[#This Row],[RUTA]],\"!\",\"'!\"))))-1,0)","v":"Partidas"},"Gris",{"$f":"LEFT(Comentarios[[#This Row],[Comentario]],254)","v":"Los párrafos 17.19 a 17.23 de la Sección 17 - Propiedades, planta y equipo (anexo 2 del Decreto 2483 de 2018), indican que, la entidad debe seleccionar un método de depreciación que refleje el patrón con arreglo al cual espera consumir los beneficios eco"},{"$f":"COUNTIF(Comentarios[Columna1],Comentarios[[#This Row],[Columna1]])","v":4}]
[{"$f":"SUBSTITUTE(SUBSTITUTE(FORMULATEXTO_Act(B103),\"=\",\"\"),\"'\",\"\")","v":" !$C$925"},{"$f":"' '!$C$925","v":"Depreciación acumulada activos biológicos"},"Los párrafos 17.19 a 17.23 de la Sección 17 - Propiedades, planta y equipo (anexo 2 del Decreto 2483 de 2018), indican que, la entidad debe seleccionar un método de depreciación que refleje el patrón con arreglo al cual espera consumir los beneficios económicos futuros del activo. Los métodos posibles de depreciación incluyen el método lineal, el método de depreciación decreciente y los métodos basados en el uso, como por ejemplo el método de las unidades de producción.\n\nEn caso de que exista alguna indicación de que se ha producido un cambio significativo, desde la fecha del último informe anual. en el patrón con arreglo al cual una entidad espera consumir los beneficios económicos futuros de un activo, dicha entidad revisará su método de depreciación presente y, si las expectativas actuales son diferentes, cambiará el método de depreciación para reflejar el nuevo patrón.\n\nPara efectos fiscales, el artículo 137 del ET establece las tasas máximas de depreciación aceptadas para efectos fiscales, las cuales oscilan entre el 2,22% y el 33%. \n\nLa norma también indica que, para efectos fiscales, la vida útil es el periodo durante el cual se espera que el activo brinde beneficios económicos futuros al contribuyente; por lo cual la tasa de depreciación fiscal no necesariamente coincidirá con la tasa de depreciación contable. La vida útil de los activos depreciables deberá estar soportada para efectos fiscales por medio de, entre otros, estudios técnicos, manuales de uso e informes. También son admisibles para soportar la vida útil de los activos documentos probatorios elaborados por un experto en la materia.\n\nEn caso de que el contribuyente realice la depreciación de un elemento de la propiedad, planta y equipo por componentes principales de conformidad con la técnica contable, la deducción por depreciación para efectos fiscales no podrá ser superior a la depreciación o alícuota permitida en la norma tributaria, para el elemento de propiedad, planta y equipo en su totalidad.\n \nLas deducciones por depreciación no deducibles porque exceden los límites establecidos en la norma tributaria, en el año o periodo gravable, generarán una diferencia que será deducible en los periodos siguientes al término de la vida útil del activo.",2255,{"$f":"OFFSET(Ref_Segmento,ROW(INDIRECT(IF(SUBSTITUTE(Comentarios[[#This Row],[RUTA]],\" \",\"\")=Comentarios[[#This Row],[RUTA]],Comentarios[[#This Row],[RUTA]],\"'\"&SUBSTITUTE(Comentarios[[#This Row],[RUTA]],\"!\",\"'!\"))))-1,0)","v":"Partidas"},"Gris",{"$f":"LEFT(Comentarios[[#This Row],[Comentario]],254)","v":"Los párrafos 17.19 a 17.23 de la Sección 17 - Propiedades, planta y equipo (anexo 2 del Decreto 2483 de 2018), indican que, la entidad debe seleccionar un método de depreciación que refleje el patrón con arreglo al cual espera consumir los beneficios eco"},{"$f":"COUNTIF(Comentarios[Columna1],Comentarios[[#This Row],[Columna1]])","v":4}]
[{"$f":"SUBSTITUTE(SUBSTITUTE(FORMULATEXTO_Act(B104),\"=\",\"\"),\"'\",\"\")","v":" !$C$873"},{"$f":"' '!$C$873","v":"Deterioro acumulado de los inventarios"},"Los párrafos 27.2 y 27.3 de la Sección 27 - Deterioro del valor de los inventarios (anexo 2 del Decreto 2483 de 2018) señalan que la entidad debe evaluar en cada fecha sobre la que se informa si ha habido un deterioro del valor de los inventarios. Para esto, la entidad realizará la evaluación comparando el importe en libros de cada partida del inventario, con su precio de venta menos los costos de terminación y venta. Si a una partida del inventario (o grupo de partidas similares) se le ha deteriorado su valor, la entidad reducirá el importe en libros del inventario a su precio de venta menos los costos de terminación y venta. Esa reducción es una pérdida por deterioro del valor y se reconoce inmediatamente en resultados.\n\nEn caso de que sea impracticable determinar el precio de venta menos los costos de terminación y venta de los inventarios, partida por partida, la entidad podrá agrupar, a efectos de evaluar el deterioro del valor, las partidas de inventario relacionadas con la misma línea de producto que tengan similar propósito o uso final, y se produzcan y comercialicen en la misma zona geográfica. ",1121,{"$f":"OFFSET(Ref_Segmento,ROW(INDIRECT(IF(SUBSTITUTE(Comentarios[[#This Row],[RUTA]],\" \",\"\")=Comentarios[[#This Row],[RUTA]],Comentarios[[#This Row],[RUTA]],\"'\"&SUBSTITUTE(Comentarios[[#This Row],[RUTA]],\"!\",\"'!\"))))-1,0)","v":"Partidas"},"Gris",{"$f":"LEFT(Comentarios[[#This Row],[Comentario]],254)","v":"Los párrafos 27.2 y 27.3 de la Sección 27 - Deterioro del valor de los inventarios (anexo 2 del Decreto 2483 de 2018) señalan que la entidad debe evaluar en cada fecha sobre la que se informa si ha habido un deterioro del valor de los inventarios. Para e"},{"$f":"COUNTIF(Comentarios[Columna1],Comentarios[[#This Row],[Columna1]])","v":3}]
[{"$f":"SUBSTITUTE(SUBSTITUTE(FORMULATEXTO_Act(B105),\"=\",\"\"),\"'\",\"\")","v":" !$D$984"},{"$f":"' '!$D$984","v":"Base \ncontable"},"De acuerdo con el Decreto 2150 de diciembre 20 de 2017, las cooperativas no tendrán que calcular el impuesto diferido pues sus activos y pasivos contables serán iguales a sus activos y pasivos fiscales. Ver el siguiente artículo: https://actualicese.com/cooperativas-no-calcularian-impuestos-diferidos-pues-su-patrimonio-contable-sera-igual-al-fiscal/\n",352,{"$f":"OFFSET(Ref_Segmento,ROW(INDIRECT(IF(SUBSTITUTE(Comentarios[[#This Row],[RUTA]],\" \",\"\")=Comentarios[[#This Row],[RUTA]],Comentarios[[#This Row],[RUTA]],\"'\"&SUBSTITUTE(Comentarios[[#This Row],[RUTA]],\"!\",\"'!\"))))-1,0)","v":"Impuesto Diferido"},"Gris",{"$f":"LEFT(Comentarios[[#This Row],[Comentario]],254)","v":"De acuerdo con el Decreto 2150 de diciembre 20 de 2017, las cooperativas no tendrán que calcular el impuesto diferido pues sus activos y pasivos contables serán iguales a sus activos y pasivos fiscales. Ver el siguiente artículo: https://actualicese.com/"},{"$f":"COUNTIF(Comentarios[Columna1],Comentarios[[#This Row],[Columna1]])","v":1}]
[{"$f":"SUBSTITUTE(SUBSTITUTE(FORMULATEXTO_Act(B106),\"=\",\"\"),\"'\",\"\")","v":" !$N$984"},{"$f":"' '!$N$984","v":"Variación"},"El valor de la variación de cada una de las partidas corresponden a la diferencia presentada entre el saldo del impuesto diferido a 31 de diciembre del año anterior y el saldo del impuesto diferido a 31 de diciembre del año actual.",231,{"$f":"OFFSET(Ref_Segmento,ROW(INDIRECT(IF(SUBSTITUTE(Comentarios[[#This Row],[RUTA]],\" \",\"\")=Comentarios[[#This Row],[RUTA]],Comentarios[[#This Row],[RUTA]],\"'\"&SUBSTITUTE(Comentarios[[#This Row],[RUTA]],\"!\",\"'!\"))))-1,0)","v":"Impuesto Diferido"},"Azul",{"$f":"LEFT(Comentarios[[#This Row],[Comentario]],254)","v":"El valor de la variación de cada una de las partidas corresponden a la diferencia presentada entre el saldo del impuesto diferido a 31 de diciembre del año anterior y el saldo del impuesto diferido a 31 de diciembre del año actual."},{"$f":"COUNTIF(Comentarios[Columna1],Comentarios[[#This Row],[Columna1]])","v":1}]
[{"$f":"SUBSTITUTE(SUBSTITUTE(FORMULATEXTO_Act(B107),\"=\",\"\"),\"'\",\"\")","v":" !$K$984"},{"$f":"' '!$K$984","v":"Tarifa Aplicable"},"Esta columna debe mostrarse únicamente si en la Hoja \"Datos Generales\", celda E14, la respuesta es \"Sí\", de lo contrario debe quedar oculta, y se debe mostrar la columna I de esta hoja.",185,{"$f":"OFFSET(Ref_Segmento,ROW(INDIRECT(IF(SUBSTITUTE(Comentarios[[#This Row],[RUTA]],\" \",\"\")=Comentarios[[#This Row],[RUTA]],Comentarios[[#This Row],[RUTA]],\"'\"&SUBSTITUTE(Comentarios[[#This Row],[RUTA]],\"!\",\"'!\"))))-1,0)","v":"Impuesto Diferido"},null,{"$f":"LEFT(Comentarios[[#This Row],[Comentario]],254)","v":"Esta columna debe mostrarse únicamente si en la Hoja \"Datos Generales\", celda E14, la respuesta es \"Sí\", de lo contrario debe quedar oculta, y se debe mostrar la columna I de esta hoja."},{"$f":"COUNTIF(Comentarios[Columna1],Comentarios[[#This Row],[Columna1]])","v":1}]
[{"$f":"SUBSTITUTE(SUBSTITUTE(FORMULATEXTO_Act(B108),\"=\",\"\"),\"'\",\"\")","v":" !$J$984"},{"$f":"' '!$J$984","v":"Tarifa \nAplicable"},"La tarifa reflejada en esta columna corresponde a la aplicable según el tipo de empresa seleccionado en la ventana \"Datos básicos de la empresa\". Tenga en cuenta que, esta columna con la tarifa prediligenciada se habilitará únicamente si la respuesta a la pregunta: \"¿Desea ingresar la tarifa aplicable manualmente?  \" de la ventana \"Datos básicos de la empresa\", es negativa, en caso contrario, se deberán ingresar las tarifas aplicables de forma manual.",455,{"$f":"OFFSET(Ref_Segmento,ROW(INDIRECT(IF(SUBSTITUTE(Comentarios[[#This Row],[RUTA]],\" \",\"\")=Comentarios[[#This Row],[RUTA]],Comentarios[[#This Row],[RUTA]],\"'\"&SUBSTITUTE(Comentarios[[#This Row],[RUTA]],\"!\",\"'!\"))))-1,0)","v":"Impuesto Diferido"},"Verde",{"$f":"LEFT(Comentarios[[#This Row],[Comentario]],254)","v":"La tarifa reflejada en esta columna corresponde a la aplicable según el tipo de empresa seleccionado en la ventana \"Datos básicos de la empresa\". Tenga en cuenta que, esta columna con la tarifa prediligenciada se habilitará únicamente si la respuesta a l"},{"$f":"COUNTIF(Comentarios[Columna1],Comentarios[[#This Row],[Columna1]])","v":1}]
[{"$f":"SUBSTITUTE(SUBSTITUTE(FORMULATEXTO_Act(B109),\"=\",\"\"),\"'\",\"\")","v":" !$M$984"},{"$f":"' '!$M$984","v":"Saldo impuesto diferido a \n31 de dic. \nvigencia  anterior"},"Los valores que se reflejan en esta columna corresponde a aquellos registrados en la ventana \"Información años anteriores\".\n",124,{"$f":"OFFSET(Ref_Segmento,ROW(INDIRECT(IF(SUBSTITUTE(Comentarios[[#This Row],[RUTA]],\" \",\"\")=Comentarios[[#This Row],[RUTA]],Comentarios[[#This Row],[RUTA]],\"'\"&SUBSTITUTE(Comentarios[[#This Row],[RUTA]],\"!\",\"'!\"))))-1,0)","v":"Impuesto Diferido"},"Azul",{"$f":"LEFT(Comentarios[[#This Row],[Comentario]],254)","v":"Los valores que se reflejan en esta columna corresponde a aquellos registrados en la ventana \"Información años anteriores\".\n"},{"$f":"COUNTIF(Comentarios[Columna1],Comentarios[[#This Row],[Columna1]])","v":1}]
[{"$f":"SUBSTITUTE(SUBSTITUTE(FORMULATEXTO_Act(B110),\"=\",\"\"),\"'\",\"\")","v":" !$G$984"},{"$f":"' '!$G$984","v":"Tipo \nde \nDiferencia"},"Seleccione el tipo de diferencia presentada generada. Recuerde que:\n\n- Las diferencias temporarias se obtienen del análisis de las partidas del estado de situación financiera y las declaraciones de renta de cada periodo; representan la acumulación, en el valor en libros de los activos y pasivos, de las diferencias temporales presentadas en el periodo actual y en periodos anteriores; estas diferencias generan impuesto diferido.\n\n- Las diferencias permanentes se presentan cuando hay diferencias entre el valor contable y el fiscal de los activos que no se revierten en el futuro. También se presentan por el reconocimiento de gastos que no son ni serán deducibles, o ingresos que no son ni serán gravados; estas diferencias no generan impuesto diferido.\n\nDe acuerdo con lo anterior, la selección que haga afectará el cálculo del impuesto diferido y el saldo final de este a 31 de diciembre de 2023.",901,{"$f":"OFFSET(Ref_Segmento,ROW(INDIRECT(IF(SUBSTITUTE(Comentarios[[#This Row],[RUTA]],\" \",\"\")=Comentarios[[#This Row],[RUTA]],Comentarios[[#This Row],[RUTA]],\"'\"&SUBSTITUTE(Comentarios[[#This Row],[RUTA]],\"!\",\"'!\"))))-1,0)","v":"Impuesto Diferido"},"Verde",{"$f":"LEFT(Comentarios[[#This Row],[Comentario]],254)","v":"Seleccione el tipo de diferencia presentada generada. Recuerde que:\n\n- Las diferencias temporarias se obtienen del análisis de las partidas del estado de situación financiera y las declaraciones de renta de cada periodo; representan la acumulación, en el"},{"$f":"COUNTIF(Comentarios[Columna1],Comentarios[[#This Row],[Columna1]])","v":1}]
[{"$f":"SUBSTITUTE(SUBSTITUTE(FORMULATEXTO_Act(B111),\"=\",\"\"),\"'\",\"\")","v":" !$C$1142"},{"$f":"' '!$C$1142","v":"Sugerencia Contabilización "},"La información reflejada en esta venta es solo una sugerencia de la forma en que se podría contabilizar el ajuste del activo por impuesto diferido, del pasivo por impuesto diferido y de la contrapartida en el ingreso o gasto, según corresponda. \n\nDebe tenerse en cuenta que, los valores registrados en el débito o crédito se originan en la variación presentada tanto en el activo por impuesto diferido como el pasivo por impuesto diferido, entre el año anterior y el actual.",474,{"$f":"OFFSET(Ref_Segmento,ROW(INDIRECT(IF(SUBSTITUTE(Comentarios[[#This Row],[RUTA]],\" \",\"\")=Comentarios[[#This Row],[RUTA]],Comentarios[[#This Row],[RUTA]],\"'\"&SUBSTITUTE(Comentarios[[#This Row],[RUTA]],\"!\",\"'!\"))))-1,0)","v":"Suger Contabilización"},"Verde",{"$f":"LEFT(Comentarios[[#This Row],[Comentario]],254)","v":"La información reflejada en esta venta es solo una sugerencia de la forma en que se podría contabilizar el ajuste del activo por impuesto diferido, del pasivo por impuesto diferido y de la contrapartida en el ingreso o gasto, según corresponda. \n\nDebe te"},{"$f":"COUNTIF(Comentarios[Columna1],Comentarios[[#This Row],[Columna1]])","v":1}]
[{"$f":"SUBSTITUTE(SUBSTITUTE(_xlfn.FORMULATEXT(B112),\"=\",\"\"),\"'\",\"\")","v":" !$B$1035"},{"$f":"' '!$B$1035","v":"Venta de Bienes poseídos por menos de dos años"},"En la venta de un inmueble se pueden dar, entre otros, los siguientes casos:\n\n- El vendedor conserva la titularidad legal del bien y entrega el activo al comprador. Esto con el fin de que el primero tenga una garantía del pago que recibirá del segundo.\n- El vendedor entrega la titularidad legal del bien y el activo al comprador, y recibe de inmediato el pago por parte de este último.\n- El vendedor entrega la titularidad legal del bien y el activo al comprador, y firma un contrato con él donde pactan que recibirá posteriormente los pagos.\n\nNo obstante, en la mayoría de los contratos de venta o enajenación de bienes a plazos tiene lugar el primer escenario mencionado, pues el vendedor conserva la titularidad legal del bien con el fin de generar una garantía sobre el pago del mismo, razón por la cual la escritura pública se firma luego de entregarle el activo al comprador, e incluso después de algunos pagos.\n\nAl respecto, es posible que esta operación genere impuesto diferido, puesto que para fines fiscales se podrá reconocer el ingreso únicamente en el momento de realizar la escritura pública (ver artículos 27 y 28 del ET), mientras que contablemente se debe reconocer el ingreso siempre que el vendedor le haya transferido los riesgos y beneficios asociados al bien al comprador, además de otras condiciones mencionadas en el párrafo 23.10 del Estándar para Pymes, como que los costos e ingresos derivados de la operación se puedan medir con fiabilidad, que el vendedor obtenga beneficios económicos y que no conserve el control efectivo sobre el bien ni ninguna implicación en la gestión corriente del mismo.\nEs decir, contablemente no es una condición que la titularidad legal del bien le haya sido transferida al comprador, ni que este haya efectuado los pagos o se le haya entregado el activo para que se reconozca el ingreso.\nCuando esta situación se presenta, la entidad realiza el reconocimiento del ingreso en la fecha en la que realiza la entrega del inmueble al comprador, toda vez que en ese momento ya no gestiona el activo y transfiere los riesgos y beneficios asociados al mismo.\nEsta operación corresponde a una transacción de financiación según lo expuesto en el párrafo 23.5 del Estándar para Pymes debido a que el acuerdo se realizó sin el cobro de una tasa de interés.\nAsí, el ingreso se reconoce por el valor presente de todos los cobros futuros determinados utilizando una tasa de interés imputada, la cual, según el citado párrafo, se determina así:\n“(...) a) La tasa vigente para un instrumento similar de un emisor con una calificación crediticia similar; o bien,\n\nb) la tasa de interés que iguala el nominal del instrumento utilizado, debidamente descontado, al precio al contado de los bienes o servicios vendidos. Una entidad reconocerá la diferencia entre el valor presente de todos los cobros futuros y el importe nominal de la contraprestación como ingreso de actividades ordinarias por intereses, de acuerdo con los párrafos 23.28 y 23.29 y con la Sección 11”.\nEste ingreso no se tiene en cuenta fiscalmente, pues aún no se firma la escritura pública que formaliza la transacción (ver el numeral 2 de los artículos 27 y 28 del ET). En ese sentido, los valores recibidos como cuota inicial por la venta se consideran un pasivo por anticipo de clientes para efectos fiscales.\nLas partidas de las cuentas por cobrar y del pasivo por anticipo presentan diferencias temporarias imponibles, por cuanto la entidad está aplazando el pago del impuesto correspondiente a la venta del bien inmueble hasta el año en que se firmará la escritura pública de la venta. En ese sentido, la entidad reconoce un impuesto diferido pasivo sobre esta diferencia, el cual representa una provisión del impuesto de renta que deberá pagar en las declaraciones de renta futuras.\n",null,{"$f":"OFFSET(Ref_Segmento,ROW(INDIRECT(IF(SUBSTITUTE(Comentarios[[#This Row],[RUTA]],\" \",\"\")=Comentarios[[#This Row],[RUTA]],Comentarios[[#This Row],[RUTA]],\"'\"&SUBSTITUTE(Comentarios[[#This Row],[RUTA]],\"!\",\"'!\"))))-1,0)","v":"Venta_Bs_Inmu_CxC_RO"},"Gris",{"$f":"LEFT(Comentarios[[#This Row],[Comentario]],254)","v":"En la venta de un inmueble se pueden dar, entre otros, los siguientes casos:\n\n- El vendedor conserva la titularidad legal del bien y entrega el activo al comprador. Esto con el fin de que el primero tenga una garantía del pago que recibirá del segundo.\n-"},{"$f":"COUNTIF(Comentarios[Columna1],Comentarios[[#This Row],[Columna1]])","v":4}]
[" !$D$1036",{"$f":"' '!$D$1036","v":"Cuota Inicial "},"En caso de que el préstamo se haya otorgado con anterioridad al 2022, se deberá ingresas el monto del préstamo pendiente de pago a 1 de enero de 2022.",null,{"$f":"OFFSET(Ref_Segmento,ROW(INDIRECT(IF(SUBSTITUTE(Comentarios[[#This Row],[RUTA]],\" \",\"\")=Comentarios[[#This Row],[RUTA]],Comentarios[[#This Row],[RUTA]],\"'\"&SUBSTITUTE(Comentarios[[#This Row],[RUTA]],\"!\",\"'!\"))))-1,0)","v":"Venta_Bs_Inmu_CxC_RO"},"Gris",{"$f":"LEFT(Comentarios[[#This Row],[Comentario]],254)","v":"En caso de que el préstamo se haya otorgado con anterioridad al 2022, se deberá ingresas el monto del préstamo pendiente de pago a 1 de enero de 2022."},{"$f":"COUNTIF(Comentarios[Columna1],Comentarios[[#This Row],[Columna1]])","v":2}]
[" !$B$1055",{"$f":"' '!$B$1055","v":"Venta de Bienes poseídos por menos de dos años"},"En la venta de un inmueble se pueden dar, entre otros, los siguientes casos:\n\n- El vendedor conserva la titularidad legal del bien y entrega el activo al comprador. Esto con el fin de que el primero tenga una garantía del pago que recibirá del segundo.\n- El vendedor entrega la titularidad legal del bien y el activo al comprador, y recibe de inmediato el pago por parte de este último.\n- El vendedor entrega la titularidad legal del bien y el activo al comprador, y firma un contrato con él donde pactan que recibirá posteriormente los pagos.\n\nNo obstante, en la mayoría de los contratos de venta o enajenación de bienes a plazos tiene lugar el primer escenario mencionado, pues el vendedor conserva la titularidad legal del bien con el fin de generar una garantía sobre el pago del mismo, razón por la cual la escritura pública se firma luego de entregarle el activo al comprador, e incluso después de algunos pagos.\n\nAl respecto, es posible que esta operación genere impuesto diferido, puesto que para fines fiscales se podrá reconocer el ingreso únicamente en el momento de realizar la escritura pública (ver artículos 27 y 28 del ET), mientras que contablemente se debe reconocer el ingreso siempre que el vendedor le haya transferido los riesgos y beneficios asociados al bien al comprador, además de otras condiciones mencionadas en el párrafo 23.10 del Estándar para Pymes, como que los costos e ingresos derivados de la operación se puedan medir con fiabilidad, que el vendedor obtenga beneficios económicos y que no conserve el control efectivo sobre el bien ni ninguna implicación en la gestión corriente del mismo.\nEs decir, contablemente no es una condición que la titularidad legal del bien le haya sido transferida al comprador, ni que este haya efectuado los pagos o se le haya entregado el activo para que se reconozca el ingreso.\nCuando esta situación se presenta, la entidad realiza el reconocimiento del ingreso en la fecha en la que realiza la entrega del inmueble al comprador, toda vez que en ese momento ya no gestiona el activo y transfiere los riesgos y beneficios asociados al mismo.\nEsta operación corresponde a una transacción de financiación según lo expuesto en el párrafo 23.5 del Estándar para Pymes debido a que el acuerdo se realizó sin el cobro de una tasa de interés.\nAsí, el ingreso se reconoce por el valor presente de todos los cobros futuros determinados utilizando una tasa de interés imputada, la cual, según el citado párrafo, se determina así:\n“(...) a) La tasa vigente para un instrumento similar de un emisor con una calificación crediticia similar; o bien,\n\nb) la tasa de interés que iguala el nominal del instrumento utilizado, debidamente descontado, al precio al contado de los bienes o servicios vendidos. Una entidad reconocerá la diferencia entre el valor presente de todos los cobros futuros y el importe nominal de la contraprestación como ingreso de actividades ordinarias por intereses, de acuerdo con los párrafos 23.28 y 23.29 y con la Sección 11”.\nEste ingreso no se tiene en cuenta fiscalmente, pues aún no se firma la escritura pública que formaliza la transacción (ver el numeral 2 de los artículos 27 y 28 del ET). En ese sentido, los valores recibidos como cuota inicial por la venta se consideran un pasivo por anticipo de clientes para efectos fiscales.\nLas partidas de las cuentas por cobrar y del pasivo por anticipo presentan diferencias temporarias imponibles, por cuanto la entidad está aplazando el pago del impuesto correspondiente a la venta del bien inmueble hasta el año en que se firmará la escritura pública de la venta. En ese sentido, la entidad reconoce un impuesto diferido pasivo sobre esta diferencia, el cual representa una provisión del impuesto de renta que deberá pagar en las declaraciones de renta futuras.\n",null,{"$f":"OFFSET(Ref_Segmento,ROW(INDIRECT(IF(SUBSTITUTE(Comentarios[[#This Row],[RUTA]],\" \",\"\")=Comentarios[[#This Row],[RUTA]],Comentarios[[#This Row],[RUTA]],\"'\"&SUBSTITUTE(Comentarios[[#This Row],[RUTA]],\"!\",\"'!\"))))-1,0)","v":"Venta_Bs_Inmu_CxC_GO"},"Gris",{"$f":"LEFT(Comentarios[[#This Row],[Comentario]],254)","v":"En la venta de un inmueble se pueden dar, entre otros, los siguientes casos:\n\n- El vendedor conserva la titularidad legal del bien y entrega el activo al comprador. Esto con el fin de que el primero tenga una garantía del pago que recibirá del segundo.\n-"},{"$f":"COUNTIF(Comentarios[Columna1],Comentarios[[#This Row],[Columna1]])","v":4}]
[" !$D$1056",{"$f":"' '!$D$1056","v":"Cuota Inicial "},"En caso de que el préstamo se haya otorgado con anterioridad al 2022, se deberá ingresas el monto del préstamo pendiente de pago a 1 de enero de 2022.",null,{"$f":"OFFSET(Ref_Segmento,ROW(INDIRECT(IF(SUBSTITUTE(Comentarios[[#This Row],[RUTA]],\" \",\"\")=Comentarios[[#This Row],[RUTA]],Comentarios[[#This Row],[RUTA]],\"'\"&SUBSTITUTE(Comentarios[[#This Row],[RUTA]],\"!\",\"'!\"))))-1,0)","v":"Venta_Bs_Inmu_CxC_GO"},"Gris",{"$f":"LEFT(Comentarios[[#This Row],[Comentario]],254)","v":"En caso de que el préstamo se haya otorgado con anterioridad al 2022, se deberá ingresas el monto del préstamo pendiente de pago a 1 de enero de 2022."},{"$f":"COUNTIF(Comentarios[Columna1],Comentarios[[#This Row],[Columna1]])","v":2}]
[" !$B$1074",{"$f":"' '!$B$1074","v":"Venta de Bienes poseídos por dos años o más "},"En la venta de un inmueble se pueden dar, entre otros, los siguientes casos:\n\n- El vendedor conserva la titularidad legal del bien y entrega el activo al comprador. Esto con el fin de que el primero tenga una garantía del pago que recibirá del segundo.\n- El vendedor entrega la titularidad legal del bien y el activo al comprador, y recibe de inmediato el pago por parte de este último.\n- El vendedor entrega la titularidad legal del bien y el activo al comprador, y firma un contrato con él donde pactan que recibirá posteriormente los pagos.\n\nNo obstante, en la mayoría de los contratos de venta o enajenación de bienes a plazos tiene lugar el primer escenario mencionado, pues el vendedor conserva la titularidad legal del bien con el fin de generar una garantía sobre el pago del mismo, razón por la cual la escritura pública se firma luego de entregarle el activo al comprador, e incluso después de algunos pagos.\n\nAl respecto, es posible que esta operación genere impuesto diferido, puesto que para fines fiscales se podrá reconocer el ingreso únicamente en el momento de realizar la escritura pública (ver artículos 27 y 28 del ET), mientras que contablemente se debe reconocer el ingreso siempre que el vendedor le haya transferido los riesgos y beneficios asociados al bien al comprador, además de otras condiciones mencionadas en el párrafo 23.10 del Estándar para Pymes, como que los costos e ingresos derivados de la operación se puedan medir con fiabilidad, que el vendedor obtenga beneficios económicos y que no conserve el control efectivo sobre el bien ni ninguna implicación en la gestión corriente del mismo.\n\nEs decir, contablemente no es una condición que la titularidad legal del bien le haya sido transferida al comprador, ni que este haya efectuado los pagos o se le haya entregado el activo para que se reconozca el ingreso.\n\nEn el caso de la propiedad, planta y equipo, estamos frente a una diferencia temporaria, pues si bien la entidad dio de baja de su contabilidad el valor del inmueble desde el año 2023 porque el ingreso se consideró realizado en ese momento por cuanto se efectuó la transferencia de los riesgos y beneficios del mismo al comprador, el activo se sigue teniendo en cuenta fiscalmente porque no se ha realizado la firma de la escritura pública.\n\nLa diferencia temporaria es deducible porque el valor contable del activo es menor que su valor fiscal, por lo cual la entidad debe reconocer un impuesto diferido activo. ",null,{"$f":"OFFSET(Ref_Segmento,ROW(INDIRECT(IF(SUBSTITUTE(Comentarios[[#This Row],[RUTA]],\" \",\"\")=Comentarios[[#This Row],[RUTA]],Comentarios[[#This Row],[RUTA]],\"'\"&SUBSTITUTE(Comentarios[[#This Row],[RUTA]],\"!\",\"'!\"))))-1,0)","v":"Venta_Bs_Inmu_PPE"},"Gris",{"$f":"LEFT(Comentarios[[#This Row],[Comentario]],254)","v":"En la venta de un inmueble se pueden dar, entre otros, los siguientes casos:\n\n- El vendedor conserva la titularidad legal del bien y entrega el activo al comprador. Esto con el fin de que el primero tenga una garantía del pago que recibirá del segundo.\n-"},{"$f":"COUNTIF(Comentarios[Columna1],Comentarios[[#This Row],[Columna1]])","v":4}]
[" !$B$1081",{"$f":"' '!$B$1081","v":"Venta de Bienes poseídos por menos de dos años"},"En la venta de un inmueble se pueden dar, entre otros, los siguientes casos:\n\n- El vendedor conserva la titularidad legal del bien y entrega el activo al comprador. Esto con el fin de que el primero tenga una garantía del pago que recibirá del segundo.\n- El vendedor entrega la titularidad legal del bien y el activo al comprador, y recibe de inmediato el pago por parte de este último.\n- El vendedor entrega la titularidad legal del bien y el activo al comprador, y firma un contrato con él donde pactan que recibirá posteriormente los pagos.\n\nNo obstante, en la mayoría de los contratos de venta o enajenación de bienes a plazos tiene lugar el primer escenario mencionado, pues el vendedor conserva la titularidad legal del bien con el fin de generar una garantía sobre el pago del mismo, razón por la cual la escritura pública se firma luego de entregarle el activo al comprador, e incluso después de algunos pagos.\n\nAl respecto, es posible esta operación genere impuesto diferido, puesto que para fines fiscales se podrá reconocer el ingreso únicamente en el momento de realizar la escritura pública (ver artículos 27 y 28 del ET), mientras que contablemente se debe reconocer el ingreso siempre que el vendedor le haya transferido los riesgos y beneficios asociados al bien al comprador, además de otras condiciones mencionadas en el párrafo 23.10 del Estándar para Pymes, como que los costos e ingresos derivados de la operación se puedan medir con fiabilidad, que el vendedor obtenga beneficios económicos y que no conserve el control efectivo sobre el bien ni ninguna implicación en la gestión corriente del mismo.\n\nEs decir, contablemente no es una condición que la titularidad legal del bien le haya sido transferida al comprador, ni que este haya efectuado los pagos o se le haya entregado el activo para que se reconozca el ingreso.\n\nEn el caso de la propiedad, planta y equipo, estamos frente a una diferencia temporaria, pues si bien la entidad dio de baja de su contabilidad el valor del inmueble desde el año 2023 porque el ingreso se consideró realizado en ese momento por cuanto se efectuó la transferencia de los riesgos y beneficios del mismo al comprador, el activo se sigue teniendo en cuenta fiscalmente porque no se ha realizado la firma de la escritura pública.\n\nLa diferencia temporaria es deducible porque el valor contable del activo es menor que su valor fiscal, por lo cual la entidad debe reconocer un impuesto diferido activo. ",null,{"$f":"OFFSET(Ref_Segmento,ROW(INDIRECT(IF(SUBSTITUTE(Comentarios[[#This Row],[RUTA]],\" \",\"\")=Comentarios[[#This Row],[RUTA]],Comentarios[[#This Row],[RUTA]],\"'\"&SUBSTITUTE(Comentarios[[#This Row],[RUTA]],\"!\",\"'!\"))))-1,0)","v":"Venta_Bs_Inmu_PPE"},"Gris",{"$f":"LEFT(Comentarios[[#This Row],[Comentario]],254)","v":"En la venta de un inmueble se pueden dar, entre otros, los siguientes casos:\n\n- El vendedor conserva la titularidad legal del bien y entrega el activo al comprador. Esto con el fin de que el primero tenga una garantía del pago que recibirá del segundo.\n-"},{"$f":"COUNTIF(Comentarios[Columna1],Comentarios[[#This Row],[Columna1]])","v":4}]

{"sheet":"Desarrollador","index":3,"n_rows":177,"n_cols":19,"rows_kept":177,"hidden":true}
["Accion","Grupo","Tipo","Imagen","Left","Top","Height","Width","Visible",null,null,"Segmento","Fila","Alto","Herramienta","Version","Formato_Editar","Avisos","Tipo"]
["Siempre",null,"Imagen","Titulo_Segmento",303,26,48,295,1,null,null,"Fondo_Menu",{"$f":"IFERROR(MATCH(Parametros[[#This Row],[Segmento]],OFFSET(Ref_Segmento,0,0,100000),0),0)","v":6},{"$f":"IFERROR(COUNTIF(OFFSET(Ref_Segmento,0,0,100000),Parametros[[#This Row],[Segmento]]),0)","v":35},"Impuesto Diferido",20221104,null,0,2]
[null,null,"Imagen","Picture 80",{"$nulls":4},1,null,null,{"$f":"IF(Parametros[Segmento]=\"Fondo_Menu\",\"Impuesto Diferido\",\"\")","v":"Impuesto Diferido"}]
["Siempre",null,"Imagen","Logo",40,24,48,193,1]
["Siempre",null,"Imagen","Division_1",277,21,53,0,1]
[null,null,"Imagen","Regresar_Al_Menu",{"$f":"IF(I7=1,$E$7,E5)+30","v":307},26,47,133,{"$f":"IFERROR((Parametros[Segmento]<>\"Fondo_Menu\")*1,1)","v":0}]
["Siempre",null,"Imagen","Division_2",{"$f":"$E$108+$I$108*($H$108+30)","v":307},21,53,0,{"$f":"IFERROR(MAX($I$49:$I$108),0)","v":0}]
["Menu_Basico",null,"Imagen","btn_Datos basicos empresa",358,125,182,190,{"$f":"IFERROR((General_o_Detallada=Listas!$Q$2)*(Parametros[Segmento]=\"Fondo_Menu\")*1,0)","v":0}]
["Menu_Basico",null,"Imagen","btn_Partidas",567,125,182,190,{"$f":"IFERROR((General_o_Detallada=Listas!$Q$2)*(Parametros[Segmento]=\"Fondo_Menu\")*1,0)","v":0}]
["Menu_Basico",null,"Imagen","btn_Impuesto Diferido",358,321,182,190,{"$f":"IFERROR((General_o_Detallada=Listas!$Q$2)*(Parametros[Segmento]=\"Fondo_Menu\")*1,0)","v":0}]
["Menu_Basico",null,"Imagen","btn_Diferencias",567,321,182,190,{"$f":"IFERROR((General_o_Detallada=Listas!$Q$2)*(Parametros[Segmento]=\"Fondo_Menu\")*1,0)","v":0}]
["Menu_Detallado",null,"Imagen","MD_Información Básica",70,109,43,177,{"$f":"IFERROR((General_o_Detallada=Listas!$Q$3)*(Parametros[Segmento]=\"Fondo_Menu\")*1,0)","v":1},null,null,"m","s","l","a"]
["Menu_Detallado",null,"Imagen","MD_Información Básica_Barra",{"$f":"E12","v":70},165,0,113,{"$f":"IFERROR((General_o_Detallada=Listas!$Q$3)*(Parametros[Segmento]=\"Fondo_Menu\")*1,0)","v":1},null,null,"1E8E20524153","",null,""]
["Menu_Detallado",null,"Imagen","MD_Partidas Activo",{"$f":"E12+270","v":340},107,43,140,{"$f":"IFERROR((General_o_Detallada=Listas!$Q$3)*(Parametros[Segmento]=\"Fondo_Menu\")*1,0)","v":1},null,null,"1E8E20524153","",null,""]
["Menu_Detallado",null,"Imagen","MD_Partidas Activo_Barra",{"$f":"E14","v":340},165,0,112,{"$f":"IFERROR((General_o_Detallada=Listas!$Q$3)*(Parametros[Segmento]=\"Fondo_Menu\")*1,0)","v":1},null,null,"1E8E20524153","",null,""]
["Menu_Detallado",null,"Imagen","MD_Partidas Pasivos",{"$f":"E14+270","v":610},106,43,134,{"$f":"IFERROR((General_o_Detallada=Listas!$Q$3)*(Parametros[Segmento]=\"Fondo_Menu\")*1,0)","v":1},null,null,"48E7DAC5AF37","",null,""]
["Menu_Detallado",null,"Imagen","MD_Partidas Pasivos_Barra",{"$f":"E16","v":610},165,0,115,{"$f":"IFERROR((General_o_Detallada=Listas!$Q$3)*(Parametros[Segmento]=\"Fondo_Menu\")*1,0)","v":1},null,null,"48E7DAC5AF36","",null,""]
["Menu_Detallado",null,"Imagen","MD_Información de Orientación",{"$f":"E16+270","v":880},299,42,198,{"$f":"IFERROR((General_o_Detallada=Listas!$Q$3)*(Parametros[Segmento]=\"Fondo_Menu\")*1,0)","v":1},null,null,"4AE7DAC5AF27","",null,""]
["Menu_Detallado",null,"Imagen","MD_Información de Orientación_Barra",{"$f":"E18","v":880},354,0,113,{"$f":"IFERROR((General_o_Detallada=Listas!$Q$3)*(Parametros[Segmento]=\"Fondo_Menu\")*1,0)","v":1},null,null,"4AE7DAC5AF37","",null,""]
["Menu_Detallado",null,"Imagen","MD_Cálculo",{"$f":"E18","v":880},110,43,123,{"$f":"IFERROR((General_o_Detallada=Listas!$Q$3)*(Parametros[Segmento]=\"Fondo_Menu\")*1,0)","v":1}]
["Menu_Detallado",null,"Imagen","MD_Cálculo_Barra",{"$f":"E20","v":880},165,null,113,{"$f":"IFERROR((General_o_Detallada=Listas!$Q$3)*(Parametros[Segmento]=\"Fondo_Menu\")*1,0)","v":1}]
["Menu_Detallado",null,"Imagen","MD_Barra_Puntos_Inferior",56,{"$f":"MAX($F$23:$F$48)+50","v":581.3000000000002},12,1000,{"$f":"IFERROR((General_o_Detallada=Listas!$Q$3)*(Parametros[Segmento]=\"Fondo_Menu\")*1,0)","v":1}]
["Menu_Detallado",null,"Imagen","Datos basicos empresa",{"$f":"$E$13","v":70},{"$f":"F13+15","v":180},22.1,178.5,{"$f":"IFERROR((General_o_Detallada=Listas!$Q$3)*(Parametros[Segmento]=\"Fondo_Menu\")*1,0)","v":1}]
["Menu_Detallado",{"$f":"IF(Parametros[Tipo]=2,\"Esta sección no está disponible en la versión de prueba de Actualícese Impuesto Diferido.\nDisfruta de todas sus funciones ingresando a:\",\"\")","v":"Esta sección no está disponible en la versión de prueba de Actualícese Impuesto Diferido.\nDisfruta de todas sus funciones ingresando a:"},"Imagen","Info años anteriores",{"$f":"$E$13","v":70},{"$f":"F23+G23+4","v":206.1},22.1,178.5,{"$f":"IFERROR((General_o_Detallada=Listas!$Q$3)*(Parametros[Segmento]=\"Fondo_Menu\")*1,0)","v":1}]
["Menu_Detallado",null,"Imagen","Efectivo y equiv ef",{"$f":"$E$15","v":340},{"$f":"$F$23","v":180},22.1,178.5,{"$f":"IFERROR((General_o_Detallada=Listas!$Q$3)*(Parametros[Segmento]=\"Fondo_Menu\")*1,0)","v":1}]
["Menu_Detallado",{"$f":"IF(Parametros[Tipo]=2,\"Esta sección no está disponible en la versión de prueba de Actualícese Impuesto Diferido.\nDisfruta de todas sus funciones ingresando a:\",\"\")","v":"Esta sección no está disponible en la versión de prueba de Actualícese Impuesto Diferido.\nDisfruta de todas sus funciones ingresando a:"},"Imagen","Inversiones e Instr Deriv",340,{"$f":"F25+G25+4","v":206.1},34.8,178.5,{"$f":"IFERROR((General_o_Detallada=Listas!$Q$3)*(Parametros[Segmento]=\"Fondo_Menu\")*1,0)","v":1}]
["Menu_Detallado",{"$f":"IF(Parametros[Tipo]=2,\"Esta sección no está disponible en la versión de prueba de Actualícese Impuesto Diferido.\nDisfruta de todas sus funciones ingresando a:\",\"\")","v":"Esta sección no está disponible en la versión de prueba de Actualícese Impuesto Diferido.\nDisfruta de todas sus funciones ingresando a:"},"Imagen","Cuentas x cobrar",340,244.89999999999998,22.1,178.5,{"$f":"IFERROR((General_o_Detallada=Listas!$Q$3)*(Parametros[Segmento]=\"Fondo_Menu\")*1,0)","v":1}]
["Menu_Detallado",null,"Imagen","Inventarios",340,271,22.1,178.5,{"$f":"IFERROR((General_o_Detallada=Listas!$Q$3)*(Parametros[Segmento]=\"Fondo_Menu\")*1,0)","v":1}]
["Menu_Detallado",{"$f":"IF(Parametros[Tipo]=2,\"Esta sección no está disponible en la versión de prueba de Actualícese Impuesto Diferido.\nDisfruta de todas sus funciones ingresando a:\",\"\")","v":"Esta sección no está disponible en la versión de prueba de Actualícese Impuesto Diferido.\nDisfruta de todas sus funciones ingresando a:"},"Imagen","Prop, plan y Equip",340,297.1,22.1,178.5,{"$f":"IFERROR((General_o_Detallada=Listas!$Q$3)*(Parametros[Segmento]=\"Fondo_Menu\")*1,0)","v":1}]
["Menu_Detallado",{"$f":"IF(Parametros[Tipo]=2,\"Esta sección no está disponible en la versión de prueba de Actualícese Impuesto Diferido.\nDisfruta de todas sus funciones ingresando a:\",\"\")","v":"Esta sección no está disponible en la versión de prueba de Actualícese Impuesto Diferido.\nDisfruta de todas sus funciones ingresando a:"},"Imagen","Venta_Bs_Inmu_CxC_RO",340,323.20000000000005,22.1,178.5,{"$f":"IFERROR((General_o_Detallada=Listas!$Q$3)*(Parametros[Segmento]=\"Fondo_Menu\")*1,0)","v":1}]
["Menu_Detallado",{"$f":"IF(Parametros[Tipo]=2,\"Esta sección no está disponible en la versión de prueba de Actualícese Impuesto Diferido.\nDisfruta de todas sus funciones ingresando a:\",\"\")","v":"Esta sección no está disponible en la versión de prueba de Actualícese Impuesto Diferido.\nDisfruta de todas sus funciones ingresando a:"},"Imagen","Activos Intangibles",340,349.30000000000007,22.1,178.5,{"$f":"IFERROR((General_o_Detallada=Listas!$Q$3)*(Parametros[Segmento]=\"Fondo_Menu\")*1,0)","v":1}]
["Menu_Detallado",null,"Imagen","Prop de Inversión",340,375.4000000000001,22.1,178.5,{"$f":"IFERROR((General_o_Detallada=Listas!$Q$3)*(Parametros[Segmento]=\"Fondo_Menu\")*1,0)","v":1}]
["Menu_Detallado",{"$f":"IF(Parametros[Tipo]=2,\"Esta sección no está disponible en la versión de prueba de Actualícese Impuesto Diferido.\nDisfruta de todas sus funciones ingresando a:\",\"\")","v":"Esta sección no está disponible en la versión de prueba de Actualícese Impuesto Diferido.\nDisfruta de todas sus funciones ingresando a:"},"Imagen","Activos Biológicos",340,401.5000000000001,22.1,178.5,{"$f":"IFERROR((General_o_Detallada=Listas!$Q$3)*(Parametros[Segmento]=\"Fondo_Menu\")*1,0)","v":1}]
["Menu_Detallado",{"$f":"IF(Parametros[Tipo]=2,\"Esta sección no está disponible en la versión de prueba de Actualícese Impuesto Diferido.\nDisfruta de todas sus funciones ingresando a:\",\"\")","v":"Esta sección no está disponible en la versión de prueba de Actualícese Impuesto Diferido.\nDisfruta de todas sus funciones ingresando a:"},"Imagen","Act N Corr Mant Vent",340,427.60000000000014,34.8,178.5,{"$f":"IFERROR((General_o_Detallada=Listas!$Q$3)*(Parametros[Segmento]=\"Fondo_Menu\")*1,0)","v":1}]
["Menu_Detallado",{"$f":"IF(Parametros[Tipo]=2,\"Esta sección no está disponible en la versión de prueba de Actualícese Impuesto Diferido.\nDisfruta de todas sus funciones ingresando a:\",\"\")","v":"Esta sección no está disponible en la versión de prueba de Actualícese Impuesto Diferido.\nDisfruta de todas sus funciones ingresando a:"},"Imagen","Act Rec Solo Fiscalmente",340,466.40000000000015,34.8,178.5,{"$f":"IFERROR((General_o_Detallada=Listas!$Q$3)*(Parametros[Segmento]=\"Fondo_Menu\")*1,0)","v":1}]
["Menu_Detallado",{"$f":"IF(Parametros[Tipo]=2,\"Esta sección no está disponible en la versión de prueba de Actualícese Impuesto Diferido.\nDisfruta de todas sus funciones ingresando a:\",\"\")","v":"Esta sección no está disponible en la versión de prueba de Actualícese Impuesto Diferido.\nDisfruta de todas sus funciones ingresando a:"},"Imagen","Otros Activos",340,505.20000000000016,22.1,178.5,{"$f":"IFERROR((General_o_Detallada=Listas!$Q$3)*(Parametros[Segmento]=\"Fondo_Menu\")*1,0)","v":1}]
["Menu_Detallado",{"$f":"IF(Parametros[Tipo]=2,\"Esta sección no está disponible en la versión de prueba de Actualícese Impuesto Diferido.\nDisfruta de todas sus funciones ingresando a:\",\"\")","v":"Esta sección no está disponible en la versión de prueba de Actualícese Impuesto Diferido.\nDisfruta de todas sus funciones ingresando a:"},"Imagen","Pérdidas Fiscales",340,531.3000000000002,22.1,178.5,{"$f":"IFERROR((General_o_Detallada=Listas!$Q$3)*(Parametros[Segmento]=\"Fondo_Menu\")*1,0)","v":1}]
["Menu_Detallado",null,"Imagen","Pasivos Finan y CxP",{"$f":"$E$17","v":610},{"$f":"$F$23","v":180},34.8,178.5,{"$f":"IFERROR((General_o_Detallada=Listas!$Q$3)*(Parametros[Segmento]=\"Fondo_Menu\")*1,0)","v":1}]
["Menu_Detallado",{"$f":"IF(Parametros[Tipo]=2,\"Esta sección no está disponible en la versión de prueba de Actualícese Impuesto Diferido.\nDisfruta de todas sus funciones ingresando a:\",\"\")","v":"Esta sección no está disponible en la versión de prueba de Actualícese Impuesto Diferido.\nDisfruta de todas sus funciones ingresando a:"},"Imagen","Imptos, grav y tasas",610,{"$f":"F38+G38+4","v":218.8},22.1,178.5,{"$f":"IFERROR((General_o_Detallada=Listas!$Q$3)*(Parametros[Segmento]=\"Fondo_Menu\")*1,0)","v":1}]
["Menu_Detallado",{"$f":"IF(Parametros[Tipo]=2,\"Esta sección no está disponible en la versión de prueba de Actualícese Impuesto Diferido.\nDisfruta de todas sus funciones ingresando a:\",\"\")","v":"Esta sección no está disponible en la versión de prueba de Actualícese Impuesto Diferido.\nDisfruta de todas sus funciones ingresando a:"},"Imagen","Beneficios a empleados",610,{"$f":"F39+G39+4","v":244.9},22.1,178.5,{"$f":"IFERROR((General_o_Detallada=Listas!$Q$3)*(Parametros[Segmento]=\"Fondo_Menu\")*1,0)","v":1}]
["Menu_Detallado",{"$f":"IF(Parametros[Tipo]=2,\"Esta sección no está disponible en la versión de prueba de Actualícese Impuesto Diferido.\nDisfruta de todas sus funciones ingresando a:\",\"\")","v":"Esta sección no está disponible en la versión de prueba de Actualícese Impuesto Diferido.\nDisfruta de todas sus funciones ingresando a:"},"Imagen","Provisiones",610,{"$f":"F40+G40+4","v":271},22.1,178.5,{"$f":"IFERROR((General_o_Detallada=Listas!$Q$3)*(Parametros[Segmento]=\"Fondo_Menu\")*1,0)","v":1}]
["Menu_Detallado",{"$f":"IF(Parametros[Tipo]=2,\"Esta sección no está disponible en la versión de prueba de Actualícese Impuesto Diferido.\nDisfruta de todas sus funciones ingresando a:\",\"\")","v":"Esta sección no está disponible en la versión de prueba de Actualícese Impuesto Diferido.\nDisfruta de todas sus funciones ingresando a:"},"Imagen","Otros Pasivos, Antic y Avanc",610,{"$f":"F41+G41+4","v":297.1},34.8,178.5,{"$f":"IFERROR((General_o_Detallada=Listas!$Q$3)*(Parametros[Segmento]=\"Fondo_Menu\")*1,0)","v":1}]
["Menu_Detallado",{"$f":"IF(Parametros[Tipo]=2,\"Esta sección no está disponible en la versión de prueba de Actualícese Impuesto Diferido.\nDisfruta de todas sus funciones ingresando a:\",\"\")","v":"Esta sección no está disponible en la versión de prueba de Actualícese Impuesto Diferido.\nDisfruta de todas sus funciones ingresando a:"},"Imagen","Pasivos Rec Solo Fiscalmente",610,{"$f":"F42+G42+4","v":335.90000000000003},34.8,178.5,{"$f":"IFERROR((General_o_Detallada=Listas!$Q$3)*(Parametros[Segmento]=\"Fondo_Menu\")*1,0)","v":1}]
["Menu_Detallado",null,"Imagen","Impuesto Diferido",{"$f":"$E$21","v":880},{"$f":"$F$23","v":180},22.1,178.5,{"$f":"IFERROR((General_o_Detallada=Listas!$Q$3)*(Parametros[Segmento]=\"Fondo_Menu\")*1,0)","v":1}]
["Menu_Detallado",null,"Imagen","Impuesto Diferido 2516",{"$f":"$E$21","v":880},{"$f":"F44+G44+4","v":206.1},22.1,178.5,{"$f":"IFERROR((General_o_Detallada=Listas!$Q$3)*(Parametros[Segmento]=\"Fondo_Menu\")*1,0)","v":1}]
["Menu_Detallado",null,"Imagen","Suger Contabilización",{"$f":"$E$21","v":880},{"$f":"F45+G45+4","v":232.2},22.1,178.5,{"$f":"IFERROR((General_o_Detallada=Listas!$Q$3)*(Parametros[Segmento]=\"Fondo_Menu\")*1,0)","v":1}]
["Menu_Detallado",{"$f":"IF(Parametros[Tipo]=2,\"Esta sección no está disponible en la versión de prueba de Actualícese Impuesto Diferido.\nDisfruta de todas sus funciones ingresando a:\",\"\")","v":"Esta sección no está disponible en la versión de prueba de Actualícese Impuesto Diferido.\nDisfruta de todas sus funciones ingresando a:"},"Imagen","Diferencias",{"$f":"$E$21","v":880},{"$f":"F19+15","v":369},22.1,178.5,{"$f":"IFERROR((General_o_Detallada=Listas!$Q$3)*(Parametros[Segmento]=\"Fondo_Menu\")*1,0)","v":1}]
["Menu_Detallado",{"$f":"IF(Parametros[Tipo]=2,\"Esta sección no está disponible en la versión de prueba de Actualícese Impuesto Diferido.\nDisfruta de todas sus funciones ingresando a:\",\"\")","v":"Esta sección no está disponible en la versión de prueba de Actualícese Impuesto Diferido.\nDisfruta de todas sus funciones ingresando a:"},"Imagen","Normatividad",{"$f":"$E$21","v":880},{"$f":"F47+G47+4","v":395.1},22.1,178.5,{"$f":"IFERROR((General_o_Detallada=Listas!$Q$3)*(Parametros[Segmento]=\"Fondo_Menu\")*1,0)","v":1}]
["Menu_Detallado",{"$f":"IF(Parametros[Tipo]=2,\"Esta sección no está disponible en la versión de prueba de Actualícese Impuesto Diferido.\nDisfruta de todas sus funciones ingresando a:\",\"\")","v":"Esta sección no está disponible en la versión de prueba de Actualícese Impuesto Diferido.\nDisfruta de todas sus funciones ingresando a:"},"Imagen","Datos basicos empresa_BSA",{"$f":"$E$5+30","v":307},26,45,170,{"$f":"IFERROR((INDEX(Botones_Segmentos[Grupo],MATCH(SUBSTITUTE(Botones_e_Imagenes[[#This Row],[Imagen]],\"_BSA\",\"\"),Botones_Segmentos[Segmento],0))=INDEX(Botones_Segmentos[Grupo],MATCH(Parametros[Segmento],Botones_Segmentos[Segmento],0)))*(Parametros[Segmento]<>SUBSTITUTE(Botones_e_Imagenes[[#This Row],[Imagen]],\"_BSA\",\"\"))*1,0)","v":0}]
["Menu_Detallado",{"$f":"IF(Parametros[Tipo]=2,\"Esta sección no está disponible en la versión de prueba de Actualícese Impuesto Diferido.\nDisfruta de todas sus funciones ingresando a:\",\"\")","v":"Esta sección no está disponible en la versión de prueba de Actualícese Impuesto Diferido.\nDisfruta de todas sus funciones ingresando a:"},"Imagen","Datos basicos empresa_BS",{"$f":"E49+I49*(H49+30)","v":307},26,45,170,{"$f":"IFERROR((Parametros[Segmento]=SUBSTITUTE(Botones_e_Imagenes[[#This Row],[Imagen]],\"_BS\",\"\"))*1,0)","v":0}]
["Menu_Detallado",{"$f":"IF(Parametros[Tipo]=2,\"Esta sección no está disponible en la versión de prueba de Actualícese Impuesto Diferido.\nDisfruta de todas sus funciones ingresando a:\",\"\")","v":"Esta sección no está disponible en la versión de prueba de Actualícese Impuesto Diferido.\nDisfruta de todas sus funciones ingresando a:"},"Imagen","Info años anteriores_BSA",{"$f":"E50+I50*(H50+30)","v":307},26,45,170,{"$f":"IFERROR((INDEX(Botones_Segmentos[Grupo],MATCH(SUBSTITUTE(Botones_e_Imagenes[[#This Row],[Imagen]],\"_BSA\",\"\"),Botones_Segmentos[Segmento],0))=INDEX(Botones_Segmentos[Grupo],MATCH(Parametros[Segmento],Botones_Segmentos[Segmento],0)))*(Parametros[Segmento]<>SUBSTITUTE(Botones_e_Imagenes[[#This Row],[Imagen]],\"_BSA\",\"\"))*1,0)","v":0}]
["Menu_Detallado",{"$f":"IF(Parametros[Tipo]=2,\"Esta sección no está disponible en la versión de prueba de Actualícese Impuesto Diferido.\nDisfruta de todas sus funciones ingresando a:\",\"\")","v":"Esta sección no está disponible en la versión de prueba de Actualícese Impuesto Diferido.\nDisfruta de todas sus funciones ingresando a:"},"Imagen","Info años anteriores_BS",307,26,45,170,{"$f":"IFERROR((Parametros[Segmento]=SUBSTITUTE(Botones_e_Imagenes[[#This Row],[Imagen]],\"_BS\",\"\"))*1,0)","v":0}]
["Menu_Detallado",{"$f":"IF(Parametros[Tipo]=2,\"Esta sección no está disponible en la versión de prueba de Actualícese Impuesto Diferido.\nDisfruta de todas sus funciones ingresando a:\",\"\")","v":"Esta sección no está disponible en la versión de prueba de Actualícese Impuesto Diferido.\nDisfruta de todas sus funciones ingresando a:"},"Imagen","Inversiones e Instr Deriv_BSA",307,26,45,170,{"$f":"IFERROR((INDEX(Botones_Segmentos[Grupo],MATCH(SUBSTITUTE(Botones_e_Imagenes[[#This Row],[Imagen]],\"_BSA\",\"\"),Botones_Segmentos[Segmento],0))=INDEX(Botones_Segmentos[Grupo],MATCH(Parametros[Segmento],Botones_Segmentos[Segmento],0)))*(Parametros[Segmento]<>SUBSTITUTE(Botones_e_Imagenes[[#This Row],[Imagen]],\"_BSA\",\"\"))*1,0)","v":0}]
["Menu_Detallado",{"$f":"IF(Parametros[Tipo]=2,\"Esta sección no está disponible en la versión de prueba de Actualícese Impuesto Diferido.\nDisfruta de todas sus funciones ingresando a:\",\"\")","v":"Esta sección no está disponible en la versión de prueba de Actualícese Impuesto Diferido.\nDisfruta de todas sus funciones ingresando a:"},"Imagen","Inversiones e Instr Deriv_BS",307,26,45,170,{"$f":"IFERROR((Parametros[Segmento]=SUBSTITUTE(Botones_e_Imagenes[[#This Row],[Imagen]],\"_BS\",\"\"))*1,0)","v":0}]
["Menu_Detallado",{"$f":"IF(Parametros[Tipo]=2,\"Esta sección no está disponible en la versión de prueba de Actualícese Impuesto Diferido.\nDisfruta de todas sus funciones ingresando a:\",\"\")","v":"Esta sección no está disponible en la versión de prueba de Actualícese Impuesto Diferido.\nDisfruta de todas sus funciones ingresando a:"},"Imagen","Det Acum Inver_BSA",307,26,45,170,{"$f":"IFERROR((INDEX(Botones_Segmentos[Grupo],MATCH(SUBSTITUTE(Botones_e_Imagenes[[#This Row],[Imagen]],\"_BSA\",\"\"),Botones_Segmentos[Segmento],0))=INDEX(Botones_Segmentos[Grupo],MATCH(Parametros[Segmento],Botones_Segmentos[Segmento],0)))*(Parametros[Segmento]<>SUBSTITUTE(Botones_e_Imagenes[[#This Row],[Imagen]],\"_BSA\",\"\"))*1,0)","v":0}]
["Menu_Detallado",{"$f":"IF(Parametros[Tipo]=2,\"Esta sección no está disponible en la versión de prueba de Actualícese Impuesto Diferido.\nDisfruta de todas sus funciones ingresando a:\",\"\")","v":"Esta sección no está disponible en la versión de prueba de Actualícese Impuesto Diferido.\nDisfruta de todas sus funciones ingresando a:"},"Imagen","Det Acum Inver_BS",307,26,45,170,{"$f":"IFERROR((Parametros[Segmento]=SUBSTITUTE(Botones_e_Imagenes[[#This Row],[Imagen]],\"_BS\",\"\"))*1,0)","v":0}]
["Menu_Detallado",{"$f":"IF(Parametros[Tipo]=2,\"Esta sección no está disponible en la versión de prueba de Actualícese Impuesto Diferido.\nDisfruta de todas sus funciones ingresando a:\",\"\")","v":"Esta sección no está disponible en la versión de prueba de Actualícese Impuesto Diferido.\nDisfruta de todas sus funciones ingresando a:"},"Imagen","Cuentas x cobrar_BSA",307,26,45,170,{"$f":"IFERROR((INDEX(Botones_Segmentos[Grupo],MATCH(SUBSTITUTE(Botones_e_Imagenes[[#This Row],[Imagen]],\"_BSA\",\"\"),Botones_Segmentos[Segmento],0))=INDEX(Botones_Segmentos[Grupo],MATCH(Parametros[Segmento],Botones_Segmentos[Segmento],0)))*(Parametros[Segmento]<>SUBSTITUTE(Botones_e_Imagenes[[#This Row],[Imagen]],\"_BSA\",\"\"))*1,0)","v":0}]
["Menu_Detallado",{"$f":"IF(Parametros[Tipo]=2,\"Esta sección no está disponible en la versión de prueba de Actualícese Impuesto Diferido.\nDisfruta de todas sus funciones ingresando a:\",\"\")","v":"Esta sección no está disponible en la versión de prueba de Actualícese Impuesto Diferido.\nDisfruta de todas sus funciones ingresando a:"},"Imagen","Cuentas x cobrar_BS",307,26,45,170,{"$f":"IFERROR((Parametros[Segmento]=SUBSTITUTE(Botones_e_Imagenes[[#This Row],[Imagen]],\"_BS\",\"\"))*1,0)","v":0}]
["Menu_Detallado",{"$f":"IF(Parametros[Tipo]=2,\"Esta sección no está disponible en la versión de prueba de Actualícese Impuesto Diferido.\nDisfruta de todas sus funciones ingresando a:\",\"\")","v":"Esta sección no está disponible en la versión de prueba de Actualícese Impuesto Diferido.\nDisfruta de todas sus funciones ingresando a:"},"Imagen","Det Acum CxC_BSA",307,26,45,170,{"$f":"IFERROR((INDEX(Botones_Segmentos[Grupo],MATCH(SUBSTITUTE(Botones_e_Imagenes[[#This Row],[Imagen]],\"_BSA\",\"\"),Botones_Segmentos[Segmento],0))=INDEX(Botones_Segmentos[Grupo],MATCH(Parametros[Segmento],Botones_Segmentos[Segmento],0)))*(Parametros[Segmento]<>SUBSTITUTE(Botones_e_Imagenes[[#This Row],[Imagen]],\"_BSA\",\"\"))*1,0)","v":0}]
["Menu_Detallado",{"$f":"IF(Parametros[Tipo]=2,\"Esta sección no está disponible en la versión de prueba de Actualícese Impuesto Diferido.\nDisfruta de todas sus funciones ingresando a:\",\"\")","v":"Esta sección no está disponible en la versión de prueba de Actualícese Impuesto Diferido.\nDisfruta de todas sus funciones ingresando a:"},"Imagen","Det Acum CxC_BS",307,26,45,170,{"$f":"IFERROR((Parametros[Segmento]=SUBSTITUTE(Botones_e_Imagenes[[#This Row],[Imagen]],\"_BS\",\"\"))*1,0)","v":0}]
["Menu_Detallado",{"$f":"IF(Parametros[Tipo]=2,\"Esta sección no está disponible en la versión de prueba de Actualícese Impuesto Diferido.\nDisfruta de todas sus funciones ingresando a:\",\"\")","v":"Esta sección no está disponible en la versión de prueba de Actualícese Impuesto Diferido.\nDisfruta de todas sus funciones ingresando a:"},"Imagen","Inventarios_BSA",307,26,45,170,{"$f":"IFERROR((INDEX(Botones_Segmentos[Grupo],MATCH(SUBSTITUTE(Botones_e_Imagenes[[#This Row],[Imagen]],\"_BSA\",\"\"),Botones_Segmentos[Segmento],0))=INDEX(Botones_Segmentos[Grupo],MATCH(Parametros[Segmento],Botones_Segmentos[Segmento],0)))*(Parametros[Segmento]<>SUBSTITUTE(Botones_e_Imagenes[[#This Row],[Imagen]],\"_BSA\",\"\"))*1,0)","v":0}]
["Menu_Detallado",{"$f":"IF(Parametros[Tipo]=2,\"Esta sección no está disponible en la versión de prueba de Actualícese Impuesto Diferido.\nDisfruta de todas sus funciones ingresando a:\",\"\")","v":"Esta sección no está disponible en la versión de prueba de Actualícese Impuesto Diferido.\nDisfruta de todas sus funciones ingresando a:"},"Imagen","Inventarios_BS",307,26,45,170,{"$f":"IFERROR((Parametros[Segmento]=SUBSTITUTE(Botones_e_Imagenes[[#This Row],[Imagen]],\"_BS\",\"\"))*1,0)","v":0}]
["Menu_Detallado",{"$f":"IF(Parametros[Tipo]=2,\"Esta sección no está disponible en la versión de prueba de Actualícese Impuesto Diferido.\nDisfruta de todas sus funciones ingresando a:\",\"\")","v":"Esta sección no está disponible en la versión de prueba de Actualícese Impuesto Diferido.\nDisfruta de todas sus funciones ingresando a:"},"Imagen","Det Acum Invent_BSA",307,26,45,170,{"$f":"IFERROR((INDEX(Botones_Segmentos[Grupo],MATCH(SUBSTITUTE(Botones_e_Imagenes[[#This Row],[Imagen]],\"_BSA\",\"\"),Botones_Segmentos[Segmento],0))=INDEX(Botones_Segmentos[Grupo],MATCH(Parametros[Segmento],Botones_Segmentos[Segmento],0)))*(Parametros[Segmento]<>SUBSTITUTE(Botones_e_Imagenes[[#This Row],[Imagen]],\"_BSA\",\"\"))*1,0)","v":0}]
["Menu_Detallado",{"$f":"IF(Parametros[Tipo]=2,\"Esta sección no está disponible en la versión de prueba de Actualícese Impuesto Diferido.\nDisfruta de todas sus funciones ingresando a:\",\"\")","v":"Esta sección no está disponible en la versión de prueba de Actualícese Impuesto Diferido.\nDisfruta de todas sus funciones ingresando a:"},"Imagen","Det Acum Invent_BS",307,26,45,170,{"$f":"IFERROR((Parametros[Segmento]=SUBSTITUTE(Botones_e_Imagenes[[#This Row],[Imagen]],\"_BS\",\"\"))*1,0)","v":0}]
["Menu_Detallado",{"$f":"IF(Parametros[Tipo]=2,\"Esta sección no está disponible en la versión de prueba de Actualícese Impuesto Diferido.\nDisfruta de todas sus funciones ingresando a:\",\"\")","v":"Esta sección no está disponible en la versión de prueba de Actualícese Impuesto Diferido.\nDisfruta de todas sus funciones ingresando a:"},"Imagen","Prop, plan y Equip_BSA",307,26,45,170,{"$f":"IFERROR((INDEX(Botones_Segmentos[Grupo],MATCH(SUBSTITUTE(Botones_e_Imagenes[[#This Row],[Imagen]],\"_BSA\",\"\"),Botones_Segmentos[Segmento],0))=INDEX(Botones_Segmentos[Grupo],MATCH(Parametros[Segmento],Botones_Segmentos[Segmento],0)))*(Parametros[Segmento]<>SUBSTITUTE(Botones_e_Imagenes[[#This Row],[Imagen]],\"_BSA\",\"\"))*1,0)","v":0}]
["Menu_Detallado",{"$f":"IF(Parametros[Tipo]=2,\"Esta sección no está disponible en la versión de prueba de Actualícese Impuesto Diferido.\nDisfruta de todas sus funciones ingresando a:\",\"\")","v":"Esta sección no está disponible en la versión de prueba de Actualícese Impuesto Diferido.\nDisfruta de todas sus funciones ingresando a:"},"Imagen","Prop, plan y Equip_BS",307,26,45,170,{"$f":"IFERROR((Parametros[Segmento]=SUBSTITUTE(Botones_e_Imagenes[[#This Row],[Imagen]],\"_BS\",\"\"))*1,0)","v":0}]
["Menu_Detallado",{"$f":"IF(Parametros[Tipo]=2,\"Esta sección no está disponible en la versión de prueba de Actualícese Impuesto Diferido.\nDisfruta de todas sus funciones ingresando a:\",\"\")","v":"Esta sección no está disponible en la versión de prueba de Actualícese Impuesto Diferido.\nDisfruta de todas sus funciones ingresando a:"},"Imagen","Dep Acum P, P y E_BSA",307,26,45,170,{"$f":"IFERROR((INDEX(Botones_Segmentos[Grupo],MATCH(SUBSTITUTE(Botones_e_Imagenes[[#This Row],[Imagen]],\"_BSA\",\"\"),Botones_Segmentos[Segmento],0))=INDEX(Botones_Segmentos[Grupo],MATCH(Parametros[Segmento],Botones_Segmentos[Segmento],0)))*(Parametros[Segmento]<>SUBSTITUTE(Botones_e_Imagenes[[#This Row],[Imagen]],\"_BSA\",\"\"))*1,0)","v":0}]
["Menu_Detallado",{"$f":"IF(Parametros[Tipo]=2,\"Esta sección no está disponible en la versión de prueba de Actualícese Impuesto Diferido.\nDisfruta de todas sus funciones ingresando a:\",\"\")","v":"Esta sección no está disponible en la versión de prueba de Actualícese Impuesto Diferido.\nDisfruta de todas sus funciones ingresando a:"},"Imagen","Dep Acum P, P y E_BS",307,26,45,170,{"$f":"IFERROR((Parametros[Segmento]=SUBSTITUTE(Botones_e_Imagenes[[#This Row],[Imagen]],\"_BS\",\"\"))*1,0)","v":0}]
["Menu_Detallado",{"$f":"IF(Parametros[Tipo]=2,\"Esta sección no está disponible en la versión de prueba de Actualícese Impuesto Diferido.\nDisfruta de todas sus funciones ingresando a:\",\"\")","v":"Esta sección no está disponible en la versión de prueba de Actualícese Impuesto Diferido.\nDisfruta de todas sus funciones ingresando a:"},"Imagen","Det Acum P, P y E_BSA",307,26,45,170,{"$f":"IFERROR((INDEX(Botones_Segmentos[Grupo],MATCH(SUBSTITUTE(Botones_e_Imagenes[[#This Row],[Imagen]],\"_BSA\",\"\"),Botones_Segmentos[Segmento],0))=INDEX(Botones_Segmentos[Grupo],MATCH(Parametros[Segmento],Botones_Segmentos[Segmento],0)))*(Parametros[Segmento]<>SUBSTITUTE(Botones_e_Imagenes[[#This Row],[Imagen]],\"_BSA\",\"\"))*1,0)","v":0}]
["Menu_Detallado",{"$f":"IF(Parametros[Tipo]=2,\"Esta sección no está disponible en la versión de prueba de Actualícese Impuesto Diferido.\nDisfruta de todas sus funciones ingresando a:\",\"\")","v":"Esta sección no está disponible en la versión de prueba de Actualícese Impuesto Diferido.\nDisfruta de todas sus funciones ingresando a:"},"Imagen","Det Acum P, P y E_BS",307,26,45,170,{"$f":"IFERROR((Parametros[Segmento]=SUBSTITUTE(Botones_e_Imagenes[[#This Row],[Imagen]],\"_BS\",\"\"))*1,0)","v":0}]
["Menu_Detallado",{"$f":"IF(Parametros[Tipo]=2,\"Esta sección no está disponible en la versión de prueba de Actualícese Impuesto Diferido.\nDisfruta de todas sus funciones ingresando a:\",\"\")","v":"Esta sección no está disponible en la versión de prueba de Actualícese Impuesto Diferido.\nDisfruta de todas sus funciones ingresando a:"},"Imagen","Venta_Bs_Inmu_CxC_RO_BSA",307,26,45,170,{"$f":"IFERROR((INDEX(Botones_Segmentos[Grupo],MATCH(SUBSTITUTE(Botones_e_Imagenes[[#This Row],[Imagen]],\"_BSA\",\"\"),Botones_Segmentos[Segmento],0))=INDEX(Botones_Segmentos[Grupo],MATCH(Parametros[Segmento],Botones_Segmentos[Segmento],0)))*(Parametros[Segmento]<>SUBSTITUTE(Botones_e_Imagenes[[#This Row],[Imagen]],\"_BSA\",\"\"))*1,0)","v":0}]
["Menu_Detallado",{"$f":"IF(Parametros[Tipo]=2,\"Esta sección no está disponible en la versión de prueba de Actualícese Impuesto Diferido.\nDisfruta de todas sus funciones ingresando a:\",\"\")","v":"Esta sección no está disponible en la versión de prueba de Actualícese Impuesto Diferido.\nDisfruta de todas sus funciones ingresando a:"},"Imagen","Venta_Bs_Inmu_CxC_RO_BS",307,26,45,170,{"$f":"IFERROR((Parametros[Segmento]=SUBSTITUTE(Botones_e_Imagenes[[#This Row],[Imagen]],\"_BS\",\"\"))*1,0)","v":0}]
["Menu_Detallado",{"$f":"IF(Parametros[Tipo]=2,\"Esta sección no está disponible en la versión de prueba de Actualícese Impuesto Diferido.\nDisfruta de todas sus funciones ingresando a:\",\"\")","v":"Esta sección no está disponible en la versión de prueba de Actualícese Impuesto Diferido.\nDisfruta de todas sus funciones ingresando a:"},"Imagen","Venta_Bs_Inmu_CxC_GO_BSA",307,26,45,170,{"$f":"IFERROR((INDEX(Botones_Segmentos[Grupo],MATCH(SUBSTITUTE(Botones_e_Imagenes[[#This Row],[Imagen]],\"_BSA\",\"\"),Botones_Segmentos[Segmento],0))=INDEX(Botones_Segmentos[Grupo],MATCH(Parametros[Segmento],Botones_Segmentos[Segmento],0)))*(Parametros[Segmento]<>SUBSTITUTE(Botones_e_Imagenes[[#This Row],[Imagen]],\"_BSA\",\"\"))*1,0)","v":0}]
["Menu_Detallado",{"$f":"IF(Parametros[Tipo]=2,\"Esta sección no está disponible en la versión de prueba de Actualícese Impuesto Diferido.\nDisfruta de todas sus funciones ingresando a:\",\"\")","v":"Esta sección no está disponible en la versión de prueba de Actualícese Impuesto Diferido.\nDisfruta de todas sus funciones ingresando a:"},"Imagen","Venta_Bs_Inmu_CxC_GO_BS",307,26,45,170,{"$f":"IFERROR((Parametros[Segmento]=SUBSTITUTE(Botones_e_Imagenes[[#This Row],[Imagen]],\"_BS\",\"\"))*1,0)","v":0}]
["Menu_Detallado",{"$f":"IF(Parametros[Tipo]=2,\"Esta sección no está disponible en la versión de prueba de Actualícese Impuesto Diferido.\nDisfruta de todas sus funciones ingresando a:\",\"\")","v":"Esta sección no está disponible en la versión de prueba de Actualícese Impuesto Diferido.\nDisfruta de todas sus funciones ingresando a:"},"Imagen","Venta_Bs_Inmu_PPE_BSA",307,26,45,170,{"$f":"IFERROR((INDEX(Botones_Segmentos[Grupo],MATCH(SUBSTITUTE(Botones_e_Imagenes[[#This Row],[Imagen]],\"_BSA\",\"\"),Botones_Segmentos[Segmento],0))=INDEX(Botones_Segmentos[Grupo],MATCH(Parametros[Segmento],Botones_Segmentos[Segmento],0)))*(Parametros[Segmento]<>SUBSTITUTE(Botones_e_Imagenes[[#This Row],[Imagen]],\"_BSA\",\"\"))*1,0)","v":0}]
["Menu_Detallado",{"$f":"IF(Parametros[Tipo]=2,\"Esta sección no está disponible en la versión de prueba de Actualícese Impuesto Diferido.\nDisfruta de todas sus funciones ingresando a:\",\"\")","v":"Esta sección no está disponible en la versión de prueba de Actualícese Impuesto Diferido.\nDisfruta de todas sus funciones ingresando a:"},"Imagen","Venta_Bs_Inmu_PPE_BS",307,26,45,170,{"$f":"IFERROR((Parametros[Segmento]=SUBSTITUTE(Botones_e_Imagenes[[#This Row],[Imagen]],\"_BS\",\"\"))*1,0)","v":0}]
["Menu_Detallado",{"$f":"IF(Parametros[Tipo]=2,\"Esta sección no está disponible en la versión de prueba de Actualícese Impuesto Diferido.\nDisfruta de todas sus funciones ingresando a:\",\"\")","v":"Esta sección no está disponible en la versión de prueba de Actualícese Impuesto Diferido.\nDisfruta de todas sus funciones ingresando a:"},"Imagen","Activos Intangibles_BSA",307,26,45,170,{"$f":"IFERROR((INDEX(Botones_Segmentos[Grupo],MATCH(SUBSTITUTE(Botones_e_Imagenes[[#This Row],[Imagen]],\"_BSA\",\"\"),Botones_Segmentos[Segmento],0))=INDEX(Botones_Segmentos[Grupo],MATCH(Parametros[Segmento],Botones_Segmentos[Segmento],0)))*(Parametros[Segmento]<>SUBSTITUTE(Botones_e_Imagenes[[#This Row],[Imagen]],\"_BSA\",\"\"))*1,0)","v":0}]
["Menu_Detallado",{"$f":"IF(Parametros[Tipo]=2,\"Esta sección no está disponible en la versión de prueba de Actualícese Impuesto Diferido.\nDisfruta de todas sus funciones ingresando a:\",\"\")","v":"Esta sección no está disponible en la versión de prueba de Actualícese Impuesto Diferido.\nDisfruta de todas sus funciones ingresando a:"},"Imagen","Activos Intangibles_BS",307,26,45,170,{"$f":"IFERROR((Parametros[Segmento]=SUBSTITUTE(Botones_e_Imagenes[[#This Row],[Imagen]],\"_BS\",\"\"))*1,0)","v":0}]
["Menu_Detallado",{"$f":"IF(Parametros[Tipo]=2,\"Esta sección no está disponible en la versión de prueba de Actualícese Impuesto Diferido.\nDisfruta de todas sus funciones ingresando a:\",\"\")","v":"Esta sección no está disponible en la versión de prueba de Actualícese Impuesto Diferido.\nDisfruta de todas sus funciones ingresando a:"},"Imagen","Amort Acum Act Intang_BSA",307,26,45,170,{"$f":"IFERROR((INDEX(Botones_Segmentos[Grupo],MATCH(SUBSTITUTE(Botones_e_Imagenes[[#This Row],[Imagen]],\"_BSA\",\"\"),Botones_Segmentos[Segmento],0))=INDEX(Botones_Segmentos[Grupo],MATCH(Parametros[Segmento],Botones_Segmentos[Segmento],0)))*(Parametros[Segmento]<>SUBSTITUTE(Botones_e_Imagenes[[#This Row],[Imagen]],\"_BSA\",\"\"))*1,0)","v":0}]
["Menu_Detallado",{"$f":"IF(Parametros[Tipo]=2,\"Esta sección no está disponible en la versión de prueba de Actualícese Impuesto Diferido.\nDisfruta de todas sus funciones ingresando a:\",\"\")","v":"Esta sección no está disponible en la versión de prueba de Actualícese Impuesto Diferido.\nDisfruta de todas sus funciones ingresando a:"},"Imagen","Amort Acum Act Intang_BS",307,26,45,170,{"$f":"IFERROR((Parametros[Segmento]=SUBSTITUTE(Botones_e_Imagenes[[#This Row],[Imagen]],\"_BS\",\"\"))*1,0)","v":0}]
["Menu_Detallado",{"$f":"IF(Parametros[Tipo]=2,\"Esta sección no está disponible en la versión de prueba de Actualícese Impuesto Diferido.\nDisfruta de todas sus funciones ingresando a:\",\"\")","v":"Esta sección no está disponible en la versión de prueba de Actualícese Impuesto Diferido.\nDisfruta de todas sus funciones ingresando a:"},"Imagen","Det Acum Act Intang_BSA",307,26,45,170,{"$f":"IFERROR((INDEX(Botones_Segmentos[Grupo],MATCH(SUBSTITUTE(Botones_e_Imagenes[[#This Row],[Imagen]],\"_BSA\",\"\"),Botones_Segmentos[Segmento],0))=INDEX(Botones_Segmentos[Grupo],MATCH(Parametros[Segmento],Botones_Segmentos[Segmento],0)))*(Parametros[Segmento]<>SUBSTITUTE(Botones_e_Imagenes[[#This Row],[Imagen]],\"_BSA\",\"\"))*1,0)","v":0}]
["Menu_Detallado",{"$f":"IF(Parametros[Tipo]=2,\"Esta sección no está disponible en la versión de prueba de Actualícese Impuesto Diferido.\nDisfruta de todas sus funciones ingresando a:\",\"\")","v":"Esta sección no está disponible en la versión de prueba de Actualícese Impuesto Diferido.\nDisfruta de todas sus funciones ingresando a:"},"Imagen","Det Acum Act Intang_BS",307,26,45,170,{"$f":"IFERROR((Parametros[Segmento]=SUBSTITUTE(Botones_e_Imagenes[[#This Row],[Imagen]],\"_BS\",\"\"))*1,0)","v":0}]
["Menu_Detallado",{"$f":"IF(Parametros[Tipo]=2,\"Esta sección no está disponible en la versión de prueba de Actualícese Impuesto Diferido.\nDisfruta de todas sus funciones ingresando a:\",\"\")","v":"Esta sección no está disponible en la versión de prueba de Actualícese Impuesto Diferido.\nDisfruta de todas sus funciones ingresando a:"},"Imagen","Prop de Inversión_BSA",307,26,45,170,{"$f":"IFERROR((INDEX(Botones_Segmentos[Grupo],MATCH(SUBSTITUTE(Botones_e_Imagenes[[#This Row],[Imagen]],\"_BSA\",\"\"),Botones_Segmentos[Segmento],0))=INDEX(Botones_Segmentos[Grupo],MATCH(Parametros[Segmento],Botones_Segmentos[Segmento],0)))*(Parametros[Segmento]<>SUBSTITUTE(Botones_e_Imagenes[[#This Row],[Imagen]],\"_BSA\",\"\"))*1,0)","v":0}]
["Menu_Detallado",{"$f":"IF(Parametros[Tipo]=2,\"Esta sección no está disponible en la versión de prueba de Actualícese Impuesto Diferido.\nDisfruta de todas sus funciones ingresando a:\",\"\")","v":"Esta sección no está disponible en la versión de prueba de Actualícese Impuesto Diferido.\nDisfruta de todas sus funciones ingresando a:"},"Imagen","Prop de Inversión_BS",307,26,45,170,{"$f":"IFERROR((Parametros[Segmento]=SUBSTITUTE(Botones_e_Imagenes[[#This Row],[Imagen]],\"_BS\",\"\"))*1,0)","v":0}]
["Menu_Detallado",{"$f":"IF(Parametros[Tipo]=2,\"Esta sección no está disponible en la versión de prueba de Actualícese Impuesto Diferido.\nDisfruta de todas sus funciones ingresando a:\",\"\")","v":"Esta sección no está disponible en la versión de prueba de Actualícese Impuesto Diferido.\nDisfruta de todas sus funciones ingresando a:"},"Imagen","Dep Acum Prop Inver_BSA",307,26,45,170,{"$f":"IFERROR((INDEX(Botones_Segmentos[Grupo],MATCH(SUBSTITUTE(Botones_e_Imagenes[[#This Row],[Imagen]],\"_BSA\",\"\"),Botones_Segmentos[Segmento],0))=INDEX(Botones_Segmentos[Grupo],MATCH(Parametros[Segmento],Botones_Segmentos[Segmento],0)))*(Parametros[Segmento]<>SUBSTITUTE(Botones_e_Imagenes[[#This Row],[Imagen]],\"_BSA\",\"\"))*1,0)","v":0}]
["Menu_Detallado",{"$f":"IF(Parametros[Tipo]=2,\"Esta sección no está disponible en la versión de prueba de Actualícese Impuesto Diferido.\nDisfruta de todas sus funciones ingresando a:\",\"\")","v":"Esta sección no está disponible en la versión de prueba de Actualícese Impuesto Diferido.\nDisfruta de todas sus funciones ingresando a:"},"Imagen","Dep Acum Prop Inver_BS",307,26,45,170,{"$f":"IFERROR((Parametros[Segmento]=SUBSTITUTE(Botones_e_Imagenes[[#This Row],[Imagen]],\"_BS\",\"\"))*1,0)","v":0}]
["Menu_Detallado",{"$f":"IF(Parametros[Tipo]=2,\"Esta sección no está disponible en la versión de prueba de Actualícese Impuesto Diferido.\nDisfruta de todas sus funciones ingresando a:\",\"\")","v":"Esta sección no está disponible en la versión de prueba de Actualícese Impuesto Diferido.\nDisfruta de todas sus funciones ingresando a:"},"Imagen","Det Acum Prop Inver_BSA",307,26,45,170,{"$f":"IFERROR((INDEX(Botones_Segmentos[Grupo],MATCH(SUBSTITUTE(Botones_e_Imagenes[[#This Row],[Imagen]],\"_BSA\",\"\"),Botones_Segmentos[Segmento],0))=INDEX(Botones_Segmentos[Grupo],MATCH(Parametros[Segmento],Botones_Segmentos[Segmento],0)))*(Parametros[Segmento]<>SUBSTITUTE(Botones_e_Imagenes[[#This Row],[Imagen]],\"_BSA\",\"\"))*1,0)","v":0}]
["Menu_Detallado",{"$f":"IF(Parametros[Tipo]=2,\"Esta sección no está disponible en la versión de prueba de Actualícese Impuesto Diferido.\nDisfruta de todas sus funciones ingresando a:\",\"\")","v":"Esta sección no está disponible en la versión de prueba de Actualícese Impuesto Diferido.\nDisfruta de todas sus funciones ingresando a:"},"Imagen","Det Acum Prop Inver_BS",307,26,45,170,{"$f":"IFERROR((Parametros[Segmento]=SUBSTITUTE(Botones_e_Imagenes[[#This Row],[Imagen]],\"_BS\",\"\"))*1,0)","v":0}]
["Menu_Detallado",{"$f":"IF(Parametros[Tipo]=2,\"Esta sección no está disponible en la versión de prueba de Actualícese Impuesto Diferido.\nDisfruta de todas sus funciones ingresando a:\",\"\")","v":"Esta sección no está disponible en la versión de prueba de Actualícese Impuesto Diferido.\nDisfruta de todas sus funciones ingresando a:"},"Imagen","Activos Biológicos_BSA",307,26,45,170,{"$f":"IFERROR((INDEX(Botones_Segmentos[Grupo],MATCH(SUBSTITUTE(Botones_e_Imagenes[[#This Row],[Imagen]],\"_BSA\",\"\"),Botones_Segmentos[Segmento],0))=INDEX(Botones_Segmentos[Grupo],MATCH(Parametros[Segmento],Botones_Segmentos[Segmento],0)))*(Parametros[Segmento]<>SUBSTITUTE(Botones_e_Imagenes[[#This Row],[Imagen]],\"_BSA\",\"\"))*1,0)","v":0}]
["Menu_Detallado",{"$f":"IF(Parametros[Tipo]=2,\"Esta sección no está disponible en la versión de prueba de Actualícese Impuesto Diferido.\nDisfruta de todas sus funciones ingresando a:\",\"\")","v":"Esta sección no está disponible en la versión de prueba de Actualícese Impuesto Diferido.\nDisfruta de todas sus funciones ingresando a:"},"Imagen","Activos Biológicos_BS",307,26,45,170,{"$f":"IFERROR((Parametros[Segmento]=SUBSTITUTE(Botones_e_Imagenes[[#This Row],[Imagen]],\"_BS\",\"\"))*1,0)","v":0}]
["Menu_Detallado",{"$f":"IF(Parametros[Tipo]=2,\"Esta sección no está disponible en la versión de prueba de Actualícese Impuesto Diferido.\nDisfruta de todas sus funciones ingresando a:\",\"\")","v":"Esta sección no está disponible en la versión de prueba de Actualícese Impuesto Diferido.\nDisfruta de todas sus funciones ingresando a:"},"Imagen","Dep Acum Act Biol_BSA",307,26,45,170,{"$f":"IFERROR((INDEX(Botones_Segmentos[Grupo],MATCH(SUBSTITUTE(Botones_e_Imagenes[[#This Row],[Imagen]],\"_BSA\",\"\"),Botones_Segmentos[Segmento],0))=INDEX(Botones_Segmentos[Grupo],MATCH(Parametros[Segmento],Botones_Segmentos[Segmento],0)))*(Parametros[Segmento]<>SUBSTITUTE(Botones_e_Imagenes[[#This Row],[Imagen]],\"_BSA\",\"\"))*1,0)","v":0}]
["Menu_Detallado",{"$f":"IF(Parametros[Tipo]=2,\"Esta sección no está disponible en la versión de prueba de Actualícese Impuesto Diferido.\nDisfruta de todas sus funciones ingresando a:\",\"\")","v":"Esta sección no está disponible en la versión de prueba de Actualícese Impuesto Diferido.\nDisfruta de todas sus funciones ingresando a:"},"Imagen","Dep Acum Act Biol_BS",307,26,45,170,{"$f":"IFERROR((Parametros[Segmento]=SUBSTITUTE(Botones_e_Imagenes[[#This Row],[Imagen]],\"_BS\",\"\"))*1,0)","v":0}]
["Menu_Detallado",{"$f":"IF(Parametros[Tipo]=2,\"Esta sección no está disponible en la versión de prueba de Actualícese Impuesto Diferido.\nDisfruta de todas sus funciones ingresando a:\",\"\")","v":"Esta sección no está disponible en la versión de prueba de Actualícese Impuesto Diferido.\nDisfruta de todas sus funciones ingresando a:"},"Imagen","Det Acum Act Biol_BSA",307,26,45,170,{"$f":"IFERROR((INDEX(Botones_Segmentos[Grupo],MATCH(SUBSTITUTE(Botones_e_Imagenes[[#This Row],[Imagen]],\"_BSA\",\"\"),Botones_Segmentos[Segmento],0))=INDEX(Botones_Segmentos[Grupo],MATCH(Parametros[Segmento],Botones_Segmentos[Segmento],0)))*(Parametros[Segmento]<>SUBSTITUTE(Botones_e_Imagenes[[#This Row],[Imagen]],\"_BSA\",\"\"))*1,0)","v":0}]
["Menu_Detallado",{"$f":"IF(Parametros[Tipo]=2,\"Esta sección no está disponible en la versión de prueba de Actualícese Impuesto Diferido.\nDisfruta de todas sus funciones ingresando a:\",\"\")","v":"Esta sección no está disponible en la versión de prueba de Actualícese Impuesto Diferido.\nDisfruta de todas sus funciones ingresando a:"},"Imagen","Det Acum Act Biol_BS",307,26,45,170,{"$f":"IFERROR((Parametros[Segmento]=SUBSTITUTE(Botones_e_Imagenes[[#This Row],[Imagen]],\"_BS\",\"\"))*1,0)","v":0}]
["Menu_Detallado",{"$f":"IF(Parametros[Tipo]=2,\"Esta sección no está disponible en la versión de prueba de Actualícese Impuesto Diferido.\nDisfruta de todas sus funciones ingresando a:\",\"\")","v":"Esta sección no está disponible en la versión de prueba de Actualícese Impuesto Diferido.\nDisfruta de todas sus funciones ingresando a:"},"Imagen","Act N Corr Mant Vent_BSA",307,26,45,170,{"$f":"IFERROR((INDEX(Botones_Segmentos[Grupo],MATCH(SUBSTITUTE(Botones_e_Imagenes[[#This Row],[Imagen]],\"_BSA\",\"\"),Botones_Segmentos[Segmento],0))=INDEX(Botones_Segmentos[Grupo],MATCH(Parametros[Segmento],Botones_Segmentos[Segmento],0)))*(Parametros[Segmento]<>SUBSTITUTE(Botones_e_Imagenes[[#This Row],[Imagen]],\"_BSA\",\"\"))*1,0)","v":0}]
["Menu_Detallado",{"$f":"IF(Parametros[Tipo]=2,\"Esta sección no está disponible en la versión de prueba de Actualícese Impuesto Diferido.\nDisfruta de todas sus funciones ingresando a:\",\"\")","v":"Esta sección no está disponible en la versión de prueba de Actualícese Impuesto Diferido.\nDisfruta de todas sus funciones ingresando a:"},"Imagen","Act N Corr Mant Vent_BS",307,26,45,170,{"$f":"IFERROR((Parametros[Segmento]=SUBSTITUTE(Botones_e_Imagenes[[#This Row],[Imagen]],\"_BS\",\"\"))*1,0)","v":0}]
["Menu_Detallado",{"$f":"IF(Parametros[Tipo]=2,\"Esta sección no está disponible en la versión de prueba de Actualícese Impuesto Diferido.\nDisfruta de todas sus funciones ingresando a:\",\"\")","v":"Esta sección no está disponible en la versión de prueba de Actualícese Impuesto Diferido.\nDisfruta de todas sus funciones ingresando a:"},"Imagen","Det Acum ANC Mant Vent_BSA",307,26,45,170,{"$f":"IFERROR((INDEX(Botones_Segmentos[Grupo],MATCH(SUBSTITUTE(Botones_e_Imagenes[[#This Row],[Imagen]],\"_BSA\",\"\"),Botones_Segmentos[Segmento],0))=INDEX(Botones_Segmentos[Grupo],MATCH(Parametros[Segmento],Botones_Segmentos[Segmento],0)))*(Parametros[Segmento]<>SUBSTITUTE(Botones_e_Imagenes[[#This Row],[Imagen]],\"_BSA\",\"\"))*1,0)","v":0}]
["Menu_Detallado",{"$f":"IF(Parametros[Tipo]=2,\"Esta sección no está disponible en la versión de prueba de Actualícese Impuesto Diferido.\nDisfruta de todas sus funciones ingresando a:\",\"\")","v":"Esta sección no está disponible en la versión de prueba de Actualícese Impuesto Diferido.\nDisfruta de todas sus funciones ingresando a:"},"Imagen","Det Acum ANC Mant Vent_BS",307,26,45,170,{"$f":"IFERROR((Parametros[Segmento]=SUBSTITUTE(Botones_e_Imagenes[[#This Row],[Imagen]],\"_BS\",\"\"))*1,0)","v":0}]
["Menu_Detallado",{"$f":"IF(Parametros[Tipo]=2,\"Esta sección no está disponible en la versión de prueba de Actualícese Impuesto Diferido.\nDisfruta de todas sus funciones ingresando a:\",\"\")","v":"Esta sección no está disponible en la versión de prueba de Actualícese Impuesto Diferido.\nDisfruta de todas sus funciones ingresando a:"},"Imagen","Impuesto Diferido_BSA",307,26,45,170,{"$f":"IFERROR((INDEX(Botones_Segmentos[Grupo],MATCH(SUBSTITUTE(Botones_e_Imagenes[[#This Row],[Imagen]],\"_BSA\",\"\"),Botones_Segmentos[Segmento],0))=INDEX(Botones_Segmentos[Grupo],MATCH(Parametros[Segmento],Botones_Segmentos[Segmento],0)))*(Parametros[Segmento]<>SUBSTITUTE(Botones_e_Imagenes[[#This Row],[Imagen]],\"_BSA\",\"\"))*1,0)","v":0}]
["Menu_Detallado",{"$f":"IF(Parametros[Tipo]=2,\"Esta sección no está disponible en la versión de prueba de Actualícese Impuesto Diferido.\nDisfruta de todas sus funciones ingresando a:\",\"\")","v":"Esta sección no está disponible en la versión de prueba de Actualícese Impuesto Diferido.\nDisfruta de todas sus funciones ingresando a:"},"Imagen","Impuesto Diferido_BS",307,26,45,170,{"$f":"IFERROR((Parametros[Segmento]=SUBSTITUTE(Botones_e_Imagenes[[#This Row],[Imagen]],\"_BS\",\"\"))*1,0)","v":0}]
["Menu_Detallado",{"$f":"IF(Parametros[Tipo]=2,\"Esta sección no está disponible en la versión de prueba de Actualícese Impuesto Diferido.\nDisfruta de todas sus funciones ingresando a:\",\"\")","v":"Esta sección no está disponible en la versión de prueba de Actualícese Impuesto Diferido.\nDisfruta de todas sus funciones ingresando a:"},"Imagen","Impuesto Diferido 2516_BSA",307,26,45,170,{"$f":"IFERROR((INDEX(Botones_Segmentos[Grupo],MATCH(SUBSTITUTE(Botones_e_Imagenes[[#This Row],[Imagen]],\"_BSA\",\"\"),Botones_Segmentos[Segmento],0))=INDEX(Botones_Segmentos[Grupo],MATCH(Parametros[Segmento],Botones_Segmentos[Segmento],0)))*(Parametros[Segmento]<>SUBSTITUTE(Botones_e_Imagenes[[#This Row],[Imagen]],\"_BSA\",\"\"))*1,0)","v":0}]
["Menu_Detallado",{"$f":"IF(Parametros[Tipo]=2,\"Esta sección no está disponible en la versión de prueba de Actualícese Impuesto Diferido.\nDisfruta de todas sus funciones ingresando a:\",\"\")","v":"Esta sección no está disponible en la versión de prueba de Actualícese Impuesto Diferido.\nDisfruta de todas sus funciones ingresando a:"},"Imagen","Impuesto Diferido 2516_BS",307,26,45,170,{"$f":"IFERROR((Parametros[Segmento]=SUBSTITUTE(Botones_e_Imagenes[[#This Row],[Imagen]],\"_BS\",\"\"))*1,0)","v":0}]
["Menu_Detallado",{"$f":"IF(Parametros[Tipo]=2,\"Esta sección no está disponible en la versión de prueba de Actualícese Impuesto Diferido.\nDisfruta de todas sus funciones ingresando a:\",\"\")","v":"Esta sección no está disponible en la versión de prueba de Actualícese Impuesto Diferido.\nDisfruta de todas sus funciones ingresando a:"},"Imagen","Suger Contabilización_BSA",307,26,45,170,{"$f":"IFERROR((INDEX(Botones_Segmentos[Grupo],MATCH(SUBSTITUTE(Botones_e_Imagenes[[#This Row],[Imagen]],\"_BSA\",\"\"),Botones_Segmentos[Segmento],0))=INDEX(Botones_Segmentos[Grupo],MATCH(Parametros[Segmento],Botones_Segmentos[Segmento],0)))*(Parametros[Segmento]<>SUBSTITUTE(Botones_e_Imagenes[[#This Row],[Imagen]],\"_BSA\",\"\"))*1,0)","v":0}]
["Menu_Detallado",{"$f":"IF(Parametros[Tipo]=2,\"Esta sección no está disponible en la versión de prueba de Actualícese Impuesto Diferido.\nDisfruta de todas sus funciones ingresando a:\",\"\")","v":"Esta sección no está disponible en la versión de prueba de Actualícese Impuesto Diferido.\nDisfruta de todas sus funciones ingresando a:"},"Imagen","Suger Contabilización_BS",307,26,45,170,{"$f":"IFERROR((Parametros[Segmento]=SUBSTITUTE(Botones_e_Imagenes[[#This Row],[Imagen]],\"_BS\",\"\"))*1,0)","v":0}]
["Menu_Detallado",{"$f":"IF(Parametros[Tipo]=2,\"Esta sección no está disponible en la versión de prueba de Actualícese Impuesto Diferido.\nDisfruta de todas sus funciones ingresando a:\",\"\")","v":"Esta sección no está disponible en la versión de prueba de Actualícese Impuesto Diferido.\nDisfruta de todas sus funciones ingresando a:"},"Imagen","Diferencias_BSA",307,26,45,170,{"$f":"IFERROR((INDEX(Botones_Segmentos[Grupo],MATCH(SUBSTITUTE(Botones_e_Imagenes[[#This Row],[Imagen]],\"_BSA\",\"\"),Botones_Segmentos[Segmento],0))=INDEX(Botones_Segmentos[Grupo],MATCH(Parametros[Segmento],Botones_Segmentos[Segmento],0)))*(Parametros[Segmento]<>SUBSTITUTE(Botones_e_Imagenes[[#This Row],[Imagen]],\"_BSA\",\"\"))*1,0)","v":0}]
["Menu_Detallado",{"$f":"IF(Parametros[Tipo]=2,\"Esta sección no está disponible en la versión de prueba de Actualícese Impuesto Diferido.\nDisfruta de todas sus funciones ingresando a:\",\"\")","v":"Esta sección no está disponible en la versión de prueba de Actualícese Impuesto Diferido.\nDisfruta de todas sus funciones ingresando a:"},"Imagen","Diferencias_BS",307,26,45,170,{"$f":"IFERROR((Parametros[Segmento]=SUBSTITUTE(Botones_e_Imagenes[[#This Row],[Imagen]],\"_BS\",\"\"))*1,0)","v":0}]
["Menu_Detallado",{"$f":"IF(Parametros[Tipo]=2,\"Esta sección no está disponible en la versión de prueba de Actualícese Impuesto Diferido.\nDisfruta de todas sus funciones ingresando a:\",\"\")","v":"Esta sección no está disponible en la versión de prueba de Actualícese Impuesto Diferido.\nDisfruta de todas sus funciones ingresando a:"},"Imagen","Normatividad_BSA",307,26,45,170,{"$f":"IFERROR((INDEX(Botones_Segmentos[Grupo],MATCH(SUBSTITUTE(Botones_e_Imagenes[[#This Row],[Imagen]],\"_BSA\",\"\"),Botones_Segmentos[Segmento],0))=INDEX(Botones_Segmentos[Grupo],MATCH(Parametros[Segmento],Botones_Segmentos[Segmento],0)))*(Parametros[Segmento]<>SUBSTITUTE(Botones_e_Imagenes[[#This Row],[Imagen]],\"_BSA\",\"\"))*1,0)","v":0}]
["Menu_Detallado",{"$f":"IF(Parametros[Tipo]=2,\"Esta sección no está disponible en la versión de prueba de Actualícese Impuesto Diferido.\nDisfruta de todas sus funciones ingresando a:\",\"\")","v":"Esta sección no está disponible en la versión de prueba de Actualícese Impuesto Diferido.\nDisfruta de todas sus funciones ingresando a:"},"Imagen","Normatividad_BS",307,26,45,170,{"$f":"IFERROR((Parametros[Segmento]=SUBSTITUTE(Botones_e_Imagenes[[#This Row],[Imagen]],\"_BS\",\"\"))*1,0)","v":0}]
[null,{"$f":"IF(Parametros[Tipo]=2,\"Esta sección no está disponible en la versión de prueba de Actualícese Impuesto Diferido.\nDisfruta de todas sus funciones ingresando a:\",\"\")","v":"Esta sección no está disponible en la versión de prueba de Actualícese Impuesto Diferido.\nDisfruta de todas sus funciones ingresando a:"},"Imagen","Ajustar_Filas",{"$f":"E6+I6*(H6+30)","v":307},{"$f":"F6","v":26},{"$f":"G6","v":47},137,{"$f":"IFERROR(IF(VLOOKUP(Parametros[Segmento],Botones_Segmentos[[Segmento]:[Bloques]],2,0)>0,1,0),0)","v":0}]
[null,null,"Imagen","Importar",307,{"$f":"F6","v":26},{"$f":"G6","v":47},160,{"$f":"IFERROR((Parametros[Segmento]=\"Datos basicos empresa\")*1+(Parametros[Segmento]=\"Info. años anteriores\")*1,1)","v":0}]
{"$rows_empty":25}
["MD_Grupo","Grupo","Opciones","Segmento","Bloques"]
["Datos básicos de la empresa","Datos básicos de la empresa","Datos básicos de la empresa","Datos basicos empresa",0]
["Información años anteriores","Datos básicos de la empresa","Información años anteriores","Info años anteriores",0]
["Efectivo y equivalentes al efectivo","Efectivo y equivalentes al efectivo","Efectivo y equivalentes al efectivo","Efectivo y equiv ef",3]
["Inversiones e instrumentos derivados","Inversiones e instrumentos derivados","Inversiones e instrumentos derivados","Inversiones e Instr Deriv",13]
["Inversiones e instrumentos derivados","Inversiones e instrumentos derivados","Deterioro acumulado","Det Acum Inver",1]
["Cuentas por cobrar","Cuentas por cobrar","Cuentas por cobrar","Cuentas x cobrar",12]
["Cuentas por cobrar","Cuentas por cobrar","Deterioro acumulado","Det Acum CxC",1]
["Inventarios","Inventarios","Inventarios","Inventarios",10]
["Inventarios","Inventarios","Deterioro acumulado","Det Acum Invent",1]
["Propiedades, planta y equipo","Propiedades, planta y equipo","Propiedades, planta y equipo","Prop, plan y Equip",7]
["Propiedades, planta y equipo","Propiedades, planta y equipo","Depreciación acumulada ","Dep Acum P, P y E",1]
["Propiedades, planta y equipo","Propiedades, planta y equipo","Deterioro acumulado ","Det Acum P, P y E",1]
["Venta de bienes","Venta de bienes","Venta de bienes","Venta_Bs_Inmu_CxC_RO",1]
["Venta de bienes","Venta de bienes","Venta de bienes CxC - Ganancia Ocasional ","Venta_Bs_Inmu_CxC_GO",1]
["Venta de bienes","Venta de bienes","Venta de Bienes PPE","Venta_Bs_Inmu_PPE",2]
["Activos intangibles","Activos intangibles","Activos intangibles","Activos Intangibles",12]
["Activos intangibles","Activos intangibles","Amortización acumulada","Amort Acum Act Intang",1]
["Activos intangibles","Activos intangibles","Deterioro acumulado","Det Acum Act Intang",1]
["Propiedades de inversión","Propiedades de inversión","Propiedades de inversión","Prop de Inversión",4]
["Propiedades de inversión","Propiedades de inversión","Depreciación acumulada","Dep Acum Prop Inver",1]
["Propiedades de inversión","Propiedades de inversión","Deterioro acumulado","Det Acum Prop Inver",1]
["Activos biológicos","Activos biológicos","Activos biológicos","Activos Biológicos",8]
["Activos biológicos","Activos biológicos","Depreciación acumulada","Dep Acum Act Biol",1]
["Activos biológicos","Activos biológicos","Deterioro acumulado","Det Acum Act Biol",1]
["Activos no corrientes mantenidos para venta","Activos no corrientes mantenidos para venta","Activos no corrientes mantenidos para venta","Act N Corr Mant Vent",2]
["Activos no corrientes mantenidos para venta","Activos no corrientes mantenidos para venta","Deterioro acumulado","Det Acum ANC Mant Vent",1]
["Activos reconocidos solamente para fines fiscales","Activos reconocidos solamente para fines fiscales","Activos reconocidos solamente para fines fiscales","Act Rec Solo Fiscalmente",2]
["Otros activos","Otros activos","Otros activos","Otros Activos",4]
["Pérdidas Fiscales","Pérdidas Fiscales","Pérdidas Fiscales","Pérdidas Fiscales",0]
["Pasivos financ. y cuentas por pagar","Pasivos financ. y cuentas por pagar","Pasivos financ. y cuentas por pagar","Pasivos Finan y CxP",12]
["Impuestos, gravámenes y tasas","Impuestos, gravámenes y tasas","Impuestos, gravámenes y tasas","Imptos, grav y tasas",3]
["Beneficios a Empleados","Beneficios a Empleados","Beneficios a Empleados","Beneficios a empleados",4]
["Provisiones","Provisiones","Provisiones","Provisiones",11]
["Otros Pasivos Antic. y avances rec.","Otros Pasivos Antic. y avances rec.","Otros Pasivos Antic. y avances rec.","Otros Pasivos, Antic y Avanc",4]
["Pasivos reconocidos solo para fines fiscales","Pasivos reconocidos solo para fines fiscales","Pasivos reconocidos solo para fines fiscales","Pasivos Rec Solo Fiscalmente",1]
["Impuesto diferido","Impuesto diferido","Impuesto diferido","Impuesto Diferido",0]
["Impuesto diferido - 2516","Impuesto diferido","Impuesto diferido - 2516","Impuesto Diferido 2516",0]
["Sugerencia de contabilización","Impuesto diferido","Sugerencia de contabilización","Suger Contabilización",0]
["Diferencias","Diferencias","Diferencias","Diferencias",0]
["Normatividad","Diferencias","Normatividad","Normatividad",0]
[null,"Partidas","Partidas","Partidas",2]

{"sheet":" ","index":4,"n_rows":1187,"n_cols":27,"rows_kept":1187,"merged":[[43,2,43,5],[44,2,44,5],[45,2,45,4],[53,2,53,4],[54,2,54,4],[58,2,58,5],[59,2,59,5],[83,2,83,3],[87,2,87,8],[88,2,89,2],[88,3,88,4],[88,5,88,6],[88,7,88,8],[102,2,102,7],[109,2,109,8],[110,2,111,2],[110,3,110,4],[110,5,110,6],[110,7,110,8],[119,4,120,4],[119,8,120,8],[162,2,162,10],[164,2,165,2],[164,3,165,3],[164,4,164,10],[172,2,172,8],[173,2,174,2],[173,3,173,4],[173,5,173,6],[173,7,173,8],[222,2,222,20],[230,2,231,2],[230,3,231,3],[230,4,231,4],[230,5,231,5],[230,6,231,6],[230,7,230,11],[230,12,230,20],[238,2,238,8],[239,2,240,2],[239,3,239,4],[239,5,239,6],[239,7,239,8],[291,2,291,17],[292,2,293,2],[292,3,293,3],[292,4,293,4],[292,5,293,5],[292,6,293,6],[292,7,292,12],[292,13,292,17],[300,2,300,8],[301,2,302,2],[301,3,301,4],[301,5,301,6],[301,7,301,8],[327,2,327,7],[336,2,336,16],[338,2,339,2],[338,3,339,3],[338,5,338,11],[338,12,338,16],[346,2,346,10],[347,2,348,2],[347,3,348,3],[347,4,347,10],[355,2,355,8],[356,2,357,2],[356,3,356,4],[356,5,356,6],[356,7,356,8],[397,2,397,7],[406,2,406,13],[408,2,409,2],[408,4,408,8],[408,9,408,13],[416,2,416,10],[417,2,418,2],[417,3,418,3],[417,4,417,10],[425,2,425,8],[426,2,427,2],[426,3,426,4],[426,5,426,6],[426,7,426,8],[443,2,443,7],[452,2,452,16],[454,2,455,2],[454,3,455,3],[454,5,454,11],[454,12,454,16],[462,2,462,10],[463,2,464,2],[463,3,464,3],[463,4,463,10],[471,2,471,8],[472,2,473,2],[472,3,472,4],[472,5,472,6],[472,7,472,8],[501,2,501,7],[510,2,510,15],[512,2,513,2],[512,4,512,10],[512,11,512,15],[520,2,520,10],[521,2,522,2],[521,3,522,3],[521,4,521,10],[529,2,529,8],[530,2,531,2],[530,3,530,4],[530,5,530,6],[530,7,530,8],[541,2,541,7],[549,2,549,10],[550,2,551,2],[550,3,551,3],[550,4,550,10],[558,2,558,8],[559,2,560,2],[559,3,559,4],[559,5,559,6],[559,7,559,8],[570,2,570,7],[577,2,577,8],[578,2,579,2],[578,3,578,4],[578,5,578,6],[578,7,578,8],[595,2,595,7],[602,2,602,6],[633,2,633,8],[634,2,635,2],[634,3,634,4],[634,5,634,6],[634,7,634,8],[675,2,675,7],[682,2,682,8],[683,2,684,2],[683,3,683,4],[683,5,683,6],[683,7,683,8],[697,2,697,7],[704,2,704,8],[705,2,706,2],[705,3,705,4],[705,5,705,6],[705,7,705,8],[722,2,722,7],[729,2,729,8],[730,2,731,2],[730,3,730,4],[730,5,730,6],[730,7,730,8],[768,2,768,7],[775,2,775,8],[776,2,777,2],[776,3,776,4],[776,5,776,6],[776,7,776,8],[793,2,793,7],[800,2,800,8],[801,2,802,2],[801,3,801,4],[801,5,801,6],[801,7,801,8],[809,2,809,7],[816,2,816,8],[817,2,818,2],[817,3,817,4],[817,5,817,6],[817,7,817,8],[982,2,982,13],[983,2,984,2],[983,3,984,3],[983,4,984,4],[983,5,984,5],[983,6,984,6],[983,7,984,7],[983,8,984,8],[983,9,984,9],[983,10,984,10],[983,11,984,11],[983,12,984,12],[983,13,984,13],[985,2,985,13],[1009,2,1009,13],[1034,1,1034,10],[1040,1,1040,4],[1054,1,1054,10],[1060,1,1060,4],[1073,1,1073,6],[1080,1,1080,6],[1088,5,1092,11],[1096,1,1097,1],[1096,2,1097,3],[1096,4,1097,4],[1096,5,1097,5],[1096,6,1097,6],[1096,7,1097,7],[1096,8,1097,8],[1096,9,1097,9],[1096,10,1097,10],[1096,11,1097,11],[1141,2,1141,7],[1142,2,1142,3],[1143,2,1143,3],[1144,2,1144,3],[1145,2,1145,3],[1146,2,1146,3],[1147,2,1147,3],[1151,2,1151,8],[1153,3,1155,7],[1157,4,1157,6],[1158,4,1158,6],[1159,4,1159,6],[1161,3,1161,7],[1170,2,1170,4]]}
[{"$nulls":22},"Conteo","Segmento","Visible","Alto_Celdas","Celda_Filtro"]
[{"$nulls":24},1,15,1]
[{"$nulls":24},1,15,1]
[{"$nulls":24},1,15,1]
[{"$nulls":24},1,12,1]
[1,3,35,11,4,10,5,11,11,11,12,10,13,13,20,11,11,11,15,15,{"$nulls":3},"Fondo_Menu",null,null,{"$f":"(X6=Parametros[Segmento])*(Y6>0)*(Z6>0)","v":0}]
[{"$nulls":23},"Fondo_Menu",1,20,{"$f":"(X7=Parametros[Segmento])*(Y7>0)*(Z7>0)","v":1}]
[{"$nulls":23},"Fondo_Menu",1,20,{"$f":"(X8=Parametros[Segmento])*(Y8>0)*(Z8>0)","v":1}]
[{"$nulls":23},"Fondo_Menu",1,20,{"$f":"(X9=Parametros[Segmento])*(Y9>0)*(Z9>0)","v":1}]
[{"$nulls":23},"Fondo_Menu",1,20,{"$f":"(X10=Parametros[Segmento])*(Y10>0)*(Z10>0)","v":1}]
[{"$nulls":23},"Fondo_Menu",1,20,{"$f":"(X11=Parametros[Segmento])*(Y11>0)*(Z11>0)","v":1}]
[{"$nulls":23},"Fondo_Menu",1,20,{"$f":"(X12=Parametros[Segmento])*(Y12>0)*(Z12>0)","v":1}]
[{"$nulls":23},"Fondo_Menu",1,20,{"$f":"(X13=Parametros[Segmento])*(Y13>0)*(Z13>0)","v":1}]
[{"$nulls":23},"Fondo_Menu",1,20,{"$f":"(X14=Parametros[Segmento])*(Y14>0)*(Z14>0)","v":1}]
[{"$nulls":23},"Fondo_Menu",1,20,{"$f":"(X15=Parametros[Segmento])*(Y15>0)*(Z15>0)","v":1}]
[{"$nulls":23},"Fondo_Menu",1,20,{"$f":"(X16=Parametros[Segmento])*(Y16>0)*(Z16>0)","v":1}]
[{"$nulls":23},"Fondo_Menu",1,20,{"$f":"(X17=Parametros[Segmento])*(Y17>0)*(Z17>0)","v":1}]
[{"$nulls":23},"Fondo_Menu",1,20,{"$f":"(X18=Parametros[Segmento])*(Y18>0)*(Z18>0)","v":1}]
[{"$nulls":23},"Fondo_Menu",1,20,{"$f":"(X19=Parametros[Segmento])*(Y19>0)*(Z19>0)","v":1}]
[{"$nulls":23},"Fondo_Menu",1,20,{"$f":"(X20=Parametros[Segmento])*(Y20>0)*(Z20>0)","v":1}]
[{"$nulls":23},"Fondo_Menu",1,20,{"$f":"(X21=Parametros[Segmento])*(Y21>0)*(Z21>0)","v":1}]
[{"$nulls":23},"Fondo_Menu",1,20,{"$f":"(X22=Parametros[Segmento])*(Y22>0)*(Z22>0)","v":1}]
[{"$nulls":23},"Fondo_Menu",1,20,{"$f":"(X23=Parametros[Segmento])*(Y23>0)*(Z23>0)","v":1}]
[{"$nulls":23},"Fondo_Menu",1,20,{"$f":"(X24=Parametros[Segmento])*(Y24>0)*(Z24>0)","v":1}]
[{"$nulls":23},"Fondo_Menu",1,20,{"$f":"(X25=Parametros[Segmento])*(Y25>0)*(Z25>0)","v":1}]
[{"$nulls":23},"Fondo_Menu",1,20,{"$f":"(X26=Parametros[Segmento])*(Y26>0)*(Z26>0)","v":1}]
[{"$nulls":23},"Fondo_Menu",1,20,{"$f":"(X27=Parametros[Segmento])*(Y27>0)*(Z27>0)","v":1}]
[{"$nulls":23},"Fondo_Menu",1,20,{"$f":"(X28=Parametros[Segmento])*(Y28>0)*(Z28>0)","v":1}]
[{"$nulls":23},"Fondo_Menu",1,20,{"$f":"(X29=Parametros[Segmento])*(Y29>0)*(Z29>0)","v":1}]
[{"$nulls":23},"Fondo_Menu",1,20,{"$f":"(X30=Parametros[Segmento])*(Y30>0)*(Z30>0)","v":1}]
[{"$nulls":23},"Fondo_Menu",1,20,{"$f":"(X31=Parametros[Segmento])*(Y31>0)*(Z31>0)","v":1}]
[{"$nulls":23},"Fondo_Menu",1,20,{"$f":"(X32=Parametros[Segmento])*(Y32>0)*(Z32>0)","v":1}]
[{"$nulls":23},"Fondo_Menu",1,20,{"$f":"(X33=Parametros[Segmento])*(Y33>0)*(Z33>0)","v":1}]
[{"$nulls":23},"Fondo_Menu",1,20,{"$f":"(X34=Parametros[Segmento])*(Y34>0)*(Z34>0)","v":1}]
[{"$nulls":23},"Fondo_Menu",1,20,{"$f":"(X35=Parametros[Segmento])*(Y35>0)*(Z35>0)","v":1}]
[{"$nulls":23},"Fondo_Menu",1,20,{"$f":"(X36=Parametros[Segmento])*(Y36>0)*(Z36>0)","v":1}]
[{"$nulls":23},"Fondo_Menu",1,20,{"$f":"(X37=Parametros[Segmento])*(Y37>0)*(Z37>0)","v":1}]
[{"$nulls":23},"Fondo_Menu",1,20,{"$f":"(X38=Parametros[Segmento])*(Y38>0)*(Z38>0)","v":1}]
[{"$nulls":23},"Fondo_Menu",1,20,{"$f":"(X39=Parametros[Segmento])*(Y39>0)*(Z39>0)","v":1}]
[{"$nulls":23},"Fondo_Menu",1,20,{"$f":"(X40=Parametros[Segmento])*(Y40>0)*(Z40>0)","v":1}]
[1,10,1.44,77.67,29.22,72.44,{"$nulls":17},"Datos basicos empresa",null,20,{"$f":"(X41=Parametros[Segmento])*(Y41>0)*(Z41>0)","v":0}]
[{"$nulls":23},"Datos basicos empresa",1,10,{"$f":"(X42=Parametros[Segmento])*(Y42>0)*(Z42>0)","v":0}]
[{"$nulls":23},"Datos basicos empresa",1,30,{"$f":"(X43=Parametros[Segmento])*(Y43>0)*(Z43>0)","v":0}]
[null,null,"Datos Básicos de la Empresa ",{"$nulls":20},"Datos basicos empresa",1,30,{"$f":"(X44=Parametros[Segmento])*(Y44>0)*(Z44>0)","v":0}]
[null,null,"Datos Básicos",{"$nulls":20},"Datos basicos empresa",1,30,{"$f":"(X45=Parametros[Segmento])*(Y45>0)*(Z45>0)","v":0}]
[null,null,"Concepto",null,null,"Datos",{"$nulls":17},"Datos basicos empresa",1,30,{"$f":"(X46=Parametros[Segmento])*(Y46>0)*(Z46>0)","v":0}]
[null,null,"Nombre o razón social ",{"$nulls":20},"Datos basicos empresa",1,30,{"$f":"(X47=Parametros[Segmento])*(Y47>0)*(Z47>0)","v":0}]
[null,null,"NIT ",{"$nulls":20},"Datos basicos empresa",1,30,{"$f":"(X48=Parametros[Segmento])*(Y48>0)*(Z48>0)","v":0}]
[null,null,"Dígito de Verificación ",null,null,{"$f":"IF(MOD((VALUE(MID(TEXT(' '!F48,\"000000000000000\"),15,1))*3+VALUE(MID(TEXT(' '!F48,\"000000000000000\"),14,1))*7+VALUE(MID(TEXT(' '!F48,\"000000000000000\"),13,1))*13+VALUE(MID(TEXT(' '!F48,\"000000000000000\"),12,1))*17+VALUE(MID(TEXT(' '!F48,\"000000000000000\"),11,1))*19+VALUE(MID(TEXT(' '!F48,\"000000000000000\"),10,1))*23+VALUE(MID(TEXT(' '!F48,\"000000000000000\"),9,1))*29+VALUE(MID(TEXT(' '!F48,\"000000000000000\"),8,1))*37+VALUE(MID(TEXT(' '!F48,\"000000000000000\"),7,1))*41+VALUE(MID(TEXT(' '!F48,\"000000000000000\"),6,1))*43+VALUE(MID(TEXT(' '!F48,\"000000000000000\"),5,1))*47+VALUE(MID(TEXT(' '!F48,\"000000000000000\"),4,1))*53+VALUE(MID(TEXT(' '!F48,\"000000000000000\"),3,1))*59+VALUE(MID(TEXT(' '!F48,\"000000000000000\"),2,1))*67+VALUE(MID(TEXT(' '!F48,\"000000000000000\"),1,1))*71),11)=0,0,IF(MOD((VALUE(MID(TEXT(' '!F48,\"000000000000000\"),15,1))*3+VALUE(MID(TEXT(' '!F48,\"000000000000000\"),14,1))*7+VALUE(MID(TEXT(' '!F48,\"000000000000000\"),13,1))*13+VALUE(MID(TEXT(' '!F48,\"000000000000000\"),12,1))*17+VALUE(MID(TEXT(' '!F48,\"000000000000000\"),11,1))*19+VALUE(MID(TEXT(' '!F48,\"000000000000000\"),10,1))*23+VALUE(MID(TEXT(' '!F48,\"000000000000000\"),9,1))*29+VALUE(MID(TEXT(' '!F48,\"000000000000000\"),8,1))*37+VALUE(MID(TEXT(' '!F48,\"000000000000000\"),7,1))*41+VALUE(MID(TEXT(' '!F48,\"000000000000000\"),6,1))*43+VALUE(MID(TEXT(' '!F48,\"000000000000000\"),5,1))*47+VALUE(MID(TEXT(' '!F48,\"000000000000000\"),4,1))*53+VALUE(MID(TEXT(' '!F48,\"000000000000000\"),3,1))*59+VALUE(MID(TEXT(' '!F48,\"000000000000000\"),2,1))*67+VALUE(MID(TEXT(' '!F48,\"000000000000000\"),1,1))*71),11)=1,1,11-(MOD((VALUE(MID(TEXT(' '!F48,\"000000000000000\"),15,1))*3+VALUE(MID(TEXT(' '!F48,\"000000000000000\"),14,1))*7+VALUE(MID(TEXT(' '!F48,\"000000000000000\"),13,1))*13+VALUE(MID(TEXT(' '!F48,\"000000000000000\"),12,1))*17+VALUE(MID(TEXT(' '!F48,\"000000000000000\"),11,1))*19+VALUE(MID(TEXT(' '!F48,\"000000000000000\"),10,1))*23+VALUE(MID(TEXT(' '!F48,\"000000000000000\"),9,1))*29+VALUE(MID(TEXT(' '!F48,\"000000000000000\"),8,1))*37+VALUE(MID(TEXT(' '!F48,\"000000000000000\"),7,1))*41+VALUE(MID(TEXT(' '!F48,\"000000000000000\"),6,1))*43+VALUE(MID(TEXT(' '!F48,\"000000000000000\"),5,1))*47+VALUE(MID(TEXT(' '!F48,\"000000000000000\"),4,1))*53+VALUE(MID(TEXT(' '!F48,\"000000000000000\"),3,1))*59+VALUE(MID(TEXT(' '!F48,\"000000000000000\"),2,1))*67+VALUE(MID(TEXT(' '!F48,\"000000000000000\"),1,1))*71),11))))","v":0},{"$nulls":17},"Datos basicos empresa",1,30,{"$f":"(X49=Parametros[Segmento])*(Y49>0)*(Z49>0)","v":0}]
[null,null,"Actividad Económica ",null,null,"0112 - Cultivo de arroz.",{"$nulls":17},"Datos basicos empresa",1,30,{"$f":"(X50=Parametros[Segmento])*(Y50>0)*(Z50>0)","v":0}]
[null,null,"Código dirección seccional DIAN",{"$nulls":20},"Datos basicos empresa",1,30,{"$f":"(X51=Parametros[Segmento])*(Y51>0)*(Z51>0)","v":0}]
[null,null,"Seleccione la opción que aplica a la empresa/sociedad",{"$nulls":20},"Datos basicos empresa",1,30,{"$f":"(X52=Parametros[Segmento])*(Y52>0)*(Z52>0)","v":0}]
[null,null,"Tarifa de renta aplicable ",null,null,{"$f":"IFERROR(VLOOKUP(F52,Listas!C6:D35,2,0),\"\")","v":""},{"$nulls":17},"Datos basicos empresa",1,30,{"$f":"(X53=Parametros[Segmento])*(Y53>0)*(Z53>0)","v":0}]
[null,null,"¿Desea ingresar la tarifa aplicable manualmente?",{"$nulls":20},"Datos basicos empresa",1,30,{"$f":"(X54=Parametros[Segmento])*(Y54>0)*(Z54>0)","v":0}]
[null,null,"¿Desea ingresar los datos de forma general o detallada?",null,null,"Detallada",{"$nulls":17},"Datos basicos empresa",1,30,{"$f":"(X55=Parametros[Segmento])*(Y55>0)*(Z55>0)","v":0}]
[1,10,1.44,111.67,34.78,34.78,{"$nulls":17},"Info años anteriores",null,20,{"$f":"(X56=Parametros[Segmento])*(Y56>0)*(Z56>0)","v":0}]
[{"$nulls":23},"Info años anteriores",1,10,{"$f":"(X57=Parametros[Segmento])*(Y57>0)*(Z57>0)","v":0}]
[{"$nulls":23},"Info años anteriores",1,30,{"$f":"(X58=Parametros[Segmento])*(Y58>0)*(Z58>0)","v":0}]
[null,null,"Información años anteriores ",{"$nulls":20},"Info años anteriores",1,30,{"$f":"(X59=Parametros[Segmento])*(Y59>0)*(Z59>0)","v":0}]
[null,null,"Información impuesto diferido Vigencia Anterior ",{"$nulls":20},"Info años anteriores",1,30,{"$f":"(X60=Parametros[Segmento])*(Y60>0)*(Z60>0)","v":0}]
[null,null,"Saldos por impuesto diferido a 31 de diciembre de la vigencia anterior ",null,"Activo ","Pasivo",{"$nulls":17},"Info años anteriores",1,30,{"$f":"(X61=Parametros[Segmento])*(Y61>0)*(Z61>0)","v":0}]
[null,null,"Efectivo y equivalentes al efectivo",{"$nulls":20},"Info años anteriores",1,30,{"$f":"(X62=Parametros[Segmento])*(Y62>0)*(Z62>0)","v":0}]
[null,null,"Inversiones e instrumentos derivados",{"$nulls":20},"Info años anteriores",1,30,{"$f":"(X63=Parametros[Segmento])*(Y63>0)*(Z63>0)","v":0}]
[null,null,"Cuentas por cobrar",{"$nulls":20},"Info años anteriores",1,30,{"$f":"(X64=Parametros[Segmento])*(Y64>0)*(Z64>0)","v":0}]
[null,null,"Cuentas por cobrar (venta de bienes inmuebles poseídos por menos de dos años)",{"$nulls":20},"Info años anteriores",1,30,{"$f":"(X65=Parametros[Segmento])*(Y65>0)*(Z65>0)","v":0}]
[null,null,"Cuentas por cobrar  (venta de bienes inmuebles poseídos dos años o más)",{"$nulls":20},"Info años anteriores",1,30,{"$f":"(X66=Parametros[Segmento])*(Y66>0)*(Z66>0)","v":0}]
[null,null,"Inventarios",{"$nulls":20},"Info años anteriores",1,30,{"$f":"(X67=Parametros[Segmento])*(Y67>0)*(Z67>0)","v":0}]
[null,null,"Propiedades, planta y equipo",{"$nulls":20},"Info años anteriores",1,30,{"$f":"(X68=Parametros[Segmento])*(Y68>0)*(Z68>0)","v":0}]
[null,null,"Propiedad, planta y Equipo (venta de bienes inmuebles poseídos por menos de dos años)",{"$nulls":20},"Info años anteriores",1,30,{"$f":"(X69=Parametros[Segmento])*(Y69>0)*(Z69>0)","v":0}]
[null,null,"Propiedad, planta y Equipo (venta de bienes inmuebles poseídos dos años o más)",{"$nulls":20},"Info años anteriores",1,30,{"$f":"(X70=Parametros[Segmento])*(Y70>0)*(Z70>0)","v":0}]
[null,null,"Activos intangibles",{"$nulls":20},"Info años anteriores",1,30,{"$f":"(X71=Parametros[Segmento])*(Y71>0)*(Z71>0)","v":0}]
[null,null,"Propiedades de inversión",{"$nulls":20},"Info años anteriores",1,30,{"$f":"(X72=Parametros[Segmento])*(Y72>0)*(Z72>0)","v":0}]
[null,null,"Activos biológicos",{"$nulls":20},"Info años anteriores",1,30,{"$f":"(X73=Parametros[Segmento])*(Y73>0)*(Z73>0)","v":0}]
[null,null,"Activos no corrientes mantenidos para la venta / entregar a propietarios",{"$nulls":20},"Info años anteriores",1,30,{"$f":"(X74=Parametros[Segmento])*(Y74>0)*(Z74>0)","v":0}]
[null,null,"Activos reconocidos solamente para fines fiscales",{"$nulls":20},"Info años anteriores",1,30,{"$f":"(X75=Parametros[Segmento])*(Y75>0)*(Z75>0)","v":0}]
[null,null,"Otros activos",{"$nulls":20},"Info años anteriores",1,30,{"$f":"(X76=Parametros[Segmento])*(Y76>0)*(Z76>0)","v":0}]
[null,null,"Pérdidas fiscales sin compensar ",{"$nulls":20},"Info años anteriores",1,30,{"$f":"(X77=Parametros[Segmento])*(Y77>0)*(Z77>0)","v":0}]
[null,null,"Pasivos financieros y cuentas por pagar",{"$nulls":20},"Info años anteriores",1,30,{"$f":"(X78=Parametros[Segmento])*(Y78>0)*(Z78>0)","v":0}]
[null,null,"Impuestos, gravámenes y tasas",{"$nulls":20},"Info años anteriores",1,30,{"$f":"(X79=Parametros[Segmento])*(Y79>0)*(Z79>0)","v":0}]
[null,null,"Beneficios a  Empleados",{"$nulls":20},"Info años anteriores",1,30,{"$f":"(X80=Parametros[Segmento])*(Y80>0)*(Z80>0)","v":0}]
[null,null,"Provisiones",{"$nulls":20},"Info años anteriores",1,30,{"$f":"(X81=Parametros[Segmento])*(Y81>0)*(Z81>0)","v":0}]
[null,null,"Otros Pasivos Anticipos y avances recibidos",{"$nulls":20},"Info años anteriores",1,30,{"$f":"(X82=Parametros[Segmento])*(Y82>0)*(Z82>0)","v":0}]
[null,null,"Pasivos reconocidos solamente para fines fiscales",{"$nulls":20},"Info años anteriores",1,30,{"$f":"(X83=Parametros[Segmento])*(Y83>0)*(Z83>0)","v":0}]
[null,null,"Saldo Total",null,{"$f":"SUM(E62:E83)","v":0},{"$f":"SUM(F62:F83)","v":0},{"$nulls":17},"Info años anteriores",1,30,{"$f":"(X84=Parametros[Segmento])*(Y84>0)*(Z84>0)","v":0}]
[1,2.44,53.78,24.78,24.78,24.78,24.78,24.78,24.78,{"$nulls":14},"Efectivo y equiv ef",null,20,{"$f":"(X85=Parametros[Segmento])*(Y85>0)*(Z85>0)","v":0}]
[{"$nulls":23},"Efectivo y equiv ef",1,10,{"$f":"(X86=Parametros[Segmento])*(Y86>0)*(Z86>0)","v":0}]
[{"$nulls":23},"Efectivo y equiv ef",1,30,{"$f":"(X87=Parametros[Segmento])*(Y87>0)*(Z87>0)","v":0}]
[null,null,"Efectivo y Equivalentes del Efectivo ",{"$nulls":20},"Efectivo y equiv ef",1,30,{"$f":"(X88=Parametros[Segmento])*(Y88>0)*(Z88>0)","v":0}]
[null,null,"Concepto/Descripción","Valores Contables",null,"Ajuste",null,"Valores Fiscales",{"$nulls":15},"Efectivo y equiv ef",1,30,{"$f":"(X89=Parametros[Segmento])*(Y89>0)*(Z89>0)","v":0}]
[{"$nulls":3},"Saldos Parciales ","Saldos Totales ","Mayor Valor Fiscal","Menor Valor Fiscal","Saldos Parciales","Saldos Totales ",{"$nulls":14},"Efectivo y equiv ef",1,30,{"$f":"(X90=Parametros[Segmento])*(Y90>0)*(Z90>0)","v":0}]
[null,null,"Efectivo",null,{"$f":"SUM(D92:D93)","v":0},{"$nulls":3},{"$f":"SUM(H92:H93)","v":0},{"$nulls":14},"Efectivo y equiv ef",1,30,{"$f":"(X91=Parametros[Segmento])*(Y91>0)*(Z91>0)","v":0}]
[{"$nulls":7},{"$f":"+D92+F92-G92","v":0},{"$nulls":14},{"$f":"SUBSTITUTE($C$91,CHAR(10),\"\")","v":"Efectivo"},"Efectivo y equiv ef",{"$f":"(W92=OFFSET(W92,1,0))*1","v":1},30,{"$f":"(X92=Parametros[Segmento])*(Y92>0)*(Z92>0)","v":0}]
[{"$nulls":7},{"$f":"+D93+F93-G93","v":0},{"$nulls":14},{"$f":"SUBSTITUTE($C$91,CHAR(10),\"\")","v":"Efectivo"},"Efectivo y equiv ef",{"$f":"(W93=OFFSET(W93,1,0))*1","v":0},30,{"$f":"(X93=Parametros[Segmento])*(Y93>0)*(Z93>0)","v":0}]
[null,null,"Equivalentes al efectivo",null,{"$f":"+SUM(D95:D96)","v":0},{"$nulls":3},{"$f":"+SUM(H95:H96)","v":0},{"$nulls":14},"Efectivo y equiv ef",1,30,{"$f":"(X94=Parametros[Segmento])*(Y94>0)*(Z94>0)","v":0}]
[{"$nulls":7},{"$f":"+D95+F95-G95","v":0},{"$nulls":14},{"$f":"SUBSTITUTE($C$94,CHAR(10),\"\")","v":"Equivalentes al efectivo"},"Efectivo y equiv ef",{"$f":"(W95=OFFSET(W95,1,0))*1","v":1},30,{"$f":"(X95=Parametros[Segmento])*(Y95>0)*(Z95>0)","v":0}]
[{"$nulls":7},{"$f":"+D96+F96-G96","v":0},{"$nulls":14},{"$f":"SUBSTITUTE($C$94,CHAR(10),\"\")","v":"Equivalentes al efectivo"},"Efectivo y equiv ef",{"$f":"(W96=OFFSET(W96,1,0))*1","v":0},30,{"$f":"(X96=Parametros[Segmento])*(Y96>0)*(Z96>0)","v":0}]
[null,null,"Efectivo restringido",null,{"$f":"+SUM(D98:D99)","v":0},{"$nulls":3},{"$f":"+SUM(H98:H99)","v":0},{"$nulls":14},"Efectivo y equiv ef",1,30,{"$f":"(X97=Parametros[Segmento])*(Y97>0)*(Z97>0)","v":0}]
[{"$nulls":7},{"$f":"+D98+F98-G98","v":0},{"$nulls":14},{"$f":"SUBSTITUTE($C$97,CHAR(10),\"\")","v":"Efectivo restringido"},"Efectivo y equiv ef",{"$f":"(W98=OFFSET(W98,1,0))*1","v":1},30,{"$f":"(X98=Parametros[Segmento])*(Y98>0)*(Z98>0)","v":0}]
[{"$nulls":7},{"$f":"+D99+F99-G99","v":0},{"$nulls":14},{"$f":"SUBSTITUTE($C$97,CHAR(10),\"\")","v":"Efectivo restringido"},"Efectivo y equiv ef",{"$f":"(W99=OFFSET(W99,1,0))*1","v":0},30,{"$f":"(X99=Parametros[Segmento])*(Y99>0)*(Z99>0)","v":0}]
[null,null,"Totales ",{"$f":"SUM(D92:D99)","v":0},{"$f":"SUM(E91:E99)","v":0},{"$f":"SUM(F92:F99)","v":0},{"$f":"SUM(G92:G99)","v":0},{"$f":"SUM(H92:H99)","v":0},{"$f":"SUM(I91:I99)","v":0},{"$nulls":14},"Efectivo y equiv ef",1,30,{"$f":"(X100=Parametros[Segmento])*(Y100>0)*(Z100>0)","v":0}]
[{"$nulls":23},"Efectivo y equiv ef",1,30,{"$f":"(X101=Parametros[Segmento])*(Y101>0)*(Z101>0)","v":0}]
[{"$nulls":23},"Efectivo y equiv ef",1,30,{"$f":"(X102=Parametros[Segmento])*(Y102>0)*(Z102>0)","v":0}]
[null,null,"Impuesto Diferido ",{"$nulls":20},"Efectivo y equiv ef",1,30,{"$f":"(X103=Parametros[Segmento])*(Y103>0)*(Z103>0)","v":0}]
[null,null,"Concepto ","Valor Contable "," Valor fiscal","Diferencia ","Activo por Impuesto Diferido","Pasivo por Impuesto Diferido",{"$nulls":15},"Efectivo y equiv ef",1,40.1,{"$f":"(X104=Parametros[Segmento])*(Y104>0)*(Z104>0)","v":0}]
[null,null,"Efectivo y Equivalentes del Efectivo",{"$f":"+E100","v":0},{"$f":"+I100","v":0},{"$nulls":18},"Efectivo y equiv ef",1,30,{"$f":"(X105=Parametros[Segmento])*(Y105>0)*(Z105>0)","v":0}]
[null,null,"Total del Efectivo y Equivalentes del Efectivo",{"$f":"+SUM(D105)","v":0},{"$f":"+SUM(E105)","v":0},{"$f":"+D106-E106","v":0},{"$f":"+IF(E106>D106,(E106-D106),0)","v":0},{"$f":"+IF(D106>E106,(D106-E106),0)","v":0},{"$nulls":15},"Efectivo y equiv ef",1,30,{"$f":"(X106=Parametros[Segmento])*(Y106>0)*(Z106>0)","v":0}]
[1,2.44,57,24.78,24.78,24.78,24.78,24.78,24.78,{"$nulls":14},"Inversiones e Instr Deriv",null,20,{"$f":"(X107=Parametros[Segmento])*(Y107>0)*(Z107>0)","v":0}]
[{"$nulls":23},"Inversiones e Instr Deriv",1,10,{"$f":"(X108=Parametros[Segmento])*(Y108>0)*(Z108>0)","v":0}]
[{"$nulls":23},"Inversiones e Instr Deriv",1,30,{"$f":"(X109=Parametros[Segmento])*(Y109>0)*(Z109>0)","v":0}]
[null,null,"Inversiones e Instrumentos Derivados",{"$nulls":20},"Inversiones e Instr Deriv",1,30,{"$f":"(X110=Parametros[Segmento])*(Y110>0)*(Z110>0)","v":0}]
[null,null,"Concepto/Descripción","Valores Contables",null,"Ajuste",null,"Valores Fiscales",{"$nulls":15},"Inversiones e Instr Deriv",1,30,{"$f":"(X111=Parametros[Segmento])*(Y111>0)*(Z111>0)","v":0}]
[{"$nulls":3},"Saldos Parciales ","Saldos Totales ","Mayor Valor Fiscal","Menor Valor Fiscal","Saldos Parciales","Saldos Totales ",{"$nulls":14},"Inversiones e Instr Deriv",1,30,{"$f":"(X112=Parametros[Segmento])*(Y112>0)*(Z112>0)","v":0}]
[null,null,"Derechos de recompras de inversiones ",null,{"$f":"SUM(D114:D115)","v":0},{"$nulls":3},{"$f":"SUM(H114:H115)","v":0},{"$nulls":14},"Inversiones e Instr Deriv",1,30,{"$f":"(X113=Parametros[Segmento])*(Y113>0)*(Z113>0)","v":0}]
[{"$nulls":7},{"$f":"+D114+F114-G114","v":0},{"$nulls":14},{"$f":"SUBSTITUTE($C$113,CHAR(10),\"\")","v":"Derechos de recompras de inversiones "},"Inversiones e Instr Deriv",{"$f":"(W114=OFFSET(W114,1,0))*1","v":1},30,{"$f":"(X114=Parametros[Segmento])*(Y114>0)*(Z114>0)","v":0}]
[{"$nulls":7},{"$f":"+D115+F115-G115","v":0},{"$nulls":14},{"$f":"SUBSTITUTE($C$113,CHAR(10),\"\")","v":"Derechos de recompras de inversiones "},"Inversiones e Instr Deriv",{"$f":"(W115=OFFSET(W115,1,0))*1","v":0},30,{"$f":"(X115=Parametros[Segmento])*(Y115>0)*(Z115>0)","v":0}]
[null,null,"Inversiones en subsidiarias, asociadas y \nnegocios conjuntos medidas a valor razonable \ncon cambios en resultados ",null,{"$f":"SUM(D117:D118)","v":0},{"$nulls":3},{"$f":"SUM(H117:H118)","v":0},{"$nulls":14},"Inversiones e Instr Deriv",1,55,{"$f":"(X116=Parametros[Segmento])*(Y116>0)*(Z116>0)","v":0}]
[{"$nulls":7},{"$f":"+D117+F117-G117","v":0},{"$nulls":14},{"$f":"SUBSTITUTE($C$116,CHAR(10),\"\")","v":"Inversiones en subsidiarias, asociadas y negocios conjuntos medidas a valor razonable con cambios en resultados "},"Inversiones e Instr Deriv",{"$f":"(W117=OFFSET(W117,1,0))*1","v":1},30,{"$f":"(X117=Parametros[Segmento])*(Y117>0)*(Z117>0)","v":0}]
[{"$nulls":7},{"$f":"+D118+F118-G118","v":0},{"$nulls":14},{"$f":"SUBSTITUTE($C$116,CHAR(10),\"\")","v":"Inversiones en subsidiarias, asociadas y negocios conjuntos medidas a valor razonable con cambios en resultados "},"Inversiones e Instr Deriv",{"$f":"(W118=OFFSET(W118,1,0))*1","v":0},30,{"$f":"(X118=Parametros[Segmento])*(Y118>0)*(Z118>0)","v":0}]
[null,null,"Inversiones en subsidiarias, asociadas y \nnegocios conjuntos medidas a valor razonable \ncon cambios en el ORI",null,{"$f":"SUM(D120:D121)","v":0},{"$nulls":3},{"$f":"SUM(H120:H121)","v":0},{"$nulls":14},"Inversiones e Instr Deriv",1,50,{"$f":"(X119=Parametros[Segmento])*(Y119>0)*(Z119>0)","v":0}]
[{"$nulls":7},{"$f":"+D120+F120-G120","v":0},{"$nulls":14},{"$f":"SUBSTITUTE($C$119,CHAR(10),\"\")","v":"Inversiones en subsidiarias, asociadas y negocios conjuntos medidas a valor razonable con cambios en el ORI"},"Inversiones e Instr Deriv",{"$f":"(W120=OFFSET(W120,1,0))*1","v":1},30,{"$f":"(X120=Parametros[Segmento])*(Y120>0)*(Z120>0)","v":0}]
[{"$nulls":7},{"$f":"+D121+F121-G121","v":0},{"$nulls":14},{"$f":"SUBSTITUTE($C$119,CHAR(10),\"\")","v":"Inversiones en subsidiarias, asociadas y negocios conjuntos medidas a valor razonable con cambios en el ORI"},"Inversiones e Instr Deriv",{"$f":"(W121=OFFSET(W121,1,0))*1","v":0},30,{"$f":"(X121=Parametros[Segmento])*(Y121>0)*(Z121>0)","v":0}]
[null,null,"Inversiones en subsidiarias, asociadas y \nnegocios conjuntos medidas con método de \nparticipación",null,{"$f":"SUM(D123:D124)","v":0},{"$nulls":3},{"$f":"SUM(H123:H124)","v":0},{"$nulls":14},"Inversiones e Instr Deriv",1,55,{"$f":"(X122=Parametros[Segmento])*(Y122>0)*(Z122>0)","v":0}]
[{"$nulls":7},{"$f":"+D123+F123-G123","v":0},{"$nulls":14},{"$f":"SUBSTITUTE($C$122,CHAR(10),\"\")","v":"Inversiones en subsidiarias, asociadas y negocios conjuntos medidas con método de participación"},"Inversiones e Instr Deriv",{"$f":"(W123=OFFSET(W123,1,0))*1","v":1},30,{"$f":"(X123=Parametros[Segmento])*(Y123>0)*(Z123>0)","v":0}]
[{"$nulls":7},{"$f":"+D124+F124-G124","v":0},{"$nulls":14},{"$f":"SUBSTITUTE($C$122,CHAR(10),\"\")","v":"Inversiones en subsidiarias, asociadas y negocios conjuntos medidas con método de participación"},"Inversiones e Instr Deriv",{"$f":"(W124=OFFSET(W124,1,0))*1","v":0},30,{"$f":"(X124=Parametros[Segmento])*(Y124>0)*(Z124>0)","v":0}]
[null,null,"Inversiones en subsidiarias, asociadas y negocios conjuntos medidas al costo",null,{"$f":"SUM(D126:D127)","v":0},{"$nulls":3},{"$f":"SUM(H126:H127)","v":0},{"$nulls":14},"Inversiones e Instr Deriv",1,40.1,{"$f":"(X125=Parametros[Segmento])*(Y125>0)*(Z125>0)","v":0}]
[{"$nulls":7},{"$f":"+D126+F126-G126","v":0},{"$nulls":14},{"$f":"SUBSTITUTE($C$125,CHAR(10),\"\")","v":"Inversiones en subsidiarias, asociadas y negocios conjuntos medidas al costo"},"Inversiones e Instr Deriv",{"$f":"(W126=OFFSET(W126,1,0))*1","v":1},30,{"$f":"(X126=Parametros[Segmento])*(Y126>0)*(Z126>0)","v":0}]
[{"$nulls":7},{"$f":"+D127+F127-G127","v":0},{"$nulls":14},{"$f":"SUBSTITUTE($C$125,CHAR(10),\"\")","v":"Inversiones en subsidiarias, asociadas y negocios conjuntos medidas al costo"},"Inversiones e Instr Deriv",{"$f":"(W127=OFFSET(W127,1,0))*1","v":0},30,{"$f":"(X127=Parametros[Segmento])*(Y127>0)*(Z127>0)","v":0}]
[null,null,"Instrumentos de deuda a costo amortizado ",null,{"$f":"SUM(D129:D130)","v":0},{"$nulls":3},{"$f":"SUM(H129:H130)","v":0},{"$nulls":14},"Inversiones e Instr Deriv",1,30,{"$f":"(X128=Parametros[Segmento])*(Y128>0)*(Z128>0)","v":0}]
[{"$nulls":7},{"$f":"+D129+F129-G129","v":0},{"$nulls":14},{"$f":"SUBSTITUTE($C$128,CHAR(10),\"\")","v":"Instrumentos de deuda a costo amortizado "},"Inversiones e Instr Deriv",{"$f":"(W129=OFFSET(W129,1,0))*1","v":1},30,{"$f":"(X129=Parametros[Segmento])*(Y129>0)*(Z129>0)","v":0}]
[{"$nulls":7},{"$f":"+D130+F130-G130","v":0},{"$nulls":14},{"$f":"SUBSTITUTE($C$128,CHAR(10),\"\")","v":"Instrumentos de deuda a costo amortizado "},"Inversiones e Instr Deriv",{"$f":"(W130=OFFSET(W130,1,0))*1","v":0},30,{"$f":"(X130=Parametros[Segmento])*(Y130>0)*(Z130>0)","v":0}]
[null,null,"Instrumentos de deuda o patrimonio al costo ",null,{"$f":"SUM(D132:D133)","v":0},{"$nulls":3},{"$f":"SUM(H132:H133)","v":0},{"$nulls":14},"Inversiones e Instr Deriv",1,30,{"$f":"(X131=Parametros[Segmento])*(Y131>0)*(Z131>0)","v":0}]
[{"$nulls":7},{"$f":"+D132+F132-G132","v":0},{"$nulls":14},{"$f":"SUBSTITUTE($C$131,CHAR(10),\"\")","v":"Instrumentos de deuda o patrimonio al costo "},"Inversiones e Instr Deriv",{"$f":"(W132=OFFSET(W132,1,0))*1","v":1},30,{"$f":"(X132=Parametros[Segmento])*(Y132>0)*(Z132>0)","v":0}]
[{"$nulls":7},{"$f":"+D133+F133-G133","v":0},{"$nulls":14},{"$f":"SUBSTITUTE($C$131,CHAR(10),\"\")","v":"Instrumentos de deuda o patrimonio al costo "},"Inversiones e Instr Deriv",{"$f":"(W133=OFFSET(W133,1,0))*1","v":0},30,{"$f":"(X133=Parametros[Segmento])*(Y133>0)*(Z133>0)","v":0}]
[null,null,"Instrumentos de deuda o patrimonio al valor \nrazonable con cambios en resultados ",null,{"$f":"+SUM(D135:D136)","v":0},{"$nulls":3},{"$f":"+SUM(H135:H136)","v":0},{"$nulls":14},"Inversiones e Instr Deriv",1,40.1,{"$f":"(X134=Parametros[Segmento])*(Y134>0)*(Z134>0)","v":0}]
[{"$nulls":7},{"$f":"+D135+F135-G135","v":0},{"$nulls":14},{"$f":"SUBSTITUTE($C$134,CHAR(10),\"\")","v":"Instrumentos de deuda o patrimonio al valor razonable con cambios en resultados "},"Inversiones e Instr Deriv",{"$f":"(W135=OFFSET(W135,1,0))*1","v":1},30,{"$f":"(X135=Parametros[Segmento])*(Y135>0)*(Z135>0)","v":0}]
[{"$nulls":7},{"$f":"+D136+F136-G136","v":0},{"$nulls":14},{"$f":"SUBSTITUTE($C$134,CHAR(10),\"\")","v":"Instrumentos de deuda o patrimonio al valor razonable con cambios en resultados "},"Inversiones e Instr Deriv",{"$f":"(W136=OFFSET(W136,1,0))*1","v":0},30,{"$f":"(X136=Parametros[Segmento])*(Y136>0)*(Z136>0)","v":0}]
[null,null,"Instrumentos de deuda o patrimonio al valor razonable con cambios en el ORI",null,{"$f":"SUM(D138:D139)","v":0},{"$nulls":3},{"$f":"SUM(H138:H139)","v":0},{"$nulls":14},"Inversiones e Instr Deriv",1,40.1,{"$f":"(X137=Parametros[Segmento])*(Y137>0)*(Z137>0)","v":0}]
[{"$nulls":7},{"$f":"+D138+F138-G138","v":0},{"$nulls":14},{"$f":"SUBSTITUTE($C$137,CHAR(10),\"\")","v":"Instrumentos de deuda o patrimonio al valor razonable con cambios en el ORI"},"Inversiones e Instr Deriv",{"$f":"(W138=OFFSET(W138,1,0))*1","v":1},30,{"$f":"(X138=Parametros[Segmento])*(Y138>0)*(Z138>0)","v":0}]
[{"$nulls":7},{"$f":"+D139+F139-G139","v":0},{"$nulls":14},{"$f":"SUBSTITUTE($C$137,CHAR(10),\"\")","v":"Instrumentos de deuda o patrimonio al valor razonable con cambios en el ORI"},"Inversiones e Instr Deriv",{"$f":"(W139=OFFSET(W139,1,0))*1","v":0},30,{"$f":"(X139=Parametros[Segmento])*(Y139>0)*(Z139>0)","v":0}]
[null,null,"Instrumentos financieros derivados con \nfines de negociación ",null,{"$f":"SUM(D141:D142)","v":0},{"$nulls":3},{"$f":"SUM(H141:H142)","v":0},{"$nulls":14},"Inversiones e Instr Deriv",1,40.1,{"$f":"(X140=Parametros[Segmento])*(Y140>0)*(Z140>0)","v":0}]
[{"$nulls":7},{"$f":"+D141+F141-G141","v":0},{"$nulls":14},{"$f":"SUBSTITUTE($C$140,CHAR(10),\"\")","v":"Instrumentos financieros derivados con fines de negociación "},"Inversiones e Instr Deriv",{"$f":"(W141=OFFSET(W141,1,0))*1","v":1},30,{"$f":"(X141=Parametros[Segmento])*(Y141>0)*(Z141>0)","v":0}]
[{"$nulls":7},{"$f":"+D142+F142-G142","v":0},{"$nulls":14},{"$f":"SUBSTITUTE($C$140,CHAR(10),\"\")","v":"Instrumentos financieros derivados con fines de negociación "},"Inversiones e Instr Deriv",{"$f":"(W142=OFFSET(W142,1,0))*1","v":0},30,{"$f":"(X142=Parametros[Segmento])*(Y142>0)*(Z142>0)","v":0}]
[null,null,"Instrumentos financieros derivados con \nfines de cobertura",null,{"$f":"SUM(D144:D145)","v":0},{"$nulls":3},{"$f":"SUM(H144:H145)","v":0},{"$nulls":14},"Inversiones e Instr Deriv",1,40.1,{"$f":"(X143=Parametros[Segmento])*(Y143>0)*(Z143>0)","v":0}]
[{"$nulls":7},{"$f":"+D144+F144-G144","v":0},{"$nulls":14},{"$f":"SUBSTITUTE($C$143,CHAR(10),\"\")","v":"Instrumentos financieros derivados con fines de cobertura"},"Inversiones e Instr Deriv",{"$f":"(W144=OFFSET(W144,1,0))*1","v":1},30,{"$f":"(X144=Parametros[Segmento])*(Y144>0)*(Z144>0)","v":0}]
[{"$nulls":7},{"$f":"+D145+F145-G145","v":0},{"$nulls":14},{"$f":"SUBSTITUTE($C$143,CHAR(10),\"\")","v":"Instrumentos financieros derivados con fines de cobertura"},"Inversiones e Instr Deriv",{"$f":"(W145=OFFSET(W145,1,0))*1","v":0},30,{"$f":"(X145=Parametros[Segmento])*(Y145>0)*(Z145>0)","v":0}]
[null,null,"Derechos fiduciarios ",null,{"$f":"SUM(D147:D148)","v":0},{"$nulls":3},{"$f":"SUM(H147:H148)","v":0},{"$nulls":14},"Inversiones e Instr Deriv",1,30,{"$f":"(X146=Parametros[Segmento])*(Y146>0)*(Z146>0)","v":0}]
[{"$nulls":7},{"$f":"+D147+F147-G147","v":0},{"$nulls":14},{"$f":"SUBSTITUTE($C$146,CHAR(10),\"\")","v":"Derechos fiduciarios "},"Inversiones e Instr Deriv",{"$f":"(W147=OFFSET(W147,1,0))*1","v":1},30,{"$f":"(X147=Parametros[Segmento])*(Y147>0)*(Z147>0)","v":0}]
[{"$nulls":7},{"$f":"+D148+F148-G148","v":0},{"$nulls":14},{"$f":"SUBSTITUTE($C$146,CHAR(10),\"\")","v":"Derechos fiduciarios "},"Inversiones e Instr Deriv",{"$f":"(W148=OFFSET(W148,1,0))*1","v":0},30,{"$f":"(X148=Parametros[Segmento])*(Y148>0)*(Z148>0)","v":0}]
[null,null,"Otros ",null,{"$f":"SUM(D150:D151)","v":0},{"$nulls":3},{"$f":"SUM(H150:H151)","v":0},{"$nulls":14},"Inversiones e Instr Deriv",1,30,{"$f":"(X149=Parametros[Segmento])*(Y149>0)*(Z149>0)","v":0}]
[{"$nulls":7},{"$f":"+D150+F150-G150","v":0},{"$nulls":14},{"$f":"SUBSTITUTE($C$149,CHAR(10),\"\")","v":"Otros "},"Inversiones e Instr Deriv",{"$f":"(W150=OFFSET(W150,1,0))*1","v":1},30,{"$f":"(X150=Parametros[Segmento])*(Y150>0)*(Z150>0)","v":0}]
[{"$nulls":7},{"$f":"+D151+F151-G151","v":0},{"$nulls":14},{"$f":"SUBSTITUTE($C$149,CHAR(10),\"\")","v":"Otros "},"Inversiones e Instr Deriv",{"$f":"(W151=OFFSET(W151,1,0))*1","v":0},30,{"$f":"(X151=Parametros[Segmento])*(Y151>0)*(Z151>0)","v":0}]
[null,null,"Totales ",{"$f":"SUM(D114:D151)","v":0},{"$f":"SUM(E113:E151)","v":0},{"$f":"SUM(F114:F151)","v":0},{"$f":"SUM(G114:G151)","v":0},{"$f":"SUM(H114:H151)","v":0},{"$f":"SUM(I113:I151)","v":0},{"$nulls":14},"Inversiones e Instr Deriv",1,30,{"$f":"(X152=Parametros[Segmento])*(Y152>0)*(Z152>0)","v":0}]
[{"$nulls":23},"Inversiones e Instr Deriv",1,30,{"$f":"(X153=Parametros[Segmento])*(Y153>0)*(Z153>0)","v":0}]
[{"$nulls":23},"Inversiones e Instr Deriv",1,30,{"$f":"(X154=Parametros[Segmento])*(Y154>0)*(Z154>0)","v":0}]
[null,null,"Impuesto Diferido ",{"$nulls":20},"Inversiones e Instr Deriv",1,30,{"$f":"(X155=Parametros[Segmento])*(Y155>0)*(Z155>0)","v":0}]
[null,null,"Concepto ","Valor contable","Valor fiscal","Diferencia ","Activo por Impuesto Diferido","Pasivo por Impuesto Diferido",{"$nulls":15},"Inversiones e Instr Deriv",1,40.1,{"$f":"(X156=Parametros[Segmento])*(Y156>0)*(Z156>0)","v":0}]
[null,null,"Inversiones e Instrumentos Derivados",{"$f":"+E152","v":0},{"$f":"+I152","v":0},{"$nulls":18},"Inversiones e Instr Deriv",1,30,{"$f":"(X157=Parametros[Segmento])*(Y157>0)*(Z157>0)","v":0}]
[null,null,"Deterioro de Inversiones e Instrumentos \nDerivados",{"$f":"+' '!K169","v":0},0,{"$nulls":18},"Inversiones e Instr Deriv",1,38,{"$f":"(X158=Parametros[Segmento])*(Y158>0)*(Z158>0)","v":0}]
[null,null,"Total Inversiones e Instrumentos Derivados",{"$f":"+D157-D158","v":0},{"$f":"+E157-E158","v":0},{"$f":"+D159-E159","v":0},{"$f":"+IF(E159>D159,(E159-D159),0)","v":0},{"$f":"+IF(D159>E159,(D159-E159),0)","v":0},{"$nulls":15},"Inversiones e Instr Deriv",1,30,{"$f":"(X159=Parametros[Segmento])*(Y159>0)*(Z159>0)","v":0}]
[1,3,45,24.78,24.78,24.78,24.78,24.78,24.78,24.78,24.78,{"$nulls":12},"Det Acum Inver",null,20,{"$f":"(X160=Parametros[Segmento])*(Y160>0)*(Z160>0)","v":0}]
[{"$nulls":23},"Det Acum Inver",1,10,{"$f":"(X161=Parametros[Segmento])*(Y161>0)*(Z161>0)","v":0}]
[{"$nulls":23},"Det Acum Inver",1,30,{"$f":"(X162=Parametros[Segmento])*(Y162>0)*(Z162>0)","v":0}]
[null,null,"Deterioro Acumulado de Inversiones e Instrumentos Derivados",{"$nulls":20},"Det Acum Inver",1,30,{"$f":"(X163=Parametros[Segmento])*(Y163>0)*(Z163>0)","v":0}]
[{"$nulls":23},"Det Acum Inver",1,30,{"$f":"(X164=Parametros[Segmento])*(Y164>0)*(Z164>0)","v":0}]
[null,null,"Descripción Inversión","Valor en libros","Deterioro Contable ",{"$nulls":18},"Det Acum Inver",1,30,{"$f":"(X165=Parametros[Segmento])*(Y165>0)*(Z165>0)","v":0}]
[{"$nulls":4},"Deterioro Acumulado a 31 de dic. 2022","Valor \nRazonable","Costos de Venta","Valor \nen Uso","Importe \nRecuperable","Deterioro ","Deterioro Acumulado a 31 de dic. 2023",{"$nulls":12},"Det Acum Inver",1,40.1,{"$f":"(X166=Parametros[Segmento])*(Y166>0)*(Z166>0)","v":0}]
[null,null,"",{"$nulls":5},{"$f":"IF(C167>0,IF((F167-G167)>H167,F167-G167,H167),\"\")","v":0},{"$f":"+IF(C167>0,IF(I167<D167,D167-I167,0),\"\")","v":0},{"$f":"+IF(C167>0,E167+J167,\"\")","v":0},{"$nulls":11},{"$f":"SUBSTITUTE($C$163,CHAR(10),\"\")","v":"Deterioro Acumulado de Inversiones e Instrumentos Derivados"},"Det Acum Inver",{"$f":"(W167=OFFSET(W167,1,0))*1","v":1},30,{"$f":"(X167=Parametros[Segmento])*(Y167>0)*(Z167>0)","v":0}]
[null,null,"",{"$nulls":5},{"$f":"IF(C168>0,IF((F168-G168)>H168,F168-G168,H168),\"\")","v":0},{"$f":"+IF(C168>0,IF(I168<D168,D168-I168,0),\"\")","v":0},{"$f":"+IF(C168>0,E168+J168,\"\")","v":0},{"$nulls":11},{"$f":"SUBSTITUTE($C$163,CHAR(10),\"\")","v":"Deterioro Acumulado de Inversiones e Instrumentos Derivados"},"Det Acum Inver",{"$f":"(W168=OFFSET(W168,1,0))*1","v":0},30,{"$f":"(X168=Parametros[Segmento])*(Y168>0)*(Z168>0)","v":0}]
[null,null,"",null,{"$f":"SUM(E167:E168)","v":0},0,0,0,0,0,0,{"$nulls":12},"Det Acum Inver",1,30,{"$f":"(X169=Parametros[Segmento])*(Y169>0)*(Z169>0)","v":0}]
[null,2.44,55.22,24.78,24.78,24.78,24.78,24.78,24.78,{"$nulls":14},"Cuentas x cobrar",null,20,{"$f":"(X170=Parametros[Segmento])*(Y170>0)*(Z170>0)","v":0}]
[{"$nulls":23},"Cuentas x cobrar",1,10,{"$f":"(X171=Parametros[Segmento])*(Y171>0)*(Z171>0)","v":0}]
[{"$nulls":23},"Cuentas x cobrar",1,30,{"$f":"(X172=Parametros[Segmento])*(Y172>0)*(Z172>0)","v":0}]
[null,null,"Cuentas por Cobrar",{"$nulls":20},"Cuentas x cobrar",1,30,{"$f":"(X173=Parametros[Segmento])*(Y173>0)*(Z173>0)","v":0}]
[null,null,"Concepto/Descripción","Valores Contables",null,"Ajuste",null,"Valores Fiscales",{"$nulls":15},"Cuentas x cobrar",1,30,{"$f":"(X174=Parametros[Segmento])*(Y174>0)*(Z174>0)","v":0}]
[{"$nulls":3},"Saldos Parciales ","Saldos Totales ","Mayor Valor Fiscal","Menor Valor Fiscal","Saldos Parciales","Saldos Totales ",{"$nulls":14},"Cuentas x cobrar",1,30,{"$f":"(X175=Parametros[Segmento])*(Y175>0)*(Z175>0)","v":0}]
[null,null,"Cartera de crédito (préstamos bancarios)",null,{"$f":"SUM(D177:D178)","v":0},{"$nulls":3},{"$f":"SUM(H177:H178)","v":0},{"$nulls":14},"Cuentas x cobrar",1,30,{"$f":"(X176=Parametros[Segmento])*(Y176>0)*(Z176>0)","v":0}]
[{"$nulls":7},{"$f":"+D177+F177-G177","v":0},{"$nulls":14},{"$f":"SUBSTITUTE($C$176,CHAR(10),\"\")","v":"Cartera de crédito (préstamos bancarios)"},"Cuentas x cobrar",{"$f":"(W177=OFFSET(W177,1,0))*1","v":1},30,{"$f":"(X177=Parametros[Segmento])*(Y177>0)*(Z177>0)","v":0}]
[{"$nulls":7},{"$f":"+D178+F178-G178","v":0},{"$nulls":14},{"$f":"SUBSTITUTE($C$176,CHAR(10),\"\")","v":"Cartera de crédito (préstamos bancarios)"},"Cuentas x cobrar",{"$f":"(W178=OFFSET(W178,1,0))*1","v":0},30,{"$f":"(X178=Parametros[Segmento])*(Y178>0)*(Z178>0)","v":0}]
[null,null,"Cuentas comerciales por cobrar ",null,{"$f":"SUM(D180:D181)","v":0},{"$nulls":3},{"$f":"SUM(H180:H181)","v":0},{"$nulls":14},"Cuentas x cobrar",1,30,{"$f":"(X179=Parametros[Segmento])*(Y179>0)*(Z179>0)","v":0}]
[{"$nulls":7},{"$f":"+D180+F180-G180","v":0},{"$nulls":14},{"$f":"SUBSTITUTE($C$179,CHAR(10),\"\")","v":"Cuentas comerciales por cobrar "},"Cuentas x cobrar",{"$f":"(W180=OFFSET(W180,1,0))*1","v":1},30,{"$f":"(X180=Parametros[Segmento])*(Y180>0)*(Z180>0)","v":0}]
[{"$nulls":7},{"$f":"+D181+F181-G181","v":0},{"$nulls":14},{"$f":"SUBSTITUTE($C$179,CHAR(10),\"\")","v":"Cuentas comerciales por cobrar "},"Cuentas x cobrar",{"$f":"(W181=OFFSET(W181,1,0))*1","v":0},30,{"$f":"(X181=Parametros[Segmento])*(Y181>0)*(Z181>0)","v":0}]
[null,null,"Cuentas por cobrar en acuerdos de concesión (modelos del activo financiero) ",null,{"$f":"SUM(D183:D184)","v":0},{"$nulls":3},{"$f":"SUM(H183:H184)","v":0},{"$nulls":14},"Cuentas x cobrar",1,30,{"$f":"(X182=Parametros[Segmento])*(Y182>0)*(Z182>0)","v":0}]
[{"$nulls":7},{"$f":"+D183+F183-G183","v":0},{"$nulls":14},{"$f":"SUBSTITUTE($C$182,CHAR(10),\"\")","v":"Cuentas por cobrar en acuerdos de concesión (modelos del activo financiero) "},"Cuentas x cobrar",{"$f":"(W183=OFFSET(W183,1,0))*1","v":1},30,{"$f":"(X183=Parametros[Segmento])*(Y183>0)*(Z183>0)","v":0}]
[{"$nulls":7},{"$f":"+D184+F184-G184","v":0},{"$nulls":14},{"$f":"SUBSTITUTE($C$182,CHAR(10),\"\")","v":"Cuentas por cobrar en acuerdos de concesión (modelos del activo financiero) "},"Cuentas x cobrar",{"$f":"(W184=OFFSET(W184,1,0))*1","v":0},30,{"$f":"(X184=Parametros[Segmento])*(Y184>0)*(Z184>0)","v":0}]
[null,null,"Arrendamiento financiero o leasing financiero ",null,{"$f":"SUM(D186:D187)","v":0},{"$nulls":3},{"$f":"SUM(H186:H187)","v":0},{"$nulls":14},"Cuentas x cobrar",1,30,{"$f":"(X185=Parametros[Segmento])*(Y185>0)*(Z185>0)","v":0}]
[{"$nulls":7},{"$f":"+D186+F186-G186","v":0},{"$nulls":14},{"$f":"SUBSTITUTE($C$185,CHAR(10),\"\")","v":"Arrendamiento financiero o leasing financiero "},"Cuentas x cobrar",{"$f":"(W186=OFFSET(W186,1,0))*1","v":1},30,{"$f":"(X186=Parametros[Segmento])*(Y186>0)*(Z186>0)","v":0}]
[{"$nulls":7},{"$f":"+D187+F187-G187","v":0},{"$nulls":14},{"$f":"SUBSTITUTE($C$185,CHAR(10),\"\")","v":"Arrendamiento financiero o leasing financiero "},"Cuentas x cobrar",{"$f":"(W187=OFFSET(W187,1,0))*1","v":0},30,{"$f":"(X187=Parametros[Segmento])*(Y187>0)*(Z187>0)","v":0}]
[null,null,"Dividendos y participaciones ",null,{"$f":"SUM(D189:D190)","v":0},{"$nulls":3},{"$f":"SUM(H189:H190)","v":0},{"$nulls":14},"Cuentas x cobrar",1,30,{"$f":"(X188=Parametros[Segmento])*(Y188>0)*(Z188>0)","v":0}]
[{"$nulls":7},{"$f":"+D189+F189-G189","v":0},{"$nulls":14},{"$f":"SUBSTITUTE($C$188,CHAR(10),\"\")","v":"Dividendos y participaciones "},"Cuentas x cobrar",{"$f":"(W189=OFFSET(W189,1,0))*1","v":1},30,{"$f":"(X189=Parametros[Segmento])*(Y189>0)*(Z189>0)","v":0}]
[{"$nulls":7},{"$f":"+D190+F190-G190","v":0},{"$nulls":14},{"$f":"SUBSTITUTE($C$188,CHAR(10),\"\")","v":"Dividendos y participaciones "},"Cuentas x cobrar",{"$f":"(W190=OFFSET(W190,1,0))*1","v":0},30,{"$f":"(X190=Parametros[Segmento])*(Y190>0)*(Z190>0)","v":0}]
[null,null,"Cuentas por cobrar a socios, accionistas o partícipes ",null,{"$f":"SUM(D192:D193)","v":0},{"$nulls":3},{"$f":"SUM(H192:H193)","v":0},{"$nulls":14},"Cuentas x cobrar",1,30,{"$f":"(X191=Parametros[Segmento])*(Y191>0)*(Z191>0)","v":0}]
[{"$nulls":7},{"$f":"+D192+F192-G192","v":0},{"$nulls":14},{"$f":"SUBSTITUTE($C$191,CHAR(10),\"\")","v":"Cuentas por cobrar a socios, accionistas o partícipes "},"Cuentas x cobrar",{"$f":"(W192=OFFSET(W192,1,0))*1","v":1},30,{"$f":"(X192=Parametros[Segmento])*(Y192>0)*(Z192>0)","v":0}]
[{"$nulls":7},{"$f":"+D193+F193-G193","v":0},{"$nulls":14},{"$f":"SUBSTITUTE($C$191,CHAR(10),\"\")","v":"Cuentas por cobrar a socios, accionistas o partícipes "},"Cuentas x cobrar",{"$f":"(W193=OFFSET(W193,1,0))*1","v":0},30,{"$f":"(X193=Parametros[Segmento])*(Y193>0)*(Z193>0)","v":0}]
[null,null,"Cuentas y documentos por cobrar a otras partes relacionadas y asociadas ",null,{"$f":"SUM(D195:D196)","v":0},{"$nulls":3},{"$f":"SUM(H195:H196)","v":0},{"$nulls":14},"Cuentas x cobrar",1,30,{"$f":"(X194=Parametros[Segmento])*(Y194>0)*(Z194>0)","v":0}]
[{"$nulls":7},{"$f":"+D195+F195-G195","v":0},{"$nulls":14},{"$f":"SUBSTITUTE($C$194,CHAR(10),\"\")","v":"Cuentas y documentos por cobrar a otras partes relacionadas y asociadas "},"Cuentas x cobrar",{"$f":"(W195=OFFSET(W195,1,0))*1","v":1},30,{"$f":"(X195=Parametros[Segmento])*(Y195>0)*(Z195>0)","v":0}]
[{"$nulls":7},{"$f":"+D196+F196-G196","v":0},{"$nulls":14},{"$f":"SUBSTITUTE($C$194,CHAR(10),\"\")","v":"Cuentas y documentos por cobrar a otras partes relacionadas y asociadas "},"Cuentas x cobrar",{"$f":"(W196=OFFSET(W196,1,0))*1","v":0},30,{"$f":"(X196=Parametros[Segmento])*(Y196>0)*(Z196>0)","v":0}]
[null,null,"Primas de seguros por recaudar ",null,{"$f":"+SUM(D198:D199)","v":0},{"$nulls":3},{"$f":"+SUM(H198:H199)","v":0},{"$nulls":14},"Cuentas x cobrar",1,30,{"$f":"(X197=Parametros[Segmento])*(Y197>0)*(Z197>0)","v":0}]
[{"$nulls":7},{"$f":"+D198+F198-G198","v":0},{"$nulls":14},{"$f":"SUBSTITUTE($C$197,CHAR(10),\"\")","v":"Primas de seguros por recaudar "},"Cuentas x cobrar",{"$f":"(W198=OFFSET(W198,1,0))*1","v":1},30,{"$f":"(X198=Parametros[Segmento])*(Y198>0)*(Z198>0)","v":0}]
[{"$nulls":7},{"$f":"+D199+F199-G199","v":0},{"$nulls":14},{"$f":"SUBSTITUTE($C$197,CHAR(10),\"\")","v":"Primas de seguros por recaudar "},"Cuentas x cobrar",{"$f":"(W199=OFFSET(W199,1,0))*1","v":0},30,{"$f":"(X199=Parametros[Segmento])*(Y199>0)*(Z199>0)","v":0}]
[null,null,"Cartera de difícil cobro ",null,{"$f":"SUM(D201:D202)","v":0},{"$nulls":3},{"$f":"SUM(H201:H202)","v":0},{"$nulls":14},"Cuentas x cobrar",1,30,{"$f":"(X200=Parametros[Segmento])*(Y200>0)*(Z200>0)","v":0}]
[{"$nulls":7},{"$f":"+D201+F201-G201","v":0},{"$nulls":14},{"$f":"SUBSTITUTE($C$200,CHAR(10),\"\")","v":"Cartera de difícil cobro "},"Cuentas x cobrar",{"$f":"(W201=OFFSET(W201,1,0))*1","v":1},30,{"$f":"(X201=Parametros[Segmento])*(Y201>0)*(Z201>0)","v":0}]
[{"$nulls":7},{"$f":"+D202+F202-G202","v":0},{"$nulls":14},{"$f":"SUBSTITUTE($C$200,CHAR(10),\"\")","v":"Cartera de difícil cobro "},"Cuentas x cobrar",{"$f":"(W202=OFFSET(W202,1,0))*1","v":0},30,{"$f":"(X202=Parametros[Segmento])*(Y202>0)*(Z202>0)","v":0}]
[null,null,"Reclamaciones por cobrar ",null,{"$f":"SUM(D204:D205)","v":0},{"$nulls":3},{"$f":"SUM(H204:H205)","v":0},{"$nulls":14},"Cuentas x cobrar",1,30,{"$f":"(X203=Parametros[Segmento])*(Y203>0)*(Z203>0)","v":0}]
[{"$nulls":7},{"$f":"+D204+F204-G204","v":0},{"$nulls":14},{"$f":"SUBSTITUTE($C$203,CHAR(10),\"\")","v":"Reclamaciones por cobrar "},"Cuentas x cobrar",{"$f":"(W204=OFFSET(W204,1,0))*1","v":1},30,{"$f":"(X204=Parametros[Segmento])*(Y204>0)*(Z204>0)","v":0}]
[{"$nulls":7},{"$f":"+D205+F205-G205","v":0},{"$nulls":14},{"$f":"SUBSTITUTE($C$203,CHAR(10),\"\")","v":"Reclamaciones por cobrar "},"Cuentas x cobrar",{"$f":"(W205=OFFSET(W205,1,0))*1","v":0},30,{"$f":"(X205=Parametros[Segmento])*(Y205>0)*(Z205>0)","v":0}]
[null,null,"Anticipos de pagos ",null,{"$f":"SUM(D207:D208)","v":0},{"$nulls":3},{"$f":"SUM(H207:H208)","v":0},{"$nulls":14},"Cuentas x cobrar",1,30,{"$f":"(X206=Parametros[Segmento])*(Y206>0)*(Z206>0)","v":0}]
[{"$nulls":7},{"$f":"+D207+F207-G207","v":0},{"$nulls":14},{"$f":"SUBSTITUTE($C$206,CHAR(10),\"\")","v":"Anticipos de pagos "},"Cuentas x cobrar",{"$f":"(W207=OFFSET(W207,1,0))*1","v":1},30,{"$f":"(X207=Parametros[Segmento])*(Y207>0)*(Z207>0)","v":0}]
[{"$nulls":7},{"$f":"+D208+F208-G208","v":0},{"$nulls":14},{"$f":"SUBSTITUTE($C$206,CHAR(10),\"\")","v":"Anticipos de pagos "},"Cuentas x cobrar",{"$f":"(W208=OFFSET(W208,1,0))*1","v":0},30,{"$f":"(X208=Parametros[Segmento])*(Y208>0)*(Z208>0)","v":0}]
[null,null,"Otras cuentas y documentos por cobrar ",null,{"$f":"SUM(D210:D211)","v":0},{"$nulls":3},{"$f":"SUM(H210:H211)","v":0},{"$nulls":14},"Cuentas x cobrar",1,30,{"$f":"(X209=Parametros[Segmento])*(Y209>0)*(Z209>0)","v":0}]
[{"$nulls":7},{"$f":"+D210+F210-G210","v":0},{"$nulls":14},{"$f":"SUBSTITUTE($C$209,CHAR(10),\"\")","v":"Otras cuentas y documentos por cobrar "},"Cuentas x cobrar",{"$f":"(W210=OFFSET(W210,1,0))*1","v":1},30,{"$f":"(X210=Parametros[Segmento])*(Y210>0)*(Z210>0)","v":0}]
[{"$nulls":7},{"$f":"+D211+F211-G211","v":0},{"$nulls":14},{"$f":"SUBSTITUTE($C$209,CHAR(10),\"\")","v":"Otras cuentas y documentos por cobrar "},"Cuentas x cobrar",{"$f":"(W211=OFFSET(W211,1,0))*1","v":0},30,{"$f":"(X211=Parametros[Segmento])*(Y211>0)*(Z211>0)","v":0}]
[null,null,"Totales ",{"$f":"SUM(D177:D211)","v":0},{"$f":"SUM(E176:E211)","v":0},{"$f":"SUM(F177:F211)","v":0},{"$f":"SUM(G177:G211)","v":0},{"$f":"SUM(H177:H211)","v":0},{"$f":"SUM(I176:I211)","v":0},{"$nulls":14},"Cuentas x cobrar",1,30,{"$f":"(X212=Parametros[Segmento])*(Y212>0)*(Z212>0)","v":0}]
[{"$nulls":23},"Cuentas x cobrar",1,30,{"$f":"(X213=Parametros[Segmento])*(Y213>0)*(Z213>0)","v":0}]
[{"$nulls":23},"Cuentas x cobrar",1,30,{"$f":"(X214=Parametros[Segmento])*(Y214>0)*(Z214>0)","v":0}]
[null,null,"Impuesto Diferido ",{"$nulls":20},"Cuentas x cobrar",1,30,{"$f":"(X215=Parametros[Segmento])*(Y215>0)*(Z215>0)","v":0}]
[null,null,"Concepto ","Valor contable","Valor fiscal","Diferencia ","Activo por Impuesto Diferido","Pasivo por Impuesto Diferido",{"$nulls":15},"Cuentas x cobrar",1,40.1,{"$f":"(X216=Parametros[Segmento])*(Y216>0)*(Z216>0)","v":0}]
[null,null,"Cuentas por cobrar ",{"$f":"+E212","v":0},{"$f":"+I212","v":0},{"$nulls":18},"Cuentas x cobrar",1,30,{"$f":"(X217=Parametros[Segmento])*(Y217>0)*(Z217>0)","v":0}]
[null,null,"Deterioro cuentas por cobrar",{"$f":"+' '!L235","v":0},{"$f":"U235","v":0},{"$nulls":18},"Cuentas x cobrar",1,30,{"$f":"(X218=Parametros[Segmento])*(Y218>0)*(Z218>0)","v":0}]
[null,null,"Total Cuentas por Cobrar",{"$f":"+D217-D218","v":0},{"$f":"+E217-E218","v":0},{"$f":"+D219-E219","v":0},{"$f":"+IF(E219>D219,(E219-D219),0)","v":0},{"$f":"+IF(D219>E219,(D219-E219),0)","v":0},{"$nulls":15},"Cuentas x cobrar",1,30,{"$f":"(X219=Parametros[Segmento])*(Y219>0)*(Z219>0)","v":0}]
[1,3,11.78,15.67,15.78,9.78,17.22,24.78,{"$f":"IF($U$229=Listas!$D$2,24.78,0)","v":0},{"$f":"IF($U$229=Listas!$D$3,24.78,0)","v":0},24.78,24.78,24.78,24.78,{"$f":"IF($U$230=Listas!$D$2,24.78,0)","v":0},{"$f":"IF($U$230=Listas!$D$3,24.78,0)","v":0},{"$f":"IF($U$230=Listas!$D$3,24.78,0)","v":0},{"$f":"IF($U$230=Listas!$D$3,24.78,0)","v":0},24.78,24.78,24.78,4,null,"Det Acum CxC",null,20,{"$f":"(X220=Parametros[Segmento])*(Y220>0)*(Z220>0)","v":0}]
[{"$nulls":23},"Det Acum CxC",1,10,{"$f":"(X221=Parametros[Segmento])*(Y221>0)*(Z221>0)","v":0}]
[{"$nulls":23},"Det Acum CxC",1,30,{"$f":"(X222=Parametros[Segmento])*(Y222>0)*(Z222>0)","v":0}]
[null,null,"Deterioro Acumulado de Cuentas por Cobrar",{"$nulls":20},"Det Acum CxC",1,30,{"$f":"(X223=Parametros[Segmento])*(Y223>0)*(Z223>0)","v":0}]
[null,null,"Fecha de corte ",{"$nulls":20},"Det Acum CxC",1,30,{"$f":"(X224=Parametros[Segmento])*(Y224>0)*(Z224>0)","v":0}]
[null,null,"Política de recaudo de cartera ",{"$nulls":20},"Det Acum CxC",1,30,{"$f":"(X225=Parametros[Segmento])*(Y225>0)*(Z225>0)","v":0}]
[null,null,"Tasa de mercado anual a usar para medir el deterioro contable",{"$nulls":20},"Det Acum CxC",1,30,{"$f":"(X226=Parametros[Segmento])*(Y226>0)*(Z226>0)","v":0}]
[null,null,"Tasa de mercado mensual a usar para medir el deterioro",{"$nulls":17},{"$f":"+(1+U226)^(1/12)-1","v":{"v":0,"d":"0.00%"}},null,null,"Det Acum CxC",1,30,{"$f":"(X227=Parametros[Segmento])*(Y227>0)*(Z227>0)","v":0}]
[null,null,"Tasa de mercado diario a usar para medir el deterioro",{"$nulls":17},{"$f":"+(1+U227)^(1/12)-1","v":{"v":0,"d":"0.00%"}},null,null,"Det Acum CxC",1,30,{"$f":"(X228=Parametros[Segmento])*(Y228>0)*(Z228>0)","v":0}]
[null,null,"Seleccione la forma como desea medir el deterioro de cartera contable",{"$nulls":20},"Det Acum CxC",1,30,{"$f":"(X229=Parametros[Segmento])*(Y229>0)*(Z229>0)","v":0}]
[null,null,"Seleccione la forma como desea medir el deterioro de cartera fiscal",{"$nulls":20},"Det Acum CxC",1,30,{"$f":"(X230=Parametros[Segmento])*(Y230>0)*(Z230>0)","v":0}]
[null,null,"No. Factura ","Fecha de Emisión Factura ","Fecha de Vencimiento Factura ","Días en Mora ","Valor Adeudado ","Deterioro Contable ",{"$nulls":4},"Deterioro Fiscal",{"$nulls":10},"Det Acum CxC",1,30,{"$f":"(X231=Parametros[Segmento])*(Y231>0)*(Z231>0)","v":0}]
[{"$nulls":7},"Deterioro Acumulado a 31 de dic. 2022","Valor Recuperable  Ind. ","Valor Recuperable Gen. ","Deterioro ","Deterioro Acumulado a 31 de dic. 2023","Deterioro Acumulado a 31 de dic. 2022","Valor Adeudado","Provisión Individual ","PG >3 y <=6 meses","PG >6 y <=12 meses","PG >12 meses","Valor Recuperable ","Deterioro","Deterioro Acumulado a 31 de dic. 2023",null,null,"Det Acum CxC",1,40.1,{"$f":"(X232=Parametros[Segmento])*(Y232>0)*(Z232>0)","v":0}]
[{"$nulls":4},{"$f":"+IF(D233>0,(D233+$U$225),\"\")","v":""},{"$f":"IF(D233>0,$U$224-E233,\"\")","v":""},{"$nulls":3},{"$f":"+IF(D233>0,PV($U$228,F233,0,-G233),\"\")","v":""},{"$f":"IF(D233>0,MAX(0,IF($U$229=\"Individual\",(G233-I233),(G233-J233))),\"\")","v":""},{"$f":"IF(D233>0,(H233+K233),\"\")","v":""},null,null,{"$f":"IF(D233>0,IF($U$230=\"Individual\",(IF((F233>360),(N233*Listas!$F$2),0)),\"\"),\"\")","v":""},{"$f":"IF(D233>0,IF($U$230=\"General\",(IF(AND(F233>90,F233<=180),(N233*Listas!$F$3),0)),\"\"),\"\")","v":""},{"$f":"IF(D233>0,IF($U$230=\"General\",(IF(AND(F233>180,F233<=360),(N233*Listas!$F$4),0)),\"\"),\"\")","v":""},{"$f":"IF(D233>0,IF($U$230=\"General\",IF((F233>360),(N233*Listas!$F$5),0),\"\"),\"\")","v":""},{"$f":"IFERROR(IF(D233>0,(G233-T233),\"\"),\"\")","v":""},{"$f":"IFERROR(IF(D233>0,IF($U$230=\"Individual\",O233,P233+Q233+R233),\"\"),\"\")","v":""},{"$f":"IFERROR(IF(D233>0,M233+T233,\"\"),\"\")","v":""},null,{"$f":"SUBSTITUTE($C$223,CHAR(10),\"\")","v":"Deterioro Acumulado de Cuentas por Cobrar"},"Det Acum CxC",{"$f":"(W233=OFFSET(W233,1,0))*1","v":1},30,{"$f":"(X233=Parametros[Segmento])*(Y233>0)*(Z233>0)","v":0}]
[{"$nulls":4},{"$f":"+IF(D234>0,(D234+$U$225),\"\")","v":""},{"$f":"IF(D234>0,$U$224-E234,\"\")","v":""},{"$nulls":3},{"$f":"+IF(D234>0,PV($U$228,F234,0,-G234),\"\")","v":""},{"$f":"IF(D234>0,MAX(0,IF($U$229=\"Individual\",(G234-I234),(G234-J234))),\"\")","v":""},{"$f":"IF(D234>0,(H234+K234),\"\")","v":""},null,null,{"$f":"IF(D234>0,IF($U$230=\"Individual\",(IF((F234>360),(N234*Listas!$F$2),0)),\"\"),\"\")","v":""},{"$f":"IF(D234>0,IF($U$230=\"General\",(IF(AND(F234>90,F234<=180),(N234*Listas!$F$3),0)),\"\"),\"\")","v":""},{"$f":"IF(D234>0,IF($U$230=\"General\",(IF(AND(F234>180,F234<=360),(N234*Listas!$F$4),0)),\"\"),\"\")","v":""},{"$f":"IF(D234>0,IF($U$230=\"General\",IF((F234>360),(N234*Listas!$F$5),0),\"\"),\"\")","v":""},{"$f":"IFERROR(IF(D234>0,(G234-T234),\"\"),\"\")","v":""},{"$f":"IFERROR(IF(D234>0,IF($U$230=\"Individual\",O234,P234+Q234+R234),\"\"),\"\")","v":""},{"$f":"IFERROR(IF(D234>0,M234+T234,\"\"),\"\")","v":""},null,{"$f":"SUBSTITUTE($C$223,CHAR(10),\"\")","v":"Deterioro Acumulado de Cuentas por Cobrar"},"Det Acum CxC",{"$f":"(W234=OFFSET(W234,1,0))*1","v":0},30,{"$f":"(X234=Parametros[Segmento])*(Y234>0)*(Z234>0)","v":0}]
[{"$nulls":8},{"$f":"SUM(I233:I234)","v":0},0,0,0,0,0,0,0,0,0,0,0,0,null,null,"Det Acum CxC",{"$f":"(W235=OFFSET(W235,1,0))*1","v":1},30,{"$f":"(X235=Parametros[Segmento])*(Y235>0)*(Z235>0)","v":0}]
[1,2.44,55.22,24.78,24.78,24.78,24.78,24.78,24.78,{"$nulls":14},"Inventarios",null,10,{"$f":"(X236=Parametros[Segmento])*(Y236>0)*(Z236>0)","v":0}]
[{"$nulls":23},"Inventarios",1,10,{"$f":"(X237=Parametros[Segmento])*(Y237>0)*(Z237>0)","v":0}]
[{"$nulls":23},"Inventarios",1,30,{"$f":"(X238=Parametros[Segmento])*(Y238>0)*(Z238>0)","v":0}]
[null,null,"Inventarios",{"$nulls":20},"Inventarios",1,30,{"$f":"(X239=Parametros[Segmento])*(Y239>0)*(Z239>0)","v":0}]
[null,null,"Concepto/Descripción","Valores Contables",null,"Ajuste",null,"Valores Fiscales",{"$nulls":15},"Inventarios",1,30,{"$f":"(X240=Parametros[Segmento])*(Y240>0)*(Z240>0)","v":0}]
[{"$nulls":3},"Saldos Parciales ","Saldos Totales ","Mayor Valor Fiscal","Menor Valor Fiscal","Saldos Parciales","Saldos Totales ",{"$nulls":14},"Inventarios",1,30,{"$f":"(X241=Parametros[Segmento])*(Y241>0)*(Z241>0)","v":0}]
[null,null,"Inventarios para la venta no producidos por la empresa ",null,{"$f":"SUM(D243:D248)","v":0},{"$nulls":3},{"$f":"SUM(H243:H248)","v":0},{"$nulls":14},"Inventarios",1,40.1,{"$f":"(X242=Parametros[Segmento])*(Y242>0)*(Z242>0)","v":0}]
[{"$nulls":7},{"$f":"+D243+F243-G243","v":0},{"$nulls":14},{"$f":"SUBSTITUTE($C$242,CHAR(10),\"\")","v":"Inventarios para la venta no producidos por la empresa "},"Inventarios",{"$f":"(W243=OFFSET(W243,1,0))*1","v":1},30,{"$f":"(X243=Parametros[Segmento])*(Y243>0)*(Z243>0)","v":0}]
[{"$nulls":7},{"$f":"+D244+F244-G244","v":0},{"$nulls":14},{"$f":"SUBSTITUTE($C$242,CHAR(10),\"\")","v":"Inventarios para la venta no producidos por la empresa "},"Inventarios",{"$f":"(W244=OFFSET(W244,1,0))*1","v":1},30,{"$f":"(X244=Parametros[Segmento])*(Y244>0)*(Z244>0)","v":0}]
[{"$nulls":7},0,{"$nulls":14},"Inventarios para la venta no producidos por la empresa ","Inventarios",1,30,{"$f":"(X245=Parametros[Segmento])*(Y245>0)*(Z245>0)","v":0}]
[{"$nulls":7},0,{"$nulls":14},"Inventarios para la venta no producidos por la empresa ","Inventarios",1,30,{"$f":"(X246=Parametros[Segmento])*(Y246>0)*(Z246>0)","v":0}]
[{"$nulls":7},0,{"$nulls":14},"Inventarios para la venta no producidos por la empresa ","Inventarios",1,30,{"$f":"(X247=Parametros[Segmento])*(Y247>0)*(Z247>0)","v":0}]
[{"$nulls":7},{"$f":"+D248+F248-G248","v":0},{"$nulls":14},{"$f":"SUBSTITUTE($C$242,CHAR(10),\"\")","v":"Inventarios para la venta no producidos por la empresa "},"Inventarios",{"$f":"(W248=OFFSET(W248,1,0))*1","v":0},30,{"$f":"(X248=Parametros[Segmento])*(Y248>0)*(Z248>0)","v":0}]
[null,null,"Inventarios en proceso (diferentes de obras o inmuebles en construcción para la venta)",null,{"$f":"SUM(D250:D256)","v":0},{"$nulls":3},{"$f":"SUM(H250:H256)","v":0},{"$nulls":14},"Inventarios",1,40.1,{"$f":"(X249=Parametros[Segmento])*(Y249>0)*(Z249>0)","v":0}]
[{"$nulls":7},{"$f":"+D250+F250-G250","v":0},{"$nulls":14},{"$f":"SUBSTITUTE($C$249,CHAR(10),\"\")","v":"Inventarios en proceso (diferentes de obras o inmuebles en construcción para la venta)"},"Inventarios",{"$f":"(W250=OFFSET(W250,1,0))*1","v":1},30,{"$f":"(X250=Parametros[Segmento])*(Y250>0)*(Z250>0)","v":0}]
[{"$nulls":7},{"$f":"+D251+F251-G251","v":0},{"$nulls":14},{"$f":"SUBSTITUTE($C$249,CHAR(10),\"\")","v":"Inventarios en proceso (diferentes de obras o inmuebles en construcción para la venta)"},"Inventarios",{"$f":"(W251=OFFSET(W251,1,0))*1","v":1},30,{"$f":"(X251=Parametros[Segmento])*(Y251>0)*(Z251>0)","v":0}]
[{"$nulls":7},0,{"$nulls":14},"Inventarios en proceso (diferentes de obras o inmuebles en construcción para la venta)","Inventarios",1,30,{"$f":"(X252=Parametros[Segmento])*(Y252>0)*(Z252>0)","v":0}]
[{"$nulls":7},0,{"$nulls":14},"Inventarios en proceso (diferentes de obras o inmuebles en construcción para la venta)","Inventarios",1,30,{"$f":"(X253=Parametros[Segmento])*(Y253>0)*(Z253>0)","v":0}]
[{"$nulls":7},0,{"$nulls":14},"Inventarios en proceso (diferentes de obras o inmuebles en construcción para la venta)","Inventarios",1,30,{"$f":"(X254=Parametros[Segmento])*(Y254>0)*(Z254>0)","v":0}]
[{"$nulls":7},0,{"$nulls":14},"Inventarios en proceso (diferentes de obras o inmuebles en construcción para la venta)","Inventarios",1,30,{"$f":"(X255=Parametros[Segmento])*(Y255>0)*(Z255>0)","v":0}]
[{"$nulls":7},{"$f":"+D256+F256-G256","v":0},{"$nulls":14},{"$f":"SUBSTITUTE($C$249,CHAR(10),\"\")","v":"Inventarios en proceso (diferentes de obras o inmuebles en construcción para la venta)"},"Inventarios",{"$f":"(W256=OFFSET(W256,1,0))*1","v":0},30,{"$f":"(X256=Parametros[Segmento])*(Y256>0)*(Z256>0)","v":0}]
[null,null,"Materias primas, suministros y materiales",null,{"$f":"SUM(D258:D259)","v":0},{"$nulls":3},{"$f":"SUM(H258:H259)","v":0},{"$nulls":14},"Inventarios",1,30,{"$f":"(X257=Parametros[Segmento])*(Y257>0)*(Z257>0)","v":0}]
[{"$nulls":7},{"$f":"+D258+F258-G258","v":0},{"$nulls":14},{"$f":"SUBSTITUTE($C$257,CHAR(10),\"\")","v":"Materias primas, suministros y materiales"},"Inventarios",{"$f":"(W258=OFFSET(W258,1,0))*1","v":1},30,{"$f":"(X258=Parametros[Segmento])*(Y258>0)*(Z258>0)","v":0}]
[{"$nulls":7},{"$f":"+D259+F259-G259","v":0},{"$nulls":14},{"$f":"SUBSTITUTE($C$257,CHAR(10),\"\")","v":"Materias primas, suministros y materiales"},"Inventarios",{"$f":"(W259=OFFSET(W259,1,0))*1","v":0},30,{"$f":"(X259=Parametros[Segmento])*(Y259>0)*(Z259>0)","v":0}]
[null,null,"Inventarios en tránsito ",null,{"$f":"SUM(D261:D262)","v":0},{"$nulls":3},{"$f":"SUM(H261:H262)","v":0},{"$nulls":14},"Inventarios",1,30,{"$f":"(X260=Parametros[Segmento])*(Y260>0)*(Z260>0)","v":0}]
[{"$nulls":7},{"$f":"+D261+F261-G261","v":0},{"$nulls":14},{"$f":"SUBSTITUTE($C$260,CHAR(10),\"\")","v":"Inventarios en tránsito "},"Inventarios",{"$f":"(W261=OFFSET(W261,1,0))*1","v":1},30,{"$f":"(X261=Parametros[Segmento])*(Y261>0)*(Z261>0)","v":0}]
[{"$nulls":7},{"$f":"+D262+F262-G262","v":0},{"$nulls":14},{"$f":"SUBSTITUTE($C$260,CHAR(10),\"\")","v":"Inventarios en tránsito "},"Inventarios",{"$f":"(W262=OFFSET(W262,1,0))*1","v":0},30,{"$f":"(X262=Parametros[Segmento])*(Y262>0)*(Z262>0)","v":0}]
[null,null,"Obras o inmuebles en construcción para la venta",null,{"$f":"SUM(D264:D265)","v":0},{"$nulls":3},{"$f":"SUM(H264:H265)","v":0},{"$nulls":14},"Inventarios",1,30,{"$f":"(X263=Parametros[Segmento])*(Y263>0)*(Z263>0)","v":0}]
[{"$nulls":7},{"$f":"+D264+F264-G264","v":0},{"$nulls":14},{"$f":"SUBSTITUTE($C$263,CHAR(10),\"\")","v":"Obras o inmuebles en construcción para la venta"},"Inventarios",{"$f":"(W264=OFFSET(W264,1,0))*1","v":1},30,{"$f":"(X264=Parametros[Segmento])*(Y264>0)*(Z264>0)","v":0}]
[{"$nulls":7},{"$f":"+D265+F265-G265","v":0},{"$nulls":14},{"$f":"SUBSTITUTE($C$263,CHAR(10),\"\")","v":"Obras o inmuebles en construcción para la venta"},"Inventarios",{"$f":"(W265=OFFSET(W265,1,0))*1","v":0},30,{"$f":"(X265=Parametros[Segmento])*(Y265>0)*(Z265>0)","v":0}]
[null,null,"Obras o inmuebles terminados para la venta",null,{"$f":"SUM(D267:D268)","v":0},{"$nulls":3},{"$f":"SUM(H267:H268)","v":0},{"$nulls":14},"Inventarios",1,30,{"$f":"(X266=Parametros[Segmento])*(Y266>0)*(Z266>0)","v":0}]
[{"$nulls":7},{"$f":"+D267+F267-G267","v":0},{"$nulls":14},{"$f":"SUBSTITUTE($C$266,CHAR(10),\"\")","v":"Obras o inmuebles terminados para la venta"},"Inventarios",{"$f":"(W267=OFFSET(W267,1,0))*1","v":1},30,{"$f":"(X267=Parametros[Segmento])*(Y267>0)*(Z267>0)","v":0}]
[{"$nulls":7},{"$f":"+D268+F268-G268","v":0},{"$nulls":14},{"$f":"SUBSTITUTE($C$266,CHAR(10),\"\")","v":"Obras o inmuebles terminados para la venta"},"Inventarios",{"$f":"(W268=OFFSET(W268,1,0))*1","v":0},30,{"$f":"(X268=Parametros[Segmento])*(Y268>0)*(Z268>0)","v":0}]
[null,null,"Producto terminado (diferentes de obras o inmuebles terminados para la venta)",null,{"$f":"SUM(D270:D271)","v":0},{"$nulls":3},{"$f":"SUM(H270:H271)","v":0},{"$nulls":14},"Inventarios",1,40.1,{"$f":"(X269=Parametros[Segmento])*(Y269>0)*(Z269>0)","v":0}]
[{"$nulls":7},{"$f":"+D270+F270-G270","v":0},{"$nulls":14},{"$f":"SUBSTITUTE($C$269,CHAR(10),\"\")","v":"Producto terminado (diferentes de obras o inmuebles terminados para la venta)"},"Inventarios",{"$f":"(W270=OFFSET(W270,1,0))*1","v":1},30,{"$f":"(X270=Parametros[Segmento])*(Y270>0)*(Z270>0)","v":0}]
[{"$nulls":7},{"$f":"+D271+F271-G271","v":0},{"$nulls":14},{"$f":"SUBSTITUTE($C$269,CHAR(10),\"\")","v":"Producto terminado (diferentes de obras o inmuebles terminados para la venta)"},"Inventarios",{"$f":"(W271=OFFSET(W271,1,0))*1","v":0},30,{"$f":"(X271=Parametros[Segmento])*(Y271>0)*(Z271>0)","v":0}]
[null,null,"Piezas de repuesto y equipo auxiliar clasificados como inventarios",null,{"$f":"+SUM(D273:D274)","v":0},{"$nulls":3},{"$f":"+SUM(H273:H274)","v":0},{"$nulls":14},"Inventarios",1,40.1,{"$f":"(X272=Parametros[Segmento])*(Y272>0)*(Z272>0)","v":0}]
[{"$nulls":7},{"$f":"+D273+F273-G273","v":0},{"$nulls":14},{"$f":"SUBSTITUTE($C$272,CHAR(10),\"\")","v":"Piezas de repuesto y equipo auxiliar clasificados como inventarios"},"Inventarios",{"$f":"(W273=OFFSET(W273,1,0))*1","v":1},30,{"$f":"(X273=Parametros[Segmento])*(Y273>0)*(Z273>0)","v":0}]
[{"$nulls":7},{"$f":"+D274+F274-G274","v":0},{"$nulls":14},{"$f":"SUBSTITUTE($C$272,CHAR(10),\"\")","v":"Piezas de repuesto y equipo auxiliar clasificados como inventarios"},"Inventarios",{"$f":"(W274=OFFSET(W274,1,0))*1","v":0},30,{"$f":"(X274=Parametros[Segmento])*(Y274>0)*(Z274>0)","v":0}]
[null,null,"Inventario que surge de la actividad de extracción",null,{"$f":"SUM(D276:D277)","v":0},{"$nulls":3},{"$f":"SUM(H276:H277)","v":0},{"$nulls":14},"Inventarios",1,30,{"$f":"(X275=Parametros[Segmento])*(Y275>0)*(Z275>0)","v":0}]
[{"$nulls":7},{"$f":"+D276+F276-G276","v":0},{"$nulls":14},{"$f":"SUBSTITUTE($C$275,CHAR(10),\"\")","v":"Inventario que surge de la actividad de extracción"},"Inventarios",{"$f":"(W276=OFFSET(W276,1,0))*1","v":1},30,{"$f":"(X276=Parametros[Segmento])*(Y276>0)*(Z276>0)","v":0}]
[{"$nulls":7},{"$f":"+D277+F277-G277","v":0},{"$nulls":14},{"$f":"SUBSTITUTE($C$275,CHAR(10),\"\")","v":"Inventario que surge de la actividad de extracción"},"Inventarios",{"$f":"(W277=OFFSET(W277,1,0))*1","v":0},30,{"$f":"(X277=Parametros[Segmento])*(Y277>0)*(Z277>0)","v":0}]
[null,null,"Costos prestadores de servicios",null,{"$f":"SUM(D279:D280)","v":0},{"$nulls":3},{"$f":"SUM(H279:H280)","v":0},{"$nulls":14},"Inventarios",1,30,{"$f":"(X278=Parametros[Segmento])*(Y278>0)*(Z278>0)","v":0}]
[{"$nulls":7},{"$f":"+D279+F279-G279","v":0},{"$nulls":14},{"$f":"SUBSTITUTE($C$278,CHAR(10),\"\")","v":"Costos prestadores de servicios"},"Inventarios",{"$f":"(W279=OFFSET(W279,1,0))*1","v":1},30,{"$f":"(X279=Parametros[Segmento])*(Y279>0)*(Z279>0)","v":0}]
[{"$nulls":7},{"$f":"+D280+F280-G280","v":0},{"$nulls":14},{"$f":"SUBSTITUTE($C$278,CHAR(10),\"\")","v":"Costos prestadores de servicios"},"Inventarios",{"$f":"(W280=OFFSET(W280,1,0))*1","v":0},30,{"$f":"(X280=Parametros[Segmento])*(Y280>0)*(Z280>0)","v":0}]
[null,null,"Totales ",{"$f":"SUM(D243:D280)","v":0},{"$f":"SUM(E242:E280)","v":0},{"$f":"SUM(F243:F280)","v":0},{"$f":"SUM(G243:G280)","v":0},{"$f":"SUM(H243:H280)","v":0},{"$f":"SUM(I242:I280)","v":0},{"$nulls":14},"Inventarios",1,30,{"$f":"(X281=Parametros[Segmento])*(Y281>0)*(Z281>0)","v":0}]
[{"$nulls":23},"Inventarios",1,30,{"$f":"(X282=Parametros[Segmento])*(Y282>0)*(Z282>0)","v":0}]
[{"$nulls":23},"Inventarios",1,30,{"$f":"(X283=Parametros[Segmento])*(Y283>0)*(Z283>0)","v":0}]
[null,null,"Impuesto Diferido ",{"$nulls":20},"Inventarios",1,30,{"$f":"(X284=Parametros[Segmento])*(Y284>0)*(Z284>0)","v":0}]
[null,null,"Concepto ","Valor contable","Valor fiscal","Diferencia ","Activo por Impuesto Diferido","Pasivo por Impuesto Diferido",{"$nulls":15},"Inventarios",1,40.1,{"$f":"(X285=Parametros[Segmento])*(Y285>0)*(Z285>0)","v":0}]
[null,null,"Inventarios",{"$f":"+E281","v":0},{"$f":"+I281","v":0},{"$nulls":18},"Inventarios",1,30,{"$f":"(X286=Parametros[Segmento])*(Y286>0)*(Z286>0)","v":0}]
[null,null,"Deterioro de los inventarios",{"$f":"+' '!M297","v":0},{"$f":"+' '!R297","v":0},{"$nulls":18},"Inventarios",1,30,{"$f":"(X287=Parametros[Segmento])*(Y287>0)*(Z287>0)","v":0}]
[null,null,"Total Inventarios",{"$f":"+D286-D287","v":0},{"$f":"+E286-E287","v":0},{"$f":"+D288-E288","v":0},{"$f":"+IF(E288>D288,(E288-D288),0)","v":0},{"$f":"+IF(D288>E288,(D288-E288),0)","v":0},{"$nulls":15},"Inventarios",1,30,{"$f":"(X288=Parametros[Segmento])*(Y288>0)*(Z288>0)","v":0}]
[1,3,11.78,45,21.78,24.78,24.78,24.78,24.78,24.78,24.78,24.78,24.78,24.78,24.78,24.78,24.78,24.78,4,{"$nulls":4},"Det Acum Invent",null,20,{"$f":"(X289=Parametros[Segmento])*(Y289>0)*(Z289>0)","v":0}]
[{"$nulls":23},"Det Acum Invent",1,10,{"$f":"(X290=Parametros[Segmento])*(Y290>0)*(Z290>0)","v":0}]
[{"$nulls":23},"Det Acum Invent",1,30,{"$f":"(X291=Parametros[Segmento])*(Y291>0)*(Z291>0)","v":0}]
[null,null,"Deterioro Acumulado de los inventarios ",{"$nulls":20},"Det Acum Invent",1,30,{"$f":"(X292=Parametros[Segmento])*(Y292>0)*(Z292>0)","v":0}]
[null,null,"Código iden. Prod ","Descripción producto","Unidades disponibles para la venta ","Costo Unitario ","Valor en libros","Deterioro Contable ",{"$nulls":5},"Deterioro Fiscal",{"$nulls":9},"Det Acum Invent",1,30,{"$f":"(X293=Parametros[Segmento])*(Y293>0)*(Z293>0)","v":0}]
[{"$nulls":7},"Deterioro Acumulado a 31 de dic. 2022","Valor esperado venta ","Costo terminación y venta","Valor Neto \nRealización ","Deterioro ","Deterioro Acumulado a 31 de dic. 2023","Deterioro Acumulado a 31 de dic. 2022","Costo total ","% afectación del inventario","Deterioro","Deterioro Acumulado a 31 de dic. 2023",{"$nulls":5},"Det Acum Invent",1,40.1,{"$f":"(X294=Parametros[Segmento])*(Y294>0)*(Z294>0)","v":0}]
[{"$nulls":3},"",null,null,{"$f":"+IF(E295>0,E295*F295,\"\")","v":""},{"$nulls":3},{"$f":"IF(E295>0,I295-J295,\"\")","v":""},{"$f":"+IF(E295>0,IF(K295<G295,G295-K295,0),\"\")","v":""},{"$f":"+IF(E295>0,H295+L295,\"\")","v":""},null,{"$f":"+IF(E295>0,E295*F295,\"\")","v":""},null,{"$f":"+IF(E295>0,(O295*P295),\"\")","v":""},{"$f":"+IF(E295>0,N295+Q295,\"\")","v":""},{"$nulls":4},{"$f":"SUBSTITUTE($C$292,CHAR(10),\"\")","v":"Deterioro Acumulado de los inventarios "},"Det Acum Invent",{"$f":"(W295=OFFSET(W295,1,0))*1","v":1},30,{"$f":"(X295=Parametros[Segmento])*(Y295>0)*(Z295>0)","v":0}]
[{"$nulls":6},{"$f":"+IF(E296>0,E296*F296,\"\")","v":""},{"$nulls":3},{"$f":"IF(E296>0,I296-J296,\"\")","v":""},{"$f":"+IF(E296>0,IF(K296<G296,G296-K296,0),\"\")","v":""},{"$f":"+IF(E296>0,H296+L296,\"\")","v":""},null,{"$f":"+IF(E296>0,E296*F296,\"\")","v":""},null,{"$f":"+IF(E296>0,(O296*P296),\"\")","v":""},{"$f":"+IF(E296>0,N296+Q296,\"\")","v":""},{"$nulls":4},{"$f":"SUBSTITUTE($C$292,CHAR(10),\"\")","v":"Deterioro Acumulado de los inventarios "},"Det Acum Invent",{"$f":"(W296=OFFSET(W296,1,0))*1","v":0},30,{"$f":"(X296=Parametros[Segmento])*(Y296>0)*(Z296>0)","v":0}]
[{"$nulls":6},{"$f":"SUM(G295:G296)","v":0},0,0,0,0,0,0,0,0,0,0,0,{"$nulls":5},"Det Acum Invent",1,30,{"$f":"(X297=Parametros[Segmento])*(Y297>0)*(Z297>0)","v":0}]
[1,2.44,55.22,24.78,24.78,24.78,24.78,24.78,24.78,4,{"$nulls":13},"Prop, plan y Equip",null,20,{"$f":"(X298=Parametros[Segmento])*(Y298>0)*(Z298>0)","v":0}]
[{"$nulls":23},"Prop, plan y Equip",1,10,{"$f":"(X299=Parametros[Segmento])*(Y299>0)*(Z299>0)","v":0}]
[{"$nulls":23},"Prop, plan y Equip",1,30,{"$f":"(X300=Parametros[Segmento])*(Y300>0)*(Z300>0)","v":0}]
[null,null,"Propiedades, Planta y Equipo",{"$nulls":20},"Prop, plan y Equip",1,30,{"$f":"(X301=Parametros[Segmento])*(Y301>0)*(Z301>0)","v":0}]
[null,null,"Concepto/Descripción","Valores Contables",null,"Ajuste",null,"Valores Fiscales",{"$nulls":15},"Prop, plan y Equip",1,30,{"$f":"(X302=Parametros[Segmento])*(Y302>0)*(Z302>0)","v":0}]
[{"$nulls":3},"Saldos Parciales ","Saldos Totales ","Mayor Valor Fiscal","Menor Valor Fiscal","Saldos Parciales","Saldos Totales ",{"$nulls":14},"Prop, plan y Equip",1,30,{"$f":"(X303=Parametros[Segmento])*(Y303>0)*(Z303>0)","v":0}]
[null,null,"Terrenos ",null,{"$f":"SUM(D305:D306)","v":0},{"$nulls":3},{"$f":"SUM(H305:H306)","v":0},{"$nulls":14},"Prop, plan y Equip",1,30,{"$f":"(X304=Parametros[Segmento])*(Y304>0)*(Z304>0)","v":0}]
[{"$nulls":7},{"$f":"+D305+F305-G305","v":0},{"$nulls":14},{"$f":"SUBSTITUTE($C$304,CHAR(10),\"\")","v":"Terrenos "},"Prop, plan y Equip",{"$f":"(W305=OFFSET(W305,1,0))*1","v":1},30,{"$f":"(X305=Parametros[Segmento])*(Y305>0)*(Z305>0)","v":0}]
[{"$nulls":7},{"$f":"+D306+F306-G306","v":0},{"$nulls":14},{"$f":"SUBSTITUTE($C$304,CHAR(10),\"\")","v":"Terrenos "},"Prop, plan y Equip",{"$f":"(W306=OFFSET(W306,1,0))*1","v":0},30,{"$f":"(X306=Parametros[Segmento])*(Y306>0)*(Z306>0)","v":0}]
[null,null,"Construcciones en proceso",null,{"$f":"SUM(D308:D309)","v":0},{"$nulls":3},{"$f":"SUM(H308:H309)","v":0},{"$nulls":14},"Prop, plan y Equip",1,30,{"$f":"(X307=Parametros[Segmento])*(Y307>0)*(Z307>0)","v":0}]
[{"$nulls":7},{"$f":"+D308+F308-G308","v":0},{"$nulls":14},{"$f":"SUBSTITUTE($C$307,CHAR(10),\"\")","v":"Construcciones en proceso"},"Prop, plan y Equip",{"$f":"(W308=OFFSET(W308,1,0))*1","v":1},30,{"$f":"(X308=Parametros[Segmento])*(Y308>0)*(Z308>0)","v":0}]
[{"$nulls":7},{"$f":"+D309+F309-G309","v":0},{"$nulls":14},{"$f":"SUBSTITUTE($C$307,CHAR(10),\"\")","v":"Construcciones en proceso"},"Prop, plan y Equip",{"$f":"(W309=OFFSET(W309,1,0))*1","v":0},30,{"$f":"(X309=Parametros[Segmento])*(Y309>0)*(Z309>0)","v":0}]
[null,null,"Edificios - Al costo ",null,{"$f":"SUM(D311:D312)","v":0},{"$nulls":3},{"$f":"SUM(H311:H312)","v":0},{"$nulls":14},"Prop, plan y Equip",1,30,{"$f":"(X310=Parametros[Segmento])*(Y310>0)*(Z310>0)","v":0}]
[{"$nulls":7},{"$f":"+D311+F311-G311","v":0},{"$nulls":14},{"$f":"SUBSTITUTE($C$310,CHAR(10),\"\")","v":"Edificios - Al costo "},"Prop, plan y Equip",{"$f":"(W311=OFFSET(W311,1,0))*1","v":1},30,{"$f":"(X311=Parametros[Segmento])*(Y311>0)*(Z311>0)","v":0}]
[{"$nulls":7},{"$f":"+D312+F312-G312","v":0},{"$nulls":14},{"$f":"SUBSTITUTE($C$310,CHAR(10),\"\")","v":"Edificios - Al costo "},"Prop, plan y Equip",{"$f":"(W312=OFFSET(W312,1,0))*1","v":0},30,{"$f":"(X312=Parametros[Segmento])*(Y312>0)*(Z312>0)","v":0}]
[null,null,"Edificios - Ajuste acumulado por revaluaciones o reexpresiones",null,{"$f":"SUM(D314:D315)","v":0},{"$nulls":3},{"$f":"SUM(H314:H315)","v":0},{"$nulls":14},"Prop, plan y Equip",1,30,{"$f":"(X313=Parametros[Segmento])*(Y313>0)*(Z313>0)","v":0}]
[{"$nulls":7},{"$f":"+D314+F314-G314","v":0},{"$nulls":14},{"$f":"SUBSTITUTE($C$313,CHAR(10),\"\")","v":"Edificios - Ajuste acumulado por revaluaciones o reexpresiones"},"Prop, plan y Equip",{"$f":"(W314=OFFSET(W314,1,0))*1","v":1},30,{"$f":"(X314=Parametros[Segmento])*(Y314>0)*(Z314>0)","v":0}]
[{"$nulls":7},{"$f":"+D315+F315-G315","v":0},{"$nulls":14},{"$f":"SUBSTITUTE($C$313,CHAR(10),\"\")","v":"Edificios - Ajuste acumulado por revaluaciones o reexpresiones"},"Prop, plan y Equip",{"$f":"(W315=OFFSET(W315,1,0))*1","v":0},30,{"$f":"(X315=Parametros[Segmento])*(Y315>0)*(Z315>0)","v":0}]
[null,null,"Otras propiedades, plantas y equipo - Al costo",null,{"$f":"SUM(D317:D318)","v":0},{"$nulls":3},{"$f":"SUM(H317:H318)","v":0},{"$nulls":14},"Prop, plan y Equip",1,30,{"$f":"(X316=Parametros[Segmento])*(Y316>0)*(Z316>0)","v":0}]
[{"$nulls":7},{"$f":"+D317+F317-G317","v":0},{"$nulls":14},{"$f":"SUBSTITUTE($C$316,CHAR(10),\"\")","v":"Otras propiedades, plantas y equipo - Al costo"},"Prop, plan y Equip",{"$f":"(W317=OFFSET(W317,1,0))*1","v":1},30,{"$f":"(X317=Parametros[Segmento])*(Y317>0)*(Z317>0)","v":0}]
[{"$nulls":7},{"$f":"+D318+F318-G318","v":0},{"$nulls":14},{"$f":"SUBSTITUTE($C$316,CHAR(10),\"\")","v":"Otras propiedades, plantas y equipo - Al costo"},"Prop, plan y Equip",{"$f":"(W318=OFFSET(W318,1,0))*1","v":0},30,{"$f":"(X318=Parametros[Segmento])*(Y318>0)*(Z318>0)","v":0}]
[null,null,"Otras propiedades, plantas y equipo - Ajuste acumulado por revaluaciones o reexpresiones",null,{"$f":"SUM(D320:D321)","v":0},{"$nulls":3},{"$f":"SUM(H320:H321)","v":0},{"$nulls":14},"Prop, plan y Equip",1,40.1,{"$f":"(X319=Parametros[Segmento])*(Y319>0)*(Z319>0)","v":0}]
[{"$nulls":7},{"$f":"+D320+F320-G320","v":0},{"$nulls":14},{"$f":"SUBSTITUTE($C$319,CHAR(10),\"\")","v":"Otras propiedades, plantas y equipo - Ajuste acumulado por revaluaciones o reexpresiones"},"Prop, plan y Equip",{"$f":"(W320=OFFSET(W320,1,0))*1","v":1},30,{"$f":"(X320=Parametros[Segmento])*(Y320>0)*(Z320>0)","v":0}]
[{"$nulls":7},{"$f":"+D321+F321-G321","v":0},{"$nulls":14},{"$f":"SUBSTITUTE($C$319,CHAR(10),\"\")","v":"Otras propiedades, plantas y equipo - Ajuste acumulado por revaluaciones o reexpresiones"},"Prop, plan y Equip",{"$f":"(W321=OFFSET(W321,1,0))*1","v":0},30,{"$f":"(X321=Parametros[Segmento])*(Y321>0)*(Z321>0)","v":0}]
[null,null,"Activos tangibles para exploración y evaluación de recursos minerales",null,{"$f":"SUM(D323:D324)","v":0},{"$nulls":3},{"$f":"SUM(H323:H324)","v":0},{"$nulls":14},"Prop, plan y Equip",1,30,{"$f":"(X322=Parametros[Segmento])*(Y322>0)*(Z322>0)","v":0}]
[{"$nulls":7},{"$f":"+D323+F323-G323","v":0},{"$nulls":14},{"$f":"SUBSTITUTE($C$322,CHAR(10),\"\")","v":"Activos tangibles para exploración y evaluación de recursos minerales"},"Prop, plan y Equip",{"$f":"(W323=OFFSET(W323,1,0))*1","v":1},30,{"$f":"(X323=Parametros[Segmento])*(Y323>0)*(Z323>0)","v":0}]
[{"$nulls":7},{"$f":"+D324+F324-G324","v":0},{"$nulls":14},{"$f":"SUBSTITUTE($C$322,CHAR(10),\"\")","v":"Activos tangibles para exploración y evaluación de recursos minerales"},"Prop, plan y Equip",{"$f":"(W324=OFFSET(W324,1,0))*1","v":0},30,{"$f":"(X324=Parametros[Segmento])*(Y324>0)*(Z324>0)","v":0}]
[null,null,"Totales ",{"$f":"SUM(D305:D324)","v":0},{"$f":"SUM(E304:E324)","v":0},{"$f":"SUM(F305:F324)","v":0},{"$f":"SUM(G305:G324)","v":0},{"$f":"SUM(H305:H324)","v":0},{"$f":"SUM(I304:I324)","v":0},{"$nulls":14},"Prop, plan y Equip",1,30,{"$f":"(X325=Parametros[Segmento])*(Y325>0)*(Z325>0)","v":0}]
[{"$nulls":23},"Prop, plan y Equip",1,30,{"$f":"(X326=Parametros[Segmento])*(Y326>0)*(Z326>0)","v":0}]
[{"$nulls":23},"Prop, plan y Equip",1,30,{"$f":"(X327=Parametros[Segmento])*(Y327>0)*(Z327>0)","v":0}]
[null,null,"Impuesto Diferido ",{"$nulls":20},"Prop, plan y Equip",1,30,{"$f":"(X328=Parametros[Segmento])*(Y328>0)*(Z328>0)","v":0}]
[null,null,"Concepto ","Valor contable","Valor fiscal","Diferencia ","Activo por Impuesto Diferido","Pasivo por Impuesto Diferido",{"$nulls":15},"Prop, plan y Equip",1,40.1,{"$f":"(X329=Parametros[Segmento])*(Y329>0)*(Z329>0)","v":0}]
[null,null,"Propiedades, Planta y Equipo",{"$f":"+E325","v":0},{"$f":"+I325","v":0},{"$nulls":18},"Prop, plan y Equip",1,30,{"$f":"(X330=Parametros[Segmento])*(Y330>0)*(Z330>0)","v":0}]
[null,null,"Depreciación acumulada de las Propiedades, Planta y Equipo",{"$f":"+' '!L343","v":0},{"$f":"+' '!Q343","v":0},{"$nulls":18},"Prop, plan y Equip",1,40.1,{"$f":"(X331=Parametros[Segmento])*(Y331>0)*(Z331>0)","v":0}]
[null,null,"Deterioro de las Propiedades, Planta y Equipo",{"$f":"+' '!K352","v":0},0,{"$nulls":18},"Prop, plan y Equip",1,30,{"$f":"(X332=Parametros[Segmento])*(Y332>0)*(Z332>0)","v":0}]
[null,null,"Total Propiedades, Planta y Equipo",{"$f":"+D330-D331-D332","v":0},{"$f":"+E330-E331-E332","v":0},{"$f":"+D333-E333","v":0},{"$f":"+IF(E333>D333,(E333-D333),0)","v":0},{"$f":"+IF(D333>E333,(D333-E333),0)","v":0},{"$nulls":15},"Prop, plan y Equip",1,30,{"$f":"(X333=Parametros[Segmento])*(Y333>0)*(Z333>0)","v":0}]
[1,3,45,37.78,22,22,{"$f":"IF($Q$338=Listas!$H$2,20,0)","v":0},{"$f":"IF($Q$338=Listas!$H$3,20,0)","v":0},{"$f":"IF($Q$338=Listas!$H$4,20,0)","v":0},{"$f":"IF($Q$338=Listas!$H$4,20,0)","v":0},22,22,22,22,20,22,22,4,{"$nulls":5},"Dep Acum P, P y E",null,20,{"$f":"(X334=Parametros[Segmento])*(Y334>0)*(Z334>0)","v":0}]
[{"$nulls":23},"Dep Acum P, P y E",1,10,{"$f":"(X335=Parametros[Segmento])*(Y335>0)*(Z335>0)","v":0}]
[{"$nulls":23},"Dep Acum P, P y E",1,30,{"$f":"(X336=Parametros[Segmento])*(Y336>0)*(Z336>0)","v":0}]
[null,null,"Depreciación Acumulada de Propiedad, Planta y Equipo ",{"$nulls":20},"Dep Acum P, P y E",1,30,{"$f":"(X337=Parametros[Segmento])*(Y337>0)*(Z337>0)","v":0}]
[null,null,"Método de depreciación contable ",{"$nulls":20},"Dep Acum P, P y E",1,30,{"$f":"(X338=Parametros[Segmento])*(Y338>0)*(Z338>0)","v":0}]
[null,null,"Descripción Activo ","Clase de Activo ",null,"Depreciación Contable ",{"$nulls":6},"Depreciación Fiscal",{"$nulls":10},"Dep Acum P, P y E",1,30,{"$f":"(X339=Parametros[Segmento])*(Y339>0)*(Z339>0)","v":0}]
[{"$nulls":4},"Deprec. Acumulada a 31 de dic. 2022 ","Valor a depreciar ","Tasa de depreciación lineal ","Tasa de depreciación decreciente","Número de Usos","Usos/Cuotas por año","Depreciación","Deprec. Acumulada a 31 de dic. 2023","Deprec. Acumulada a 31 de dic. 2022","Valor a depreciar","Tasa de depreciación fiscal","Depreciación","Deprec. Acumulada a 31 de dic. 2023",{"$nulls":6},"Dep Acum P, P y E",1,75,{"$f":"(X340=Parametros[Segmento])*(Y340>0)*(Z340>0)","v":0}]
[{"$nulls":3},"",{"$nulls":6},{"$f":"IFERROR(IF(D341>0,IF($Q$338=\"Lineal\",F341*G341,IF($Q$338=\"Decreciente\",F341*H341,IF($Q$338=\"Basado en el uso\",((F341/I341)*J341),0))),\"\"),\"\")","v":0},{"$f":"IFERROR(IF(D341>0,E341+K341,\"\"),\"\")","v":0},null,null,{"$f":"+IF(D341<>\"\",VLOOKUP(D341,Listas!$K$4:$L$19,2,0),\"\")","v":""},{"$f":"IFERROR(IF(D341>0,N341*O341,\"\"),\"\")","v":""},{"$f":"IFERROR(IF(D341>0,M341+P341,\"\"),\"\")","v":""},{"$nulls":5},{"$f":"SUBSTITUTE($C$337,CHAR(10),\"\")","v":"Depreciación Acumulada de Propiedad, Planta y Equipo "},"Dep Acum P, P y E",{"$f":"(W341=OFFSET(W341,1,0))*1","v":1},30,{"$f":"(X341=Parametros[Segmento])*(Y341>0)*(Z341>0)","v":0}]
[{"$nulls":10},{"$f":"IFERROR(IF(D342>0,IF($Q$338=\"Lineal\",F342*G342,IF($Q$338=\"Decreciente\",F342*H342,IF($Q$338=\"Basado en el uso\",((F342/I342)*J342),0))),\"\"),\"\")","v":""},{"$f":"IFERROR(IF(D342>0,E342+K342,\"\"),\"\")","v":""},null,null,{"$f":"+IF(D342<>\"\",VLOOKUP(D342,Listas!$K$4:$L$19,2,0),\"\")","v":""},{"$f":"IFERROR(IF(D342>0,N342*O342,\"\"),\"\")","v":""},{"$f":"IFERROR(IF(D342>0,M342+P342,\"\"),\"\")","v":""},{"$nulls":5},{"$f":"SUBSTITUTE($C$337,CHAR(10),\"\")","v":"Depreciación Acumulada de Propiedad, Planta y Equipo "},"Dep Acum P, P y E",{"$f":"(W342=OFFSET(W342,1,0))*1","v":0},30,{"$f":"(X342=Parametros[Segmento])*(Y342>0)*(Z342>0)","v":0}]
[{"$nulls":4},{"$f":"SUM(E341:E342)","v":0},{"$f":"SUM(F341:F342)","v":0},{"$nulls":4},{"$f":"SUM(K341:K342)","v":0},{"$f":"SUM(L341:L342)","v":0},{"$f":"SUM(M341:M342)","v":0},{"$f":"SUM(N341:N342)","v":0},null,{"$f":"SUM(P341:P342)","v":0},{"$f":"SUM(Q341:Q342)","v":0},{"$nulls":6},"Dep Acum P, P y E",1,30,{"$f":"(X343=Parametros[Segmento])*(Y343>0)*(Z343>0)","v":0}]
[1,3,45,24.78,24.78,24.78,24.78,24.78,24.78,24.78,24.78,4,{"$nulls":11},"Det Acum P, P y E",null,20,{"$f":"(X344=Parametros[Segmento])*(Y344>0)*(Z344>0)","v":0}]
[{"$nulls":23},"Det Acum P, P y E",1,10,{"$f":"(X345=Parametros[Segmento])*(Y345>0)*(Z345>0)","v":0}]
[{"$nulls":23},"Det Acum P, P y E",1,30,{"$f":"(X346=Parametros[Segmento])*(Y346>0)*(Z346>0)","v":0}]
[null,null,"Deterioro de la Propiedad, Planta y Equipo",{"$nulls":20},"Det Acum P, P y E",1,30,{"$f":"(X347=Parametros[Segmento])*(Y347>0)*(Z347>0)","v":0}]
[null,null,"Descripción PPE","Valor en libros","Deterioro Contable ",{"$nulls":18},"Det Acum P, P y E",1,30,{"$f":"(X348=Parametros[Segmento])*(Y348>0)*(Z348>0)","v":0}]
[{"$nulls":4},"Deterioro Acumulado a 31 de dic. 2022","Valor \nRazonable","Costos de Venta","Valor \nen Uso","Importe \nRecuperable","Deterioro ","Deterioro Acumulado a 31 de dic. 2023",{"$nulls":12},"Det Acum P, P y E",1,40.1,{"$f":"(X349=Parametros[Segmento])*(Y349>0)*(Z349>0)","v":0}]
[null,null,"",{"$nulls":5},{"$f":"IF(C350>0,IF((F350-G350)>H350,F350-G350,H350),\"\")","v":0},{"$f":"+IF(C350>0,IF(I350<D350,D350-I350,0),\"\")","v":0},{"$f":"+IF(C350>0,E350+J350,\"\")","v":0},{"$nulls":11},{"$f":"SUBSTITUTE($C$347,CHAR(10),\"\")","v":"Deterioro de la Propiedad, Planta y Equipo"},"Det Acum P, P y E",{"$f":"(W350=OFFSET(W350,1,0))*1","v":1},30,{"$f":"(X350=Parametros[Segmento])*(Y350>0)*(Z350>0)","v":0}]
[{"$nulls":8},{"$f":"IF(C351>0,IF((F351-G351)>H351,F351-G351,H351),\"\")","v":""},{"$f":"+IF(C351>0,IF(I351<D351,D351-I351,0),\"\")","v":""},{"$f":"+IF(C351>0,E351+J351,\"\")","v":""},{"$nulls":11},{"$f":"SUBSTITUTE($C$347,CHAR(10),\"\")","v":"Deterioro de la Propiedad, Planta y Equipo"},"Det Acum P, P y E",{"$f":"(W351=OFFSET(W351,1,0))*1","v":0},30,{"$f":"(X351=Parametros[Segmento])*(Y351>0)*(Z351>0)","v":0}]
[{"$nulls":4},{"$f":"SUM(E350:E351)","v":0},0,0,0,0,0,0,{"$nulls":12},"Det Acum P, P y E",1,30,{"$f":"(X352=Parametros[Segmento])*(Y352>0)*(Z352>0)","v":0}]
[1,2.44,55.22,24.78,24.78,24.78,24.78,24.78,24.78,4,{"$nulls":13},"Activos Intangibles",null,20,{"$f":"(X353=Parametros[Segmento])*(Y353>0)*(Z353>0)","v":0}]
[{"$nulls":23},"Activos Intangibles",1,10,{"$f":"(X354=Parametros[Segmento])*(Y354>0)*(Z354>0)","v":0}]
[{"$nulls":23},"Activos Intangibles",1,30,{"$f":"(X355=Parametros[Segmento])*(Y355>0)*(Z355>0)","v":0}]
[null,null,"Activos Intangibles",{"$nulls":20},"Activos Intangibles",1,30,{"$f":"(X356=Parametros[Segmento])*(Y356>0)*(Z356>0)","v":0}]
[null,null,"Concepto/Descripción","Valores Contables",null,"Ajuste",null,"Valores Fiscales",{"$nulls":15},"Activos Intangibles",1,30,{"$f":"(X357=Parametros[Segmento])*(Y357>0)*(Z357>0)","v":0}]
[{"$nulls":3},"Saldos Parciales ","Saldos Totales ","Mayor Valor Fiscal","Menor Valor Fiscal","Saldos Parciales","Saldos Totales ",{"$nulls":14},"Activos Intangibles",1,30,{"$f":"(X358=Parametros[Segmento])*(Y358>0)*(Z358>0)","v":0}]
[null,null,"Acuerdos de concesión (modelo del activo intangible)",null,{"$f":"SUM(D360:D361)","v":0},{"$nulls":3},{"$f":"SUM(H360:H361)","v":0},{"$nulls":14},"Activos Intangibles",1,30,{"$f":"(X359=Parametros[Segmento])*(Y359>0)*(Z359>0)","v":0}]
[{"$nulls":7},{"$f":"+D360+F360-G360","v":0},{"$nulls":14},{"$f":"SUBSTITUTE($C$359,CHAR(10),\"\")","v":"Acuerdos de concesión (modelo del activo intangible)"},"Activos Intangibles",{"$f":"(W360=OFFSET(W360,1,0))*1","v":1},30,{"$f":"(X360=Parametros[Segmento])*(Y360>0)*(Z360>0)","v":0}]
[{"$nulls":7},{"$f":"+D361+F361-G361","v":0},{"$nulls":14},{"$f":"SUBSTITUTE($C$359,CHAR(10),\"\")","v":"Acuerdos de concesión (modelo del activo intangible)"},"Activos Intangibles",{"$f":"(W361=OFFSET(W361,1,0))*1","v":0},30,{"$f":"(X361=Parametros[Segmento])*(Y361>0)*(Z361>0)","v":0}]
[null,null,"Activos intangibles exploración y evaluación de recursos minerales",null,{"$f":"SUM(D363:D364)","v":0},{"$nulls":3},{"$f":"SUM(H363:H364)","v":0},{"$nulls":14},"Activos Intangibles",1,30,{"$f":"(X362=Parametros[Segmento])*(Y362>0)*(Z362>0)","v":0}]
[{"$nulls":7},{"$f":"+D363+F363-G363","v":0},{"$nulls":14},{"$f":"SUBSTITUTE($C$362,CHAR(10),\"\")","v":"Activos intangibles exploración y evaluación de recursos minerales"},"Activos Intangibles",{"$f":"(W363=OFFSET(W363,1,0))*1","v":1},30,{"$f":"(X363=Parametros[Segmento])*(Y363>0)*(Z363>0)","v":0}]
[{"$nulls":7},{"$f":"+D364+F364-G364","v":0},{"$nulls":14},{"$f":"SUBSTITUTE($C$362,CHAR(10),\"\")","v":"Activos intangibles exploración y evaluación de recursos minerales"},"Activos Intangibles",{"$f":"(W364=OFFSET(W364,1,0))*1","v":0},30,{"$f":"(X364=Parametros[Segmento])*(Y364>0)*(Z364>0)","v":0}]
[null,null,"Marcas, patentes, licencias y otros derechos - Al costo",null,{"$f":"SUM(D366:D367)","v":0},{"$nulls":3},{"$f":"SUM(H366:H367)","v":0},{"$nulls":14},"Activos Intangibles",1,30,{"$f":"(X365=Parametros[Segmento])*(Y365>0)*(Z365>0)","v":0}]
[{"$nulls":7},{"$f":"+D366+F366-G366","v":0},{"$nulls":14},{"$f":"SUBSTITUTE($C$365,CHAR(10),\"\")","v":"Marcas, patentes, licencias y otros derechos - Al costo"},"Activos Intangibles",{"$f":"(W366=OFFSET(W366,1,0))*1","v":1},30,{"$f":"(X366=Parametros[Segmento])*(Y366>0)*(Z366>0)","v":0}]
[{"$nulls":7},{"$f":"+D367+F367-G367","v":0},{"$nulls":14},{"$f":"SUBSTITUTE($C$365,CHAR(10),\"\")","v":"Marcas, patentes, licencias y otros derechos - Al costo"},"Activos Intangibles",{"$f":"(W367=OFFSET(W367,1,0))*1","v":0},30,{"$f":"(X367=Parametros[Segmento])*(Y367>0)*(Z367>0)","v":0}]
[null,null,"Marcas, patentes, licencias y otros derechos - Ajuste acumulado por revaluaciones o reexpresiones",null,{"$f":"SUM(D369:D370)","v":0},{"$nulls":3},{"$f":"SUM(H369:H370)","v":0},{"$nulls":14},"Activos Intangibles",1,40.1,{"$f":"(X368=Parametros[Segmento])*(Y368>0)*(Z368>0)","v":0}]
[{"$nulls":7},{"$f":"+D369+F369-G369","v":0},{"$nulls":14},{"$f":"SUBSTITUTE($C$368,CHAR(10),\"\")","v":"Marcas, patentes, licencias y otros derechos - Ajuste acumulado por revaluaciones o reexpresiones"},"Activos Intangibles",{"$f":"(W369=OFFSET(W369,1,0))*1","v":1},30,{"$f":"(X369=Parametros[Segmento])*(Y369>0)*(Z369>0)","v":0}]
[{"$nulls":7},{"$f":"+D370+F370-G370","v":0},{"$nulls":14},{"$f":"SUBSTITUTE($C$368,CHAR(10),\"\")","v":"Marcas, patentes, licencias y otros derechos - Ajuste acumulado por revaluaciones o reexpresiones"},"Activos Intangibles",{"$f":"(W370=OFFSET(W370,1,0))*1","v":0},30,{"$f":"(X370=Parametros[Segmento])*(Y370>0)*(Z370>0)","v":0}]
[null,null,"Arrendamiento Financiero - Al costo",null,{"$f":"SUM(D372:D373)","v":0},{"$nulls":3},{"$f":"SUM(H372:H373)","v":0},{"$nulls":14},"Activos Intangibles",1,30,{"$f":"(X371=Parametros[Segmento])*(Y371>0)*(Z371>0)","v":0}]
[{"$nulls":7},{"$f":"+D372+F372-G372","v":0},{"$nulls":14},{"$f":"SUBSTITUTE($C$371,CHAR(10),\"\")","v":"Arrendamiento Financiero - Al costo"},"Activos Intangibles",{"$f":"(W372=OFFSET(W372,1,0))*1","v":1},30,{"$f":"(X372=Parametros[Segmento])*(Y372>0)*(Z372>0)","v":0}]
[{"$nulls":7},{"$f":"+D373+F373-G373","v":0},{"$nulls":14},{"$f":"SUBSTITUTE($C$371,CHAR(10),\"\")","v":"Arrendamiento Financiero - Al costo"},"Activos Intangibles",{"$f":"(W373=OFFSET(W373,1,0))*1","v":0},30,{"$f":"(X373=Parametros[Segmento])*(Y373>0)*(Z373>0)","v":0}]
[null,null,"Arrendamiento Financiero - Ajuste acumulado por revaluaciones o reexpresiones",null,{"$f":"SUM(D375:D376)","v":0},{"$nulls":3},{"$f":"SUM(H374:H376)","v":0},{"$nulls":14},"Activos Intangibles",1,40.1,{"$f":"(X374=Parametros[Segmento])*(Y374>0)*(Z374>0)","v":0}]
[{"$nulls":7},{"$f":"+D375+F375-G375","v":0},{"$nulls":14},{"$f":"SUBSTITUTE($C$374,CHAR(10),\"\")","v":"Arrendamiento Financiero - Ajuste acumulado por revaluaciones o reexpresiones"},"Activos Intangibles",{"$f":"(W375=OFFSET(W375,1,0))*1","v":1},30,{"$f":"(X375=Parametros[Segmento])*(Y375>0)*(Z375>0)","v":0}]
[{"$nulls":7},{"$f":"+D376+F376-G376","v":0},{"$nulls":14},{"$f":"SUBSTITUTE($C$374,CHAR(10),\"\")","v":"Arrendamiento Financiero - Ajuste acumulado por revaluaciones o reexpresiones"},"Activos Intangibles",{"$f":"(W376=OFFSET(W376,1,0))*1","v":0},30,{"$f":"(X376=Parametros[Segmento])*(Y376>0)*(Z376>0)","v":0}]
[null,null,"Otros activos intangibles - Al costo",null,{"$f":"SUM(D378:D379)","v":0},{"$nulls":3},{"$f":"SUM(H378:H379)","v":0},{"$nulls":14},"Activos Intangibles",1,30,{"$f":"(X377=Parametros[Segmento])*(Y377>0)*(Z377>0)","v":0}]
[{"$nulls":7},{"$f":"+D378+F378-G378","v":0},{"$nulls":14},{"$f":"SUBSTITUTE($C$377,CHAR(10),\"\")","v":"Otros activos intangibles - Al costo"},"Activos Intangibles",{"$f":"(W378=OFFSET(W378,1,0))*1","v":1},30,{"$f":"(X378=Parametros[Segmento])*(Y378>0)*(Z378>0)","v":0}]
[{"$nulls":7},{"$f":"+D379+F379-G379","v":0},{"$nulls":14},{"$f":"SUBSTITUTE($C$377,CHAR(10),\"\")","v":"Otros activos intangibles - Al costo"},"Activos Intangibles",{"$f":"(W379=OFFSET(W379,1,0))*1","v":0},30,{"$f":"(X379=Parametros[Segmento])*(Y379>0)*(Z379>0)","v":0}]
[null,null,"Otros activos intangibles - Ajuste acumulado por revaluaciones o reexpresiones",null,{"$f":"+SUM(D381:D382)","v":0},{"$nulls":3},{"$f":"+SUM(H381:H382)","v":0},{"$nulls":14},"Activos Intangibles",1,40.1,{"$f":"(X380=Parametros[Segmento])*(Y380>0)*(Z380>0)","v":0}]
[{"$nulls":7},{"$f":"+D381+F381-G381","v":0},{"$nulls":14},{"$f":"SUBSTITUTE($C$380,CHAR(10),\"\")","v":"Otros activos intangibles - Ajuste acumulado por revaluaciones o reexpresiones"},"Activos Intangibles",{"$f":"(W381=OFFSET(W381,1,0))*1","v":1},30,{"$f":"(X381=Parametros[Segmento])*(Y381>0)*(Z381>0)","v":0}]
[{"$nulls":7},{"$f":"+D382+F382-G382","v":0},{"$nulls":14},{"$f":"SUBSTITUTE($C$380,CHAR(10),\"\")","v":"Otros activos intangibles - Ajuste acumulado por revaluaciones o reexpresiones"},"Activos Intangibles",{"$f":"(W382=OFFSET(W382,1,0))*1","v":0},30,{"$f":"(X382=Parametros[Segmento])*(Y382>0)*(Z382>0)","v":0}]
[null,null,"Plusvalía o Good Will - Adquisición de establecimiento de comercio",null,{"$f":"SUM(D384:D385)","v":0},{"$nulls":3},{"$f":"SUM(H384:H385)","v":0},{"$nulls":14},"Activos Intangibles",1,30,{"$f":"(X383=Parametros[Segmento])*(Y383>0)*(Z383>0)","v":0}]
[{"$nulls":7},{"$f":"+D384+F384-G384","v":0},{"$nulls":14},{"$f":"SUBSTITUTE($C$383,CHAR(10),\"\")","v":"Plusvalía o Good Will - Adquisición de establecimiento de comercio"},"Activos Intangibles",{"$f":"(W384=OFFSET(W384,1,0))*1","v":1},30,{"$f":"(X384=Parametros[Segmento])*(Y384>0)*(Z384>0)","v":0}]
[{"$nulls":7},{"$f":"+D385+F385-G385","v":0},{"$nulls":14},{"$f":"SUBSTITUTE($C$383,CHAR(10),\"\")","v":"Plusvalía o Good Will - Adquisición de establecimiento de comercio"},"Activos Intangibles",{"$f":"(W385=OFFSET(W385,1,0))*1","v":0},30,{"$f":"(X385=Parametros[Segmento])*(Y385>0)*(Z385>0)","v":0}]
[null,null,"Plusvalía o Good Will - Fusiones",null,{"$f":"SUM(D387:D388)","v":0},{"$nulls":3},{"$f":"SUM(H387:H388)","v":0},{"$nulls":14},"Activos Intangibles",1,30,{"$f":"(X386=Parametros[Segmento])*(Y386>0)*(Z386>0)","v":0}]
[{"$nulls":7},{"$f":"+D387+F387-G387","v":0},{"$nulls":14},{"$f":"SUBSTITUTE($C$386,CHAR(10),\"\")","v":"Plusvalía o Good Will - Fusiones"},"Activos Intangibles",{"$f":"(W387=OFFSET(W387,1,0))*1","v":1},30,{"$f":"(X387=Parametros[Segmento])*(Y387>0)*(Z387>0)","v":0}]
[{"$nulls":7},{"$f":"+D388+F388-G388","v":0},{"$nulls":14},{"$f":"SUBSTITUTE($C$386,CHAR(10),\"\")","v":"Plusvalía o Good Will - Fusiones"},"Activos Intangibles",{"$f":"(W388=OFFSET(W388,1,0))*1","v":0},30,{"$f":"(X388=Parametros[Segmento])*(Y388>0)*(Z388>0)","v":0}]
[null,null,"Plusvalía o Good Will - Escisiones",null,{"$f":"SUM(D390:D391)","v":0},{"$nulls":3},{"$f":"SUM(H390:H391)","v":0},{"$nulls":14},"Activos Intangibles",1,30,{"$f":"(X389=Parametros[Segmento])*(Y389>0)*(Z389>0)","v":0}]
[{"$nulls":7},{"$f":"+D390+F390-G390","v":0},{"$nulls":14},{"$f":"SUBSTITUTE($C$389,CHAR(10),\"\")","v":"Plusvalía o Good Will - Escisiones"},"Activos Intangibles",{"$f":"(W390=OFFSET(W390,1,0))*1","v":1},30,{"$f":"(X390=Parametros[Segmento])*(Y390>0)*(Z390>0)","v":0}]
[{"$nulls":7},{"$f":"+D391+F391-G391","v":0},{"$nulls":14},{"$f":"SUBSTITUTE($C$389,CHAR(10),\"\")","v":"Plusvalía o Good Will - Escisiones"},"Activos Intangibles",{"$f":"(W391=OFFSET(W391,1,0))*1","v":0},30,{"$f":"(X391=Parametros[Segmento])*(Y391>0)*(Z391>0)","v":0}]
[null,null,"Plusvalía o Good Will - Compras de Acciones ",null,{"$f":"SUM(D393:D394)","v":0},{"$nulls":3},{"$f":"SUM(H393:H394)","v":0},{"$nulls":14},"Activos Intangibles",1,30,{"$f":"(X392=Parametros[Segmento])*(Y392>0)*(Z392>0)","v":0}]
[{"$nulls":7},{"$f":"+D393+F393-G393","v":0},{"$nulls":14},{"$f":"SUBSTITUTE($C$392,CHAR(10),\"\")","v":"Plusvalía o Good Will - Compras de Acciones "},"Activos Intangibles",{"$f":"(W393=OFFSET(W393,1,0))*1","v":1},30,{"$f":"(X393=Parametros[Segmento])*(Y393>0)*(Z393>0)","v":0}]
[{"$nulls":7},{"$f":"+D394+F394-G394","v":0},{"$nulls":14},{"$f":"SUBSTITUTE($C$392,CHAR(10),\"\")","v":"Plusvalía o Good Will - Compras de Acciones "},"Activos Intangibles",{"$f":"(W394=OFFSET(W394,1,0))*1","v":0},30,{"$f":"(X394=Parametros[Segmento])*(Y394>0)*(Z394>0)","v":0}]
[null,null,"Totales ",{"$f":"SUM(D360:D394)","v":0},{"$f":"SUM(E359:E394)","v":0},{"$f":"SUM(F360:F394)","v":0},{"$f":"SUM(G360:G394)","v":0},{"$f":"SUM(H360:H394)","v":0},{"$f":"SUM(I359:I394)","v":0},{"$nulls":14},"Activos Intangibles",1,30,{"$f":"(X395=Parametros[Segmento])*(Y395>0)*(Z395>0)","v":0}]
[{"$nulls":23},"Activos Intangibles",1,30,{"$f":"(X396=Parametros[Segmento])*(Y396>0)*(Z396>0)","v":0}]
[{"$nulls":23},"Activos Intangibles",1,30,{"$f":"(X397=Parametros[Segmento])*(Y397>0)*(Z397>0)","v":0}]
[null,null,"Impuesto Diferido ",{"$nulls":20},"Activos Intangibles",1,30,{"$f":"(X398=Parametros[Segmento])*(Y398>0)*(Z398>0)","v":0}]
[null,null,"Concepto ","Valor contable","Valor fiscal","Diferencia ","Activo por Impuesto Diferido","Pasivo por Impuesto Diferido",{"$nulls":15},"Activos Intangibles",1,40.1,{"$f":"(X399=Parametros[Segmento])*(Y399>0)*(Z399>0)","v":0}]
[null,null,"Activos Intangibles",{"$f":"+E395","v":0},{"$f":"+I395","v":0},{"$nulls":18},"Activos Intangibles",1,30,{"$f":"(X400=Parametros[Segmento])*(Y400>0)*(Z400>0)","v":0}]
[null,null,"Amortización acumulada activos intangibles",{"$f":"+' '!I413","v":0},{"$f":"+' '!N413","v":0},{"$nulls":18},"Activos Intangibles",1,30,{"$f":"(X401=Parametros[Segmento])*(Y401>0)*(Z401>0)","v":0}]
[null,null,"Deterioro acumulado activos intangibles",{"$f":"+' '!K422","v":0},0,{"$nulls":18},"Activos Intangibles",1,30,{"$f":"(X402=Parametros[Segmento])*(Y402>0)*(Z402>0)","v":0}]
[null,null,"Total Activos Intangibles",{"$f":"+D400-D401-D402","v":0},{"$f":"+E400-E401-E402","v":0},{"$f":"+D403-E403","v":0},{"$f":"+IF(E403>D403,(E403-D403),0)","v":0},{"$f":"+IF(D403>E403,(D403-E403),0)","v":0},{"$nulls":15},"Activos Intangibles",1,30,{"$f":"(X403=Parametros[Segmento])*(Y403>0)*(Z403>0)","v":0}]
[1,3,45,24.78,24.78,{"$f":"IF($N$408=Listas!$Q$5,24.78,0)","v":0},{"$f":"IF($N$408=Listas!$Q$6,24.78,0)","v":0},24.78,24.78,24.78,24.78,24.78,24.78,24.78,4,{"$nulls":8},"Amort Acum Act Intang",null,20,{"$f":"(X404=Parametros[Segmento])*(Y404>0)*(Z404>0)","v":0}]
[{"$nulls":23},"Amort Acum Act Intang",1,10,{"$f":"(X405=Parametros[Segmento])*(Y405>0)*(Z405>0)","v":0}]
[{"$nulls":23},"Amort Acum Act Intang",1,30,{"$f":"(X406=Parametros[Segmento])*(Y406>0)*(Z406>0)","v":0}]
[null,null,"Amortización Acumulada de los Activos Intangibles",{"$nulls":20},"Amort Acum Act Intang",1,30,{"$f":"(X407=Parametros[Segmento])*(Y407>0)*(Z407>0)","v":0}]
[null,null,"Método de amortización contable",{"$nulls":20},"Amort Acum Act Intang",1,30,{"$f":"(X408=Parametros[Segmento])*(Y408>0)*(Z408>0)","v":0}]
[null,null,"Descripción Activo ",null,"Amortización Contable ",{"$nulls":4},"Amortización Fiscal",{"$nulls":13},"Amort Acum Act Intang",1,30,{"$f":"(X409=Parametros[Segmento])*(Y409>0)*(Z409>0)","v":0}]
[{"$nulls":3},"Amort. Acumulada a 31 de dic. 2022 ","Valor a amortizar","Tasa de amortización","Vida útil","Monto Amortizado en 2023","Amort. Acumulada a 31 de dic. 2023","Amort. Acumulada a 31 de dic. 2022","Valor a amortizar","Tasa de amortización ","Amortización","Amort. Acumulada a 31 de dic. 2023",{"$nulls":9},"Amort Acum Act Intang",1,40.1,{"$f":"(X410=Parametros[Segmento])*(Y410>0)*(Z410>0)","v":0}]
[null,null,"",{"$nulls":4},{"$f":"IFERROR(IF(E411>0,IF($N$408=\"Tasa amortización\",E411*F411,IF($N$408=\"Vida útil\",E411/G411,0)),\"\"),\"\")","v":""},{"$f":"IFERROR(IF(E411>0,D411+H411,\"\"),\"\")","v":""},{"$nulls":3},{"$f":"IFERROR(IF(K411>0,K411*L411,\"\"),\"\")","v":""},{"$f":"IFERROR(IF(K411>0,J411+M411,\"\"),\"\")","v":""},{"$nulls":8},{"$f":"SUBSTITUTE($C$407,CHAR(10),\"\")","v":"Amortización Acumulada de los Activos Intangibles"},"Amort Acum Act Intang",{"$f":"(W411=OFFSET(W411,1,0))*1","v":1},30,{"$f":"(X411=Parametros[Segmento])*(Y411>0)*(Z411>0)","v":0}]
[{"$nulls":7},{"$f":"IFERROR(IF(E412>0,IF($N$408=\"Tasa amortización\",E412*F412,IF($N$408=\"Vida útil\",E412/G412,0)),\"\"),\"\")","v":""},{"$f":"IFERROR(IF(E412>0,D412+H412,\"\"),\"\")","v":""},{"$nulls":3},{"$f":"IFERROR(IF(K412>0,K412*L412,\"\"),\"\")","v":""},{"$f":"IFERROR(IF(K412>0,J412+M412,\"\"),\"\")","v":""},{"$nulls":8},{"$f":"SUBSTITUTE($C$407,CHAR(10),\"\")","v":"Amortización Acumulada de los Activos Intangibles"},"Amort Acum Act Intang",{"$f":"(W412=OFFSET(W412,1,0))*1","v":0},30,{"$f":"(X412=Parametros[Segmento])*(Y412>0)*(Z412>0)","v":0}]
[{"$nulls":3},{"$f":"SUM(D411:D412)","v":0},{"$f":"SUM(E411:E412)","v":0},null,null,{"$f":"SUM(H411:H412)","v":0},{"$f":"SUM(I411:I412)","v":0},{"$f":"SUM(J411:J412)","v":0},{"$f":"SUM(K411:K412)","v":0},null,{"$f":"SUM(M411:M412)","v":0},{"$f":"SUM(N411:N412)","v":0},{"$nulls":9},"Amort Acum Act Intang",1,30,{"$f":"(X413=Parametros[Segmento])*(Y413>0)*(Z413>0)","v":0}]
[1,3,45,24.78,24.78,24.78,24.78,24.78,24.78,24.78,24.78,4,{"$nulls":11},"Det Acum Act Intang",null,20,{"$f":"(X414=Parametros[Segmento])*(Y414>0)*(Z414>0)","v":0}]
[{"$nulls":23},"Det Acum Act Intang",1,10,{"$f":"(X415=Parametros[Segmento])*(Y415>0)*(Z415>0)","v":0}]
[{"$nulls":23},"Det Acum Act Intang",1,30,{"$f":"(X416=Parametros[Segmento])*(Y416>0)*(Z416>0)","v":0}]
[null,null,"Deterioro de Activos Intangibles",{"$nulls":20},"Det Acum Act Intang",1,35,{"$f":"(X417=Parametros[Segmento])*(Y417>0)*(Z417>0)","v":0}]
[null,null,"Descripción Activo","Valor en libros","Deterioro Contable ",{"$nulls":18},"Det Acum Act Intang",1,30,{"$f":"(X418=Parametros[Segmento])*(Y418>0)*(Z418>0)","v":0}]
[{"$nulls":4},"Deterioro Acumulado a 31 de dic. 2022","Valor \nRazonable","Costos de Venta","Valor \nen Uso","Importe \nRecuperable","Deterioro ","Deterioro Acumulado a 31 de dic. 2023",{"$nulls":12},"Det Acum Act Intang",1,40.1,{"$f":"(X419=Parametros[Segmento])*(Y419>0)*(Z419>0)","v":0}]
[null,null,"",{"$nulls":5},{"$f":"IF(C420>0,IF((F420-G420)>H420,F420-G420,H420),\"\")","v":0},{"$f":"+IF(C420>0,IF(I420<D420,D420-I420,0),\"\")","v":0},{"$f":"+IF(C420>0,E420+J420,\"\")","v":0},{"$nulls":11},{"$f":"SUBSTITUTE($C$417,CHAR(10),\"\")","v":"Deterioro de Activos Intangibles"},"Det Acum Act Intang",{"$f":"(W420=OFFSET(W420,1,0))*1","v":1},30,{"$f":"(X420=Parametros[Segmento])*(Y420>0)*(Z420>0)","v":0}]
[{"$nulls":8},{"$f":"IF(C421>0,IF((F421-G421)>H421,F421-G421,H421),\"\")","v":""},{"$f":"+IF(C421>0,IF(I421<D421,D421-I421,0),\"\")","v":""},{"$f":"+IF(C421>0,E421+J421,\"\")","v":""},{"$nulls":11},{"$f":"SUBSTITUTE($C$417,CHAR(10),\"\")","v":"Deterioro de Activos Intangibles"},"Det Acum Act Intang",{"$f":"(W421=OFFSET(W421,1,0))*1","v":0},30,{"$f":"(X421=Parametros[Segmento])*(Y421>0)*(Z421>0)","v":0}]
[{"$nulls":4},{"$f":"SUM(E420:E421)","v":0},0,0,0,0,0,0,{"$nulls":12},"Det Acum Act Intang",1,30,{"$f":"(X422=Parametros[Segmento])*(Y422>0)*(Z422>0)","v":0}]
[1,2.44,55.22,24.78,24.78,24.78,24.78,24.78,24.78,4,{"$nulls":13},"Prop de Inversión",null,20,{"$f":"(X423=Parametros[Segmento])*(Y423>0)*(Z423>0)","v":0}]
[{"$nulls":23},"Prop de Inversión",1,10,{"$f":"(X424=Parametros[Segmento])*(Y424>0)*(Z424>0)","v":0}]
[{"$nulls":23},"Prop de Inversión",1,30,{"$f":"(X425=Parametros[Segmento])*(Y425>0)*(Z425>0)","v":0}]
[null,null,"Propiedades de Inversión",{"$nulls":20},"Prop de Inversión",1,30,{"$f":"(X426=Parametros[Segmento])*(Y426>0)*(Z426>0)","v":0}]
[null,null,"Concepto/Descripción","Valores Contables",null,"Ajuste",null,"Valores Fiscales",{"$nulls":15},"Prop de Inversión",1,30,{"$f":"(X427=Parametros[Segmento])*(Y427>0)*(Z427>0)","v":0}]
[{"$nulls":3},"Saldos Parciales ","Saldos Totales ","Mayor Valor Fiscal","Menor Valor Fiscal","Saldos Parciales","Saldos Totales ",{"$nulls":14},"Prop de Inversión",1,30,{"$f":"(X428=Parametros[Segmento])*(Y428>0)*(Z428>0)","v":0}]
[null,null,"Terrenos - Al costo",null,{"$f":"SUM(D430:D431)","v":0},{"$nulls":3},{"$f":"SUM(H430:H431)","v":0},{"$nulls":14},"Prop de Inversión",1,30,{"$f":"(X429=Parametros[Segmento])*(Y429>0)*(Z429>0)","v":0}]
[{"$nulls":7},{"$f":"+D430+F430-G430","v":0},{"$nulls":14},{"$f":"SUBSTITUTE($C$429,CHAR(10),\"\")","v":"Terrenos - Al costo"},"Prop de Inversión",{"$f":"(W430=OFFSET(W430,1,0))*1","v":1},30,{"$f":"(X430=Parametros[Segmento])*(Y430>0)*(Z430>0)","v":0}]
[{"$nulls":7},{"$f":"+D431+F431-G431","v":0},{"$nulls":14},{"$f":"SUBSTITUTE($C$429,CHAR(10),\"\")","v":"Terrenos - Al costo"},"Prop de Inversión",{"$f":"(W431=OFFSET(W431,1,0))*1","v":0},30,{"$f":"(X431=Parametros[Segmento])*(Y431>0)*(Z431>0)","v":0}]
[null,null,"Terrenos - Al valor razonable",null,{"$f":"SUM(D433:D434)","v":0},{"$nulls":3},{"$f":"SUM(H433:H434)","v":0},{"$nulls":14},"Prop de Inversión",1,30,{"$f":"(X432=Parametros[Segmento])*(Y432>0)*(Z432>0)","v":0}]
[{"$nulls":7},{"$f":"+D433+F433-G433","v":0},{"$nulls":14},{"$f":"SUBSTITUTE($C$432,CHAR(10),\"\")","v":"Terrenos - Al valor razonable"},"Prop de Inversión",{"$f":"(W433=OFFSET(W433,1,0))*1","v":1},30,{"$f":"(X433=Parametros[Segmento])*(Y433>0)*(Z433>0)","v":0}]
[{"$nulls":7},{"$f":"+D434+F434-G434","v":0},{"$nulls":14},{"$f":"SUBSTITUTE($C$432,CHAR(10),\"\")","v":"Terrenos - Al valor razonable"},"Prop de Inversión",{"$f":"(W434=OFFSET(W434,1,0))*1","v":0},30,{"$f":"(X434=Parametros[Segmento])*(Y434>0)*(Z434>0)","v":0}]
[null,null,"Edificaciones - Al costo",null,{"$f":"SUM(D436:D437)","v":0},{"$nulls":3},{"$f":"SUM(H436:H437)","v":0},{"$nulls":14},"Prop de Inversión",1,30,{"$f":"(X435=Parametros[Segmento])*(Y435>0)*(Z435>0)","v":0}]
[{"$nulls":7},{"$f":"+D436+F436-G436","v":0},{"$nulls":14},{"$f":"SUBSTITUTE($C$435,CHAR(10),\"\")","v":"Edificaciones - Al costo"},"Prop de Inversión",{"$f":"(W436=OFFSET(W436,1,0))*1","v":1},30,{"$f":"(X436=Parametros[Segmento])*(Y436>0)*(Z436>0)","v":0}]
[{"$nulls":7},{"$f":"+D437+F437-G437","v":0},{"$nulls":14},{"$f":"SUBSTITUTE($C$435,CHAR(10),\"\")","v":"Edificaciones - Al costo"},"Prop de Inversión",{"$f":"(W437=OFFSET(W437,1,0))*1","v":0},30,{"$f":"(X437=Parametros[Segmento])*(Y437>0)*(Z437>0)","v":0}]
[null,null,"Edificaciones - Al valor razonable ",null,{"$f":"SUM(D439:D440)","v":0},{"$nulls":3},{"$f":"SUM(H439:H440)","v":0},{"$nulls":14},"Prop de Inversión",1,30,{"$f":"(X438=Parametros[Segmento])*(Y438>0)*(Z438>0)","v":0}]
[{"$nulls":7},{"$f":"+D439+F439-G439","v":0},{"$nulls":14},{"$f":"SUBSTITUTE($C$438,CHAR(10),\"\")","v":"Edificaciones - Al valor razonable "},"Prop de Inversión",{"$f":"(W439=OFFSET(W439,1,0))*1","v":1},30,{"$f":"(X439=Parametros[Segmento])*(Y439>0)*(Z439>0)","v":0}]
[{"$nulls":7},{"$f":"+D440+F440-G440","v":0},{"$nulls":14},{"$f":"SUBSTITUTE($C$438,CHAR(10),\"\")","v":"Edificaciones - Al valor razonable "},"Prop de Inversión",{"$f":"(W440=OFFSET(W440,1,0))*1","v":0},30,{"$f":"(X440=Parametros[Segmento])*(Y440>0)*(Z440>0)","v":0}]
[null,null,"Totales ",{"$f":"SUM(D430:D440)","v":0},{"$f":"SUM(E429:E440)","v":0},{"$f":"SUM(F430:F440)","v":0},{"$f":"SUM(G430:G440)","v":0},{"$f":"SUM(H430:H440)","v":0},{"$f":"SUM(I429:I440)","v":0},{"$nulls":14},"Prop de Inversión",1,30,{"$f":"(X441=Parametros[Segmento])*(Y441>0)*(Z441>0)","v":0}]
[{"$nulls":23},"Prop de Inversión",1,30,{"$f":"(X442=Parametros[Segmento])*(Y442>0)*(Z442>0)","v":0}]
[{"$nulls":23},"Prop de Inversión",1,30,{"$f":"(X443=Parametros[Segmento])*(Y443>0)*(Z443>0)","v":0}]
[null,null,"Impuesto Diferido ",{"$nulls":20},"Prop de Inversión",1,30,{"$f":"(X444=Parametros[Segmento])*(Y444>0)*(Z444>0)","v":0}]
[null,null,"Concepto ","Valor contable","Valor fiscal","Diferencia ","Activo por Impuesto Diferido","Pasivo por Impuesto Diferido",{"$nulls":15},"Prop de Inversión",1,40.1,{"$f":"(X445=Parametros[Segmento])*(Y445>0)*(Z445>0)","v":0}]
[null,null,"Propiedades de Inversión ",{"$f":"+E441","v":0},{"$f":"+I441","v":0},{"$nulls":18},"Prop de Inversión",1,30,{"$f":"(X446=Parametros[Segmento])*(Y446>0)*(Z446>0)","v":0}]
[null,null,"Depreciación acumulada propiedades de inversión ",{"$f":"+' '!L459","v":0},{"$f":"+' '!Q459","v":0},{"$nulls":18},"Prop de Inversión",1,30,{"$f":"(X447=Parametros[Segmento])*(Y447>0)*(Z447>0)","v":0}]
[null,null,"Deterioro acumulado propiedades de inversión ",{"$f":"+' '!K468","v":0},0,{"$nulls":18},"Prop de Inversión",1,30,{"$f":"(X448=Parametros[Segmento])*(Y448>0)*(Z448>0)","v":0}]
[null,null,"Total Propiedades de Inversión",{"$f":"+D446-D447-D448","v":0},{"$f":"+E446-E447-E448","v":0},{"$f":"+D449-E449","v":0},{"$f":"+IF(E449>D449,(E449-D449),0)","v":0},{"$f":"+IF(D449>E449,(D449-E449),0)","v":0},{"$nulls":15},"Prop de Inversión",1,30,{"$f":"(X449=Parametros[Segmento])*(Y449>0)*(Z449>0)","v":0}]
[1,3,45,37.78,24.78,24.78,{"$f":"IF($Q$454=Listas!$H$2,20,0)","v":0},{"$f":"IF($Q$454=Listas!$H$3,20,0)","v":0},{"$f":"IF($Q$454=Listas!$H$4,20,0)","v":0},{"$f":"IF($Q$454=Listas!$H$4,20,0)","v":0},24.78,24.78,24.78,24.78,24.78,24.78,24.78,4,{"$nulls":5},"Dep Acum Prop Inver",null,20,{"$f":"(X450=Parametros[Segmento])*(Y450>0)*(Z450>0)","v":0}]
[{"$nulls":23},"Dep Acum Prop Inver",1,10,{"$f":"(X451=Parametros[Segmento])*(Y451>0)*(Z451>0)","v":0}]
[{"$nulls":23},"Dep Acum Prop Inver",1,30,{"$f":"(X452=Parametros[Segmento])*(Y452>0)*(Z452>0)","v":0}]
[null,null,"Depreciación Acumulada de las Propiedades de Inversión",{"$nulls":20},"Dep Acum Prop Inver",1,30,{"$f":"(X453=Parametros[Segmento])*(Y453>0)*(Z453>0)","v":0}]
[null,null,"Método de depreciación contable ",{"$nulls":20},"Dep Acum Prop Inver",1,30,{"$f":"(X454=Parametros[Segmento])*(Y454>0)*(Z454>0)","v":0}]
[null,null,"Descripción Activo ","Clase de Activo ",null,"Depreciación Contable ",{"$nulls":6},"Depreciación Fiscal",{"$nulls":10},"Dep Acum Prop Inver",1,30,{"$f":"(X455=Parametros[Segmento])*(Y455>0)*(Z455>0)","v":0}]
[{"$nulls":4},"Deprec. Acumulada a 31 de dic. 2022 ","Valor a depreciar ","Tasa de depreciación lineal ","Tasa de depreciación decreciente","Número de Usos","Usos/Cuotas por año","Depreciación","Deprec. Acumulada a 31 de dic. 2023","Deprec. Acumulada a 31 de dic. 2022","Valor a depreciar","Tasa de \ndepreciación \nfiscal","Depreciación","Deprec. Acumulada a 31 de dic. 2023",{"$nulls":6},"Dep Acum Prop Inver",1,55,{"$f":"(X456=Parametros[Segmento])*(Y456>0)*(Z456>0)","v":0}]
[{"$nulls":3},"",{"$nulls":6},{"$f":"IFERROR(IF(D457>0,IF($Q$454=\"Lineal\",F457*G457,IF($Q$454=\"Decreciente\",F457*H457,IF($Q$454=\"Basado en el uso\",((F457/I457)*J457),0))),\"\"),\"\")","v":0},{"$f":"IFERROR(IF(D457>0,E457+K457,\"\"),\"\")","v":0},null,null,{"$f":"+IF(D457<>\"\",VLOOKUP(D457,Listas!$K$4:$L$19,2,0),\"\")","v":""},{"$f":"IFERROR(IF(D457>0,N457*O457,\"\"),\"\")","v":""},{"$f":"IFERROR(IF(D457>0,M457+P457,\"\"),\"\")","v":""},{"$nulls":5},{"$f":"SUBSTITUTE($C$453,CHAR(10),\"\")","v":"Depreciación Acumulada de las Propiedades de Inversión"},"Dep Acum Prop Inver",{"$f":"(W457=OFFSET(W457,1,0))*1","v":1},30,{"$f":"(X457=Parametros[Segmento])*(Y457>0)*(Z457>0)","v":0}]
[{"$nulls":10},{"$f":"IFERROR(IF(D458>0,IF($Q$454=\"Lineal\",F458*G458,IF($Q$454=\"Decreciente\",F458*H458,IF($Q$454=\"Basado en el uso\",((F458/I458)*J458),0))),\"\"),\"\")","v":""},{"$f":"IFERROR(IF(D458>0,E458+K458,\"\"),\"\")","v":""},null,null,{"$f":"+IF(D458<>\"\",VLOOKUP(D458,Listas!$K$4:$L$19,2,0),\"\")","v":""},{"$f":"IFERROR(IF(D458>0,N458*O458,\"\"),\"\")","v":""},{"$f":"IFERROR(IF(D458>0,M458+P458,\"\"),\"\")","v":""},{"$nulls":5},{"$f":"SUBSTITUTE($C$453,CHAR(10),\"\")","v":"Depreciación Acumulada de las Propiedades de Inversión"},"Dep Acum Prop Inver",{"$f":"(W458=OFFSET(W458,1,0))*1","v":0},30,{"$f":"(X458=Parametros[Segmento])*(Y458>0)*(Z458>0)","v":0}]
[{"$nulls":4},{"$f":"SUM(E457:E458)","v":0},{"$f":"SUM(F457:F458)","v":0},{"$nulls":4},{"$f":"SUM(K457:K458)","v":0},0,0,0,0,0,0,{"$nulls":6},"Dep Acum Prop Inver",1,30,{"$f":"(X459=Parametros[Segmento])*(Y459>0)*(Z459>0)","v":0}]
[1,3,45,24.78,24.78,24.78,24.78,24.78,24.78,24.78,24.78,4,{"$nulls":11},"Det Acum Prop Inver",null,20,{"$f":"(X460=Parametros[Segmento])*(Y460>0)*(Z460>0)","v":0}]
[{"$nulls":23},"Det Acum Prop Inver",1,10,{"$f":"(X461=Parametros[Segmento])*(Y461>0)*(Z461>0)","v":0}]
[{"$nulls":23},"Det Acum Prop Inver",1,30,{"$f":"(X462=Parametros[Segmento])*(Y462>0)*(Z462>0)","v":0}]
[null,null,"Deterioro Acumulado de las Propiedades de Inversión ",{"$nulls":20},"Det Acum Prop Inver",1,30,{"$f":"(X463=Parametros[Segmento])*(Y463>0)*(Z463>0)","v":0}]
[null,null,"Descripción Propiedad de Inversión","Valor en libros","Deterioro Contable ",{"$nulls":18},"Det Acum Prop Inver",1,30,{"$f":"(X464=Parametros[Segmento])*(Y464>0)*(Z464>0)","v":0}]
[{"$nulls":4},"Deterioro Acumulado a 31 de dic. 2022","Valor \nRazonable","Costos de Venta","Valor \nen Uso","Importe \nRecuperable","Deterioro ","Deterioro Acumulado a 31 de dic. 2023",{"$nulls":12},"Det Acum Prop Inver",1,40.1,{"$f":"(X465=Parametros[Segmento])*(Y465>0)*(Z465>0)","v":0}]
[{"$nulls":8},{"$f":"IF(C466>0,IF((F466-G466)>H466,F466-G466,H466),\"\")","v":""},{"$f":"+IF(C466>0,IF(I466<D466,D466-I466,0),\"\")","v":""},{"$f":"+IF(C466>0,E466+J466,\"\")","v":""},{"$nulls":11},{"$f":"SUBSTITUTE($C$463,CHAR(10),\"\")","v":"Deterioro Acumulado de las Propiedades de Inversión "},"Det Acum Prop Inver",{"$f":"(W466=OFFSET(W466,1,0))*1","v":1},30,{"$f":"(X466=Parametros[Segmento])*(Y466>0)*(Z466>0)","v":0}]
[{"$nulls":8},{"$f":"IF(C467>0,IF((F467-G467)>H467,F467-G467,H467),\"\")","v":""},{"$f":"+IF(C467>0,IF(I467<D467,D467-I467,0),\"\")","v":""},{"$f":"+IF(C467>0,E467+J467,\"\")","v":""},{"$nulls":11},{"$f":"SUBSTITUTE($C$463,CHAR(10),\"\")","v":"Deterioro Acumulado de las Propiedades de Inversión "},"Det Acum Prop Inver",{"$f":"(W467=OFFSET(W467,1,0))*1","v":0},30,{"$f":"(X467=Parametros[Segmento])*(Y467>0)*(Z467>0)","v":0}]
[{"$nulls":4},{"$f":"SUM(E466:E467)","v":0},0,0,0,0,0,0,{"$nulls":12},"Det Acum Prop Inver",1,30,{"$f":"(X468=Parametros[Segmento])*(Y468>0)*(Z468>0)","v":0}]
[1,2.44,55.22,24.78,24.78,24.78,24.78,24.78,24.78,4,{"$nulls":13},"Activos Biológicos",null,20,{"$f":"(X469=Parametros[Segmento])*(Y469>0)*(Z469>0)","v":0}]
[{"$nulls":23},"Activos Biológicos",1,10,{"$f":"(X470=Parametros[Segmento])*(Y470>0)*(Z470>0)","v":0}]
[{"$nulls":23},"Activos Biológicos",1,30,{"$f":"(X471=Parametros[Segmento])*(Y471>0)*(Z471>0)","v":0}]
[null,null,"Activos Biológicos",{"$nulls":20},"Activos Biológicos",1,30,{"$f":"(X472=Parametros[Segmento])*(Y472>0)*(Z472>0)","v":0}]
[null,null,"Concepto/Descripción","Valores Contables",null,"Ajuste",null,"Valores Fiscales",{"$nulls":15},"Activos Biológicos",1,30,{"$f":"(X473=Parametros[Segmento])*(Y473>0)*(Z473>0)","v":0}]
[{"$nulls":3},"Saldos Parciales ","Saldos Totales ","Mayor Valor Fiscal","Menor Valor Fiscal","Saldos Parciales","Saldos Totales ",{"$nulls":14},"Activos Biológicos",1,30,{"$f":"(X474=Parametros[Segmento])*(Y474>0)*(Z474>0)","v":0}]
[null,null,"Animales productores medidos al costo",null,{"$f":"SUM(D476:D477)","v":0},{"$nulls":3},{"$f":"SUM(H476:H477)","v":0},{"$nulls":14},"Activos Biológicos",1,30,{"$f":"(X475=Parametros[Segmento])*(Y475>0)*(Z475>0)","v":0}]
[{"$nulls":7},{"$f":"+D476+F476-G476","v":0},{"$nulls":14},{"$f":"SUBSTITUTE($C$475,CHAR(10),\"\")","v":"Animales productores medidos al costo"},"Activos Biológicos",{"$f":"(W476=OFFSET(W476,1,0))*1","v":1},30,{"$f":"(X476=Parametros[Segmento])*(Y476>0)*(Z476>0)","v":0}]
[{"$nulls":7},{"$f":"+D477+F477-G477","v":0},{"$nulls":14},{"$f":"SUBSTITUTE($C$475,CHAR(10),\"\")","v":"Animales productores medidos al costo"},"Activos Biológicos",{"$f":"(W477=OFFSET(W477,1,0))*1","v":0},30,{"$f":"(X477=Parametros[Segmento])*(Y477>0)*(Z477>0)","v":0}]
[null,null,"Animales productores medidos al valor \nrazonable menos costos de venta",null,{"$f":"SUM(D479:D480)","v":0},{"$nulls":3},{"$f":"SUM(H479:H480)","v":0},{"$nulls":14},"Activos Biológicos",1,30,{"$f":"(X478=Parametros[Segmento])*(Y478>0)*(Z478>0)","v":0}]
[{"$nulls":7},{"$f":"+D479+F479-G479","v":0},{"$nulls":14},{"$f":"SUBSTITUTE($C$478,CHAR(10),\"\")","v":"Animales productores medidos al valor razonable menos costos de venta"},"Activos Biológicos",{"$f":"(W479=OFFSET(W479,1,0))*1","v":1},30,{"$f":"(X479=Parametros[Segmento])*(Y479>0)*(Z479>0)","v":0}]
[{"$nulls":7},{"$f":"+D480+F480-G480","v":0},{"$nulls":14},{"$f":"SUBSTITUTE($C$478,CHAR(10),\"\")","v":"Animales productores medidos al valor razonable menos costos de venta"},"Activos Biológicos",{"$f":"(W480=OFFSET(W480,1,0))*1","v":0},30,{"$f":"(X480=Parametros[Segmento])*(Y480>0)*(Z480>0)","v":0}]
[null,null,"Animales consumibles medidos al costo",null,{"$f":"SUM(D482:D483)","v":0},{"$nulls":3},{"$f":"SUM(H482:H483)","v":0},{"$nulls":14},"Activos Biológicos",1,30,{"$f":"(X481=Parametros[Segmento])*(Y481>0)*(Z481>0)","v":0}]
[{"$nulls":7},{"$f":"+D482+F482-G482","v":0},{"$nulls":14},{"$f":"SUBSTITUTE($C$481,CHAR(10),\"\")","v":"Animales consumibles medidos al costo"},"Activos Biológicos",{"$f":"(W482=OFFSET(W482,1,0))*1","v":1},30,{"$f":"(X482=Parametros[Segmento])*(Y482>0)*(Z482>0)","v":0}]
[{"$nulls":7},{"$f":"+D483+F483-G483","v":0},{"$nulls":14},{"$f":"SUBSTITUTE($C$481,CHAR(10),\"\")","v":"Animales consumibles medidos al costo"},"Activos Biológicos",{"$f":"(W483=OFFSET(W483,1,0))*1","v":0},30,{"$f":"(X483=Parametros[Segmento])*(Y483>0)*(Z483>0)","v":0}]
[null,null,"Animales consumibles medidos al valor \nrazonable menos costos de venta",null,{"$f":"SUM(D485:D486)","v":0},{"$nulls":3},{"$f":"SUM(H485:H486)","v":0},{"$nulls":14},"Activos Biológicos",1,35,{"$f":"(X484=Parametros[Segmento])*(Y484>0)*(Z484>0)","v":0}]
[{"$nulls":7},{"$f":"+D485+F485-G485","v":0},{"$nulls":14},{"$f":"SUBSTITUTE($C$484,CHAR(10),\"\")","v":"Animales consumibles medidos al valor razonable menos costos de venta"},"Activos Biológicos",{"$f":"(W485=OFFSET(W485,1,0))*1","v":1},30,{"$f":"(X485=Parametros[Segmento])*(Y485>0)*(Z485>0)","v":0}]
[{"$nulls":7},{"$f":"+D486+F486-G486","v":0},{"$nulls":14},{"$f":"SUBSTITUTE($C$484,CHAR(10),\"\")","v":"Animales consumibles medidos al valor razonable menos costos de venta"},"Activos Biológicos",{"$f":"(W486=OFFSET(W486,1,0))*1","v":0},30,{"$f":"(X486=Parametros[Segmento])*(Y486>0)*(Z486>0)","v":0}]
[null,null,"Plantas productoras medidas al costo",null,{"$f":"SUM(D488:D489)","v":0},{"$nulls":3},{"$f":"SUM(H488:H489)","v":0},{"$nulls":14},"Activos Biológicos",1,30,{"$f":"(X487=Parametros[Segmento])*(Y487>0)*(Z487>0)","v":0}]
[{"$nulls":7},{"$f":"+D488+F488-G488","v":0},{"$nulls":14},{"$f":"SUBSTITUTE($C$487,CHAR(10),\"\")","v":"Plantas productoras medidas al costo"},"Activos Biológicos",{"$f":"(W488=OFFSET(W488,1,0))*1","v":1},30,{"$f":"(X488=Parametros[Segmento])*(Y488>0)*(Z488>0)","v":0}]
[{"$nulls":7},{"$f":"+D489+F489-G489","v":0},{"$nulls":14},{"$f":"SUBSTITUTE($C$487,CHAR(10),\"\")","v":"Plantas productoras medidas al costo"},"Activos Biológicos",{"$f":"(W489=OFFSET(W489,1,0))*1","v":0},30,{"$f":"(X489=Parametros[Segmento])*(Y489>0)*(Z489>0)","v":0}]
[null,null,"Plantas productoras medidas al valor \nrazonable",null,{"$f":"SUM(D491:D492)","v":0},{"$nulls":3},{"$f":"SUM(H491:H492)","v":0},{"$nulls":14},"Activos Biológicos",1,35,{"$f":"(X490=Parametros[Segmento])*(Y490>0)*(Z490>0)","v":0}]
[{"$nulls":7},{"$f":"+D491+F491-G491","v":0},{"$nulls":14},{"$f":"SUBSTITUTE($C$490,CHAR(10),\"\")","v":"Plantas productoras medidas al valor razonable"},"Activos Biológicos",{"$f":"(W491=OFFSET(W491,1,0))*1","v":1},30,{"$f":"(X491=Parametros[Segmento])*(Y491>0)*(Z491>0)","v":0}]
[{"$nulls":7},{"$f":"+D492+F492-G492","v":0},{"$nulls":14},{"$f":"SUBSTITUTE($C$490,CHAR(10),\"\")","v":"Plantas productoras medidas al valor razonable"},"Activos Biológicos",{"$f":"(W492=OFFSET(W492,1,0))*1","v":0},30,{"$f":"(X492=Parametros[Segmento])*(Y492>0)*(Z492>0)","v":0}]
[null,null,"Cultivos consumibles medidos al costo",null,{"$f":"SUM(D494:D495)","v":0},{"$nulls":3},{"$f":"SUM(H494:H495)","v":0},{"$nulls":14},"Activos Biológicos",1,30,{"$f":"(X493=Parametros[Segmento])*(Y493>0)*(Z493>0)","v":0}]
[{"$nulls":7},{"$f":"+D494+F494-G494","v":0},{"$nulls":14},{"$f":"SUBSTITUTE($C$493,CHAR(10),\"\")","v":"Cultivos consumibles medidos al costo"},"Activos Biológicos",{"$f":"(W494=OFFSET(W494,1,0))*1","v":1},30,{"$f":"(X494=Parametros[Segmento])*(Y494>0)*(Z494>0)","v":0}]
[{"$nulls":7},{"$f":"+D495+F495-G495","v":0},{"$nulls":14},{"$f":"SUBSTITUTE($C$493,CHAR(10),\"\")","v":"Cultivos consumibles medidos al costo"},"Activos Biológicos",{"$f":"(W495=OFFSET(W495,1,0))*1","v":0},30,{"$f":"(X495=Parametros[Segmento])*(Y495>0)*(Z495>0)","v":0}]
[null,null,"Cultivos consumibles medidos al valor \nrazonable menos costos de venta",null,{"$f":"+SUM(D497:D498)","v":0},{"$nulls":3},{"$f":"+SUM(H497:H498)","v":0},{"$nulls":14},"Activos Biológicos",1,40.1,{"$f":"(X496=Parametros[Segmento])*(Y496>0)*(Z496>0)","v":0}]
[{"$nulls":7},{"$f":"+D497+F497-G497","v":0},{"$nulls":14},{"$f":"SUBSTITUTE($C$496,CHAR(10),\"\")","v":"Cultivos consumibles medidos al valor razonable menos costos de venta"},"Activos Biológicos",{"$f":"(W497=OFFSET(W497,1,0))*1","v":1},30,{"$f":"(X497=Parametros[Segmento])*(Y497>0)*(Z497>0)","v":0}]
[{"$nulls":7},{"$f":"+D498+F498-G498","v":0},{"$nulls":14},{"$f":"SUBSTITUTE($C$496,CHAR(10),\"\")","v":"Cultivos consumibles medidos al valor razonable menos costos de venta"},"Activos Biológicos",{"$f":"(W498=OFFSET(W498,1,0))*1","v":0},30,{"$f":"(X498=Parametros[Segmento])*(Y498>0)*(Z498>0)","v":0}]
[null,null,"Totales ",{"$f":"SUM(D476:D498)","v":0},{"$f":"SUM(E475:E498)","v":0},{"$f":"SUM(F476:F498)","v":0},{"$f":"SUM(G476:G498)","v":0},{"$f":"SUM(H476:H498)","v":0},{"$f":"SUM(I475:I498)","v":0},{"$nulls":14},"Activos Biológicos",1,30,{"$f":"(X499=Parametros[Segmento])*(Y499>0)*(Z499>0)","v":0}]
[{"$nulls":23},"Activos Biológicos",1,30,{"$f":"(X500=Parametros[Segmento])*(Y500>0)*(Z500>0)","v":0}]
[{"$nulls":23},"Activos Biológicos",1,30,{"$f":"(X501=Parametros[Segmento])*(Y501>0)*(Z501>0)","v":0}]
[null,null,"Impuesto Diferido ",{"$nulls":20},"Activos Biológicos",1,30,{"$f":"(X502=Parametros[Segmento])*(Y502>0)*(Z502>0)","v":0}]
[null,null,"Concepto ","Valor contable","Valor fiscal","Diferencia ","Activo por Impuesto Diferido","Pasivo por Impuesto Diferido",{"$nulls":15},"Activos Biológicos",1,40.1,{"$f":"(X503=Parametros[Segmento])*(Y503>0)*(Z503>0)","v":0}]
[null,null,"Activos Biológicos",{"$f":"+E499","v":0},{"$f":"+I499","v":0},{"$nulls":18},"Activos Biológicos",1,30,{"$f":"(X504=Parametros[Segmento])*(Y504>0)*(Z504>0)","v":0}]
[null,null,"Depreciación acumulada activos biológicos",{"$f":"+' '!K517","v":0},{"$f":"+' '!P517","v":0},{"$nulls":18},"Activos Biológicos",1,30,{"$f":"(X505=Parametros[Segmento])*(Y505>0)*(Z505>0)","v":0}]
[null,null,"Deterioro acumulado activos biológicos",{"$f":"+' '!K526","v":0},0,{"$nulls":18},"Activos Biológicos",1,30,{"$f":"(X506=Parametros[Segmento])*(Y506>0)*(Z506>0)","v":0}]
[null,null,"Total Activos Biológicos",{"$f":"+D504-D505-D506","v":0},{"$f":"+E504-E505-E506","v":0},{"$f":"+D507-E507","v":0},{"$f":"+IF(E507>D507,(E507-D507),0)","v":0},{"$f":"+IF(D507>E507,(D507-E507),0)","v":0},{"$nulls":15},"Activos Biológicos",1,30,{"$f":"(X507=Parametros[Segmento])*(Y507>0)*(Z507>0)","v":0}]
[1,3,45,24.78,24.78,{"$f":"IF($P$512=Listas!$H$2,20,0)","v":0},{"$f":"IF($P$512=Listas!$H$3,20,0)","v":0},{"$f":"IF($P$512=Listas!$H$4,20,0)","v":0},{"$f":"IF($P$512=Listas!$H$4,20,0)","v":0},22,24.78,24.78,24.78,24.78,24.78,24.78,4,{"$nulls":6},"Dep Acum Act Biol",null,20,{"$f":"(X508=Parametros[Segmento])*(Y508>0)*(Z508>0)","v":0}]
[{"$nulls":23},"Dep Acum Act Biol",1,10,{"$f":"(X509=Parametros[Segmento])*(Y509>0)*(Z509>0)","v":0}]
[{"$nulls":23},"Dep Acum Act Biol",1,30,{"$f":"(X510=Parametros[Segmento])*(Y510>0)*(Z510>0)","v":0}]
[null,null,"Depreciación Acumulada de Activos Biológicos",{"$nulls":20},"Dep Acum Act Biol",1,30,{"$f":"(X511=Parametros[Segmento])*(Y511>0)*(Z511>0)","v":0}]
[null,null,"Método de depreciación contable ",{"$nulls":20},"Dep Acum Act Biol",1,30,{"$f":"(X512=Parametros[Segmento])*(Y512>0)*(Z512>0)","v":0}]
[null,null,"Descripción Activo",null,"Depreciación Contable ",{"$nulls":6},"Depreciación Fiscal",{"$nulls":11},"Dep Acum Act Biol",1,30,{"$f":"(X513=Parametros[Segmento])*(Y513>0)*(Z513>0)","v":0}]
[{"$nulls":3},"Deprec. Acumulada a 31 de dic. 2022 ","Valor a depreciar ","Tasa de depreciación lineal ","Tasa de depreciación decreciente","Número de Usos","Usos/Cuotas por año","Depreciación","Deprec. Acumulada a 31 de dic. 2023","Deprec. Acumulada a 31 de dic. 2022","Valor a depreciar","Tasa de \ndepreciación \nfiscal","Depreciación","Deprec. Acumulada a 31 de dic. 2023",{"$nulls":7},"Dep Acum Act Biol",1,55,{"$f":"(X514=Parametros[Segmento])*(Y514>0)*(Z514>0)","v":0}]
[null,null,"",{"$nulls":6},{"$f":"IFERROR(IF(C515>0,IF($P$512=\"Lineal\",E515*F515,IF($P$512=\"Decreciente\",E515*G515,IF($P$512=\"Basado en el uso\",((E515/H515)*I515),0))),\"\"),\"\")","v":0},{"$f":"IFERROR(IF(C515>0,D515+J515,\"\"),\"\")","v":0},{"$nulls":3},{"$f":"IFERROR(IF(C515>0,M515*N515,\"\"),\"\")","v":0},{"$f":"IFERROR(IF(C515>0,L515+O515,\"\"),\"\")","v":0},{"$nulls":6},{"$f":"SUBSTITUTE($C$511,CHAR(10),\"\")","v":"Depreciación Acumulada de Activos Biológicos"},"Dep Acum Act Biol",{"$f":"(W515=OFFSET(W515,1,0))*1","v":1},30,{"$f":"(X515=Parametros[Segmento])*(Y515>0)*(Z515>0)","v":0}]
[{"$nulls":9},{"$f":"IFERROR(IF(C516>0,IF($P$512=\"Lineal\",E516*F516,IF($P$512=\"Decreciente\",E516*G516,IF($P$512=\"Basado en el uso\",((E516/H516)*I516),0))),\"\"),\"\")","v":""},{"$f":"IFERROR(IF(C516>0,D516+J516,\"\"),\"\")","v":""},{"$nulls":3},{"$f":"IFERROR(IF(C516>0,M516*N516,\"\"),\"\")","v":""},{"$f":"IFERROR(IF(C516>0,L516+O516,\"\"),\"\")","v":""},{"$nulls":6},{"$f":"SUBSTITUTE($C$511,CHAR(10),\"\")","v":"Depreciación Acumulada de Activos Biológicos"},"Dep Acum Act Biol",{"$f":"(W516=OFFSET(W516,1,0))*1","v":0},30,{"$f":"(X516=Parametros[Segmento])*(Y516>0)*(Z516>0)","v":0}]
[{"$nulls":3},{"$f":"+SUM(D515:D516)","v":0},{"$f":"+SUM(E515:E516)","v":0},{"$nulls":4},{"$f":"+SUM(J515:J516)","v":0},{"$f":"+SUM(K515:K516)","v":0},{"$f":"+SUM(L515:L516)","v":0},{"$f":"+SUM(M515:M516)","v":0},null,{"$f":"+SUM(O515:O516)","v":0},{"$f":"+SUM(P515:P516)","v":0},{"$nulls":7},"Dep Acum Act Biol",1,30,{"$f":"(X517=Parametros[Segmento])*(Y517>0)*(Z517>0)","v":0}]
[1,3,45,24.78,24.78,24.78,24.78,24.78,24.78,24.78,24.78,4,{"$nulls":11},"Det Acum Act Biol",null,20,{"$f":"(X518=Parametros[Segmento])*(Y518>0)*(Z518>0)","v":0}]
[{"$nulls":23},"Det Acum Act Biol",1,10,{"$f":"(X519=Parametros[Segmento])*(Y519>0)*(Z519>0)","v":0}]
[{"$nulls":23},"Det Acum Act Biol",1,30,{"$f":"(X520=Parametros[Segmento])*(Y520>0)*(Z520>0)","v":0}]
[null,null,"Deterioro Acumulado de los Activos Biológicos",{"$nulls":20},"Det Acum Act Biol",1,30,{"$f":"(X521=Parametros[Segmento])*(Y521>0)*(Z521>0)","v":0}]
[null,null,"Descripción Activo Biológico","Valor en libros","Deterioro Contable ",{"$nulls":18},"Det Acum Act Biol",1,30,{"$f":"(X522=Parametros[Segmento])*(Y522>0)*(Z522>0)","v":0}]
[{"$nulls":4},"Deterioro Acumulado a 31 de dic. 2022","Valor \nRazonable","Costos de Venta","Valor \nen Uso","Importe \nRecuperable","Deterioro ","Deterioro Acumulado a 31 de dic. 2023",{"$nulls":12},"Det Acum Act Biol",1,40.1,{"$f":"(X523=Parametros[Segmento])*(Y523>0)*(Z523>0)","v":0}]
[{"$nulls":8},{"$f":"IF(C524>0,IF((F524-G524)>H524,F524-G524,H524),\"\")","v":""},{"$f":"+IF(C524>0,IF(I524<D524,D524-I524,0),\"\")","v":""},{"$f":"+IF(C524>0,E524+J524,\"\")","v":""},{"$nulls":11},{"$f":"SUBSTITUTE($C$521,CHAR(10),\"\")","v":"Deterioro Acumulado de los Activos Biológicos"},"Det Acum Act Biol",{"$f":"(W524=OFFSET(W524,1,0))*1","v":1},30,{"$f":"(X524=Parametros[Segmento])*(Y524>0)*(Z524>0)","v":0}]
[{"$nulls":8},{"$f":"IF(C525>0,IF((F525-G525)>H525,F525-G525,H525),\"\")","v":""},{"$f":"+IF(C525>0,IF(I525<D525,D525-I525,0),\"\")","v":""},{"$f":"+IF(C525>0,E525+J525,\"\")","v":""},{"$nulls":11},{"$f":"SUBSTITUTE($C$521,CHAR(10),\"\")","v":"Deterioro Acumulado de los Activos Biológicos"},"Det Acum Act Biol",{"$f":"(W525=OFFSET(W525,1,0))*1","v":0},30,{"$f":"(X525=Parametros[Segmento])*(Y525>0)*(Z525>0)","v":0}]
[{"$nulls":4},{"$f":"SUM(E524:E525)","v":0},0,0,0,0,0,0,{"$nulls":12},"Det Acum Act Biol",1,30,{"$f":"(X526=Parametros[Segmento])*(Y526>0)*(Z526>0)","v":0}]
[1,2.44,55.22,24.78,24.78,24.78,24.78,24.78,24.78,4,{"$nulls":13},"Act N Corr Mant Vent",null,20,{"$f":"(X527=Parametros[Segmento])*(Y527>0)*(Z527>0)","v":0}]
[{"$nulls":23},"Act N Corr Mant Vent",1,10,{"$f":"(X528=Parametros[Segmento])*(Y528>0)*(Z528>0)","v":0}]
[{"$nulls":23},"Act N Corr Mant Vent",1,30,{"$f":"(X529=Parametros[Segmento])*(Y529>0)*(Z529>0)","v":0}]
[null,null,"Activos no corrientes mantenidos para la venta y/o para distribuir a propietarios ",{"$nulls":20},"Act N Corr Mant Vent",1,30,{"$f":"(X530=Parametros[Segmento])*(Y530>0)*(Z530>0)","v":0}]
[null,null,"Concepto/Descripción","Valores Contables",null,"Ajuste",null,"Valores Fiscales",{"$nulls":15},"Act N Corr Mant Vent",1,30,{"$f":"(X531=Parametros[Segmento])*(Y531>0)*(Z531>0)","v":0}]
[{"$nulls":3},"Saldos Parciales ","Saldos Totales ","Mayor Valor Fiscal","Menor Valor Fiscal","Saldos Parciales","Saldos Totales ",{"$nulls":14},"Act N Corr Mant Vent",1,30,{"$f":"(X532=Parametros[Segmento])*(Y532>0)*(Z532>0)","v":0}]
[null,null,"Mantenidos para la venta",null,{"$f":"SUM(D534:D535)","v":0},{"$nulls":3},{"$f":"SUM(H534:H535)","v":0},{"$nulls":14},"Act N Corr Mant Vent",1,30,{"$f":"(X533=Parametros[Segmento])*(Y533>0)*(Z533>0)","v":0}]
[{"$nulls":7},{"$f":"+D534+F534-G534","v":0},{"$nulls":14},{"$f":"SUBSTITUTE($C$533,CHAR(10),\"\")","v":"Mantenidos para la venta"},"Act N Corr Mant Vent",{"$f":"(W534=OFFSET(W534,1,0))*1","v":1},30,{"$f":"(X534=Parametros[Segmento])*(Y534>0)*(Z534>0)","v":0}]
[{"$nulls":7},{"$f":"+D535+F535-G535","v":0},{"$nulls":14},{"$f":"SUBSTITUTE($C$533,CHAR(10),\"\")","v":"Mantenidos para la venta"},"Act N Corr Mant Vent",{"$f":"(W535=OFFSET(W535,1,0))*1","v":0},30,{"$f":"(X535=Parametros[Segmento])*(Y535>0)*(Z535>0)","v":0}]
[null,null,"Mantenidos para distribuir a propietarios",null,{"$f":"SUM(D537:D538)","v":0},{"$nulls":3},{"$f":"SUM(H537:H538)","v":0},{"$nulls":14},"Act N Corr Mant Vent",1,30,{"$f":"(X536=Parametros[Segmento])*(Y536>0)*(Z536>0)","v":0}]
[{"$nulls":7},{"$f":"+D537+F537-G537","v":0},{"$nulls":14},{"$f":"SUBSTITUTE($C$536,CHAR(10),\"\")","v":"Mantenidos para distribuir a propietarios"},"Act N Corr Mant Vent",{"$f":"(W537=OFFSET(W537,1,0))*1","v":1},30,{"$f":"(X537=Parametros[Segmento])*(Y537>0)*(Z537>0)","v":0}]
[{"$nulls":7},{"$f":"+D538+F538-G538","v":0},{"$nulls":14},{"$f":"SUBSTITUTE($C$536,CHAR(10),\"\")","v":"Mantenidos para distribuir a propietarios"},"Act N Corr Mant Vent",{"$f":"(W538=OFFSET(W538,1,0))*1","v":0},30,{"$f":"(X538=Parametros[Segmento])*(Y538>0)*(Z538>0)","v":0}]
[null,null,"Totales ",{"$f":"SUM(D534:D538)","v":0},{"$f":"SUM(E533:E538)","v":0},{"$f":"SUM(F534:F538)","v":0},{"$f":"SUM(G534:G538)","v":0},{"$f":"SUM(H534:H538)","v":0},{"$f":"SUM(I533:I538)","v":0},{"$nulls":14},"Act N Corr Mant Vent",1,30,{"$f":"(X539=Parametros[Segmento])*(Y539>0)*(Z539>0)","v":0}]
[{"$nulls":23},"Act N Corr Mant Vent",1,30,{"$f":"(X540=Parametros[Segmento])*(Y540>0)*(Z540>0)","v":0}]
[{"$nulls":23},"Act N Corr Mant Vent",1,30,{"$f":"(X541=Parametros[Segmento])*(Y541>0)*(Z541>0)","v":0}]
[null,null,"Impuesto Diferido ",{"$nulls":20},"Act N Corr Mant Vent",1,30,{"$f":"(X542=Parametros[Segmento])*(Y542>0)*(Z542>0)","v":0}]
[null,null,"Concepto ","Valor contable","Valor fiscal","Diferencia ","Activo por Impuesto Diferido","Pasivo por Impuesto Diferido",{"$nulls":15},"Act N Corr Mant Vent",1,40.1,{"$f":"(X543=Parametros[Segmento])*(Y543>0)*(Z543>0)","v":0}]
[null,null,"Activos no corrientes mantenidos para la venta y/o para distribuir a propietarios ",{"$f":"+E539","v":0},{"$f":"+I539","v":0},{"$nulls":18},"Act N Corr Mant Vent",1,40.1,{"$f":"(X544=Parametros[Segmento])*(Y544>0)*(Z544>0)","v":0}]
[null,null,"Deterioro acumulado activos no corrientes mantenidos para la venta y/o para distribuir \na propietarios ",{"$f":"+' '!K555","v":0},0,{"$nulls":18},"Act N Corr Mant Vent",1,50.1,{"$f":"(X545=Parametros[Segmento])*(Y545>0)*(Z545>0)","v":0}]
[null,null,"Total Activos no corrientes mantenidos para la venta y/o para distribuir a propietarios ",{"$f":"+D544-D545","v":0},{"$f":"+E544-E545","v":0},{"$f":"+D546-E546","v":0},{"$f":"+IF(E546>D546,(E546-D546),0)","v":0},{"$f":"+IF(D546>E546,(D546-E546),0)","v":0},{"$nulls":15},"Act N Corr Mant Vent",1,40.1,{"$f":"(X546=Parametros[Segmento])*(Y546>0)*(Z546>0)","v":0}]
[1,3,45,24.78,24.78,24.78,24.78,24.78,24.78,24.78,24.78,4,{"$nulls":11},"Det Acum ANC Mant Vent",null,20,{"$f":"(X547=Parametros[Segmento])*(Y547>0)*(Z547>0)","v":0}]
[{"$nulls":23},"Det Acum ANC Mant Vent",1,10,{"$f":"(X548=Parametros[Segmento])*(Y548>0)*(Z548>0)","v":0}]
[{"$nulls":23},"Det Acum ANC Mant Vent",1,30,{"$f":"(X549=Parametros[Segmento])*(Y549>0)*(Z549>0)","v":0}]
[null,null,"Deterioro de los Activos no corrientes mantenidos para la venta y/o para distribuir a propietarios ",{"$nulls":20},"Det Acum ANC Mant Vent",1,30,{"$f":"(X550=Parametros[Segmento])*(Y550>0)*(Z550>0)","v":0}]
[null,null,"Descripción Activo","Valor en libros","Deterioro Contable ",{"$nulls":18},"Det Acum ANC Mant Vent",1,30,{"$f":"(X551=Parametros[Segmento])*(Y551>0)*(Z551>0)","v":0}]
[{"$nulls":4},"Deterioro Acumulado a 31 de dic. 2022","Valor \nRazonable","Costos de Venta","Valor \nen Uso","Importe \nRecuperable","Deterioro ","Deterioro Acumulado a 31 de dic. 2023",{"$nulls":12},"Det Acum ANC Mant Vent",1,40.1,{"$f":"(X552=Parametros[Segmento])*(Y552>0)*(Z552>0)","v":0}]
[null,null,"",{"$nulls":5},{"$f":"IF(C553>0,IF((F553-G553)>H553,F553-G553,H553),\"\")","v":0},{"$f":"+IF(C553>0,IF(I553<D553,D553-I553,0),\"\")","v":0},{"$f":"+IF(C553>0,E553+J553,\"\")","v":0},{"$nulls":11},{"$f":"SUBSTITUTE($C$550,CHAR(10),\"\")","v":"Deterioro de los Activos no corrientes mantenidos para la venta y/o para distribuir a propietarios "},"Det Acum ANC Mant Vent",{"$f":"(W553=OFFSET(W553,1,0))*1","v":1},30,{"$f":"(X553=Parametros[Segmento])*(Y553>0)*(Z553>0)","v":0}]
[{"$nulls":8},{"$f":"IF(C554>0,IF((F554-G554)>H554,F554-G554,H554),\"\")","v":""},{"$f":"+IF(C554>0,IF(I554<D554,D554-I554,0),\"\")","v":""},{"$f":"+IF(C554>0,E554+J554,\"\")","v":""},{"$nulls":11},{"$f":"SUBSTITUTE($C$550,CHAR(10),\"\")","v":"Deterioro de los Activos no corrientes mantenidos para la venta y/o para distribuir a propietarios "},"Det Acum ANC Mant Vent",{"$f":"(W554=OFFSET(W554,1,0))*1","v":0},30,{"$f":"(X554=Parametros[Segmento])*(Y554>0)*(Z554>0)","v":0}]
[{"$nulls":4},{"$f":"SUM(E553:E554)","v":0},0,0,0,0,0,0,{"$nulls":12},"Det Acum ANC Mant Vent",1,30,{"$f":"(X555=Parametros[Segmento])*(Y555>0)*(Z555>0)","v":0}]
[1,2.44,55.22,24.78,24.78,24.78,24.78,24.78,24.78,4,{"$nulls":13},"Act Rec Solo Fiscalmente",null,20,{"$f":"(X556=Parametros[Segmento])*(Y556>0)*(Z556>0)","v":0}]
[{"$nulls":23},"Act Rec Solo Fiscalmente",1,10,{"$f":"(X557=Parametros[Segmento])*(Y557>0)*(Z557>0)","v":0}]
[{"$nulls":23},"Act Rec Solo Fiscalmente",1,30,{"$f":"(X558=Parametros[Segmento])*(Y558>0)*(Z558>0)","v":0}]
[null,null,"Activos Reconocidos Para Fines Fiscales ",{"$nulls":20},"Act Rec Solo Fiscalmente",1,30,{"$f":"(X559=Parametros[Segmento])*(Y559>0)*(Z559>0)","v":0}]
[null,null,"Concepto/Descripción","Valores Contables",null,"Ajuste",null,"Valores Fiscales",{"$nulls":15},"Act Rec Solo Fiscalmente",1,30,{"$f":"(X560=Parametros[Segmento])*(Y560>0)*(Z560>0)","v":0}]
[{"$nulls":3},"Saldos Parciales ","Saldos Totales ","Mayor Valor Fiscal","Menor Valor Fiscal","Saldos Parciales","Saldos Totales ",{"$nulls":14},"Act Rec Solo Fiscalmente",1,30,{"$f":"(X561=Parametros[Segmento])*(Y561>0)*(Z561>0)","v":0}]
[null,null,"Cargos diferidos ",null,{"$f":"SUM(D563:D564)","v":0},{"$nulls":3},{"$f":"SUM(H563:H564)","v":0},{"$nulls":14},"Act Rec Solo Fiscalmente",1,30,{"$f":"(X562=Parametros[Segmento])*(Y562>0)*(Z562>0)","v":0}]
[{"$nulls":7},{"$f":"+D563+F563-G563","v":0},{"$nulls":14},{"$f":"SUBSTITUTE($C$562,CHAR(10),\"\")","v":"Cargos diferidos "},"Act Rec Solo Fiscalmente",{"$f":"(W563=OFFSET(W563,1,0))*1","v":1},30,{"$f":"(X563=Parametros[Segmento])*(Y563>0)*(Z563>0)","v":0}]
[{"$nulls":7},{"$f":"+D564+F564-G564","v":0},{"$nulls":14},{"$f":"SUBSTITUTE($C$562,CHAR(10),\"\")","v":"Cargos diferidos "},"Act Rec Solo Fiscalmente",{"$f":"(W564=OFFSET(W564,1,0))*1","v":0},30,{"$f":"(X564=Parametros[Segmento])*(Y564>0)*(Z564>0)","v":0}]
[null,null,"Otros activos que solo se reconocen para fines fiscales ",null,{"$f":"SUM(D566:D567)","v":0},{"$nulls":3},{"$f":"SUM(H566:H567)","v":0},{"$nulls":14},"Act Rec Solo Fiscalmente",1,30,{"$f":"(X565=Parametros[Segmento])*(Y565>0)*(Z565>0)","v":0}]
[{"$nulls":7},{"$f":"+D566+F566-G566","v":0},{"$nulls":14},{"$f":"SUBSTITUTE($C$565,CHAR(10),\"\")","v":"Otros activos que solo se reconocen para fines fiscales "},"Act Rec Solo Fiscalmente",{"$f":"(W566=OFFSET(W566,1,0))*1","v":1},30,{"$f":"(X566=Parametros[Segmento])*(Y566>0)*(Z566>0)","v":0}]
[{"$nulls":7},{"$f":"+D567+F567-G567","v":0},{"$nulls":14},{"$f":"SUBSTITUTE($C$565,CHAR(10),\"\")","v":"Otros activos que solo se reconocen para fines fiscales "},"Act Rec Solo Fiscalmente",{"$f":"(W567=OFFSET(W567,1,0))*1","v":0},30,{"$f":"(X567=Parametros[Segmento])*(Y567>0)*(Z567>0)","v":0}]
[null,null,"Totales ",{"$f":"SUM(D563:D567)","v":0},{"$f":"SUM(E562:E567)","v":0},{"$f":"SUM(F563:F567)","v":0},{"$f":"SUM(G563:G567)","v":0},{"$f":"SUM(H563:H567)","v":0},{"$f":"SUM(I562:I567)","v":0},{"$nulls":14},"Act Rec Solo Fiscalmente",1,30,{"$f":"(X568=Parametros[Segmento])*(Y568>0)*(Z568>0)","v":0}]
[{"$nulls":23},"Act Rec Solo Fiscalmente",1,30,{"$f":"(X569=Parametros[Segmento])*(Y569>0)*(Z569>0)","v":0}]
[{"$nulls":23},"Act Rec Solo Fiscalmente",1,30,{"$f":"(X570=Parametros[Segmento])*(Y570>0)*(Z570>0)","v":0}]
[null,null,"Impuesto Diferido ",{"$nulls":20},"Act Rec Solo Fiscalmente",1,30,{"$f":"(X571=Parametros[Segmento])*(Y571>0)*(Z571>0)","v":0}]
[null,null,"Concepto ","Valor contable","Valor fiscal","Diferencia ","Activo por Impuesto Diferido","Pasivo por Impuesto Diferido",{"$nulls":15},"Act Rec Solo Fiscalmente",1,40.1,{"$f":"(X572=Parametros[Segmento])*(Y572>0)*(Z572>0)","v":0}]
[null,null,"Activos reconocidos solo fiscalmente ",{"$f":"+E568","v":0},{"$f":"+I568","v":0},{"$nulls":18},"Act Rec Solo Fiscalmente",1,30,{"$f":"(X573=Parametros[Segmento])*(Y573>0)*(Z573>0)","v":0}]
[null,null,"Total Activos Biológicos",{"$f":"+D573","v":0},{"$f":"+E573","v":0},{"$f":"+D574-E574","v":0},{"$f":"+IF(E574>D574,(E574-D574),0)","v":0},{"$f":"+IF(D574>E574,(D574-E574),0)","v":0},{"$nulls":15},"Act Rec Solo Fiscalmente",1,30,{"$f":"(X574=Parametros[Segmento])*(Y574>0)*(Z574>0)","v":0}]
[1,2.44,55.22,24.78,24.78,24.78,24.78,24.78,24.78,4,{"$nulls":13},"Otros Activos",null,20,{"$f":"(X575=Parametros[Segmento])*(Y575>0)*(Z575>0)","v":0}]
[{"$nulls":23},"Otros Activos",1,10,{"$f":"(X576=Parametros[Segmento])*(Y576>0)*(Z576>0)","v":0}]
[{"$nulls":23},"Otros Activos",1,30,{"$f":"(X577=Parametros[Segmento])*(Y577>0)*(Z577>0)","v":0}]
[null,null,"Otros Activos",{"$nulls":20},"Otros Activos",1,30,{"$f":"(X578=Parametros[Segmento])*(Y578>0)*(Z578>0)","v":0}]
[null,null,"Concepto/Descripción","Valores Contables",null,"Ajuste",null,"Valores Fiscales",{"$nulls":15},"Otros Activos",1,30,{"$f":"(X579=Parametros[Segmento])*(Y579>0)*(Z579>0)","v":0}]
[{"$nulls":3},"Saldos Parciales ","Saldos Totales ","Mayor Valor Fiscal","Menor Valor Fiscal","Saldos Parciales","Saldos Totales ",{"$nulls":14},"Otros Activos",1,30,{"$f":"(X580=Parametros[Segmento])*(Y580>0)*(Z580>0)","v":0}]
[null,null,"Por plan de beneficios a empleados ",null,{"$f":"SUM(D582:D583)","v":0},{"$nulls":3},{"$f":"SUM(H582:H583)","v":0},{"$nulls":14},"Otros Activos",1,30,{"$f":"(X581=Parametros[Segmento])*(Y581>0)*(Z581>0)","v":0}]
[{"$nulls":7},{"$f":"+D582+F582-G582","v":0},{"$nulls":14},{"$f":"SUBSTITUTE($C$581,CHAR(10),\"\")","v":"Por plan de beneficios a empleados "},"Otros Activos",{"$f":"(W582=OFFSET(W582,1,0))*1","v":1},30,{"$f":"(X582=Parametros[Segmento])*(Y582>0)*(Z582>0)","v":0}]
[{"$nulls":7},{"$f":"+D583+F583-G583","v":0},{"$nulls":14},{"$f":"SUBSTITUTE($C$581,CHAR(10),\"\")","v":"Por plan de beneficios a empleados "},"Otros Activos",{"$f":"(W583=OFFSET(W583,1,0))*1","v":0},30,{"$f":"(X583=Parametros[Segmento])*(Y583>0)*(Z583>0)","v":0}]
[null,null,"Gastos pagados por anticipado",null,{"$f":"SUM(D585:D586)","v":0},{"$nulls":3},{"$f":"SUM(H585:H586)","v":0},{"$nulls":14},"Otros Activos",1,30,{"$f":"(X584=Parametros[Segmento])*(Y584>0)*(Z584>0)","v":0}]
[{"$nulls":7},{"$f":"+D585+F585-G585","v":0},{"$nulls":14},{"$f":"SUBSTITUTE($C$584,CHAR(10),\"\")","v":"Gastos pagados por anticipado"},"Otros Activos",{"$f":"(W585=OFFSET(W585,1,0))*1","v":1},30,{"$f":"(X585=Parametros[Segmento])*(Y585>0)*(Z585>0)","v":0}]
[{"$nulls":7},{"$f":"+D586+F586-G586","v":0},{"$nulls":14},{"$f":"SUBSTITUTE($C$584,CHAR(10),\"\")","v":"Gastos pagados por anticipado"},"Otros Activos",{"$f":"(W586=OFFSET(W586,1,0))*1","v":0},30,{"$f":"(X586=Parametros[Segmento])*(Y586>0)*(Z586>0)","v":0}]
[null,null,"Por impuestos no corrientes ",null,{"$f":"SUM(D588:D589)","v":0},{"$nulls":3},{"$f":"SUM(H588:H589)","v":0},{"$nulls":14},"Otros Activos",1,30,{"$f":"(X587=Parametros[Segmento])*(Y587>0)*(Z587>0)","v":0}]
[{"$nulls":7},{"$f":"+D588+F588-G588","v":0},{"$nulls":14},{"$f":"SUBSTITUTE($C$587,CHAR(10),\"\")","v":"Por impuestos no corrientes "},"Otros Activos",{"$f":"(W588=OFFSET(W588,1,0))*1","v":1},30,{"$f":"(X588=Parametros[Segmento])*(Y588>0)*(Z588>0)","v":0}]
[{"$nulls":7},{"$f":"+D589+F589-G589","v":0},{"$nulls":14},{"$f":"SUBSTITUTE($C$587,CHAR(10),\"\")","v":"Por impuestos no corrientes "},"Otros Activos",{"$f":"(W589=OFFSET(W589,1,0))*1","v":0},30,{"$f":"(X589=Parametros[Segmento])*(Y589>0)*(Z589>0)","v":0}]
[null,null,"Otros activos ",null,{"$f":"SUM(D591:D592)","v":0},{"$nulls":3},{"$f":"SUM(H591:H592)","v":0},{"$nulls":14},"Otros Activos",1,30,{"$f":"(X590=Parametros[Segmento])*(Y590>0)*(Z590>0)","v":0}]
[{"$nulls":7},{"$f":"+D591+F591-G591","v":0},{"$nulls":14},{"$f":"SUBSTITUTE($C$590,CHAR(10),\"\")","v":"Otros activos "},"Otros Activos",{"$f":"(W591=OFFSET(W591,1,0))*1","v":1},30,{"$f":"(X591=Parametros[Segmento])*(Y591>0)*(Z591>0)","v":0}]
[{"$nulls":7},{"$f":"+D592+F592-G592","v":0},{"$nulls":14},{"$f":"SUBSTITUTE($C$590,CHAR(10),\"\")","v":"Otros activos "},"Otros Activos",{"$f":"(W592=OFFSET(W592,1,0))*1","v":0},30,{"$f":"(X592=Parametros[Segmento])*(Y592>0)*(Z592>0)","v":0}]
[null,null,"Totales ",{"$f":"SUM(D582:D592)","v":0},{"$f":"SUM(E581:E592)","v":0},{"$f":"SUM(F582:F592)","v":0},{"$f":"SUM(G582:G592)","v":0},{"$f":"SUM(H582:H592)","v":0},{"$f":"SUM(I581:I592)","v":0},{"$nulls":14},"Otros Activos",1,30,{"$f":"(X593=Parametros[Segmento])*(Y593>0)*(Z593>0)","v":0}]
[{"$nulls":23},"Otros Activos",1,30,{"$f":"(X594=Parametros[Segmento])*(Y594>0)*(Z594>0)","v":0}]
[{"$nulls":23},"Otros Activos",1,30,{"$f":"(X595=Parametros[Segmento])*(Y595>0)*(Z595>0)","v":0}]
[null,null,"Impuesto Diferido ",{"$nulls":20},"Otros Activos",1,30,{"$f":"(X596=Parametros[Segmento])*(Y596>0)*(Z596>0)","v":0}]
[null,null,"Concepto ","Valor contable","Valor fiscal","Diferencia ","Activo por Impuesto Diferido","Pasivo por Impuesto Diferido",{"$nulls":15},"Otros Activos",1,30,{"$f":"(X597=Parametros[Segmento])*(Y597>0)*(Z597>0)","v":0}]
[null,null,"Otros activos ",{"$f":"+E593","v":0},{"$f":"+I593","v":0},{"$nulls":18},"Otros Activos",1,30,{"$f":"(X598=Parametros[Segmento])*(Y598>0)*(Z598>0)","v":0}]
[null,null,"Total Otros Activos ",{"$f":"+D598","v":0},{"$f":"+E598","v":0},{"$f":"+F598","v":0},{"$f":"+IF(E599>D599,(E599-D599),0)","v":0},{"$f":"+IF(D599>E599,(D599-E599),0)","v":0},{"$nulls":15},"Otros Activos",1,30,{"$f":"(X599=Parametros[Segmento])*(Y599>0)*(Z599>0)","v":0}]
[1,10,34.67,34.67,34.67,34.67,34.67,4,{"$nulls":15},"Pérdidas Fiscales",null,20,{"$f":"(X600=Parametros[Segmento])*(Y600>0)*(Z600>0)","v":0}]
[{"$nulls":23},"Pérdidas Fiscales",1,10,{"$f":"(X601=Parametros[Segmento])*(Y601>0)*(Z601>0)","v":0}]
[{"$nulls":23},"Pérdidas Fiscales",1,30,{"$f":"(X602=Parametros[Segmento])*(Y602>0)*(Z602>0)","v":0}]
[null,null,"Pérdidas Fiscales ",{"$nulls":20},"Pérdidas Fiscales",1,30,{"$f":"(X603=Parametros[Segmento])*(Y603>0)*(Z603>0)","v":0}]
[null,null,"Año","Utilidad Fiscal ","Pérdida Fiscal ","Pérdidas Fiscales Compensadas ","Pérdidas Fiscales Acumuladas ",{"$nulls":16},"Pérdidas Fiscales",1,40.1,{"$f":"(X604=Parametros[Segmento])*(Y604>0)*(Z604>0)","v":0}]
[{"$nulls":6},{"$f":"+IF(D605>E605,0,E605)","v":0},{"$nulls":16},"Pérdidas Fiscales",1,30,{"$f":"(X605=Parametros[Segmento])*(Y605>0)*(Z605>0)","v":0}]
[{"$nulls":6},{"$f":"IFERROR(IF(AND(C606=\"\",D606=0,E606=0),\"\",(G605+E606-F606)),\"\")","v":""},{"$nulls":16},"Pérdidas Fiscales",1,30,{"$f":"(X606=Parametros[Segmento])*(Y606>0)*(Z606>0)","v":0}]
[{"$nulls":6},"",{"$nulls":16},"Pérdidas Fiscales",1,30,{"$f":"(X607=Parametros[Segmento])*(Y607>0)*(Z607>0)","v":0}]
[{"$nulls":6},"",{"$nulls":16},"Pérdidas Fiscales",1,30,{"$f":"(X608=Parametros[Segmento])*(Y608>0)*(Z608>0)","v":0}]
[{"$nulls":6},"",{"$nulls":16},"Pérdidas Fiscales",1,30,{"$f":"(X609=Parametros[Segmento])*(Y609>0)*(Z609>0)","v":0}]
[{"$nulls":6},"",{"$nulls":16},"Pérdidas Fiscales",1,30,{"$f":"(X610=Parametros[Segmento])*(Y610>0)*(Z610>0)","v":0}]
[{"$nulls":6},"",{"$nulls":16},"Pérdidas Fiscales",1,30,{"$f":"(X611=Parametros[Segmento])*(Y611>0)*(Z611>0)","v":0}]
[{"$nulls":6},"",{"$nulls":16},"Pérdidas Fiscales",1,30,{"$f":"(X612=Parametros[Segmento])*(Y612>0)*(Z612>0)","v":0}]
[{"$nulls":6},"",{"$nulls":16},"Pérdidas Fiscales",1,30,{"$f":"(X613=Parametros[Segmento])*(Y613>0)*(Z613>0)","v":0}]
[{"$nulls":6},"",{"$nulls":16},"Pérdidas Fiscales",1,30,{"$f":"(X614=Parametros[Segmento])*(Y614>0)*(Z614>0)","v":0}]
[{"$nulls":6},"",{"$nulls":16},"Pérdidas Fiscales",1,30,{"$f":"(X615=Parametros[Segmento])*(Y615>0)*(Z615>0)","v":0}]
[{"$nulls":6},"",{"$nulls":16},"Pérdidas Fiscales",1,30,{"$f":"(X616=Parametros[Segmento])*(Y616>0)*(Z616>0)","v":0}]
[{"$nulls":6},"",{"$nulls":16},"Pérdidas Fiscales",1,30,{"$f":"(X617=Parametros[Segmento])*(Y617>0)*(Z617>0)","v":0}]
[{"$nulls":6},"",{"$nulls":16},"Pérdidas Fiscales",1,30,{"$f":"(X618=Parametros[Segmento])*(Y618>0)*(Z618>0)","v":0}]
[{"$nulls":6},"",{"$nulls":16},"Pérdidas Fiscales",1,30,{"$f":"(X619=Parametros[Segmento])*(Y619>0)*(Z619>0)","v":0}]
[{"$nulls":6},"",{"$nulls":16},"Pérdidas Fiscales",1,30,{"$f":"(X620=Parametros[Segmento])*(Y620>0)*(Z620>0)","v":0}]
[{"$nulls":6},"",{"$nulls":16},"Pérdidas Fiscales",1,30,{"$f":"(X621=Parametros[Segmento])*(Y621>0)*(Z621>0)","v":0}]
[{"$nulls":6},"",{"$nulls":16},"Pérdidas Fiscales",1,30,{"$f":"(X622=Parametros[Segmento])*(Y622>0)*(Z622>0)","v":0}]
[{"$nulls":6},"",{"$nulls":16},"Pérdidas Fiscales",1,30,{"$f":"(X623=Parametros[Segmento])*(Y623>0)*(Z623>0)","v":0}]
[{"$nulls":6},"",{"$nulls":16},"Pérdidas Fiscales",1,30,{"$f":"(X624=Parametros[Segmento])*(Y624>0)*(Z624>0)","v":0}]
[{"$nulls":6},"",{"$nulls":16},"Pérdidas Fiscales",1,30,{"$f":"(X625=Parametros[Segmento])*(Y625>0)*(Z625>0)","v":0}]
[{"$nulls":6},"",{"$nulls":16},"Pérdidas Fiscales",1,30,{"$f":"(X626=Parametros[Segmento])*(Y626>0)*(Z626>0)","v":0}]
[{"$nulls":6},"",{"$nulls":16},"Pérdidas Fiscales",1,30,{"$f":"(X627=Parametros[Segmento])*(Y627>0)*(Z627>0)","v":0}]
[{"$nulls":6},"",{"$nulls":16},"Pérdidas Fiscales",1,30,{"$f":"(X628=Parametros[Segmento])*(Y628>0)*(Z628>0)","v":0}]
[{"$nulls":6},"",{"$nulls":16},"Pérdidas Fiscales",1,30,{"$f":"(X629=Parametros[Segmento])*(Y629>0)*(Z629>0)","v":0}]
[{"$nulls":6},"",{"$nulls":16},"Pérdidas Fiscales",1,30,{"$f":"(X630=Parametros[Segmento])*(Y630>0)*(Z630>0)","v":0}]
[1,2.44,55.22,24.78,24.78,24.78,24.78,24.78,24.78,4,{"$nulls":13},"Pasivos Finan y CxP",null,20,{"$f":"(X631=Parametros[Segmento])*(Y631>0)*(Z631>0)","v":0}]
[{"$nulls":23},"Pasivos Finan y CxP",1,10,{"$f":"(X632=Parametros[Segmento])*(Y632>0)*(Z632>0)","v":0}]
[{"$nulls":23},"Pasivos Finan y CxP",1,30,{"$f":"(X633=Parametros[Segmento])*(Y633>0)*(Z633>0)","v":0}]
[null,null,"Pasivos Financieros y Cuentas por Pagar",{"$nulls":20},"Pasivos Finan y CxP",1,30,{"$f":"(X634=Parametros[Segmento])*(Y634>0)*(Z634>0)","v":0}]
[null,null,"Concepto/Descripción","Valores Contables",null,"Ajuste",null,"Valores Fiscales",{"$nulls":15},"Pasivos Finan y CxP",1,30,{"$f":"(X635=Parametros[Segmento])*(Y635>0)*(Z635>0)","v":0}]
[{"$nulls":3},"Saldos Parciales ","Saldos Totales ","Mayor Valor Fiscal","Menor Valor Fiscal","Saldos Parciales","Saldos Totales ",{"$nulls":14},"Pasivos Finan y CxP",1,30,{"$f":"(X636=Parametros[Segmento])*(Y636>0)*(Z636>0)","v":0}]
[null,null,"Obligaciones financieras en moneda local ",null,{"$f":"SUM(D638:D639)","v":0},{"$nulls":3},{"$f":"SUM(H638:H639)","v":0},{"$nulls":14},"Pasivos Finan y CxP",1,30,{"$f":"(X637=Parametros[Segmento])*(Y637>0)*(Z637>0)","v":0}]
[{"$nulls":7},{"$f":"+D638+F638-G638","v":0},{"$nulls":14},{"$f":"SUBSTITUTE($C$637,CHAR(10),\"\")","v":"Obligaciones financieras en moneda local "},"Pasivos Finan y CxP",{"$f":"(W638=OFFSET(W638,1,0))*1","v":1},30,{"$f":"(X638=Parametros[Segmento])*(Y638>0)*(Z638>0)","v":0}]
[{"$nulls":7},{"$f":"+D639+F639-G639","v":0},{"$nulls":14},{"$f":"SUBSTITUTE($C$637,CHAR(10),\"\")","v":"Obligaciones financieras en moneda local "},"Pasivos Finan y CxP",{"$f":"(W639=OFFSET(W639,1,0))*1","v":0},30,{"$f":"(X639=Parametros[Segmento])*(Y639>0)*(Z639>0)","v":0}]
[null,null,"Obligaciones financieras en moneda extranjera",null,{"$f":"SUM(D641:D642)","v":0},{"$nulls":3},{"$f":"SUM(H641:H642)","v":0},{"$nulls":14},"Pasivos Finan y CxP",1,30,{"$f":"(X640=Parametros[Segmento])*(Y640>0)*(Z640>0)","v":0}]
[{"$nulls":7},{"$f":"+D641+F641-G641","v":0},{"$nulls":14},{"$f":"SUBSTITUTE($C$640,CHAR(10),\"\")","v":"Obligaciones financieras en moneda extranjera"},"Pasivos Finan y CxP",{"$f":"(W641=OFFSET(W641,1,0))*1","v":1},30,{"$f":"(X641=Parametros[Segmento])*(Y641>0)*(Z641>0)","v":0}]
[{"$nulls":7},{"$f":"+D642+F642-G642","v":0},{"$nulls":14},{"$f":"SUBSTITUTE($C$640,CHAR(10),\"\")","v":"Obligaciones financieras en moneda extranjera"},"Pasivos Finan y CxP",{"$f":"(W642=OFFSET(W642,1,0))*1","v":0},30,{"$f":"(X642=Parametros[Segmento])*(Y642>0)*(Z642>0)","v":0}]
[null,null,"Depósitos y exigibilidades",null,{"$f":"SUM(D644:D645)","v":0},{"$nulls":3},{"$f":"SUM(H644:H645)","v":0},{"$nulls":14},"Pasivos Finan y CxP",1,30,{"$f":"(X643=Parametros[Segmento])*(Y643>0)*(Z643>0)","v":0}]
[{"$nulls":7},{"$f":"+D644+F644-G644","v":0},{"$nulls":14},{"$f":"SUBSTITUTE($C$643,CHAR(10),\"\")","v":"Depósitos y exigibilidades"},"Pasivos Finan y CxP",{"$f":"(W644=OFFSET(W644,1,0))*1","v":1},30,{"$f":"(X644=Parametros[Segmento])*(Y644>0)*(Z644>0)","v":0}]
[{"$nulls":7},{"$f":"+D645+F645-G645","v":0},{"$nulls":14},{"$f":"SUBSTITUTE($C$643,CHAR(10),\"\")","v":"Depósitos y exigibilidades"},"Pasivos Finan y CxP",{"$f":"(W645=OFFSET(W645,1,0))*1","v":0},30,{"$f":"(X645=Parametros[Segmento])*(Y645>0)*(Z645>0)","v":0}]
[null,null,"Cuentas comerciales por pagar en moneda local",null,{"$f":"SUM(D647:D648)","v":0},{"$nulls":3},{"$f":"SUM(H647:H648)","v":0},{"$nulls":14},"Pasivos Finan y CxP",1,30,{"$f":"(X646=Parametros[Segmento])*(Y646>0)*(Z646>0)","v":0}]
[{"$nulls":7},{"$f":"+D647+F647-G647","v":0},{"$nulls":14},{"$f":"SUBSTITUTE($C$646,CHAR(10),\"\")","v":"Cuentas comerciales por pagar en moneda local"},"Pasivos Finan y CxP",{"$f":"(W647=OFFSET(W647,1,0))*1","v":1},30,{"$f":"(X647=Parametros[Segmento])*(Y647>0)*(Z647>0)","v":0}]
[{"$nulls":7},{"$f":"+D648+F648-G648","v":0},{"$nulls":14},{"$f":"SUBSTITUTE($C$646,CHAR(10),\"\")","v":"Cuentas comerciales por pagar en moneda local"},"Pasivos Finan y CxP",{"$f":"(W648=OFFSET(W648,1,0))*1","v":0},30,{"$f":"(X648=Parametros[Segmento])*(Y648>0)*(Z648>0)","v":0}]
[null,null,"Cuentas comerciales por pagar en moneda extranjera",null,{"$f":"SUM(D650:D651)","v":0},{"$nulls":3},{"$f":"SUM(H650:H651)","v":0},{"$nulls":14},"Pasivos Finan y CxP",1,30,{"$f":"(X649=Parametros[Segmento])*(Y649>0)*(Z649>0)","v":0}]
[{"$nulls":7},{"$f":"+D650+F650-G650","v":0},{"$nulls":14},{"$f":"SUBSTITUTE($C$649,CHAR(10),\"\")","v":"Cuentas comerciales por pagar en moneda extranjera"},"Pasivos Finan y CxP",{"$f":"(W650=OFFSET(W650,1,0))*1","v":1},30,{"$f":"(X650=Parametros[Segmento])*(Y650>0)*(Z650>0)","v":0}]
[{"$nulls":7},{"$f":"+D651+F651-G651","v":0},{"$nulls":14},{"$f":"SUBSTITUTE($C$649,CHAR(10),\"\")","v":"Cuentas comerciales por pagar en moneda extranjera"},"Pasivos Finan y CxP",{"$f":"(W651=OFFSET(W651,1,0))*1","v":0},30,{"$f":"(X651=Parametros[Segmento])*(Y651>0)*(Z651>0)","v":0}]
[null,null,"Dividendos y participaciones por pagar",null,{"$f":"SUM(D653:D654)","v":0},{"$nulls":3},{"$f":"SUM(H653:H654)","v":0},{"$nulls":14},"Pasivos Finan y CxP",1,30,{"$f":"(X652=Parametros[Segmento])*(Y652>0)*(Z652>0)","v":0}]
[{"$nulls":7},{"$f":"+D653+F653-G653","v":0},{"$nulls":14},{"$f":"SUBSTITUTE($C$652,CHAR(10),\"\")","v":"Dividendos y participaciones por pagar"},"Pasivos Finan y CxP",{"$f":"(W653=OFFSET(W653,1,0))*1","v":1},30,{"$f":"(X653=Parametros[Segmento])*(Y653>0)*(Z653>0)","v":0}]
[{"$nulls":7},{"$f":"+D654+F654-G654","v":0},{"$nulls":14},{"$f":"SUBSTITUTE($C$652,CHAR(10),\"\")","v":"Dividendos y participaciones por pagar"},"Pasivos Finan y CxP",{"$f":"(W654=OFFSET(W654,1,0))*1","v":0},30,{"$f":"(X654=Parametros[Segmento])*(Y654>0)*(Z654>0)","v":0}]
[null,null,"Cuentas por pagar a socios, accionistas o partícipes",null,{"$f":"SUM(D656:D657)","v":0},{"$nulls":3},{"$f":"SUM(H656:H657)","v":0},{"$nulls":14},"Pasivos Finan y CxP",1,30,{"$f":"(X655=Parametros[Segmento])*(Y655>0)*(Z655>0)","v":0}]
[{"$nulls":7},{"$f":"+D656+F656-G656","v":0},{"$nulls":14},{"$f":"SUBSTITUTE($C$655,CHAR(10),\"\")","v":"Cuentas por pagar a socios, accionistas o partícipes"},"Pasivos Finan y CxP",{"$f":"(W656=OFFSET(W656,1,0))*1","v":1},30,{"$f":"(X656=Parametros[Segmento])*(Y656>0)*(Z656>0)","v":0}]
[{"$nulls":7},{"$f":"+D657+F657-G657","v":0},{"$nulls":14},{"$f":"SUBSTITUTE($C$655,CHAR(10),\"\")","v":"Cuentas por pagar a socios, accionistas o partícipes"},"Pasivos Finan y CxP",{"$f":"(W657=OFFSET(W657,1,0))*1","v":0},30,{"$f":"(X657=Parametros[Segmento])*(Y657>0)*(Z657>0)","v":0}]
[null,null,"Cuentas y documentos por pagar a otras partes relacionadas y asociadas",null,{"$f":"+SUM(D659:D660)","v":0},{"$nulls":3},{"$f":"+SUM(H659:H660)","v":0},{"$nulls":14},"Pasivos Finan y CxP",1,30,{"$f":"(X658=Parametros[Segmento])*(Y658>0)*(Z658>0)","v":0}]
[{"$nulls":7},{"$f":"+D659+F659-G659","v":0},{"$nulls":14},{"$f":"SUBSTITUTE($C$658,CHAR(10),\"\")","v":"Cuentas y documentos por pagar a otras partes relacionadas y asociadas"},"Pasivos Finan y CxP",{"$f":"(W659=OFFSET(W659,1,0))*1","v":1},30,{"$f":"(X659=Parametros[Segmento])*(Y659>0)*(Z659>0)","v":0}]
[{"$nulls":7},{"$f":"+D660+F660-G660","v":0},{"$nulls":14},{"$f":"SUBSTITUTE($C$658,CHAR(10),\"\")","v":"Cuentas y documentos por pagar a otras partes relacionadas y asociadas"},"Pasivos Finan y CxP",{"$f":"(W660=OFFSET(W660,1,0))*1","v":0},30,{"$f":"(X660=Parametros[Segmento])*(Y660>0)*(Z660>0)","v":0}]
[null,null,"Reserva matemática y/o técnica y otros pasivos exclusivos en compañías de seguros",null,{"$f":"SUM(D662:D663)","v":0},{"$nulls":3},{"$f":"SUM(H662:H663)","v":0},{"$nulls":14},"Pasivos Finan y CxP",1,40.1,{"$f":"(X661=Parametros[Segmento])*(Y661>0)*(Z661>0)","v":0}]
[{"$nulls":7},{"$f":"+D662+F662-G662","v":0},{"$nulls":14},{"$f":"SUBSTITUTE($C$661,CHAR(10),\"\")","v":"Reserva matemática y/o técnica y otros pasivos exclusivos en compañías de seguros"},"Pasivos Finan y CxP",{"$f":"(W662=OFFSET(W662,1,0))*1","v":1},30,{"$f":"(X662=Parametros[Segmento])*(Y662>0)*(Z662>0)","v":0}]
[{"$nulls":7},{"$f":"+D663+F663-G663","v":0},{"$nulls":14},{"$f":"SUBSTITUTE($C$661,CHAR(10),\"\")","v":"Reserva matemática y/o técnica y otros pasivos exclusivos en compañías de seguros"},"Pasivos Finan y CxP",{"$f":"(W663=OFFSET(W663,1,0))*1","v":0},30,{"$f":"(X663=Parametros[Segmento])*(Y663>0)*(Z663>0)","v":0}]
[null,null,"Recaudo a favor de terceros",null,{"$f":"SUM(D665:D666)","v":0},{"$nulls":3},{"$f":"SUM(H665:H666)","v":0},{"$nulls":14},"Pasivos Finan y CxP",1,30,{"$f":"(X664=Parametros[Segmento])*(Y664>0)*(Z664>0)","v":0}]
[{"$nulls":7},{"$f":"+D665+F665-G665","v":0},{"$nulls":14},{"$f":"SUBSTITUTE($C$664,CHAR(10),\"\")","v":"Recaudo a favor de terceros"},"Pasivos Finan y CxP",{"$f":"(W665=OFFSET(W665,1,0))*1","v":1},30,{"$f":"(X665=Parametros[Segmento])*(Y665>0)*(Z665>0)","v":0}]
[{"$nulls":7},{"$f":"+D666+F666-G666","v":0},{"$nulls":14},{"$f":"SUBSTITUTE($C$664,CHAR(10),\"\")","v":"Recaudo a favor de terceros"},"Pasivos Finan y CxP",{"$f":"(W666=OFFSET(W666,1,0))*1","v":0},30,{"$f":"(X666=Parametros[Segmento])*(Y666>0)*(Z666>0)","v":0}]
[null,null,"Otras cuentas y documentos por pagar en moneda local",null,{"$f":"SUM(D668:D669)","v":0},{"$nulls":3},{"$f":"SUM(H668:H669)","v":0},{"$nulls":14},"Pasivos Finan y CxP",1,30,{"$f":"(X667=Parametros[Segmento])*(Y667>0)*(Z667>0)","v":0}]
[{"$nulls":7},{"$f":"+D668+F668-G668","v":0},{"$nulls":14},{"$f":"SUBSTITUTE($C$667,CHAR(10),\"\")","v":"Otras cuentas y documentos por pagar en moneda local"},"Pasivos Finan y CxP",{"$f":"(W668=OFFSET(W668,1,0))*1","v":1},30,{"$f":"(X668=Parametros[Segmento])*(Y668>0)*(Z668>0)","v":0}]
[{"$nulls":7},{"$f":"+D669+F669-G669","v":0},{"$nulls":14},{"$f":"SUBSTITUTE($C$667,CHAR(10),\"\")","v":"Otras cuentas y documentos por pagar en moneda local"},"Pasivos Finan y CxP",{"$f":"(W669=OFFSET(W669,1,0))*1","v":0},30,{"$f":"(X669=Parametros[Segmento])*(Y669>0)*(Z669>0)","v":0}]
[null,null,"Otras cuentas y documentos por pagar en moneda extranjera",null,{"$f":"SUM(D671:D672)","v":0},{"$nulls":3},{"$f":"SUM(H671:H672)","v":0},{"$nulls":14},"Pasivos Finan y CxP",1,30,{"$f":"(X670=Parametros[Segmento])*(Y670>0)*(Z670>0)","v":0}]
[{"$nulls":7},{"$f":"+D671+F671-G671","v":0},{"$nulls":14},{"$f":"SUBSTITUTE($C$670,CHAR(10),\"\")","v":"Otras cuentas y documentos por pagar en moneda extranjera"},"Pasivos Finan y CxP",{"$f":"(W671=OFFSET(W671,1,0))*1","v":1},30,{"$f":"(X671=Parametros[Segmento])*(Y671>0)*(Z671>0)","v":0}]
[{"$nulls":7},{"$f":"+D672+F672-G672","v":0},{"$nulls":14},{"$f":"SUBSTITUTE($C$670,CHAR(10),\"\")","v":"Otras cuentas y documentos por pagar en moneda extranjera"},"Pasivos Finan y CxP",{"$f":"(W672=OFFSET(W672,1,0))*1","v":0},30,{"$f":"(X672=Parametros[Segmento])*(Y672>0)*(Z672>0)","v":0}]
[null,null,"Totales ",{"$f":"SUM(D638:D672)","v":0},{"$f":"SUM(E637:E672)","v":0},{"$f":"SUM(F638:F672)","v":0},{"$f":"SUM(G638:G672)","v":0},{"$f":"SUM(H638:H672)","v":0},{"$f":"SUM(I637:I672)","v":0},{"$nulls":14},"Pasivos Finan y CxP",1,30,{"$f":"(X673=Parametros[Segmento])*(Y673>0)*(Z673>0)","v":0}]
[{"$nulls":23},"Pasivos Finan y CxP",1,30,{"$f":"(X674=Parametros[Segmento])*(Y674>0)*(Z674>0)","v":0}]
[{"$nulls":23},"Pasivos Finan y CxP",1,30,{"$f":"(X675=Parametros[Segmento])*(Y675>0)*(Z675>0)","v":0}]
[null,null,"Impuesto Diferido ",{"$nulls":20},"Pasivos Finan y CxP",1,30,{"$f":"(X676=Parametros[Segmento])*(Y676>0)*(Z676>0)","v":0}]
[null,null,"Concepto ","Valor contable","Valor fiscal","Diferencia ","Activo por Impuesto Diferido","Pasivo por Impuesto Diferido",{"$nulls":15},"Pasivos Finan y CxP",1,40.1,{"$f":"(X677=Parametros[Segmento])*(Y677>0)*(Z677>0)","v":0}]
[null,null,"Pasivos Financieros y Cuentas por Pagar ",{"$f":"+E673","v":0},{"$f":"+I673","v":0},{"$nulls":18},"Pasivos Finan y CxP",1,30,{"$f":"(X678=Parametros[Segmento])*(Y678>0)*(Z678>0)","v":0}]
[null,null,"Total Pasivos Financieros y Cuentas por Pagar",{"$f":"SUM(D678)","v":0},{"$f":"SUM(E678)","v":0},{"$f":"+D679-E679","v":0},{"$f":"+IF(D679>E679,(D679-E679),0)","v":0},{"$f":"+IF(E679>D679,(E679-D679),0)","v":0},{"$nulls":15},"Pasivos Finan y CxP",1,30,{"$f":"(X679=Parametros[Segmento])*(Y679>0)*(Z679>0)","v":0}]
[1,2.44,55.22,24.78,24.78,24.78,24.78,24.78,24.78,4,{"$nulls":13},"Imptos, grav y tasas",null,20,{"$f":"(X680=Parametros[Segmento])*(Y680>0)*(Z680>0)","v":0}]
[{"$nulls":23},"Imptos, grav y tasas",1,10,{"$f":"(X681=Parametros[Segmento])*(Y681>0)*(Z681>0)","v":0}]
[{"$nulls":23},"Imptos, grav y tasas",1,30,{"$f":"(X682=Parametros[Segmento])*(Y682>0)*(Z682>0)","v":0}]
[null,null,"Impuestos, Gravámenes y Tasas ",{"$nulls":20},"Imptos, grav y tasas",1,30,{"$f":"(X683=Parametros[Segmento])*(Y683>0)*(Z683>0)","v":0}]
[null,null,"Concepto/Descripción","Valores Contables",null,"Ajuste",null,"Valores Fiscales",{"$nulls":15},"Imptos, grav y tasas",1,30,{"$f":"(X684=Parametros[Segmento])*(Y684>0)*(Z684>0)","v":0}]
[{"$nulls":3},"Saldos Parciales ","Saldos Totales ","Mayor Valor Fiscal","Menor Valor Fiscal","Saldos Parciales","Saldos Totales ",{"$nulls":14},"Imptos, grav y tasas",1,30,{"$f":"(X685=Parametros[Segmento])*(Y685>0)*(Z685>0)","v":0}]
[null,null,"Impuesto de renta ",null,{"$f":"SUM(D687:D688)","v":0},{"$nulls":3},{"$f":"SUM(H687:H688)","v":0},{"$nulls":14},"Imptos, grav y tasas",1,30,{"$f":"(X686=Parametros[Segmento])*(Y686>0)*(Z686>0)","v":0}]
[{"$nulls":7},{"$f":"+D687+F687-G687","v":0},{"$nulls":14},{"$f":"SUBSTITUTE($C$686,CHAR(10),\"\")","v":"Impuesto de renta "},"Imptos, grav y tasas",{"$f":"(W687=OFFSET(W687,1,0))*1","v":1},30,{"$f":"(X687=Parametros[Segmento])*(Y687>0)*(Z687>0)","v":0}]
[{"$nulls":7},{"$f":"+D688+F688-G688","v":0},{"$nulls":14},{"$f":"SUBSTITUTE($C$686,CHAR(10),\"\")","v":"Impuesto de renta "},"Imptos, grav y tasas",{"$f":"(W688=OFFSET(W688,1,0))*1","v":0},30,{"$f":"(X688=Parametros[Segmento])*(Y688>0)*(Z688>0)","v":0}]
[null,null,"Impuesto a las ventas - IVA ",null,{"$f":"SUM(D690:D691)","v":0},{"$nulls":3},{"$f":"SUM(H690:H691)","v":0},{"$nulls":14},"Imptos, grav y tasas",1,30,{"$f":"(X689=Parametros[Segmento])*(Y689>0)*(Z689>0)","v":0}]
[{"$nulls":7},{"$f":"+D690+F690-G690","v":0},{"$nulls":14},{"$f":"SUBSTITUTE($C$689,CHAR(10),\"\")","v":"Impuesto a las ventas - IVA "},"Imptos, grav y tasas",{"$f":"(W690=OFFSET(W690,1,0))*1","v":1},30,{"$f":"(X690=Parametros[Segmento])*(Y690>0)*(Z690>0)","v":0}]
[{"$nulls":7},{"$f":"+D691+F691-G691","v":0},{"$nulls":14},{"$f":"SUBSTITUTE($C$689,CHAR(10),\"\")","v":"Impuesto a las ventas - IVA "},"Imptos, grav y tasas",{"$f":"(W691=OFFSET(W691,1,0))*1","v":0},30,{"$f":"(X691=Parametros[Segmento])*(Y691>0)*(Z691>0)","v":0}]
[null,null,"Otros impuestos, gravámenes y tasas por pagar ",null,{"$f":"SUM(D693:D694)","v":0},{"$nulls":3},{"$f":"SUM(H693:H694)","v":0},{"$nulls":14},"Imptos, grav y tasas",1,30,{"$f":"(X692=Parametros[Segmento])*(Y692>0)*(Z692>0)","v":0}]
[{"$nulls":7},{"$f":"+D693+F693-G693","v":0},{"$nulls":14},{"$f":"SUBSTITUTE($C$692,CHAR(10),\"\")","v":"Otros impuestos, gravámenes y tasas por pagar "},"Imptos, grav y tasas",{"$f":"(W693=OFFSET(W693,1,0))*1","v":1},30,{"$f":"(X693=Parametros[Segmento])*(Y693>0)*(Z693>0)","v":0}]
[{"$nulls":7},{"$f":"+D694+F694-G694","v":0},{"$nulls":14},{"$f":"SUBSTITUTE($C$692,CHAR(10),\"\")","v":"Otros impuestos, gravámenes y tasas por pagar "},"Imptos, grav y tasas",{"$f":"(W694=OFFSET(W694,1,0))*1","v":0},30,{"$f":"(X694=Parametros[Segmento])*(Y694>0)*(Z694>0)","v":0}]
[null,null,"Totales ",{"$f":"SUM(D687:D694)","v":0},{"$f":"SUM(E686:E694)","v":0},{"$f":"SUM(F687:F694)","v":0},{"$f":"SUM(G687:G694)","v":0},{"$f":"SUM(H687:H694)","v":0},{"$f":"SUM(I686:I694)","v":0},{"$nulls":14},"Imptos, grav y tasas",1,30,{"$f":"(X695=Parametros[Segmento])*(Y695>0)*(Z695>0)","v":0}]
[{"$nulls":23},"Imptos, grav y tasas",1,30,{"$f":"(X696=Parametros[Segmento])*(Y696>0)*(Z696>0)","v":0}]
[{"$nulls":23},"Imptos, grav y tasas",1,30,{"$f":"(X697=Parametros[Segmento])*(Y697>0)*(Z697>0)","v":0}]
[null,null,"Impuesto Diferido ",{"$nulls":20},"Imptos, grav y tasas",1,30,{"$f":"(X698=Parametros[Segmento])*(Y698>0)*(Z698>0)","v":0}]
[null,null,"Concepto ","Valor contable","Valor fiscal","Diferencia ","Activo por Impuesto Diferido","Pasivo por Impuesto Diferido",{"$nulls":15},"Imptos, grav y tasas",1,40.1,{"$f":"(X699=Parametros[Segmento])*(Y699>0)*(Z699>0)","v":0}]
[null,null,"Impuestos, Gravámenes y Tasas ",{"$f":"+E695","v":0},{"$f":"+I695","v":0},{"$nulls":18},"Imptos, grav y tasas",1,30,{"$f":"(X700=Parametros[Segmento])*(Y700>0)*(Z700>0)","v":0}]
[null,null,"Total Impuestos, Gravámenes y Tasas ",{"$f":"D700","v":0},{"$f":"+E700","v":0},{"$f":"+D701-E701","v":0},{"$f":"+IF(D701>E701,(D701-E701),0)","v":0},{"$f":"+IF(E701>D701,(E701-D701),0)","v":0},{"$nulls":15},"Imptos, grav y tasas",1,30,{"$f":"(X701=Parametros[Segmento])*(Y701>0)*(Z701>0)","v":0}]
[1,2.44,55.22,24.78,24.78,24.78,24.78,24.78,24.78,4,{"$nulls":13},"Beneficios a empleados",null,20,{"$f":"(X702=Parametros[Segmento])*(Y702>0)*(Z702>0)","v":0}]
[{"$nulls":23},"Beneficios a empleados",1,10,{"$f":"(X703=Parametros[Segmento])*(Y703>0)*(Z703>0)","v":0}]
[{"$nulls":23},"Beneficios a empleados",1,30,{"$f":"(X704=Parametros[Segmento])*(Y704>0)*(Z704>0)","v":0}]
[null,null,"Beneficios a empleados",{"$nulls":20},"Beneficios a empleados",1,30,{"$f":"(X705=Parametros[Segmento])*(Y705>0)*(Z705>0)","v":0}]
[null,null,"Concepto/Descripción","Valores Contables",null,"Ajuste",null,"Valores Fiscales",{"$nulls":15},"Beneficios a empleados",1,30,{"$f":"(X706=Parametros[Segmento])*(Y706>0)*(Z706>0)","v":0}]
[{"$nulls":3},"Saldos Parciales ","Saldos Totales ","Mayor Valor Fiscal","Menor Valor Fiscal","Saldos Parciales","Saldos Totales ",{"$nulls":14},"Beneficios a empleados",1,30,{"$f":"(X707=Parametros[Segmento])*(Y707>0)*(Z707>0)","v":0}]
[null,null,"De corto plazo ",null,{"$f":"SUM(D709:D710)","v":0},{"$nulls":3},{"$f":"SUM(H709:H710)","v":0},{"$nulls":14},"Beneficios a empleados",1,30,{"$f":"(X708=Parametros[Segmento])*(Y708>0)*(Z708>0)","v":0}]
[{"$nulls":7},{"$f":"+D709+F709-G709","v":0},{"$nulls":14},{"$f":"SUBSTITUTE($C$708,CHAR(10),\"\")","v":"De corto plazo "},"Beneficios a empleados",{"$f":"(W709=OFFSET(W709,1,0))*1","v":1},30,{"$f":"(X709=Parametros[Segmento])*(Y709>0)*(Z709>0)","v":0}]
[{"$nulls":7},{"$f":"+D710+F710-G710","v":0},{"$nulls":14},{"$f":"SUBSTITUTE($C$708,CHAR(10),\"\")","v":"De corto plazo "},"Beneficios a empleados",{"$f":"(W710=OFFSET(W710,1,0))*1","v":0},30,{"$f":"(X710=Parametros[Segmento])*(Y710>0)*(Z710>0)","v":0}]
[null,null,"De largo plazo ",null,{"$f":"SUM(D712:D713)","v":0},{"$nulls":3},{"$f":"SUM(H712:H713)","v":0},{"$nulls":14},"Beneficios a empleados",1,30,{"$f":"(X711=Parametros[Segmento])*(Y711>0)*(Z711>0)","v":0}]
[{"$nulls":7},{"$f":"+D712+F712-G712","v":0},{"$nulls":14},{"$f":"SUBSTITUTE($C$711,CHAR(10),\"\")","v":"De largo plazo "},"Beneficios a empleados",{"$f":"(W712=OFFSET(W712,1,0))*1","v":1},30,{"$f":"(X712=Parametros[Segmento])*(Y712>0)*(Z712>0)","v":0}]
[{"$nulls":7},{"$f":"+D713+F713-G713","v":0},{"$nulls":14},{"$f":"SUBSTITUTE($C$711,CHAR(10),\"\")","v":"De largo plazo "},"Beneficios a empleados",{"$f":"(W713=OFFSET(W713,1,0))*1","v":0},30,{"$f":"(X713=Parametros[Segmento])*(Y713>0)*(Z713>0)","v":0}]
[null,null,"Por terminación de vínculo laboral o contractual",null,{"$f":"SUM(D715:D716)","v":0},{"$nulls":3},{"$f":"SUM(H715:H716)","v":0},{"$nulls":14},"Beneficios a empleados",1,30,{"$f":"(X714=Parametros[Segmento])*(Y714>0)*(Z714>0)","v":0}]
[{"$nulls":7},{"$f":"+D715+F715-G715","v":0},{"$nulls":14},{"$f":"SUBSTITUTE($C$714,CHAR(10),\"\")","v":"Por terminación de vínculo laboral o contractual"},"Beneficios a empleados",{"$f":"(W715=OFFSET(W715,1,0))*1","v":1},30,{"$f":"(X715=Parametros[Segmento])*(Y715>0)*(Z715>0)","v":0}]
[{"$nulls":7},{"$f":"+D716+F716-G716","v":0},{"$nulls":14},{"$f":"SUBSTITUTE($C$714,CHAR(10),\"\")","v":"Por terminación de vínculo laboral o contractual"},"Beneficios a empleados",{"$f":"(W716=OFFSET(W716,1,0))*1","v":0},30,{"$f":"(X716=Parametros[Segmento])*(Y716>0)*(Z716>0)","v":0}]
[null,null,"Post empleo",null,{"$f":"SUM(D718:D719)","v":0},{"$nulls":3},{"$f":"SUM(H718:H719)","v":0},{"$nulls":14},"Beneficios a empleados",1,30,{"$f":"(X717=Parametros[Segmento])*(Y717>0)*(Z717>0)","v":0}]
[{"$nulls":7},{"$f":"+D718+F718-G718","v":0},{"$nulls":14},{"$f":"SUBSTITUTE($C$717,CHAR(10),\"\")","v":"Post empleo"},"Beneficios a empleados",{"$f":"(W718=OFFSET(W718,1,0))*1","v":1},30,{"$f":"(X718=Parametros[Segmento])*(Y718>0)*(Z718>0)","v":0}]
[{"$nulls":7},{"$f":"+D719+F719-G719","v":0},{"$nulls":14},{"$f":"SUBSTITUTE($C$717,CHAR(10),\"\")","v":"Post empleo"},"Beneficios a empleados",{"$f":"(W719=OFFSET(W719,1,0))*1","v":0},30,{"$f":"(X719=Parametros[Segmento])*(Y719>0)*(Z719>0)","v":0}]
[null,null,"Totales ",{"$f":"SUM(D709:D719)","v":0},{"$f":"SUM(E708:E719)","v":0},{"$f":"SUM(F709:F719)","v":0},{"$f":"SUM(G709:G719)","v":0},{"$f":"SUM(H709:H719)","v":0},{"$f":"SUM(I708:I719)","v":0},{"$nulls":14},"Beneficios a empleados",1,30,{"$f":"(X720=Parametros[Segmento])*(Y720>0)*(Z720>0)","v":0}]
[{"$nulls":23},"Beneficios a empleados",1,30,{"$f":"(X721=Parametros[Segmento])*(Y721>0)*(Z721>0)","v":0}]
[{"$nulls":23},"Beneficios a empleados",1,30,{"$f":"(X722=Parametros[Segmento])*(Y722>0)*(Z722>0)","v":0}]
[null,null,"Impuesto Diferido ",{"$nulls":20},"Beneficios a empleados",1,30,{"$f":"(X723=Parametros[Segmento])*(Y723>0)*(Z723>0)","v":0}]
[null,null,"Concepto ","Valor contable","Valor fiscal","Diferencia ","Activo por Impuesto Diferido","Pasivo por Impuesto Diferido",{"$nulls":15},"Beneficios a empleados",1,40.1,{"$f":"(X724=Parametros[Segmento])*(Y724>0)*(Z724>0)","v":0}]
[null,null,"Beneficios a empleados",{"$f":"+E720","v":0},{"$f":"+I720","v":0},{"$nulls":18},"Beneficios a empleados",1,30,{"$f":"(X725=Parametros[Segmento])*(Y725>0)*(Z725>0)","v":0}]
[null,null,"Total Beneficios a empleados",{"$f":"+D725","v":0},{"$f":"+E725","v":0},{"$f":"+D726-E726","v":0},{"$f":"+IF(D726>E726,(D726-E726),0)","v":0},{"$f":"+IF(E726>D726,(E726-D726),0)","v":0},{"$nulls":15},"Beneficios a empleados",1,30,{"$f":"(X726=Parametros[Segmento])*(Y726>0)*(Z726>0)","v":0}]
[1,2.44,55.22,24.78,24.78,24.78,24.78,24.78,24.78,4,{"$nulls":13},"Provisiones",null,20,{"$f":"(X727=Parametros[Segmento])*(Y727>0)*(Z727>0)","v":0}]
[{"$nulls":23},"Provisiones",1,10,{"$f":"(X728=Parametros[Segmento])*(Y728>0)*(Z728>0)","v":0}]
[{"$nulls":23},"Provisiones",1,30,{"$f":"(X729=Parametros[Segmento])*(Y729>0)*(Z729>0)","v":0}]
[null,null,"Provisiones",{"$nulls":20},"Provisiones",1,30,{"$f":"(X730=Parametros[Segmento])*(Y730>0)*(Z730>0)","v":0}]
[null,null,"Concepto/Descripción","Valores Contables",null,"Ajuste",null,"Valores Fiscales",{"$nulls":15},"Provisiones",1,30,{"$f":"(X731=Parametros[Segmento])*(Y731>0)*(Z731>0)","v":0}]
[{"$nulls":3},"Saldos Parciales ","Saldos Totales ","Mayor Valor Fiscal","Menor Valor Fiscal","Saldos Parciales","Saldos Totales ",{"$nulls":14},"Provisiones",1,30,{"$f":"(X732=Parametros[Segmento])*(Y732>0)*(Z732>0)","v":0}]
[null,null,"Procesos legales (litigios y demandas)",null,{"$f":"SUM(D734:D735)","v":0},{"$nulls":3},{"$f":"SUM(H734:H735)","v":0},{"$nulls":14},"Provisiones",1,30,{"$f":"(X733=Parametros[Segmento])*(Y733>0)*(Z733>0)","v":0}]
[{"$nulls":7},{"$f":"+D734+F734-G734","v":0},{"$nulls":14},{"$f":"SUBSTITUTE($C$733,CHAR(10),\"\")","v":"Procesos legales (litigios y demandas)"},"Provisiones",{"$f":"(W734=OFFSET(W734,1,0))*1","v":1},30,{"$f":"(X734=Parametros[Segmento])*(Y734>0)*(Z734>0)","v":0}]
[{"$nulls":7},{"$f":"+D735+F735-G735","v":0},{"$nulls":14},{"$f":"SUBSTITUTE($C$733,CHAR(10),\"\")","v":"Procesos legales (litigios y demandas)"},"Provisiones",{"$f":"(W735=OFFSET(W735,1,0))*1","v":0},30,{"$f":"(X735=Parametros[Segmento])*(Y735>0)*(Z735>0)","v":0}]
[null,null,"Mantenimiento y reparaciones",null,{"$f":"SUM(D737:D738)","v":0},{"$nulls":3},{"$f":"SUM(H737:H738)","v":0},{"$nulls":14},"Provisiones",1,30,{"$f":"(X736=Parametros[Segmento])*(Y736>0)*(Z736>0)","v":0}]
[{"$nulls":7},{"$f":"+D737+F737-G737","v":0},{"$nulls":14},{"$f":"SUBSTITUTE($C$736,CHAR(10),\"\")","v":"Mantenimiento y reparaciones"},"Provisiones",{"$f":"(W737=OFFSET(W737,1,0))*1","v":1},30,{"$f":"(X737=Parametros[Segmento])*(Y737>0)*(Z737>0)","v":0}]
[{"$nulls":7},{"$f":"+D738+F738-G738","v":0},{"$nulls":14},{"$f":"SUBSTITUTE($C$736,CHAR(10),\"\")","v":"Mantenimiento y reparaciones"},"Provisiones",{"$f":"(W738=OFFSET(W738,1,0))*1","v":0},30,{"$f":"(X738=Parametros[Segmento])*(Y738>0)*(Z738>0)","v":0}]
[null,null,"Obligaciones fiscales ",null,{"$f":"SUM(D740:D741)","v":0},{"$nulls":3},{"$f":"SUM(H740:H741)","v":0},{"$nulls":14},"Provisiones",1,30,{"$f":"(X739=Parametros[Segmento])*(Y739>0)*(Z739>0)","v":0}]
[{"$nulls":7},{"$f":"+D740+F740-G740","v":0},{"$nulls":14},{"$f":"SUBSTITUTE($C$739,CHAR(10),\"\")","v":"Obligaciones fiscales "},"Provisiones",{"$f":"(W740=OFFSET(W740,1,0))*1","v":1},30,{"$f":"(X740=Parametros[Segmento])*(Y740>0)*(Z740>0)","v":0}]
[{"$nulls":7},{"$f":"+D741+F741-G741","v":0},{"$nulls":14},{"$f":"SUBSTITUTE($C$739,CHAR(10),\"\")","v":"Obligaciones fiscales "},"Provisiones",{"$f":"(W741=OFFSET(W741,1,0))*1","v":0},30,{"$f":"(X741=Parametros[Segmento])*(Y741>0)*(Z741>0)","v":0}]
[null,null,"Desmantelamientos, restauración y rehabilitación ",null,{"$f":"SUM(D743:D744)","v":0},{"$nulls":3},{"$f":"SUM(H743:H744)","v":0},{"$nulls":14},"Provisiones",1,30,{"$f":"(X742=Parametros[Segmento])*(Y742>0)*(Z742>0)","v":0}]
[{"$nulls":7},{"$f":"+D743+F743-G743","v":0},{"$nulls":14},{"$f":"SUBSTITUTE($C$742,CHAR(10),\"\")","v":"Desmantelamientos, restauración y rehabilitación "},"Provisiones",{"$f":"(W743=OFFSET(W743,1,0))*1","v":1},30,{"$f":"(X743=Parametros[Segmento])*(Y743>0)*(Z743>0)","v":0}]
[{"$nulls":7},{"$f":"+D744+F744-G744","v":0},{"$nulls":14},{"$f":"SUBSTITUTE($C$742,CHAR(10),\"\")","v":"Desmantelamientos, restauración y rehabilitación "},"Provisiones",{"$f":"(W744=OFFSET(W744,1,0))*1","v":0},30,{"$f":"(X744=Parametros[Segmento])*(Y744>0)*(Z744>0)","v":0}]
[null,null,"Garantías ",null,{"$f":"SUM(D746:D747)","v":0},{"$nulls":3},{"$f":"SUM(H746:H747)","v":0},{"$nulls":14},"Provisiones",1,30,{"$f":"(X745=Parametros[Segmento])*(Y745>0)*(Z745>0)","v":0}]
[{"$nulls":7},{"$f":"+D746+F746-G746","v":0},{"$nulls":14},{"$f":"SUBSTITUTE($C$745,CHAR(10),\"\")","v":"Garantías "},"Provisiones",{"$f":"(W746=OFFSET(W746,1,0))*1","v":1},30,{"$f":"(X746=Parametros[Segmento])*(Y746>0)*(Z746>0)","v":0}]
[{"$nulls":7},{"$f":"+D747+F747-G747","v":0},{"$nulls":14},{"$f":"SUBSTITUTE($C$745,CHAR(10),\"\")","v":"Garantías "},"Provisiones",{"$f":"(W747=OFFSET(W747,1,0))*1","v":0},30,{"$f":"(X747=Parametros[Segmento])*(Y747>0)*(Z747>0)","v":0}]
[null,null,"Contratos onerosos",null,{"$f":"SUM(D749:D750)","v":0},{"$nulls":3},{"$f":"SUM(H749:H750)","v":0},{"$nulls":14},"Provisiones",1,30,{"$f":"(X748=Parametros[Segmento])*(Y748>0)*(Z748>0)","v":0}]
[{"$nulls":7},{"$f":"+D749+F749-G749","v":0},{"$nulls":14},{"$f":"SUBSTITUTE($C$748,CHAR(10),\"\")","v":"Contratos onerosos"},"Provisiones",{"$f":"(W749=OFFSET(W749,1,0))*1","v":1},30,{"$f":"(X749=Parametros[Segmento])*(Y749>0)*(Z749>0)","v":0}]
[{"$nulls":7},{"$f":"+D750+F750-G750","v":0},{"$nulls":14},{"$f":"SUBSTITUTE($C$748,CHAR(10),\"\")","v":"Contratos onerosos"},"Provisiones",{"$f":"(W750=OFFSET(W750,1,0))*1","v":0},30,{"$f":"(X750=Parametros[Segmento])*(Y750>0)*(Z750>0)","v":0}]
[null,null,"Reembolsos a clientes ",null,{"$f":"SUM(D752:D753)","v":0},{"$nulls":3},{"$f":"SUM(H752:H753)","v":0},{"$nulls":14},"Provisiones",1,30,{"$f":"(X751=Parametros[Segmento])*(Y751>0)*(Z751>0)","v":0}]
[{"$nulls":7},{"$f":"+D752+F752-G752","v":0},{"$nulls":14},{"$f":"SUBSTITUTE($C$751,CHAR(10),\"\")","v":"Reembolsos a clientes "},"Provisiones",{"$f":"(W752=OFFSET(W752,1,0))*1","v":1},30,{"$f":"(X752=Parametros[Segmento])*(Y752>0)*(Z752>0)","v":0}]
[{"$nulls":7},{"$f":"+D753+F753-G753","v":0},{"$nulls":14},{"$f":"SUBSTITUTE($C$751,CHAR(10),\"\")","v":"Reembolsos a clientes "},"Provisiones",{"$f":"(W753=OFFSET(W753,1,0))*1","v":0},30,{"$f":"(X753=Parametros[Segmento])*(Y753>0)*(Z753>0)","v":0}]
[null,null,"Reestructuraciones de negocios ",null,{"$f":"+SUM(D755:D756)","v":0},{"$nulls":3},{"$f":"+SUM(H755:H756)","v":0},{"$nulls":14},"Provisiones",1,30,{"$f":"(X754=Parametros[Segmento])*(Y754>0)*(Z754>0)","v":0}]
[{"$nulls":7},{"$f":"+D755+F755-G755","v":0},{"$nulls":14},{"$f":"SUBSTITUTE($C$754,CHAR(10),\"\")","v":"Reestructuraciones de negocios "},"Provisiones",{"$f":"(W755=OFFSET(W755,1,0))*1","v":1},30,{"$f":"(X755=Parametros[Segmento])*(Y755>0)*(Z755>0)","v":0}]
[{"$nulls":7},{"$f":"+D756+F756-G756","v":0},{"$nulls":14},{"$f":"SUBSTITUTE($C$754,CHAR(10),\"\")","v":"Reestructuraciones de negocios "},"Provisiones",{"$f":"(W756=OFFSET(W756,1,0))*1","v":0},30,{"$f":"(X756=Parametros[Segmento])*(Y756>0)*(Z756>0)","v":0}]
[null,null,"Pasivos contingentes asumidos en una combinación de negocios ",null,{"$f":"SUM(D758:D759)","v":0},{"$nulls":3},{"$f":"SUM(H758:H759)","v":0},{"$nulls":14},"Provisiones",1,30,{"$f":"(X757=Parametros[Segmento])*(Y757>0)*(Z757>0)","v":0}]
[{"$nulls":7},{"$f":"+D758+F758-G758","v":0},{"$nulls":14},{"$f":"SUBSTITUTE($C$757,CHAR(10),\"\")","v":"Pasivos contingentes asumidos en una combinación de negocios "},"Provisiones",{"$f":"(W758=OFFSET(W758,1,0))*1","v":1},30,{"$f":"(X758=Parametros[Segmento])*(Y758>0)*(Z758>0)","v":0}]
[{"$nulls":7},{"$f":"+D759+F759-G759","v":0},{"$nulls":14},{"$f":"SUBSTITUTE($C$757,CHAR(10),\"\")","v":"Pasivos contingentes asumidos en una combinación de negocios "},"Provisiones",{"$f":"(W759=OFFSET(W759,1,0))*1","v":0},30,{"$f":"(X759=Parametros[Segmento])*(Y759>0)*(Z759>0)","v":0}]
[null,null,"Relacionadas con el medio ambiente ",null,{"$f":"SUM(D761:D762)","v":0},{"$nulls":3},{"$f":"SUM(H761:H762)","v":0},{"$nulls":14},"Provisiones",1,30,{"$f":"(X760=Parametros[Segmento])*(Y760>0)*(Z760>0)","v":0}]
[{"$nulls":7},{"$f":"+D761+F761-G761","v":0},{"$nulls":14},{"$f":"SUBSTITUTE($C$760,CHAR(10),\"\")","v":"Relacionadas con el medio ambiente "},"Provisiones",{"$f":"(W761=OFFSET(W761,1,0))*1","v":1},30,{"$f":"(X761=Parametros[Segmento])*(Y761>0)*(Z761>0)","v":0}]
[{"$nulls":7},{"$f":"+D762+F762-G762","v":0},{"$nulls":14},{"$f":"SUBSTITUTE($C$760,CHAR(10),\"\")","v":"Relacionadas con el medio ambiente "},"Provisiones",{"$f":"(W762=OFFSET(W762,1,0))*1","v":0},30,{"$f":"(X762=Parametros[Segmento])*(Y762>0)*(Z762>0)","v":0}]
[null,null,"Otras provisiones ",null,{"$f":"SUM(D764:D765)","v":0},{"$nulls":3},{"$f":"SUM(H764:H765)","v":0},{"$nulls":14},"Provisiones",1,30,{"$f":"(X763=Parametros[Segmento])*(Y763>0)*(Z763>0)","v":0}]
[{"$nulls":7},{"$f":"+D764+F764-G764","v":0},{"$nulls":14},{"$f":"SUBSTITUTE($C$763,CHAR(10),\"\")","v":"Otras provisiones "},"Provisiones",{"$f":"(W764=OFFSET(W764,1,0))*1","v":1},30,{"$f":"(X764=Parametros[Segmento])*(Y764>0)*(Z764>0)","v":0}]
[{"$nulls":7},{"$f":"+D765+F765-G765","v":0},{"$nulls":14},{"$f":"SUBSTITUTE($C$763,CHAR(10),\"\")","v":"Otras provisiones "},"Provisiones",{"$f":"(W765=OFFSET(W765,1,0))*1","v":0},30,{"$f":"(X765=Parametros[Segmento])*(Y765>0)*(Z765>0)","v":0}]
[null,null,"Totales ",{"$f":"SUM(D734:D765)","v":0},{"$f":"SUM(E733:E765)","v":0},{"$f":"SUM(F734:F765)","v":0},{"$f":"SUM(G734:G765)","v":0},{"$f":"SUM(H734:H765)","v":0},{"$f":"SUM(I733:I765)","v":0},{"$nulls":14},"Provisiones",1,30,{"$f":"(X766=Parametros[Segmento])*(Y766>0)*(Z766>0)","v":0}]
[{"$nulls":23},"Provisiones",1,30,{"$f":"(X767=Parametros[Segmento])*(Y767>0)*(Z767>0)","v":0}]
[{"$nulls":23},"Provisiones",1,30,{"$f":"(X768=Parametros[Segmento])*(Y768>0)*(Z768>0)","v":0}]
[null,null,"Impuesto Diferido ",{"$nulls":20},"Provisiones",1,30,{"$f":"(X769=Parametros[Segmento])*(Y769>0)*(Z769>0)","v":0}]
[null,null,"Concepto ","Valor contable","Valor fiscal","Diferencia ","Activo por Impuesto Diferido","Pasivo por Impuesto Diferido",{"$nulls":15},"Provisiones",1,40.1,{"$f":"(X770=Parametros[Segmento])*(Y770>0)*(Z770>0)","v":0}]
[null,null,"Provisiones",{"$f":"+E766","v":0},{"$f":"+I766","v":0},{"$nulls":18},"Provisiones",1,30,{"$f":"(X771=Parametros[Segmento])*(Y771>0)*(Z771>0)","v":0}]
[null,null,"Total Provisiones",{"$f":"+D771","v":0},{"$f":"+E771","v":0},{"$f":"+D772-E772","v":0},{"$f":"+IF(D772>E772,(D772-E772),0)","v":0},{"$f":"+IF(E772>D772,(E772-D772),0)","v":0},{"$nulls":15},"Provisiones",1,30,{"$f":"(X772=Parametros[Segmento])*(Y772>0)*(Z772>0)","v":0}]
[1,2.44,55.22,24.78,24.78,24.78,24.78,24.78,24.78,4,{"$nulls":13},"Otros Pasivos, Antic y Avanc",null,20,{"$f":"(X773=Parametros[Segmento])*(Y773>0)*(Z773>0)","v":0}]
[{"$nulls":23},"Otros Pasivos, Antic y Avanc",1,10,{"$f":"(X774=Parametros[Segmento])*(Y774>0)*(Z774>0)","v":0}]
[{"$nulls":23},"Otros Pasivos, Antic y Avanc",1,30,{"$f":"(X775=Parametros[Segmento])*(Y775>0)*(Z775>0)","v":0}]
[null,null,"Otros Pasivos, Anticipos y Avances Recibidos",{"$nulls":20},"Otros Pasivos, Antic y Avanc",1,30,{"$f":"(X776=Parametros[Segmento])*(Y776>0)*(Z776>0)","v":0}]
[null,null,"Concepto/Descripción","Valores Contables",null,"Ajuste",null,"Valores Fiscales",{"$nulls":15},"Otros Pasivos, Antic y Avanc",1,30,{"$f":"(X777=Parametros[Segmento])*(Y777>0)*(Z777>0)","v":0}]
[{"$nulls":3},"Saldos Parciales ","Saldos Totales ","Mayor Valor Fiscal","Menor Valor Fiscal","Saldos Parciales","Saldos Totales ",{"$nulls":14},"Otros Pasivos, Antic y Avanc",1,30,{"$f":"(X778=Parametros[Segmento])*(Y778>0)*(Z778>0)","v":0}]
[null,null,"Arrendamientos por pagar ",null,{"$f":"SUM(D780:D781)","v":0},{"$nulls":3},{"$f":"SUM(H780:H781)","v":0},{"$nulls":14},"Otros Pasivos, Antic y Avanc",1,30,{"$f":"(X779=Parametros[Segmento])*(Y779>0)*(Z779>0)","v":0}]
[{"$nulls":7},{"$f":"+D780+F780-G780","v":0},{"$nulls":14},{"$f":"SUBSTITUTE($C$779,CHAR(10),\"\")","v":"Arrendamientos por pagar "},"Otros Pasivos, Antic y Avanc",{"$f":"(W780=OFFSET(W780,1,0))*1","v":1},30,{"$f":"(X780=Parametros[Segmento])*(Y780>0)*(Z780>0)","v":0}]
[{"$nulls":7},{"$f":"+D781+F781-G781","v":0},{"$nulls":14},{"$f":"SUBSTITUTE($C$779,CHAR(10),\"\")","v":"Arrendamientos por pagar "},"Otros Pasivos, Antic y Avanc",{"$f":"(W781=OFFSET(W781,1,0))*1","v":0},30,{"$f":"(X781=Parametros[Segmento])*(Y781>0)*(Z781>0)","v":0}]
[null,null,"Otros pasivos financieros ",null,{"$f":"SUM(D783:D784)","v":0},{"$nulls":3},{"$f":"SUM(H783:H784)","v":0},{"$nulls":14},"Otros Pasivos, Antic y Avanc",1,30,{"$f":"(X782=Parametros[Segmento])*(Y782>0)*(Z782>0)","v":0}]
[{"$nulls":7},{"$f":"+D783+F783-G783","v":0},{"$nulls":14},{"$f":"SUBSTITUTE($C$782,CHAR(10),\"\")","v":"Otros pasivos financieros "},"Otros Pasivos, Antic y Avanc",{"$f":"(W783=OFFSET(W783,1,0))*1","v":1},30,{"$f":"(X783=Parametros[Segmento])*(Y783>0)*(Z783>0)","v":0}]
[{"$nulls":7},{"$f":"+D784+F784-G784","v":0},{"$nulls":14},{"$f":"SUBSTITUTE($C$782,CHAR(10),\"\")","v":"Otros pasivos financieros "},"Otros Pasivos, Antic y Avanc",{"$f":"(W784=OFFSET(W784,1,0))*1","v":0},30,{"$f":"(X784=Parametros[Segmento])*(Y784>0)*(Z784>0)","v":0}]
[null,null,"Pasivos por ingresos diferidos ",null,{"$f":"SUM(D786:D787)","v":0},{"$nulls":3},{"$f":"SUM(H786:H787)","v":0},{"$nulls":14},"Otros Pasivos, Antic y Avanc",1,30,{"$f":"(X785=Parametros[Segmento])*(Y785>0)*(Z785>0)","v":0}]
[{"$nulls":7},{"$f":"+D786+F786-G786","v":0},{"$nulls":14},{"$f":"SUBSTITUTE($C$785,CHAR(10),\"\")","v":"Pasivos por ingresos diferidos "},"Otros Pasivos, Antic y Avanc",{"$f":"(W786=OFFSET(W786,1,0))*1","v":1},30,{"$f":"(X786=Parametros[Segmento])*(Y786>0)*(Z786>0)","v":0}]
[{"$nulls":7},{"$f":"+D787+F787-G787","v":0},{"$nulls":14},{"$f":"SUBSTITUTE($C$785,CHAR(10),\"\")","v":"Pasivos por ingresos diferidos "},"Otros Pasivos, Antic y Avanc",{"$f":"(W787=OFFSET(W787,1,0))*1","v":0},30,{"$f":"(X787=Parametros[Segmento])*(Y787>0)*(Z787>0)","v":0}]
[null,null,"Otros pasivos ",null,{"$f":"SUM(D789:D790)","v":0},{"$nulls":3},{"$f":"SUM(H789:H790)","v":0},{"$nulls":14},"Otros Pasivos, Antic y Avanc",1,30,{"$f":"(X788=Parametros[Segmento])*(Y788>0)*(Z788>0)","v":0}]
[{"$nulls":7},{"$f":"+D789+F789-G789","v":0},{"$nulls":14},{"$f":"SUBSTITUTE($C$788,CHAR(10),\"\")","v":"Otros pasivos "},"Otros Pasivos, Antic y Avanc",{"$f":"(W789=OFFSET(W789,1,0))*1","v":1},30,{"$f":"(X789=Parametros[Segmento])*(Y789>0)*(Z789>0)","v":0}]
[{"$nulls":7},{"$f":"+D790+F790-G790","v":0},{"$nulls":14},{"$f":"SUBSTITUTE($C$788,CHAR(10),\"\")","v":"Otros pasivos "},"Otros Pasivos, Antic y Avanc",{"$f":"(W790=OFFSET(W790,1,0))*1","v":0},30,{"$f":"(X790=Parametros[Segmento])*(Y790>0)*(Z790>0)","v":0}]
[null,null,"Totales ",{"$f":"SUM(D780:D790)","v":0},{"$f":"SUM(E779:E790)","v":0},{"$f":"SUM(F780:F790)","v":0},{"$f":"SUM(G780:G790)","v":0},{"$f":"SUM(H780:H790)","v":0},{"$f":"SUM(I779:I790)","v":0},{"$nulls":14},"Otros Pasivos, Antic y Avanc",1,30,{"$f":"(X791=Parametros[Segmento])*(Y791>0)*(Z791>0)","v":0}]
[{"$nulls":23},"Otros Pasivos, Antic y Avanc",1,30,{"$f":"(X792=Parametros[Segmento])*(Y792>0)*(Z792>0)","v":0}]
[{"$nulls":23},"Otros Pasivos, Antic y Avanc",1,30,{"$f":"(X793=Parametros[Segmento])*(Y793>0)*(Z793>0)","v":0}]
[null,null,"Impuesto Diferido ",{"$nulls":20},"Otros Pasivos, Antic y Avanc",1,30,{"$f":"(X794=Parametros[Segmento])*(Y794>0)*(Z794>0)","v":0}]
[null,null,"Concepto ","Valor contable","Valor fiscal","Diferencia ","Activo por Impuesto Diferido","Pasivo por Impuesto Diferido",{"$nulls":15},"Otros Pasivos, Antic y Avanc",1,40.1,{"$f":"(X795=Parametros[Segmento])*(Y795>0)*(Z795>0)","v":0}]
[null,null,"Otros Pasivos, Anticipos y Avances Recibidos",{"$f":"+E791","v":0},{"$f":"+I791","v":0},{"$nulls":18},"Otros Pasivos, Antic y Avanc",1,30,{"$f":"(X796=Parametros[Segmento])*(Y796>0)*(Z796>0)","v":0}]
[null,null,"Total Otros Pasivos, Anticipos y Avances Recibidos",{"$f":"+D796","v":0},{"$f":"+E796","v":0},{"$f":"+D797-E797","v":0},{"$f":"+IF(D797>E797,(D797-E797),0)","v":0},{"$f":"+IF(E797>D797,(E797-D797),0)","v":0},{"$nulls":15},"Otros Pasivos, Antic y Avanc",1,30,{"$f":"(X797=Parametros[Segmento])*(Y797>0)*(Z797>0)","v":0}]
[1,2.44,55.22,24.78,24.78,24.78,24.78,24.78,24.78,4,{"$nulls":13},"Pasivos Rec Solo Fiscalmente",null,20,{"$f":"(X798=Parametros[Segmento])*(Y798>0)*(Z798>0)","v":0}]
[{"$nulls":23},"Pasivos Rec Solo Fiscalmente",1,10,{"$f":"(X799=Parametros[Segmento])*(Y799>0)*(Z799>0)","v":0}]
[{"$nulls":23},"Pasivos Rec Solo Fiscalmente",1,30,{"$f":"(X800=Parametros[Segmento])*(Y800>0)*(Z800>0)","v":0}]
[null,null,"Pasivos Reconocidos Solo para Fines Fiscales ",{"$nulls":20},"Pasivos Rec Solo Fiscalmente",1,30,{"$f":"(X801=Parametros[Segmento])*(Y801>0)*(Z801>0)","v":0}]
[null,null,"Concepto/Descripción","Valores Contables",null,"Ajuste",null,"Valores Fiscales",{"$nulls":15},"Pasivos Rec Solo Fiscalmente",1,30,{"$f":"(X802=Parametros[Segmento])*(Y802>0)*(Z802>0)","v":0}]
[{"$nulls":3},"Saldos Parciales ","Saldos Totales ","Mayor Valor Fiscal","Menor Valor Fiscal","Saldos Parciales","Saldos Totales ",{"$nulls":14},"Pasivos Rec Solo Fiscalmente",1,30,{"$f":"(X803=Parametros[Segmento])*(Y803>0)*(Z803>0)","v":0}]
[null,null,"Otros pasivos que solo se reconocen para fines fiscales ",null,{"$f":"SUM(D805:D806)","v":0},{"$nulls":3},{"$f":"SUM(H805:H806)","v":0},{"$nulls":14},"Pasivos Rec Solo Fiscalmente",1,30,{"$f":"(X804=Parametros[Segmento])*(Y804>0)*(Z804>0)","v":0}]
[{"$nulls":7},{"$f":"+D805+F805-G805","v":0},{"$nulls":14},{"$f":"SUBSTITUTE($C$804,CHAR(10),\"\")","v":"Otros pasivos que solo se reconocen para fines fiscales "},"Pasivos Rec Solo Fiscalmente",{"$f":"(W805=OFFSET(W805,1,0))*1","v":1},30,{"$f":"(X805=Parametros[Segmento])*(Y805>0)*(Z805>0)","v":0}]
[{"$nulls":7},{"$f":"+D806+F806-G806","v":0},{"$nulls":14},{"$f":"SUBSTITUTE($C$804,CHAR(10),\"\")","v":"Otros pasivos que solo se reconocen para fines fiscales "},"Pasivos Rec Solo Fiscalmente",{"$f":"(W806=OFFSET(W806,1,0))*1","v":0},30,{"$f":"(X806=Parametros[Segmento])*(Y806>0)*(Z806>0)","v":0}]
[null,null,"Totales ",{"$f":"SUM(D804:D806)","v":0},0,0,0,0,0,{"$nulls":14},"Pasivos Rec Solo Fiscalmente",1,30,{"$f":"(X807=Parametros[Segmento])*(Y807>0)*(Z807>0)","v":0}]
[{"$nulls":23},"Pasivos Rec Solo Fiscalmente",1,30,{"$f":"(X808=Parametros[Segmento])*(Y808>0)*(Z808>0)","v":0}]
[{"$nulls":23},"Pasivos Rec Solo Fiscalmente",1,30,{"$f":"(X809=Parametros[Segmento])*(Y809>0)*(Z809>0)","v":0}]
[null,null,"Impuesto Diferido ",{"$nulls":20},"Pasivos Rec Solo Fiscalmente",1,30,{"$f":"(X810=Parametros[Segmento])*(Y810>0)*(Z810>0)","v":0}]
[null,null,"Concepto ","Valor contable","Valor fiscal","Diferencia ","Activo por Impuesto Diferido","Pasivo por Impuesto Diferido",{"$nulls":15},"Pasivos Rec Solo Fiscalmente",1,30,{"$f":"(X811=Parametros[Segmento])*(Y811>0)*(Z811>0)","v":0}]
[null,null,"Pasivos reconocidos solo para fines fiscales",{"$f":"+E807","v":0},{"$f":"+I807","v":0},{"$nulls":18},"Pasivos Rec Solo Fiscalmente",1,30,{"$f":"(X812=Parametros[Segmento])*(Y812>0)*(Z812>0)","v":0}]
[null,null,"Total Pasivos reconocidos solo para fines fiscales",{"$f":"+D812","v":0},{"$f":"+E812","v":0},{"$f":"+D813-E813","v":0},{"$f":"+IF(E813>D813,(E813-D813),0)","v":0},{"$f":"+IF(D813>E813,(D813-E813),0)","v":0},{"$nulls":15},"Pasivos Rec Solo Fiscalmente",1,30,{"$f":"(X813=Parametros[Segmento])*(Y813>0)*(Z813>0)","v":0}]
[1,2.44,55.44,24.78,24.78,24.78,24.78,24.78,24.78,4,{"$nulls":13},"Partidas",null,20,{"$f":"(X814=Parametros[Segmento])*(Y814>0)*(Z814>0)","v":0}]
[{"$nulls":23},"Partidas",1,10,{"$f":"(X815=Parametros[Segmento])*(Y815>0)*(Z815>0)","v":0}]
[{"$nulls":23},"Partidas",1,30,{"$f":"(X816=Parametros[Segmento])*(Y816>0)*(Z816>0)","v":0}]
[null,null,"Partidas",{"$nulls":20},"Partidas",1,30,{"$f":"(X817=Parametros[Segmento])*(Y817>0)*(Z817>0)","v":0}]
[null,null,"Concepto/Descripción","Valores Contables",null,"Ajuste",null,"Valores Fiscales",{"$nulls":15},"Partidas",1,30,{"$f":"(X818=Parametros[Segmento])*(Y818>0)*(Z818>0)","v":0}]
[{"$nulls":3},"Saldos Parciales ","Saldos Totales ","Mayor Valor Fiscal","Menor Valor Fiscal","Saldos Parciales","Saldos Totales ",{"$nulls":14},"Partidas",1,30,{"$f":"(X819=Parametros[Segmento])*(Y819>0)*(Z819>0)","v":0}]
[null,null,"Efectivos y Equivalentes del Efectivo ",null,{"$f":"SUM(D821:D824)","v":0},{"$nulls":3},{"$f":"SUM(H821:H824)","v":0},{"$nulls":14},"Partidas",1,30,{"$f":"(X820=Parametros[Segmento])*(Y820>0)*(Z820>0)","v":0}]
[null,null,"Efectivo ",{"$nulls":4},{"$f":"+D821+F821-G821","v":0},{"$nulls":15},"Partidas",1,30,{"$f":"(X821=Parametros[Segmento])*(Y821>0)*(Z821>0)","v":0}]
[null,null,"Equivalentes del Efectivo ",{"$nulls":4},{"$f":"+D822+F822-G822","v":0},{"$nulls":15},"Partidas",1,30,{"$f":"(X822=Parametros[Segmento])*(Y822>0)*(Z822>0)","v":0}]
[null,null,"Efectivo Restringido",{"$nulls":4},{"$f":"+D823+F823-G823","v":0},{"$nulls":15},"Partidas",1,30,{"$f":"(X823=Parametros[Segmento])*(Y823>0)*(Z823>0)","v":0}]
[null,null,"Otros equivalentes del efectivo ",{"$nulls":4},{"$f":"+D824+F824-G824","v":0},{"$nulls":15},"Partidas",1,30,{"$f":"(X824=Parametros[Segmento])*(Y824>0)*(Z824>0)","v":0}]
[null,null,"Inversiones e Instrumentos Derivados",null,{"$f":"+SUM(D826:D838)-D839","v":0},{"$nulls":3},{"$f":"+SUM(H826:H838)-H839","v":0},{"$nulls":14},"Partidas",1,30,{"$f":"(X825=Parametros[Segmento])*(Y825>0)*(Z825>0)","v":0}]
[null,null,"Derechos de recompras de inversiones ",{"$nulls":4},{"$f":"+D826+F826-G826","v":0},{"$nulls":15},"Partidas",1,30,{"$f":"(X826=Parametros[Segmento])*(Y826>0)*(Z826>0)","v":0}]
[null,null,"Inversiones en subsidiarias, asociadas y \nnegocios conjuntos medidas a valor \nrazonable con cambios en resultados ",{"$nulls":4},0,{"$nulls":15},"Partidas",1,55,{"$f":"(X827=Parametros[Segmento])*(Y827>0)*(Z827>0)","v":0}]
[null,null,"Inversiones en subsidiarias, asociadas y \nnegocios conjuntos medidas a valor \nrazonable con cambios en el ORI",{"$nulls":4},0,{"$nulls":15},"Partidas",1,55,{"$f":"(X828=Parametros[Segmento])*(Y828>0)*(Z828>0)","v":0}]
[null,null,"Inversiones en subsidiarias, asociadas y \nnegocios conjuntos medidas con método \nde participación",{"$nulls":4},0,{"$nulls":15},"Partidas",1,55,{"$f":"(X829=Parametros[Segmento])*(Y829>0)*(Z829>0)","v":0}]
[null,null,"Inversiones en subsidiarias, asociadas y negocios conjuntos medidas al costo",{"$nulls":4},0,{"$nulls":15},"Partidas",1,40.1,{"$f":"(X830=Parametros[Segmento])*(Y830>0)*(Z830>0)","v":0}]
[null,null,"Instrumentos de deuda a costo amortizado ",{"$nulls":4},0,{"$nulls":15},"Partidas",1,30,{"$f":"(X831=Parametros[Segmento])*(Y831>0)*(Z831>0)","v":0}]
[null,null,"Instrumentos de deuda o patrimonio al costo ",{"$nulls":4},0,{"$nulls":15},"Partidas",1,30,{"$f":"(X832=Parametros[Segmento])*(Y832>0)*(Z832>0)","v":0}]
[null,null,"Instrumentos de deuda o patrimonio al valor razonable con cambios en resultados ",{"$nulls":4},0,{"$nulls":15},"Partidas",1,40.1,{"$f":"(X833=Parametros[Segmento])*(Y833>0)*(Z833>0)","v":0}]
[null,null,"Instrumentos de deuda o patrimonio al valor razonable con cambios en el ORI",{"$nulls":4},0,{"$nulls":15},"Partidas",1,40.1,{"$f":"(X834=Parametros[Segmento])*(Y834>0)*(Z834>0)","v":0}]
[null,null,"Instrumentos financieros derivados con \nfines de negociación ",{"$nulls":4},0,{"$nulls":15},"Partidas",1,40.1,{"$f":"(X835=Parametros[Segmento])*(Y835>0)*(Z835>0)","v":0}]
[null,null,"Instrumentos financieros derivados con \nfines de cobertura",{"$nulls":4},0,{"$nulls":15},"Partidas",1,40.1,{"$f":"(X836=Parametros[Segmento])*(Y836>0)*(Z836>0)","v":0}]
[null,null,"Derechos fiduciarios ",{"$nulls":4},0,{"$nulls":15},"Partidas",1,30,{"$f":"(X837=Parametros[Segmento])*(Y837>0)*(Z837>0)","v":0}]
[null,null,"Otros ",{"$nulls":4},0,{"$nulls":15},"Partidas",1,30,{"$f":"(X838=Parametros[Segmento])*(Y838>0)*(Z838>0)","v":0}]
[null,null,"Deterioro acumulado de las Inversiones e Instrumentos Derivados",{"$nulls":4},{"$f":"G839","v":0},{"$nulls":15},"Partidas",1,40.1,{"$f":"(X839=Parametros[Segmento])*(Y839>0)*(Z839>0)","v":0}]
[null,null,"Cuentas por Cobrar ",null,{"$f":"+SUM(D841:D853)-D854","v":0},{"$nulls":3},{"$f":"+SUM(H841:H853)-H854","v":0},{"$nulls":14},"Partidas",1,30,{"$f":"(X840=Parametros[Segmento])*(Y840>0)*(Z840>0)","v":0}]
[null,null,"Cartera de crédito (préstamos bancarios)",{"$nulls":4},{"$f":"+D841+F841-G841","v":0},{"$nulls":15},"Partidas",1,30,{"$f":"(X841=Parametros[Segmento])*(Y841>0)*(Z841>0)","v":0}]
[null,null,"Cuentas comerciales por cobrar ",{"$nulls":4},0,{"$nulls":15},"Partidas",1,30,{"$f":"(X842=Parametros[Segmento])*(Y842>0)*(Z842>0)","v":0}]
[null,null,"Cuentas por cobrar en acuerdos de concesión (modelos del activo financiero) ",{"$nulls":4},0,{"$nulls":15},"Partidas",1,40.1,{"$f":"(X843=Parametros[Segmento])*(Y843>0)*(Z843>0)","v":0}]
[null,null,"Arrendamiento financiero o leasing financiero ",{"$nulls":4},0,{"$nulls":15},"Partidas",1,30,{"$f":"(X844=Parametros[Segmento])*(Y844>0)*(Z844>0)","v":0}]
[null,null,"Dividendos y participaciones ",{"$nulls":4},0,{"$nulls":15},"Partidas",1,30,{"$f":"(X845=Parametros[Segmento])*(Y845>0)*(Z845>0)","v":0}]
[null,null,"Cuentas por cobrar a socios, accionistas o partícipes ",{"$nulls":4},0,{"$nulls":15},"Partidas",1,40.1,{"$f":"(X846=Parametros[Segmento])*(Y846>0)*(Z846>0)","v":0}]
[null,null,"Cuentas y documentos por cobrar a otras partes relacionadas y asociadas ",{"$nulls":4},0,{"$nulls":15},"Partidas",1,40.1,{"$f":"(X847=Parametros[Segmento])*(Y847>0)*(Z847>0)","v":0}]
[null,null,"Primas de seguros por recaudar ",{"$nulls":4},0,{"$nulls":15},"Partidas",1,30,{"$f":"(X848=Parametros[Segmento])*(Y848>0)*(Z848>0)","v":0}]
[null,null,"Cartera de difícil cobro ",{"$nulls":4},0,{"$nulls":15},"Partidas",1,30,{"$f":"(X849=Parametros[Segmento])*(Y849>0)*(Z849>0)","v":0}]
[null,null,"Reclamaciones por cobrar ",{"$nulls":4},0,{"$nulls":15},"Partidas",1,30,{"$f":"(X850=Parametros[Segmento])*(Y850>0)*(Z850>0)","v":0}]
[null,null,"Anticipos de pagos ",{"$nulls":4},0,{"$nulls":15},"Partidas",1,30,{"$f":"(X851=Parametros[Segmento])*(Y851>0)*(Z851>0)","v":0}]
[null,null,"Otras cuentas y documentos por cobrar ",{"$nulls":4},0,{"$nulls":15},"Partidas",1,30,{"$f":"(X852=Parametros[Segmento])*(Y852>0)*(Z852>0)","v":0}]
[null,null,"Otras cuentas por cobrar",{"$nulls":4},0,{"$nulls":15},"Partidas",1,30,{"$f":"(X853=Parametros[Segmento])*(Y853>0)*(Z853>0)","v":0}]
[null,null,"Deterioro acumulado de las cuentas por \ncobrar",{"$nulls":4},{"$f":"G854","v":0},{"$nulls":15},"Partidas",1,40.1,{"$f":"(X854=Parametros[Segmento])*(Y854>0)*(Z854>0)","v":0}]
[null,null,"Cuentas por Cobrar (Venta de bienes poseídos por menos de dos años)",null,{"$f":"+SUM(D856:D866)-D867","v":0},{"$nulls":3},{"$f":"+SUM(H856:H866)-H867","v":0},{"$nulls":14},"Partidas",1,30,{"$f":"(X855=Parametros[Segmento])*(Y855>0)*(Z855>0)","v":0}]
[null,null,"Propiedad 1 ",{"$nulls":4},{"$f":"+D856+F856-G856","v":0},{"$nulls":14},{"$f":"SUBSTITUTE($C$855,CHAR(10),\"\")","v":"Cuentas por Cobrar (Venta de bienes poseídos por menos de dos años)"},"Partidas",{"$f":"(W856=OFFSET(W856,1,0))*1","v":1},40.1,{"$f":"(X856=Parametros[Segmento])*(Y856>0)*(Z856>0)","v":0}]
[{"$nulls":7},0,{"$nulls":14},{"$f":"SUBSTITUTE($C$855,CHAR(10),\"\")","v":"Cuentas por Cobrar (Venta de bienes poseídos por menos de dos años)"},"Partidas",0,40.1,{"$f":"(X857=Parametros[Segmento])*(Y857>0)*(Z857>0)","v":0}]
[null,null,"Cuentas por Cobrar (Venta de bienes poseídos por dos años o más)",null,{"$f":"+SUM(D859:D869)-D870","v":0},{"$nulls":3},{"$f":"+SUM(H859:H869)-H870","v":0},{"$nulls":14},"Partidas",1,30,{"$f":"(X858=Parametros[Segmento])*(Y858>0)*(Z858>0)","v":0}]
[null,null,"Propiedad 1 ",{"$nulls":4},{"$f":"+D859+F859-G859","v":0},{"$nulls":14},{"$f":"SUBSTITUTE($C$858,CHAR(10),\"\")","v":"Cuentas por Cobrar (Venta de bienes poseídos por dos años o más)"},"Partidas",1,40.1,{"$f":"(X859=Parametros[Segmento])*(Y859>0)*(Z859>0)","v":0}]
[{"$nulls":7},0,{"$nulls":14},{"$f":"SUBSTITUTE($C$858,CHAR(10),\"\")","v":"Cuentas por Cobrar (Venta de bienes poseídos por dos años o más)"},"Partidas",0,40.1,{"$f":"(X860=Parametros[Segmento])*(Y860>0)*(Z860>0)","v":0}]
[null,null,"Inventarios",null,{"$f":"+SUM(D862:D872)-D873","v":0},{"$nulls":3},{"$f":"+SUM(H862:H872)-H873","v":0},{"$nulls":14},"Partidas",1,30,{"$f":"(X861=Parametros[Segmento])*(Y861>0)*(Z861>0)","v":0}]
[null,null,"Inventarios para la venta no producidos por la empresa ",{"$nulls":4},{"$f":"+D862+F862-G862","v":0},{"$nulls":15},"Partidas",1,40.1,{"$f":"(X862=Parametros[Segmento])*(Y862>0)*(Z862>0)","v":0}]
[null,null,"Inventarios en proceso (diferentes de obras o inmuebles en construcción para la venta)",{"$nulls":4},0,{"$nulls":15},"Partidas",1,40.1,{"$f":"(X863=Parametros[Segmento])*(Y863>0)*(Z863>0)","v":0}]
[null,null,"Materias primas, suministros y materiales",{"$nulls":4},0,{"$nulls":15},"Partidas",1,30,{"$f":"(X864=Parametros[Segmento])*(Y864>0)*(Z864>0)","v":0}]
[null,null,"Inventarios en tránsito ",{"$nulls":4},0,{"$nulls":15},"Partidas",1,30,{"$f":"(X865=Parametros[Segmento])*(Y865>0)*(Z865>0)","v":0}]
[null,null,"Obras o inmuebles en construcción para la venta",{"$nulls":4},0,{"$nulls":15},"Partidas",1,30,{"$f":"(X866=Parametros[Segmento])*(Y866>0)*(Z866>0)","v":0}]
[null,null,"Obras o inmuebles terminados para la venta",{"$nulls":4},0,{"$nulls":15},"Partidas",1,30,{"$f":"(X867=Parametros[Segmento])*(Y867>0)*(Z867>0)","v":0}]
[null,null,"Producto terminado (diferentes de obras o inmuebles terminados para la venta)",{"$nulls":4},0,{"$nulls":15},"Partidas",1,40.1,{"$f":"(X868=Parametros[Segmento])*(Y868>0)*(Z868>0)","v":0}]
[null,null,"Piezas de repuesto y equipo auxiliar clasificados como inventarios",{"$nulls":4},0,{"$nulls":15},"Partidas",1,40.1,{"$f":"(X869=Parametros[Segmento])*(Y869>0)*(Z869>0)","v":0}]
[null,null,"Inventario que surge de la actividad de extracción",{"$nulls":4},0,{"$nulls":15},"Partidas",1,30,{"$f":"(X870=Parametros[Segmento])*(Y870>0)*(Z870>0)","v":0}]
[null,null,"Costos prestadores de servicios",{"$nulls":4},0,{"$nulls":15},"Partidas",1,30,{"$f":"(X871=Parametros[Segmento])*(Y871>0)*(Z871>0)","v":0}]
[null,null,"Otros inventarios no mencionados anteriormente",{"$nulls":4},0,{"$nulls":15},"Partidas",1,30,{"$f":"(X872=Parametros[Segmento])*(Y872>0)*(Z872>0)","v":0}]
[null,null,"Deterioro acumulado de los inventarios",{"$nulls":4},{"$f":"G873","v":0},{"$nulls":15},"Partidas",1,30,{"$f":"(X873=Parametros[Segmento])*(Y873>0)*(Z873>0)","v":0}]
[null,null,"Propiedad, Planta y Equipo ",null,{"$f":"+SUM(D875:D881)-D882-D883","v":0},{"$nulls":3},{"$f":"+SUM(H875:H881)-H882-H883","v":0},{"$nulls":14},"Partidas",1,30,{"$f":"(X874=Parametros[Segmento])*(Y874>0)*(Z874>0)","v":0}]
[null,null,"Terrenos ",{"$nulls":4},{"$f":"+D875+F875-G875","v":0},{"$nulls":15},"Partidas",1,30,{"$f":"(X875=Parametros[Segmento])*(Y875>0)*(Z875>0)","v":0}]
[null,null,"Construcciones en proceso",{"$nulls":4},0,{"$nulls":15},"Partidas",1,30,{"$f":"(X876=Parametros[Segmento])*(Y876>0)*(Z876>0)","v":0}]
[null,null,"Edificios - Al costo ",{"$nulls":4},0,{"$nulls":15},"Partidas",1,30,{"$f":"(X877=Parametros[Segmento])*(Y877>0)*(Z877>0)","v":0}]
[null,null,"Edificios - Ajuste acumulado por revaluaciones o reexpresiones",{"$nulls":4},0,{"$nulls":15},"Partidas",1,40.1,{"$f":"(X878=Parametros[Segmento])*(Y878>0)*(Z878>0)","v":0}]
[null,null,"Otras propiedades, plantas y equipo - Al costo",{"$nulls":4},0,{"$nulls":15},"Partidas",1,30,{"$f":"(X879=Parametros[Segmento])*(Y879>0)*(Z879>0)","v":0}]
[null,null,"Otras propiedades, plantas y equipo - Ajuste acumulado por revaluaciones o reexpresiones",{"$nulls":4},0,{"$nulls":15},"Partidas",1,40.1,{"$f":"(X880=Parametros[Segmento])*(Y880>0)*(Z880>0)","v":0}]
[null,null,"Activos tangibles para exploración y evaluación de recursos minerales",{"$nulls":4},0,{"$nulls":15},"Partidas",1,40.1,{"$f":"(X881=Parametros[Segmento])*(Y881>0)*(Z881>0)","v":0}]
[null,null,"Depreciación acumulada de las Propiedades, Planta y Equipo",{"$nulls":4},{"$f":"G882","v":0},{"$nulls":15},"Partidas",1,40.1,{"$f":"(X882=Parametros[Segmento])*(Y882>0)*(Z882>0)","v":0}]
[null,null,"Deterioro acumulado de las Propiedades, \nPlanta y Equipo",{"$nulls":4},{"$f":"G883","v":0},{"$nulls":15},"Partidas",1,40.1,{"$f":"(X883=Parametros[Segmento])*(Y883>0)*(Z883>0)","v":0}]
[null,null,"Propiedad, Planta y Equipo (venta de bienes inmuebles poseídos por menos de dos años)",null,{"$f":"+SUM(D885:D895)-D896","v":0},{"$nulls":3},{"$f":"+SUM(H885:H895)-H896","v":0},{"$nulls":14},"Partidas",1,30,{"$f":"(X884=Parametros[Segmento])*(Y884>0)*(Z884>0)","v":0}]
[{"$nulls":7},{"$f":"+D885+F885-G885","v":0},{"$nulls":14},{"$f":"SUBSTITUTE($C$884,CHAR(10),\"\")","v":"Propiedad, Planta y Equipo (venta de bienes inmuebles poseídos por menos de dos años)"},"Partidas",{"$f":"(W885=OFFSET(W885,1,0))*1","v":1},40.1,{"$f":"(X885=Parametros[Segmento])*(Y885>0)*(Z885>0)","v":0}]
[{"$nulls":7},0,{"$nulls":14},{"$f":"SUBSTITUTE($C$884,CHAR(10),\"\")","v":"Propiedad, Planta y Equipo (venta de bienes inmuebles poseídos por menos de dos años)"},"Partidas",0,40.1,{"$f":"(X886=Parametros[Segmento])*(Y886>0)*(Z886>0)","v":0}]
[null,null,"Propiedad, Planta y Equipo (venta de bienes inmuebles poseídos por dos años o más)",null,{"$f":"+SUM(D888:D898)-D899","v":0},{"$nulls":3},{"$f":"+SUM(H888:H898)-H899","v":0},{"$nulls":14},"Partidas",1,30,{"$f":"(X887=Parametros[Segmento])*(Y887>0)*(Z887>0)","v":0}]
[{"$nulls":7},{"$f":"+D888+F888-G888","v":0},{"$nulls":14},{"$f":"SUBSTITUTE($C$887,CHAR(10),\"\")","v":"Propiedad, Planta y Equipo (venta de bienes inmuebles poseídos por dos años o más)"},"Partidas",{"$f":"(W888=OFFSET(W888,1,0))*1","v":1},40.1,{"$f":"(X888=Parametros[Segmento])*(Y888>0)*(Z888>0)","v":0}]
[{"$nulls":7},0,{"$nulls":14},{"$f":"SUBSTITUTE($C$887,CHAR(10),\"\")","v":"Propiedad, Planta y Equipo (venta de bienes inmuebles poseídos por dos años o más)"},"Partidas",0,40.1,{"$f":"(X889=Parametros[Segmento])*(Y889>0)*(Z889>0)","v":0}]
[null,null,"Activos Intangibles",null,{"$f":"+SUM(D891:D902)-D903-D904","v":0},{"$nulls":3},{"$f":"+SUM(H891:H902)-H903-H904","v":0},{"$nulls":14},"Partidas",1,30,{"$f":"(X890=Parametros[Segmento])*(Y890>0)*(Z890>0)","v":0}]
[null,null,"Acuerdos de concesión (modelo del activo intangible)",{"$nulls":4},{"$f":"+D891+F891-G891","v":0},{"$nulls":15},"Partidas",1,40.1,{"$f":"(X891=Parametros[Segmento])*(Y891>0)*(Z891>0)","v":0}]
[null,null,"Activos intangibles exploración y evaluación de recursos minerales",{"$nulls":4},0,{"$nulls":15},"Partidas",1,40.1,{"$f":"(X892=Parametros[Segmento])*(Y892>0)*(Z892>0)","v":0}]
[null,null,"Marcas, patentes, licencias y otros derechos - Al costo",{"$nulls":4},0,{"$nulls":15},"Partidas",1,40.1,{"$f":"(X893=Parametros[Segmento])*(Y893>0)*(Z893>0)","v":0}]
[null,null,"Marcas, patentes, licencias y otros derechos - Ajuste acumulado por revaluaciones o reexpresiones",{"$nulls":4},0,{"$nulls":15},"Partidas",1,40.1,{"$f":"(X894=Parametros[Segmento])*(Y894>0)*(Z894>0)","v":0}]
[null,null,"Arrendamiento Financiero - Al costo",{"$nulls":4},0,{"$nulls":15},"Partidas",1,30,{"$f":"(X895=Parametros[Segmento])*(Y895>0)*(Z895>0)","v":0}]
[null,null,"Arrendamiento Financiero - Ajuste acumulado por revaluaciones o reexpresiones",{"$nulls":4},0,{"$nulls":15},"Partidas",1,40.1,{"$f":"(X896=Parametros[Segmento])*(Y896>0)*(Z896>0)","v":0}]
[null,null,"Otros activos intangibles - Al costo",{"$nulls":4},0,{"$nulls":15},"Partidas",1,30,{"$f":"(X897=Parametros[Segmento])*(Y897>0)*(Z897>0)","v":0}]
[null,null,"Otros activos intangibles - Ajuste acumulado por revaluaciones o reexpresiones",{"$nulls":4},0,{"$nulls":15},"Partidas",1,40.1,{"$f":"(X898=Parametros[Segmento])*(Y898>0)*(Z898>0)","v":0}]
[null,null,"Plusvalía o Good Will - Adquisición de establecimiento de comercio",{"$nulls":4},0,{"$nulls":15},"Partidas",1,40.1,{"$f":"(X899=Parametros[Segmento])*(Y899>0)*(Z899>0)","v":0}]
[null,null,"Plusvalía o Good Will - Fusiones",{"$nulls":4},0,{"$nulls":15},"Partidas",1,30,{"$f":"(X900=Parametros[Segmento])*(Y900>0)*(Z900>0)","v":0}]
[null,null,"Plusvalía o Good Will - Escisiones",{"$nulls":4},0,{"$nulls":15},"Partidas",1,30,{"$f":"(X901=Parametros[Segmento])*(Y901>0)*(Z901>0)","v":0}]
[null,null,"Plusvalía o Good Will - Compras de Acciones ",{"$nulls":4},0,{"$nulls":15},"Partidas",1,30,{"$f":"(X902=Parametros[Segmento])*(Y902>0)*(Z902>0)","v":0}]
[null,null,"Amortización acumulada activos intangibles",{"$nulls":4},{"$f":"G903","v":0},{"$nulls":15},"Partidas",1,30,{"$f":"(X903=Parametros[Segmento])*(Y903>0)*(Z903>0)","v":0}]
[null,null,"Deterioro acumulado activos intangibles",{"$nulls":4},{"$f":"G904","v":0},{"$nulls":15},"Partidas",1,30,{"$f":"(X904=Parametros[Segmento])*(Y904>0)*(Z904>0)","v":0}]
[null,null,"Propiedades de Inversión",null,{"$f":"+SUM(D906:D911)-D912-D913","v":0},{"$nulls":3},{"$f":"+SUM(H906:H911)-H912-H913","v":0},{"$nulls":14},"Partidas",1,30,{"$f":"(X905=Parametros[Segmento])*(Y905>0)*(Z905>0)","v":0}]
[null,null,"Terrenos - Al costo",{"$nulls":4},{"$f":"+D906+F906-G906","v":0},{"$nulls":15},"Partidas",1,30,{"$f":"(X906=Parametros[Segmento])*(Y906>0)*(Z906>0)","v":0}]
[null,null,"Terrenos - Al valor razonable",{"$nulls":4},0,{"$nulls":15},"Partidas",1,30,{"$f":"(X907=Parametros[Segmento])*(Y907>0)*(Z907>0)","v":0}]
[null,null,"Edificaciones - Al costo",{"$nulls":4},0,{"$nulls":15},"Partidas",1,30,{"$f":"(X908=Parametros[Segmento])*(Y908>0)*(Z908>0)","v":0}]
[null,null,"Edificaciones - A valor razonable",{"$nulls":4},0,{"$nulls":15},"Partidas",1,30,{"$f":"(X909=Parametros[Segmento])*(Y909>0)*(Z909>0)","v":0}]
[null,null,"Otras propiedades de inversión - Al costo",{"$nulls":4},0,{"$nulls":15},"Partidas",1,30,{"$f":"(X910=Parametros[Segmento])*(Y910>0)*(Z910>0)","v":0}]
[null,null,"Otras propiedades de inversión - Al valor razonable",{"$nulls":4},0,{"$nulls":15},"Partidas",1,30,{"$f":"(X911=Parametros[Segmento])*(Y911>0)*(Z911>0)","v":0}]
[null,null,"Depreciación acumulada propiedades de \ninversión ",{"$nulls":4},{"$f":"G912","v":0},{"$nulls":15},"Partidas",1,30,{"$f":"(X912=Parametros[Segmento])*(Y912>0)*(Z912>0)","v":0}]
[null,null,"Deterioro acumulado propiedades de \ninversión ",{"$nulls":4},{"$f":"G913","v":0},{"$nulls":15},"Partidas",1,30,{"$f":"(X913=Parametros[Segmento])*(Y913>0)*(Z913>0)","v":0}]
[null,null,"Activos Biológicos",null,{"$f":"+SUM(D915:D924)-D925-D926","v":0},{"$nulls":3},{"$f":"+SUM(H915:H924)-H925-H926","v":0},{"$nulls":14},"Partidas",1,30,{"$f":"(X914=Parametros[Segmento])*(Y914>0)*(Z914>0)","v":0}]
[null,null,"Animales productores medidos al costo",{"$nulls":4},{"$f":"+D915+F915-G915","v":0},{"$nulls":15},"Partidas",1,30,{"$f":"(X915=Parametros[Segmento])*(Y915>0)*(Z915>0)","v":0}]
[null,null,"Animales productores medidos al valor \nrazonable menos costos de venta",{"$nulls":4},0,{"$nulls":15},"Partidas",1,40.1,{"$f":"(X916=Parametros[Segmento])*(Y916>0)*(Z916>0)","v":0}]
[null,null,"Animales consumibles medidos al costo",{"$nulls":4},0,{"$nulls":15},"Partidas",1,30,{"$f":"(X917=Parametros[Segmento])*(Y917>0)*(Z917>0)","v":0}]
[null,null,"Animales consumibles medidos al valor \nrazonable menos costos de venta",{"$nulls":4},0,{"$nulls":15},"Partidas",1,40.1,{"$f":"(X918=Parametros[Segmento])*(Y918>0)*(Z918>0)","v":0}]
[null,null,"Plantas productoras medidas al costo",{"$nulls":4},0,{"$nulls":15},"Partidas",1,30,{"$f":"(X919=Parametros[Segmento])*(Y919>0)*(Z919>0)","v":0}]
[null,null,"Plantas productoras medidas al valor \nrazonable",{"$nulls":4},0,{"$nulls":15},"Partidas",1,40.1,{"$f":"(X920=Parametros[Segmento])*(Y920>0)*(Z920>0)","v":0}]
[null,null,"Cultivos consumibles medidos al costo",{"$nulls":4},0,{"$nulls":15},"Partidas",1,30,{"$f":"(X921=Parametros[Segmento])*(Y921>0)*(Z921>0)","v":0}]
[null,null,"Cultivos consumibles medidos al valor \nrazonable menos costos de venta",{"$nulls":4},0,{"$nulls":15},"Partidas",1,40.1,{"$f":"(X922=Parametros[Segmento])*(Y922>0)*(Z922>0)","v":0}]
[null,null,"Otros activos biológicos medidos al costo ",{"$nulls":4},0,{"$nulls":15},"Partidas",1,30,{"$f":"(X923=Parametros[Segmento])*(Y923>0)*(Z923>0)","v":0}]
[null,null,"Otros activos biológicos medidos al valor razonable ",{"$nulls":4},0,{"$nulls":15},"Partidas",1,30,{"$f":"(X924=Parametros[Segmento])*(Y924>0)*(Z924>0)","v":0}]
[null,null,"Depreciación acumulada activos biológicos",{"$nulls":4},{"$f":"G925","v":0},{"$nulls":15},"Partidas",1,30,{"$f":"(X925=Parametros[Segmento])*(Y925>0)*(Z925>0)","v":0}]
[null,null,"Deterioro acumulado activos biológicos",{"$nulls":4},{"$f":"G926","v":0},{"$nulls":15},"Partidas",1,30,{"$f":"(X926=Parametros[Segmento])*(Y926>0)*(Z926>0)","v":0}]
[null,null,"Activos no corrientes mantenidos para la venta y/o para distribuir a propietarios ",null,{"$f":"+SUM(D928:D929)-D930","v":0},{"$nulls":3},{"$f":"+SUM(H928:H929)-H930","v":0},{"$nulls":14},"Partidas",1,40.1,{"$f":"(X927=Parametros[Segmento])*(Y927>0)*(Z927>0)","v":0}]
[null,null,"Mantenidos para la venta",{"$nulls":4},{"$f":"+D928+F928-G928","v":0},{"$nulls":15},"Partidas",1,30,{"$f":"(X928=Parametros[Segmento])*(Y928>0)*(Z928>0)","v":0}]
[null,null,"Mantenidos para distribuir a propietarios",{"$nulls":4},{"$f":"+D929+F929-G929","v":0},{"$nulls":15},"Partidas",1,30,{"$f":"(X929=Parametros[Segmento])*(Y929>0)*(Z929>0)","v":0}]
[null,null,"Deterioro acumulado activos no corrientes \nmantenidos para la venta y/o para \ndistribuir a propietarios ",{"$nulls":4},{"$f":"G930","v":0},{"$nulls":15},"Partidas",1,55,{"$f":"(X930=Parametros[Segmento])*(Y930>0)*(Z930>0)","v":0}]
[null,null,"Activos reconocidos solamente para fines fiscales",null,{"$f":"SUM(D932:D933)","v":0},{"$nulls":3},{"$f":"SUM(H932:H933)","v":0},{"$nulls":14},"Partidas",1,30,{"$f":"(X931=Parametros[Segmento])*(Y931>0)*(Z931>0)","v":0}]
[null,null,"Cargos diferidos",{"$nulls":4},{"$f":"+D932+F932-G932","v":0},{"$nulls":15},"Partidas",1,30,{"$f":"(X932=Parametros[Segmento])*(Y932>0)*(Z932>0)","v":0}]
[null,null,"Otros activos reconocidos solamente para fines fiscales ",{"$nulls":4},{"$f":"+D933+F933-G933","v":0},{"$nulls":15},"Partidas",1,40.1,{"$f":"(X933=Parametros[Segmento])*(Y933>0)*(Z933>0)","v":0}]
[null,null,"Otros Activos ",null,{"$f":"+D935","v":0},{"$nulls":3},{"$f":"+H935","v":0},{"$nulls":14},"Partidas",1,30,{"$f":"(X934=Parametros[Segmento])*(Y934>0)*(Z934>0)","v":0}]
[null,null,"Otros activos ",{"$nulls":4},{"$f":"+D935+F935-G935","v":0},{"$nulls":15},"Partidas",1,30,{"$f":"(X935=Parametros[Segmento])*(Y935>0)*(Z935>0)","v":0}]
[null,null,"Pérdidas fiscales ",null,{"$f":"+SUM(D937)","v":0},{"$nulls":3},{"$f":"+SUM(H937)","v":0},{"$nulls":14},"Partidas",1,30,{"$f":"(X936=Parametros[Segmento])*(Y936>0)*(Z936>0)","v":0}]
[null,null,"Pérdidas fiscales por compensar",{"$nulls":4},{"$f":"+D937+F937-G937","v":0},{"$nulls":15},"Partidas",1,30,{"$f":"(X937=Parametros[Segmento])*(Y937>0)*(Z937>0)","v":0}]
[null,null,"Pasivos Financieros y Cuentas por Pagar ",null,{"$f":"+SUM(D939:D950)","v":0},{"$nulls":3},{"$f":"+SUM(H939:H950)","v":0},{"$nulls":14},"Partidas",1,30,{"$f":"(X938=Parametros[Segmento])*(Y938>0)*(Z938>0)","v":0}]
[null,null,"Obligaciones financieras en moneda local ",{"$nulls":4},{"$f":"+D939+F939-G939","v":0},{"$nulls":15},"Partidas",1,30,{"$f":"(X939=Parametros[Segmento])*(Y939>0)*(Z939>0)","v":0}]
[null,null,"Obligaciones financieras en moneda extranjera",{"$nulls":4},0,{"$nulls":15},"Partidas",1,30,{"$f":"(X940=Parametros[Segmento])*(Y940>0)*(Z940>0)","v":0}]
[null,null,"Depósitos y exigibilidades",{"$nulls":4},0,{"$nulls":15},"Partidas",1,30,{"$f":"(X941=Parametros[Segmento])*(Y941>0)*(Z941>0)","v":0}]
[null,null,"Cuentas comerciales por pagar en moneda local",{"$nulls":4},0,{"$nulls":15},"Partidas",1,30,{"$f":"(X942=Parametros[Segmento])*(Y942>0)*(Z942>0)","v":0}]
[null,null,"Cuentas comerciales por pagar en moneda extranjera",{"$nulls":4},0,{"$nulls":15},"Partidas",1,40.1,{"$f":"(X943=Parametros[Segmento])*(Y943>0)*(Z943>0)","v":0}]
[null,null,"Dividendos y participaciones por pagar",{"$nulls":4},0,{"$nulls":15},"Partidas",1,30,{"$f":"(X944=Parametros[Segmento])*(Y944>0)*(Z944>0)","v":0}]
[null,null,"Cuentas por pagar a socios, accionistas o partícipes",{"$nulls":4},0,{"$nulls":15},"Partidas",1,30,{"$f":"(X945=Parametros[Segmento])*(Y945>0)*(Z945>0)","v":0}]
[null,null,"Cuentas y documentos por pagar a otras partes relacionadas y asociadas",{"$nulls":4},0,{"$nulls":15},"Partidas",1,40.1,{"$f":"(X946=Parametros[Segmento])*(Y946>0)*(Z946>0)","v":0}]
[null,null,"Reserva matemática y/o técnica y otros pasivos exclusivos en compañías de seguros",{"$nulls":4},0,{"$nulls":15},"Partidas",1,40.1,{"$f":"(X947=Parametros[Segmento])*(Y947>0)*(Z947>0)","v":0}]
[null,null,"Recaudo a favor de terceros",{"$nulls":4},0,{"$nulls":15},"Partidas",1,30,{"$f":"(X948=Parametros[Segmento])*(Y948>0)*(Z948>0)","v":0}]
[null,null,"Otras cuentas y documentos por pagar en moneda local",{"$nulls":4},0,{"$nulls":15},"Partidas",1,40.1,{"$f":"(X949=Parametros[Segmento])*(Y949>0)*(Z949>0)","v":0}]
[null,null,"Otras cuentas y documentos por pagar en moneda extranjera",{"$nulls":4},0,{"$nulls":15},"Partidas",1,40.1,{"$f":"(X950=Parametros[Segmento])*(Y950>0)*(Z950>0)","v":0}]
[null,null,"Impuestos, Gravámenes y Tasas ",null,{"$f":"+SUM(D952:D954)","v":0},{"$nulls":3},{"$f":"+SUM(H952:H954)","v":0},{"$nulls":14},"Partidas",1,30,{"$f":"(X951=Parametros[Segmento])*(Y951>0)*(Z951>0)","v":0}]
[null,null,"Impuesto de renta ",{"$nulls":4},{"$f":"+D952+F952-G952","v":0},{"$nulls":15},"Partidas",1,30,{"$f":"(X952=Parametros[Segmento])*(Y952>0)*(Z952>0)","v":0}]
[null,null,"Impuesto a las ventas - IVA ",{"$nulls":4},{"$f":"+D953+F953-G953","v":0},{"$nulls":15},"Partidas",1,30,{"$f":"(X953=Parametros[Segmento])*(Y953>0)*(Z953>0)","v":0}]
[null,null,"Otros impuestos, gravámenes y tasas por pagar ",{"$nulls":4},{"$f":"+D954+F954-G954","v":0},{"$nulls":15},"Partidas",1,30,{"$f":"(X954=Parametros[Segmento])*(Y954>0)*(Z954>0)","v":0}]
[null,null,"Beneficios a Empleados",null,{"$f":"+SUM(D956:D959)","v":0},{"$nulls":3},{"$f":"+SUM(H956:H959)","v":0},{"$nulls":14},"Partidas",1,30,{"$f":"(X955=Parametros[Segmento])*(Y955>0)*(Z955>0)","v":0}]
[null,null,"De corto plazo ",{"$nulls":4},{"$f":"+D956+F956-G956","v":0},{"$nulls":15},"Partidas",1,30,{"$f":"(X956=Parametros[Segmento])*(Y956>0)*(Z956>0)","v":0}]
[null,null,"De largo plazo",{"$nulls":4},{"$f":"+D957+F957-G957","v":0},{"$nulls":15},"Partidas",1,30,{"$f":"(X957=Parametros[Segmento])*(Y957>0)*(Z957>0)","v":0}]
[null,null,"Por terminación de vínculo laboral o contractual",{"$nulls":4},{"$f":"+D958+F958-G958","v":0},{"$nulls":15},"Partidas",1,30,{"$f":"(X958=Parametros[Segmento])*(Y958>0)*(Z958>0)","v":0}]
[null,null,"Post empleo",{"$nulls":4},{"$f":"+D959+F959-G959","v":0},{"$nulls":15},"Partidas",1,30,{"$f":"(X959=Parametros[Segmento])*(Y959>0)*(Z959>0)","v":0}]
[null,null,"Provisiones",null,{"$f":"+SUM(D961:D971)","v":0},{"$nulls":3},{"$f":"+SUM(H961:H971)","v":0},{"$nulls":14},"Partidas",1,30,{"$f":"(X960=Parametros[Segmento])*(Y960>0)*(Z960>0)","v":0}]
[null,null,"Procesos legales (litigios y demandas)",{"$nulls":4},{"$f":"+D961+F961-G961","v":0},{"$nulls":15},"Partidas",1,30,{"$f":"(X961=Parametros[Segmento])*(Y961>0)*(Z961>0)","v":0}]
[null,null,"Mantenimiento y reparaciones",{"$nulls":4},0,{"$nulls":15},"Partidas",1,30,{"$f":"(X962=Parametros[Segmento])*(Y962>0)*(Z962>0)","v":0}]
[null,null,"Obligaciones fiscales ",{"$nulls":4},0,{"$nulls":15},"Partidas",1,30,{"$f":"(X963=Parametros[Segmento])*(Y963>0)*(Z963>0)","v":0}]
[null,null,"Desmantelamientos, restauración y rehabilitación ",{"$nulls":4},0,{"$nulls":15},"Partidas",1,30,{"$f":"(X964=Parametros[Segmento])*(Y964>0)*(Z964>0)","v":0}]
[null,null,"Garantías ",{"$nulls":4},0,{"$nulls":15},"Partidas",1,30,{"$f":"(X965=Parametros[Segmento])*(Y965>0)*(Z965>0)","v":0}]
[null,null,"Contratos onerosos",{"$nulls":4},0,{"$nulls":15},"Partidas",1,30,{"$f":"(X966=Parametros[Segmento])*(Y966>0)*(Z966>0)","v":0}]
[null,null,"Reembolsos a clientes",{"$nulls":4},0,{"$nulls":15},"Partidas",1,30,{"$f":"(X967=Parametros[Segmento])*(Y967>0)*(Z967>0)","v":0}]
[null,null,"Reestructuraciones de negocios ",{"$nulls":4},0,{"$nulls":15},"Partidas",1,30,{"$f":"(X968=Parametros[Segmento])*(Y968>0)*(Z968>0)","v":0}]
[null,null,"Pasivos contingentes asumidos en una combinación de negocios ",{"$nulls":4},0,{"$nulls":15},"Partidas",1,40.1,{"$f":"(X969=Parametros[Segmento])*(Y969>0)*(Z969>0)","v":0}]
[null,null,"Relacionadas con el medio ambiente ",{"$nulls":4},0,{"$nulls":15},"Partidas",1,30,{"$f":"(X970=Parametros[Segmento])*(Y970>0)*(Z970>0)","v":0}]
[null,null,"Otras provisiones ",{"$nulls":4},0,{"$nulls":15},"Partidas",1,30,{"$f":"(X971=Parametros[Segmento])*(Y971>0)*(Z971>0)","v":0}]
[null,null,"Otros Pasivos, Anticipos y Avances Recibidos",null,{"$f":"+SUM(D973:D976)","v":0},{"$nulls":3},{"$f":"+SUM(H973:H976)","v":0},{"$nulls":14},"Partidas",1,30,{"$f":"(X972=Parametros[Segmento])*(Y972>0)*(Z972>0)","v":0}]
[null,null,"Arrendamientos por pagar ",{"$nulls":4},{"$f":"+D973+F973-G973","v":0},{"$nulls":15},"Partidas",1,30,{"$f":"(X973=Parametros[Segmento])*(Y973>0)*(Z973>0)","v":0}]
[null,null,"Otros pasivos financieros ",{"$nulls":4},{"$f":"+D974+F974-G974","v":0},{"$nulls":15},"Partidas",1,30,{"$f":"(X974=Parametros[Segmento])*(Y974>0)*(Z974>0)","v":0}]
[null,null,"Pasivos por ingresos diferidos ",{"$nulls":4},{"$f":"+D975+F975-G975","v":0},{"$nulls":15},"Partidas",1,30,{"$f":"(X975=Parametros[Segmento])*(Y975>0)*(Z975>0)","v":0}]
[null,null,"Otros pasivos ",{"$nulls":4},{"$f":"+D976+F976-G976","v":0},{"$nulls":15},"Partidas",1,30,{"$f":"(X976=Parametros[Segmento])*(Y976>0)*(Z976>0)","v":0}]
[null,null,"Pasivos reconocidos solamente para fines fiscales",null,{"$f":"+SUM(D978)","v":0},{"$nulls":3},{"$f":"+SUM(H978)","v":0},{"$nulls":14},"Partidas",1,30,{"$f":"(X977=Parametros[Segmento])*(Y977>0)*(Z977>0)","v":0}]
[null,null,"Pasivos reconocidos para fines fiscales",{"$nulls":4},{"$f":"+D978+F978-G978","v":0},{"$nulls":15},"Partidas",1,30,{"$f":"(X978=Parametros[Segmento])*(Y978>0)*(Z978>0)","v":0}]
[{"$nulls":4},{"$f":"SUM(E820:E978)","v":0},{"$f":"SUM(F820:F978)","v":0},{"$f":"SUM(G820:G978)","v":0},{"$f":"SUM(H820:H978)","v":0},{"$f":"SUM(I820:I978)","v":0},{"$nulls":14},"Partidas",1,30,{"$f":"(X979=Parametros[Segmento])*(Y979>0)*(Z979>0)","v":0}]
[1,2.22,43,19.78,19.78,19.78,19.78,19.78,19.78,{"$f":"IF($F$54=Listas!$C$3,19.78,0)","v":0},{"$f":"IF($F$54=Listas!$C$2,19.78,0)","v":0},19.78,19.78,19.78,4,{"$nulls":8},"Impuesto Diferido",null,20,{"$f":"(X980=Parametros[Segmento])*(Y980>0)*(Z980>0)","v":0}]
[{"$nulls":23},"Impuesto Diferido",1,10,{"$f":"(X981=Parametros[Segmento])*(Y981>0)*(Z981>0)","v":0}]
[{"$nulls":23},"Impuesto Diferido",1,30,{"$f":"(X982=Parametros[Segmento])*(Y982>0)*(Z982>0)","v":0}]
[null,null,"Activos y pasivos por impuesto diferido",{"$nulls":20},"Impuesto Diferido",1,30,{"$f":"(X983=Parametros[Segmento])*(Y983>0)*(Z983>0)","v":0}]
[null,null,"Concepto","Base \ncontable","Base Fiscal","Valor de la Diferencia","Tipo \nde \nDiferencia","Diferencia Temporaria","Diferencia Permanente","Tarifa \nAplicable","Tarifa Aplicable","Saldo impuesto diferido a \n31 de dic. \nvigencia  actual Ajustado","Saldo impuesto diferido a \n31 de dic. \nvigencia  anterior","Variación",{"$nulls":9},"Impuesto Diferido",1,45,{"$f":"(X984=Parametros[Segmento])*(Y984>0)*(Z984>0)","v":0}]
[{"$nulls":23},"Impuesto Diferido",1,45,{"$f":"(X985=Parametros[Segmento])*(Y985>0)*(Z985>0)","v":0}]
[null,null,"Activo diferido (diferencias temporarias deducibles)",{"$nulls":20},"Impuesto Diferido",1,30,{"$f":"(X986=Parametros[Segmento])*(Y986>0)*(Z986>0)","v":0}]
[null,null,"Efectivo y equivalentes al efectivo",{"$f":"IF(' '!$F$55=\"Detallada\",IF(' '!E106>' '!D106,' '!D106,0),IF(' '!I820>' '!E820,' '!E820,0))","v":0},{"$f":"IF(' '!$F$55=\"Detallada\",IF(' '!E106>' '!D106,' '!E106,0),IF(' '!I820>' '!E820,' '!I820,0))","v":0},{"$f":"+IF((D987>E987),0,IF((E987>D987),(E987-D987),0))","v":0},null,{"$f":"+IF(G987=\"Temporaria\",F987,0)","v":0},{"$f":"+IF(G987=\"Permanente\",F987,0)","v":0},{"$f":"+IF(AND(H987>0,' '!$F$54=\"No\"),' '!$F$53,\"\")","v":""},null,{"$f":"IF(' '!$F$54=\"Sí\",IF(H987>0,H987*K987,0),IF(H987>0,H987*J987,0))","v":0},{"$f":"+' '!E62","v":0},{"$f":"+L987-M987","v":0},{"$nulls":9},"Impuesto Diferido",1,30,{"$f":"(X987=Parametros[Segmento])*(Y987>0)*(Z987>0)","v":0}]
[null,null,"Inversiones e instrumentos derivados",{"$f":"IF(' '!$F$55=\"Detallada\",IF(' '!E159>' '!D159,' '!D159,0),IF(' '!I825>' '!E825,' '!E825,0))","v":0},{"$f":"IF(' '!$F$55=\"Detallada\",IF(' '!E159>' '!D159,' '!E159,0),IF(' '!I825>' '!E825,' '!I825,0))","v":0},0,null,0,0,{"$f":"+IF(AND(H988>0,' '!$F$54=\"No\"),' '!$F$53,\"\")","v":""},null,{"$f":"IF(' '!$F$54=\"Sí\",IF(H988>0,H988*K988,0),IF(H988>0,H988*J988,0))","v":0},{"$f":"+' '!E63","v":0},0,{"$nulls":9},"Impuesto Diferido",1,30,{"$f":"(X988=Parametros[Segmento])*(Y988>0)*(Z988>0)","v":0}]
[null,null,"Cuentas por cobrar",{"$f":"IF(' '!$F$55=\"Detallada\",IF(' '!E219>' '!D219,' '!D219,0),IF(' '!I840>' '!E840,' '!E840,0))","v":0},{"$f":"IF(' '!$F$55=\"Detallada\",IF(' '!E219>' '!D219,' '!E219,0),IF(' '!I840>' '!E840,' '!I840,0))","v":0},0,null,0,0,{"$f":"+IF(AND(H989>0,' '!$F$54=\"No\"),' '!$F$53,\"\")","v":""},null,{"$f":"IF(' '!$F$54=\"Sí\",IF(H989>0,H989*K989,0),IF(H989>0,H989*J989,0))","v":0},{"$f":"+' '!E64","v":0},0,{"$nulls":9},"Impuesto Diferido",1,30,{"$f":"(X989=Parametros[Segmento])*(Y989>0)*(Z989>0)","v":0}]
[null,null,"Cuentas por cobrar (venta bs inmuebles poseídos por menos de dos años)",{"$f":"IF(' '!$F$55=\"Detallada\",IF(' '!H1039>' '!G1039,' '!G1039,0),IF(' '!I855>' '!E855,' '!E855,0))","v":0},{"$f":"IF(' '!$F$55=\"Detallada\",IF(' '!H1039>' '!G1039,' '!H1039,0),IF(' '!I855>' '!E855,' '!I855,0))","v":0},0,null,0,0,{"$f":"+IF(AND(H990>0,' '!$F$54=\"No\"),' '!$F$53,\"\")","v":""},null,{"$f":"IF(' '!$F$54=\"Sí\",IF(H990>0,H990*K990,0),IF(H990>0,H990*J990,0))","v":0},{"$f":"+' '!E65","v":0},{"$f":"+L990-M990","v":0},{"$nulls":9},"Impuesto Diferido",1,60,{"$f":"(X990=Parametros[Segmento])*(Y990>0)*(Z990>0)","v":0}]
[null,null,"Cuentas por cobrar (venta bs inmuebles poseídos por dos años o más)",{"$f":"IF(' '!$F$55=\"Detallada\",IF(' '!H1059>' '!G1059,' '!G1059,0),IF(' '!I858>' '!E858,' '!E858,0))","v":0},{"$f":"IF(' '!$F$55=\"Detallada\",IF(' '!E221>' '!D221,' '!E221,0),IF(' '!I842>' '!E842,' '!I842,0))","v":0},0,null,0,0,{"v":0.15,"d":"15%"},null,{"$f":"IF(' '!$F$54=\"Sí\",IF(H991>0,H991*K991,0),IF(H991>0,H991*J991,0))","v":0},{"$f":"+' '!E66","v":0},0,{"$nulls":9},"Impuesto Diferido",1,60,{"$f":"(X991=Parametros[Segmento])*(Y991>0)*(Z991>0)","v":0}]
[null,null,"Inventarios",{"$f":"IF(' '!$F$55=\"Detallada\",IF(' '!E288>' '!D288,' '!D288,0),IF(' '!I861>' '!E861,' '!E861,0))","v":0},{"$f":"IF(' '!$F$55=\"Detallada\",IF(' '!E288>' '!D288,' '!E288,0),IF(' '!I861>' '!E861,' '!I861,0))","v":0},0,null,0,0,{"$f":"+IF(AND(H992>0,' '!$F$54=\"No\"),' '!$F$53,\"\")","v":""},null,{"$f":"IF(' '!$F$54=\"Sí\",IF(H992>0,H992*K992,0),IF(H992>0,H992*J992,0))","v":0},{"$f":"+' '!E67","v":0},0,{"$nulls":9},"Impuesto Diferido",1,30,{"$f":"(X992=Parametros[Segmento])*(Y992>0)*(Z992>0)","v":0}]
[null,null,"Propiedades, planta y equipo",{"$f":"IF(' '!$F$55=\"Detallada\",IF(' '!E333>' '!D333,' '!D333,0),IF(' '!I874>' '!E874,' '!E874,0))","v":0},{"$f":"IF(' '!$F$55=\"Detallada\",IF(' '!E333>' '!D333,' '!E333,0),IF(' '!I874>' '!E874,' '!I874,0))","v":0},0,null,0,0,{"$f":"+IF(AND(H993>0,' '!$F$54=\"No\"),' '!$F$53,\"\")","v":""},null,{"$f":"IF(' '!$F$54=\"Sí\",IF(H993>0,H993*K993,0),IF(H993>0,H993*J993,0))","v":0},{"$f":"+' '!E68","v":0},0,{"$nulls":9},"Impuesto Diferido",1,30,{"$f":"(X993=Parametros[Segmento])*(Y993>0)*(Z993>0)","v":0}]
[null,null,"Propiedad, planta y equipo (venta de bienes inmuebles poseídos por menos de dos años )",{"$f":"IF(' '!$F$55=\"Detallada\",IF(' '!D1085>' '!C1085,' '!C1085,0),IF(' '!I884>' '!E884,' '!E884,0))","v":0},{"$f":"IF(' '!$F$55=\"Detallada\",IF(' '!D1085>' '!C1085,' '!D1085,0),IF(' '!I884>' '!E884,' '!I884,0))","v":0},{"$f":"+IF((D994>E994),0,IF((E994>D994),(E994-D994),0))","v":0},null,{"$f":"+IF(G994=\"Temporaria\",F994,0)","v":0},{"$f":"+IF(G994=\"Permanente\",F994,0)","v":0},{"$f":"+IF(AND(H994>0,' '!$F$54=\"No\"),' '!$F$53,\"\")","v":""},null,{"$f":"IF(' '!$F$54=\"Sí\",IF(H994>0,H994*K994,0),IF(H994>0,H994*J994,0))","v":0},{"$f":"+' '!E69","v":0},{"$f":"+L994-M994","v":0},{"$nulls":9},"Impuesto Diferido",1,60,{"$f":"(X994=Parametros[Segmento])*(Y994>0)*(Z994>0)","v":0}]
[null,null,"Propiedad, planta y equipo (venta de bienes inmuebles poseídos por dos años o más)",{"$f":"IF(' '!$F$55=\"Detallada\",IF(' '!D1078>' '!C1078,' '!C1078,0),IF(' '!I887>' '!E887,' '!E887,0))","v":0},{"$f":"IF(' '!$F$55=\"Detallada\",IF(' '!D1078>' '!C1078,' '!D1078,0),IF(' '!I887>' '!E887,' '!I887,0))","v":0},{"$f":"+IF((D995>E995),0,IF((E995>D995),(E995-D995),0))","v":0},null,{"$f":"+IF(G995=\"Temporaria\",F995,0)","v":0},{"$f":"+IF(G995=\"Permanente\",F995,0)","v":0},{"v":0.15,"d":"15%"},null,{"$f":"IF(' '!$F$54=\"Sí\",IF(H995>0,H995*K995,0),IF(H995>0,H995*J995,0))","v":0},{"$f":"+' '!E70","v":0},0,{"$nulls":9},"Impuesto Diferido",1,60,{"$f":"(X995=Parametros[Segmento])*(Y995>0)*(Z995>0)","v":0}]
[null,null,"Activos intangibles",{"$f":"IF(' '!$F$55=\"Detallada\",IF(' '!E403>' '!D403,' '!D403,0),IF(' '!I890>' '!E890,' '!E890,0))","v":0},{"$f":"IF(' '!$F$55=\"Detallada\",IF(' '!E403>' '!D403,' '!E403,0),IF(' '!I890>' '!E890,' '!I890,0))","v":0},0,null,0,0,{"$f":"+IF(AND(H996>0,' '!$F$54=\"No\"),' '!$F$53,\"\")","v":""},null,{"$f":"IF(' '!$F$54=\"Sí\",IF(H996>0,H996*K996,0),IF(H996>0,H996*J996,0))","v":0},{"$f":"+' '!E71","v":0},0,{"$nulls":9},"Impuesto Diferido",1,30,{"$f":"(X996=Parametros[Segmento])*(Y996>0)*(Z996>0)","v":0}]
[null,null,"Propiedades de inversión",{"$f":"IF(' '!$F$55=\"Detallada\",IF(' '!E449>' '!D449,' '!D449,0),IF(' '!I905>' '!E905,' '!E905,0))","v":0},{"$f":"IF(' '!$F$55=\"Detallada\",IF(' '!E449>' '!D449,' '!E449,0),IF(' '!I905>' '!E905,' '!I905,0))","v":0},0,null,0,0,{"$f":"+IF(AND(H997>0,' '!$F$54=\"No\"),' '!$F$53,\"\")","v":""},null,{"$f":"IF(' '!$F$54=\"Sí\",IF(H997>0,H997*K997,0),IF(H997>0,H997*J997,0))","v":0},{"$f":"+' '!E72","v":0},0,{"$nulls":9},"Impuesto Diferido",1,30,{"$f":"(X997=Parametros[Segmento])*(Y997>0)*(Z997>0)","v":0}]
[null,null,"Activos biológicos",{"$f":"IF(' '!$F$55=\"Detallada\",IF(' '!E507>' '!D507,' '!D507,0),IF(' '!I914>' '!E914,' '!E914,0))","v":0},{"$f":"IF(' '!$F$55=\"Detallada\",IF(' '!E507>' '!D507,' '!E507,0),IF(' '!I914>' '!E914,' '!I914,0))","v":0},0,null,0,0,{"$f":"+IF(AND(H998>0,' '!$F$54=\"No\"),' '!$F$53,\"\")","v":""},null,{"$f":"IF(' '!$F$54=\"Sí\",IF(H998>0,H998*K998,0),IF(H998>0,H998*J998,0))","v":0},{"$f":"+' '!E73","v":0},0,{"$nulls":9},"Impuesto Diferido",1,30,{"$f":"(X998=Parametros[Segmento])*(Y998>0)*(Z998>0)","v":0}]
[null,null,"Activos no corrientes mantenidos para la venta / entregar a propietarios",{"$f":"IF(' '!$F$55=\"Detallada\",IF(' '!E546>' '!D546,' '!D546,0),IF(' '!I927>' '!E927,' '!E927,0))","v":0},{"$f":"IF(' '!$F$55=\"Detallada\",IF(' '!E546>' '!D546,' '!E546,0),IF(' '!I927>' '!E927,' '!I927,0))","v":0},0,null,0,0,{"$f":"+IF(AND(H999>0,' '!$F$54=\"No\"),' '!$F$53,\"\")","v":""},null,{"$f":"IF(' '!$F$54=\"Sí\",IF(H999>0,H999*K999,0),IF(H999>0,H999*J999,0))","v":0},{"$f":"+' '!E74","v":0},0,{"$nulls":9},"Impuesto Diferido",1,40.1,{"$f":"(X999=Parametros[Segmento])*(Y999>0)*(Z999>0)","v":0}]
[null,null,"Activos reconocidos solamente para fines fiscales",{"$f":"IF(' '!$F$55=\"Detallada\",IF(' '!E574>' '!D574,' '!D574,0),IF(' '!I931>' '!E931,' '!E931,0))","v":0},{"$f":"IF(' '!$F$55=\"Detallada\",IF(' '!E574>' '!D574,' '!E574,0),IF(' '!I931>' '!E931,' '!I931,0))","v":0},0,null,0,0,{"$f":"+IF(AND(H1000>0,' '!$F$54=\"No\"),' '!$F$53,\"\")","v":""},null,{"$f":"IF(' '!$F$54=\"Sí\",IF(H1000>0,H1000*K1000,0),IF(H1000>0,H1000*J1000,0))","v":0},{"$f":"+' '!E75","v":0},0,{"$nulls":9},"Impuesto Diferido",1,40.1,{"$f":"(X1000=Parametros[Segmento])*(Y1000>0)*(Z1000>0)","v":0}]
[null,null,"Otros activos",{"$f":"IF(' '!$F$55=\"Detallada\",IF(' '!E599>' '!D599,' '!D599,0),IF(' '!I934>' '!E934,' '!E934,0))","v":0},{"$f":"IF(' '!$F$55=\"Detallada\",IF(' '!E599>' '!D599,' '!E599,0),IF(' '!I934>' '!E934,' '!I934,0))","v":0},0,null,0,0,{"$f":"+IF(AND(H1001>0,' '!$F$54=\"No\"),' '!$F$53,\"\")","v":""},null,{"$f":"IF(' '!$F$54=\"Sí\",IF(H1001>0,H1001*K1001,0),IF(H1001>0,H1001*J1001,0))","v":0},{"$f":"+' '!E76","v":0},0,{"$nulls":9},"Impuesto Diferido",1,30,{"$f":"(X1001=Parametros[Segmento])*(Y1001>0)*(Z1001>0)","v":0}]
[null,null,"Perdidas fiscales por compensar ",0,{"$f":"IFERROR(IF(' '!$F$55=\"Detallada\",VLOOKUP(2022,' '!C605:G630,5,0),IF(' '!I936>0,' '!I936,0)),0)","v":0},0,null,0,0,{"$f":"+IF(AND(H1002>0,' '!$F$54=\"No\"),' '!$F$53,\"\")","v":""},null,{"$f":"IF(' '!$F$54=\"Sí\",IF(H1002>0,H1002*K1002,0),IF(H1002>0,H1002*J1002,0))","v":0},{"$f":"+' '!E77","v":0},0,{"$nulls":9},"Impuesto Diferido",1,30,{"$f":"(X1002=Parametros[Segmento])*(Y1002>0)*(Z1002>0)","v":0}]
[null,null,"Pasivos financieros y cuentas por pagar",{"$f":"IF(' '!$F$55=\"Detallada\",IF(' '!D679>' '!E679,' '!D679,0),IF(' '!E938>' '!I938,' '!E938,0))","v":0},{"$f":"IF(' '!$F$55=\"Detallada\",IF(' '!D679>' '!E679,' '!E679,0),IF(' '!E938>' '!I938,' '!I938,0))","v":0},{"$f":"+IF((E1003>D1003),0,IF((D1003>E1003),(D1003-E1003),0))","v":0},null,0,0,{"$f":"+IF(AND(H1003>0,' '!$F$54=\"No\"),' '!$F$53,\"\")","v":""},null,{"$f":"IF(' '!$F$54=\"Sí\",IF(H1003>0,H1003*K1003,0),IF(H1003>0,H1003*J1003,0))","v":0},{"$f":"+' '!E78","v":0},0,{"$nulls":9},"Impuesto Diferido",1,30,{"$f":"(X1003=Parametros[Segmento])*(Y1003>0)*(Z1003>0)","v":0}]
[null,null,"Impuestos, gravámenes y tasas",{"$f":"IF(' '!$F$55=\"Detallada\",IF(' '!D701>' '!E701,' '!D701,0),IF(' '!E951>' '!I951,' '!E951,0))","v":0},{"$f":"IF(' '!$F$55=\"Detallada\",IF(' '!D701>' '!E701,' '!E701,0),IF(' '!E951>' '!I951,' '!I951,0))","v":0},0,null,0,0,{"$f":"+IF(AND(H1004>0,' '!$F$54=\"No\"),' '!$F$53,\"\")","v":""},null,{"$f":"IF(' '!$F$54=\"Sí\",IF(H1004>0,H1004*K1004,0),IF(H1004>0,H1004*J1004,0))","v":0},{"$f":"+' '!E79","v":0},0,{"$nulls":9},"Impuesto Diferido",1,30,{"$f":"(X1004=Parametros[Segmento])*(Y1004>0)*(Z1004>0)","v":0}]
[null,null,"Beneficios a  Empleados",{"$f":"IF(' '!$F$55=\"Detallada\",IF(' '!D726>' '!E726,' '!D726,0),IF(' '!E955>' '!I955,' '!E955,0))","v":0},{"$f":"IF(' '!$F$55=\"Detallada\",IF(' '!D726>' '!E726,' '!E726,0),IF(' '!E955>' '!I955,' '!I955,0))","v":0},0,null,0,0,{"$f":"+IF(AND(H1005>0,' '!$F$54=\"No\"),' '!$F$53,\"\")","v":""},null,{"$f":"IF(' '!$F$54=\"Sí\",IF(H1005>0,H1005*K1005,0),IF(H1005>0,H1005*J1005,0))","v":0},{"$f":"+' '!E80","v":0},0,{"$nulls":9},"Impuesto Diferido",1,30,{"$f":"(X1005=Parametros[Segmento])*(Y1005>0)*(Z1005>0)","v":0}]
[null,null,"Provisiones",{"$f":"IF(' '!$F$55=\"Detallada\",IF(' '!D772>' '!E772,' '!D772,0),IF(' '!E960>' '!I960,' '!E960,0))","v":0},{"$f":"IF(' '!$F$55=\"Detallada\",IF(' '!D772>' '!E772,' '!E772,0),IF(' '!E960>' '!I960,' '!I960,0))","v":0},0,null,0,0,{"$f":"+IF(AND(H1006>0,' '!$F$54=\"No\"),' '!$F$53,\"\")","v":""},null,{"$f":"IF(' '!$F$54=\"Sí\",IF(H1006>0,H1006*K1006,0),IF(H1006>0,H1006*J1006,0))","v":0},{"$f":"+' '!E81","v":0},0,{"$nulls":9},"Impuesto Diferido",1,30,{"$f":"(X1006=Parametros[Segmento])*(Y1006>0)*(Z1006>0)","v":0}]
[null,null,"Otros Pasivos Anticipos y avances recibidos",{"$f":"IF(' '!$F$55=\"Detallada\",IF(' '!D797>' '!E797,' '!D797,0),IF(' '!E972>' '!I972,' '!E972,0))","v":0},{"$f":"IF(' '!$F$55=\"Detallada\",IF(' '!D797>' '!E797,' '!E797,0),IF(' '!E972>' '!I972,' '!I972,0))","v":0},0,null,0,0,{"$f":"+IF(AND(H1007>0,' '!$F$54=\"No\"),' '!$F$53,\"\")","v":""},null,{"$f":"IF(' '!$F$54=\"Sí\",IF(H1007>0,H1007*K1007,0),IF(H1007>0,H1007*J1007,0))","v":0},{"$f":"+' '!E82","v":0},0,{"$nulls":9},"Impuesto Diferido",1,40.1,{"$f":"(X1007=Parametros[Segmento])*(Y1007>0)*(Z1007>0)","v":0}]
[null,null,"Pasivos reconocidos solamente para fines fiscales ",{"$f":"IF(' '!$F$55=\"Detallada\",IF(' '!D813>' '!E813,' '!D813,0),IF(' '!E977>' '!I977,' '!E977,0))","v":0},{"$f":"IF(' '!$F$55=\"Detallada\",IF(' '!D813>' '!E813,' '!E813,0),IF(' '!E977>' '!I977,' '!I977,0))","v":0},0,null,0,0,{"$f":"+IF(AND(H1008>0,' '!$F$54=\"No\"),' '!$F$53,\"\")","v":""},null,{"$f":"IF(' '!$F$54=\"Sí\",IF(H1008>0,H1008*K1008,0),IF(H1008>0,H1008*J1008,0))","v":0},{"$f":"+' '!E83","v":0},0,{"$nulls":9},"Impuesto Diferido",1,40.1,{"$f":"(X1008=Parametros[Segmento])*(Y1008>0)*(Z1008>0)","v":0}]
[null,null,"Valor total",{"$nulls":8},{"$f":"SUM(L987:L1008)","v":0},{"$f":"SUM(M987:M1008)","v":0},{"$f":"SUM(N987:N1008)","v":0},{"$nulls":9},"Impuesto Diferido",1,30,{"$f":"(X1009=Parametros[Segmento])*(Y1009>0)*(Z1009>0)","v":0}]
[null,null,"Pasivo diferido (diferencias temporarias imponibles)",{"$nulls":20},"Impuesto Diferido",1,30,{"$f":"(X1010=Parametros[Segmento])*(Y1010>0)*(Z1010>0)","v":0}]
[null,null,"Efectivo y equivalentes al efectivo",{"$f":"IF(' '!$F$55=\"Detallada\",IF(' '!D106>' '!E106,' '!D106,0),IF(' '!E820>' '!I820,' '!E820,0))","v":0},{"$f":"IF(' '!$F$55=\"Detallada\",IF(' '!D106>' '!E106,' '!E106,0),IF(' '!E820>' '!I820,' '!I820,0))","v":0},{"$f":"+IF((E1011>D1011),0,IF((D1011>E1011),(D1011-E1011),0))","v":0},null,{"$f":"+IF(G1011=\"Temporaria\",F1011,0)","v":0},{"$f":"+IF(G1011=\"Permanente\",F1011,0)","v":0},{"$f":"+IF(AND(H1011>0,' '!$F$54=\"No\"),' '!$F$53,\"\")","v":""},null,{"$f":"IF(' '!$F$54=\"Sí\",IF(H1011>0,H1011*K1011,0),IF(H1011>0,H1011*J1011,0))","v":0},{"$f":"+' '!F62","v":0},{"$f":"+L1011-M1011","v":0},{"$nulls":9},"Impuesto Diferido",1,30,{"$f":"(X1011=Parametros[Segmento])*(Y1011>0)*(Z1011>0)","v":0}]
[null,null,"Inversiones e instrumentos derivados",{"$f":"IF(' '!$F$55=\"Detallada\",IF(' '!D159>' '!E159,' '!D159,0),IF(' '!E825>' '!I825,' '!E825,0))","v":0},{"$f":"IF(' '!$F$55=\"Detallada\",IF(' '!D159>' '!E159,' '!E159,0),IF(' '!E825>' '!I825,' '!I825,0))","v":0},0,null,0,0,{"$f":"+IF(AND(H1012>0,' '!$F$54=\"No\"),' '!$F$53,\"\")","v":""},null,{"$f":"IF(' '!$F$54=\"Sí\",IF(H1012>0,H1012*K1012,0),IF(H1012>0,H1012*J1012,0))","v":0},{"$f":"+' '!F63","v":0},0,{"$nulls":9},"Impuesto Diferido",1,30,{"$f":"(X1012=Parametros[Segmento])*(Y1012>0)*(Z1012>0)","v":0}]
[null,null,"Cuentas por cobrar",{"$f":"IF(' '!$F$55=\"Detallada\",IF(' '!D219>' '!E219,' '!D219,0),IF(' '!E840>' '!I840,' '!E840,0))","v":0},{"$f":"IF(' '!$F$55=\"Detallada\",IF(' '!D219>' '!E219,' '!E219,0),IF(' '!E840>' '!I840,' '!I840,0))","v":0},0,null,0,0,{"$f":"+IF(AND(H1013>0,' '!$F$54=\"No\"),' '!$F$53,\"\")","v":""},null,{"$f":"IF(' '!$F$54=\"Sí\",IF(H1013>0,H1013*K1013,0),IF(H1013>0,H1013*J1013,0))","v":0},{"$f":"+' '!F64","v":0},0,{"$nulls":9},"Impuesto Diferido",1,30,{"$f":"(X1013=Parametros[Segmento])*(Y1013>0)*(Z1013>0)","v":0}]
[null,null,"Cuentas por cobrar (venta bs inmuebles poseídos por menos de dos años)",{"$f":"IF(' '!$F$55=\"Detallada\",IF(' '!G1039>' '!H1039,' '!G1039,0),IF(' '!E855>' '!I855,' '!E855,0))","v":{"v":400000,"d":"400,000"}},{"$f":"IF(' '!$F$55=\"Detallada\",IF(' '!G1039>' '!H1039,' '!H1039,0),IF(' '!E855>' '!I855,' '!I855,0))","v":0},{"$f":"+IF((E1014>D1014),0,IF((D1014>E1014),(D1014-E1014),0))","v":{"v":400000,"d":"400,000"}},null,{"$f":"+IF(G1014=\"Temporaria\",F1014,0)","v":0},{"$f":"+IF(G1014=\"Permanente\",F1014,0)","v":0},{"$f":"+IF(AND(H1014>0,' '!$F$54=\"No\"),' '!$F$53,\"\")","v":""},null,{"$f":"IF(' '!$F$54=\"Sí\",IF(H1014>0,H1014*K1014,0),IF(H1014>0,H1014*J1014,0))","v":0},{"$f":"+' '!F65","v":0},{"$f":"+L1014-M1014","v":0},{"$nulls":9},"Impuesto Diferido",1,60,{"$f":"(X1014=Parametros[Segmento])*(Y1014>0)*(Z1014>0)","v":0}]
[null,null,"Cuentas por cobrar (venta bs inmuebles poseídos por dos años o más)",{"$f":"IF(' '!$F$55=\"Detallada\",IF(' '!G1059>' '!H1059,' '!G1059,0),IF(' '!E858>' '!I858,' '!E858,0))","v":{"v":5855555,"d":"5,855,555"}},{"$f":"IF(' '!$F$55=\"Detallada\",IF(' '!G1059>' '!H1059,' '!H1059,0),IF(' '!E858>' '!I858,' '!I858,0))","v":0},{"v":5855555,"d":"5,855,555"},null,0,0,{"v":0.15,"d":"15%"},null,{"$f":"IF(' '!$F$54=\"Sí\",IF(H1015>0,H1015*K1015,0),IF(H1015>0,H1015*J1015,0))","v":0},{"$f":"+' '!F66","v":0},0,{"$nulls":9},"Impuesto Diferido",1,60,{"$f":"(X1015=Parametros[Segmento])*(Y1015>0)*(Z1015>0)","v":0}]
[null,null,"Inventarios",{"$f":"IF(' '!$F$55=\"Detallada\",IF(' '!D288>' '!E288,' '!D288,0),IF(' '!E861>' '!I861,' '!E861,0))","v":0},{"$f":"IF(' '!$F$55=\"Detallada\",IF(' '!D288>' '!E288,' '!E288,0),IF(' '!E861>' '!I861,' '!I861,0))","v":0},0,null,0,0,{"$f":"+IF(AND(H1016>0,' '!$F$54=\"No\"),' '!$F$53,\"\")","v":""},null,{"$f":"IF(' '!$F$54=\"Sí\",IF(H1016>0,H1016*K1016,0),IF(H1016>0,H1016*J1016,0))","v":0},{"$f":"+' '!F67","v":0},0,{"$nulls":9},"Impuesto Diferido",1,30,{"$f":"(X1016=Parametros[Segmento])*(Y1016>0)*(Z1016>0)","v":0}]
[null,null,"Propiedades, planta y equipo",{"$f":"IF(' '!$F$55=\"Detallada\",IF(' '!D333>' '!E333,' '!D333,0),IF(' '!E874>' '!I874,' '!E874,0))","v":0},{"$f":"IF(' '!$F$55=\"Detallada\",IF(' '!D333>' '!E333,' '!E333,0),IF(' '!E874>' '!I874,' '!I874,0))","v":0},0,null,0,0,{"$f":"+IF(AND(H1017>0,' '!$F$54=\"No\"),' '!$F$53,\"\")","v":""},null,{"$f":"IF(' '!$F$54=\"Sí\",IF(H1017>0,H1017*K1017,0),IF(H1017>0,H1017*J1017,0))","v":0},{"$f":"+' '!F68","v":0},0,{"$nulls":9},"Impuesto Diferido",1,30,{"$f":"(X1017=Parametros[Segmento])*(Y1017>0)*(Z1017>0)","v":0}]
[null,null,"Propiedad, planta y equipo (venta de bienes inmuebles poseídos por menos de dos años )",{"$f":"IF(' '!$F$55=\"Detallada\",IF(' '!C1085>' '!D1085,' '!C1085,0),IF(' '!E884>' '!I884,' '!E884,0))","v":0},{"$f":"IF(' '!$F$55=\"Detallada\",IF(' '!D334>' '!E334,' '!E334,0),IF(' '!E875>' '!I875,' '!I875,0))","v":22},{"$f":"+IF((E1018>D1018),0,IF((D1018>E1018),(D1018-E1018),0))","v":0},null,{"$f":"+IF(G1018=\"Temporaria\",F1018,0)","v":0},{"$f":"+IF(G1018=\"Permanente\",F1018,0)","v":0},{"$f":"+IF(AND(H1018>0,' '!$F$54=\"No\"),' '!$F$53,\"\")","v":""},null,{"$f":"IF(' '!$F$54=\"Sí\",IF(H1018>0,H1018*K1018,0),IF(H1018>0,H1018*J1018,0))","v":0},{"$f":"+' '!F69","v":0},{"$f":"+L1018-M1018","v":0},{"$nulls":9},"Impuesto Diferido",1,60,{"$f":"(X1018=Parametros[Segmento])*(Y1018>0)*(Z1018>0)","v":0}]
[null,null,"Propiedad, planta y equipo (venta de bienes inmuebles poseídos por dos años o más)",{"$f":"IF(' '!$F$55=\"Detallada\",IF(' '!C1078>' '!D1078,' '!C1078,0),IF(' '!E887>' '!I887,' '!E887,0))","v":0},{"$f":"IF(' '!$F$55=\"Detallada\",IF(' '!C1078>' '!D1078,' '!D1078,0),IF(' '!E887>' '!I887,' '!I887,0))","v":0},0,null,0,0,{"v":0.15,"d":"15%"},null,{"$f":"IF(' '!$F$54=\"Sí\",IF(H1019>0,H1019*K1019,0),IF(H1019>0,H1019*J1019,0))","v":0},{"$f":"+' '!F70","v":0},0,{"$nulls":9},"Impuesto Diferido",1,60,{"$f":"(X1019=Parametros[Segmento])*(Y1019>0)*(Z1019>0)","v":0}]
[null,null,"Activos intangibles",{"$f":"IF(' '!$F$55=\"Detallada\",IF(' '!D403>' '!E403,' '!D403,0),IF(' '!E890>' '!I890,' '!E890,0))","v":0},{"$f":"IF(' '!$F$55=\"Detallada\",IF(' '!D403>' '!E403,' '!E403,0),IF(' '!E890>' '!I890,' '!I890,0))","v":0},0,null,0,0,{"$f":"+IF(AND(H1020>0,' '!$F$54=\"No\"),' '!$F$53,\"\")","v":""},null,{"$f":"IF(' '!$F$54=\"Sí\",IF(H1020>0,H1020*K1020,0),IF(H1020>0,H1020*J1020,0))","v":0},{"$f":"+' '!F71","v":0},0,{"$nulls":9},"Impuesto Diferido",1,30,{"$f":"(X1020=Parametros[Segmento])*(Y1020>0)*(Z1020>0)","v":0}]
[null,null,"Propiedades de inversión",{"$f":"IF(' '!$F$55=\"Detallada\",IF(' '!D449>' '!E449,' '!D449,0),IF(' '!E905>' '!I905,' '!E905,0))","v":0},{"$f":"IF(' '!$F$55=\"Detallada\",IF(' '!D449>' '!E449,' '!E449,0),IF(' '!E905>' '!I905,' '!I905,0))","v":0},0,null,0,0,{"$f":"+IF(AND(H1021>0,' '!$F$54=\"No\"),' '!$F$53,\"\")","v":""},null,{"$f":"IF(' '!$F$54=\"Sí\",IF(H1021>0,H1021*K1021,0),IF(H1021>0,H1021*J1021,0))","v":0},{"$f":"+' '!F72","v":0},0,{"$nulls":9},"Impuesto Diferido",1,30,{"$f":"(X1021=Parametros[Segmento])*(Y1021>0)*(Z1021>0)","v":0}]
[null,null,"Activos biológicos",{"$f":"IF(' '!$F$55=\"Detallada\",IF(' '!D507>' '!E507,' '!D507,0),IF(' '!E914>' '!I914,' '!E914,0))","v":0},{"$f":"IF(' '!$F$55=\"Detallada\",IF(' '!D507>' '!E507,' '!E507,0),IF(' '!E914>' '!I914,' '!I914,0))","v":0},0,null,0,0,{"$f":"+IF(AND(H1022>0,' '!$F$54=\"No\"),' '!$F$53,\"\")","v":""},null,{"$f":"IF(' '!$F$54=\"Sí\",IF(H1022>0,H1022*K1022,0),IF(H1022>0,H1022*J1022,0))","v":0},{"$f":"+' '!F73","v":0},0,{"$nulls":9},"Impuesto Diferido",1,30,{"$f":"(X1022=Parametros[Segmento])*(Y1022>0)*(Z1022>0)","v":0}]
[null,null,"Activos no corrientes mantenidos para la venta / entregar a propietarios",{"$f":"IF(' '!$F$55=\"Detallada\",IF(' '!D546>' '!E546,' '!D546,0),IF(' '!E927>' '!I927,' '!E927,0))","v":0},{"$f":"IF(' '!$F$55=\"Detallada\",IF(' '!D546>' '!E546,' '!E546,0),IF(' '!E927>' '!I927,' '!I927,0))","v":0},0,null,0,0,{"$f":"+IF(AND(H1023>0,' '!$F$54=\"No\"),' '!$F$53,\"\")","v":""},null,{"$f":"IF(' '!$F$54=\"Sí\",IF(H1023>0,H1023*K1023,0),IF(H1023>0,H1023*J1023,0))","v":0},{"$f":"+' '!F74","v":0},0,{"$nulls":9},"Impuesto Diferido",1,40.1,{"$f":"(X1023=Parametros[Segmento])*(Y1023>0)*(Z1023>0)","v":0}]
[null,null,"Activos reconocidos solamente para fines fiscales",{"$f":"IF(' '!$F$55=\"Detallada\",IF(' '!D574>' '!E574,' '!D574,0),IF(' '!E931>' '!I931,' '!E931,0))","v":0},{"$f":"IF(' '!$F$55=\"Detallada\",IF(' '!D574>' '!E574,' '!E574,0),IF(' '!E931>' '!I931,' '!I931,0))","v":0},0,null,0,0,{"$f":"+IF(AND(H1024>0,' '!$F$54=\"No\"),' '!$F$53,\"\")","v":""},null,{"$f":"IF(' '!$F$54=\"Sí\",IF(H1024>0,H1024*K1024,0),IF(H1024>0,H1024*J1024,0))","v":0},{"$f":"+' '!F75","v":0},0,{"$nulls":9},"Impuesto Diferido",1,40.1,{"$f":"(X1024=Parametros[Segmento])*(Y1024>0)*(Z1024>0)","v":0}]
[null,null,"Otros activos",{"$f":"IF(' '!$F$55=\"Detallada\",IF(' '!D599>' '!E599,' '!D599,0),IF(' '!E934>' '!I934,' '!E934,0))","v":0},{"$f":"IF(' '!$F$55=\"Detallada\",IF(' '!D599>' '!E599,' '!E599,0),IF(' '!E934>' '!I934,' '!I934,0))","v":0},0,null,0,0,{"$f":"+IF(AND(H1025>0,' '!$F$54=\"No\"),' '!$F$53,\"\")","v":""},null,{"$f":"IF(' '!$F$54=\"Sí\",IF(H1025>0,H1025*K1025,0),IF(H1025>0,H1025*J1025,0))","v":0},{"$f":"+' '!F76","v":0},0,{"$nulls":9},"Impuesto Diferido",1,30,{"$f":"(X1025=Parametros[Segmento])*(Y1025>0)*(Z1025>0)","v":0}]
[null,null,"Pasivos financieros y cuentas por pagar",{"$f":"IF(' '!$F$55=\"Detallada\",IF(' '!E679>' '!D679,' '!D679,0),IF(' '!I938>' '!E938,' '!E938,0))","v":0},{"$f":"IF(' '!$F$55=\"Detallada\",IF(' '!E679>' '!D679,' '!E679,0),IF(' '!I938>' '!E938,' '!I938,0))","v":0},{"$f":"+IF((D1026>E1026),0,IF((E1026>D1026),(E1026-D1026),0))","v":0},null,0,0,{"$f":"+IF(AND(H1026>0,' '!$F$54=\"No\"),' '!$F$53,\"\")","v":""},null,{"$f":"IF(' '!$F$54=\"Sí\",IF(H1026>0,H1026*K1026,0),IF(H1026>0,H1026*J1026,0))","v":0},{"$f":"+' '!F78","v":0},0,{"$nulls":9},"Impuesto Diferido",1,30,{"$f":"(X1026=Parametros[Segmento])*(Y1026>0)*(Z1026>0)","v":0}]
[null,null,"Impuestos, gravámenes y tasas",{"$f":"IF(' '!$F$55=\"Detallada\",IF(' '!E701>' '!D701,' '!D701,0),IF(' '!I951>' '!E951,' '!E951,0))","v":0},{"$f":"IF(' '!$F$55=\"Detallada\",IF(' '!E701>' '!D701,' '!E701,0),IF(' '!I951>' '!E951,' '!I951,0))","v":0},0,null,0,0,{"$f":"+IF(AND(H1027>0,' '!$F$54=\"No\"),' '!$F$53,\"\")","v":""},null,{"$f":"IF(' '!$F$54=\"Sí\",IF(H1027>0,H1027*K1027,0),IF(H1027>0,H1027*J1027,0))","v":0},{"$f":"+' '!F79","v":0},0,{"$nulls":9},"Impuesto Diferido",1,30,{"$f":"(X1027=Parametros[Segmento])*(Y1027>0)*(Z1027>0)","v":0}]
[null,null,"Beneficios a  Empleados",{"$f":"IF(' '!$F$55=\"Detallada\",IF(' '!E726>' '!D726,' '!D726,0),IF(' '!I955>' '!E955,' '!E955,0))","v":0},{"$f":"IF(' '!$F$55=\"Detallada\",IF(' '!E726>' '!D726,' '!E726,0),IF(' '!I955>' '!E955,' '!I955,0))","v":0},0,null,0,0,{"$f":"+IF(AND(H1028>0,' '!$F$54=\"No\"),' '!$F$53,\"\")","v":""},null,{"$f":"IF(' '!$F$54=\"Sí\",IF(H1028>0,H1028*K1028,0),IF(H1028>0,H1028*J1028,0))","v":0},{"$f":"+' '!F80","v":0},0,{"$nulls":9},"Impuesto Diferido",1,30,{"$f":"(X1028=Parametros[Segmento])*(Y1028>0)*(Z1028>0)","v":0}]
[null,null,"Provisiones",{"$f":"IF(' '!$F$55=\"Detallada\",IF(' '!E772>' '!D772,' '!D772,0),IF(' '!I960>' '!E960,' '!E960,0))","v":0},{"$f":"IF(' '!$F$55=\"Detallada\",IF(' '!E772>' '!D772,' '!E772,0),IF(' '!I960>' '!E960,' '!I960,0))","v":0},0,null,0,0,{"$f":"+IF(AND(H1029>0,' '!$F$54=\"No\"),' '!$F$53,\"\")","v":""},null,{"$f":"IF(' '!$F$54=\"Sí\",IF(H1029>0,H1029*K1029,0),IF(H1029>0,H1029*J1029,0))","v":0},{"$f":"+' '!F81","v":0},0,{"$nulls":9},"Impuesto Diferido",1,30,{"$f":"(X1029=Parametros[Segmento])*(Y1029>0)*(Z1029>0)","v":0}]
[null,null,"Otros Pasivos Anticipos y avances recibidos",{"$f":"IF(' '!$F$55=\"Detallada\",IF(' '!E797>' '!D797,' '!D797,0),IF(' '!I972>' '!E972,' '!E972,0))","v":0},{"$f":"IF(' '!$F$55=\"Detallada\",IF(' '!E797>' '!D797,' '!E797,0),IF(' '!I972>' '!E972,' '!I972,0))","v":0},0,null,0,0,{"$f":"+IF(AND(H1030>0,' '!$F$54=\"No\"),' '!$F$53,\"\")","v":""},null,{"$f":"IF(' '!$F$54=\"Sí\",IF(H1030>0,H1030*K1030,0),IF(H1030>0,H1030*J1030,0))","v":0},{"$f":"+' '!F82","v":0},0,{"$nulls":9},"Impuesto Diferido",1,40.1,{"$f":"(X1030=Parametros[Segmento])*(Y1030>0)*(Z1030>0)","v":0}]
[null,null,"Pasivos reconocidos solamente para fines fiscales ",{"$f":"IF(' '!$F$55=\"Detallada\",IF(' '!E813>' '!D813,' '!D813,0),IF(' '!I977>' '!E977,' '!E977,0))","v":0},{"$f":"IF(' '!$F$55=\"Detallada\",IF(' '!E813>' '!D813,' '!E813,0),IF(' '!I977>' '!E977,' '!I977,0))","v":0},0,null,0,0,{"$f":"+IF(AND(H1031>0,' '!$F$54=\"No\"),' '!$F$53,\"\")","v":""},null,{"$f":"IF(' '!$F$54=\"Sí\",IF(H1031>0,H1031*K1031,0),IF(H1031>0,H1031*J1031,0))","v":0},{"$f":"+' '!F83","v":0},0,{"$nulls":9},"Impuesto Diferido",1,40.1,{"$f":"(X1031=Parametros[Segmento])*(Y1031>0)*(Z1031>0)","v":0}]
[null,null,"Valor total",{"$nulls":8},{"$f":"SUM(L1011:L1031)","v":0},{"$f":"SUM(M1011:M1031)","v":0},{"$f":"SUM(N1011:N1031)","v":0},{"$nulls":9},"Impuesto Diferido",1,30,{"$f":"(X1032=Parametros[Segmento])*(Y1032>0)*(Z1032>0)","v":0}]
[2.33,28.33,19.89,19.89,25,19.89,19.89,19.89,19.89,19.89,19.89,4,0,0,0,{"$nulls":8},"Venta_Bs_Inmu_CxC_RO",null,20,{"$f":"(X1033=Parametros[Segmento])*(Y1033>0)*(Z1033>0)","v":0}]
[{"$nulls":23},"Venta_Bs_Inmu_CxC_RO",1,30,{"$f":"(X1034=Parametros[Segmento])*(Y1034>0)*(Z1034>0)","v":0}]
[null,"Venta de Bienes poseídos por menos de dos años",{"$nulls":21},"Venta_Bs_Inmu_CxC_RO",1,30,{"$f":"(X1035=Parametros[Segmento])*(Y1035>0)*(Z1035>0)","v":0}]
[null,"Descripción del Bien Inmueble Vendido ","Precio de venta","Cuota Inicial ","Número de \naños durante los cuales se pagará la deuda (sin contar el año de la venta)","Tasa de Interés del valor pendiente de pago  ","Valor contable de la cuenta por cobrar a 31 de diciembre de 2023","Valor fiscal de la cuenta por cobrar a 31 de diciembre de 2023 ","Valor de la Diferencia ","Tarifa aplicable ","Valor Impuesto diferido ",null,";;;;;;;;;;;;",{"v":0,"d":"$0.00"},{"v":0,"d":"$0.00"},{"$nulls":8},"Venta_Bs_Inmu_CxC_RO",1,120,{"$f":"(X1036=Parametros[Segmento])*(Y1036>0)*(Z1036>0)","v":0}]
[null,"Propiedad 1 ",{"$nulls":4},{"$f":"IF(N1037>0,N1037,\"\")","v":{"v":400000,"d":"$400,000"}},null,{"$f":"IF(G1037=\"\",\"\",G1037-H1037)","v":{"v":400000,"d":"$400,000"}},{"$f":"IF(C1037=\"\",\"\",' '!$F$53)","v":""},{"$f":"IFERROR(IF(J1037>0,I1037*J1037,I1037),\"\")","v":""},null,"400000;;;;;;;;",{"v":400000,"d":"$400,000.00"},{"$nulls":8},{"$f":"SUBSTITUTE($B$1035,CHAR(10),\"\")","v":"Venta de Bienes poseídos por menos de dos años"},"Venta_Bs_Inmu_CxC_RO",{"$f":"(W1037=OFFSET(W1037,1,0))*1","v":1},30,{"$f":"(X1037=Parametros[Segmento])*(Y1037>0)*(Z1037>0)","v":0}]
[{"$nulls":6},{"$f":"IF(N1038>0,N1038,\"\")","v":""},null,"",{"$f":"IF(C1038=\"\",\"\",' '!$F$53)","v":""},{"$f":"IFERROR(IF(J1038>0,I1038*J1038,I1038),\"\")","v":""},{"$nulls":11},{"$f":"SUBSTITUTE($B$1035,CHAR(10),\"\")","v":"Venta de Bienes poseídos por menos de dos años"},"Venta_Bs_Inmu_CxC_RO",0,30,{"$f":"(X1038=Parametros[Segmento])*(Y1038>0)*(Z1038>0)","v":0}]
[null,"Totales",{"$f":"SUM(C1037:C1038)","v":{"v":0,"d":"$ 0"}},{"$f":"SUM(D1037:D1038)","v":{"v":0,"d":"$ 0"}},null,null,{"$f":"SUM(G1037:G1038)","v":{"v":400000,"d":"$ 400,000"}},{"$f":"SUM(H1037:H1038)","v":{"v":0,"d":"$ 0"}},{"$f":"SUM(I1037:I1038)","v":{"v":400000,"d":"$ 400,000"}},null,{"$f":"SUM(K1037:K1038)","v":{"v":0,"d":"$ 0"}},{"$nulls":12},"Venta_Bs_Inmu_CxC_RO",1,30,{"$f":"(X1039=Parametros[Segmento])*(Y1039>0)*(Z1039>0)","v":0}]
[{"$nulls":12},{"$f":"OFFSET(Lista_Venta_Bs_Inmu_CxC_RO,Venta_Bs_Inmu_CxC_RO_Indice-1,11,1,1)","v":"400000;;;;;;;;"},{"$nulls":10},"Venta_Bs_Inmu_CxC_RO",1,30,{"$f":"(X1040=Parametros[Segmento])*(Y1040>0)*(Z1040>0)","v":0}]
[null,{"$f":"IFERROR(IF(Venta_Bs_Inmu_CxC_RO_Indice=0,\"\",IF(INDEX(Lista_Venta_Bs_Inmu_CxC_RO,Venta_Bs_Inmu_CxC_RO_Indice)=\"\",\"\",INDEX(Lista_Venta_Bs_Inmu_CxC_RO,Venta_Bs_Inmu_CxC_RO_Indice))),\"\")","v":"Propiedad 1 "},{"$nulls":10},1,{"$nulls":10},"Venta_Bs_Inmu_CxC_RO",{"$f":"(Venta_Bs_Inmu_CxC_RO_Indice>0)*1","v":1},30,{"$f":"(X1041=Parametros[Segmento])*(Y1041>0)*(Z1041>0)","v":0}]
[null,"Número de cuota ","Valor de la cuota/pago anual","Tasa de Interés ","Valor presente ",{"$nulls":7},1,{"$nulls":10},"Venta_Bs_Inmu_CxC_RO",1,50,{"$f":"(X1042=Parametros[Segmento])*(Y1042>0)*(Z1042>0)","v":0}]
[null,1,{"v":400000,"d":"$ 400,000"},{"$f":"OFFSET($F$1036,Venta_Bs_Inmu_CxC_RO_Indice,0)","v":{"v":0,"d":"0%"}},{"$f":"+PV(D1043,B1043,0,-C1043)","v":{"v":400000,"d":"$400,000"}},{"$nulls":7},{"$f":"IFERROR(SEARCH(\";\",$M$1040,M1042)+1,0)","v":8},{"$f":"IFERROR(IF(M1043=0,\"\",MID($M$1040,M1042,M1043-M1042-1)),\"\")","v":"400000"},{"$nulls":9},"Venta_Bs_Inmu_CxC_RO",1,30,{"$f":"(X1043=Parametros[Segmento])*(Y1043>0)*(Z1043>0)","v":0}]
[null,2,null,{"v":0,"d":"0%"},{"v":0,"d":"$0"},{"$nulls":7},9,"",{"$nulls":9},"Venta_Bs_Inmu_CxC_RO",1,30,{"$f":"(X1044=Parametros[Segmento])*(Y1044>0)*(Z1044>0)","v":0}]
[null,3,null,{"v":0,"d":"0%"},{"v":0,"d":"$0"},{"$nulls":7},10,"",{"$nulls":9},"Venta_Bs_Inmu_CxC_RO",1,30,{"$f":"(X1045=Parametros[Segmento])*(Y1045>0)*(Z1045>0)","v":0}]
[null,4,null,{"v":0,"d":"0%"},{"v":0,"d":"$0"},{"$nulls":7},11,"",{"$nulls":9},"Venta_Bs_Inmu_CxC_RO",1,30,{"$f":"(X1046=Parametros[Segmento])*(Y1046>0)*(Z1046>0)","v":0}]
[null,5,null,{"v":0,"d":"0%"},{"v":0,"d":"$0"},{"$nulls":7},12,"",{"$nulls":9},"Venta_Bs_Inmu_CxC_RO",1,30,{"$f":"(X1047=Parametros[Segmento])*(Y1047>0)*(Z1047>0)","v":0}]
[null,6,null,{"v":0,"d":"0%"},{"v":0,"d":"$0"},{"$nulls":7},13,"",{"$nulls":9},"Venta_Bs_Inmu_CxC_RO",1,30,{"$f":"(X1048=Parametros[Segmento])*(Y1048>0)*(Z1048>0)","v":0}]
[null,7,null,{"v":0,"d":"0%"},{"v":0,"d":"$0"},{"$nulls":7},14,"",{"$nulls":9},"Venta_Bs_Inmu_CxC_RO",1,30,{"$f":"(X1049=Parametros[Segmento])*(Y1049>0)*(Z1049>0)","v":0}]
[null,8,null,{"v":0,"d":"0%"},{"v":0,"d":"$0"},{"$nulls":7},15,"",{"$nulls":9},"Venta_Bs_Inmu_CxC_RO",1,30,{"$f":"(X1050=Parametros[Segmento])*(Y1050>0)*(Z1050>0)","v":0}]
[null,"Valor presente ",null,null,{"$f":"SUM(E1043:E1050)","v":{"v":400000,"d":"$400,000"}},{"$nulls":18},"Venta_Bs_Inmu_CxC_RO",1,30,{"$f":"(X1051=Parametros[Segmento])*(Y1051>0)*(Z1051>0)","v":0}]
[{"$nulls":23},"Venta_Bs_Inmu_CxC_RO",1,30,{"$f":"(X1052=Parametros[Segmento])*(Y1052>0)*(Z1052>0)","v":0}]
[2.33,28.33,19.89,19.89,25,19.89,19.89,19.89,19.89,19.89,19.89,4,0,0,0,{"$nulls":8},"Venta_Bs_Inmu_CxC_GO",null,20,{"$f":"(X1053=Parametros[Segmento])*(Y1053>0)*(Z1053>0)","v":0}]
[{"$nulls":23},"Venta_Bs_Inmu_CxC_GO",1,30,{"$f":"(X1054=Parametros[Segmento])*(Y1054>0)*(Z1054>0)","v":0}]
[null,"Venta de Bienes poseídos por menos de dos años",{"$nulls":21},"Venta_Bs_Inmu_CxC_GO",1,30,{"$f":"(X1055=Parametros[Segmento])*(Y1055>0)*(Z1055>0)","v":0}]
[null,"Descripción del Bien Inmueble Vendido ","Precio de venta","Cuota Inicial ","Número de años durante los cuales se pagará la deuda (sin contar el año de la venta)","Tasa de Interés del valor pendiente de pago  ","Valor contable de la cuenta por cobrar a 31 de diciembre de 2023","Valor fiscal de la cuenta por cobrar a 31 de diciembre de 2023","Valor de la Diferencia ","Tarifa aplicable ","Valor Impuesto diferido ",null,";;;;;;;;;;;;",{"v":0,"d":"$0.00"},{"v":0,"d":"$0.00"},{"$nulls":8},"Venta_Bs_Inmu_CxC_GO",1,120,{"$f":"(X1056=Parametros[Segmento])*(Y1056>0)*(Z1056>0)","v":0}]
[null,"Propiedad 1 ",null,null,8,null,{"$f":"IF(N1057>0,N1057,\"\")","v":{"v":5855555,"d":"$5,855,555"}},null,{"$f":"IF(G1057=\"\",\"\",G1057-H1057)","v":{"v":5855555,"d":"$ 5,855,555"}},{"$f":"IF(C1057=\"\",\"\",15%)","v":""},{"$f":"IFERROR(IF(J1057>0,I1057*J1057,I1057),\"\")","v":""},null,";300000;;5555555;;;;;",{"v":5855555,"d":"$5,855,555.00"},{"$nulls":8},{"$f":"SUBSTITUTE($B$1055,CHAR(10),\"\")","v":"Venta de Bienes poseídos por menos de dos años"},"Venta_Bs_Inmu_CxC_GO",{"$f":"(W1057=OFFSET(W1057,1,0))*1","v":1},30,{"$f":"(X1057=Parametros[Segmento])*(Y1057>0)*(Z1057>0)","v":0}]
[{"$nulls":6},{"$f":"IF(N1058>0,N1058,\"\")","v":""},null,{"$f":"IF(G1058=\"\",\"\",G1058-H1058)","v":""},{"$f":"IF(C1058=\"\",\"\",15%)","v":""},{"$f":"IFERROR(IF(J1058>0,I1058*J1058,I1058),\"\")","v":""},{"$nulls":11},{"$f":"SUBSTITUTE($B$1055,CHAR(10),\"\")","v":"Venta de Bienes poseídos por menos de dos años"},"Venta_Bs_Inmu_CxC_GO",0,30,{"$f":"(X1058=Parametros[Segmento])*(Y1058>0)*(Z1058>0)","v":0}]
[null,"Totales",{"$f":"SUM(C1057:C1058)","v":{"v":0,"d":"$ 0"}},{"$f":"SUM(D1057:D1058)","v":{"v":0,"d":"$ 0"}},null,null,{"$f":"SUM(G1057:G1058)","v":{"v":5855555,"d":"$ 5,855,555"}},{"$f":"SUM(H1057:H1058)","v":{"v":0,"d":"$ 0"}},{"$f":"SUM(I1057:I1058)","v":{"v":5855555,"d":"$ 5,855,555"}},null,{"$f":"SUM(K1057:K1058)","v":{"v":0,"d":"$ 0"}},{"$nulls":12},"Venta_Bs_Inmu_CxC_GO",1,30,{"$f":"(X1059=Parametros[Segmento])*(Y1059>0)*(Z1059>0)","v":0}]
[{"$nulls":12},{"$f":"OFFSET(Lista_Venta_Bs_Inmu_CxC_GO,Venta_Bs_Inmu_CxC_GO_Indice-1,11,1,1)","v":";300000;;5555555;;;;;"},{"$nulls":10},"Venta_Bs_Inmu_CxC_GO",1,30,{"$f":"(X1060=Parametros[Segmento])*(Y1060>0)*(Z1060>0)","v":0}]
[null,{"$f":"IFERROR(IF(Venta_Bs_Inmu_CxC_GO_Indice=0,\"\",IF(INDEX(Lista_Venta_Bs_Inmu_CxC_GO,Venta_Bs_Inmu_CxC_GO_Indice)=\"\",\"\",INDEX(Lista_Venta_Bs_Inmu_CxC_GO,Venta_Bs_Inmu_CxC_GO_Indice))),\"\")","v":"Propiedad 1 "},{"$nulls":10},1,{"$nulls":10},"Venta_Bs_Inmu_CxC_GO",{"$f":"(Venta_Bs_Inmu_CxC_RO_Indice>0)*1","v":1},30,{"$f":"(X1061=Parametros[Segmento])*(Y1061>0)*(Z1061>0)","v":0}]
[null,"Número de cuota ","Valor de la cuota/pago anual","Tasa de Interés ","Valor presente ",{"$nulls":7},1,{"$nulls":10},"Venta_Bs_Inmu_CxC_GO",1,50,{"$f":"(X1062=Parametros[Segmento])*(Y1062>0)*(Z1062>0)","v":0}]
[null,1,null,{"$f":"OFFSET($F$1056,Venta_Bs_Inmu_CxC_RO_Indice,0)","v":{"v":0,"d":"0%"}},{"$f":"+PV(D1063,B1063,0,-C1063)","v":{"v":0,"d":"$0"}},{"$nulls":7},{"$f":"IFERROR(SEARCH(\";\",$M$1060,M1062)+1,0)","v":2},{"$f":"IFERROR(IF(M1063=0,\"\",MID($M$1060,M1062,M1063-M1062-1)),\"\")","v":""},{"$nulls":9},"Venta_Bs_Inmu_CxC_GO",1,30,{"$f":"(X1063=Parametros[Segmento])*(Y1063>0)*(Z1063>0)","v":0}]
[null,2,null,{"v":0,"d":"0%"},{"v":0,"d":"$0"},{"$nulls":7},9,"300000",{"$nulls":9},"Venta_Bs_Inmu_CxC_GO",1,30,{"$f":"(X1064=Parametros[Segmento])*(Y1064>0)*(Z1064>0)","v":0}]
[null,3,null,{"v":0,"d":"0%"},{"v":0,"d":"$0"},{"$nulls":7},10,"",{"$nulls":9},"Venta_Bs_Inmu_CxC_GO",1,30,{"$f":"(X1065=Parametros[Segmento])*(Y1065>0)*(Z1065>0)","v":0}]
[null,4,null,{"v":0,"d":"0%"},{"v":0,"d":"$0"},{"$nulls":7},18,"5555555",{"$nulls":9},"Venta_Bs_Inmu_CxC_GO",1,30,{"$f":"(X1066=Parametros[Segmento])*(Y1066>0)*(Z1066>0)","v":0}]
[null,5,null,{"v":0,"d":"0%"},{"v":0,"d":"$0"},{"$nulls":7},19,"",{"$nulls":9},"Venta_Bs_Inmu_CxC_GO",1,30,{"$f":"(X1067=Parametros[Segmento])*(Y1067>0)*(Z1067>0)","v":0}]
[null,6,null,{"v":0,"d":"0%"},{"v":0,"d":"$0"},{"$nulls":7},20,"",{"$nulls":9},"Venta_Bs_Inmu_CxC_GO",1,30,{"$f":"(X1068=Parametros[Segmento])*(Y1068>0)*(Z1068>0)","v":0}]
[null,7,null,{"v":0,"d":"0%"},{"v":0,"d":"$0"},{"$nulls":7},21,"",{"$nulls":9},"Venta_Bs_Inmu_CxC_GO",1,30,{"$f":"(X1069=Parametros[Segmento])*(Y1069>0)*(Z1069>0)","v":0}]
[null,8,null,{"v":0,"d":"0%"},{"v":0,"d":"$0"},{"$nulls":7},22,"",{"$nulls":9},"Venta_Bs_Inmu_CxC_GO",1,30,{"$f":"(X1070=Parametros[Segmento])*(Y1070>0)*(Z1070>0)","v":0}]
[null,"Valor presente ",null,null,{"$f":"SUM(E1063:E1070)","v":{"v":0,"d":"$0"}},{"$nulls":18},"Venta_Bs_Inmu_CxC_GO",1,30,{"$f":"(X1071=Parametros[Segmento])*(Y1071>0)*(Z1071>0)","v":0}]
[3,45,25,25,24.78,24.78,24.78,4,{"$nulls":15},"Venta_Bs_Inmu_PPE",null,20,{"$f":"(X1072=Parametros[Segmento])*(Y1072>0)*(Z1072>0)","v":0}]
[{"$nulls":23},"Venta_Bs_Inmu_PPE",1,30,{"$f":"(X1073=Parametros[Segmento])*(Y1073>0)*(Z1073>0)","v":0}]
[null,"Venta de Bienes poseídos por dos años o más ",{"$nulls":21},"Venta_Bs_Inmu_PPE",1,30,{"$f":"(X1074=Parametros[Segmento])*(Y1074>0)*(Z1074>0)","v":0}]
[null,"Descripción del Bien Inmueble ","Valor Contable del Bien Inmueble a 31 de diciembre de 2023","Valor Fiscal del Bien Inmueble a 31 de diciembre de 2023","Valor de la diferencia ","Tarifa aplicable ","Valor Impuesto diferido ",{"$nulls":16},"Venta_Bs_Inmu_PPE",1,75,{"$f":"(X1075=Parametros[Segmento])*(Y1075>0)*(Z1075>0)","v":0}]
[{"$nulls":5},{"$f":"+IF(B1076>0,15%,\"\")","v":""},{"$f":"IFERROR(IF(B1076>0,E1076*F1076,\"\"),\"\")","v":""},{"$nulls":15},{"$f":"SUBSTITUTE($B$1074,CHAR(10),\"\")","v":"Venta de Bienes poseídos por dos años o más "},"Venta_Bs_Inmu_PPE",{"$f":"(W1076=OFFSET(W1076,1,0))*1","v":1},30,{"$f":"(X1076=Parametros[Segmento])*(Y1076>0)*(Z1076>0)","v":0}]
[{"$nulls":4},{"$f":"IF(AND(C1077=\"\",D1077=\"\"),\"\",-C1077+D1077)","v":""},{"$f":"+IF(B1077>0,15%,\"\")","v":""},{"$f":"IFERROR(IF(B1077>0,E1077*F1077,\"\"),\"\")","v":""},{"$nulls":15},{"$f":"SUBSTITUTE($B$1074,CHAR(10),\"\")","v":"Venta de Bienes poseídos por dos años o más "},"Venta_Bs_Inmu_PPE",0,30,{"$f":"(X1077=Parametros[Segmento])*(Y1077>0)*(Z1077>0)","v":0}]
[null,"Totales ",{"$f":"SUM(C1076:C1077)","v":0},{"$f":"SUM(D1076:D1077)","v":0},{"v":0,"d":"$ 0"},null,{"$f":"SUM(G1076:G1077)","v":{"v":0,"d":"$ 0"}},{"$nulls":16},"Venta_Bs_Inmu_PPE",1,30,{"$f":"(X1078=Parametros[Segmento])*(Y1078>0)*(Z1078>0)","v":0}]
[{"$nulls":23},"Venta_Bs_Inmu_PPE",1,30,{"$f":"(X1079=Parametros[Segmento])*(Y1079>0)*(Z1079>0)","v":0}]
[{"$nulls":23},"Venta_Bs_Inmu_PPE",1,30,{"$f":"(X1080=Parametros[Segmento])*(Y1080>0)*(Z1080>0)","v":0}]
[null,"Venta de Bienes poseídos por menos de dos años",{"$nulls":21},"Venta_Bs_Inmu_PPE",1,30,{"$f":"(X1081=Parametros[Segmento])*(Y1081>0)*(Z1081>0)","v":0}]
[null,"Descripción del Bien Inmueble ","Valor Contable del Bien Inmueble a 31 de diciembre de 2022 ","Valor Fiscal del Bien Inmueble a 31 de diciembre de 2022 ","Valor de la diferencia ","Tarifa aplicable ","Valor Impuesto diferido ",{"$nulls":16},"Venta_Bs_Inmu_PPE",1,75,{"$f":"(X1082=Parametros[Segmento])*(Y1082>0)*(Z1082>0)","v":0}]
[{"$nulls":5},{"$f":"+IF(B1083>0,' '!$F$53,\"\")","v":""},{"$f":"IFERROR(IF(B1083>0,E1083*F1083,\"\"),\"\")","v":""},{"$nulls":15},{"$f":"SUBSTITUTE($B$1081,CHAR(10),\"\")","v":"Venta de Bienes poseídos por menos de dos años"},"Venta_Bs_Inmu_PPE",{"$f":"(W1083=OFFSET(W1083,1,0))*1","v":1},30,{"$f":"(X1083=Parametros[Segmento])*(Y1083>0)*(Z1083>0)","v":0}]
[{"$nulls":4},{"$f":"IF(AND(C1084=\"\",D1084=\"\"),\"\",-C1084+D1084)","v":""},{"$f":"+IF(B1084>0,' '!$F$53,\"\")","v":""},{"$f":"IFERROR(IF(B1084>0,E1084*F1084,\"\"),\"\")","v":""},{"$nulls":15},{"$f":"SUBSTITUTE($B$1081,CHAR(10),\"\")","v":"Venta de Bienes poseídos por menos de dos años"},"Venta_Bs_Inmu_PPE",0,30,{"$f":"(X1084=Parametros[Segmento])*(Y1084>0)*(Z1084>0)","v":0}]
[null,"Totales ",{"$f":"SUM(C1083:C1084)","v":0},{"$f":"SUM(D1083:D1084)","v":0},{"v":0,"d":"$ 0"},null,{"$f":"SUM(G1083:G1084)","v":{"v":0,"d":"$ 0"}},{"$nulls":16},"Venta_Bs_Inmu_PPE",1,30,{"$f":"(X1085=Parametros[Segmento])*(Y1085>0)*(Z1085>0)","v":0}]
[{"$nulls":23},"Venta_Bs_Inmu_PPE",1,30,{"$f":"(X1086=Parametros[Segmento])*(Y1086>0)*(Z1086>0)","v":0}]
[1,7,3.22,43,25.89,25.89,25.89,25.89,25.89,25.89,25.89,25.89,4,{"$nulls":10},"Impuesto Diferido 2516",null,20,{"$f":"(X1087=Parametros[Segmento])*(Y1087>0)*(Z1087>0)","v":0}]
[{"$nulls":23},"Impuesto Diferido 2516",1,10,{"$f":"(X1088=Parametros[Segmento])*(Y1088>0)*(Z1088>0)","v":0}]
[{"$nulls":5},"Activos y pasivos por impuesto diferido",{"$nulls":17},"Impuesto Diferido 2516",1,30,{"$f":"(X1089=Parametros[Segmento])*(Y1089>0)*(Z1089>0)","v":0}]
[{"$nulls":23},"Impuesto Diferido 2516",1,30,{"$f":"(X1090=Parametros[Segmento])*(Y1090>0)*(Z1090>0)","v":0}]
[{"$nulls":23},"Impuesto Diferido 2516",1,30,{"$f":"(X1091=Parametros[Segmento])*(Y1091>0)*(Z1091>0)","v":0}]
[{"$nulls":23},"Impuesto Diferido 2516",1,30,{"$f":"(X1092=Parametros[Segmento])*(Y1092>0)*(Z1092>0)","v":0}]
[{"$nulls":23},"Impuesto Diferido 2516",1,30,{"$f":"(X1093=Parametros[Segmento])*(Y1093>0)*(Z1093>0)","v":0}]
[{"$nulls":23},"Impuesto Diferido 2516",1,30,{"$f":"(X1094=Parametros[Segmento])*(Y1094>0)*(Z1094>0)","v":0}]
[null,null,"1. Impuestos diferidos provenientes de diferencias temporarias",{"$nulls":20},"Impuesto Diferido 2516",1,30,{"$f":"(X1095=Parametros[Segmento])*(Y1095>0)*(Z1095>0)","v":0}]
[{"$nulls":23},"Impuesto Diferido 2516",1,30,{"$f":"(X1096=Parametros[Segmento])*(Y1096>0)*(Z1096>0)","v":0}]
[null,"Fila","Concepto",null,"Base contable","Base Fiscal","Diferencia Temporaria","Diferencia Permanente","Saldo impuesto diferido\na 31 -DIC vigencia actual","Saldo impuesto diferido\na 31 -DIC vigencia  anterior","Variación","Tasa fiscal aplicada",{"$nulls":11},"Impuesto Diferido 2516",1,35,{"$f":"(X1097=Parametros[Segmento])*(Y1097>0)*(Z1097>0)","v":0}]
[{"$nulls":23},"Impuesto Diferido 2516",1,35,{"$f":"(X1098=Parametros[Segmento])*(Y1098>0)*(Z1098>0)","v":0}]
[null,1,"Activo diferido (diferencias temporarias deducibles)",{"$nulls":20},"Impuesto Diferido 2516",1,30,{"$f":"(X1099=Parametros[Segmento])*(Y1099>0)*(Z1099>0)","v":0}]
[null,13,null,"Efectivo y equivalentes al efectivo",{"$f":"+' '!D987","v":0},{"$f":"+' '!E987","v":0},{"$f":"+' '!H987","v":0},{"$f":"+' '!I987","v":0},{"$f":"+' '!L987","v":0},{"$f":"+' '!M987","v":0},{"$f":"+J1100-I1100","v":0},{"$f":"IF(G1100>0,I1100/G1100,0)","v":{"v":0,"d":"0.0%"}},{"$nulls":11},"Impuesto Diferido 2516",1,30,{"$f":"(X1100=Parametros[Segmento])*(Y1100>0)*(Z1100>0)","v":0}]
[null,{"$f":"B1100+1","v":14},null,"Inversiones e instrumentos derivados",{"$f":"+' '!D988","v":0},{"$f":"+' '!F988","v":0},{"$f":"+' '!H988","v":0},{"$f":"+' '!I988","v":0},{"$f":"+' '!L988","v":0},{"$f":"+' '!M988","v":0},0,{"v":0,"d":"0.0%"},{"$nulls":11},"Impuesto Diferido 2516",1,30,{"$f":"(X1101=Parametros[Segmento])*(Y1101>0)*(Z1101>0)","v":0}]
[null,15,null,"Cuentas por cobrar",{"$f":"+' '!D989+' '!D990+' '!D991","v":0},{"$f":"+' '!E989+' '!E990+' '!E991","v":0},{"$f":"+' '!H989+' '!H990+' '!H991","v":0},{"$f":"+' '!I989+' '!I990+' '!I991","v":0},{"$f":"+' '!L989+' '!L990+' '!L991","v":0},{"$f":"+' '!M989+' '!M990+' '!M991","v":0},0,{"v":0,"d":"0.0%"},{"$nulls":11},"Impuesto Diferido 2516",1,30,{"$f":"(X1102=Parametros[Segmento])*(Y1102>0)*(Z1102>0)","v":0}]
[null,16,null,"Inventarios",{"$f":"+' '!D992","v":0},{"$f":"+' '!E992","v":0},{"$f":"+' '!H992","v":0},{"$f":"+' '!I992","v":0},{"$f":"+' '!L992","v":0},{"$f":"+' '!M992","v":0},0,{"v":0,"d":"0.0%"},{"$nulls":11},"Impuesto Diferido 2516",1,30,{"$f":"(X1103=Parametros[Segmento])*(Y1103>0)*(Z1103>0)","v":0}]
[null,17,null,"Propiedades, planta y equipo",{"$f":"+' '!D993+' '!D994+' '!D995","v":0},{"$f":"+' '!E993+' '!E994+' '!E995","v":0},{"$f":"+' '!H993+' '!H994+' '!H995","v":0},{"$f":"+' '!I993+' '!I994+' '!I995","v":0},{"$f":"+' '!L993+' '!L994+' '!L995","v":0},{"$f":"+' '!M993+' '!M994+' '!M995","v":0},0,{"v":0,"d":"0.0%"},{"$nulls":11},"Impuesto Diferido 2516",1,30,{"$f":"(X1104=Parametros[Segmento])*(Y1104>0)*(Z1104>0)","v":0}]
[null,18,null,"Activos intangibles",{"$f":"+' '!D996","v":0},{"$f":"+' '!E996","v":0},{"$f":"+' '!H996","v":0},{"$f":"+' '!I996","v":0},{"$f":"+' '!L996","v":0},{"$f":"+' '!M996","v":0},0,{"v":0,"d":"0.0%"},{"$nulls":11},"Impuesto Diferido 2516",1,30,{"$f":"(X1105=Parametros[Segmento])*(Y1105>0)*(Z1105>0)","v":0}]
[null,19,null,"Propiedades de inversión",{"$f":"+' '!D997","v":0},{"$f":"+' '!E997","v":0},{"$f":"+' '!H997","v":0},{"$f":"+' '!I997","v":0},{"$f":"+' '!L997","v":0},{"$f":"+' '!M997","v":0},0,{"v":0,"d":"0.0%"},{"$nulls":11},"Impuesto Diferido 2516",1,30,{"$f":"(X1106=Parametros[Segmento])*(Y1106>0)*(Z1106>0)","v":0}]
[null,20,null,"Activos biológicos",{"$f":"+' '!D998","v":0},{"$f":"+' '!E998","v":0},{"$f":"+' '!H998","v":0},{"$f":"+' '!I998","v":0},{"$f":"+' '!L998","v":0},{"$f":"+' '!M998","v":0},0,{"v":0,"d":"0.0%"},{"$nulls":11},"Impuesto Diferido 2516",1,30,{"$f":"(X1107=Parametros[Segmento])*(Y1107>0)*(Z1107>0)","v":0}]
[null,21,null,"Activos no corrientes mantenidos para la venta / entregar a propietarios",{"$f":"+' '!D999","v":0},{"$f":"+' '!E999","v":0},{"$f":"+' '!H999","v":0},{"$f":"+' '!I999","v":0},{"$f":"+' '!L999","v":0},{"$f":"+' '!M999","v":0},0,{"v":0,"d":"0.0%"},{"$nulls":11},"Impuesto Diferido 2516",1,30,{"$f":"(X1108=Parametros[Segmento])*(Y1108>0)*(Z1108>0)","v":0}]
[null,{"$f":"+B1108+1","v":22},null,"Pasivos financieros y cuentas por pagar",{"$f":"+' '!D1003","v":0},{"$f":"+' '!E1003","v":0},{"$f":"+' '!H1003","v":0},{"$f":"+' '!I1003","v":0},{"$f":"+' '!L1003","v":0},{"$f":"+' '!M1003","v":0},0,{"v":0,"d":"0.0%"},{"$nulls":11},"Impuesto Diferido 2516",1,30,{"$f":"(X1109=Parametros[Segmento])*(Y1109>0)*(Z1109>0)","v":0}]
[null,{"$f":"B1109+1","v":23},null,"Impuestos, gravámenes y tasas",{"$f":"+' '!D1004","v":0},{"$f":"+' '!E1004","v":0},{"$f":"+' '!H1004","v":0},{"$f":"+' '!I1004","v":0},{"$f":"+' '!L1004","v":0},{"$f":"+' '!M1004","v":0},0,{"v":0,"d":"0.0%"},{"$nulls":11},"Impuesto Diferido 2516",1,30,{"$f":"(X1110=Parametros[Segmento])*(Y1110>0)*(Z1110>0)","v":0}]
[null,{"$f":"B1110+1","v":24},null,"Beneficios a  Empleados",{"$f":"+' '!D1005","v":0},{"$f":"+' '!E1005","v":0},{"$f":"+' '!H1005","v":0},{"$f":"+' '!I1005","v":0},{"$f":"+' '!L1005","v":0},{"$f":"+' '!M1005","v":0},0,{"v":0,"d":"0.0%"},{"$nulls":11},"Impuesto Diferido 2516",1,30,{"$f":"(X1111=Parametros[Segmento])*(Y1111>0)*(Z1111>0)","v":0}]
[null,{"$f":"B1111+1","v":25},null,"Provisiones",{"$f":"+' '!D1006","v":0},{"$f":"+' '!E1006","v":0},{"$f":"+' '!H1006","v":0},{"$f":"+' '!I1006","v":0},{"$f":"+' '!L1006","v":0},{"$f":"+' '!M1006","v":0},0,{"v":0,"d":"0.0%"},{"$nulls":11},"Impuesto Diferido 2516",1,30,{"$f":"(X1112=Parametros[Segmento])*(Y1112>0)*(Z1112>0)","v":0}]
[null,{"$f":"B1112+1","v":26},null,"Otros Pasivos Anticipos y avances recibidos",{"$f":"+' '!D1007","v":0},{"$f":"+' '!E1007","v":0},{"$f":"+' '!H1007","v":0},{"$f":"+' '!I1007","v":0},{"$f":"+' '!L1007","v":0},{"$f":"+' '!M1007","v":0},0,{"v":0,"d":"0.0%"},{"$nulls":11},"Impuesto Diferido 2516",1,30,{"$f":"(X1113=Parametros[Segmento])*(Y1113>0)*(Z1113>0)","v":0}]
[null,{"$f":"B1113+1","v":27},null,"Operaciones con títulos y derivados",{"$f":"+' '!D1008","v":0},{"$f":"+' '!E1008","v":0},0,0,0,0,0,{"v":0,"d":"0.0%"},{"$nulls":11},"Impuesto Diferido 2516",1,30,{"$f":"(X1114=Parametros[Segmento])*(Y1114>0)*(Z1114>0)","v":0}]
[null,{"$f":"+B1114+1","v":28},null,"Perdidas fiscales y/o excesos de renta presuntiva",{"$f":"+' '!D1002","v":0},{"$f":"+' '!E1002","v":0},{"$f":"+' '!H1002","v":0},{"$f":"+' '!I1002","v":0},{"$f":"+' '!L1002","v":0},{"$f":"+' '!M1002","v":0},0,{"v":0,"d":"0.0%"},{"$nulls":11},"Impuesto Diferido 2516",1,30,{"$f":"(X1115=Parametros[Segmento])*(Y1115>0)*(Z1115>0)","v":0}]
[null,{"$f":"B1115+1","v":29},null,"Activos reconocidos solamente para fines fiscales",{"$f":"+' '!D1000","v":0},{"$f":"+' '!E1000","v":0},{"$f":"+' '!H1000","v":0},{"$f":"+' '!I1000","v":0},{"$f":"+' '!L1000","v":0},{"$f":"+' '!M1000","v":0},0,{"v":0,"d":"0.0%"},{"$nulls":11},"Impuesto Diferido 2516",1,30,{"$f":"(X1116=Parametros[Segmento])*(Y1116>0)*(Z1116>0)","v":0}]
[null,30,null,"Otros activos",{"$f":"+' '!D1001","v":0},{"$f":"+' '!E1001","v":0},{"$f":"+' '!H1001","v":0},{"$f":"+' '!I1001","v":0},{"$f":"+' '!L1001","v":0},{"$f":"+' '!M1001","v":0},0,{"v":0,"d":"0.0%"},{"$nulls":11},"Impuesto Diferido 2516",1,30,{"$f":"(X1117=Parametros[Segmento])*(Y1117>0)*(Z1117>0)","v":0}]
[null,31,null,"Valor total",{"$nulls":4},{"$f":"SUM(I1100:I1117)","v":0},{"$f":"SUM(J1100:J1117)","v":0},{"$f":"SUM(K1100:K1117)","v":0},{"$nulls":12},"Impuesto Diferido 2516",1,30,{"$f":"(X1118=Parametros[Segmento])*(Y1118>0)*(Z1118>0)","v":0}]
[null,32,"Pasivo diferido (diferencias temporarias imponibles)",{"$nulls":20},"Impuesto Diferido 2516",1,30,{"$f":"(X1119=Parametros[Segmento])*(Y1119>0)*(Z1119>0)","v":0}]
[null,33,null,"Efectivo y equivalentes al efectivo",{"$f":"+' '!D1011","v":0},{"$f":"+' '!E1011","v":0},{"$f":"+' '!H1011","v":0},{"$f":"+' '!I1011","v":0},{"$f":"+' '!L1011","v":0},{"$f":"+' '!M1011","v":0},{"$f":"J1120-I1120","v":0},{"$f":"IF(G1120=\" \",0,IF(G1120=0,0,I1120/G1120))","v":{"v":0,"d":"0.0%"}},{"$nulls":11},"Impuesto Diferido 2516",1,30,{"$f":"(X1120=Parametros[Segmento])*(Y1120>0)*(Z1120>0)","v":0}]
[null,34,null,"Inversiones e instrumentos derivados",{"$f":"+' '!D1012","v":0},{"$f":"+' '!E1012","v":0},{"$f":"+' '!H1012","v":0},{"$f":"+' '!I1012","v":0},{"$f":"+' '!L1012","v":0},{"$f":"+' '!M1012","v":0},0,{"v":0,"d":"0.0%"},{"$nulls":11},"Impuesto Diferido 2516",1,30,{"$f":"(X1121=Parametros[Segmento])*(Y1121>0)*(Z1121>0)","v":0}]
[null,35,null,"Cuentas por cobrar",{"$f":"+' '!D1013+' '!D1014+' '!D1015","v":{"v":6255555,"d":"6,255,555"}},{"$f":"+' '!E1013+' '!E1014+' '!E1015","v":0},{"$f":"+' '!H1013+' '!H1014+' '!H1015","v":0},{"$f":"+' '!I1013+' '!I1014+' '!I1015","v":0},{"$f":"+' '!L1013+' '!L1014+' '!L1015","v":0},{"$f":"+' '!M1013+' '!M1014+' '!M1015","v":0},0,{"v":0,"d":"0.0%"},{"$nulls":11},"Impuesto Diferido 2516",1,30,{"$f":"(X1122=Parametros[Segmento])*(Y1122>0)*(Z1122>0)","v":0}]
[null,36,null,"Inventarios",{"$f":"+' '!D1016","v":0},{"$f":"+' '!E1016","v":0},{"$f":"+' '!H1016","v":0},{"$f":"+' '!I1016","v":0},{"$f":"+' '!L1016","v":0},{"$f":"+' '!M1016","v":0},0,{"v":0,"d":"0.0%"},{"$nulls":11},"Impuesto Diferido 2516",1,30,{"$f":"(X1123=Parametros[Segmento])*(Y1123>0)*(Z1123>0)","v":0}]
[null,37,null,"Propiedades, planta y equipo",{"$f":"+' '!D1017+' '!D1018+' '!D1019","v":0},{"$f":"+' '!E1017+' '!E1018+' '!E1019","v":22},{"$f":"+' '!H1017+' '!H1018+' '!H1019","v":0},{"$f":"+' '!I1017+' '!I1018+' '!I1019","v":0},{"$f":"+' '!L1017+' '!L1018+' '!L1019","v":0},{"$f":"+' '!M1017+' '!M1018+' '!M1019","v":0},0,{"v":0,"d":"0.0%"},{"$nulls":11},"Impuesto Diferido 2516",1,30,{"$f":"(X1124=Parametros[Segmento])*(Y1124>0)*(Z1124>0)","v":0}]
[null,38,null,"Activos intangibles",{"$f":"+' '!D1020","v":0},{"$f":"+' '!E1020","v":0},{"$f":"+' '!H1020","v":0},{"$f":"+' '!I1020","v":0},{"$f":"+' '!L1020","v":0},{"$f":"+' '!M1020","v":0},0,{"v":0,"d":"0.0%"},{"$nulls":11},"Impuesto Diferido 2516",1,30,{"$f":"(X1125=Parametros[Segmento])*(Y1125>0)*(Z1125>0)","v":0}]
[null,39,null,"Propiedades de inversión",{"$f":"+' '!D1021","v":0},{"$f":"+' '!E1021","v":0},{"$f":"+' '!H1021","v":0},{"$f":"+' '!I1021","v":0},{"$f":"+' '!L1021","v":0},{"$f":"+' '!M1021","v":0},0,{"v":0,"d":"0.0%"},{"$nulls":11},"Impuesto Diferido 2516",1,30,{"$f":"(X1126=Parametros[Segmento])*(Y1126>0)*(Z1126>0)","v":0}]
[null,40,null,"Activos biológicos",{"$f":"+' '!D1022","v":0},{"$f":"+' '!E1022","v":0},{"$f":"+' '!H1022","v":0},{"$f":"+' '!I1022","v":0},{"$f":"+' '!L1022","v":0},{"$f":"+' '!M1022","v":0},0,{"v":0,"d":"0.0%"},{"$nulls":11},"Impuesto Diferido 2516",1,30,{"$f":"(X1127=Parametros[Segmento])*(Y1127>0)*(Z1127>0)","v":0}]
[null,41,null,"Activos no corrientes mantenidos para la venta / entregar a propietarios",{"$f":"+' '!D1023","v":0},{"$f":"+' '!E1023","v":0},{"$f":"+' '!H1023","v":0},{"$f":"+' '!I1023","v":0},{"$f":"+' '!L1023","v":0},{"$f":"+' '!M1023","v":0},0,{"v":0,"d":"0.0%"},{"$nulls":11},"Impuesto Diferido 2516",1,30,{"$f":"(X1128=Parametros[Segmento])*(Y1128>0)*(Z1128>0)","v":0}]
[null,42,null,"Pasivos financieros y cuentas por pagar",{"$f":"+' '!D1026","v":0},{"$f":"+' '!E1026","v":0},{"$f":"+' '!H1026","v":0},{"$f":"+' '!I1026","v":0},{"$f":"+' '!L1026","v":0},{"$f":"+' '!M1026","v":0},0,{"v":0,"d":"0.0%"},{"$nulls":11},"Impuesto Diferido 2516",1,30,{"$f":"(X1129=Parametros[Segmento])*(Y1129>0)*(Z1129>0)","v":0}]
[null,43,null,"Impuestos, gravámenes y tasas",{"$f":"+' '!D1027","v":0},{"$f":"+' '!E1027","v":0},{"$f":"+' '!H1027","v":0},{"$f":"+' '!I1027","v":0},{"$f":"+' '!L1027","v":0},{"$f":"+' '!M1027","v":0},0,{"v":0,"d":"0.0%"},{"$nulls":11},"Impuesto Diferido 2516",1,30,{"$f":"(X1130=Parametros[Segmento])*(Y1130>0)*(Z1130>0)","v":0}]
[null,44,null,"Beneficios a  Empleados",{"$f":"+' '!D1028","v":0},{"$f":"+' '!E1028","v":0},{"$f":"+' '!H1028","v":0},{"$f":"+' '!I1028","v":0},{"$f":"+' '!L1028","v":0},{"$f":"+' '!M1028","v":0},0,{"v":0,"d":"0.0%"},{"$nulls":11},"Impuesto Diferido 2516",1,30,{"$f":"(X1131=Parametros[Segmento])*(Y1131>0)*(Z1131>0)","v":0}]
[null,45,null,"Provisiones",{"$f":"+' '!D1029","v":0},{"$f":"+' '!E1029","v":0},{"$f":"+' '!H1029","v":0},{"$f":"+' '!I1029","v":0},{"$f":"+' '!L1029","v":0},{"$f":"+' '!M1029","v":0},0,{"v":0,"d":"0.0%"},{"$nulls":11},"Impuesto Diferido 2516",1,30,{"$f":"(X1132=Parametros[Segmento])*(Y1132>0)*(Z1132>0)","v":0}]
[null,46,null,"Otros Pasivos Anticipos y avances recibidos",{"$f":"+' '!D1030","v":0},{"$f":"+' '!E1030","v":0},{"$f":"+' '!H1030","v":0},{"$f":"+' '!I1030","v":0},{"$f":"+' '!L1030","v":0},{"$f":"+' '!M1030","v":0},0,{"v":0,"d":"0.0%"},{"$nulls":11},"Impuesto Diferido 2516",1,30,{"$f":"(X1133=Parametros[Segmento])*(Y1133>0)*(Z1133>0)","v":0}]
[null,47,null,"Operaciones con títulos y derivados",0,{"$f":"+' '!E1031","v":0},0,0,0,{"$f":"+' '!M1031","v":0},0,{"v":0,"d":"0.0%"},{"$nulls":11},"Impuesto Diferido 2516",1,30,{"$f":"(X1134=Parametros[Segmento])*(Y1134>0)*(Z1134>0)","v":0}]
[null,48,null,"Perdidas fiscales y/o excesos de renta presuntiva",0,0,0,0,0,0,0,{"v":0,"d":"0.0%"},{"$nulls":11},"Impuesto Diferido 2516",1,30,{"$f":"(X1135=Parametros[Segmento])*(Y1135>0)*(Z1135>0)","v":0}]
[null,49,null,"Activos reconocidos solamente para fines fiscales",{"$f":"+' '!D1024","v":0},{"$f":"+' '!E1024","v":0},{"$f":"+' '!H1024","v":0},{"$f":"+' '!I1024","v":0},{"$f":"+' '!L1024","v":0},{"$f":"+' '!M1024","v":0},0,{"v":0,"d":"0.0%"},{"$nulls":11},"Impuesto Diferido 2516",1,30,{"$f":"(X1136=Parametros[Segmento])*(Y1136>0)*(Z1136>0)","v":0}]
[null,50,null,"Otros activos",{"$f":"+' '!D1025","v":0},{"$f":"+' '!E1025","v":0},{"$f":"+' '!H1025","v":0},{"$f":"+' '!I1025","v":0},{"$f":"+' '!L1025","v":0},{"$f":"+' '!M1025","v":0},0,{"v":0,"d":"0.0%"},{"$nulls":11},"Impuesto Diferido 2516",1,30,{"$f":"(X1137=Parametros[Segmento])*(Y1137>0)*(Z1137>0)","v":0}]
[null,51,null,"Valor total",{"$nulls":4},{"$f":"SUM(I1120:I1137)","v":0},{"$f":"SUM(J1120:J1137)","v":0},{"$f":"SUM(K1120:K1137)","v":0},{"$nulls":12},"Impuesto Diferido 2516",1,30,{"$f":"(X1138=Parametros[Segmento])*(Y1138>0)*(Z1138>0)","v":0}]
[1,10,1.44,55.89,24.89,24.89,24.89,24.89,4,{"$nulls":14},"Suger Contabilización",null,20,{"$f":"(X1139=Parametros[Segmento])*(Y1139>0)*(Z1139>0)","v":0}]
[{"$nulls":23},"Suger Contabilización",1,10,{"$f":"(X1140=Parametros[Segmento])*(Y1140>0)*(Z1140>0)","v":0}]
[{"$nulls":23},"Suger Contabilización",1,30,{"$f":"(X1141=Parametros[Segmento])*(Y1141>0)*(Z1141>0)","v":0}]
[null,null,"Sugerencia Contabilización ",{"$nulls":20},"Suger Contabilización",1,30,{"$f":"(X1142=Parametros[Segmento])*(Y1142>0)*(Z1142>0)","v":0}]
[null,null,"Concepto ",null,"Saldo a 31 de diciembre del año anterior","Débito ","Crédito ","Saldo a 31 de diciembre de 2023",{"$nulls":15},"Suger Contabilización",1,50,{"$f":"(X1143=Parametros[Segmento])*(Y1143>0)*(Z1143>0)","v":0}]
[null,null,"Activo por impuesto diferido",null,{"$f":"+' '!E84","v":0},{"$f":"+IF(' '!N1009>0,' '!N1009,0)","v":0},{"$f":"+IF(' '!N1009<0,' '!N1009,0)*-1","v":0},{"$f":"+E1144+F1144-G1144","v":0},{"$nulls":15},"Suger Contabilización",1,30,{"$f":"(X1144=Parametros[Segmento])*(Y1144>0)*(Z1144>0)","v":0}]
[null,null,"Pasivo por impuesto diferido ",null,{"$f":"' '!F84","v":0},{"$f":"+IF(' '!N1032<0,' '!N1032,0)*-1","v":0},{"$f":"+IF(' '!N1032>0,' '!N1032,0)","v":0},{"$f":"+E1145-F1145+G1145","v":0},{"$nulls":15},"Suger Contabilización",1,30,{"$f":"(X1145=Parametros[Segmento])*(Y1145>0)*(Z1145>0)","v":0}]
[null,null,"Ingreso por impuesto diferido ",null,null,0,{"$f":"IF(AND(F1145>0,G1144>0),IF(F1145>G1144,F1145-G1144,0),IF(F1145>0,(F1144+F1145),IF((F1144-G1145>0),F1144-G1145,0)))","v":0},{"$f":"+E1146-F1146+G1146","v":0},{"$nulls":15},"Suger Contabilización",1,30,{"$f":"(X1146=Parametros[Segmento])*(Y1146>0)*(Z1146>0)","v":0}]
[null,null,"Gasto por impuesto diferido ",null,null,{"$f":"+IF(AND(F1145>0,G1144>0),IF(G1144>F1145,G1144-F1145,0),IF(G1144>0,(G1144+G1145),IF((G1145-F1144)>0,(G1145-F1144),0)))","v":0},0,{"$f":"+E1147+F1147-G1147","v":0},{"$nulls":15},"Suger Contabilización",1,30,{"$f":"(X1147=Parametros[Segmento])*(Y1147>0)*(Z1147>0)","v":0}]
[null,null,"Totales","Totales ",null,{"$f":"SUM(F1144:F1147)","v":0},{"$f":"SUM(G1144:G1147)","v":0},{"$nulls":16},"Suger Contabilización",1,30,{"$f":"(X1148=Parametros[Segmento])*(Y1148>0)*(Z1148>0)","v":0}]
[1,10,0.94,27.89,27.89,27.89,27.89,27.89,4,{"$nulls":14},"Diferencias",null,20,{"$f":"(X1149=Parametros[Segmento])*(Y1149>0)*(Z1149>0)","v":0}]
[{"$nulls":23},"Diferencias",1,10,{"$f":"(X1150=Parametros[Segmento])*(Y1150>0)*(Z1150>0)","v":0}]
[{"$nulls":23},"Diferencias",1,18,{"$f":"(X1151=Parametros[Segmento])*(Y1151>0)*(Z1151>0)","v":0}]
[null,null,"Diferencias temporarias e impuesto diferido",{"$nulls":20},"Diferencias",1,22.2,{"$f":"(X1152=Parametros[Segmento])*(Y1152>0)*(Z1152>0)","v":0}]
[{"$nulls":23},"Diferencias",1,18,{"$f":"(X1153=Parametros[Segmento])*(Y1153>0)*(Z1153>0)","v":0}]
[{"$nulls":3},"El impuesto diferido hace parte del impuesto a las Ganancias de que trata la Sección 29 de las NIIF para Pymes (anexo 2 del Decreto 2483 de 2018) y es una estimación del impuesto que una entidad deberá pagar o dejar de pagar en el futuro, debido a que algunos ingresos y gastos no son gravados o deducibles en el periodo en el que se reconocen en los estados financieros, pero sí en periodos siguientes. Así, el impuesto diferido: \n\n- Representa consecuencias futuras de hechos económicos de la entidad.\n- Se reconoce sobre transacciones que se incluirán en la declaración de renta de periodos futuros.\n- Se genera por la diferentes presentes al comparar las bases contables y fiscales de los activos y pasivos de la entidad.\n\nDe la comparación de las bases contables y fiscales de los activos y pasivos de la entidad pueden surgir tres tipos de diferencias: ",{"$nulls":19},"Diferencias",1,63,{"$f":"(X1154=Parametros[Segmento])*(Y1154>0)*(Z1154>0)","v":0}]
[{"$nulls":23},"Diferencias",1,63,{"$f":"(X1155=Parametros[Segmento])*(Y1155>0)*(Z1155>0)","v":0}]
[{"$nulls":23},"Diferencias",1,63,{"$f":"(X1156=Parametros[Segmento])*(Y1156>0)*(Z1156>0)","v":0}]
[{"$nulls":23},"Diferencias",1,18,{"$f":"(X1157=Parametros[Segmento])*(Y1157>0)*(Z1157>0)","v":0}]
[{"$nulls":3},"Diferencias temporales ","Las diferencias temporales se obtienen del análisis de las partidas del estado de resultados y las declaraciones de renta de cada periodo. Se acumulan periodo a periodo y se pueden evidenciar como diferencias temporarias en el estado de situación financiera. Estas diferencias se revierten en el futuro.",null,null,"Generan impuesto diferido, pero solo se tienen en cuenta cuando se presentan acumuladas en el estado de situación financiera",{"$nulls":15},"Diferencias",1,113.6,{"$f":"(X1158=Parametros[Segmento])*(Y1158>0)*(Z1158>0)","v":0}]
[{"$nulls":3},"Diferencias temporarias ","Las diferencias temporarias se obtienen del análisis de las partidas del estado de situación financiera y las declaraciones de renta de cada periodo; representan la acumulación, en el valor en libros de los activos y pasivos, de las diferencias temporales presentadas en el periodo actual y en períodos anteriores. Estas diferencias tienden a revertirse en el tiempo, hasta que desaparecen.",null,null,"Generan impuesto diferido",{"$nulls":15},"Diferencias",1,106.1,{"$f":"(X1159=Parametros[Segmento])*(Y1159>0)*(Z1159>0)","v":0}]
[{"$nulls":3},"Diferencias permanentes","Las diferencias permanentes se presentan cuando hay diferencias entre el valor contable y el fiscal de los activos que no se revierten en el futuro. También se presentan por el reconocimiento de gastos que no son ni serán deducibles, o ingresos que no son ni serán gravados.",null,null,"No generan impuesto diferido",{"$nulls":15},"Diferencias",1,89,{"$f":"(X1160=Parametros[Segmento])*(Y1160>0)*(Z1160>0)","v":0}]
[{"$nulls":23},"Diferencias",1,18,{"$f":"(X1161=Parametros[Segmento])*(Y1161>0)*(Z1161>0)","v":0}]
[{"$nulls":3},"Teniendo en cuenta la manera en que se generan las diferencias temporarias, es importante tener en cuenta que, si la diferencia disminuye el impuesto a pagar de un periodo, se genera un impuesto diferido, porque se tiene la obligación de pagarlo en el futuro; cuando la diferencia aumenta el impuesto a pagar de un periodo, se genera un impuesto diferido activo, porque se tiene el derecho a disminuir el impuesto a pagar en el futuro. De acuerdo con lo anterior, si:",{"$nulls":19},"Diferencias",1,73.1,{"$f":"(X1162=Parametros[Segmento])*(Y1162>0)*(Z1162>0)","v":0}]
[{"$nulls":23},"Diferencias",1,15,{"$f":"(X1163=Parametros[Segmento])*(Y1163>0)*(Z1163>0)","v":0}]
[{"$nulls":3},"Activo contable ","es menor que ","Activo fiscal ","Se genera diferencia temporaria deducible ","Activo por impuesto diferido ",{"$nulls":15},"Diferencias",1,36,{"$f":"(X1164=Parametros[Segmento])*(Y1164>0)*(Z1164>0)","v":0}]
[{"$nulls":3},"Activo contable","es mayor que ","Activo fiscal","Se genera diferencia temporaria imponible ","Pasivo por impuesto diferido ",{"$nulls":15},"Diferencias",1,36,{"$f":"(X1165=Parametros[Segmento])*(Y1165>0)*(Z1165>0)","v":0}]
[{"$nulls":3},"Pasivo contable","es mayor que ","Pasivo fiscal ","Se genera diferencia temporaria deducible ","Activo por impuesto diferido ",{"$nulls":15},"Diferencias",1,36,{"$f":"(X1166=Parametros[Segmento])*(Y1166>0)*(Z1166>0)","v":0}]
[{"$nulls":3},"Pasivo contable ","es menor que ","Pasivo fiscal ","Se genera diferencia temporaria imponible ","Pasivo por impuesto diferido ",{"$nulls":15},"Diferencias",1,36,{"$f":"(X1167=Parametros[Segmento])*(Y1167>0)*(Z1167>0)","v":0}]
[1,10,32.56,123.89,19.89,{"$nulls":18},"Normatividad",null,20,{"$f":"(X1168=Parametros[Segmento])*(Y1168>0)*(Z1168>0)","v":0}]
[{"$nulls":23},"Normatividad",1,10,{"$f":"(X1169=Parametros[Segmento])*(Y1169>0)*(Z1169>0)","v":0}]
[{"$nulls":23},"Normatividad",1,18,{"$f":"(X1170=Parametros[Segmento])*(Y1170>0)*(Z1170>0)","v":0}]
[null,null,"Normatividad ",{"$nulls":20},"Normatividad",1,30,{"$f":"(X1171=Parametros[Segmento])*(Y1171>0)*(Z1171>0)","v":0}]
[null,null,"Tema ","Descripción ","NIIF para Pymes ",{"$nulls":18},"Normatividad",1,30,{"$f":"(X1172=Parametros[Segmento])*(Y1172>0)*(Z1172>0)","v":0}]
[null,null,"Impuesto a las ganancias ","Establece los principios para el reconocimiento de activos y pasivos por impuesto diferidos. Asimismo, señala los conceptos de diferencias temporarias imponibles y diferencias temporarias deducibles. ","Sección 29",{"$nulls":18},"Normatividad",1,36,{"$f":"(X1173=Parametros[Segmento])*(Y1173>0)*(Z1173>0)","v":0}]
[null,null,"Deterioro del valor de los activos ","Tratamiento del deterioro del valor de los activos. Aclara que, una pérdida por deterioro de valor tiene lugar cuando el importe en libros de una activo supera su importe recuperable. ","Sección 27",{"$nulls":18},"Normatividad",1,36,{"$f":"(X1174=Parametros[Segmento])*(Y1174>0)*(Z1174>0)","v":0}]
[null,null,"Instrumentos financieros básicos ","Tratamiento de los instrumentos financieros básicos, aplicable a todas las entidades.","Sección 11",{"$nulls":18},"Normatividad",1,36,{"$f":"(X1175=Parametros[Segmento])*(Y1175>0)*(Z1175>0)","v":0}]
[null,null,"Otros temas relacionados con los instrumentos financieros","Tratamiento de los instrumentos financieros y transacciones más complejas ","Sección 12",{"$nulls":18},"Normatividad",1,45,{"$f":"(X1176=Parametros[Segmento])*(Y1176>0)*(Z1176>0)","v":0}]
[null,null,"Inventarios ","Principios para el reconocimiento y medición de los inventarios entendidos como:\n- Activos poseídos para ser vendidos en el curso normal del negocio\n- Activos en proceso de producción con vistas a la venta\n- Activos en forma de materiales os suministros, para ser consumidos en el proceso de producción, o en la prestación de servicios. ","Sección 13",{"$nulls":18},"Normatividad",1,88.2,{"$f":"(X1177=Parametros[Segmento])*(Y1177>0)*(Z1177>0)","v":0}]
[null,null,"Inversiones en asociadas ","Contabilización de las asociadas en estados financieros consolidados y en los estados financieros de un inversión que no es una controladora pero tiene una inversión en una o más asociadas. ","Sección 14",{"$nulls":18},"Normatividad",1,36,{"$f":"(X1178=Parametros[Segmento])*(Y1178>0)*(Z1178>0)","v":0}]
[null,null,"Inversiones en Negocios conjuntos ","Contabilización de negocios conjuntos en los estaos financieros consolidados y en los estaos financieros de un inversor que, no siendo una controladora, tiene participación en uno o más negocios conjuntos. ","Sección 15 ",{"$nulls":18},"Normatividad",1,36,{"$f":"(X1179=Parametros[Segmento])*(Y1179>0)*(Z1179>0)","v":0}]
[null,null,"Propiedades de Inversión ","Contabilidad de inversión en terrenos o edificios que cumplen la definición de propiedades de inversión, así como a ciertas participaciones en propiedades mantenidas por arrendamiento, dentro de un acuerdo de arrendamiento operativos, que se traten como si fueran propiedades de inversión. ","Sección 16",{"$nulls":18},"Normatividad",1,53.4,{"$f":"(X1180=Parametros[Segmento])*(Y1180>0)*(Z1180>0)","v":0}]
[null,null,"Propiedades, planta y equipo ","Contabilidad de propiedades, planta y equipo, así como las propiedades de inversión cuyo valor razonable no se puede medir con fiabilidad sin costo o esfuerzo desproporcionado sobre la base de la gestión continuada.","Sección 17",{"$nulls":18},"Normatividad",1,36,{"$f":"(X1181=Parametros[Segmento])*(Y1181>0)*(Z1181>0)","v":0}]
[{"$nulls":3},"Contabilización de todos los activos intangibles distintos de la plusvalía y activos intangibles mantenidos por una entidad para si venta en el curso ordinario de sus actividades. ","Sección 18",{"$nulls":18},"Normatividad",1,36,{"$f":"(X1182=Parametros[Segmento])*(Y1182>0)*(Z1182>0)","v":0}]
[null,null,"Combinación de negocios y plusvalía ","Contabilización de las combinaciones de negocios, también proporciona una guía para la identificación de la adquiriente, la medición del costo de la combinación de negocios y la distribución de este costo entre los activos adquiridos y los pasivos, y las provisiones para los pasivos contingentes asumidos. También trata la contabilidad de la plusvalía tanto en el momento de una combinación de negocios como posteriormente. ","Sección 19 ",{"$nulls":18},"Normatividad",1,70.8,{"$f":"(X1183=Parametros[Segmento])*(Y1183>0)*(Z1183>0)","v":0}]
[null,null,"Arrendamientos ","Orientación respecto de la contabilización de todos los arrendamientos distintos de: \n- Arrendamientos para la exploración o usos de minerales, petróleo, gas natural y recursos no renovables similares (ver sección 34 - Actividades Especializadas). \n- Acuerdos de licencia para conceptos de películas, grabaciones en video, obras de teatro, manuscritos, patentes y derechos de autor (ver Sección 18 - Activos intangibles distintos a la plusvalía). \n- Medición de los inmuebles mantenidos por arrendatarios que se contabilicen como propiedades de inversión y la medición de las propiedades de inversión suministradas por arrendadores bajo arrendamientos operativos (ver Sección 16 - Propiedades de Inversión).\n - Medición de activos biológicos mantenidos por arrendatarios bajo arrendamientos financieros y activos biológicos suministrados por arrendadores bajo arrendamientos operativos (ver Sección 34 - Actividades especializadas). \n- Arrendamientos operativos que son onerosos.\n- Arrendamientos que pueden dar lugar a una pérdida para el arrendador o el arrendamiento como consecuencia de cláusulas contractuales que no estén relacionadas con cambios en el precio del activo arrendado, cambios en las tasas de cambio de la moneda extranjera, cambios en los pagos por arrendamiento basados en tasas de interés de mercado variable o con incumplimiento por una de las contrapartes. ","Sección 20",{"$nulls":18},"Normatividad",1,262.2,{"$f":"(X1184=Parametros[Segmento])*(Y1184>0)*(Z1184>0)","v":0}]
[null,null,"Provisiones y contingencias","Tratamiento de las provisiones, pasivos contingentes y activos contingentes, como: \n- Provisiones de arrendamientos. \n- Provisiones de contratos de construcción. \n- Provisiones de obligaciones por beneficios a los empleados.\n- Provisiones por impuesto a las ganancias. ","Sección 21",{"$nulls":18},"Normatividad",1,88.2,{"$f":"(X1185=Parametros[Segmento])*(Y1185>0)*(Z1185>0)","v":0}]
[null,null,"Pasivos y patrimonio","Principios para clasificar los instrumentos financieros como pasivos o como patrimonio, y trata la contabilización de los instrumentos de patrimonio emitidos para individuos u otras partes que actúan en capacidad de inversores en instrumentos de patrimonio.","Sección 22",{"$nulls":18},"Normatividad",1,53.4,{"$f":"(X1186=Parametros[Segmento])*(Y1186>0)*(Z1186>0)","v":0}]
[null,null,"Beneficios a los empleados ","Tratamiento del tratamiento de los beneficios a empleados, los cuales comprenden todos los tipos de contraprestaciones que la entidad proporciona a los trabajadores, incluyendo administradores y gerentes, a cambio de sus servicios. ","Sección 28",{"$nulls":18},"Normatividad",1,84,{"$f":"(X1187=Parametros[Segmento])*(Y1187>0)*(Z1187>0)","v":0}]