{"text_format":"1","workbook":"xlsx","n_sheets":6,"sheets":["Desarrollador","Listas","Campos_Ingreso_Datos","Resumen","Comentarios"," "],"not_rendered":{"charts":4,"images":88,"macros":1,"external_links":0,"defined_names":25,"comments":0,"pivot_tables":0},"unopened":[],"bounds":{"document_bytes":16777216,"sheet_cells":100000,"rows_first":2000,"rows_last":500,"rows_between":2000,"halvings":0,"cell_chars":16384,"cell_head_chars":4096},"cells_cut":0,"cells_raw":0,"read":"whole","date_system":"1900"}

{"sheet":"Desarrollador","index":0,"n_rows":656,"n_cols":23,"rows_kept":656,"cut":false,"hidden":true,"merged":[]}
["Accion","Grupo","Tipo","Imagen","Left","Top","Height","Width","Visible",null,null,"Segmento","Fila","Alto","Herramienta","Version","Formato_Editar","Avisos","Cambios","Tipo","Inicio","Volver_a","Scrollrow"]
["Siempre",null,"Imagen","Titulo_Segmento",{"$f":"E5+G5+20","v":217},10,90,600,{"$f":"IF(Parametros[Segmento]=\"Fondo_Menu\",1,0)","v":1},null,null,"Fondo_Menu",{"$f":"IFERROR(MATCH(Parametros[[#This Row],[Segmento]],' '!$BD:$BD,0),0)","v":6},{"$f":"IFERROR(COUNTIF(OFFSET(Ref_Segmento,0,0,100000),Parametros[[#This Row],[Segmento]]),0)","v":35},"Actualicese 110 (2024)",20250122,null,0,1,2,null,null,0]
[null,null,"Imagen","Picture 80",null,null,null,null,1,null,null,{"$f":"IF(Parametros[Segmento]=\"Fondo_Menu\",\"Liquidador del impuesto de renta \npara personas jurídicas año gravable 2024\",\"\")","v":"Liquidador del impuesto de renta \npara personas jurídicas año gravable 2024"},null,null,null,null,null,null,null,null,{"$f":"TEXT(MAX(Parametros[Inicio]+10/(24*60)-NOW(),0),\"mm:ss\")","v":"00:00"}]
["Siempre",null,"Imagen","Logo",30,20,70,169,1]
["Siempre",null,"Imagen","Division_1",{"$f":"E4+H4-10","v":189},50,8,87,1]
[null,null,"Imagen","Guardar",{"$f":"IF($I$8=1,$E$8+80,$E$5+70)","v":259},26,47,172,{"$f":"IFERROR((Parametros[Segmento]<>\"Fondo_Menu\")*1,1)","v":0}]
[null,null,"Imagen","Regresar_Al_Menu",{"$f":"$E$6+H6+20","v":451},{"$f":"F6","v":26},47,133,{"$f":"IFERROR((Parametros[Segmento]<>\"Fondo_Menu\")*(Parametros[Volver_a]=\"\"),1)","v":0}]
["Siempre",null,"Imagen","Division_2",{"$f":"E57+H57-30","v":671},{"$f":"F5","v":50},{"$f":"G5","v":8},{"$f":"H5","v":87},{"$f":"IFERROR((SUM($I$50:$I$75)>0)*1,0)","v":0}]
["Menu_Basico",null,"Imagen","Información General",44,130,51,156,{"$f":"IFERROR((Parametros[Segmento]=\"Fondo_Menu\")*1,0)","v":1}]
["Menu_Basico",null,"Imagen","Cifras e Indicadores",{"$f":"$E$9","v":44},{"$f":"F9+G9+8","v":189},31,151,{"$f":"IFERROR((Parametros[Segmento]=\"Fondo_Menu\")*1,0)","v":1}]
["Menu_Basico",null,"Imagen","Vencimientos",{"$f":"$E$9","v":44},{"$f":"F10+G10","v":220},31,151,{"$f":"IFERROR((Parametros[Segmento]=\"Fondo_Menu\")*1,0)","v":1}]
["Menu_Basico",null,"Imagen","Tarifas de Impuestos",{"$f":"$E$9","v":44},{"$f":"F11+G11","v":251},31,151,{"$f":"IFERROR((Parametros[Segmento]=\"Fondo_Menu\")*1,0)","v":1}]
["Menu_Detallado",null,"Imagen","Información del Contribuyente",{"$f":"$E$9","v":44},{"$f":"F12+G12+35","v":317},51,156,{"$f":"IFERROR((Parametros[Segmento]=\"Fondo_Menu\")*1,0)","v":1},null,null,"m","s","l","a"]
["Menu_Detallado",null,"Imagen","Datos básicos contribuyente",{"$f":"$E$9","v":44},{"$f":"F13+G13+8","v":376},44,151,{"$f":"IFERROR((Parametros[Segmento]=\"Fondo_Menu\")*1,0)","v":1},null,null,"1CFE20524153"]
["Menu_Detallado",null,"Imagen","Patrimonios",{"$f":"$H$9+$E$9+44","v":244},{"$f":"$F$9","v":130},51,158,{"$f":"IFERROR((Parametros[Segmento]=\"Fondo_Menu\")*1,0)","v":1},null,null,"1E5820524153"]
["Menu_Detallado",null,"Imagen","Activos",{"$f":"$E$15","v":244},{"$f":"F15+G15+8","v":189},31,151,{"$f":"IFERROR((Parametros[Segmento]=\"Fondo_Menu\")*1,0)","v":1},null,null,"1E5820524153"]
["Menu_Detallado",null,"Imagen","Pasivos",244,{"$f":"F16+G16","v":220},31,151,{"$f":"IFERROR((Parametros[Segmento]=\"Fondo_Menu\")*1,0)","v":1},null,null,"48E7DAC5AF36"]
["Menu_Detallado",{"$f":"IF(Parametros[Tipo]=2,\"Esta sección no está disponible en la versión de prueba de Actualícese 110.xls.\n\nSi quieres realizar tu declaración de renta de personas jurídicas de forma rápida y en solo 3 pasos, adquiere nuestra herramienta ingresando a:\",\"\")","v":"Esta sección no está disponible en la versión de prueba de Actualícese 110.xls.\n\nSi quieres realizar tu declaración de renta de personas jurídicas de forma rápida y en solo 3 pasos, adquiere nuestra herramienta ingresando a:"},"Imagen","Patrimonio",244,{"$f":"F17+G17","v":251},31,151,{"$f":"IFERROR((Parametros[Segmento]=\"Fondo_Menu\")*1,0)","v":1},null,null,"48E7DAC5AF37"]
["Menu_Detallado",null,"Imagen","Ingresos Especiales",244,{"$f":"F18+G18+35","v":317},51,156,{"$f":"IFERROR((Parametros[Segmento]=\"Fondo_Menu\")*1,0)","v":1},null,null,"4AE7DAC5AF27"]
["Menu_Detallado",{"$f":"IF(Parametros[Tipo]=2,\"Esta sección no está disponible en la versión de prueba de Actualícese 110.xls.\n\nSi quieres realizar tu declaración de renta de personas jurídicas de forma rápida y en solo 3 pasos, adquiere nuestra herramienta ingresando a:\",\"\")","v":"Esta sección no está disponible en la versión de prueba de Actualícese 110.xls.\n\nSi quieres realizar tu declaración de renta de personas jurídicas de forma rápida y en solo 3 pasos, adquiere nuestra herramienta ingresando a:"},"Imagen","Venta de Activos",244,{"$f":"F19+G19+8","v":376},31,151,{"$f":"IFERROR((Parametros[Segmento]=\"Fondo_Menu\")*1,0)","v":1},null,null,"4AE7DAC5AF37"]
["Menu_Detallado",{"$f":"IF(Parametros[Tipo]=2,\"Esta sección no está disponible en la versión de prueba de Actualícese 110.xls.\n\nSi quieres realizar tu declaración de renta de personas jurídicas de forma rápida y en solo 3 pasos, adquiere nuestra herramienta ingresando a:\",\"\")","v":"Esta sección no está disponible en la versión de prueba de Actualícese 110.xls.\n\nSi quieres realizar tu declaración de renta de personas jurídicas de forma rápida y en solo 3 pasos, adquiere nuestra herramienta ingresando a:"},"Imagen","G. Ocasionales",244,{"$f":"F20+G20","v":407},31,151,{"$f":"IFERROR((Parametros[Segmento]=\"Fondo_Menu\")*1,0)","v":1}]
["Menu_Detallado",{"$f":"IF(Parametros[Tipo]=2,\"Esta sección no está disponible en la versión de prueba de Actualícese 110.xls.\n\nSi quieres realizar tu declaración de renta de personas jurídicas de forma rápida y en solo 3 pasos, adquiere nuestra herramienta ingresando a:\",\"\")","v":"Esta sección no está disponible en la versión de prueba de Actualícese 110.xls.\n\nSi quieres realizar tu declaración de renta de personas jurídicas de forma rápida y en solo 3 pasos, adquiere nuestra herramienta ingresando a:"},"Imagen","Rentas pasivas ECE",244,{"$f":"F21+G21","v":438},31,151,{"$f":"IFERROR((Parametros[Segmento]=\"Fondo_Menu\")*1,0)","v":1}]
["Menu_Detallado",null,"Imagen","Ingresos",{"$f":"$H$15+$E$15+44","v":446},{"$f":"$F$9","v":130},51,156,{"$f":"IFERROR((Parametros[Segmento]=\"Fondo_Menu\")*1,0)","v":1}]
["Menu_Detallado",null,"Imagen","Ing. Ordinarios",{"$f":"$E$23","v":446},{"$f":"F23+G23+8","v":189},31,151,{"$f":"IFERROR((Parametros[Segmento]=\"Fondo_Menu\")*1,0)","v":1}]
["Menu_Detallado",null,"Imagen","Ing. Financieros",{"$f":"$E$23","v":446},{"$f":"F24+G24","v":220},31,151,{"$f":"IFERROR((Parametros[Segmento]=\"Fondo_Menu\")*1,0)","v":1}]
["Menu_Detallado",null,"Imagen","Dividendos",{"$f":"$E$23","v":446},{"$f":"F25+G25","v":251},31,151,{"$f":"IFERROR((Parametros[Segmento]=\"Fondo_Menu\")*1,0)","v":1}]
["Menu_Detallado",{"$f":"IF(Parametros[Tipo]=2,\"Esta sección no está disponible en la versión de prueba de Actualícese 110.xls.\n\nSi quieres realizar tu declaración de renta de personas jurídicas de forma rápida y en solo 3 pasos, adquiere nuestra herramienta ingresando a:\",\"\")","v":"Esta sección no está disponible en la versión de prueba de Actualícese 110.xls.\n\nSi quieres realizar tu declaración de renta de personas jurídicas de forma rápida y en solo 3 pasos, adquiere nuestra herramienta ingresando a:"},"Imagen","Ing. Reversiones",{"$f":"$E$23","v":446},{"$f":"F26+G26","v":282},31,151,{"$f":"IFERROR((Parametros[Segmento]=\"Fondo_Menu\")*1,0)","v":1}]
["Menu_Detallado",{"$f":"IF(Parametros[Tipo]=2,\"Esta sección no está disponible en la versión de prueba de Actualícese 110.xls.\n\nSi quieres realizar tu declaración de renta de personas jurídicas de forma rápida y en solo 3 pasos, adquiere nuestra herramienta ingresando a:\",\"\")","v":"Esta sección no está disponible en la versión de prueba de Actualícese 110.xls.\n\nSi quieres realizar tu declaración de renta de personas jurídicas de forma rápida y en solo 3 pasos, adquiere nuestra herramienta ingresando a:"},"Imagen","Otros ingresos",{"$f":"$E$23","v":446},{"$f":"F27+G27","v":313},31,151,{"$f":"IFERROR((Parametros[Segmento]=\"Fondo_Menu\")*1,0)","v":1}]
["Menu_Detallado",null,"Imagen","Calculos Adicionales",{"$f":"$H$23+$E$23+44","v":646},{"$f":"$F$9","v":130},51,156,{"$f":"IFERROR((Parametros[Segmento]=\"Fondo_Menu\")*1,0)","v":1}]
["Menu_Detallado",null,"Imagen","Intereses presuntivos",{"$f":"$E$29","v":646},{"$f":"F29+G29+8","v":189},31,151,{"$f":"IFERROR((Parametros[Segmento]=\"Fondo_Menu\")*1,0)","v":1}]
["Menu_Detallado",null,"Imagen","Subcapitalización",{"$f":"$E$29","v":646},{"$f":"F30+G30","v":220},31,151,{"$f":"IFERROR((Parametros[Segmento]=\"Fondo_Menu\")*1,0)","v":1}]
["Menu_Detallado",null,"Imagen","Compensaciones",646,251,31,151,{"$f":"IFERROR((Parametros[Segmento]=\"Fondo_Menu\")*1,0)","v":1}]
["Menu_Detallado",{"$f":"IF(Parametros[Tipo]=2,\"Esta sección no está disponible en la versión de prueba de Actualícese 110.xls.\n\nSi quieres realizar tu declaración de renta de personas jurídicas de forma rápida y en solo 3 pasos, adquiere nuestra herramienta ingresando a:\",\"\")","v":"Esta sección no está disponible en la versión de prueba de Actualícese 110.xls.\n\nSi quieres realizar tu declaración de renta de personas jurídicas de forma rápida y en solo 3 pasos, adquiere nuestra herramienta ingresando a:"},"Imagen","Renta recup. Deducciones",646,{"$f":"F32+G32","v":282},31,151,{"$f":"IFERROR((Parametros[Segmento]=\"Fondo_Menu\")*1,0)","v":1}]
["Menu_Detallado",{"$f":"IF(Parametros[Tipo]=2,\"Esta sección no está disponible en la versión de prueba de Actualícese 110.xls.\n\nSi quieres realizar tu declaración de renta de personas jurídicas de forma rápida y en solo 3 pasos, adquiere nuestra herramienta ingresando a:\",\"\")","v":"Esta sección no está disponible en la versión de prueba de Actualícese 110.xls.\n\nSi quieres realizar tu declaración de renta de personas jurídicas de forma rápida y en solo 3 pasos, adquiere nuestra herramienta ingresando a:"},"Imagen","Retenciones en la Fuente",{"$f":"$E$29","v":646},{"$f":"F33+G33","v":313},31,151,{"$f":"IFERROR((Parametros[Segmento]=\"Fondo_Menu\")*1,0)","v":1}]
["Menu_Detallado",{"$f":"IF(Parametros[Tipo]=2,\"Esta sección no está disponible en la versión de prueba de Actualícese 110.xls.\n\nSi quieres realizar tu declaración de renta de personas jurídicas de forma rápida y en solo 3 pasos, adquiere nuestra herramienta ingresando a:\",\"\")","v":"Esta sección no está disponible en la versión de prueba de Actualícese 110.xls.\n\nSi quieres realizar tu declaración de renta de personas jurídicas de forma rápida y en solo 3 pasos, adquiere nuestra herramienta ingresando a:"},"Imagen","Tasa Mínima",{"$f":"$E$29","v":646},{"$f":"F34+G34","v":344},45,151,{"$f":"IFERROR((Parametros[Segmento]=\"Fondo_Menu\")*1,0)","v":1}]
["Menu_Detallado",null,"Imagen","Cálculo impto",646,{"$f":"F35+G35","v":389},31,151,{"$f":"IFERROR((Parametros[Segmento]=\"Fondo_Menu\")*1,0)","v":1}]
["Menu_Detallado",{"$f":"IF(Parametros[Tipo]=2,\"Esta sección no está disponible en la versión de prueba de Actualícese 110.xls.\n\nSi quieres realizar tu declaración de renta de personas jurídicas de forma rápida y en solo 3 pasos, adquiere nuestra herramienta ingresando a:\",\"\")","v":"Esta sección no está disponible en la versión de prueba de Actualícese 110.xls.\n\nSi quieres realizar tu declaración de renta de personas jurídicas de forma rápida y en solo 3 pasos, adquiere nuestra herramienta ingresando a:"},"Imagen","Descuentos Tributarios",646,420,31,151,{"$f":"IFERROR((Parametros[Segmento]=\"Fondo_Menu\")*1,0)","v":1}]
["Menu_Detallado",null,"Imagen","Anticipo de renta",646,451,31,151,{"$f":"IFERROR((Parametros[Segmento]=\"Fondo_Menu\")*1,0)","v":1}]
["Menu_Detallado",null,"Imagen","Sanciones",646,482,31,151,{"$f":"IFERROR((Parametros[Segmento]=\"Fondo_Menu\")*1,0)","v":1}]
["Menu_Detallado",null,"Imagen","Costos y deducciones",{"$f":"$H$15+$E$15+44","v":446},{"$f":"F28+G28+35","v":379},51,156,{"$f":"IFERROR((Parametros[Segmento]=\"Fondo_Menu\")*1,0)","v":1}]
["Menu_Detallado",{"$f":"IF(Parametros[Tipo]=2,\"Esta sección no está disponible en la versión de prueba de Actualícese 110.xls.\n\nSi quieres realizar tu declaración de renta de personas jurídicas de forma rápida y en solo 3 pasos, adquiere nuestra herramienta ingresando a:\",\"\")","v":"Esta sección no está disponible en la versión de prueba de Actualícese 110.xls.\n\nSi quieres realizar tu declaración de renta de personas jurídicas de forma rápida y en solo 3 pasos, adquiere nuestra herramienta ingresando a:"},"Imagen","Costos",{"$f":"$E$40","v":446},{"$f":"F40+G40+8","v":438},31,151,{"$f":"IFERROR((Parametros[Segmento]=\"Fondo_Menu\")*1,0)","v":1}]
["Menu_Detallado",null,"Imagen","Gastos",{"$f":"$E$40","v":446},{"$f":"F41+G41","v":469},31,151,{"$f":"IFERROR((Parametros[Segmento]=\"Fondo_Menu\")*1,0)","v":1}]
["Menu_Detallado",{"$f":"IF(Parametros[Tipo]=2,\"Esta sección no está disponible en la versión de prueba de Actualícese 110.xls.\n\nSi quieres realizar tu declaración de renta de personas jurídicas de forma rápida y en solo 3 pasos, adquiere nuestra herramienta ingresando a:\",\"\")","v":"Esta sección no está disponible en la versión de prueba de Actualícese 110.xls.\n\nSi quieres realizar tu declaración de renta de personas jurídicas de forma rápida y en solo 3 pasos, adquiere nuestra herramienta ingresando a:"},"Imagen","Rentas Exentas",{"$f":"$E$40","v":446},{"$f":"F42+G42","v":500},31,151,{"$f":"IFERROR((Parametros[Segmento]=\"Fondo_Menu\")*1,0)","v":1}]
["Menu_Detallado",null,"Imagen","Formulario y Anexos",{"$f":"$H$29+$E$29+44","v":846},{"$f":"$F$9","v":130},51,156,{"$f":"IFERROR((Parametros[Segmento]=\"Fondo_Menu\")*1,0)","v":1}]
["Menu_Detallado",null,"Imagen","Formulario 110",846,{"$f":"F44+G44+8","v":189},31,151,{"$f":"IFERROR((Parametros[Segmento]=\"Fondo_Menu\")*1,0)","v":1}]
["Menu_Detallado",{"$f":"IF(Parametros[Tipo]=2,\"Esta sección no está disponible en la versión de prueba de Actualícese 110.xls.\n\nSi quieres realizar tu declaración de renta de personas jurídicas de forma rápida y en solo 3 pasos, adquiere nuestra herramienta ingresando a:\",\"\")","v":"Esta sección no está disponible en la versión de prueba de Actualícese 110.xls.\n\nSi quieres realizar tu declaración de renta de personas jurídicas de forma rápida y en solo 3 pasos, adquiere nuestra herramienta ingresando a:"},"Imagen","H1 Carátula",846,{"$f":"F45+G45","v":220},31,151,{"$f":"IFERROR((Parametros[Segmento]=\"Fondo_Menu\")*1,0)","v":1}]
["Menu_Detallado",null,"Imagen","Informes",846,{"$f":"F46+G46","v":251},31,151,{"$f":"IFERROR((Parametros[Segmento]=\"Fondo_Menu\")*1,0)","v":1}]
["Menu_Detallado",null,"Imagen","Gráficos",846,{"$f":"F47+G47","v":282},31,151,{"$f":"IFERROR((Parametros[Segmento]=\"Fondo_Menu\")*1,0)","v":1}]
["Menu_Detallado",null,"Imagen","Beneficios de Auditoría",846,{"$f":"F48+G48","v":313},31,151,{"$f":"IFERROR((Parametros[Segmento]=\"Fondo_Menu\")*1,0)","v":1}]
[null,{"$f":"IF(Parametros[Tipo]=2,\"Esta sección no está disponible en la versión de prueba de Actualícese 110.xls.\n\nSi quieres realizar tu declaración de renta de personas jurídicas de forma rápida y en solo 3 pasos, adquiere nuestra herramienta ingresando a:\",\"\")","v":"Esta sección no está disponible en la versión de prueba de Actualícese 110.xls.\n\nSi quieres realizar tu declaración de renta de personas jurídicas de forma rápida y en solo 3 pasos, adquiere nuestra herramienta ingresando a:"},"Imagen","Renta recup. deducciones_BSA",{"$f":"$E$5+$G$5+45","v":242},14,40,120,{"$f":"$I$53+$I$55+$I$57","v":0}]
[null,null,"Imagen","Renta recup. deducciones_BS",{"$f":"E50","v":242},{"$f":"F50","v":14},{"$f":"G50","v":40},{"$f":"H50","v":120},{"$f":"(SUBSTITUTE(Botones_e_Imagenes[[#This Row],[Imagen]],\"_BS\",\"\")=Parametros[Segmento])*1","v":0}]
[null,{"$f":"IF(Parametros[Tipo]=2,\"Esta sección no está disponible en la versión de prueba de Actualícese 110.xls.\n\nSi quieres realizar tu declaración de renta de personas jurídicas de forma rápida y en solo 3 pasos, adquiere nuestra herramienta ingresando a:\",\"\")","v":"Esta sección no está disponible en la versión de prueba de Actualícese 110.xls.\n\nSi quieres realizar tu declaración de renta de personas jurídicas de forma rápida y en solo 3 pasos, adquiere nuestra herramienta ingresando a:"},"Imagen","Conciliación Patrimonial_BSA",{"$f":"E50+H50-7","v":355},{"$f":"F$50","v":14},{"$f":"G$50","v":40},{"$f":"H$50","v":120},{"$f":"$I$51+$I$55+$I$57","v":0}]
[null,null,"Imagen","Conciliación Patrimonial_BS",{"$f":"E52","v":355},{"$f":"F52","v":14},{"$f":"G52","v":40},{"$f":"H52","v":120},{"$f":"(SUBSTITUTE(Botones_e_Imagenes[[#This Row],[Imagen]],\"_BS\",\"\")=Parametros[Segmento])*1","v":0}]
[null,{"$f":"IF(Parametros[Tipo]=2,\"Esta sección no está disponible en la versión de prueba de Actualícese 110.xls.\n\nSi quieres realizar tu declaración de renta de personas jurídicas de forma rápida y en solo 3 pasos, adquiere nuestra herramienta ingresando a:\",\"\")","v":"Esta sección no está disponible en la versión de prueba de Actualícese 110.xls.\n\nSi quieres realizar tu declaración de renta de personas jurídicas de forma rápida y en solo 3 pasos, adquiere nuestra herramienta ingresando a:"},"Imagen","Otras rentas líq. gravab._BSA",{"$f":"E52+H52-7","v":468},{"$f":"F$50","v":14},{"$f":"G$50","v":40},{"$f":"H$50","v":120},{"$f":"$I$51+$I$53+$I$57","v":0}]
[null,null,"Imagen","Otras rentas líq. gravab._BS",{"$f":"E54","v":468},{"$f":"F54","v":14},{"$f":"G54","v":40},{"$f":"H54","v":120},{"$f":"(SUBSTITUTE(Botones_e_Imagenes[[#This Row],[Imagen]],\"_BS\",\"\")=Parametros[Segmento])*1","v":0}]
[null,{"$f":"IF(Parametros[Tipo]=2,\"Esta sección no está disponible en la versión de prueba de Actualícese 110.xls.\n\nSi quieres realizar tu declaración de renta de personas jurídicas de forma rápida y en solo 3 pasos, adquiere nuestra herramienta ingresando a:\",\"\")","v":"Esta sección no está disponible en la versión de prueba de Actualícese 110.xls.\n\nSi quieres realizar tu declaración de renta de personas jurídicas de forma rápida y en solo 3 pasos, adquiere nuestra herramienta ingresando a:"},"Imagen","OtrasRentasLiqGravaESAL_BSA",{"$f":"E54+H54-7","v":581},{"$f":"F$50","v":14},{"$f":"G$50","v":40},{"$f":"H$50","v":120},{"$f":"$I$51+$I$53+$I$55","v":0}]
[null,null,"Imagen","OtrasRentasLiqGravaESAL_BS",{"$f":"E56","v":581},{"$f":"F56","v":14},{"$f":"G56","v":40},{"$f":"H56","v":120},{"$f":"(SUBSTITUTE(Botones_e_Imagenes[[#This Row],[Imagen]],\"_BS\",\"\")=Parametros[Segmento])*1","v":0}]
[null,{"$f":"IF(Parametros[Tipo]=2,\"Esta sección no está disponible en la versión de prueba de Actualícese 110.xls.\n\nSi quieres realizar tu declaración de renta de personas jurídicas de forma rápida y en solo 3 pasos, adquiere nuestra herramienta ingresando a:\",\"\")","v":"Esta sección no está disponible en la versión de prueba de Actualícese 110.xls.\n\nSi quieres realizar tu declaración de renta de personas jurídicas de forma rápida y en solo 3 pasos, adquiere nuestra herramienta ingresando a:"},"Imagen","H1 Carátula_BSA",{"$f":"E$50","v":242},{"$f":"F$50","v":14},{"$f":"G$50","v":40},{"$f":"H$50","v":120},{"$f":"($I$59+$I$61+$I$63+$I$65+$I$67+$I$69+$I$71)*(I59=0)","v":0}]
[null,null,"Imagen","H1 Carátula_BS",{"$f":"E58","v":242},{"$f":"F58","v":14},{"$f":"G58","v":40},{"$f":"H58","v":120},{"$f":"(SUBSTITUTE(Botones_e_Imagenes[[#This Row],[Imagen]],\"_BS\",\"\")=Parametros[Segmento])*1","v":0}]
[null,{"$f":"IF(Parametros[Tipo]=2,\"Esta sección no está disponible en la versión de prueba de Actualícese 110.xls.\n\nSi quieres realizar tu declaración de renta de personas jurídicas de forma rápida y en solo 3 pasos, adquiere nuestra herramienta ingresando a:\",\"\")","v":"Esta sección no está disponible en la versión de prueba de Actualícese 110.xls.\n\nSi quieres realizar tu declaración de renta de personas jurídicas de forma rápida y en solo 3 pasos, adquiere nuestra herramienta ingresando a:"},"Imagen","H2 ESF Patrimonio_BSA",{"$f":"E58+H58-7","v":355},{"$f":"F$50","v":14},{"$f":"G$50","v":40},{"$f":"H$50","v":120},{"$f":"($I$59+$I$61+$I$63+$I$65+$I$67+$I$69+$I$71)*(I61=0)","v":0}]
[null,null,"Imagen","H2 ESF Patrimonio_BS",{"$f":"E60","v":355},{"$f":"F60","v":14},{"$f":"G60","v":40},{"$f":"H60","v":120},{"$f":"(SUBSTITUTE(Botones_e_Imagenes[[#This Row],[Imagen]],\"_BS\",\"\")=Parametros[Segmento])*1","v":0}]
[null,{"$f":"IF(Parametros[Tipo]=2,\"Esta sección no está disponible en la versión de prueba de Actualícese 110.xls.\n\nSi quieres realizar tu declaración de renta de personas jurídicas de forma rápida y en solo 3 pasos, adquiere nuestra herramienta ingresando a:\",\"\")","v":"Esta sección no está disponible en la versión de prueba de Actualícese 110.xls.\n\nSi quieres realizar tu declaración de renta de personas jurídicas de forma rápida y en solo 3 pasos, adquiere nuestra herramienta ingresando a:"},"Imagen","H3 ERI Renta líquida_BSA",{"$f":"E60+H60-7","v":468},{"$f":"F$50","v":14},{"$f":"G$50","v":40},{"$f":"H$50","v":120},{"$f":"($I$59+$I$61+$I$63+$I$65+$I$67+$I$69+$I$71)*(I63=0)","v":0}]
[null,null,"Imagen","H3 ERI Renta líquida_BS",{"$f":"E62","v":468},{"$f":"F62","v":14},{"$f":"G62","v":40},{"$f":"H62","v":120},{"$f":"(SUBSTITUTE(Botones_e_Imagenes[[#This Row],[Imagen]],\"_BS\",\"\")=Parametros[Segmento])*1","v":0}]
[null,{"$f":"IF(Parametros[Tipo]=2,\"Esta sección no está disponible en la versión de prueba de Actualícese 110.xls.\n\nSi quieres realizar tu declaración de renta de personas jurídicas de forma rápida y en solo 3 pasos, adquiere nuestra herramienta ingresando a:\",\"\")","v":"Esta sección no está disponible en la versión de prueba de Actualícese 110.xls.\n\nSi quieres realizar tu declaración de renta de personas jurídicas de forma rápida y en solo 3 pasos, adquiere nuestra herramienta ingresando a:"},"Imagen","H4 Impuesto diferido_BSA",{"$f":"E62+H62-7","v":581},{"$f":"F$50","v":14},{"$f":"G$50","v":40},{"$f":"H$50","v":120},{"$f":"($I$59+$I$61+$I$63+$I$65+$I$67+$I$69+$I$71)*(I65=0)","v":0}]
[null,null,"Imagen","H4 Impuesto diferido_BS",{"$f":"E64","v":581},{"$f":"F64","v":14},{"$f":"G64","v":40},{"$f":"H64","v":120},{"$f":"(SUBSTITUTE(Botones_e_Imagenes[[#This Row],[Imagen]],\"_BS\",\"\")=Parametros[Segmento])*1","v":0}]
[null,{"$f":"IF(Parametros[Tipo]=2,\"Esta sección no está disponible en la versión de prueba de Actualícese 110.xls.\n\nSi quieres realizar tu declaración de renta de personas jurídicas de forma rápida y en solo 3 pasos, adquiere nuestra herramienta ingresando a:\",\"\")","v":"Esta sección no está disponible en la versión de prueba de Actualícese 110.xls.\n\nSi quieres realizar tu declaración de renta de personas jurídicas de forma rápida y en solo 3 pasos, adquiere nuestra herramienta ingresando a:"},"Imagen","H5 Ingresos y fact._BSA",{"$f":"E$50","v":242},{"$f":"F$58+G58-4","v":50},{"$f":"G$50","v":40},{"$f":"H$50","v":120},{"$f":"($I$59+$I$61+$I$63+$I$65+$I$67+$I$69+$I$71)*(I67=0)","v":0}]
[null,null,"Imagen","H5 Ingresos y fact._BS",{"$f":"E66","v":242},{"$f":"F$66","v":50},{"$f":"G66","v":40},{"$f":"H66","v":120},{"$f":"(SUBSTITUTE(Botones_e_Imagenes[[#This Row],[Imagen]],\"_BS\",\"\")=Parametros[Segmento])*1","v":0}]
[null,{"$f":"IF(Parametros[Tipo]=2,\"Esta sección no está disponible en la versión de prueba de Actualícese 110.xls.\n\nSi quieres realizar tu declaración de renta de personas jurídicas de forma rápida y en solo 3 pasos, adquiere nuestra herramienta ingresando a:\",\"\")","v":"Esta sección no está disponible en la versión de prueba de Actualícese 110.xls.\n\nSi quieres realizar tu declaración de renta de personas jurídicas de forma rápida y en solo 3 pasos, adquiere nuestra herramienta ingresando a:"},"Imagen","H6 Activos Fijos_BSA",{"$f":"E66+H66-7","v":355},{"$f":"F$66","v":50},{"$f":"G$50","v":40},{"$f":"H$50","v":120},{"$f":"($I$59+$I$61+$I$63+$I$65+$I$67+$I$69+$I$71)*(I69=0)","v":0}]
[null,null,"Imagen","H6 Activos Fijos_BS",{"$f":"E68","v":355},{"$f":"F$66","v":50},{"$f":"G68","v":40},{"$f":"H68","v":120},{"$f":"(SUBSTITUTE(Botones_e_Imagenes[[#This Row],[Imagen]],\"_BS\",\"\")=Parametros[Segmento])*1","v":0}]
[null,{"$f":"IF(Parametros[Tipo]=2,\"Esta sección no está disponible en la versión de prueba de Actualícese 110.xls.\n\nSi quieres realizar tu declaración de renta de personas jurídicas de forma rápida y en solo 3 pasos, adquiere nuestra herramienta ingresando a:\",\"\")","v":"Esta sección no está disponible en la versión de prueba de Actualícese 110.xls.\n\nSi quieres realizar tu declaración de renta de personas jurídicas de forma rápida y en solo 3 pasos, adquiere nuestra herramienta ingresando a:"},"Imagen","H7 Resumen ESF ERI_BSA",{"$f":"E68+H68-7","v":468},{"$f":"F$66","v":50},{"$f":"G$50","v":40},{"$f":"H$50","v":120},{"$f":"($I$59+$I$61+$I$63+$I$65+$I$67+$I$69+$I$71)*(I71=0)","v":0}]
[null,null,"Imagen","H7 Resumen ESF ERI_BS",{"$f":"E70","v":468},{"$f":"F$66","v":50},{"$f":"G70","v":40},{"$f":"H70","v":120},{"$f":"(SUBSTITUTE(Botones_e_Imagenes[[#This Row],[Imagen]],\"_BS\",\"\")=Parametros[Segmento])*1","v":0}]
[null,null,"Imagen","Descuentos Tributarios_BSA",{"$f":"$E$5+$G$5+45","v":242},14,40,120,{"$f":"$I$75","v":0}]
[null,null,"Imagen","Descuentos Tributarios_BS",{"$f":"E72","v":242},{"$f":"F72","v":14},{"$f":"G72","v":40},{"$f":"H72","v":120},{"$f":"(SUBSTITUTE(Botones_e_Imagenes[[#This Row],[Imagen]],\"_BS\",\"\")=Parametros[Segmento])*1","v":0}]
[null,null,"Imagen","Valor a Adicionar_BSA",{"$f":"E72+H72-7","v":355},{"$f":"F$50","v":14},{"$f":"G$50","v":40},{"$f":"H$50","v":120},{"$f":"$I$73","v":0}]
[null,null,"Imagen","Valor a Adicionar_BS",{"$f":"E74","v":355},{"$f":"F74","v":14},{"$f":"G74","v":40},{"$f":"H74","v":120},{"$f":"(SUBSTITUTE(Botones_e_Imagenes[[#This Row],[Imagen]],\"_BS\",\"\")=Parametros[Segmento])*1","v":0}]
[null,null,"Imagen","Cronometro",{"$f":"MAX(($E$77+$H$77)*$I$77,($E$79+$H$79)*$I$79,($E$81+H81)*$I$81,($E$7+$H$7)*($I$7+$I$82+$I$83),($E$2+$H$2)*$I$2)+30","v":847},{"$f":"$F$7","v":26},{"$f":"$G$7","v":47},{"$f":"Botones_e_Imagenes[[#This Row],[Height]]*3","v":141},{"$f":"IF(Parametros[Tipo]=1,1,0)","v":0}]
[null,{"$f":"IF(AND(Parametros[Tipo]<>0,Parametros[Tipo]<>\"\"),\"Esta sección no está disponible en la versión de prueba de Actualícese 110.xls.\n\nSi quieres realizar tu declaración de renta de personas jurídicas de forma rápida y en solo 3 pasos, adquiere nuestra herramienta ingresando a:\",\"\")","v":"Esta sección no está disponible en la versión de prueba de Actualícese 110.xls.\n\nSi quieres realizar tu declaración de renta de personas jurídicas de forma rápida y en solo 3 pasos, adquiere nuestra herramienta ingresando a:"},"Imagen","Exportar_PDF",{"$f":"$E$7+H7+20","v":604},{"$f":"F7","v":26},{"$f":"G7","v":47},160,{"$f":"IFERROR(OR(Parametros[Segmento]=$D$45,Parametros[Segmento]=$D$47,Parametros[Segmento]=$D$48)*1,0)","v":0}]
["Menu_Detallado",null,"Imagen","Barra Horizontal",55,550,14,950,{"$f":"IFERROR((Parametros[Segmento]=\"Fondo_Menu\")*1,0)","v":1}]
[null,null,"Imagen","Ajustar_Filas",{"$f":"E7+H7+20","v":604},{"$f":"$F$7","v":26},{"$f":"$G$7","v":47},137,{"$f":"(COUNTIF(Bloques[Segmento],Parametros[Segmento])>0)*1","v":0}]
[null,null,"Imagen","Restablecer_Formulacion",{"$f":"E79+H79+20","v":761},{"$f":"$F$7","v":26},{"$f":"$G$7","v":47},169,{"$f":"IFERROR((Parametros[Segmento]=$D$35)*1,0)","v":0}]
[null,{"$f":"IF(AND(Parametros[Tipo]<>0,Parametros[Tipo]<>\"\"),\"Esta sección no está disponible en la versión de prueba de Actualícese 110.xls.\n\nSi quieres realizar tu declaración de renta de personas jurídicas de forma rápida y en solo 3 pasos, adquiere nuestra herramienta ingresando a:\",\"\")","v":"Esta sección no está disponible en la versión de prueba de Actualícese 110.xls.\n\nSi quieres realizar tu declaración de renta de personas jurídicas de forma rápida y en solo 3 pasos, adquiere nuestra herramienta ingresando a:"},"Imagen","Importar",{"$f":"$E$7+H7+20","v":604},{"$f":"F7","v":26},{"$f":"G7","v":47},190,{"$f":"IFERROR((Parametros[Segmento]=$D$14)*1,0)","v":0}]
[null,null,"Imagen","Gastos_BSA",{"$f":"E$7","v":451},{"$f":"F$7","v":26},47,133,{"$f":"IFERROR((Parametros[Segmento]=\"Subcapitalización\")*(Parametros[Volver_a]<>\"\"),0)","v":0}]
[null,null,"Imagen","Otros ingresos_BSA",{"$f":"$E$7","v":451},26,47,133,{"$f":"IFERROR((Parametros[Segmento]=\"Intereses presuntivos\")*(Parametros[Volver_a]<>0),0)","v":0}]
[]
[]
[]
[]
["Segmento","Grupo","Bloque","Actuales","Temp","Con_Datos","Defecto"]
["Intereses presuntivos","Intereses Presuntivos","Información sobre préstamos a socios o accionistas",{"$f":"IF(Bloques[[#This Row],[Segmento]]=Parametros[Segmento],COUNTIFS(OFFSET(Ref_Segmento,Parametros[Fila]-1,0,Parametros[Alto]),Bloques[[#This Row],[Segmento]],OFFSET(Ref_Conteo,Parametros[Fila]-1,0,Parametros[Alto]),Bloques[[#This Row],[Bloque]],OFFSET(Ref_Conteo,Parametros[Fila]-1,-1,Parametros[Alto]),Bloques[[#This Row],[Grupo]])-1,0)","v":0},null,null,""]
["Subcapitalización","Subcapitalización ","Información general de los préstamos con vinculados económicos ",{"$f":"IF(Bloques[[#This Row],[Segmento]]=Parametros[Segmento],COUNTIFS(OFFSET(Ref_Segmento,Parametros[Fila]-1,0,Parametros[Alto]),Bloques[[#This Row],[Segmento]],OFFSET(Ref_Conteo,Parametros[Fila]-1,0,Parametros[Alto]),Bloques[[#This Row],[Bloque]],OFFSET(Ref_Conteo,Parametros[Fila]-1,-1,Parametros[Alto]),Bloques[[#This Row],[Grupo]])-1,0)","v":0},null,null,""]
["Activos","Efectivo y Equivalentes del Efectivo ","Efectivo ",{"$f":"IF(Bloques[[#This Row],[Segmento]]=Parametros[Segmento],COUNTIFS(OFFSET(Ref_Segmento,Parametros[Fila]-1,0,Parametros[Alto]),Bloques[[#This Row],[Segmento]],OFFSET(Ref_Conteo,Parametros[Fila]-1,0,Parametros[Alto]),Bloques[[#This Row],[Bloque]],OFFSET(Ref_Conteo,Parametros[Fila]-1,-1,Parametros[Alto]),Bloques[[#This Row],[Grupo]])-1,0)","v":0},null,null,"Total efectivo "]
["Activos","Efectivo y Equivalentes del Efectivo ","Equivalentes al efectivo ",{"$f":"IF(Bloques[[#This Row],[Segmento]]=Parametros[Segmento],COUNTIFS(OFFSET(Ref_Segmento,Parametros[Fila]-1,0,Parametros[Alto]),Bloques[[#This Row],[Segmento]],OFFSET(Ref_Conteo,Parametros[Fila]-1,0,Parametros[Alto]),Bloques[[#This Row],[Bloque]],OFFSET(Ref_Conteo,Parametros[Fila]-1,-1,Parametros[Alto]),Bloques[[#This Row],[Grupo]])-1,0)","v":0},null,null,""]
["Activos","Efectivo y Equivalentes del Efectivo ","Efectivo restringido",{"$f":"IF(Bloques[[#This Row],[Segmento]]=Parametros[Segmento],COUNTIFS(OFFSET(Ref_Segmento,Parametros[Fila]-1,0,Parametros[Alto]),Bloques[[#This Row],[Segmento]],OFFSET(Ref_Conteo,Parametros[Fila]-1,0,Parametros[Alto]),Bloques[[#This Row],[Bloque]],OFFSET(Ref_Conteo,Parametros[Fila]-1,-1,Parametros[Alto]),Bloques[[#This Row],[Grupo]])-1,0)","v":0},null,null,""]
["Activos","Inversiones e Instrumentos Derivados","Derechos de recompras de inversiones ",{"$f":"IF(Bloques[[#This Row],[Segmento]]=Parametros[Segmento],COUNTIFS(OFFSET(Ref_Segmento,Parametros[Fila]-1,0,Parametros[Alto]),Bloques[[#This Row],[Segmento]],OFFSET(Ref_Conteo,Parametros[Fila]-1,0,Parametros[Alto]),Bloques[[#This Row],[Bloque]],OFFSET(Ref_Conteo,Parametros[Fila]-1,-1,Parametros[Alto]),Bloques[[#This Row],[Grupo]])-1,0)","v":0},null,null,""]
["Activos","Inversiones e Instrumentos Derivados","Inversiones en subsidiarias, asociadas y negocios conjuntos medidas a valor razonable con cambios en resultados ",{"$f":"IF(Bloques[[#This Row],[Segmento]]=Parametros[Segmento],COUNTIFS(OFFSET(Ref_Segmento,Parametros[Fila]-1,0,Parametros[Alto]),Bloques[[#This Row],[Segmento]],OFFSET(Ref_Conteo,Parametros[Fila]-1,0,Parametros[Alto]),Bloques[[#This Row],[Bloque]],OFFSET(Ref_Conteo,Parametros[Fila]-1,-1,Parametros[Alto]),Bloques[[#This Row],[Grupo]])-1,0)","v":0},null,null,""]
["Activos","Inversiones e Instrumentos Derivados","Inversiones en subsidiarias, asociadas y negocios conjuntos medidas a valor razonable con cambios en el ORI",{"$f":"IF(Bloques[[#This Row],[Segmento]]=Parametros[Segmento],COUNTIFS(OFFSET(Ref_Segmento,Parametros[Fila]-1,0,Parametros[Alto]),Bloques[[#This Row],[Segmento]],OFFSET(Ref_Conteo,Parametros[Fila]-1,0,Parametros[Alto]),Bloques[[#This Row],[Bloque]],OFFSET(Ref_Conteo,Parametros[Fila]-1,-1,Parametros[Alto]),Bloques[[#This Row],[Grupo]])-1,0)","v":0},null,null,""]
["Activos","Inversiones e Instrumentos Derivados","Inversiones en subsidiarias, asociadas y negocios conjuntos medidas con método de participación",{"$f":"IF(Bloques[[#This Row],[Segmento]]=Parametros[Segmento],COUNTIFS(OFFSET(Ref_Segmento,Parametros[Fila]-1,0,Parametros[Alto]),Bloques[[#This Row],[Segmento]],OFFSET(Ref_Conteo,Parametros[Fila]-1,0,Parametros[Alto]),Bloques[[#This Row],[Bloque]],OFFSET(Ref_Conteo,Parametros[Fila]-1,-1,Parametros[Alto]),Bloques[[#This Row],[Grupo]])-1,0)","v":0},null,null,""]
["Activos","Inversiones e Instrumentos Derivados","Inversiones en subsidiarias, asociadas y negocios conjuntos medidas al costo",{"$f":"IF(Bloques[[#This Row],[Segmento]]=Parametros[Segmento],COUNTIFS(OFFSET(Ref_Segmento,Parametros[Fila]-1,0,Parametros[Alto]),Bloques[[#This Row],[Segmento]],OFFSET(Ref_Conteo,Parametros[Fila]-1,0,Parametros[Alto]),Bloques[[#This Row],[Bloque]],OFFSET(Ref_Conteo,Parametros[Fila]-1,-1,Parametros[Alto]),Bloques[[#This Row],[Grupo]])-1,0)","v":0},null,null,""]
["Activos","Inversiones e Instrumentos Derivados","Instrumentos de deuda a costo amortizado ",{"$f":"IF(Bloques[[#This Row],[Segmento]]=Parametros[Segmento],COUNTIFS(OFFSET(Ref_Segmento,Parametros[Fila]-1,0,Parametros[Alto]),Bloques[[#This Row],[Segmento]],OFFSET(Ref_Conteo,Parametros[Fila]-1,0,Parametros[Alto]),Bloques[[#This Row],[Bloque]],OFFSET(Ref_Conteo,Parametros[Fila]-1,-1,Parametros[Alto]),Bloques[[#This Row],[Grupo]])-1,0)","v":0},null,null,""]
["Activos","Inversiones e Instrumentos Derivados","Instrumentos de deuda o patrimonio al costo ",{"$f":"IF(Bloques[[#This Row],[Segmento]]=Parametros[Segmento],COUNTIFS(OFFSET(Ref_Segmento,Parametros[Fila]-1,0,Parametros[Alto]),Bloques[[#This Row],[Segmento]],OFFSET(Ref_Conteo,Parametros[Fila]-1,0,Parametros[Alto]),Bloques[[#This Row],[Bloque]],OFFSET(Ref_Conteo,Parametros[Fila]-1,-1,Parametros[Alto]),Bloques[[#This Row],[Grupo]])-1,0)","v":0},null,null,""]
["Activos","Inversiones e Instrumentos Derivados","Instrumentos de deuda o patrimonio al valor razonable con cambios en resultados ",{"$f":"IF(Bloques[[#This Row],[Segmento]]=Parametros[Segmento],COUNTIFS(OFFSET(Ref_Segmento,Parametros[Fila]-1,0,Parametros[Alto]),Bloques[[#This Row],[Segmento]],OFFSET(Ref_Conteo,Parametros[Fila]-1,0,Parametros[Alto]),Bloques[[#This Row],[Bloque]],OFFSET(Ref_Conteo,Parametros[Fila]-1,-1,Parametros[Alto]),Bloques[[#This Row],[Grupo]])-1,0)","v":0},null,null,""]
["Activos","Inversiones e Instrumentos Derivados","Instrumentos de deuda o patrimonio al valor razonable con cambios en el ORI",{"$f":"IF(Bloques[[#This Row],[Segmento]]=Parametros[Segmento],COUNTIFS(OFFSET(Ref_Segmento,Parametros[Fila]-1,0,Parametros[Alto]),Bloques[[#This Row],[Segmento]],OFFSET(Ref_Conteo,Parametros[Fila]-1,0,Parametros[Alto]),Bloques[[#This Row],[Bloque]],OFFSET(Ref_Conteo,Parametros[Fila]-1,-1,Parametros[Alto]),Bloques[[#This Row],[Grupo]])-1,0)","v":0},null,null,""]
["Activos","Inversiones e Instrumentos Derivados","Instrumentos financieros derivados con fines de negociación ",{"$f":"IF(Bloques[[#This Row],[Segmento]]=Parametros[Segmento],COUNTIFS(OFFSET(Ref_Segmento,Parametros[Fila]-1,0,Parametros[Alto]),Bloques[[#This Row],[Segmento]],OFFSET(Ref_Conteo,Parametros[Fila]-1,0,Parametros[Alto]),Bloques[[#This Row],[Bloque]],OFFSET(Ref_Conteo,Parametros[Fila]-1,-1,Parametros[Alto]),Bloques[[#This Row],[Grupo]])-1,0)","v":0},null,null,""]
["Activos","Inversiones e Instrumentos Derivados","Instrumentos financieros derivados con fines de cobertura",{"$f":"IF(Bloques[[#This Row],[Segmento]]=Parametros[Segmento],COUNTIFS(OFFSET(Ref_Segmento,Parametros[Fila]-1,0,Parametros[Alto]),Bloques[[#This Row],[Segmento]],OFFSET(Ref_Conteo,Parametros[Fila]-1,0,Parametros[Alto]),Bloques[[#This Row],[Bloque]],OFFSET(Ref_Conteo,Parametros[Fila]-1,-1,Parametros[Alto]),Bloques[[#This Row],[Grupo]])-1,0)","v":0},null,null,""]
["Activos","Inversiones e Instrumentos Derivados","Derechos fiduciarios ",{"$f":"IF(Bloques[[#This Row],[Segmento]]=Parametros[Segmento],COUNTIFS(OFFSET(Ref_Segmento,Parametros[Fila]-1,0,Parametros[Alto]),Bloques[[#This Row],[Segmento]],OFFSET(Ref_Conteo,Parametros[Fila]-1,0,Parametros[Alto]),Bloques[[#This Row],[Bloque]],OFFSET(Ref_Conteo,Parametros[Fila]-1,-1,Parametros[Alto]),Bloques[[#This Row],[Grupo]])-1,0)","v":0},null,null,""]
["Activos","Inversiones e Instrumentos Derivados","Otros ",{"$f":"IF(Bloques[[#This Row],[Segmento]]=Parametros[Segmento],COUNTIFS(OFFSET(Ref_Segmento,Parametros[Fila]-1,0,Parametros[Alto]),Bloques[[#This Row],[Segmento]],OFFSET(Ref_Conteo,Parametros[Fila]-1,0,Parametros[Alto]),Bloques[[#This Row],[Bloque]],OFFSET(Ref_Conteo,Parametros[Fila]-1,-1,Parametros[Alto]),Bloques[[#This Row],[Grupo]])-1,0)","v":0},null,null,""]
["Activos","Cuentas por Cobrar","Cartera de crédito (préstamos bancarios)",{"$f":"IF(Bloques[[#This Row],[Segmento]]=Parametros[Segmento],COUNTIFS(OFFSET(Ref_Segmento,Parametros[Fila]-1,0,Parametros[Alto]),Bloques[[#This Row],[Segmento]],OFFSET(Ref_Conteo,Parametros[Fila]-1,0,Parametros[Alto]),Bloques[[#This Row],[Bloque]],OFFSET(Ref_Conteo,Parametros[Fila]-1,-1,Parametros[Alto]),Bloques[[#This Row],[Grupo]])-1,0)","v":0},null,null,""]
["Activos","Cuentas por Cobrar","Cuentas comerciales por cobrar ",{"$f":"IF(Bloques[[#This Row],[Segmento]]=Parametros[Segmento],COUNTIFS(OFFSET(Ref_Segmento,Parametros[Fila]-1,0,Parametros[Alto]),Bloques[[#This Row],[Segmento]],OFFSET(Ref_Conteo,Parametros[Fila]-1,0,Parametros[Alto]),Bloques[[#This Row],[Bloque]],OFFSET(Ref_Conteo,Parametros[Fila]-1,-1,Parametros[Alto]),Bloques[[#This Row],[Grupo]])-1,0)","v":0},null,null,""]
["Activos","Cuentas por Cobrar","Cuentas por cobrar en acuerdos de concesión (modelos del activo financiero) ",{"$f":"IF(Bloques[[#This Row],[Segmento]]=Parametros[Segmento],COUNTIFS(OFFSET(Ref_Segmento,Parametros[Fila]-1,0,Parametros[Alto]),Bloques[[#This Row],[Segmento]],OFFSET(Ref_Conteo,Parametros[Fila]-1,0,Parametros[Alto]),Bloques[[#This Row],[Bloque]],OFFSET(Ref_Conteo,Parametros[Fila]-1,-1,Parametros[Alto]),Bloques[[#This Row],[Grupo]])-1,0)","v":0},null,null,""]
["Activos","Cuentas por Cobrar","Arrendamiento financiero o leasing financiero ",{"$f":"IF(Bloques[[#This Row],[Segmento]]=Parametros[Segmento],COUNTIFS(OFFSET(Ref_Segmento,Parametros[Fila]-1,0,Parametros[Alto]),Bloques[[#This Row],[Segmento]],OFFSET(Ref_Conteo,Parametros[Fila]-1,0,Parametros[Alto]),Bloques[[#This Row],[Bloque]],OFFSET(Ref_Conteo,Parametros[Fila]-1,-1,Parametros[Alto]),Bloques[[#This Row],[Grupo]])-1,0)","v":0},null,null,""]
["Activos","Cuentas por Cobrar","Dividendos y participaciones ",{"$f":"IF(Bloques[[#This Row],[Segmento]]=Parametros[Segmento],COUNTIFS(OFFSET(Ref_Segmento,Parametros[Fila]-1,0,Parametros[Alto]),Bloques[[#This Row],[Segmento]],OFFSET(Ref_Conteo,Parametros[Fila]-1,0,Parametros[Alto]),Bloques[[#This Row],[Bloque]],OFFSET(Ref_Conteo,Parametros[Fila]-1,-1,Parametros[Alto]),Bloques[[#This Row],[Grupo]])-1,0)","v":0},null,null,""]
["Activos","Cuentas por Cobrar","Cuentas por cobrar a socios, accionistas o partícipes ",{"$f":"IF(Bloques[[#This Row],[Segmento]]=Parametros[Segmento],COUNTIFS(OFFSET(Ref_Segmento,Parametros[Fila]-1,0,Parametros[Alto]),Bloques[[#This Row],[Segmento]],OFFSET(Ref_Conteo,Parametros[Fila]-1,0,Parametros[Alto]),Bloques[[#This Row],[Bloque]],OFFSET(Ref_Conteo,Parametros[Fila]-1,-1,Parametros[Alto]),Bloques[[#This Row],[Grupo]])-1,0)","v":0},null,null,""]
["Activos","Cuentas por Cobrar","Cuentas y documentos por cobrar a otras partes relacionadas y asociadas ",{"$f":"IF(Bloques[[#This Row],[Segmento]]=Parametros[Segmento],COUNTIFS(OFFSET(Ref_Segmento,Parametros[Fila]-1,0,Parametros[Alto]),Bloques[[#This Row],[Segmento]],OFFSET(Ref_Conteo,Parametros[Fila]-1,0,Parametros[Alto]),Bloques[[#This Row],[Bloque]],OFFSET(Ref_Conteo,Parametros[Fila]-1,-1,Parametros[Alto]),Bloques[[#This Row],[Grupo]])-1,0)","v":0},null,null,""]
["Activos","Cuentas por Cobrar","Primas de seguros por recaudar ",{"$f":"IF(Bloques[[#This Row],[Segmento]]=Parametros[Segmento],COUNTIFS(OFFSET(Ref_Segmento,Parametros[Fila]-1,0,Parametros[Alto]),Bloques[[#This Row],[Segmento]],OFFSET(Ref_Conteo,Parametros[Fila]-1,0,Parametros[Alto]),Bloques[[#This Row],[Bloque]],OFFSET(Ref_Conteo,Parametros[Fila]-1,-1,Parametros[Alto]),Bloques[[#This Row],[Grupo]])-1,0)","v":0},null,null,""]
["Activos","Cuentas por Cobrar","Cartera de difícil cobro ",{"$f":"IF(Bloques[[#This Row],[Segmento]]=Parametros[Segmento],COUNTIFS(OFFSET(Ref_Segmento,Parametros[Fila]-1,0,Parametros[Alto]),Bloques[[#This Row],[Segmento]],OFFSET(Ref_Conteo,Parametros[Fila]-1,0,Parametros[Alto]),Bloques[[#This Row],[Bloque]],OFFSET(Ref_Conteo,Parametros[Fila]-1,-1,Parametros[Alto]),Bloques[[#This Row],[Grupo]])-1,0)","v":0},null,null,""]
["Activos","Cuentas por Cobrar","Reclamaciones por cobrar ",{"$f":"IF(Bloques[[#This Row],[Segmento]]=Parametros[Segmento],COUNTIFS(OFFSET(Ref_Segmento,Parametros[Fila]-1,0,Parametros[Alto]),Bloques[[#This Row],[Segmento]],OFFSET(Ref_Conteo,Parametros[Fila]-1,0,Parametros[Alto]),Bloques[[#This Row],[Bloque]],OFFSET(Ref_Conteo,Parametros[Fila]-1,-1,Parametros[Alto]),Bloques[[#This Row],[Grupo]])-1,0)","v":0},null,null,""]
["Activos","Cuentas por Cobrar","Anticipos de pagos ",{"$f":"IF(Bloques[[#This Row],[Segmento]]=Parametros[Segmento],COUNTIFS(OFFSET(Ref_Segmento,Parametros[Fila]-1,0,Parametros[Alto]),Bloques[[#This Row],[Segmento]],OFFSET(Ref_Conteo,Parametros[Fila]-1,0,Parametros[Alto]),Bloques[[#This Row],[Bloque]],OFFSET(Ref_Conteo,Parametros[Fila]-1,-1,Parametros[Alto]),Bloques[[#This Row],[Grupo]])-1,0)","v":0},null,null,""]
["Activos","Cuentas por Cobrar","Otras cuentas y documentos por cobrar ",{"$f":"IF(Bloques[[#This Row],[Segmento]]=Parametros[Segmento],COUNTIFS(OFFSET(Ref_Segmento,Parametros[Fila]-1,0,Parametros[Alto]),Bloques[[#This Row],[Segmento]],OFFSET(Ref_Conteo,Parametros[Fila]-1,0,Parametros[Alto]),Bloques[[#This Row],[Bloque]],OFFSET(Ref_Conteo,Parametros[Fila]-1,-1,Parametros[Alto]),Bloques[[#This Row],[Grupo]])-1,0)","v":0},null,null,""]
["Activos","Inventarios","Inventarios para la venta no producidos por la empresa ",{"$f":"IF(Bloques[[#This Row],[Segmento]]=Parametros[Segmento],COUNTIFS(OFFSET(Ref_Segmento,Parametros[Fila]-1,0,Parametros[Alto]),Bloques[[#This Row],[Segmento]],OFFSET(Ref_Conteo,Parametros[Fila]-1,0,Parametros[Alto]),Bloques[[#This Row],[Bloque]],OFFSET(Ref_Conteo,Parametros[Fila]-1,-1,Parametros[Alto]),Bloques[[#This Row],[Grupo]])-1,0)","v":0},null,null,""]
["Activos","Inventarios","Inventarios en proceso (diferentes de obras o inmuebles en construcción para la venta)",{"$f":"IF(Bloques[[#This Row],[Segmento]]=Parametros[Segmento],COUNTIFS(OFFSET(Ref_Segmento,Parametros[Fila]-1,0,Parametros[Alto]),Bloques[[#This Row],[Segmento]],OFFSET(Ref_Conteo,Parametros[Fila]-1,0,Parametros[Alto]),Bloques[[#This Row],[Bloque]],OFFSET(Ref_Conteo,Parametros[Fila]-1,-1,Parametros[Alto]),Bloques[[#This Row],[Grupo]])-1,0)","v":0},null,null,""]
["Activos","Inventarios","Materias primas, suministros y materiales",{"$f":"IF(Bloques[[#This Row],[Segmento]]=Parametros[Segmento],COUNTIFS(OFFSET(Ref_Segmento,Parametros[Fila]-1,0,Parametros[Alto]),Bloques[[#This Row],[Segmento]],OFFSET(Ref_Conteo,Parametros[Fila]-1,0,Parametros[Alto]),Bloques[[#This Row],[Bloque]],OFFSET(Ref_Conteo,Parametros[Fila]-1,-1,Parametros[Alto]),Bloques[[#This Row],[Grupo]])-1,0)","v":0},null,null,""]
["Activos","Inventarios","Inventarios en tránsito ",{"$f":"IF(Bloques[[#This Row],[Segmento]]=Parametros[Segmento],COUNTIFS(OFFSET(Ref_Segmento,Parametros[Fila]-1,0,Parametros[Alto]),Bloques[[#This Row],[Segmento]],OFFSET(Ref_Conteo,Parametros[Fila]-1,0,Parametros[Alto]),Bloques[[#This Row],[Bloque]],OFFSET(Ref_Conteo,Parametros[Fila]-1,-1,Parametros[Alto]),Bloques[[#This Row],[Grupo]])-1,0)","v":0},null,null,""]
["Activos","Inventarios","Obras o inmuebles en construcción para la venta",{"$f":"IF(Bloques[[#This Row],[Segmento]]=Parametros[Segmento],COUNTIFS(OFFSET(Ref_Segmento,Parametros[Fila]-1,0,Parametros[Alto]),Bloques[[#This Row],[Segmento]],OFFSET(Ref_Conteo,Parametros[Fila]-1,0,Parametros[Alto]),Bloques[[#This Row],[Bloque]],OFFSET(Ref_Conteo,Parametros[Fila]-1,-1,Parametros[Alto]),Bloques[[#This Row],[Grupo]])-1,0)","v":0},null,null,""]
["Activos","Inventarios","Obras o inmuebles terminados para la venta",{"$f":"IF(Bloques[[#This Row],[Segmento]]=Parametros[Segmento],COUNTIFS(OFFSET(Ref_Segmento,Parametros[Fila]-1,0,Parametros[Alto]),Bloques[[#This Row],[Segmento]],OFFSET(Ref_Conteo,Parametros[Fila]-1,0,Parametros[Alto]),Bloques[[#This Row],[Bloque]],OFFSET(Ref_Conteo,Parametros[Fila]-1,-1,Parametros[Alto]),Bloques[[#This Row],[Grupo]])-1,0)","v":0},null,null,""]
["Activos","Inventarios","Producto terminado (diferentes de obras o inmuebles terminados para la venta)",{"$f":"IF(Bloques[[#This Row],[Segmento]]=Parametros[Segmento],COUNTIFS(OFFSET(Ref_Segmento,Parametros[Fila]-1,0,Parametros[Alto]),Bloques[[#This Row],[Segmento]],OFFSET(Ref_Conteo,Parametros[Fila]-1,0,Parametros[Alto]),Bloques[[#This Row],[Bloque]],OFFSET(Ref_Conteo,Parametros[Fila]-1,-1,Parametros[Alto]),Bloques[[#This Row],[Grupo]])-1,0)","v":0},null,null,""]
["Activos","Inventarios","Piezas de repuesto y equipo auxiliar clasificados como inventarios",{"$f":"IF(Bloques[[#This Row],[Segmento]]=Parametros[Segmento],COUNTIFS(OFFSET(Ref_Segmento,Parametros[Fila]-1,0,Parametros[Alto]),Bloques[[#This Row],[Segmento]],OFFSET(Ref_Conteo,Parametros[Fila]-1,0,Parametros[Alto]),Bloques[[#This Row],[Bloque]],OFFSET(Ref_Conteo,Parametros[Fila]-1,-1,Parametros[Alto]),Bloques[[#This Row],[Grupo]])-1,0)","v":0},null,null,""]
["Activos","Inventarios","Inventario que surge de la actividad de extracción",{"$f":"IF(Bloques[[#This Row],[Segmento]]=Parametros[Segmento],COUNTIFS(OFFSET(Ref_Segmento,Parametros[Fila]-1,0,Parametros[Alto]),Bloques[[#This Row],[Segmento]],OFFSET(Ref_Conteo,Parametros[Fila]-1,0,Parametros[Alto]),Bloques[[#This Row],[Bloque]],OFFSET(Ref_Conteo,Parametros[Fila]-1,-1,Parametros[Alto]),Bloques[[#This Row],[Grupo]])-1,0)","v":0},null,null,""]
["Activos","Inventarios","Costos prestadores de servicios",{"$f":"IF(Bloques[[#This Row],[Segmento]]=Parametros[Segmento],COUNTIFS(OFFSET(Ref_Segmento,Parametros[Fila]-1,0,Parametros[Alto]),Bloques[[#This Row],[Segmento]],OFFSET(Ref_Conteo,Parametros[Fila]-1,0,Parametros[Alto]),Bloques[[#This Row],[Bloque]],OFFSET(Ref_Conteo,Parametros[Fila]-1,-1,Parametros[Alto]),Bloques[[#This Row],[Grupo]])-1,0)","v":0},null,null,""]
["Activos","Propiedades, Planta y Equipo","Terrenos ",{"$f":"IF(Bloques[[#This Row],[Segmento]]=Parametros[Segmento],COUNTIFS(OFFSET(Ref_Segmento,Parametros[Fila]-1,0,Parametros[Alto]),Bloques[[#This Row],[Segmento]],OFFSET(Ref_Conteo,Parametros[Fila]-1,0,Parametros[Alto]),Bloques[[#This Row],[Bloque]],OFFSET(Ref_Conteo,Parametros[Fila]-1,-1,Parametros[Alto]),Bloques[[#This Row],[Grupo]])-1,0)","v":0},null,null,""]
["Activos","Propiedades, Planta y Equipo","Construcciones en proceso",{"$f":"IF(Bloques[[#This Row],[Segmento]]=Parametros[Segmento],COUNTIFS(OFFSET(Ref_Segmento,Parametros[Fila]-1,0,Parametros[Alto]),Bloques[[#This Row],[Segmento]],OFFSET(Ref_Conteo,Parametros[Fila]-1,0,Parametros[Alto]),Bloques[[#This Row],[Bloque]],OFFSET(Ref_Conteo,Parametros[Fila]-1,-1,Parametros[Alto]),Bloques[[#This Row],[Grupo]])-1,0)","v":0},null,null,""]
["Activos","Propiedades, Planta y Equipo","Edificios - Al costo ",{"$f":"IF(Bloques[[#This Row],[Segmento]]=Parametros[Segmento],COUNTIFS(OFFSET(Ref_Segmento,Parametros[Fila]-1,0,Parametros[Alto]),Bloques[[#This Row],[Segmento]],OFFSET(Ref_Conteo,Parametros[Fila]-1,0,Parametros[Alto]),Bloques[[#This Row],[Bloque]],OFFSET(Ref_Conteo,Parametros[Fila]-1,-1,Parametros[Alto]),Bloques[[#This Row],[Grupo]])-1,0)","v":0},null,null,""]
["Activos","Propiedades, Planta y Equipo","Edificios - Ajuste acumulado por revaluaciones o reexpresiones",{"$f":"IF(Bloques[[#This Row],[Segmento]]=Parametros[Segmento],COUNTIFS(OFFSET(Ref_Segmento,Parametros[Fila]-1,0,Parametros[Alto]),Bloques[[#This Row],[Segmento]],OFFSET(Ref_Conteo,Parametros[Fila]-1,0,Parametros[Alto]),Bloques[[#This Row],[Bloque]],OFFSET(Ref_Conteo,Parametros[Fila]-1,-1,Parametros[Alto]),Bloques[[#This Row],[Grupo]])-1,0)","v":0},null,null,""]
["Activos","Propiedades, Planta y Equipo","Otras propiedades, plantas y equipo - Al costo",{"$f":"IF(Bloques[[#This Row],[Segmento]]=Parametros[Segmento],COUNTIFS(OFFSET(Ref_Segmento,Parametros[Fila]-1,0,Parametros[Alto]),Bloques[[#This Row],[Segmento]],OFFSET(Ref_Conteo,Parametros[Fila]-1,0,Parametros[Alto]),Bloques[[#This Row],[Bloque]],OFFSET(Ref_Conteo,Parametros[Fila]-1,-1,Parametros[Alto]),Bloques[[#This Row],[Grupo]])-1,0)","v":0},null,null,""]
["Activos","Propiedades, Planta y Equipo","Otras propiedades, plantas y equipo - Ajuste acumulado por revaluaciones o reexpresiones",{"$f":"IF(Bloques[[#This Row],[Segmento]]=Parametros[Segmento],COUNTIFS(OFFSET(Ref_Segmento,Parametros[Fila]-1,0,Parametros[Alto]),Bloques[[#This Row],[Segmento]],OFFSET(Ref_Conteo,Parametros[Fila]-1,0,Parametros[Alto]),Bloques[[#This Row],[Bloque]],OFFSET(Ref_Conteo,Parametros[Fila]-1,-1,Parametros[Alto]),Bloques[[#This Row],[Grupo]])-1,0)","v":0},null,null,""]
["Activos","Propiedades, Planta y Equipo","Activos tangibles para exploración y evaluación de recursos minerales",{"$f":"IF(Bloques[[#This Row],[Segmento]]=Parametros[Segmento],COUNTIFS(OFFSET(Ref_Segmento,Parametros[Fila]-1,0,Parametros[Alto]),Bloques[[#This Row],[Segmento]],OFFSET(Ref_Conteo,Parametros[Fila]-1,0,Parametros[Alto]),Bloques[[#This Row],[Bloque]],OFFSET(Ref_Conteo,Parametros[Fila]-1,-1,Parametros[Alto]),Bloques[[#This Row],[Grupo]])-1,0)","v":0},null,null,""]
["Activos","Activos Intangibles - Distintos a la plusvalía","Acuerdos de concesión (modelo del activo intangible)",{"$f":"IF(Bloques[[#This Row],[Segmento]]=Parametros[Segmento],COUNTIFS(OFFSET(Ref_Segmento,Parametros[Fila]-1,0,Parametros[Alto]),Bloques[[#This Row],[Segmento]],OFFSET(Ref_Conteo,Parametros[Fila]-1,0,Parametros[Alto]),Bloques[[#This Row],[Bloque]],OFFSET(Ref_Conteo,Parametros[Fila]-1,-1,Parametros[Alto]),Bloques[[#This Row],[Grupo]])-1,0)","v":0},null,null,""]
["Activos","Activos Intangibles - Distintos a la plusvalía","Activos intangibles exploración y evaluación de recursos minerales",{"$f":"IF(Bloques[[#This Row],[Segmento]]=Parametros[Segmento],COUNTIFS(OFFSET(Ref_Segmento,Parametros[Fila]-1,0,Parametros[Alto]),Bloques[[#This Row],[Segmento]],OFFSET(Ref_Conteo,Parametros[Fila]-1,0,Parametros[Alto]),Bloques[[#This Row],[Bloque]],OFFSET(Ref_Conteo,Parametros[Fila]-1,-1,Parametros[Alto]),Bloques[[#This Row],[Grupo]])-1,0)","v":0},null,null,""]
["Activos","Activos Intangibles - Distintos a la plusvalía","Marcas, patentes, licencias y otros derechos - Al costo",{"$f":"IF(Bloques[[#This Row],[Segmento]]=Parametros[Segmento],COUNTIFS(OFFSET(Ref_Segmento,Parametros[Fila]-1,0,Parametros[Alto]),Bloques[[#This Row],[Segmento]],OFFSET(Ref_Conteo,Parametros[Fila]-1,0,Parametros[Alto]),Bloques[[#This Row],[Bloque]],OFFSET(Ref_Conteo,Parametros[Fila]-1,-1,Parametros[Alto]),Bloques[[#This Row],[Grupo]])-1,0)","v":0},null,null,""]
["Activos","Activos Intangibles - Distintos a la plusvalía","Marcas, patentes, licencias y otros derechos - Ajuste acumulado por revaluaciones o reexpresiones",{"$f":"IF(Bloques[[#This Row],[Segmento]]=Parametros[Segmento],COUNTIFS(OFFSET(Ref_Segmento,Parametros[Fila]-1,0,Parametros[Alto]),Bloques[[#This Row],[Segmento]],OFFSET(Ref_Conteo,Parametros[Fila]-1,0,Parametros[Alto]),Bloques[[#This Row],[Bloque]],OFFSET(Ref_Conteo,Parametros[Fila]-1,-1,Parametros[Alto]),Bloques[[#This Row],[Grupo]])-1,0)","v":0},null,null,""]
["Activos","Activos Intangibles - Distintos a la plusvalía","Arrendamiento Financiero - Al costo",{"$f":"IF(Bloques[[#This Row],[Segmento]]=Parametros[Segmento],COUNTIFS(OFFSET(Ref_Segmento,Parametros[Fila]-1,0,Parametros[Alto]),Bloques[[#This Row],[Segmento]],OFFSET(Ref_Conteo,Parametros[Fila]-1,0,Parametros[Alto]),Bloques[[#This Row],[Bloque]],OFFSET(Ref_Conteo,Parametros[Fila]-1,-1,Parametros[Alto]),Bloques[[#This Row],[Grupo]])-1,0)","v":0},null,null,""]
["Activos","Activos Intangibles - Distintos a la plusvalía","Arrendamiento Financiero - Ajuste acumulado por revaluaciones o reexpresiones",{"$f":"IF(Bloques[[#This Row],[Segmento]]=Parametros[Segmento],COUNTIFS(OFFSET(Ref_Segmento,Parametros[Fila]-1,0,Parametros[Alto]),Bloques[[#This Row],[Segmento]],OFFSET(Ref_Conteo,Parametros[Fila]-1,0,Parametros[Alto]),Bloques[[#This Row],[Bloque]],OFFSET(Ref_Conteo,Parametros[Fila]-1,-1,Parametros[Alto]),Bloques[[#This Row],[Grupo]])-1,0)","v":0},null,null,""]
["Activos","Activos Intangibles - Distintos a la plusvalía","Otros activos intangibles - Al costo",{"$f":"IF(Bloques[[#This Row],[Segmento]]=Parametros[Segmento],COUNTIFS(OFFSET(Ref_Segmento,Parametros[Fila]-1,0,Parametros[Alto]),Bloques[[#This Row],[Segmento]],OFFSET(Ref_Conteo,Parametros[Fila]-1,0,Parametros[Alto]),Bloques[[#This Row],[Bloque]],OFFSET(Ref_Conteo,Parametros[Fila]-1,-1,Parametros[Alto]),Bloques[[#This Row],[Grupo]])-1,0)","v":0},null,null,""]
["Activos","Activos Intangibles - Distintos a la plusvalía","Otros activos intangibles - Ajuste acumulado por revaluaciones o reexpresiones",{"$f":"IF(Bloques[[#This Row],[Segmento]]=Parametros[Segmento],COUNTIFS(OFFSET(Ref_Segmento,Parametros[Fila]-1,0,Parametros[Alto]),Bloques[[#This Row],[Segmento]],OFFSET(Ref_Conteo,Parametros[Fila]-1,0,Parametros[Alto]),Bloques[[#This Row],[Bloque]],OFFSET(Ref_Conteo,Parametros[Fila]-1,-1,Parametros[Alto]),Bloques[[#This Row],[Grupo]])-1,0)","v":0},null,null,""]
["Activos","Activos Intangibles - Distintos a la plusvalía","Amortización acumulada de activos intangibles distintos de la plusvalía",{"$f":"IF(Bloques[[#This Row],[Segmento]]=Parametros[Segmento],COUNTIFS(OFFSET(Ref_Segmento,Parametros[Fila]-1,0,Parametros[Alto]),Bloques[[#This Row],[Segmento]],OFFSET(Ref_Conteo,Parametros[Fila]-1,0,Parametros[Alto]),Bloques[[#This Row],[Bloque]],OFFSET(Ref_Conteo,Parametros[Fila]-1,-1,Parametros[Alto]),Bloques[[#This Row],[Grupo]])-1,0)","v":0},null,null,""]
["Activos","Activos Intangibles - Distintos a la plusvalía","Deterioro acumulado de activos intangibles distintos de la plusvalía",{"$f":"IF(Bloques[[#This Row],[Segmento]]=Parametros[Segmento],COUNTIFS(OFFSET(Ref_Segmento,Parametros[Fila]-1,0,Parametros[Alto]),Bloques[[#This Row],[Segmento]],OFFSET(Ref_Conteo,Parametros[Fila]-1,0,Parametros[Alto]),Bloques[[#This Row],[Bloque]],OFFSET(Ref_Conteo,Parametros[Fila]-1,-1,Parametros[Alto]),Bloques[[#This Row],[Grupo]])-1,0)","v":0},null,null,""]
["Activos","Activos Intangibles - Plusvalía o Good Will","Plusvalía o Good Will - Adquisición de establecimiento de comercio",{"$f":"IF(Bloques[[#This Row],[Segmento]]=Parametros[Segmento],COUNTIFS(OFFSET(Ref_Segmento,Parametros[Fila]-1,0,Parametros[Alto]),Bloques[[#This Row],[Segmento]],OFFSET(Ref_Conteo,Parametros[Fila]-1,0,Parametros[Alto]),Bloques[[#This Row],[Bloque]],OFFSET(Ref_Conteo,Parametros[Fila]-1,-1,Parametros[Alto]),Bloques[[#This Row],[Grupo]])-1,0)","v":0},null,null,""]
["Activos","Activos Intangibles - Plusvalía o Good Will","Plusvalía o Good Will - Fusiones",{"$f":"IF(Bloques[[#This Row],[Segmento]]=Parametros[Segmento],COUNTIFS(OFFSET(Ref_Segmento,Parametros[Fila]-1,0,Parametros[Alto]),Bloques[[#This Row],[Segmento]],OFFSET(Ref_Conteo,Parametros[Fila]-1,0,Parametros[Alto]),Bloques[[#This Row],[Bloque]],OFFSET(Ref_Conteo,Parametros[Fila]-1,-1,Parametros[Alto]),Bloques[[#This Row],[Grupo]])-1,0)","v":0},null,null,""]
["Activos","Activos Intangibles - Plusvalía o Good Will","Plusvalía o Good Will - Escisiones",{"$f":"IF(Bloques[[#This Row],[Segmento]]=Parametros[Segmento],COUNTIFS(OFFSET(Ref_Segmento,Parametros[Fila]-1,0,Parametros[Alto]),Bloques[[#This Row],[Segmento]],OFFSET(Ref_Conteo,Parametros[Fila]-1,0,Parametros[Alto]),Bloques[[#This Row],[Bloque]],OFFSET(Ref_Conteo,Parametros[Fila]-1,-1,Parametros[Alto]),Bloques[[#This Row],[Grupo]])-1,0)","v":0},null,null,""]
["Activos","Activos Intangibles - Plusvalía o Good Will","Plusvalía o Good Will - Compras de Acciones ",{"$f":"IF(Bloques[[#This Row],[Segmento]]=Parametros[Segmento],COUNTIFS(OFFSET(Ref_Segmento,Parametros[Fila]-1,0,Parametros[Alto]),Bloques[[#This Row],[Segmento]],OFFSET(Ref_Conteo,Parametros[Fila]-1,0,Parametros[Alto]),Bloques[[#This Row],[Bloque]],OFFSET(Ref_Conteo,Parametros[Fila]-1,-1,Parametros[Alto]),Bloques[[#This Row],[Grupo]])-1,0)","v":0},null,null,""]
["Activos","Activos Intangibles - Plusvalía o Good Will","Amortización acumulada de la plusvalía o Good Will",{"$f":"IF(Bloques[[#This Row],[Segmento]]=Parametros[Segmento],COUNTIFS(OFFSET(Ref_Segmento,Parametros[Fila]-1,0,Parametros[Alto]),Bloques[[#This Row],[Segmento]],OFFSET(Ref_Conteo,Parametros[Fila]-1,0,Parametros[Alto]),Bloques[[#This Row],[Bloque]],OFFSET(Ref_Conteo,Parametros[Fila]-1,-1,Parametros[Alto]),Bloques[[#This Row],[Grupo]])-1,0)","v":0},null,null,""]
["Activos","Activos Intangibles - Plusvalía o Good Will","Deterioro acumulado de la plusvalía o Good Will",{"$f":"IF(Bloques[[#This Row],[Segmento]]=Parametros[Segmento],COUNTIFS(OFFSET(Ref_Segmento,Parametros[Fila]-1,0,Parametros[Alto]),Bloques[[#This Row],[Segmento]],OFFSET(Ref_Conteo,Parametros[Fila]-1,0,Parametros[Alto]),Bloques[[#This Row],[Bloque]],OFFSET(Ref_Conteo,Parametros[Fila]-1,-1,Parametros[Alto]),Bloques[[#This Row],[Grupo]])-1,0)","v":0},null,null,""]
["Activos","Propiedades de Inversión","Terrenos - Al costo",{"$f":"IF(Bloques[[#This Row],[Segmento]]=Parametros[Segmento],COUNTIFS(OFFSET(Ref_Segmento,Parametros[Fila]-1,0,Parametros[Alto]),Bloques[[#This Row],[Segmento]],OFFSET(Ref_Conteo,Parametros[Fila]-1,0,Parametros[Alto]),Bloques[[#This Row],[Bloque]],OFFSET(Ref_Conteo,Parametros[Fila]-1,-1,Parametros[Alto]),Bloques[[#This Row],[Grupo]])-1,0)","v":0},null,null,""]
["Activos","Propiedades de Inversión","Terrenos - Al valor razonable",{"$f":"IF(Bloques[[#This Row],[Segmento]]=Parametros[Segmento],COUNTIFS(OFFSET(Ref_Segmento,Parametros[Fila]-1,0,Parametros[Alto]),Bloques[[#This Row],[Segmento]],OFFSET(Ref_Conteo,Parametros[Fila]-1,0,Parametros[Alto]),Bloques[[#This Row],[Bloque]],OFFSET(Ref_Conteo,Parametros[Fila]-1,-1,Parametros[Alto]),Bloques[[#This Row],[Grupo]])-1,0)","v":0},null,null,""]
["Activos","Propiedades de Inversión","Edificaciones - Al costo",{"$f":"IF(Bloques[[#This Row],[Segmento]]=Parametros[Segmento],COUNTIFS(OFFSET(Ref_Segmento,Parametros[Fila]-1,0,Parametros[Alto]),Bloques[[#This Row],[Segmento]],OFFSET(Ref_Conteo,Parametros[Fila]-1,0,Parametros[Alto]),Bloques[[#This Row],[Bloque]],OFFSET(Ref_Conteo,Parametros[Fila]-1,-1,Parametros[Alto]),Bloques[[#This Row],[Grupo]])-1,0)","v":0},null,null,""]
["Activos","Propiedades de Inversión","Edificaciones - Al valor razonable ",{"$f":"IF(Bloques[[#This Row],[Segmento]]=Parametros[Segmento],COUNTIFS(OFFSET(Ref_Segmento,Parametros[Fila]-1,0,Parametros[Alto]),Bloques[[#This Row],[Segmento]],OFFSET(Ref_Conteo,Parametros[Fila]-1,0,Parametros[Alto]),Bloques[[#This Row],[Bloque]],OFFSET(Ref_Conteo,Parametros[Fila]-1,-1,Parametros[Alto]),Bloques[[#This Row],[Grupo]])-1,0)","v":0},null,null,""]
["Activos","Activos Biológicos","Animales productores medidos al costo",{"$f":"IF(Bloques[[#This Row],[Segmento]]=Parametros[Segmento],COUNTIFS(OFFSET(Ref_Segmento,Parametros[Fila]-1,0,Parametros[Alto]),Bloques[[#This Row],[Segmento]],OFFSET(Ref_Conteo,Parametros[Fila]-1,0,Parametros[Alto]),Bloques[[#This Row],[Bloque]],OFFSET(Ref_Conteo,Parametros[Fila]-1,-1,Parametros[Alto]),Bloques[[#This Row],[Grupo]])-1,0)","v":0},null,null,""]
["Activos","Activos Biológicos","Animales productores medidos al valor razonable menos costos de venta",{"$f":"IF(Bloques[[#This Row],[Segmento]]=Parametros[Segmento],COUNTIFS(OFFSET(Ref_Segmento,Parametros[Fila]-1,0,Parametros[Alto]),Bloques[[#This Row],[Segmento]],OFFSET(Ref_Conteo,Parametros[Fila]-1,0,Parametros[Alto]),Bloques[[#This Row],[Bloque]],OFFSET(Ref_Conteo,Parametros[Fila]-1,-1,Parametros[Alto]),Bloques[[#This Row],[Grupo]])-1,0)","v":0},null,null,""]
["Activos","Activos Biológicos","Animales consumibles medidos al costo",{"$f":"IF(Bloques[[#This Row],[Segmento]]=Parametros[Segmento],COUNTIFS(OFFSET(Ref_Segmento,Parametros[Fila]-1,0,Parametros[Alto]),Bloques[[#This Row],[Segmento]],OFFSET(Ref_Conteo,Parametros[Fila]-1,0,Parametros[Alto]),Bloques[[#This Row],[Bloque]],OFFSET(Ref_Conteo,Parametros[Fila]-1,-1,Parametros[Alto]),Bloques[[#This Row],[Grupo]])-1,0)","v":0},null,null,""]
["Activos","Activos Biológicos","Animales consumibles medidos al valor razonable menos costos de venta",{"$f":"IF(Bloques[[#This Row],[Segmento]]=Parametros[Segmento],COUNTIFS(OFFSET(Ref_Segmento,Parametros[Fila]-1,0,Parametros[Alto]),Bloques[[#This Row],[Segmento]],OFFSET(Ref_Conteo,Parametros[Fila]-1,0,Parametros[Alto]),Bloques[[#This Row],[Bloque]],OFFSET(Ref_Conteo,Parametros[Fila]-1,-1,Parametros[Alto]),Bloques[[#This Row],[Grupo]])-1,0)","v":0},null,null,""]
["Activos","Activos Biológicos","Plantas productoras medidas al costo",{"$f":"IF(Bloques[[#This Row],[Segmento]]=Parametros[Segmento],COUNTIFS(OFFSET(Ref_Segmento,Parametros[Fila]-1,0,Parametros[Alto]),Bloques[[#This Row],[Segmento]],OFFSET(Ref_Conteo,Parametros[Fila]-1,0,Parametros[Alto]),Bloques[[#This Row],[Bloque]],OFFSET(Ref_Conteo,Parametros[Fila]-1,-1,Parametros[Alto]),Bloques[[#This Row],[Grupo]])-1,0)","v":0},null,null,""]
["Activos","Activos Biológicos","Plantas productoras medidas al valor razonable",{"$f":"IF(Bloques[[#This Row],[Segmento]]=Parametros[Segmento],COUNTIFS(OFFSET(Ref_Segmento,Parametros[Fila]-1,0,Parametros[Alto]),Bloques[[#This Row],[Segmento]],OFFSET(Ref_Conteo,Parametros[Fila]-1,0,Parametros[Alto]),Bloques[[#This Row],[Bloque]],OFFSET(Ref_Conteo,Parametros[Fila]-1,-1,Parametros[Alto]),Bloques[[#This Row],[Grupo]])-1,0)","v":0},null,null,""]
["Activos","Activos Biológicos","Cultivos consumibles medidos al costo",{"$f":"IF(Bloques[[#This Row],[Segmento]]=Parametros[Segmento],COUNTIFS(OFFSET(Ref_Segmento,Parametros[Fila]-1,0,Parametros[Alto]),Bloques[[#This Row],[Segmento]],OFFSET(Ref_Conteo,Parametros[Fila]-1,0,Parametros[Alto]),Bloques[[#This Row],[Bloque]],OFFSET(Ref_Conteo,Parametros[Fila]-1,-1,Parametros[Alto]),Bloques[[#This Row],[Grupo]])-1,0)","v":0},null,null,""]
["Activos","Activos Biológicos","Cultivos consumibles medidos al valor razonable menos costos de venta",{"$f":"IF(Bloques[[#This Row],[Segmento]]=Parametros[Segmento],COUNTIFS(OFFSET(Ref_Segmento,Parametros[Fila]-1,0,Parametros[Alto]),Bloques[[#This Row],[Segmento]],OFFSET(Ref_Conteo,Parametros[Fila]-1,0,Parametros[Alto]),Bloques[[#This Row],[Bloque]],OFFSET(Ref_Conteo,Parametros[Fila]-1,-1,Parametros[Alto]),Bloques[[#This Row],[Grupo]])-1,0)","v":0},null,null,""]
["Activos","Activos no corrientes mantenidos para la venta y/o para distribuir a propietarios ","Mantenidos para la venta",{"$f":"IF(Bloques[[#This Row],[Segmento]]=Parametros[Segmento],COUNTIFS(OFFSET(Ref_Segmento,Parametros[Fila]-1,0,Parametros[Alto]),Bloques[[#This Row],[Segmento]],OFFSET(Ref_Conteo,Parametros[Fila]-1,0,Parametros[Alto]),Bloques[[#This Row],[Bloque]],OFFSET(Ref_Conteo,Parametros[Fila]-1,-1,Parametros[Alto]),Bloques[[#This Row],[Grupo]])-1,0)","v":0},null,null,""]
["Activos","Activos no corrientes mantenidos para la venta y/o para distribuir a propietarios ","Mantenidos para distribuir a propietarios",{"$f":"IF(Bloques[[#This Row],[Segmento]]=Parametros[Segmento],COUNTIFS(OFFSET(Ref_Segmento,Parametros[Fila]-1,0,Parametros[Alto]),Bloques[[#This Row],[Segmento]],OFFSET(Ref_Conteo,Parametros[Fila]-1,0,Parametros[Alto]),Bloques[[#This Row],[Bloque]],OFFSET(Ref_Conteo,Parametros[Fila]-1,-1,Parametros[Alto]),Bloques[[#This Row],[Grupo]])-1,0)","v":0},null,null,""]
["Activos","Otros Activos","Por plan de beneficios a empleados ",{"$f":"IF(Bloques[[#This Row],[Segmento]]=Parametros[Segmento],COUNTIFS(OFFSET(Ref_Segmento,Parametros[Fila]-1,0,Parametros[Alto]),Bloques[[#This Row],[Segmento]],OFFSET(Ref_Conteo,Parametros[Fila]-1,0,Parametros[Alto]),Bloques[[#This Row],[Bloque]],OFFSET(Ref_Conteo,Parametros[Fila]-1,-1,Parametros[Alto]),Bloques[[#This Row],[Grupo]])-1,0)","v":0},null,null,""]
["Activos","Otros Activos","Gastos pagados por anticipado",{"$f":"IF(Bloques[[#This Row],[Segmento]]=Parametros[Segmento],COUNTIFS(OFFSET(Ref_Segmento,Parametros[Fila]-1,0,Parametros[Alto]),Bloques[[#This Row],[Segmento]],OFFSET(Ref_Conteo,Parametros[Fila]-1,0,Parametros[Alto]),Bloques[[#This Row],[Bloque]],OFFSET(Ref_Conteo,Parametros[Fila]-1,-1,Parametros[Alto]),Bloques[[#This Row],[Grupo]])-1,0)","v":0},null,null,"Publicidad ;Prima de seguros ;Arrendamientos ;Otros "]
["Activos","Otros Activos","Por impuestos corrientes ",{"$f":"IF(Bloques[[#This Row],[Segmento]]=Parametros[Segmento],COUNTIFS(OFFSET(Ref_Segmento,Parametros[Fila]-1,0,Parametros[Alto]),Bloques[[#This Row],[Segmento]],OFFSET(Ref_Conteo,Parametros[Fila]-1,0,Parametros[Alto]),Bloques[[#This Row],[Bloque]],OFFSET(Ref_Conteo,Parametros[Fila]-1,-1,Parametros[Alto]),Bloques[[#This Row],[Grupo]])-1,0)","v":0},null,null,"Saldo a favor impuesto de renta ;Saldo a favor otros impuestos y gravámenes ;Descuentos Tributarios;Anticipos y otros "]
["Activos","Otros Activos","Otros activos",{"$f":"IF(Bloques[[#This Row],[Segmento]]=Parametros[Segmento],COUNTIFS(OFFSET(Ref_Segmento,Parametros[Fila]-1,0,Parametros[Alto]),Bloques[[#This Row],[Segmento]],OFFSET(Ref_Conteo,Parametros[Fila]-1,0,Parametros[Alto]),Bloques[[#This Row],[Bloque]],OFFSET(Ref_Conteo,Parametros[Fila]-1,-1,Parametros[Alto]),Bloques[[#This Row],[Grupo]])-1,0)","v":0},null,null,""]
["Activos","Otros Activos","Activos reconocidos solo para fines fiscales",{"$f":"IF(Bloques[[#This Row],[Segmento]]=Parametros[Segmento],COUNTIFS(OFFSET(Ref_Segmento,Parametros[Fila]-1,0,Parametros[Alto]),Bloques[[#This Row],[Segmento]],OFFSET(Ref_Conteo,Parametros[Fila]-1,0,Parametros[Alto]),Bloques[[#This Row],[Bloque]],OFFSET(Ref_Conteo,Parametros[Fila]-1,-1,Parametros[Alto]),Bloques[[#This Row],[Grupo]])-1,0)","v":0},null,null,""]
["Pasivos","Pasivos Financieros y Cuentas por Pagar","Obligaciones financieras en moneda local ",{"$f":"IF(Bloques[[#This Row],[Segmento]]=Parametros[Segmento],COUNTIFS(OFFSET(Ref_Segmento,Parametros[Fila]-1,0,Parametros[Alto]),Bloques[[#This Row],[Segmento]],OFFSET(Ref_Conteo,Parametros[Fila]-1,0,Parametros[Alto]),Bloques[[#This Row],[Bloque]],OFFSET(Ref_Conteo,Parametros[Fila]-1,-1,Parametros[Alto]),Bloques[[#This Row],[Grupo]])-1,0)","v":0},null,null,""]
["Pasivos","Pasivos Financieros y Cuentas por Pagar","Obligaciones financieras en moneda extranjera",{"$f":"IF(Bloques[[#This Row],[Segmento]]=Parametros[Segmento],COUNTIFS(OFFSET(Ref_Segmento,Parametros[Fila]-1,0,Parametros[Alto]),Bloques[[#This Row],[Segmento]],OFFSET(Ref_Conteo,Parametros[Fila]-1,0,Parametros[Alto]),Bloques[[#This Row],[Bloque]],OFFSET(Ref_Conteo,Parametros[Fila]-1,-1,Parametros[Alto]),Bloques[[#This Row],[Grupo]])-1,0)","v":0},null,null,""]
["Pasivos","Pasivos Financieros y Cuentas por Pagar","Depósitos y exigibilidades",{"$f":"IF(Bloques[[#This Row],[Segmento]]=Parametros[Segmento],COUNTIFS(OFFSET(Ref_Segmento,Parametros[Fila]-1,0,Parametros[Alto]),Bloques[[#This Row],[Segmento]],OFFSET(Ref_Conteo,Parametros[Fila]-1,0,Parametros[Alto]),Bloques[[#This Row],[Bloque]],OFFSET(Ref_Conteo,Parametros[Fila]-1,-1,Parametros[Alto]),Bloques[[#This Row],[Grupo]])-1,0)","v":0},null,null,""]
["Pasivos","Pasivos Financieros y Cuentas por Pagar","Cuentas comerciales por pagar en moneda local",{"$f":"IF(Bloques[[#This Row],[Segmento]]=Parametros[Segmento],COUNTIFS(OFFSET(Ref_Segmento,Parametros[Fila]-1,0,Parametros[Alto]),Bloques[[#This Row],[Segmento]],OFFSET(Ref_Conteo,Parametros[Fila]-1,0,Parametros[Alto]),Bloques[[#This Row],[Bloque]],OFFSET(Ref_Conteo,Parametros[Fila]-1,-1,Parametros[Alto]),Bloques[[#This Row],[Grupo]])-1,0)","v":0},null,null,""]
["Pasivos","Pasivos Financieros y Cuentas por Pagar","Cuentas comerciales por pagar en moneda extranjera",{"$f":"IF(Bloques[[#This Row],[Segmento]]=Parametros[Segmento],COUNTIFS(OFFSET(Ref_Segmento,Parametros[Fila]-1,0,Parametros[Alto]),Bloques[[#This Row],[Segmento]],OFFSET(Ref_Conteo,Parametros[Fila]-1,0,Parametros[Alto]),Bloques[[#This Row],[Bloque]],OFFSET(Ref_Conteo,Parametros[Fila]-1,-1,Parametros[Alto]),Bloques[[#This Row],[Grupo]])-1,0)","v":0},null,null,""]
["Pasivos","Pasivos Financieros y Cuentas por Pagar","Dividendos y participaciones por pagar",{"$f":"IF(Bloques[[#This Row],[Segmento]]=Parametros[Segmento],COUNTIFS(OFFSET(Ref_Segmento,Parametros[Fila]-1,0,Parametros[Alto]),Bloques[[#This Row],[Segmento]],OFFSET(Ref_Conteo,Parametros[Fila]-1,0,Parametros[Alto]),Bloques[[#This Row],[Bloque]],OFFSET(Ref_Conteo,Parametros[Fila]-1,-1,Parametros[Alto]),Bloques[[#This Row],[Grupo]])-1,0)","v":0},null,null,""]
["Pasivos","Pasivos Financieros y Cuentas por Pagar","Cuentas por pagar a socios, accionistas o partícipes",{"$f":"IF(Bloques[[#This Row],[Segmento]]=Parametros[Segmento],COUNTIFS(OFFSET(Ref_Segmento,Parametros[Fila]-1,0,Parametros[Alto]),Bloques[[#This Row],[Segmento]],OFFSET(Ref_Conteo,Parametros[Fila]-1,0,Parametros[Alto]),Bloques[[#This Row],[Bloque]],OFFSET(Ref_Conteo,Parametros[Fila]-1,-1,Parametros[Alto]),Bloques[[#This Row],[Grupo]])-1,0)","v":0},null,null,""]
["Pasivos","Pasivos Financieros y Cuentas por Pagar","Cuentas y documentos por pagar a otras partes relacionadas y asociadas",{"$f":"IF(Bloques[[#This Row],[Segmento]]=Parametros[Segmento],COUNTIFS(OFFSET(Ref_Segmento,Parametros[Fila]-1,0,Parametros[Alto]),Bloques[[#This Row],[Segmento]],OFFSET(Ref_Conteo,Parametros[Fila]-1,0,Parametros[Alto]),Bloques[[#This Row],[Bloque]],OFFSET(Ref_Conteo,Parametros[Fila]-1,-1,Parametros[Alto]),Bloques[[#This Row],[Grupo]])-1,0)","v":0},null,null,""]
["Pasivos","Pasivos Financieros y Cuentas por Pagar","Reserva matemática y/o técnica y otros pasivos exclusivos en compañías de seguros",{"$f":"IF(Bloques[[#This Row],[Segmento]]=Parametros[Segmento],COUNTIFS(OFFSET(Ref_Segmento,Parametros[Fila]-1,0,Parametros[Alto]),Bloques[[#This Row],[Segmento]],OFFSET(Ref_Conteo,Parametros[Fila]-1,0,Parametros[Alto]),Bloques[[#This Row],[Bloque]],OFFSET(Ref_Conteo,Parametros[Fila]-1,-1,Parametros[Alto]),Bloques[[#This Row],[Grupo]])-1,0)","v":0},null,null,""]
["Pasivos","Pasivos Financieros y Cuentas por Pagar","Recaudo a favor de terceros",{"$f":"IF(Bloques[[#This Row],[Segmento]]=Parametros[Segmento],COUNTIFS(OFFSET(Ref_Segmento,Parametros[Fila]-1,0,Parametros[Alto]),Bloques[[#This Row],[Segmento]],OFFSET(Ref_Conteo,Parametros[Fila]-1,0,Parametros[Alto]),Bloques[[#This Row],[Bloque]],OFFSET(Ref_Conteo,Parametros[Fila]-1,-1,Parametros[Alto]),Bloques[[#This Row],[Grupo]])-1,0)","v":0},null,null,""]
["Pasivos","Pasivos Financieros y Cuentas por Pagar","Otras cuentas y documentos por pagar en moneda local",{"$f":"IF(Bloques[[#This Row],[Segmento]]=Parametros[Segmento],COUNTIFS(OFFSET(Ref_Segmento,Parametros[Fila]-1,0,Parametros[Alto]),Bloques[[#This Row],[Segmento]],OFFSET(Ref_Conteo,Parametros[Fila]-1,0,Parametros[Alto]),Bloques[[#This Row],[Bloque]],OFFSET(Ref_Conteo,Parametros[Fila]-1,-1,Parametros[Alto]),Bloques[[#This Row],[Grupo]])-1,0)","v":0},null,null,""]
["Pasivos","Pasivos Financieros y Cuentas por Pagar","Otras cuentas y documentos por pagar en moneda extranjera",{"$f":"IF(Bloques[[#This Row],[Segmento]]=Parametros[Segmento],COUNTIFS(OFFSET(Ref_Segmento,Parametros[Fila]-1,0,Parametros[Alto]),Bloques[[#This Row],[Segmento]],OFFSET(Ref_Conteo,Parametros[Fila]-1,0,Parametros[Alto]),Bloques[[#This Row],[Bloque]],OFFSET(Ref_Conteo,Parametros[Fila]-1,-1,Parametros[Alto]),Bloques[[#This Row],[Grupo]])-1,0)","v":0},null,null,""]
["Pasivos","Arrendamientos por pagar","Financiero o leasing - partes no relacionadas ",{"$f":"IF(Bloques[[#This Row],[Segmento]]=Parametros[Segmento],COUNTIFS(OFFSET(Ref_Segmento,Parametros[Fila]-1,0,Parametros[Alto]),Bloques[[#This Row],[Segmento]],OFFSET(Ref_Conteo,Parametros[Fila]-1,0,Parametros[Alto]),Bloques[[#This Row],[Bloque]],OFFSET(Ref_Conteo,Parametros[Fila]-1,-1,Parametros[Alto]),Bloques[[#This Row],[Grupo]])-1,0)","v":0},null,null,""]
["Pasivos","Arrendamientos por pagar","Financiero o leasing - Partes relacionadas ",{"$f":"IF(Bloques[[#This Row],[Segmento]]=Parametros[Segmento],COUNTIFS(OFFSET(Ref_Segmento,Parametros[Fila]-1,0,Parametros[Alto]),Bloques[[#This Row],[Segmento]],OFFSET(Ref_Conteo,Parametros[Fila]-1,0,Parametros[Alto]),Bloques[[#This Row],[Bloque]],OFFSET(Ref_Conteo,Parametros[Fila]-1,-1,Parametros[Alto]),Bloques[[#This Row],[Grupo]])-1,0)","v":0},null,null,""]
["Pasivos","Arrendamientos por pagar","Operativo",{"$f":"IF(Bloques[[#This Row],[Segmento]]=Parametros[Segmento],COUNTIFS(OFFSET(Ref_Segmento,Parametros[Fila]-1,0,Parametros[Alto]),Bloques[[#This Row],[Segmento]],OFFSET(Ref_Conteo,Parametros[Fila]-1,0,Parametros[Alto]),Bloques[[#This Row],[Bloque]],OFFSET(Ref_Conteo,Parametros[Fila]-1,-1,Parametros[Alto]),Bloques[[#This Row],[Grupo]])-1,0)","v":0},null,null,""]
["Pasivos","Impuestos, Gravámenes y Tasas ","Impuesto de renta ",{"$f":"IF(Bloques[[#This Row],[Segmento]]=Parametros[Segmento],COUNTIFS(OFFSET(Ref_Segmento,Parametros[Fila]-1,0,Parametros[Alto]),Bloques[[#This Row],[Segmento]],OFFSET(Ref_Conteo,Parametros[Fila]-1,0,Parametros[Alto]),Bloques[[#This Row],[Bloque]],OFFSET(Ref_Conteo,Parametros[Fila]-1,-1,Parametros[Alto]),Bloques[[#This Row],[Grupo]])-1,0)","v":0},null,null,""]
["Pasivos","Impuestos, Gravámenes y Tasas ","Impuesto a las ventas - IVA ",{"$f":"IF(Bloques[[#This Row],[Segmento]]=Parametros[Segmento],COUNTIFS(OFFSET(Ref_Segmento,Parametros[Fila]-1,0,Parametros[Alto]),Bloques[[#This Row],[Segmento]],OFFSET(Ref_Conteo,Parametros[Fila]-1,0,Parametros[Alto]),Bloques[[#This Row],[Bloque]],OFFSET(Ref_Conteo,Parametros[Fila]-1,-1,Parametros[Alto]),Bloques[[#This Row],[Grupo]])-1,0)","v":0},null,null,""]
["Pasivos","Impuestos, Gravámenes y Tasas ","Otros impuestos, gravámenes y tasas por pagar ",{"$f":"IF(Bloques[[#This Row],[Segmento]]=Parametros[Segmento],COUNTIFS(OFFSET(Ref_Segmento,Parametros[Fila]-1,0,Parametros[Alto]),Bloques[[#This Row],[Segmento]],OFFSET(Ref_Conteo,Parametros[Fila]-1,0,Parametros[Alto]),Bloques[[#This Row],[Bloque]],OFFSET(Ref_Conteo,Parametros[Fila]-1,-1,Parametros[Alto]),Bloques[[#This Row],[Grupo]])-1,0)","v":0},null,null,""]
["Pasivos","Otros pasivos financieros","Bonos y documentos equivalentes ",{"$f":"IF(Bloques[[#This Row],[Segmento]]=Parametros[Segmento],COUNTIFS(OFFSET(Ref_Segmento,Parametros[Fila]-1,0,Parametros[Alto]),Bloques[[#This Row],[Segmento]],OFFSET(Ref_Conteo,Parametros[Fila]-1,0,Parametros[Alto]),Bloques[[#This Row],[Bloque]],OFFSET(Ref_Conteo,Parametros[Fila]-1,-1,Parametros[Alto]),Bloques[[#This Row],[Grupo]])-1,0)","v":0},null,null,""]
["Pasivos","Otros pasivos financieros","Instrumentos financieros derivados ",{"$f":"IF(Bloques[[#This Row],[Segmento]]=Parametros[Segmento],COUNTIFS(OFFSET(Ref_Segmento,Parametros[Fila]-1,0,Parametros[Alto]),Bloques[[#This Row],[Segmento]],OFFSET(Ref_Conteo,Parametros[Fila]-1,0,Parametros[Alto]),Bloques[[#This Row],[Bloque]],OFFSET(Ref_Conteo,Parametros[Fila]-1,-1,Parametros[Alto]),Bloques[[#This Row],[Grupo]])-1,0)","v":0},null,null,""]
["Pasivos","Otros pasivos financieros","Acciones preferenciales o aportes de capital clasificados como pasivos ",{"$f":"IF(Bloques[[#This Row],[Segmento]]=Parametros[Segmento],COUNTIFS(OFFSET(Ref_Segmento,Parametros[Fila]-1,0,Parametros[Alto]),Bloques[[#This Row],[Segmento]],OFFSET(Ref_Conteo,Parametros[Fila]-1,0,Parametros[Alto]),Bloques[[#This Row],[Bloque]],OFFSET(Ref_Conteo,Parametros[Fila]-1,-1,Parametros[Alto]),Bloques[[#This Row],[Grupo]])-1,0)","v":0},null,null,""]
["Pasivos","Otros pasivos financieros","Derechos fiduciarios ",{"$f":"IF(Bloques[[#This Row],[Segmento]]=Parametros[Segmento],COUNTIFS(OFFSET(Ref_Segmento,Parametros[Fila]-1,0,Parametros[Alto]),Bloques[[#This Row],[Segmento]],OFFSET(Ref_Conteo,Parametros[Fila]-1,0,Parametros[Alto]),Bloques[[#This Row],[Bloque]],OFFSET(Ref_Conteo,Parametros[Fila]-1,-1,Parametros[Alto]),Bloques[[#This Row],[Grupo]])-1,0)","v":0},null,null,""]
["Pasivos","Otros pasivos financieros","Otros pasivos financieros ",{"$f":"IF(Bloques[[#This Row],[Segmento]]=Parametros[Segmento],COUNTIFS(OFFSET(Ref_Segmento,Parametros[Fila]-1,0,Parametros[Alto]),Bloques[[#This Row],[Segmento]],OFFSET(Ref_Conteo,Parametros[Fila]-1,0,Parametros[Alto]),Bloques[[#This Row],[Bloque]],OFFSET(Ref_Conteo,Parametros[Fila]-1,-1,Parametros[Alto]),Bloques[[#This Row],[Grupo]])-1,0)","v":0},null,null,""]
["Pasivos","Beneficios a empleados","De corto plazo ",{"$f":"IF(Bloques[[#This Row],[Segmento]]=Parametros[Segmento],COUNTIFS(OFFSET(Ref_Segmento,Parametros[Fila]-1,0,Parametros[Alto]),Bloques[[#This Row],[Segmento]],OFFSET(Ref_Conteo,Parametros[Fila]-1,0,Parametros[Alto]),Bloques[[#This Row],[Bloque]],OFFSET(Ref_Conteo,Parametros[Fila]-1,-1,Parametros[Alto]),Bloques[[#This Row],[Grupo]])-1,0)","v":0},null,null,""]
["Pasivos","Beneficios a empleados","De largo plazo ",{"$f":"IF(Bloques[[#This Row],[Segmento]]=Parametros[Segmento],COUNTIFS(OFFSET(Ref_Segmento,Parametros[Fila]-1,0,Parametros[Alto]),Bloques[[#This Row],[Segmento]],OFFSET(Ref_Conteo,Parametros[Fila]-1,0,Parametros[Alto]),Bloques[[#This Row],[Bloque]],OFFSET(Ref_Conteo,Parametros[Fila]-1,-1,Parametros[Alto]),Bloques[[#This Row],[Grupo]])-1,0)","v":0},null,null,""]
["Pasivos","Beneficios a empleados","Por terminación de vínculo laboral o contractual",{"$f":"IF(Bloques[[#This Row],[Segmento]]=Parametros[Segmento],COUNTIFS(OFFSET(Ref_Segmento,Parametros[Fila]-1,0,Parametros[Alto]),Bloques[[#This Row],[Segmento]],OFFSET(Ref_Conteo,Parametros[Fila]-1,0,Parametros[Alto]),Bloques[[#This Row],[Bloque]],OFFSET(Ref_Conteo,Parametros[Fila]-1,-1,Parametros[Alto]),Bloques[[#This Row],[Grupo]])-1,0)","v":0},null,null,""]
["Pasivos","Beneficios a empleados","Post empleo",{"$f":"IF(Bloques[[#This Row],[Segmento]]=Parametros[Segmento],COUNTIFS(OFFSET(Ref_Segmento,Parametros[Fila]-1,0,Parametros[Alto]),Bloques[[#This Row],[Segmento]],OFFSET(Ref_Conteo,Parametros[Fila]-1,0,Parametros[Alto]),Bloques[[#This Row],[Bloque]],OFFSET(Ref_Conteo,Parametros[Fila]-1,-1,Parametros[Alto]),Bloques[[#This Row],[Grupo]])-1,0)","v":0},null,null,""]
["Pasivos","Provisiones","Procesos legales (litigios y demandas)",{"$f":"IF(Bloques[[#This Row],[Segmento]]=Parametros[Segmento],COUNTIFS(OFFSET(Ref_Segmento,Parametros[Fila]-1,0,Parametros[Alto]),Bloques[[#This Row],[Segmento]],OFFSET(Ref_Conteo,Parametros[Fila]-1,0,Parametros[Alto]),Bloques[[#This Row],[Bloque]],OFFSET(Ref_Conteo,Parametros[Fila]-1,-1,Parametros[Alto]),Bloques[[#This Row],[Grupo]])-1,0)","v":0},null,null,""]
["Pasivos","Provisiones","Mantenimiento y reparaciones",{"$f":"IF(Bloques[[#This Row],[Segmento]]=Parametros[Segmento],COUNTIFS(OFFSET(Ref_Segmento,Parametros[Fila]-1,0,Parametros[Alto]),Bloques[[#This Row],[Segmento]],OFFSET(Ref_Conteo,Parametros[Fila]-1,0,Parametros[Alto]),Bloques[[#This Row],[Bloque]],OFFSET(Ref_Conteo,Parametros[Fila]-1,-1,Parametros[Alto]),Bloques[[#This Row],[Grupo]])-1,0)","v":0},null,null,""]
["Pasivos","Provisiones","Obligaciones fiscales ",{"$f":"IF(Bloques[[#This Row],[Segmento]]=Parametros[Segmento],COUNTIFS(OFFSET(Ref_Segmento,Parametros[Fila]-1,0,Parametros[Alto]),Bloques[[#This Row],[Segmento]],OFFSET(Ref_Conteo,Parametros[Fila]-1,0,Parametros[Alto]),Bloques[[#This Row],[Bloque]],OFFSET(Ref_Conteo,Parametros[Fila]-1,-1,Parametros[Alto]),Bloques[[#This Row],[Grupo]])-1,0)","v":0},null,null,""]
["Pasivos","Provisiones","Desmantelamientos, restauración y rehabilitación ",{"$f":"IF(Bloques[[#This Row],[Segmento]]=Parametros[Segmento],COUNTIFS(OFFSET(Ref_Segmento,Parametros[Fila]-1,0,Parametros[Alto]),Bloques[[#This Row],[Segmento]],OFFSET(Ref_Conteo,Parametros[Fila]-1,0,Parametros[Alto]),Bloques[[#This Row],[Bloque]],OFFSET(Ref_Conteo,Parametros[Fila]-1,-1,Parametros[Alto]),Bloques[[#This Row],[Grupo]])-1,0)","v":0},null,null,""]
["Pasivos","Provisiones","Garantías ",{"$f":"IF(Bloques[[#This Row],[Segmento]]=Parametros[Segmento],COUNTIFS(OFFSET(Ref_Segmento,Parametros[Fila]-1,0,Parametros[Alto]),Bloques[[#This Row],[Segmento]],OFFSET(Ref_Conteo,Parametros[Fila]-1,0,Parametros[Alto]),Bloques[[#This Row],[Bloque]],OFFSET(Ref_Conteo,Parametros[Fila]-1,-1,Parametros[Alto]),Bloques[[#This Row],[Grupo]])-1,0)","v":0},null,null,""]
["Pasivos","Provisiones","Contratos onerosos",{"$f":"IF(Bloques[[#This Row],[Segmento]]=Parametros[Segmento],COUNTIFS(OFFSET(Ref_Segmento,Parametros[Fila]-1,0,Parametros[Alto]),Bloques[[#This Row],[Segmento]],OFFSET(Ref_Conteo,Parametros[Fila]-1,0,Parametros[Alto]),Bloques[[#This Row],[Bloque]],OFFSET(Ref_Conteo,Parametros[Fila]-1,-1,Parametros[Alto]),Bloques[[#This Row],[Grupo]])-1,0)","v":0},null,null,""]
["Pasivos","Provisiones","Reembolsos a clientes ",{"$f":"IF(Bloques[[#This Row],[Segmento]]=Parametros[Segmento],COUNTIFS(OFFSET(Ref_Segmento,Parametros[Fila]-1,0,Parametros[Alto]),Bloques[[#This Row],[Segmento]],OFFSET(Ref_Conteo,Parametros[Fila]-1,0,Parametros[Alto]),Bloques[[#This Row],[Bloque]],OFFSET(Ref_Conteo,Parametros[Fila]-1,-1,Parametros[Alto]),Bloques[[#This Row],[Grupo]])-1,0)","v":0},null,null,""]
["Pasivos","Provisiones","Reestructuraciones de negocios ",{"$f":"IF(Bloques[[#This Row],[Segmento]]=Parametros[Segmento],COUNTIFS(OFFSET(Ref_Segmento,Parametros[Fila]-1,0,Parametros[Alto]),Bloques[[#This Row],[Segmento]],OFFSET(Ref_Conteo,Parametros[Fila]-1,0,Parametros[Alto]),Bloques[[#This Row],[Bloque]],OFFSET(Ref_Conteo,Parametros[Fila]-1,-1,Parametros[Alto]),Bloques[[#This Row],[Grupo]])-1,0)","v":0},null,null,""]
["Pasivos","Provisiones","Pasivos contingentes asumidos en una combinación de negocios ",{"$f":"IF(Bloques[[#This Row],[Segmento]]=Parametros[Segmento],COUNTIFS(OFFSET(Ref_Segmento,Parametros[Fila]-1,0,Parametros[Alto]),Bloques[[#This Row],[Segmento]],OFFSET(Ref_Conteo,Parametros[Fila]-1,0,Parametros[Alto]),Bloques[[#This Row],[Bloque]],OFFSET(Ref_Conteo,Parametros[Fila]-1,-1,Parametros[Alto]),Bloques[[#This Row],[Grupo]])-1,0)","v":0},null,null,""]
["Pasivos","Provisiones","Relacionadas con el medio ambiente ",{"$f":"IF(Bloques[[#This Row],[Segmento]]=Parametros[Segmento],COUNTIFS(OFFSET(Ref_Segmento,Parametros[Fila]-1,0,Parametros[Alto]),Bloques[[#This Row],[Segmento]],OFFSET(Ref_Conteo,Parametros[Fila]-1,0,Parametros[Alto]),Bloques[[#This Row],[Bloque]],OFFSET(Ref_Conteo,Parametros[Fila]-1,-1,Parametros[Alto]),Bloques[[#This Row],[Grupo]])-1,0)","v":0},null,null,""]
["Pasivos","Provisiones","Otras provisiones ",{"$f":"IF(Bloques[[#This Row],[Segmento]]=Parametros[Segmento],COUNTIFS(OFFSET(Ref_Segmento,Parametros[Fila]-1,0,Parametros[Alto]),Bloques[[#This Row],[Segmento]],OFFSET(Ref_Conteo,Parametros[Fila]-1,0,Parametros[Alto]),Bloques[[#This Row],[Bloque]],OFFSET(Ref_Conteo,Parametros[Fila]-1,-1,Parametros[Alto]),Bloques[[#This Row],[Grupo]])-1,0)","v":0},null,null,""]
["Pasivos","Pasivos por ingresos diferidos ","Anticipos y avances recibidos de clientes ",{"$f":"IF(Bloques[[#This Row],[Segmento]]=Parametros[Segmento],COUNTIFS(OFFSET(Ref_Segmento,Parametros[Fila]-1,0,Parametros[Alto]),Bloques[[#This Row],[Segmento]],OFFSET(Ref_Conteo,Parametros[Fila]-1,0,Parametros[Alto]),Bloques[[#This Row],[Bloque]],OFFSET(Ref_Conteo,Parametros[Fila]-1,-1,Parametros[Alto]),Bloques[[#This Row],[Grupo]])-1,0)","v":0},null,null,""]
["Pasivos","Pasivos por ingresos diferidos ","Ingresos diferidos por programas de fidelización ",{"$f":"IF(Bloques[[#This Row],[Segmento]]=Parametros[Segmento],COUNTIFS(OFFSET(Ref_Segmento,Parametros[Fila]-1,0,Parametros[Alto]),Bloques[[#This Row],[Segmento]],OFFSET(Ref_Conteo,Parametros[Fila]-1,0,Parametros[Alto]),Bloques[[#This Row],[Bloque]],OFFSET(Ref_Conteo,Parametros[Fila]-1,-1,Parametros[Alto]),Bloques[[#This Row],[Grupo]])-1,0)","v":0},null,null,""]
["Pasivos","Pasivos por ingresos diferidos ","Subvenciones del Gobierno y otras ayudas ",{"$f":"IF(Bloques[[#This Row],[Segmento]]=Parametros[Segmento],COUNTIFS(OFFSET(Ref_Segmento,Parametros[Fila]-1,0,Parametros[Alto]),Bloques[[#This Row],[Segmento]],OFFSET(Ref_Conteo,Parametros[Fila]-1,0,Parametros[Alto]),Bloques[[#This Row],[Bloque]],OFFSET(Ref_Conteo,Parametros[Fila]-1,-1,Parametros[Alto]),Bloques[[#This Row],[Grupo]])-1,0)","v":0},null,null,""]
["Pasivos","Pasivos por ingresos diferidos ","Otros pasivos por ingresos diferidos ",{"$f":"IF(Bloques[[#This Row],[Segmento]]=Parametros[Segmento],COUNTIFS(OFFSET(Ref_Segmento,Parametros[Fila]-1,0,Parametros[Alto]),Bloques[[#This Row],[Segmento]],OFFSET(Ref_Conteo,Parametros[Fila]-1,0,Parametros[Alto]),Bloques[[#This Row],[Bloque]],OFFSET(Ref_Conteo,Parametros[Fila]-1,-1,Parametros[Alto]),Bloques[[#This Row],[Grupo]])-1,0)","v":0},null,null,""]
["Pasivos","Otros Pasivos","Depósitos recibidos ",{"$f":"IF(Bloques[[#This Row],[Segmento]]=Parametros[Segmento],COUNTIFS(OFFSET(Ref_Segmento,Parametros[Fila]-1,0,Parametros[Alto]),Bloques[[#This Row],[Segmento]],OFFSET(Ref_Conteo,Parametros[Fila]-1,0,Parametros[Alto]),Bloques[[#This Row],[Bloque]],OFFSET(Ref_Conteo,Parametros[Fila]-1,-1,Parametros[Alto]),Bloques[[#This Row],[Grupo]])-1,0)","v":0},null,null,""]
["Pasivos","Otros Pasivos","Retenciones a terceros sobre contratos ",{"$f":"IF(Bloques[[#This Row],[Segmento]]=Parametros[Segmento],COUNTIFS(OFFSET(Ref_Segmento,Parametros[Fila]-1,0,Parametros[Alto]),Bloques[[#This Row],[Segmento]],OFFSET(Ref_Conteo,Parametros[Fila]-1,0,Parametros[Alto]),Bloques[[#This Row],[Bloque]],OFFSET(Ref_Conteo,Parametros[Fila]-1,-1,Parametros[Alto]),Bloques[[#This Row],[Grupo]])-1,0)","v":0},null,null,""]
["Pasivos","Otros Pasivos","Embargos judiciales ",{"$f":"IF(Bloques[[#This Row],[Segmento]]=Parametros[Segmento],COUNTIFS(OFFSET(Ref_Segmento,Parametros[Fila]-1,0,Parametros[Alto]),Bloques[[#This Row],[Segmento]],OFFSET(Ref_Conteo,Parametros[Fila]-1,0,Parametros[Alto]),Bloques[[#This Row],[Bloque]],OFFSET(Ref_Conteo,Parametros[Fila]-1,-1,Parametros[Alto]),Bloques[[#This Row],[Grupo]])-1,0)","v":0},null,null,""]
["Pasivos","Otros Pasivos","Cuentas en participación",{"$f":"IF(Bloques[[#This Row],[Segmento]]=Parametros[Segmento],COUNTIFS(OFFSET(Ref_Segmento,Parametros[Fila]-1,0,Parametros[Alto]),Bloques[[#This Row],[Segmento]],OFFSET(Ref_Conteo,Parametros[Fila]-1,0,Parametros[Alto]),Bloques[[#This Row],[Bloque]],OFFSET(Ref_Conteo,Parametros[Fila]-1,-1,Parametros[Alto]),Bloques[[#This Row],[Grupo]])-1,0)","v":0},null,null,""]
["Pasivos","Otros Pasivos","Pasivo para ejecución de excedentes - Régimen Tributario Especial ",{"$f":"IF(Bloques[[#This Row],[Segmento]]=Parametros[Segmento],COUNTIFS(OFFSET(Ref_Segmento,Parametros[Fila]-1,0,Parametros[Alto]),Bloques[[#This Row],[Segmento]],OFFSET(Ref_Conteo,Parametros[Fila]-1,0,Parametros[Alto]),Bloques[[#This Row],[Bloque]],OFFSET(Ref_Conteo,Parametros[Fila]-1,-1,Parametros[Alto]),Bloques[[#This Row],[Grupo]])-1,0)","v":0},null,null,""]
["Pasivos","Otros Pasivos","Fondos sociales, mutuales y otros ",{"$f":"IF(Bloques[[#This Row],[Segmento]]=Parametros[Segmento],COUNTIFS(OFFSET(Ref_Segmento,Parametros[Fila]-1,0,Parametros[Alto]),Bloques[[#This Row],[Segmento]],OFFSET(Ref_Conteo,Parametros[Fila]-1,0,Parametros[Alto]),Bloques[[#This Row],[Bloque]],OFFSET(Ref_Conteo,Parametros[Fila]-1,-1,Parametros[Alto]),Bloques[[#This Row],[Grupo]])-1,0)","v":0},null,null,""]
["Pasivos","Otros Pasivos","Otros pasivos ",{"$f":"IF(Bloques[[#This Row],[Segmento]]=Parametros[Segmento],COUNTIFS(OFFSET(Ref_Segmento,Parametros[Fila]-1,0,Parametros[Alto]),Bloques[[#This Row],[Segmento]],OFFSET(Ref_Conteo,Parametros[Fila]-1,0,Parametros[Alto]),Bloques[[#This Row],[Bloque]],OFFSET(Ref_Conteo,Parametros[Fila]-1,-1,Parametros[Alto]),Bloques[[#This Row],[Grupo]])-1,0)","v":0},null,null,""]
["Pasivos","Otros Pasivos","Pasivos reconocidos solamente para fines fiscales ",{"$f":"IF(Bloques[[#This Row],[Segmento]]=Parametros[Segmento],COUNTIFS(OFFSET(Ref_Segmento,Parametros[Fila]-1,0,Parametros[Alto]),Bloques[[#This Row],[Segmento]],OFFSET(Ref_Conteo,Parametros[Fila]-1,0,Parametros[Alto]),Bloques[[#This Row],[Bloque]],OFFSET(Ref_Conteo,Parametros[Fila]-1,-1,Parametros[Alto]),Bloques[[#This Row],[Grupo]])-1,0)","v":0},null,null,""]
["Patrimonio","Capital social y reservas","Capital pagado ",{"$f":"IF(Bloques[[#This Row],[Segmento]]=Parametros[Segmento],COUNTIFS(OFFSET(Ref_Segmento,Parametros[Fila]-1,0,Parametros[Alto]),Bloques[[#This Row],[Segmento]],OFFSET(Ref_Conteo,Parametros[Fila]-1,0,Parametros[Alto]),Bloques[[#This Row],[Bloque]],OFFSET(Ref_Conteo,Parametros[Fila]-1,-1,Parametros[Alto]),Bloques[[#This Row],[Grupo]])-1,0)","v":0},null,null,""]
["Patrimonio","Capital social y reservas","Acciones, cuotas o partes de interés social propias en cartera",{"$f":"IF(Bloques[[#This Row],[Segmento]]=Parametros[Segmento],COUNTIFS(OFFSET(Ref_Segmento,Parametros[Fila]-1,0,Parametros[Alto]),Bloques[[#This Row],[Segmento]],OFFSET(Ref_Conteo,Parametros[Fila]-1,0,Parametros[Alto]),Bloques[[#This Row],[Bloque]],OFFSET(Ref_Conteo,Parametros[Fila]-1,-1,Parametros[Alto]),Bloques[[#This Row],[Grupo]])-1,0)","v":0},null,null,""]
["Patrimonio","Capital social y reservas","Aportes sociales",{"$f":"IF(Bloques[[#This Row],[Segmento]]=Parametros[Segmento],COUNTIFS(OFFSET(Ref_Segmento,Parametros[Fila]-1,0,Parametros[Alto]),Bloques[[#This Row],[Segmento]],OFFSET(Ref_Conteo,Parametros[Fila]-1,0,Parametros[Alto]),Bloques[[#This Row],[Bloque]],OFFSET(Ref_Conteo,Parametros[Fila]-1,-1,Parametros[Alto]),Bloques[[#This Row],[Grupo]])-1,0)","v":0},null,null,""]
["Patrimonio","Capital social y reservas","Capital asignado",{"$f":"IF(Bloques[[#This Row],[Segmento]]=Parametros[Segmento],COUNTIFS(OFFSET(Ref_Segmento,Parametros[Fila]-1,0,Parametros[Alto]),Bloques[[#This Row],[Segmento]],OFFSET(Ref_Conteo,Parametros[Fila]-1,0,Parametros[Alto]),Bloques[[#This Row],[Bloque]],OFFSET(Ref_Conteo,Parametros[Fila]-1,-1,Parametros[Alto]),Bloques[[#This Row],[Grupo]])-1,0)","v":0},null,null,""]
["Patrimonio","Capital social y reservas","Fondo social mutual",{"$f":"IF(Bloques[[#This Row],[Segmento]]=Parametros[Segmento],COUNTIFS(OFFSET(Ref_Segmento,Parametros[Fila]-1,0,Parametros[Alto]),Bloques[[#This Row],[Segmento]],OFFSET(Ref_Conteo,Parametros[Fila]-1,0,Parametros[Alto]),Bloques[[#This Row],[Bloque]],OFFSET(Ref_Conteo,Parametros[Fila]-1,-1,Parametros[Alto]),Bloques[[#This Row],[Grupo]])-1,0)","v":0},null,null,""]
["Patrimonio","Capital social y reservas","Superávit de capital ",{"$f":"IF(Bloques[[#This Row],[Segmento]]=Parametros[Segmento],COUNTIFS(OFFSET(Ref_Segmento,Parametros[Fila]-1,0,Parametros[Alto]),Bloques[[#This Row],[Segmento]],OFFSET(Ref_Conteo,Parametros[Fila]-1,0,Parametros[Alto]),Bloques[[#This Row],[Bloque]],OFFSET(Ref_Conteo,Parametros[Fila]-1,-1,Parametros[Alto]),Bloques[[#This Row],[Grupo]])-1,0)","v":0},null,null,""]
["Patrimonio","Capital social y reservas","Donaciones",{"$f":"IF(Bloques[[#This Row],[Segmento]]=Parametros[Segmento],COUNTIFS(OFFSET(Ref_Segmento,Parametros[Fila]-1,0,Parametros[Alto]),Bloques[[#This Row],[Segmento]],OFFSET(Ref_Conteo,Parametros[Fila]-1,0,Parametros[Alto]),Bloques[[#This Row],[Bloque]],OFFSET(Ref_Conteo,Parametros[Fila]-1,-1,Parametros[Alto]),Bloques[[#This Row],[Grupo]])-1,0)","v":0},null,null,""]
["Patrimonio","Capital social y reservas","Reservas legales o estatutarias",{"$f":"IF(Bloques[[#This Row],[Segmento]]=Parametros[Segmento],COUNTIFS(OFFSET(Ref_Segmento,Parametros[Fila]-1,0,Parametros[Alto]),Bloques[[#This Row],[Segmento]],OFFSET(Ref_Conteo,Parametros[Fila]-1,0,Parametros[Alto]),Bloques[[#This Row],[Bloque]],OFFSET(Ref_Conteo,Parametros[Fila]-1,-1,Parametros[Alto]),Bloques[[#This Row],[Grupo]])-1,0)","v":0},null,null,""]
["Patrimonio","Capital social y reservas","Reservas ocasionales",{"$f":"IF(Bloques[[#This Row],[Segmento]]=Parametros[Segmento],COUNTIFS(OFFSET(Ref_Segmento,Parametros[Fila]-1,0,Parametros[Alto]),Bloques[[#This Row],[Segmento]],OFFSET(Ref_Conteo,Parametros[Fila]-1,0,Parametros[Alto]),Bloques[[#This Row],[Bloque]],OFFSET(Ref_Conteo,Parametros[Fila]-1,-1,Parametros[Alto]),Bloques[[#This Row],[Grupo]])-1,0)","v":0},null,null,""]
["Patrimonio","Capital social y reservas","Reservas y fondos entidades solidarias",{"$f":"IF(Bloques[[#This Row],[Segmento]]=Parametros[Segmento],COUNTIFS(OFFSET(Ref_Segmento,Parametros[Fila]-1,0,Parametros[Alto]),Bloques[[#This Row],[Segmento]],OFFSET(Ref_Conteo,Parametros[Fila]-1,0,Parametros[Alto]),Bloques[[#This Row],[Bloque]],OFFSET(Ref_Conteo,Parametros[Fila]-1,-1,Parametros[Alto]),Bloques[[#This Row],[Grupo]])-1,0)","v":0},null,null,""]
["Patrimonio","Capital social y reservas","Asignaciones permanentes - Régimen Tributario Especial",{"$f":"IF(Bloques[[#This Row],[Segmento]]=Parametros[Segmento],COUNTIFS(OFFSET(Ref_Segmento,Parametros[Fila]-1,0,Parametros[Alto]),Bloques[[#This Row],[Segmento]],OFFSET(Ref_Conteo,Parametros[Fila]-1,0,Parametros[Alto]),Bloques[[#This Row],[Bloque]],OFFSET(Ref_Conteo,Parametros[Fila]-1,-1,Parametros[Alto]),Bloques[[#This Row],[Grupo]])-1,0)","v":0},null,null,""]
["Patrimonio","Capital social y reservas","Superávit por revaluaciones",{"$f":"IF(Bloques[[#This Row],[Segmento]]=Parametros[Segmento],COUNTIFS(OFFSET(Ref_Segmento,Parametros[Fila]-1,0,Parametros[Alto]),Bloques[[#This Row],[Segmento]],OFFSET(Ref_Conteo,Parametros[Fila]-1,0,Parametros[Alto]),Bloques[[#This Row],[Bloque]],OFFSET(Ref_Conteo,Parametros[Fila]-1,-1,Parametros[Alto]),Bloques[[#This Row],[Grupo]])-1,0)","v":0},null,null,""]
["Patrimonio","Capital social y reservas","Superávit método de participación",{"$f":"IF(Bloques[[#This Row],[Segmento]]=Parametros[Segmento],COUNTIFS(OFFSET(Ref_Segmento,Parametros[Fila]-1,0,Parametros[Alto]),Bloques[[#This Row],[Segmento]],OFFSET(Ref_Conteo,Parametros[Fila]-1,0,Parametros[Alto]),Bloques[[#This Row],[Bloque]],OFFSET(Ref_Conteo,Parametros[Fila]-1,-1,Parametros[Alto]),Bloques[[#This Row],[Grupo]])-1,0)","v":0},null,null,""]
["Patrimonio","Capital social y reservas","Dividendos o participaciones decretados en acciones, cuotas o partes de interés social",{"$f":"IF(Bloques[[#This Row],[Segmento]]=Parametros[Segmento],COUNTIFS(OFFSET(Ref_Segmento,Parametros[Fila]-1,0,Parametros[Alto]),Bloques[[#This Row],[Segmento]],OFFSET(Ref_Conteo,Parametros[Fila]-1,0,Parametros[Alto]),Bloques[[#This Row],[Bloque]],OFFSET(Ref_Conteo,Parametros[Fila]-1,-1,Parametros[Alto]),Bloques[[#This Row],[Grupo]])-1,0)","v":0},null,null,""]
["Patrimonio","Capital social y reservas","Saldo crédito inversión suplementaria",{"$f":"IF(Bloques[[#This Row],[Segmento]]=Parametros[Segmento],COUNTIFS(OFFSET(Ref_Segmento,Parametros[Fila]-1,0,Parametros[Alto]),Bloques[[#This Row],[Segmento]],OFFSET(Ref_Conteo,Parametros[Fila]-1,0,Parametros[Alto]),Bloques[[#This Row],[Bloque]],OFFSET(Ref_Conteo,Parametros[Fila]-1,-1,Parametros[Alto]),Bloques[[#This Row],[Grupo]])-1,0)","v":0},null,null,""]
["Patrimonio","Capital social y reservas","Saldo débito inversión suplementaria",{"$f":"IF(Bloques[[#This Row],[Segmento]]=Parametros[Segmento],COUNTIFS(OFFSET(Ref_Segmento,Parametros[Fila]-1,0,Parametros[Alto]),Bloques[[#This Row],[Segmento]],OFFSET(Ref_Conteo,Parametros[Fila]-1,0,Parametros[Alto]),Bloques[[#This Row],[Bloque]],OFFSET(Ref_Conteo,Parametros[Fila]-1,-1,Parametros[Alto]),Bloques[[#This Row],[Grupo]])-1,0)","v":0},null,null,""]
["Patrimonio","Resultados del ejercicio","Utilidad o excedente del ejercicio en operaciones continuadas",{"$f":"IF(Bloques[[#This Row],[Segmento]]=Parametros[Segmento],COUNTIFS(OFFSET(Ref_Segmento,Parametros[Fila]-1,0,Parametros[Alto]),Bloques[[#This Row],[Segmento]],OFFSET(Ref_Conteo,Parametros[Fila]-1,0,Parametros[Alto]),Bloques[[#This Row],[Bloque]],OFFSET(Ref_Conteo,Parametros[Fila]-1,-1,Parametros[Alto]),Bloques[[#This Row],[Grupo]])-1,0)","v":0},null,null,""]
["Patrimonio","Resultados del ejercicio","Utilidad o excedente del ejercicio en operaciones discontinuadas",{"$f":"IF(Bloques[[#This Row],[Segmento]]=Parametros[Segmento],COUNTIFS(OFFSET(Ref_Segmento,Parametros[Fila]-1,0,Parametros[Alto]),Bloques[[#This Row],[Segmento]],OFFSET(Ref_Conteo,Parametros[Fila]-1,0,Parametros[Alto]),Bloques[[#This Row],[Bloque]],OFFSET(Ref_Conteo,Parametros[Fila]-1,-1,Parametros[Alto]),Bloques[[#This Row],[Grupo]])-1,0)","v":0},null,null,""]
["Patrimonio","Resultados del ejercicio","Pérdida o déficit del ejercicio en operaciones continuadas",{"$f":"IF(Bloques[[#This Row],[Segmento]]=Parametros[Segmento],COUNTIFS(OFFSET(Ref_Segmento,Parametros[Fila]-1,0,Parametros[Alto]),Bloques[[#This Row],[Segmento]],OFFSET(Ref_Conteo,Parametros[Fila]-1,0,Parametros[Alto]),Bloques[[#This Row],[Bloque]],OFFSET(Ref_Conteo,Parametros[Fila]-1,-1,Parametros[Alto]),Bloques[[#This Row],[Grupo]])-1,0)","v":0},null,null,""]
["Patrimonio","Resultados del ejercicio","Pérdida o déficit del ejercicio en operaciones discontinuadas",{"$f":"IF(Bloques[[#This Row],[Segmento]]=Parametros[Segmento],COUNTIFS(OFFSET(Ref_Segmento,Parametros[Fila]-1,0,Parametros[Alto]),Bloques[[#This Row],[Segmento]],OFFSET(Ref_Conteo,Parametros[Fila]-1,0,Parametros[Alto]),Bloques[[#This Row],[Bloque]],OFFSET(Ref_Conteo,Parametros[Fila]-1,-1,Parametros[Alto]),Bloques[[#This Row],[Grupo]])-1,0)","v":0},null,null,""]
["Patrimonio","Resultados acumulados","Utilidades o excedentes acumulados susceptibles de distribución a titulo de no constitutivo de renta ni ganancia ocasional",{"$f":"IF(Bloques[[#This Row],[Segmento]]=Parametros[Segmento],COUNTIFS(OFFSET(Ref_Segmento,Parametros[Fila]-1,0,Parametros[Alto]),Bloques[[#This Row],[Segmento]],OFFSET(Ref_Conteo,Parametros[Fila]-1,0,Parametros[Alto]),Bloques[[#This Row],[Bloque]],OFFSET(Ref_Conteo,Parametros[Fila]-1,-1,Parametros[Alto]),Bloques[[#This Row],[Grupo]])-1,0)","v":0},null,null,""]
["Patrimonio","Resultados acumulados","Utilidades o excedentes acumulados susceptibles de distribución en calidad de gravados",{"$f":"IF(Bloques[[#This Row],[Segmento]]=Parametros[Segmento],COUNTIFS(OFFSET(Ref_Segmento,Parametros[Fila]-1,0,Parametros[Alto]),Bloques[[#This Row],[Segmento]],OFFSET(Ref_Conteo,Parametros[Fila]-1,0,Parametros[Alto]),Bloques[[#This Row],[Bloque]],OFFSET(Ref_Conteo,Parametros[Fila]-1,-1,Parametros[Alto]),Bloques[[#This Row],[Grupo]])-1,0)","v":0},null,null,""]
["Patrimonio","Resultados acumulados","Utilidades acumuladas por ajustes por corrección de errores",{"$f":"IF(Bloques[[#This Row],[Segmento]]=Parametros[Segmento],COUNTIFS(OFFSET(Ref_Segmento,Parametros[Fila]-1,0,Parametros[Alto]),Bloques[[#This Row],[Segmento]],OFFSET(Ref_Conteo,Parametros[Fila]-1,0,Parametros[Alto]),Bloques[[#This Row],[Bloque]],OFFSET(Ref_Conteo,Parametros[Fila]-1,-1,Parametros[Alto]),Bloques[[#This Row],[Grupo]])-1,0)","v":0},null,null,""]
["Patrimonio","Resultados acumulados","Utilidades por ajustes por cambios en políticas contables",{"$f":"IF(Bloques[[#This Row],[Segmento]]=Parametros[Segmento],COUNTIFS(OFFSET(Ref_Segmento,Parametros[Fila]-1,0,Parametros[Alto]),Bloques[[#This Row],[Segmento]],OFFSET(Ref_Conteo,Parametros[Fila]-1,0,Parametros[Alto]),Bloques[[#This Row],[Bloque]],OFFSET(Ref_Conteo,Parametros[Fila]-1,-1,Parametros[Alto]),Bloques[[#This Row],[Grupo]])-1,0)","v":0},null,null,""]
["Patrimonio","Resultados acumulados","Pérdidas o déficit acumulados",{"$f":"IF(Bloques[[#This Row],[Segmento]]=Parametros[Segmento],COUNTIFS(OFFSET(Ref_Segmento,Parametros[Fila]-1,0,Parametros[Alto]),Bloques[[#This Row],[Segmento]],OFFSET(Ref_Conteo,Parametros[Fila]-1,0,Parametros[Alto]),Bloques[[#This Row],[Bloque]],OFFSET(Ref_Conteo,Parametros[Fila]-1,-1,Parametros[Alto]),Bloques[[#This Row],[Grupo]])-1,0)","v":0},null,null,""]
["Patrimonio","Resultados acumulados","Pérdidas acumuladas por ajustes por correcciones de errores",{"$f":"IF(Bloques[[#This Row],[Segmento]]=Parametros[Segmento],COUNTIFS(OFFSET(Ref_Segmento,Parametros[Fila]-1,0,Parametros[Alto]),Bloques[[#This Row],[Segmento]],OFFSET(Ref_Conteo,Parametros[Fila]-1,0,Parametros[Alto]),Bloques[[#This Row],[Bloque]],OFFSET(Ref_Conteo,Parametros[Fila]-1,-1,Parametros[Alto]),Bloques[[#This Row],[Grupo]])-1,0)","v":0},null,null,""]
["Patrimonio","Resultados acumulados","Pérdidas  por ajustes por cambios en políticas contables ",{"$f":"IF(Bloques[[#This Row],[Segmento]]=Parametros[Segmento],COUNTIFS(OFFSET(Ref_Segmento,Parametros[Fila]-1,0,Parametros[Alto]),Bloques[[#This Row],[Segmento]],OFFSET(Ref_Conteo,Parametros[Fila]-1,0,Parametros[Alto]),Bloques[[#This Row],[Bloque]],OFFSET(Ref_Conteo,Parametros[Fila]-1,-1,Parametros[Alto]),Bloques[[#This Row],[Grupo]])-1,0)","v":0},null,null,""]
["Patrimonio","Ganancias (pérdidas) acumuladas o retenidas por la adopción por primera vez","Ganancias acumuladas netas en la adopción por primera vez",{"$f":"IF(Bloques[[#This Row],[Segmento]]=Parametros[Segmento],COUNTIFS(OFFSET(Ref_Segmento,Parametros[Fila]-1,0,Parametros[Alto]),Bloques[[#This Row],[Segmento]],OFFSET(Ref_Conteo,Parametros[Fila]-1,0,Parametros[Alto]),Bloques[[#This Row],[Bloque]],OFFSET(Ref_Conteo,Parametros[Fila]-1,-1,Parametros[Alto]),Bloques[[#This Row],[Grupo]])-1,0)","v":0},null,null,""]
["Patrimonio","Ganancias (pérdidas) acumuladas o retenidas por la adopción por primera vez","Pérdidas acumuladas netas - adopción por primera vez",{"$f":"IF(Bloques[[#This Row],[Segmento]]=Parametros[Segmento],COUNTIFS(OFFSET(Ref_Segmento,Parametros[Fila]-1,0,Parametros[Alto]),Bloques[[#This Row],[Segmento]],OFFSET(Ref_Conteo,Parametros[Fila]-1,0,Parametros[Alto]),Bloques[[#This Row],[Bloque]],OFFSET(Ref_Conteo,Parametros[Fila]-1,-1,Parametros[Alto]),Bloques[[#This Row],[Grupo]])-1,0)","v":0},null,null,""]
["Patrimonio","Otro resultado integral acumulado","Ajuste positivo por efecto de conversión",{"$f":"IF(Bloques[[#This Row],[Segmento]]=Parametros[Segmento],COUNTIFS(OFFSET(Ref_Segmento,Parametros[Fila]-1,0,Parametros[Alto]),Bloques[[#This Row],[Segmento]],OFFSET(Ref_Conteo,Parametros[Fila]-1,0,Parametros[Alto]),Bloques[[#This Row],[Bloque]],OFFSET(Ref_Conteo,Parametros[Fila]-1,-1,Parametros[Alto]),Bloques[[#This Row],[Grupo]])-1,0)","v":0},null,null,""]
["Patrimonio","Otro resultado integral acumulado","Ajuste negativo por efecto de conversión",{"$f":"IF(Bloques[[#This Row],[Segmento]]=Parametros[Segmento],COUNTIFS(OFFSET(Ref_Segmento,Parametros[Fila]-1,0,Parametros[Alto]),Bloques[[#This Row],[Segmento]],OFFSET(Ref_Conteo,Parametros[Fila]-1,0,Parametros[Alto]),Bloques[[#This Row],[Bloque]],OFFSET(Ref_Conteo,Parametros[Fila]-1,-1,Parametros[Alto]),Bloques[[#This Row],[Grupo]])-1,0)","v":0},null,null,""]
["Patrimonio","Otro resultado integral acumulado","Ganancias acumuladas - ORI",{"$f":"IF(Bloques[[#This Row],[Segmento]]=Parametros[Segmento],COUNTIFS(OFFSET(Ref_Segmento,Parametros[Fila]-1,0,Parametros[Alto]),Bloques[[#This Row],[Segmento]],OFFSET(Ref_Conteo,Parametros[Fila]-1,0,Parametros[Alto]),Bloques[[#This Row],[Bloque]],OFFSET(Ref_Conteo,Parametros[Fila]-1,-1,Parametros[Alto]),Bloques[[#This Row],[Grupo]])-1,0)","v":0},null,null,""]
["Patrimonio","Otro resultado integral acumulado","Pérdidas acumuladas - ORI",{"$f":"IF(Bloques[[#This Row],[Segmento]]=Parametros[Segmento],COUNTIFS(OFFSET(Ref_Segmento,Parametros[Fila]-1,0,Parametros[Alto]),Bloques[[#This Row],[Segmento]],OFFSET(Ref_Conteo,Parametros[Fila]-1,0,Parametros[Alto]),Bloques[[#This Row],[Bloque]],OFFSET(Ref_Conteo,Parametros[Fila]-1,-1,Parametros[Alto]),Bloques[[#This Row],[Grupo]])-1,0)","v":0},null,null,""]
["Ing. Ordinarios","Ingresos brutos Actividad Industrial, Comercial y Servicios - Venta de bienes","Venta de bienes - Al territorio nacional",{"$f":"IF(Bloques[[#This Row],[Segmento]]=Parametros[Segmento],COUNTIFS(OFFSET(Ref_Segmento,Parametros[Fila]-1,0,Parametros[Alto]),Bloques[[#This Row],[Segmento]],OFFSET(Ref_Conteo,Parametros[Fila]-1,0,Parametros[Alto]),Bloques[[#This Row],[Bloque]],OFFSET(Ref_Conteo,Parametros[Fila]-1,-1,Parametros[Alto]),Bloques[[#This Row],[Grupo]])-1,0)","v":0},null,null,""]
["Ing. Ordinarios","Ingresos brutos Actividad Industrial, Comercial y Servicios - Venta de bienes","Venta de bienes - Exportación a otros países ",{"$f":"IF(Bloques[[#This Row],[Segmento]]=Parametros[Segmento],COUNTIFS(OFFSET(Ref_Segmento,Parametros[Fila]-1,0,Parametros[Alto]),Bloques[[#This Row],[Segmento]],OFFSET(Ref_Conteo,Parametros[Fila]-1,0,Parametros[Alto]),Bloques[[#This Row],[Bloque]],OFFSET(Ref_Conteo,Parametros[Fila]-1,-1,Parametros[Alto]),Bloques[[#This Row],[Grupo]])-1,0)","v":0},null,null,""]
["Ing. Ordinarios","Ingresos brutos Actividad Industrial, Comercial y Servicios - Venta de bienes","Venta de bienes - Zona franca ",{"$f":"IF(Bloques[[#This Row],[Segmento]]=Parametros[Segmento],COUNTIFS(OFFSET(Ref_Segmento,Parametros[Fila]-1,0,Parametros[Alto]),Bloques[[#This Row],[Segmento]],OFFSET(Ref_Conteo,Parametros[Fila]-1,0,Parametros[Alto]),Bloques[[#This Row],[Bloque]],OFFSET(Ref_Conteo,Parametros[Fila]-1,-1,Parametros[Alto]),Bloques[[#This Row],[Grupo]])-1,0)","v":0},null,null,""]
["Ing. Ordinarios","Ingresos brutos Actividad Industrial, Comercial y Servicios - Venta de bienes","Venta de bienes - Comercializadoras Internacionales ",{"$f":"IF(Bloques[[#This Row],[Segmento]]=Parametros[Segmento],COUNTIFS(OFFSET(Ref_Segmento,Parametros[Fila]-1,0,Parametros[Alto]),Bloques[[#This Row],[Segmento]],OFFSET(Ref_Conteo,Parametros[Fila]-1,0,Parametros[Alto]),Bloques[[#This Row],[Bloque]],OFFSET(Ref_Conteo,Parametros[Fila]-1,-1,Parametros[Alto]),Bloques[[#This Row],[Grupo]])-1,0)","v":0},null,null,""]
["Ing. Ordinarios","Ingresos brutos Actividad Industrial, Comercial y Servicios - Venta de bienes","Venta de bienes - Jurisdicciones no cooperantes, de baja o nula imposición y regímenes tributarios preferenciales",{"$f":"IF(Bloques[[#This Row],[Segmento]]=Parametros[Segmento],COUNTIFS(OFFSET(Ref_Segmento,Parametros[Fila]-1,0,Parametros[Alto]),Bloques[[#This Row],[Segmento]],OFFSET(Ref_Conteo,Parametros[Fila]-1,0,Parametros[Alto]),Bloques[[#This Row],[Bloque]],OFFSET(Ref_Conteo,Parametros[Fila]-1,-1,Parametros[Alto]),Bloques[[#This Row],[Grupo]])-1,0)","v":0},null,null,""]
["Ing. Ordinarios","Ingresos brutos Actividad Industrial, Comercial y Servicios - Venta de bienes","Venta de bienes - Vinculados Económicos Zona Franca y Exterior ",{"$f":"IF(Bloques[[#This Row],[Segmento]]=Parametros[Segmento],COUNTIFS(OFFSET(Ref_Segmento,Parametros[Fila]-1,0,Parametros[Alto]),Bloques[[#This Row],[Segmento]],OFFSET(Ref_Conteo,Parametros[Fila]-1,0,Parametros[Alto]),Bloques[[#This Row],[Bloque]],OFFSET(Ref_Conteo,Parametros[Fila]-1,-1,Parametros[Alto]),Bloques[[#This Row],[Grupo]])-1,0)","v":0},null,null,""]
["Ing. Ordinarios","Ingresos brutos Actividad Industrial, Comercial y Servicios - Prestación de servicios (diferentes a honorarios profesionales)","Prestación de servicios - Al territorio Nacional ",{"$f":"IF(Bloques[[#This Row],[Segmento]]=Parametros[Segmento],COUNTIFS(OFFSET(Ref_Segmento,Parametros[Fila]-1,0,Parametros[Alto]),Bloques[[#This Row],[Segmento]],OFFSET(Ref_Conteo,Parametros[Fila]-1,0,Parametros[Alto]),Bloques[[#This Row],[Bloque]],OFFSET(Ref_Conteo,Parametros[Fila]-1,-1,Parametros[Alto]),Bloques[[#This Row],[Grupo]])-1,0)","v":0},null,null,""]
["Ing. Ordinarios","Ingresos brutos Actividad Industrial, Comercial y Servicios - Prestación de servicios (diferentes a honorarios profesionales)","Prestación de servicios - Exportación a otros países ",{"$f":"IF(Bloques[[#This Row],[Segmento]]=Parametros[Segmento],COUNTIFS(OFFSET(Ref_Segmento,Parametros[Fila]-1,0,Parametros[Alto]),Bloques[[#This Row],[Segmento]],OFFSET(Ref_Conteo,Parametros[Fila]-1,0,Parametros[Alto]),Bloques[[#This Row],[Bloque]],OFFSET(Ref_Conteo,Parametros[Fila]-1,-1,Parametros[Alto]),Bloques[[#This Row],[Grupo]])-1,0)","v":0},null,null,""]
["Ing. Ordinarios","Ingresos brutos Actividad Industrial, Comercial y Servicios - Prestación de servicios (diferentes a honorarios profesionales)","Prestación de servicios - Zona franca ",{"$f":"IF(Bloques[[#This Row],[Segmento]]=Parametros[Segmento],COUNTIFS(OFFSET(Ref_Segmento,Parametros[Fila]-1,0,Parametros[Alto]),Bloques[[#This Row],[Segmento]],OFFSET(Ref_Conteo,Parametros[Fila]-1,0,Parametros[Alto]),Bloques[[#This Row],[Bloque]],OFFSET(Ref_Conteo,Parametros[Fila]-1,-1,Parametros[Alto]),Bloques[[#This Row],[Grupo]])-1,0)","v":0},null,null,""]
["Ing. Ordinarios","Ingresos brutos Actividad Industrial, Comercial y Servicios - Prestación de servicios (diferentes a honorarios profesionales)","Prestación de servicios - Comercializadoras Internacionales",{"$f":"IF(Bloques[[#This Row],[Segmento]]=Parametros[Segmento],COUNTIFS(OFFSET(Ref_Segmento,Parametros[Fila]-1,0,Parametros[Alto]),Bloques[[#This Row],[Segmento]],OFFSET(Ref_Conteo,Parametros[Fila]-1,0,Parametros[Alto]),Bloques[[#This Row],[Bloque]],OFFSET(Ref_Conteo,Parametros[Fila]-1,-1,Parametros[Alto]),Bloques[[#This Row],[Grupo]])-1,0)","v":0},null,null,""]
["Ing. Ordinarios","Ingresos brutos Actividad Industrial, Comercial y Servicios - Prestación de servicios (diferentes a honorarios profesionales)","Prestación de servicios - Jurisdicciones no cooperantes, de baja o nula imposición y regímenes preferenciales",{"$f":"IF(Bloques[[#This Row],[Segmento]]=Parametros[Segmento],COUNTIFS(OFFSET(Ref_Segmento,Parametros[Fila]-1,0,Parametros[Alto]),Bloques[[#This Row],[Segmento]],OFFSET(Ref_Conteo,Parametros[Fila]-1,0,Parametros[Alto]),Bloques[[#This Row],[Bloque]],OFFSET(Ref_Conteo,Parametros[Fila]-1,-1,Parametros[Alto]),Bloques[[#This Row],[Grupo]])-1,0)","v":0},null,null,""]
["Ing. Ordinarios","Ingresos brutos Actividad Industrial, Comercial y Servicios - Prestación de servicios (diferentes a honorarios profesionales)","Prestación de servicios - Vinculados Económicos Zona Franca y Exterior ",{"$f":"IF(Bloques[[#This Row],[Segmento]]=Parametros[Segmento],COUNTIFS(OFFSET(Ref_Segmento,Parametros[Fila]-1,0,Parametros[Alto]),Bloques[[#This Row],[Segmento]],OFFSET(Ref_Conteo,Parametros[Fila]-1,0,Parametros[Alto]),Bloques[[#This Row],[Bloque]],OFFSET(Ref_Conteo,Parametros[Fila]-1,-1,Parametros[Alto]),Bloques[[#This Row],[Grupo]])-1,0)","v":0},null,null,""]
["Ing. Ordinarios","Ingresos Brutos Actividad Industrial, Comercial y Servicios - Otros ingresos ","Servicios de construcción ",{"$f":"IF(Bloques[[#This Row],[Segmento]]=Parametros[Segmento],COUNTIFS(OFFSET(Ref_Segmento,Parametros[Fila]-1,0,Parametros[Alto]),Bloques[[#This Row],[Segmento]],OFFSET(Ref_Conteo,Parametros[Fila]-1,0,Parametros[Alto]),Bloques[[#This Row],[Bloque]],OFFSET(Ref_Conteo,Parametros[Fila]-1,-1,Parametros[Alto]),Bloques[[#This Row],[Grupo]])-1,0)","v":0},null,null,""]
["Ing. Ordinarios","Ingresos Brutos Actividad Industrial, Comercial y Servicios - Otros ingresos ","Acuerdos de concesión de servicios ",{"$f":"IF(Bloques[[#This Row],[Segmento]]=Parametros[Segmento],COUNTIFS(OFFSET(Ref_Segmento,Parametros[Fila]-1,0,Parametros[Alto]),Bloques[[#This Row],[Segmento]],OFFSET(Ref_Conteo,Parametros[Fila]-1,0,Parametros[Alto]),Bloques[[#This Row],[Bloque]],OFFSET(Ref_Conteo,Parametros[Fila]-1,-1,Parametros[Alto]),Bloques[[#This Row],[Grupo]])-1,0)","v":0},null,null,""]
["Ing. Ordinarios","Ingresos Brutos Actividad Industrial, Comercial y Servicios - Otros ingresos ","Arrendamientos operativos ",{"$f":"IF(Bloques[[#This Row],[Segmento]]=Parametros[Segmento],COUNTIFS(OFFSET(Ref_Segmento,Parametros[Fila]-1,0,Parametros[Alto]),Bloques[[#This Row],[Segmento]],OFFSET(Ref_Conteo,Parametros[Fila]-1,0,Parametros[Alto]),Bloques[[#This Row],[Bloque]],OFFSET(Ref_Conteo,Parametros[Fila]-1,-1,Parametros[Alto]),Bloques[[#This Row],[Grupo]])-1,0)","v":0},null,null,""]
["Ing. Ordinarios","Ingresos Brutos Actividad Industrial, Comercial y Servicios - Otros ingresos ","Regalías ",{"$f":"IF(Bloques[[#This Row],[Segmento]]=Parametros[Segmento],COUNTIFS(OFFSET(Ref_Segmento,Parametros[Fila]-1,0,Parametros[Alto]),Bloques[[#This Row],[Segmento]],OFFSET(Ref_Conteo,Parametros[Fila]-1,0,Parametros[Alto]),Bloques[[#This Row],[Bloque]],OFFSET(Ref_Conteo,Parametros[Fila]-1,-1,Parametros[Alto]),Bloques[[#This Row],[Grupo]])-1,0)","v":0},null,null,""]
["Ing. Ordinarios","Ingresos Brutos Actividad Industrial, Comercial y Servicios - Otros ingresos ","Comisiones (relaciones de agencia)",{"$f":"IF(Bloques[[#This Row],[Segmento]]=Parametros[Segmento],COUNTIFS(OFFSET(Ref_Segmento,Parametros[Fila]-1,0,Parametros[Alto]),Bloques[[#This Row],[Segmento]],OFFSET(Ref_Conteo,Parametros[Fila]-1,0,Parametros[Alto]),Bloques[[#This Row],[Bloque]],OFFSET(Ref_Conteo,Parametros[Fila]-1,-1,Parametros[Alto]),Bloques[[#This Row],[Grupo]])-1,0)","v":0},null,null,""]
["Ing. Ordinarios","Ingresos Brutos Actividad Industrial, Comercial y Servicios - Otros ingresos ","Honorarios Profesionales ",{"$f":"IF(Bloques[[#This Row],[Segmento]]=Parametros[Segmento],COUNTIFS(OFFSET(Ref_Segmento,Parametros[Fila]-1,0,Parametros[Alto]),Bloques[[#This Row],[Segmento]],OFFSET(Ref_Conteo,Parametros[Fila]-1,0,Parametros[Alto]),Bloques[[#This Row],[Bloque]],OFFSET(Ref_Conteo,Parametros[Fila]-1,-1,Parametros[Alto]),Bloques[[#This Row],[Grupo]])-1,0)","v":0},null,null,""]
["Ing. Ordinarios","Ingresos Brutos Actividad Industrial, Comercial y Servicios - Otros ingresos ","Actividades de seguros y de capitalización ",{"$f":"IF(Bloques[[#This Row],[Segmento]]=Parametros[Segmento],COUNTIFS(OFFSET(Ref_Segmento,Parametros[Fila]-1,0,Parametros[Alto]),Bloques[[#This Row],[Segmento]],OFFSET(Ref_Conteo,Parametros[Fila]-1,0,Parametros[Alto]),Bloques[[#This Row],[Bloque]],OFFSET(Ref_Conteo,Parametros[Fila]-1,-1,Parametros[Alto]),Bloques[[#This Row],[Grupo]])-1,0)","v":0},null,null,""]
["Ing. Ordinarios","Ingresos Brutos Actividad Industrial, Comercial y Servicios - Otros ingresos ","Liberación de reservas en contratos de seguros ",{"$f":"IF(Bloques[[#This Row],[Segmento]]=Parametros[Segmento],COUNTIFS(OFFSET(Ref_Segmento,Parametros[Fila]-1,0,Parametros[Alto]),Bloques[[#This Row],[Segmento]],OFFSET(Ref_Conteo,Parametros[Fila]-1,0,Parametros[Alto]),Bloques[[#This Row],[Bloque]],OFFSET(Ref_Conteo,Parametros[Fila]-1,-1,Parametros[Alto]),Bloques[[#This Row],[Grupo]])-1,0)","v":0},null,null,""]
["Ing. Ordinarios","Ingresos Brutos Actividad Industrial, Comercial y Servicios - Otros ingresos ","Comisiones bancarias, costos de transacción, entre otros ",{"$f":"IF(Bloques[[#This Row],[Segmento]]=Parametros[Segmento],COUNTIFS(OFFSET(Ref_Segmento,Parametros[Fila]-1,0,Parametros[Alto]),Bloques[[#This Row],[Segmento]],OFFSET(Ref_Conteo,Parametros[Fila]-1,0,Parametros[Alto]),Bloques[[#This Row],[Bloque]],OFFSET(Ref_Conteo,Parametros[Fila]-1,-1,Parametros[Alto]),Bloques[[#This Row],[Grupo]])-1,0)","v":0},null,null,""]
["Ing. Ordinarios","Ingresos Brutos Actividad Industrial, Comercial y Servicios - Otros ingresos ","Otros ingresos ",{"$f":"IF(Bloques[[#This Row],[Segmento]]=Parametros[Segmento],COUNTIFS(OFFSET(Ref_Segmento,Parametros[Fila]-1,0,Parametros[Alto]),Bloques[[#This Row],[Segmento]],OFFSET(Ref_Conteo,Parametros[Fila]-1,0,Parametros[Alto]),Bloques[[#This Row],[Bloque]],OFFSET(Ref_Conteo,Parametros[Fila]-1,-1,Parametros[Alto]),Bloques[[#This Row],[Grupo]])-1,0)","v":0},null,null,""]
["Ing. Ordinarios","Devoluciones, Rebajas y Descuentos","En venta de bienes",{"$f":"IF(Bloques[[#This Row],[Segmento]]=Parametros[Segmento],COUNTIFS(OFFSET(Ref_Segmento,Parametros[Fila]-1,0,Parametros[Alto]),Bloques[[#This Row],[Segmento]],OFFSET(Ref_Conteo,Parametros[Fila]-1,0,Parametros[Alto]),Bloques[[#This Row],[Bloque]],OFFSET(Ref_Conteo,Parametros[Fila]-1,-1,Parametros[Alto]),Bloques[[#This Row],[Grupo]])-1,0)","v":0},null,null,""]
["Ing. Ordinarios","Devoluciones, Rebajas y Descuentos","En prestación de servicios ",{"$f":"IF(Bloques[[#This Row],[Segmento]]=Parametros[Segmento],COUNTIFS(OFFSET(Ref_Segmento,Parametros[Fila]-1,0,Parametros[Alto]),Bloques[[#This Row],[Segmento]],OFFSET(Ref_Conteo,Parametros[Fila]-1,0,Parametros[Alto]),Bloques[[#This Row],[Bloque]],OFFSET(Ref_Conteo,Parametros[Fila]-1,-1,Parametros[Alto]),Bloques[[#This Row],[Grupo]])-1,0)","v":0},null,null,""]
["Ing. Ordinarios","Devoluciones, Rebajas y Descuentos","Otras devoluciones, rebajas y descuentos ",{"$f":"IF(Bloques[[#This Row],[Segmento]]=Parametros[Segmento],COUNTIFS(OFFSET(Ref_Segmento,Parametros[Fila]-1,0,Parametros[Alto]),Bloques[[#This Row],[Segmento]],OFFSET(Ref_Conteo,Parametros[Fila]-1,0,Parametros[Alto]),Bloques[[#This Row],[Bloque]],OFFSET(Ref_Conteo,Parametros[Fila]-1,-1,Parametros[Alto]),Bloques[[#This Row],[Grupo]])-1,0)","v":0},null,null,""]
["Ing. Ordinarios","Ingresos no constitutivos de renta ni ganancia ocasional ","Ingresos no constitutivos de renta ",{"$f":"IF(Bloques[[#This Row],[Segmento]]=Parametros[Segmento],COUNTIFS(OFFSET(Ref_Segmento,Parametros[Fila]-1,0,Parametros[Alto]),Bloques[[#This Row],[Segmento]],OFFSET(Ref_Conteo,Parametros[Fila]-1,0,Parametros[Alto]),Bloques[[#This Row],[Bloque]],OFFSET(Ref_Conteo,Parametros[Fila]-1,-1,Parametros[Alto]),Bloques[[#This Row],[Grupo]])-1,0)","v":0},null,null,""]
["Ing. Financieros","Ingresos financieros","Arrendamiento financiero o mercantil (leasing)",{"$f":"IF(Bloques[[#This Row],[Segmento]]=Parametros[Segmento],COUNTIFS(OFFSET(Ref_Segmento,Parametros[Fila]-1,0,Parametros[Alto]),Bloques[[#This Row],[Segmento]],OFFSET(Ref_Conteo,Parametros[Fila]-1,0,Parametros[Alto]),Bloques[[#This Row],[Bloque]],OFFSET(Ref_Conteo,Parametros[Fila]-1,-1,Parametros[Alto]),Bloques[[#This Row],[Grupo]])-1,0)","v":0},null,null,""]
["Ing. Financieros","Ingresos financieros","Intereses - Sector financiero",{"$f":"IF(Bloques[[#This Row],[Segmento]]=Parametros[Segmento],COUNTIFS(OFFSET(Ref_Segmento,Parametros[Fila]-1,0,Parametros[Alto]),Bloques[[#This Row],[Segmento]],OFFSET(Ref_Conteo,Parametros[Fila]-1,0,Parametros[Alto]),Bloques[[#This Row],[Bloque]],OFFSET(Ref_Conteo,Parametros[Fila]-1,-1,Parametros[Alto]),Bloques[[#This Row],[Grupo]])-1,0)","v":0},null,null,""]
["Ing. Financieros","Ingresos financieros","Intereses por préstamos a terceros (diferentes al sector financiero)",{"$f":"IF(Bloques[[#This Row],[Segmento]]=Parametros[Segmento],COUNTIFS(OFFSET(Ref_Segmento,Parametros[Fila]-1,0,Parametros[Alto]),Bloques[[#This Row],[Segmento]],OFFSET(Ref_Conteo,Parametros[Fila]-1,0,Parametros[Alto]),Bloques[[#This Row],[Bloque]],OFFSET(Ref_Conteo,Parametros[Fila]-1,-1,Parametros[Alto]),Bloques[[#This Row],[Grupo]])-1,0)","v":0},null,null,""]
["Ing. Financieros","Ingresos financieros","Por instrumentos financieros medidos a costo amortizado distinto a préstamos ",{"$f":"IF(Bloques[[#This Row],[Segmento]]=Parametros[Segmento],COUNTIFS(OFFSET(Ref_Segmento,Parametros[Fila]-1,0,Parametros[Alto]),Bloques[[#This Row],[Segmento]],OFFSET(Ref_Conteo,Parametros[Fila]-1,0,Parametros[Alto]),Bloques[[#This Row],[Bloque]],OFFSET(Ref_Conteo,Parametros[Fila]-1,-1,Parametros[Alto]),Bloques[[#This Row],[Grupo]])-1,0)","v":0},null,null,""]
["Ing. Financieros","Ingresos financieros","Intereses implícitos (transacciones de financiación)",{"$f":"IF(Bloques[[#This Row],[Segmento]]=Parametros[Segmento],COUNTIFS(OFFSET(Ref_Segmento,Parametros[Fila]-1,0,Parametros[Alto]),Bloques[[#This Row],[Segmento]],OFFSET(Ref_Conteo,Parametros[Fila]-1,0,Parametros[Alto]),Bloques[[#This Row],[Bloque]],OFFSET(Ref_Conteo,Parametros[Fila]-1,-1,Parametros[Alto]),Bloques[[#This Row],[Grupo]])-1,0)","v":0},null,null,""]
["Ing. Financieros","Ingresos financieros","Diferencia en cambio",{"$f":"IF(Bloques[[#This Row],[Segmento]]=Parametros[Segmento],COUNTIFS(OFFSET(Ref_Segmento,Parametros[Fila]-1,0,Parametros[Alto]),Bloques[[#This Row],[Segmento]],OFFSET(Ref_Conteo,Parametros[Fila]-1,0,Parametros[Alto]),Bloques[[#This Row],[Bloque]],OFFSET(Ref_Conteo,Parametros[Fila]-1,-1,Parametros[Alto]),Bloques[[#This Row],[Grupo]])-1,0)","v":0},null,null,""]
["Ing. Financieros","Ingresos financieros","Otros ingresos financieros ",{"$f":"IF(Bloques[[#This Row],[Segmento]]=Parametros[Segmento],COUNTIFS(OFFSET(Ref_Segmento,Parametros[Fila]-1,0,Parametros[Alto]),Bloques[[#This Row],[Segmento]],OFFSET(Ref_Conteo,Parametros[Fila]-1,0,Parametros[Alto]),Bloques[[#This Row],[Bloque]],OFFSET(Ref_Conteo,Parametros[Fila]-1,-1,Parametros[Alto]),Bloques[[#This Row],[Grupo]])-1,0)","v":0},null,null,""]
["Ing. Financieros","Ingresos no constitutivos de renta ni ganancia ocasional ","Ingresos no constitutivos de renta ",{"$f":"IF(Bloques[[#This Row],[Segmento]]=Parametros[Segmento],COUNTIFS(OFFSET(Ref_Segmento,Parametros[Fila]-1,0,Parametros[Alto]),Bloques[[#This Row],[Segmento]],OFFSET(Ref_Conteo,Parametros[Fila]-1,0,Parametros[Alto]),Bloques[[#This Row],[Bloque]],OFFSET(Ref_Conteo,Parametros[Fila]-1,-1,Parametros[Alto]),Bloques[[#This Row],[Grupo]])-1,0)","v":0},null,null,""]
["Dividendos","Dividendos","Dividendos y/o participaciones no constitutivos de renta ni ganancia ocasional (incluye capitalizaciones no gravadas)",{"$f":"IF(Bloques[[#This Row],[Segmento]]=Parametros[Segmento],COUNTIFS(OFFSET(Ref_Segmento,Parametros[Fila]-1,0,Parametros[Alto]),Bloques[[#This Row],[Segmento]],OFFSET(Ref_Conteo,Parametros[Fila]-1,0,Parametros[Alto]),Bloques[[#This Row],[Bloque]],OFFSET(Ref_Conteo,Parametros[Fila]-1,-1,Parametros[Alto]),Bloques[[#This Row],[Grupo]])-1,0)","v":0},null,null,""]
["Dividendos","Dividendos","Dividendos o participaciones distribuidos por entidades no residentes en Colombia a una CHC y prima en colocación de acciones ",{"$f":"IF(Bloques[[#This Row],[Segmento]]=Parametros[Segmento],COUNTIFS(OFFSET(Ref_Segmento,Parametros[Fila]-1,0,Parametros[Alto]),Bloques[[#This Row],[Segmento]],OFFSET(Ref_Conteo,Parametros[Fila]-1,0,Parametros[Alto]),Bloques[[#This Row],[Bloque]],OFFSET(Ref_Conteo,Parametros[Fila]-1,-1,Parametros[Alto]),Bloques[[#This Row],[Grupo]])-1,0)","v":0},null,null,""]
["Dividendos","Dividendos","Dividendos y/o participaciones gravadas a la tarifa general provenientes de sociedades y entidades extranjeras o de sociedades nacionales ",{"$f":"IF(Bloques[[#This Row],[Segmento]]=Parametros[Segmento],COUNTIFS(OFFSET(Ref_Segmento,Parametros[Fila]-1,0,Parametros[Alto]),Bloques[[#This Row],[Segmento]],OFFSET(Ref_Conteo,Parametros[Fila]-1,0,Parametros[Alto]),Bloques[[#This Row],[Bloque]],OFFSET(Ref_Conteo,Parametros[Fila]-1,-1,Parametros[Alto]),Bloques[[#This Row],[Grupo]])-1,0)","v":0},null,null,""]
["Dividendos","Dividendos","Dividendos y/o participaciones gravadas recibidas por personas naturales sin residencia fiscal (año 2016 y anteriores)",{"$f":"IF(Bloques[[#This Row],[Segmento]]=Parametros[Segmento],COUNTIFS(OFFSET(Ref_Segmento,Parametros[Fila]-1,0,Parametros[Alto]),Bloques[[#This Row],[Segmento]],OFFSET(Ref_Conteo,Parametros[Fila]-1,0,Parametros[Alto]),Bloques[[#This Row],[Bloque]],OFFSET(Ref_Conteo,Parametros[Fila]-1,-1,Parametros[Alto]),Bloques[[#This Row],[Grupo]])-1,0)","v":0},null,null,""]
["Dividendos","Dividendos","Dividendos y/o participaciones gravadas recibidas por personas naturales sin residencia fiscal (año 2017 y siguientes)",{"$f":"IF(Bloques[[#This Row],[Segmento]]=Parametros[Segmento],COUNTIFS(OFFSET(Ref_Segmento,Parametros[Fila]-1,0,Parametros[Alto]),Bloques[[#This Row],[Segmento]],OFFSET(Ref_Conteo,Parametros[Fila]-1,0,Parametros[Alto]),Bloques[[#This Row],[Bloque]],OFFSET(Ref_Conteo,Parametros[Fila]-1,-1,Parametros[Alto]),Bloques[[#This Row],[Grupo]])-1,0)","v":0},null,null,""]
["Dividendos","Dividendos","Dividendos y/o participaciones gravadas al 10%",{"$f":"IF(Bloques[[#This Row],[Segmento]]=Parametros[Segmento],COUNTIFS(OFFSET(Ref_Segmento,Parametros[Fila]-1,0,Parametros[Alto]),Bloques[[#This Row],[Segmento]],OFFSET(Ref_Conteo,Parametros[Fila]-1,0,Parametros[Alto]),Bloques[[#This Row],[Bloque]],OFFSET(Ref_Conteo,Parametros[Fila]-1,-1,Parametros[Alto]),Bloques[[#This Row],[Grupo]])-1,0)","v":0},null,null,""]
["Dividendos","Dividendos","Dividendos y/o participaciones gravadas a tarifa general (EP y sociedades extranjeras - utilidades generadas a partir del año 2017)",{"$f":"IF(Bloques[[#This Row],[Segmento]]=Parametros[Segmento],COUNTIFS(OFFSET(Ref_Segmento,Parametros[Fila]-1,0,Parametros[Alto]),Bloques[[#This Row],[Segmento]],OFFSET(Ref_Conteo,Parametros[Fila]-1,0,Parametros[Alto]),Bloques[[#This Row],[Bloque]],OFFSET(Ref_Conteo,Parametros[Fila]-1,-1,Parametros[Alto]),Bloques[[#This Row],[Grupo]])-1,0)","v":0},null,null,""]
["Dividendos","Dividendos","Dividendos y participaciones provenientes de proyectos calificados como megainversión gravadas al 27%",{"$f":"IF(Bloques[[#This Row],[Segmento]]=Parametros[Segmento],COUNTIFS(OFFSET(Ref_Segmento,Parametros[Fila]-1,0,Parametros[Alto]),Bloques[[#This Row],[Segmento]],OFFSET(Ref_Conteo,Parametros[Fila]-1,0,Parametros[Alto]),Bloques[[#This Row],[Bloque]],OFFSET(Ref_Conteo,Parametros[Fila]-1,-1,Parametros[Alto]),Bloques[[#This Row],[Grupo]])-1,0)","v":0},null,null,""]
["Dividendos","Dividendos","Ganancias por método de participación ",{"$f":"IF(Bloques[[#This Row],[Segmento]]=Parametros[Segmento],COUNTIFS(OFFSET(Ref_Segmento,Parametros[Fila]-1,0,Parametros[Alto]),Bloques[[#This Row],[Segmento]],OFFSET(Ref_Conteo,Parametros[Fila]-1,0,Parametros[Alto]),Bloques[[#This Row],[Bloque]],OFFSET(Ref_Conteo,Parametros[Fila]-1,-1,Parametros[Alto]),Bloques[[#This Row],[Grupo]])-1,0)","v":0},null,null,""]
["Dividendos","Dividendos","Ganancias cambios en el valor razonable ",{"$f":"IF(Bloques[[#This Row],[Segmento]]=Parametros[Segmento],COUNTIFS(OFFSET(Ref_Segmento,Parametros[Fila]-1,0,Parametros[Alto]),Bloques[[#This Row],[Segmento]],OFFSET(Ref_Conteo,Parametros[Fila]-1,0,Parametros[Alto]),Bloques[[#This Row],[Bloque]],OFFSET(Ref_Conteo,Parametros[Fila]-1,-1,Parametros[Alto]),Bloques[[#This Row],[Grupo]])-1,0)","v":0},null,null,""]
["Dividendos","Ingresos no constitutivos de renta ni ganancia ocasional ","Ingresos no constitutivos de renta ",{"$f":"IF(Bloques[[#This Row],[Segmento]]=Parametros[Segmento],COUNTIFS(OFFSET(Ref_Segmento,Parametros[Fila]-1,0,Parametros[Alto]),Bloques[[#This Row],[Segmento]],OFFSET(Ref_Conteo,Parametros[Fila]-1,0,Parametros[Alto]),Bloques[[#This Row],[Bloque]],OFFSET(Ref_Conteo,Parametros[Fila]-1,-1,Parametros[Alto]),Bloques[[#This Row],[Grupo]])-1,0)","v":0},null,null,""]
["Ing. Reversiones","Ingresos por reversión de deterioro del valor ","Inventarios ",{"$f":"IF(Bloques[[#This Row],[Segmento]]=Parametros[Segmento],COUNTIFS(OFFSET(Ref_Segmento,Parametros[Fila]-1,0,Parametros[Alto]),Bloques[[#This Row],[Segmento]],OFFSET(Ref_Conteo,Parametros[Fila]-1,0,Parametros[Alto]),Bloques[[#This Row],[Bloque]],OFFSET(Ref_Conteo,Parametros[Fila]-1,-1,Parametros[Alto]),Bloques[[#This Row],[Grupo]])-1,0)","v":0},null,null,""]
["Ing. Reversiones","Ingresos por reversión de deterioro del valor ","Propiedad, planta y equipo",{"$f":"IF(Bloques[[#This Row],[Segmento]]=Parametros[Segmento],COUNTIFS(OFFSET(Ref_Segmento,Parametros[Fila]-1,0,Parametros[Alto]),Bloques[[#This Row],[Segmento]],OFFSET(Ref_Conteo,Parametros[Fila]-1,0,Parametros[Alto]),Bloques[[#This Row],[Bloque]],OFFSET(Ref_Conteo,Parametros[Fila]-1,-1,Parametros[Alto]),Bloques[[#This Row],[Grupo]])-1,0)","v":0},null,null,""]
["Ing. Reversiones","Ingresos por reversión de deterioro del valor ","Activos intangibles ",{"$f":"IF(Bloques[[#This Row],[Segmento]]=Parametros[Segmento],COUNTIFS(OFFSET(Ref_Segmento,Parametros[Fila]-1,0,Parametros[Alto]),Bloques[[#This Row],[Segmento]],OFFSET(Ref_Conteo,Parametros[Fila]-1,0,Parametros[Alto]),Bloques[[#This Row],[Bloque]],OFFSET(Ref_Conteo,Parametros[Fila]-1,-1,Parametros[Alto]),Bloques[[#This Row],[Grupo]])-1,0)","v":0},null,null,""]
["Ing. Reversiones","Ingresos por reversión de deterioro del valor ","Activos de exploración y evaluación de recursos minerales ",{"$f":"IF(Bloques[[#This Row],[Segmento]]=Parametros[Segmento],COUNTIFS(OFFSET(Ref_Segmento,Parametros[Fila]-1,0,Parametros[Alto]),Bloques[[#This Row],[Segmento]],OFFSET(Ref_Conteo,Parametros[Fila]-1,0,Parametros[Alto]),Bloques[[#This Row],[Bloque]],OFFSET(Ref_Conteo,Parametros[Fila]-1,-1,Parametros[Alto]),Bloques[[#This Row],[Grupo]])-1,0)","v":0},null,null,""]
["Ing. Reversiones","Ingresos por reversión de deterioro del valor ","Propiedades de inversión medidas al modelo de costo ",{"$f":"IF(Bloques[[#This Row],[Segmento]]=Parametros[Segmento],COUNTIFS(OFFSET(Ref_Segmento,Parametros[Fila]-1,0,Parametros[Alto]),Bloques[[#This Row],[Segmento]],OFFSET(Ref_Conteo,Parametros[Fila]-1,0,Parametros[Alto]),Bloques[[#This Row],[Bloque]],OFFSET(Ref_Conteo,Parametros[Fila]-1,-1,Parametros[Alto]),Bloques[[#This Row],[Grupo]])-1,0)","v":0},null,null,""]
["Ing. Reversiones","Ingresos por reversión de deterioro del valor ","Activos no corrientes mantenidos para la venta / entregar a propietarios ",{"$f":"IF(Bloques[[#This Row],[Segmento]]=Parametros[Segmento],COUNTIFS(OFFSET(Ref_Segmento,Parametros[Fila]-1,0,Parametros[Alto]),Bloques[[#This Row],[Segmento]],OFFSET(Ref_Conteo,Parametros[Fila]-1,0,Parametros[Alto]),Bloques[[#This Row],[Bloque]],OFFSET(Ref_Conteo,Parametros[Fila]-1,-1,Parametros[Alto]),Bloques[[#This Row],[Grupo]])-1,0)","v":0},null,null,""]
["Ing. Reversiones","Ingresos por reversión de deterioro del valor ","Activos biológicos medidos al costo",{"$f":"IF(Bloques[[#This Row],[Segmento]]=Parametros[Segmento],COUNTIFS(OFFSET(Ref_Segmento,Parametros[Fila]-1,0,Parametros[Alto]),Bloques[[#This Row],[Segmento]],OFFSET(Ref_Conteo,Parametros[Fila]-1,0,Parametros[Alto]),Bloques[[#This Row],[Bloque]],OFFSET(Ref_Conteo,Parametros[Fila]-1,-1,Parametros[Alto]),Bloques[[#This Row],[Grupo]])-1,0)","v":0},null,null,""]
["Ing. Reversiones","Ingresos por reversión de deterioro del valor ","Bienes de arte y cultura ",{"$f":"IF(Bloques[[#This Row],[Segmento]]=Parametros[Segmento],COUNTIFS(OFFSET(Ref_Segmento,Parametros[Fila]-1,0,Parametros[Alto]),Bloques[[#This Row],[Segmento]],OFFSET(Ref_Conteo,Parametros[Fila]-1,0,Parametros[Alto]),Bloques[[#This Row],[Bloque]],OFFSET(Ref_Conteo,Parametros[Fila]-1,-1,Parametros[Alto]),Bloques[[#This Row],[Grupo]])-1,0)","v":0},null,null,""]
["Ing. Reversiones","Ingresos por reversión de deterioro del valor ","Activos financieros (diferentes a cartera de crédito y operaciones de leasing)",{"$f":"IF(Bloques[[#This Row],[Segmento]]=Parametros[Segmento],COUNTIFS(OFFSET(Ref_Segmento,Parametros[Fila]-1,0,Parametros[Alto]),Bloques[[#This Row],[Segmento]],OFFSET(Ref_Conteo,Parametros[Fila]-1,0,Parametros[Alto]),Bloques[[#This Row],[Bloque]],OFFSET(Ref_Conteo,Parametros[Fila]-1,-1,Parametros[Alto]),Bloques[[#This Row],[Grupo]])-1,0)","v":0},null,null,""]
["Ing. Reversiones","Ingresos por reversión de deterioro del valor ","Cartera de crédito y operaciones de leasing ",{"$f":"IF(Bloques[[#This Row],[Segmento]]=Parametros[Segmento],COUNTIFS(OFFSET(Ref_Segmento,Parametros[Fila]-1,0,Parametros[Alto]),Bloques[[#This Row],[Segmento]],OFFSET(Ref_Conteo,Parametros[Fila]-1,0,Parametros[Alto]),Bloques[[#This Row],[Bloque]],OFFSET(Ref_Conteo,Parametros[Fila]-1,-1,Parametros[Alto]),Bloques[[#This Row],[Grupo]])-1,0)","v":0},null,null,""]
["Ing. Reversiones","Ingresos por reversión de deterioro del valor ","Otras inversiones medidas al costo o el método de la participación ",{"$f":"IF(Bloques[[#This Row],[Segmento]]=Parametros[Segmento],COUNTIFS(OFFSET(Ref_Segmento,Parametros[Fila]-1,0,Parametros[Alto]),Bloques[[#This Row],[Segmento]],OFFSET(Ref_Conteo,Parametros[Fila]-1,0,Parametros[Alto]),Bloques[[#This Row],[Bloque]],OFFSET(Ref_Conteo,Parametros[Fila]-1,-1,Parametros[Alto]),Bloques[[#This Row],[Grupo]])-1,0)","v":0},null,null,""]
["Ing. Reversiones","Ingresos por reversión de deterioro del valor ","Otros deterioros ",{"$f":"IF(Bloques[[#This Row],[Segmento]]=Parametros[Segmento],COUNTIFS(OFFSET(Ref_Segmento,Parametros[Fila]-1,0,Parametros[Alto]),Bloques[[#This Row],[Segmento]],OFFSET(Ref_Conteo,Parametros[Fila]-1,0,Parametros[Alto]),Bloques[[#This Row],[Bloque]],OFFSET(Ref_Conteo,Parametros[Fila]-1,-1,Parametros[Alto]),Bloques[[#This Row],[Grupo]])-1,0)","v":0},null,null,""]
["Ing. Reversiones","Ingresos por reversión de pasivos por beneficios a los empleados ","Beneficios de corto plazo",{"$f":"IF(Bloques[[#This Row],[Segmento]]=Parametros[Segmento],COUNTIFS(OFFSET(Ref_Segmento,Parametros[Fila]-1,0,Parametros[Alto]),Bloques[[#This Row],[Segmento]],OFFSET(Ref_Conteo,Parametros[Fila]-1,0,Parametros[Alto]),Bloques[[#This Row],[Bloque]],OFFSET(Ref_Conteo,Parametros[Fila]-1,-1,Parametros[Alto]),Bloques[[#This Row],[Grupo]])-1,0)","v":0},null,null,""]
["Ing. Reversiones","Ingresos por reversión de pasivos por beneficios a los empleados ","Beneficios de largo plazo ",{"$f":"IF(Bloques[[#This Row],[Segmento]]=Parametros[Segmento],COUNTIFS(OFFSET(Ref_Segmento,Parametros[Fila]-1,0,Parametros[Alto]),Bloques[[#This Row],[Segmento]],OFFSET(Ref_Conteo,Parametros[Fila]-1,0,Parametros[Alto]),Bloques[[#This Row],[Bloque]],OFFSET(Ref_Conteo,Parametros[Fila]-1,-1,Parametros[Alto]),Bloques[[#This Row],[Grupo]])-1,0)","v":0},null,null,""]
["Ing. Reversiones","Ingresos por reversión de pasivos por beneficios a los empleados ","Beneficios a empleados por terminación del vínculo laboral ",{"$f":"IF(Bloques[[#This Row],[Segmento]]=Parametros[Segmento],COUNTIFS(OFFSET(Ref_Segmento,Parametros[Fila]-1,0,Parametros[Alto]),Bloques[[#This Row],[Segmento]],OFFSET(Ref_Conteo,Parametros[Fila]-1,0,Parametros[Alto]),Bloques[[#This Row],[Bloque]],OFFSET(Ref_Conteo,Parametros[Fila]-1,-1,Parametros[Alto]),Bloques[[#This Row],[Grupo]])-1,0)","v":0},null,null,""]
["Ing. Reversiones","Ingresos por reversión de pasivos por beneficios a los empleados ","Beneficios a empleados post-empleo",{"$f":"IF(Bloques[[#This Row],[Segmento]]=Parametros[Segmento],COUNTIFS(OFFSET(Ref_Segmento,Parametros[Fila]-1,0,Parametros[Alto]),Bloques[[#This Row],[Segmento]],OFFSET(Ref_Conteo,Parametros[Fila]-1,0,Parametros[Alto]),Bloques[[#This Row],[Bloque]],OFFSET(Ref_Conteo,Parametros[Fila]-1,-1,Parametros[Alto]),Bloques[[#This Row],[Grupo]])-1,0)","v":0},null,null,""]
["Ing. Reversiones","Ingresos por reversión de provisiones (pasivos de monto o fecha inciertos)","Garantías ",{"$f":"IF(Bloques[[#This Row],[Segmento]]=Parametros[Segmento],COUNTIFS(OFFSET(Ref_Segmento,Parametros[Fila]-1,0,Parametros[Alto]),Bloques[[#This Row],[Segmento]],OFFSET(Ref_Conteo,Parametros[Fila]-1,0,Parametros[Alto]),Bloques[[#This Row],[Bloque]],OFFSET(Ref_Conteo,Parametros[Fila]-1,-1,Parametros[Alto]),Bloques[[#This Row],[Grupo]])-1,0)","v":0},null,null,""]
["Ing. Reversiones","Ingresos por reversión de provisiones (pasivos de monto o fecha inciertos)","Contratos onerosos ",{"$f":"IF(Bloques[[#This Row],[Segmento]]=Parametros[Segmento],COUNTIFS(OFFSET(Ref_Segmento,Parametros[Fila]-1,0,Parametros[Alto]),Bloques[[#This Row],[Segmento]],OFFSET(Ref_Conteo,Parametros[Fila]-1,0,Parametros[Alto]),Bloques[[#This Row],[Bloque]],OFFSET(Ref_Conteo,Parametros[Fila]-1,-1,Parametros[Alto]),Bloques[[#This Row],[Grupo]])-1,0)","v":0},null,null,""]
["Ing. Reversiones","Ingresos por reversión de provisiones (pasivos de monto o fecha inciertos)","Litigios",{"$f":"IF(Bloques[[#This Row],[Segmento]]=Parametros[Segmento],COUNTIFS(OFFSET(Ref_Segmento,Parametros[Fila]-1,0,Parametros[Alto]),Bloques[[#This Row],[Segmento]],OFFSET(Ref_Conteo,Parametros[Fila]-1,0,Parametros[Alto]),Bloques[[#This Row],[Bloque]],OFFSET(Ref_Conteo,Parametros[Fila]-1,-1,Parametros[Alto]),Bloques[[#This Row],[Grupo]])-1,0)","v":0},null,null,""]
["Ing. Reversiones","Ingresos por reversión de provisiones (pasivos de monto o fecha inciertos)","Reembolsos a clientes ",{"$f":"IF(Bloques[[#This Row],[Segmento]]=Parametros[Segmento],COUNTIFS(OFFSET(Ref_Segmento,Parametros[Fila]-1,0,Parametros[Alto]),Bloques[[#This Row],[Segmento]],OFFSET(Ref_Conteo,Parametros[Fila]-1,0,Parametros[Alto]),Bloques[[#This Row],[Bloque]],OFFSET(Ref_Conteo,Parametros[Fila]-1,-1,Parametros[Alto]),Bloques[[#This Row],[Grupo]])-1,0)","v":0},null,null,""]
["Ing. Reversiones","Ingresos por reversión de provisiones (pasivos de monto o fecha inciertos)","Reestructuraciones de negocios ",{"$f":"IF(Bloques[[#This Row],[Segmento]]=Parametros[Segmento],COUNTIFS(OFFSET(Ref_Segmento,Parametros[Fila]-1,0,Parametros[Alto]),Bloques[[#This Row],[Segmento]],OFFSET(Ref_Conteo,Parametros[Fila]-1,0,Parametros[Alto]),Bloques[[#This Row],[Bloque]],OFFSET(Ref_Conteo,Parametros[Fila]-1,-1,Parametros[Alto]),Bloques[[#This Row],[Grupo]])-1,0)","v":0},null,null,""]
["Ing. Reversiones","Ingresos por reversión de provisiones (pasivos de monto o fecha inciertos)","Pasivos contingentes asumidos en una combinación de negocios ",{"$f":"IF(Bloques[[#This Row],[Segmento]]=Parametros[Segmento],COUNTIFS(OFFSET(Ref_Segmento,Parametros[Fila]-1,0,Parametros[Alto]),Bloques[[#This Row],[Segmento]],OFFSET(Ref_Conteo,Parametros[Fila]-1,0,Parametros[Alto]),Bloques[[#This Row],[Bloque]],OFFSET(Ref_Conteo,Parametros[Fila]-1,-1,Parametros[Alto]),Bloques[[#This Row],[Grupo]])-1,0)","v":0},null,null,""]
["Ing. Reversiones","Ingresos por reversión de provisiones (pasivos de monto o fecha inciertos)","Otros ",{"$f":"IF(Bloques[[#This Row],[Segmento]]=Parametros[Segmento],COUNTIFS(OFFSET(Ref_Segmento,Parametros[Fila]-1,0,Parametros[Alto]),Bloques[[#This Row],[Segmento]],OFFSET(Ref_Conteo,Parametros[Fila]-1,0,Parametros[Alto]),Bloques[[#This Row],[Bloque]],OFFSET(Ref_Conteo,Parametros[Fila]-1,-1,Parametros[Alto]),Bloques[[#This Row],[Grupo]])-1,0)","v":0},null,null,""]
["Ing. Reversiones","Ingresos no constitutivos de renta ni ganancia ocasional ","Ingresos no constitutivos de renta ",{"$f":"IF(Bloques[[#This Row],[Segmento]]=Parametros[Segmento],COUNTIFS(OFFSET(Ref_Segmento,Parametros[Fila]-1,0,Parametros[Alto]),Bloques[[#This Row],[Segmento]],OFFSET(Ref_Conteo,Parametros[Fila]-1,0,Parametros[Alto]),Bloques[[#This Row],[Bloque]],OFFSET(Ref_Conteo,Parametros[Fila]-1,-1,Parametros[Alto]),Bloques[[#This Row],[Grupo]])-1,0)","v":0},null,null,""]
["Otros ingresos","Otros Ingresos","Transferencias, subvenciones y ayudas gubernamentales",{"$f":"IF(Bloques[[#This Row],[Segmento]]=Parametros[Segmento],COUNTIFS(OFFSET(Ref_Segmento,Parametros[Fila]-1,0,Parametros[Alto]),Bloques[[#This Row],[Segmento]],OFFSET(Ref_Conteo,Parametros[Fila]-1,0,Parametros[Alto]),Bloques[[#This Row],[Bloque]],OFFSET(Ref_Conteo,Parametros[Fila]-1,-1,Parametros[Alto]),Bloques[[#This Row],[Grupo]])-1,0)","v":0},null,null,""]
["Otros ingresos","Otros Ingresos","Donaciones, aportaciones y similares ",{"$f":"IF(Bloques[[#This Row],[Segmento]]=Parametros[Segmento],COUNTIFS(OFFSET(Ref_Segmento,Parametros[Fila]-1,0,Parametros[Alto]),Bloques[[#This Row],[Segmento]],OFFSET(Ref_Conteo,Parametros[Fila]-1,0,Parametros[Alto]),Bloques[[#This Row],[Bloque]],OFFSET(Ref_Conteo,Parametros[Fila]-1,-1,Parametros[Alto]),Bloques[[#This Row],[Grupo]])-1,0)","v":0},null,null,""]
["Otros ingresos","Otros Ingresos","Reembolsos de compañías de seguros ",{"$f":"IF(Bloques[[#This Row],[Segmento]]=Parametros[Segmento],COUNTIFS(OFFSET(Ref_Segmento,Parametros[Fila]-1,0,Parametros[Alto]),Bloques[[#This Row],[Segmento]],OFFSET(Ref_Conteo,Parametros[Fila]-1,0,Parametros[Alto]),Bloques[[#This Row],[Bloque]],OFFSET(Ref_Conteo,Parametros[Fila]-1,-1,Parametros[Alto]),Bloques[[#This Row],[Grupo]])-1,0)","v":0},null,null,""]
["Otros ingresos","Otros Ingresos","Otras indemnizaciones ",{"$f":"IF(Bloques[[#This Row],[Segmento]]=Parametros[Segmento],COUNTIFS(OFFSET(Ref_Segmento,Parametros[Fila]-1,0,Parametros[Alto]),Bloques[[#This Row],[Segmento]],OFFSET(Ref_Conteo,Parametros[Fila]-1,0,Parametros[Alto]),Bloques[[#This Row],[Bloque]],OFFSET(Ref_Conteo,Parametros[Fila]-1,-1,Parametros[Alto]),Bloques[[#This Row],[Grupo]])-1,0)","v":0},null,null,""]
["Otros ingresos","Otros Ingresos","Otras reversiones o recuperaciones ",{"$f":"IF(Bloques[[#This Row],[Segmento]]=Parametros[Segmento],COUNTIFS(OFFSET(Ref_Segmento,Parametros[Fila]-1,0,Parametros[Alto]),Bloques[[#This Row],[Segmento]],OFFSET(Ref_Conteo,Parametros[Fila]-1,0,Parametros[Alto]),Bloques[[#This Row],[Bloque]],OFFSET(Ref_Conteo,Parametros[Fila]-1,-1,Parametros[Alto]),Bloques[[#This Row],[Grupo]])-1,0)","v":0},null,null,""]
["Otros ingresos","Otros Ingresos","Otros ",{"$f":"IF(Bloques[[#This Row],[Segmento]]=Parametros[Segmento],COUNTIFS(OFFSET(Ref_Segmento,Parametros[Fila]-1,0,Parametros[Alto]),Bloques[[#This Row],[Segmento]],OFFSET(Ref_Conteo,Parametros[Fila]-1,0,Parametros[Alto]),Bloques[[#This Row],[Bloque]],OFFSET(Ref_Conteo,Parametros[Fila]-1,-1,Parametros[Alto]),Bloques[[#This Row],[Grupo]])-1,0)","v":0},null,null,""]
["Otros ingresos","Otros Ingresos","Ganancias netas en operaciones discontinuadas ",{"$f":"IF(Bloques[[#This Row],[Segmento]]=Parametros[Segmento],COUNTIFS(OFFSET(Ref_Segmento,Parametros[Fila]-1,0,Parametros[Alto]),Bloques[[#This Row],[Segmento]],OFFSET(Ref_Conteo,Parametros[Fila]-1,0,Parametros[Alto]),Bloques[[#This Row],[Bloque]],OFFSET(Ref_Conteo,Parametros[Fila]-1,-1,Parametros[Alto]),Bloques[[#This Row],[Grupo]])-1,0)","v":0},null,null,""]
["Otros ingresos","Otros Ingresos","Recuperación de deducciones sin incidencia contable (Ajustes fiscales)",{"$f":"IF(Bloques[[#This Row],[Segmento]]=Parametros[Segmento],COUNTIFS(OFFSET(Ref_Segmento,Parametros[Fila]-1,0,Parametros[Alto]),Bloques[[#This Row],[Segmento]],OFFSET(Ref_Conteo,Parametros[Fila]-1,0,Parametros[Alto]),Bloques[[#This Row],[Bloque]],OFFSET(Ref_Conteo,Parametros[Fila]-1,-1,Parametros[Alto]),Bloques[[#This Row],[Grupo]])-1,0)","v":0},null,null,""]
["Otros ingresos","Otros Ingresos","Mayor ingreso - Precios de Transferencia (Ajustes fiscales)",{"$f":"IF(Bloques[[#This Row],[Segmento]]=Parametros[Segmento],COUNTIFS(OFFSET(Ref_Segmento,Parametros[Fila]-1,0,Parametros[Alto]),Bloques[[#This Row],[Segmento]],OFFSET(Ref_Conteo,Parametros[Fila]-1,0,Parametros[Alto]),Bloques[[#This Row],[Bloque]],OFFSET(Ref_Conteo,Parametros[Fila]-1,-1,Parametros[Alto]),Bloques[[#This Row],[Grupo]])-1,0)","v":0},null,null,""]
["Otros ingresos","Otros Ingresos","Otros ingresos fiscales y no incluidos contablemente (ajustes fiscales)",{"$f":"IF(Bloques[[#This Row],[Segmento]]=Parametros[Segmento],COUNTIFS(OFFSET(Ref_Segmento,Parametros[Fila]-1,0,Parametros[Alto]),Bloques[[#This Row],[Segmento]],OFFSET(Ref_Conteo,Parametros[Fila]-1,0,Parametros[Alto]),Bloques[[#This Row],[Bloque]],OFFSET(Ref_Conteo,Parametros[Fila]-1,-1,Parametros[Alto]),Bloques[[#This Row],[Grupo]])-1,0)","v":0},null,null,""]
["Otros ingresos","Otros Ingresos","Ingresos no constitutivos de renta ni ganancia ocasional",{"$f":"IF(Bloques[[#This Row],[Segmento]]=Parametros[Segmento],COUNTIFS(OFFSET(Ref_Segmento,Parametros[Fila]-1,0,Parametros[Alto]),Bloques[[#This Row],[Segmento]],OFFSET(Ref_Conteo,Parametros[Fila]-1,0,Parametros[Alto]),Bloques[[#This Row],[Bloque]],OFFSET(Ref_Conteo,Parametros[Fila]-1,-1,Parametros[Alto]),Bloques[[#This Row],[Grupo]])-1,0)","v":0},null,null,""]
["Otros ingresos","Ingresos por mediciones a valor razonable","Activos biológicos ",{"$f":"IF(Bloques[[#This Row],[Segmento]]=Parametros[Segmento],COUNTIFS(OFFSET(Ref_Segmento,Parametros[Fila]-1,0,Parametros[Alto]),Bloques[[#This Row],[Segmento]],OFFSET(Ref_Conteo,Parametros[Fila]-1,0,Parametros[Alto]),Bloques[[#This Row],[Bloque]],OFFSET(Ref_Conteo,Parametros[Fila]-1,-1,Parametros[Alto]),Bloques[[#This Row],[Grupo]])-1,0)","v":0},null,null,""]
["Otros ingresos","Ingresos por mediciones a valor razonable","Propiedades de inversión ",{"$f":"IF(Bloques[[#This Row],[Segmento]]=Parametros[Segmento],COUNTIFS(OFFSET(Ref_Segmento,Parametros[Fila]-1,0,Parametros[Alto]),Bloques[[#This Row],[Segmento]],OFFSET(Ref_Conteo,Parametros[Fila]-1,0,Parametros[Alto]),Bloques[[#This Row],[Bloque]],OFFSET(Ref_Conteo,Parametros[Fila]-1,-1,Parametros[Alto]),Bloques[[#This Row],[Grupo]])-1,0)","v":0},null,null,""]
["Otros ingresos","Ingresos por mediciones a valor razonable","Instrumentos financieros, diferente a inversiones en subsidiarias, asociadas y/o negocios conjuntos ",{"$f":"IF(Bloques[[#This Row],[Segmento]]=Parametros[Segmento],COUNTIFS(OFFSET(Ref_Segmento,Parametros[Fila]-1,0,Parametros[Alto]),Bloques[[#This Row],[Segmento]],OFFSET(Ref_Conteo,Parametros[Fila]-1,0,Parametros[Alto]),Bloques[[#This Row],[Bloque]],OFFSET(Ref_Conteo,Parametros[Fila]-1,-1,Parametros[Alto]),Bloques[[#This Row],[Grupo]])-1,0)","v":0},null,null,""]
["Otros ingresos","Ingresos por mediciones a valor razonable","Instrumentos derivados ",{"$f":"IF(Bloques[[#This Row],[Segmento]]=Parametros[Segmento],COUNTIFS(OFFSET(Ref_Segmento,Parametros[Fila]-1,0,Parametros[Alto]),Bloques[[#This Row],[Segmento]],OFFSET(Ref_Conteo,Parametros[Fila]-1,0,Parametros[Alto]),Bloques[[#This Row],[Bloque]],OFFSET(Ref_Conteo,Parametros[Fila]-1,-1,Parametros[Alto]),Bloques[[#This Row],[Grupo]])-1,0)","v":0},null,null,""]
["Otros ingresos","Ingresos por mediciones a valor razonable","Otros ",{"$f":"IF(Bloques[[#This Row],[Segmento]]=Parametros[Segmento],COUNTIFS(OFFSET(Ref_Segmento,Parametros[Fila]-1,0,Parametros[Alto]),Bloques[[#This Row],[Segmento]],OFFSET(Ref_Conteo,Parametros[Fila]-1,0,Parametros[Alto]),Bloques[[#This Row],[Bloque]],OFFSET(Ref_Conteo,Parametros[Fila]-1,-1,Parametros[Alto]),Bloques[[#This Row],[Grupo]])-1,0)","v":0},null,null,""]
["Otros ingresos","Ingresos no constitutivos de renta ni ganancia ocasional ","Ingresos no constitutivos de renta ",{"$f":"IF(Bloques[[#This Row],[Segmento]]=Parametros[Segmento],COUNTIFS(OFFSET(Ref_Segmento,Parametros[Fila]-1,0,Parametros[Alto]),Bloques[[#This Row],[Segmento]],OFFSET(Ref_Conteo,Parametros[Fila]-1,0,Parametros[Alto]),Bloques[[#This Row],[Bloque]],OFFSET(Ref_Conteo,Parametros[Fila]-1,-1,Parametros[Alto]),Bloques[[#This Row],[Grupo]])-1,0)","v":0},null,null,""]
["Venta de Activos","Venta de activos poseídos por menos de dos años","Venta de activos considerados como propiedad, planta y equipo",{"$f":"IF(Bloques[[#This Row],[Segmento]]=Parametros[Segmento],COUNTIFS(OFFSET(Ref_Segmento,Parametros[Fila]-1,0,Parametros[Alto]),Bloques[[#This Row],[Segmento]],OFFSET(Ref_Conteo,Parametros[Fila]-1,0,Parametros[Alto]),Bloques[[#This Row],[Bloque]],OFFSET(Ref_Conteo,Parametros[Fila]-1,-1,Parametros[Alto]),Bloques[[#This Row],[Grupo]])-1,0)","v":0},null,null,""]
["Venta de Activos","Venta de activos poseídos por menos de dos años","Venta de propiedades de inversión",{"$f":"IF(Bloques[[#This Row],[Segmento]]=Parametros[Segmento],COUNTIFS(OFFSET(Ref_Segmento,Parametros[Fila]-1,0,Parametros[Alto]),Bloques[[#This Row],[Segmento]],OFFSET(Ref_Conteo,Parametros[Fila]-1,0,Parametros[Alto]),Bloques[[#This Row],[Bloque]],OFFSET(Ref_Conteo,Parametros[Fila]-1,-1,Parametros[Alto]),Bloques[[#This Row],[Grupo]])-1,0)","v":0},null,null,""]
["Venta de Activos","Venta de activos poseídos por menos de dos años","Venta de activos biológicos",{"$f":"IF(Bloques[[#This Row],[Segmento]]=Parametros[Segmento],COUNTIFS(OFFSET(Ref_Segmento,Parametros[Fila]-1,0,Parametros[Alto]),Bloques[[#This Row],[Segmento]],OFFSET(Ref_Conteo,Parametros[Fila]-1,0,Parametros[Alto]),Bloques[[#This Row],[Bloque]],OFFSET(Ref_Conteo,Parametros[Fila]-1,-1,Parametros[Alto]),Bloques[[#This Row],[Grupo]])-1,0)","v":0},null,null,""]
["Venta de Activos","Venta de activos poseídos por menos de dos años","Venta de activos no corrientes mantenidos para la venta",{"$f":"IF(Bloques[[#This Row],[Segmento]]=Parametros[Segmento],COUNTIFS(OFFSET(Ref_Segmento,Parametros[Fila]-1,0,Parametros[Alto]),Bloques[[#This Row],[Segmento]],OFFSET(Ref_Conteo,Parametros[Fila]-1,0,Parametros[Alto]),Bloques[[#This Row],[Bloque]],OFFSET(Ref_Conteo,Parametros[Fila]-1,-1,Parametros[Alto]),Bloques[[#This Row],[Grupo]])-1,0)","v":0},null,null,""]
["Venta de Activos","Venta de activos poseídos por menos de dos años","Venta de activos intangibles",{"$f":"IF(Bloques[[#This Row],[Segmento]]=Parametros[Segmento],COUNTIFS(OFFSET(Ref_Segmento,Parametros[Fila]-1,0,Parametros[Alto]),Bloques[[#This Row],[Segmento]],OFFSET(Ref_Conteo,Parametros[Fila]-1,0,Parametros[Alto]),Bloques[[#This Row],[Bloque]],OFFSET(Ref_Conteo,Parametros[Fila]-1,-1,Parametros[Alto]),Bloques[[#This Row],[Grupo]])-1,0)","v":0},null,null,""]
["Venta de Activos","Venta de activos poseídos por menos de dos años","Venta de inversiones en acciones y otras participaciones",{"$f":"IF(Bloques[[#This Row],[Segmento]]=Parametros[Segmento],COUNTIFS(OFFSET(Ref_Segmento,Parametros[Fila]-1,0,Parametros[Alto]),Bloques[[#This Row],[Segmento]],OFFSET(Ref_Conteo,Parametros[Fila]-1,0,Parametros[Alto]),Bloques[[#This Row],[Bloque]],OFFSET(Ref_Conteo,Parametros[Fila]-1,-1,Parametros[Alto]),Bloques[[#This Row],[Grupo]])-1,0)","v":0},null,null,""]
["Venta de Activos","Venta de activos poseídos por menos de dos años","Venta de otros instrumentos financieros",{"$f":"IF(Bloques[[#This Row],[Segmento]]=Parametros[Segmento],COUNTIFS(OFFSET(Ref_Segmento,Parametros[Fila]-1,0,Parametros[Alto]),Bloques[[#This Row],[Segmento]],OFFSET(Ref_Conteo,Parametros[Fila]-1,0,Parametros[Alto]),Bloques[[#This Row],[Bloque]],OFFSET(Ref_Conteo,Parametros[Fila]-1,-1,Parametros[Alto]),Bloques[[#This Row],[Grupo]])-1,0)","v":0},null,null,""]
["Venta de Activos","Venta de activos poseídos por menos de dos años","Venta de otros activos",{"$f":"IF(Bloques[[#This Row],[Segmento]]=Parametros[Segmento],COUNTIFS(OFFSET(Ref_Segmento,Parametros[Fila]-1,0,Parametros[Alto]),Bloques[[#This Row],[Segmento]],OFFSET(Ref_Conteo,Parametros[Fila]-1,0,Parametros[Alto]),Bloques[[#This Row],[Bloque]],OFFSET(Ref_Conteo,Parametros[Fila]-1,-1,Parametros[Alto]),Bloques[[#This Row],[Grupo]])-1,0)","v":0},null,null,""]
["Rentas pasivas ECE","Ingresos","Dividendos, retiros y repartos",{"$f":"IF(Bloques[[#This Row],[Segmento]]=Parametros[Segmento],COUNTIFS(OFFSET(Ref_Segmento,Parametros[Fila]-1,0,Parametros[Alto]),Bloques[[#This Row],[Segmento]],OFFSET(Ref_Conteo,Parametros[Fila]-1,0,Parametros[Alto]),Bloques[[#This Row],[Bloque]],OFFSET(Ref_Conteo,Parametros[Fila]-1,-1,Parametros[Alto]),Bloques[[#This Row],[Grupo]])-1,0)","v":0},null,null,""]
["Rentas pasivas ECE","Ingresos","Intereses y rendimientos financieros",{"$f":"IF(Bloques[[#This Row],[Segmento]]=Parametros[Segmento],COUNTIFS(OFFSET(Ref_Segmento,Parametros[Fila]-1,0,Parametros[Alto]),Bloques[[#This Row],[Segmento]],OFFSET(Ref_Conteo,Parametros[Fila]-1,0,Parametros[Alto]),Bloques[[#This Row],[Bloque]],OFFSET(Ref_Conteo,Parametros[Fila]-1,-1,Parametros[Alto]),Bloques[[#This Row],[Grupo]])-1,0)","v":0},null,null,""]
["Rentas pasivas ECE","Ingresos","Provenientes de Activos intangibles ",{"$f":"IF(Bloques[[#This Row],[Segmento]]=Parametros[Segmento],COUNTIFS(OFFSET(Ref_Segmento,Parametros[Fila]-1,0,Parametros[Alto]),Bloques[[#This Row],[Segmento]],OFFSET(Ref_Conteo,Parametros[Fila]-1,0,Parametros[Alto]),Bloques[[#This Row],[Bloque]],OFFSET(Ref_Conteo,Parametros[Fila]-1,-1,Parametros[Alto]),Bloques[[#This Row],[Grupo]])-1,0)","v":0},null,null,""]
["Rentas pasivas ECE","Ingresos","Enajenación o cesión de derechos ",{"$f":"IF(Bloques[[#This Row],[Segmento]]=Parametros[Segmento],COUNTIFS(OFFSET(Ref_Segmento,Parametros[Fila]-1,0,Parametros[Alto]),Bloques[[#This Row],[Segmento]],OFFSET(Ref_Conteo,Parametros[Fila]-1,0,Parametros[Alto]),Bloques[[#This Row],[Bloque]],OFFSET(Ref_Conteo,Parametros[Fila]-1,-1,Parametros[Alto]),Bloques[[#This Row],[Grupo]])-1,0)","v":0},null,null,""]
["Rentas pasivas ECE","Ingresos","Enajenación o arrendamiento de bienes inmuebles",{"$f":"IF(Bloques[[#This Row],[Segmento]]=Parametros[Segmento],COUNTIFS(OFFSET(Ref_Segmento,Parametros[Fila]-1,0,Parametros[Alto]),Bloques[[#This Row],[Segmento]],OFFSET(Ref_Conteo,Parametros[Fila]-1,0,Parametros[Alto]),Bloques[[#This Row],[Bloque]],OFFSET(Ref_Conteo,Parametros[Fila]-1,-1,Parametros[Alto]),Bloques[[#This Row],[Grupo]])-1,0)","v":0},null,null,""]
["Rentas pasivas ECE","Ingresos","Compra o venta de bienes corporales",{"$f":"IF(Bloques[[#This Row],[Segmento]]=Parametros[Segmento],COUNTIFS(OFFSET(Ref_Segmento,Parametros[Fila]-1,0,Parametros[Alto]),Bloques[[#This Row],[Segmento]],OFFSET(Ref_Conteo,Parametros[Fila]-1,0,Parametros[Alto]),Bloques[[#This Row],[Bloque]],OFFSET(Ref_Conteo,Parametros[Fila]-1,-1,Parametros[Alto]),Bloques[[#This Row],[Grupo]])-1,0)","v":0},null,null,""]
["Rentas pasivas ECE","Ingresos","Por servicios",{"$f":"IF(Bloques[[#This Row],[Segmento]]=Parametros[Segmento],COUNTIFS(OFFSET(Ref_Segmento,Parametros[Fila]-1,0,Parametros[Alto]),Bloques[[#This Row],[Segmento]],OFFSET(Ref_Conteo,Parametros[Fila]-1,0,Parametros[Alto]),Bloques[[#This Row],[Bloque]],OFFSET(Ref_Conteo,Parametros[Fila]-1,-1,Parametros[Alto]),Bloques[[#This Row],[Grupo]])-1,0)","v":0},null,null,""]
["Rentas pasivas ECE","Costos y deducciones","Costos ",{"$f":"IF(Bloques[[#This Row],[Segmento]]=Parametros[Segmento],COUNTIFS(OFFSET(Ref_Segmento,Parametros[Fila]-1,0,Parametros[Alto]),Bloques[[#This Row],[Segmento]],OFFSET(Ref_Conteo,Parametros[Fila]-1,0,Parametros[Alto]),Bloques[[#This Row],[Bloque]],OFFSET(Ref_Conteo,Parametros[Fila]-1,-1,Parametros[Alto]),Bloques[[#This Row],[Grupo]])-1,0)","v":0},null,null,""]
["Rentas pasivas ECE","Costos y deducciones","Deducciones",{"$f":"IF(Bloques[[#This Row],[Segmento]]=Parametros[Segmento],COUNTIFS(OFFSET(Ref_Segmento,Parametros[Fila]-1,0,Parametros[Alto]),Bloques[[#This Row],[Segmento]],OFFSET(Ref_Conteo,Parametros[Fila]-1,0,Parametros[Alto]),Bloques[[#This Row],[Bloque]],OFFSET(Ref_Conteo,Parametros[Fila]-1,-1,Parametros[Alto]),Bloques[[#This Row],[Grupo]])-1,0)","v":0},null,null,""]
["G. Ocasionales","Venta de bienes poseídos por dos o más años ","Venta de activos considerados como propiedad, planta y equipo",{"$f":"IF(Bloques[[#This Row],[Segmento]]=Parametros[Segmento],COUNTIFS(OFFSET(Ref_Segmento,Parametros[Fila]-1,0,Parametros[Alto]),Bloques[[#This Row],[Segmento]],OFFSET(Ref_Conteo,Parametros[Fila]-1,0,Parametros[Alto]),Bloques[[#This Row],[Bloque]],OFFSET(Ref_Conteo,Parametros[Fila]-1,-1,Parametros[Alto]),Bloques[[#This Row],[Grupo]])-1,0)","v":0},null,null,""]
["G. Ocasionales","Venta de bienes poseídos por dos o más años ","Venta de propiedades de inversión",{"$f":"IF(Bloques[[#This Row],[Segmento]]=Parametros[Segmento],COUNTIFS(OFFSET(Ref_Segmento,Parametros[Fila]-1,0,Parametros[Alto]),Bloques[[#This Row],[Segmento]],OFFSET(Ref_Conteo,Parametros[Fila]-1,0,Parametros[Alto]),Bloques[[#This Row],[Bloque]],OFFSET(Ref_Conteo,Parametros[Fila]-1,-1,Parametros[Alto]),Bloques[[#This Row],[Grupo]])-1,0)","v":0},null,null,""]
["G. Ocasionales","Venta de bienes poseídos por dos o más años ","Venta de activos biológicos",{"$f":"IF(Bloques[[#This Row],[Segmento]]=Parametros[Segmento],COUNTIFS(OFFSET(Ref_Segmento,Parametros[Fila]-1,0,Parametros[Alto]),Bloques[[#This Row],[Segmento]],OFFSET(Ref_Conteo,Parametros[Fila]-1,0,Parametros[Alto]),Bloques[[#This Row],[Bloque]],OFFSET(Ref_Conteo,Parametros[Fila]-1,-1,Parametros[Alto]),Bloques[[#This Row],[Grupo]])-1,0)","v":0},null,null,""]
["G. Ocasionales","Venta de bienes poseídos por dos o más años ","Venta de activos no corrientes mantenidos para la venta",{"$f":"IF(Bloques[[#This Row],[Segmento]]=Parametros[Segmento],COUNTIFS(OFFSET(Ref_Segmento,Parametros[Fila]-1,0,Parametros[Alto]),Bloques[[#This Row],[Segmento]],OFFSET(Ref_Conteo,Parametros[Fila]-1,0,Parametros[Alto]),Bloques[[#This Row],[Bloque]],OFFSET(Ref_Conteo,Parametros[Fila]-1,-1,Parametros[Alto]),Bloques[[#This Row],[Grupo]])-1,0)","v":0},null,null,""]
["G. Ocasionales","Venta de bienes poseídos por dos o más años ","Venta de activos intangibles",{"$f":"IF(Bloques[[#This Row],[Segmento]]=Parametros[Segmento],COUNTIFS(OFFSET(Ref_Segmento,Parametros[Fila]-1,0,Parametros[Alto]),Bloques[[#This Row],[Segmento]],OFFSET(Ref_Conteo,Parametros[Fila]-1,0,Parametros[Alto]),Bloques[[#This Row],[Bloque]],OFFSET(Ref_Conteo,Parametros[Fila]-1,-1,Parametros[Alto]),Bloques[[#This Row],[Grupo]])-1,0)","v":0},null,null,""]
["G. Ocasionales","Venta de bienes poseídos por dos o más años ","Venta de inversiones en acciones y otras participaciones",{"$f":"IF(Bloques[[#This Row],[Segmento]]=Parametros[Segmento],COUNTIFS(OFFSET(Ref_Segmento,Parametros[Fila]-1,0,Parametros[Alto]),Bloques[[#This Row],[Segmento]],OFFSET(Ref_Conteo,Parametros[Fila]-1,0,Parametros[Alto]),Bloques[[#This Row],[Bloque]],OFFSET(Ref_Conteo,Parametros[Fila]-1,-1,Parametros[Alto]),Bloques[[#This Row],[Grupo]])-1,0)","v":0},null,null,""]
["G. Ocasionales","Venta de bienes poseídos por dos o más años ","Venta de otros instrumentos financieros",{"$f":"IF(Bloques[[#This Row],[Segmento]]=Parametros[Segmento],COUNTIFS(OFFSET(Ref_Segmento,Parametros[Fila]-1,0,Parametros[Alto]),Bloques[[#This Row],[Segmento]],OFFSET(Ref_Conteo,Parametros[Fila]-1,0,Parametros[Alto]),Bloques[[#This Row],[Bloque]],OFFSET(Ref_Conteo,Parametros[Fila]-1,-1,Parametros[Alto]),Bloques[[#This Row],[Grupo]])-1,0)","v":0},null,null,""]
["G. Ocasionales","Venta de bienes poseídos por dos o más años ","Venta de otros activos",{"$f":"IF(Bloques[[#This Row],[Segmento]]=Parametros[Segmento],COUNTIFS(OFFSET(Ref_Segmento,Parametros[Fila]-1,0,Parametros[Alto]),Bloques[[#This Row],[Segmento]],OFFSET(Ref_Conteo,Parametros[Fila]-1,0,Parametros[Alto]),Bloques[[#This Row],[Bloque]],OFFSET(Ref_Conteo,Parametros[Fila]-1,-1,Parametros[Alto]),Bloques[[#This Row],[Grupo]])-1,0)","v":0},null,null,""]
["G. Ocasionales","Costos por Ganancias Ocasionales ","Costo de venta de activos considerados como propiedad, planta y equipo",{"$f":"IF(Bloques[[#This Row],[Segmento]]=Parametros[Segmento],COUNTIFS(OFFSET(Ref_Segmento,Parametros[Fila]-1,0,Parametros[Alto]),Bloques[[#This Row],[Segmento]],OFFSET(Ref_Conteo,Parametros[Fila]-1,0,Parametros[Alto]),Bloques[[#This Row],[Bloque]],OFFSET(Ref_Conteo,Parametros[Fila]-1,-1,Parametros[Alto]),Bloques[[#This Row],[Grupo]])-1,0)","v":0},null,null,""]
["G. Ocasionales","Costos por Ganancias Ocasionales ","Costo de venta de propiedades de inversión",{"$f":"IF(Bloques[[#This Row],[Segmento]]=Parametros[Segmento],COUNTIFS(OFFSET(Ref_Segmento,Parametros[Fila]-1,0,Parametros[Alto]),Bloques[[#This Row],[Segmento]],OFFSET(Ref_Conteo,Parametros[Fila]-1,0,Parametros[Alto]),Bloques[[#This Row],[Bloque]],OFFSET(Ref_Conteo,Parametros[Fila]-1,-1,Parametros[Alto]),Bloques[[#This Row],[Grupo]])-1,0)","v":0},null,null,""]
["G. Ocasionales","Costos por Ganancias Ocasionales ","Costo de venta de activos biológicos",{"$f":"IF(Bloques[[#This Row],[Segmento]]=Parametros[Segmento],COUNTIFS(OFFSET(Ref_Segmento,Parametros[Fila]-1,0,Parametros[Alto]),Bloques[[#This Row],[Segmento]],OFFSET(Ref_Conteo,Parametros[Fila]-1,0,Parametros[Alto]),Bloques[[#This Row],[Bloque]],OFFSET(Ref_Conteo,Parametros[Fila]-1,-1,Parametros[Alto]),Bloques[[#This Row],[Grupo]])-1,0)","v":0},null,null,""]
["G. Ocasionales","Costos por Ganancias Ocasionales ","Costo de venta de activos no corrientes mantenidos para la venta",{"$f":"IF(Bloques[[#This Row],[Segmento]]=Parametros[Segmento],COUNTIFS(OFFSET(Ref_Segmento,Parametros[Fila]-1,0,Parametros[Alto]),Bloques[[#This Row],[Segmento]],OFFSET(Ref_Conteo,Parametros[Fila]-1,0,Parametros[Alto]),Bloques[[#This Row],[Bloque]],OFFSET(Ref_Conteo,Parametros[Fila]-1,-1,Parametros[Alto]),Bloques[[#This Row],[Grupo]])-1,0)","v":0},null,null,""]
["G. Ocasionales","Costos por Ganancias Ocasionales ","Costo de venta de activos intangibles",{"$f":"IF(Bloques[[#This Row],[Segmento]]=Parametros[Segmento],COUNTIFS(OFFSET(Ref_Segmento,Parametros[Fila]-1,0,Parametros[Alto]),Bloques[[#This Row],[Segmento]],OFFSET(Ref_Conteo,Parametros[Fila]-1,0,Parametros[Alto]),Bloques[[#This Row],[Bloque]],OFFSET(Ref_Conteo,Parametros[Fila]-1,-1,Parametros[Alto]),Bloques[[#This Row],[Grupo]])-1,0)","v":0},null,null,""]
["G. Ocasionales","Costos por Ganancias Ocasionales ","Costo de venta de inversiones en acciones y otras participaciones",{"$f":"IF(Bloques[[#This Row],[Segmento]]=Parametros[Segmento],COUNTIFS(OFFSET(Ref_Segmento,Parametros[Fila]-1,0,Parametros[Alto]),Bloques[[#This Row],[Segmento]],OFFSET(Ref_Conteo,Parametros[Fila]-1,0,Parametros[Alto]),Bloques[[#This Row],[Bloque]],OFFSET(Ref_Conteo,Parametros[Fila]-1,-1,Parametros[Alto]),Bloques[[#This Row],[Grupo]])-1,0)","v":0},null,null,""]
["G. Ocasionales","Costos por Ganancias Ocasionales ","Costo de venta de otros instrumentos financieros",{"$f":"IF(Bloques[[#This Row],[Segmento]]=Parametros[Segmento],COUNTIFS(OFFSET(Ref_Segmento,Parametros[Fila]-1,0,Parametros[Alto]),Bloques[[#This Row],[Segmento]],OFFSET(Ref_Conteo,Parametros[Fila]-1,0,Parametros[Alto]),Bloques[[#This Row],[Bloque]],OFFSET(Ref_Conteo,Parametros[Fila]-1,-1,Parametros[Alto]),Bloques[[#This Row],[Grupo]])-1,0)","v":0},null,null,""]
["G. Ocasionales","Costos por Ganancias Ocasionales ","Costo de venta de otros activos",{"$f":"IF(Bloques[[#This Row],[Segmento]]=Parametros[Segmento],COUNTIFS(OFFSET(Ref_Segmento,Parametros[Fila]-1,0,Parametros[Alto]),Bloques[[#This Row],[Segmento]],OFFSET(Ref_Conteo,Parametros[Fila]-1,0,Parametros[Alto]),Bloques[[#This Row],[Bloque]],OFFSET(Ref_Conteo,Parametros[Fila]-1,-1,Parametros[Alto]),Bloques[[#This Row],[Grupo]])-1,0)","v":0},null,null,""]
["G. Ocasionales","Donaciones ","Donaciones",{"$f":"IF(Bloques[[#This Row],[Segmento]]=Parametros[Segmento],COUNTIFS(OFFSET(Ref_Segmento,Parametros[Fila]-1,0,Parametros[Alto]),Bloques[[#This Row],[Segmento]],OFFSET(Ref_Conteo,Parametros[Fila]-1,0,Parametros[Alto]),Bloques[[#This Row],[Bloque]],OFFSET(Ref_Conteo,Parametros[Fila]-1,-1,Parametros[Alto]),Bloques[[#This Row],[Grupo]])-1,0)","v":0},null,null,""]
["G. Ocasionales","Premios obtenidos en juegos de suerte y azar ","Loterías ",{"$f":"IF(Bloques[[#This Row],[Segmento]]=Parametros[Segmento],COUNTIFS(OFFSET(Ref_Segmento,Parametros[Fila]-1,0,Parametros[Alto]),Bloques[[#This Row],[Segmento]],OFFSET(Ref_Conteo,Parametros[Fila]-1,0,Parametros[Alto]),Bloques[[#This Row],[Bloque]],OFFSET(Ref_Conteo,Parametros[Fila]-1,-1,Parametros[Alto]),Bloques[[#This Row],[Grupo]])-1,0)","v":0},null,null,""]
["G. Ocasionales","Premios obtenidos en juegos de suerte y azar ","Rifas",{"$f":"IF(Bloques[[#This Row],[Segmento]]=Parametros[Segmento],COUNTIFS(OFFSET(Ref_Segmento,Parametros[Fila]-1,0,Parametros[Alto]),Bloques[[#This Row],[Segmento]],OFFSET(Ref_Conteo,Parametros[Fila]-1,0,Parametros[Alto]),Bloques[[#This Row],[Bloque]],OFFSET(Ref_Conteo,Parametros[Fila]-1,-1,Parametros[Alto]),Bloques[[#This Row],[Grupo]])-1,0)","v":0},null,null,""]
["G. Ocasionales","Premios obtenidos en juegos de suerte y azar ","Apuestas ",{"$f":"IF(Bloques[[#This Row],[Segmento]]=Parametros[Segmento],COUNTIFS(OFFSET(Ref_Segmento,Parametros[Fila]-1,0,Parametros[Alto]),Bloques[[#This Row],[Segmento]],OFFSET(Ref_Conteo,Parametros[Fila]-1,0,Parametros[Alto]),Bloques[[#This Row],[Bloque]],OFFSET(Ref_Conteo,Parametros[Fila]-1,-1,Parametros[Alto]),Bloques[[#This Row],[Grupo]])-1,0)","v":0},null,null,""]
["G. Ocasionales","Premios obtenidos en juegos de suerte y azar ","Otros juegos de suerte y azar ",{"$f":"IF(Bloques[[#This Row],[Segmento]]=Parametros[Segmento],COUNTIFS(OFFSET(Ref_Segmento,Parametros[Fila]-1,0,Parametros[Alto]),Bloques[[#This Row],[Segmento]],OFFSET(Ref_Conteo,Parametros[Fila]-1,0,Parametros[Alto]),Bloques[[#This Row],[Bloque]],OFFSET(Ref_Conteo,Parametros[Fila]-1,-1,Parametros[Alto]),Bloques[[#This Row],[Grupo]])-1,0)","v":0},null,null,""]
["G. Ocasionales","Otras ganancias ocasionales ","Recompensas ",{"$f":"IF(Bloques[[#This Row],[Segmento]]=Parametros[Segmento],COUNTIFS(OFFSET(Ref_Segmento,Parametros[Fila]-1,0,Parametros[Alto]),Bloques[[#This Row],[Segmento]],OFFSET(Ref_Conteo,Parametros[Fila]-1,0,Parametros[Alto]),Bloques[[#This Row],[Bloque]],OFFSET(Ref_Conteo,Parametros[Fila]-1,-1,Parametros[Alto]),Bloques[[#This Row],[Grupo]])-1,0)","v":0},null,null,""]
["G. Ocasionales","Otras ganancias ocasionales ","Utilidad en liquidación de sociedades",{"$f":"IF(Bloques[[#This Row],[Segmento]]=Parametros[Segmento],COUNTIFS(OFFSET(Ref_Segmento,Parametros[Fila]-1,0,Parametros[Alto]),Bloques[[#This Row],[Segmento]],OFFSET(Ref_Conteo,Parametros[Fila]-1,0,Parametros[Alto]),Bloques[[#This Row],[Bloque]],OFFSET(Ref_Conteo,Parametros[Fila]-1,-1,Parametros[Alto]),Bloques[[#This Row],[Grupo]])-1,0)","v":0},null,null,""]
["G. Ocasionales","Otras ganancias ocasionales ","Premios en títulos de capitalización",{"$f":"IF(Bloques[[#This Row],[Segmento]]=Parametros[Segmento],COUNTIFS(OFFSET(Ref_Segmento,Parametros[Fila]-1,0,Parametros[Alto]),Bloques[[#This Row],[Segmento]],OFFSET(Ref_Conteo,Parametros[Fila]-1,0,Parametros[Alto]),Bloques[[#This Row],[Bloque]],OFFSET(Ref_Conteo,Parametros[Fila]-1,-1,Parametros[Alto]),Bloques[[#This Row],[Grupo]])-1,0)","v":0},null,null,""]
["G. Ocasionales","Otras ganancias ocasionales ","Otras ganancias ocasionales no mencionadas anteriormente ",{"$f":"IF(Bloques[[#This Row],[Segmento]]=Parametros[Segmento],COUNTIFS(OFFSET(Ref_Segmento,Parametros[Fila]-1,0,Parametros[Alto]),Bloques[[#This Row],[Segmento]],OFFSET(Ref_Conteo,Parametros[Fila]-1,0,Parametros[Alto]),Bloques[[#This Row],[Bloque]],OFFSET(Ref_Conteo,Parametros[Fila]-1,-1,Parametros[Alto]),Bloques[[#This Row],[Grupo]])-1,0)","v":0},null,null,""]
["G. Ocasionales","Ingresos no constitutivos de ganancia ocasional","Recompensas ",{"$f":"IF(Bloques[[#This Row],[Segmento]]=Parametros[Segmento],COUNTIFS(OFFSET(Ref_Segmento,Parametros[Fila]-1,0,Parametros[Alto]),Bloques[[#This Row],[Segmento]],OFFSET(Ref_Conteo,Parametros[Fila]-1,0,Parametros[Alto]),Bloques[[#This Row],[Bloque]],OFFSET(Ref_Conteo,Parametros[Fila]-1,-1,Parametros[Alto]),Bloques[[#This Row],[Grupo]])-1,0)","v":0},null,null,""]
["G. Ocasionales","Ingresos no constitutivos de ganancia ocasional","Utilidad en venta de acciones inscritas en BVC, cuando no superen el 10% de las acciones en circulación de la sociedad",{"$f":"IF(Bloques[[#This Row],[Segmento]]=Parametros[Segmento],COUNTIFS(OFFSET(Ref_Segmento,Parametros[Fila]-1,0,Parametros[Alto]),Bloques[[#This Row],[Segmento]],OFFSET(Ref_Conteo,Parametros[Fila]-1,0,Parametros[Alto]),Bloques[[#This Row],[Bloque]],OFFSET(Ref_Conteo,Parametros[Fila]-1,-1,Parametros[Alto]),Bloques[[#This Row],[Grupo]])-1,0)","v":0},null,null,""]
["G. Ocasionales","Ingresos no constitutivos de ganancia ocasional","Otros ingresos no constitutivos de ganancia ocasional",{"$f":"IF(Bloques[[#This Row],[Segmento]]=Parametros[Segmento],COUNTIFS(OFFSET(Ref_Segmento,Parametros[Fila]-1,0,Parametros[Alto]),Bloques[[#This Row],[Segmento]],OFFSET(Ref_Conteo,Parametros[Fila]-1,0,Parametros[Alto]),Bloques[[#This Row],[Bloque]],OFFSET(Ref_Conteo,Parametros[Fila]-1,-1,Parametros[Alto]),Bloques[[#This Row],[Grupo]])-1,0)","v":0},null,null,""]
["G. Ocasionales","Ganancias ocasionales exentas ","Donaciones",{"$f":"IF(Bloques[[#This Row],[Segmento]]=Parametros[Segmento],COUNTIFS(OFFSET(Ref_Segmento,Parametros[Fila]-1,0,Parametros[Alto]),Bloques[[#This Row],[Segmento]],OFFSET(Ref_Conteo,Parametros[Fila]-1,0,Parametros[Alto]),Bloques[[#This Row],[Bloque]],OFFSET(Ref_Conteo,Parametros[Fila]-1,-1,Parametros[Alto]),Bloques[[#This Row],[Grupo]])-1,0)","v":0},null,null,""]
["G. Ocasionales","Ganancias ocasionales exentas ","Otras ganancias ocasionales exentas ",{"$f":"IF(Bloques[[#This Row],[Segmento]]=Parametros[Segmento],COUNTIFS(OFFSET(Ref_Segmento,Parametros[Fila]-1,0,Parametros[Alto]),Bloques[[#This Row],[Segmento]],OFFSET(Ref_Conteo,Parametros[Fila]-1,0,Parametros[Alto]),Bloques[[#This Row],[Bloque]],OFFSET(Ref_Conteo,Parametros[Fila]-1,-1,Parametros[Alto]),Bloques[[#This Row],[Grupo]])-1,0)","v":0},null,null,""]
["Costos","Materias primas, reventa de bienes terminados y servicios ","Costo de ventas calculado por el sistema permanente ",{"$f":"IF(Bloques[[#This Row],[Segmento]]=Parametros[Segmento],COUNTIFS(OFFSET(Ref_Segmento,Parametros[Fila]-1,0,Parametros[Alto]),Bloques[[#This Row],[Segmento]],OFFSET(Ref_Conteo,Parametros[Fila]-1,0,Parametros[Alto]),Bloques[[#This Row],[Bloque]],OFFSET(Ref_Conteo,Parametros[Fila]-1,-1,Parametros[Alto]),Bloques[[#This Row],[Grupo]])-1,0)","v":0},null,null,""]
["Costos","Materias primas, reventa de bienes terminados y servicios ","Materias primas (para procesos de producción) - Inventario Inicial",{"$f":"IF(Bloques[[#This Row],[Segmento]]=Parametros[Segmento],COUNTIFS(OFFSET(Ref_Segmento,Parametros[Fila]-1,0,Parametros[Alto]),Bloques[[#This Row],[Segmento]],OFFSET(Ref_Conteo,Parametros[Fila]-1,0,Parametros[Alto]),Bloques[[#This Row],[Bloque]],OFFSET(Ref_Conteo,Parametros[Fila]-1,-1,Parametros[Alto]),Bloques[[#This Row],[Grupo]])-1,0)","v":0},null,null,""]
["Costos","Materias primas, reventa de bienes terminados y servicios ","Materias primas (para procesos de producción) - Compras locales",{"$f":"IF(Bloques[[#This Row],[Segmento]]=Parametros[Segmento],COUNTIFS(OFFSET(Ref_Segmento,Parametros[Fila]-1,0,Parametros[Alto]),Bloques[[#This Row],[Segmento]],OFFSET(Ref_Conteo,Parametros[Fila]-1,0,Parametros[Alto]),Bloques[[#This Row],[Bloque]],OFFSET(Ref_Conteo,Parametros[Fila]-1,-1,Parametros[Alto]),Bloques[[#This Row],[Grupo]])-1,0)","v":0},null,null,""]
["Costos","Materias primas, reventa de bienes terminados y servicios ","Materias primas (para procesos de producción) - Importaciones",{"$f":"IF(Bloques[[#This Row],[Segmento]]=Parametros[Segmento],COUNTIFS(OFFSET(Ref_Segmento,Parametros[Fila]-1,0,Parametros[Alto]),Bloques[[#This Row],[Segmento]],OFFSET(Ref_Conteo,Parametros[Fila]-1,0,Parametros[Alto]),Bloques[[#This Row],[Bloque]],OFFSET(Ref_Conteo,Parametros[Fila]-1,-1,Parametros[Alto]),Bloques[[#This Row],[Grupo]])-1,0)","v":0},null,null,""]
["Costos","Materias primas, reventa de bienes terminados y servicios ","Materias primas (para procesos de producción) - Inventario final",{"$f":"IF(Bloques[[#This Row],[Segmento]]=Parametros[Segmento],COUNTIFS(OFFSET(Ref_Segmento,Parametros[Fila]-1,0,Parametros[Alto]),Bloques[[#This Row],[Segmento]],OFFSET(Ref_Conteo,Parametros[Fila]-1,0,Parametros[Alto]),Bloques[[#This Row],[Bloque]],OFFSET(Ref_Conteo,Parametros[Fila]-1,-1,Parametros[Alto]),Bloques[[#This Row],[Grupo]])-1,0)","v":0},null,null,""]
["Costos","Materias primas, reventa de bienes terminados y servicios ","Costo de los bienes vendidos (para comerciantes por reventa de bienes terminados) - Inventario Inicial",{"$f":"IF(Bloques[[#This Row],[Segmento]]=Parametros[Segmento],COUNTIFS(OFFSET(Ref_Segmento,Parametros[Fila]-1,0,Parametros[Alto]),Bloques[[#This Row],[Segmento]],OFFSET(Ref_Conteo,Parametros[Fila]-1,0,Parametros[Alto]),Bloques[[#This Row],[Bloque]],OFFSET(Ref_Conteo,Parametros[Fila]-1,-1,Parametros[Alto]),Bloques[[#This Row],[Grupo]])-1,0)","v":0},null,null,""]
["Costos","Materias primas, reventa de bienes terminados y servicios ","Costo de los bienes vendidos (para comerciantes por reventa de bienes terminados) - Compras locales",{"$f":"IF(Bloques[[#This Row],[Segmento]]=Parametros[Segmento],COUNTIFS(OFFSET(Ref_Segmento,Parametros[Fila]-1,0,Parametros[Alto]),Bloques[[#This Row],[Segmento]],OFFSET(Ref_Conteo,Parametros[Fila]-1,0,Parametros[Alto]),Bloques[[#This Row],[Bloque]],OFFSET(Ref_Conteo,Parametros[Fila]-1,-1,Parametros[Alto]),Bloques[[#This Row],[Grupo]])-1,0)","v":0},null,null,""]
["Costos","Materias primas, reventa de bienes terminados y servicios ","Costo de los bienes vendidos (para comerciantes por reventa de bienes terminados) -  Importaciones",{"$f":"IF(Bloques[[#This Row],[Segmento]]=Parametros[Segmento],COUNTIFS(OFFSET(Ref_Segmento,Parametros[Fila]-1,0,Parametros[Alto]),Bloques[[#This Row],[Segmento]],OFFSET(Ref_Conteo,Parametros[Fila]-1,0,Parametros[Alto]),Bloques[[#This Row],[Bloque]],OFFSET(Ref_Conteo,Parametros[Fila]-1,-1,Parametros[Alto]),Bloques[[#This Row],[Grupo]])-1,0)","v":0},null,null,""]
["Costos","Materias primas, reventa de bienes terminados y servicios ","Costo de los bienes vendidos (para comerciantes por reventa de bienes terminados) -  Iinventario final",{"$f":"IF(Bloques[[#This Row],[Segmento]]=Parametros[Segmento],COUNTIFS(OFFSET(Ref_Segmento,Parametros[Fila]-1,0,Parametros[Alto]),Bloques[[#This Row],[Segmento]],OFFSET(Ref_Conteo,Parametros[Fila]-1,0,Parametros[Alto]),Bloques[[#This Row],[Bloque]],OFFSET(Ref_Conteo,Parametros[Fila]-1,-1,Parametros[Alto]),Bloques[[#This Row],[Grupo]])-1,0)","v":0},null,null,""]
["Costos","Materias primas, reventa de bienes terminados y servicios ","Productos en proceso - Inventario inicial ",{"$f":"IF(Bloques[[#This Row],[Segmento]]=Parametros[Segmento],COUNTIFS(OFFSET(Ref_Segmento,Parametros[Fila]-1,0,Parametros[Alto]),Bloques[[#This Row],[Segmento]],OFFSET(Ref_Conteo,Parametros[Fila]-1,0,Parametros[Alto]),Bloques[[#This Row],[Bloque]],OFFSET(Ref_Conteo,Parametros[Fila]-1,-1,Parametros[Alto]),Bloques[[#This Row],[Grupo]])-1,0)","v":0},null,null,""]
["Costos","Materias primas, reventa de bienes terminados y servicios ","Productos en proceso - Inventario final ",{"$f":"IF(Bloques[[#This Row],[Segmento]]=Parametros[Segmento],COUNTIFS(OFFSET(Ref_Segmento,Parametros[Fila]-1,0,Parametros[Alto]),Bloques[[#This Row],[Segmento]],OFFSET(Ref_Conteo,Parametros[Fila]-1,0,Parametros[Alto]),Bloques[[#This Row],[Bloque]],OFFSET(Ref_Conteo,Parametros[Fila]-1,-1,Parametros[Alto]),Bloques[[#This Row],[Grupo]])-1,0)","v":0},null,null,""]
["Costos","Materias primas, reventa de bienes terminados y servicios ","Producto terminado - Inventario inicial ",{"$f":"IF(Bloques[[#This Row],[Segmento]]=Parametros[Segmento],COUNTIFS(OFFSET(Ref_Segmento,Parametros[Fila]-1,0,Parametros[Alto]),Bloques[[#This Row],[Segmento]],OFFSET(Ref_Conteo,Parametros[Fila]-1,0,Parametros[Alto]),Bloques[[#This Row],[Bloque]],OFFSET(Ref_Conteo,Parametros[Fila]-1,-1,Parametros[Alto]),Bloques[[#This Row],[Grupo]])-1,0)","v":0},null,null,""]
["Costos","Materias primas, reventa de bienes terminados y servicios ","Producto terminado - Inventario final ",{"$f":"IF(Bloques[[#This Row],[Segmento]]=Parametros[Segmento],COUNTIFS(OFFSET(Ref_Segmento,Parametros[Fila]-1,0,Parametros[Alto]),Bloques[[#This Row],[Segmento]],OFFSET(Ref_Conteo,Parametros[Fila]-1,0,Parametros[Alto]),Bloques[[#This Row],[Bloque]],OFFSET(Ref_Conteo,Parametros[Fila]-1,-1,Parametros[Alto]),Bloques[[#This Row],[Grupo]])-1,0)","v":0},null,null,""]
["Costos","Materias primas, reventa de bienes terminados y servicios ","Costos en la prestación de servicios (para prestadores de servicios)",{"$f":"IF(Bloques[[#This Row],[Segmento]]=Parametros[Segmento],COUNTIFS(OFFSET(Ref_Segmento,Parametros[Fila]-1,0,Parametros[Alto]),Bloques[[#This Row],[Segmento]],OFFSET(Ref_Conteo,Parametros[Fila]-1,0,Parametros[Alto]),Bloques[[#This Row],[Bloque]],OFFSET(Ref_Conteo,Parametros[Fila]-1,-1,Parametros[Alto]),Bloques[[#This Row],[Grupo]])-1,0)","v":0},null,null,""]
["Costos","Materias primas, reventa de bienes terminados y servicios ","Otro sistema de determinación del costo de ventas ",{"$f":"IF(Bloques[[#This Row],[Segmento]]=Parametros[Segmento],COUNTIFS(OFFSET(Ref_Segmento,Parametros[Fila]-1,0,Parametros[Alto]),Bloques[[#This Row],[Segmento]],OFFSET(Ref_Conteo,Parametros[Fila]-1,0,Parametros[Alto]),Bloques[[#This Row],[Bloque]],OFFSET(Ref_Conteo,Parametros[Fila]-1,-1,Parametros[Alto]),Bloques[[#This Row],[Grupo]])-1,0)","v":0},null,null,""]
["Costos","Materias primas, reventa de bienes terminados y servicios ","Ajustes ",{"$f":"IF(Bloques[[#This Row],[Segmento]]=Parametros[Segmento],COUNTIFS(OFFSET(Ref_Segmento,Parametros[Fila]-1,0,Parametros[Alto]),Bloques[[#This Row],[Segmento]],OFFSET(Ref_Conteo,Parametros[Fila]-1,0,Parametros[Alto]),Bloques[[#This Row],[Bloque]],OFFSET(Ref_Conteo,Parametros[Fila]-1,-1,Parametros[Alto]),Bloques[[#This Row],[Grupo]])-1,0)","v":0},null,null,""]
["Costos","Mano de Obra","Beneficios a empleados - De corto plazo ",{"$f":"IF(Bloques[[#This Row],[Segmento]]=Parametros[Segmento],COUNTIFS(OFFSET(Ref_Segmento,Parametros[Fila]-1,0,Parametros[Alto]),Bloques[[#This Row],[Segmento]],OFFSET(Ref_Conteo,Parametros[Fila]-1,0,Parametros[Alto]),Bloques[[#This Row],[Bloque]],OFFSET(Ref_Conteo,Parametros[Fila]-1,-1,Parametros[Alto]),Bloques[[#This Row],[Grupo]])-1,0)","v":0},null,null,""]
["Costos","Mano de Obra","Beneficios a empleados - De largo plazo ",{"$f":"IF(Bloques[[#This Row],[Segmento]]=Parametros[Segmento],COUNTIFS(OFFSET(Ref_Segmento,Parametros[Fila]-1,0,Parametros[Alto]),Bloques[[#This Row],[Segmento]],OFFSET(Ref_Conteo,Parametros[Fila]-1,0,Parametros[Alto]),Bloques[[#This Row],[Bloque]],OFFSET(Ref_Conteo,Parametros[Fila]-1,-1,Parametros[Alto]),Bloques[[#This Row],[Grupo]])-1,0)","v":0},null,null,""]
["Costos","Mano de Obra","Beneficios a empleados - Por terminación del vínculo laboral",{"$f":"IF(Bloques[[#This Row],[Segmento]]=Parametros[Segmento],COUNTIFS(OFFSET(Ref_Segmento,Parametros[Fila]-1,0,Parametros[Alto]),Bloques[[#This Row],[Segmento]],OFFSET(Ref_Conteo,Parametros[Fila]-1,0,Parametros[Alto]),Bloques[[#This Row],[Bloque]],OFFSET(Ref_Conteo,Parametros[Fila]-1,-1,Parametros[Alto]),Bloques[[#This Row],[Grupo]])-1,0)","v":0},null,null,""]
["Costos","Mano de Obra","Beneficios a empleados - Post empleo ",{"$f":"IF(Bloques[[#This Row],[Segmento]]=Parametros[Segmento],COUNTIFS(OFFSET(Ref_Segmento,Parametros[Fila]-1,0,Parametros[Alto]),Bloques[[#This Row],[Segmento]],OFFSET(Ref_Conteo,Parametros[Fila]-1,0,Parametros[Alto]),Bloques[[#This Row],[Bloque]],OFFSET(Ref_Conteo,Parametros[Fila]-1,-1,Parametros[Alto]),Bloques[[#This Row],[Grupo]])-1,0)","v":0},null,null,""]
["Costos","Depreciaciones, amortizaciones y deterioros","Depreciación propiedades, planta y equipo - Del costo",{"$f":"IF(Bloques[[#This Row],[Segmento]]=Parametros[Segmento],COUNTIFS(OFFSET(Ref_Segmento,Parametros[Fila]-1,0,Parametros[Alto]),Bloques[[#This Row],[Segmento]],OFFSET(Ref_Conteo,Parametros[Fila]-1,0,Parametros[Alto]),Bloques[[#This Row],[Bloque]],OFFSET(Ref_Conteo,Parametros[Fila]-1,-1,Parametros[Alto]),Bloques[[#This Row],[Grupo]])-1,0)","v":0},null,null,""]
["Costos","Depreciaciones, amortizaciones y deterioros","Depreciación propiedades, planta y equipo - Del  ajuste acumulado por revaluaciones o reexpresiones ",{"$f":"IF(Bloques[[#This Row],[Segmento]]=Parametros[Segmento],COUNTIFS(OFFSET(Ref_Segmento,Parametros[Fila]-1,0,Parametros[Alto]),Bloques[[#This Row],[Segmento]],OFFSET(Ref_Conteo,Parametros[Fila]-1,0,Parametros[Alto]),Bloques[[#This Row],[Bloque]],OFFSET(Ref_Conteo,Parametros[Fila]-1,-1,Parametros[Alto]),Bloques[[#This Row],[Grupo]])-1,0)","v":0},null,null,""]
["Costos","Depreciaciones, amortizaciones y deterioros","Depreciación propiedades de inversión - Del costo",{"$f":"IF(Bloques[[#This Row],[Segmento]]=Parametros[Segmento],COUNTIFS(OFFSET(Ref_Segmento,Parametros[Fila]-1,0,Parametros[Alto]),Bloques[[#This Row],[Segmento]],OFFSET(Ref_Conteo,Parametros[Fila]-1,0,Parametros[Alto]),Bloques[[#This Row],[Bloque]],OFFSET(Ref_Conteo,Parametros[Fila]-1,-1,Parametros[Alto]),Bloques[[#This Row],[Grupo]])-1,0)","v":0},null,null,""]
["Costos","Depreciaciones, amortizaciones y deterioros","Depreciación propiedades de inversión - Del  ajuste acumulado por revaluaciones o reexpresiones ",{"$f":"IF(Bloques[[#This Row],[Segmento]]=Parametros[Segmento],COUNTIFS(OFFSET(Ref_Segmento,Parametros[Fila]-1,0,Parametros[Alto]),Bloques[[#This Row],[Segmento]],OFFSET(Ref_Conteo,Parametros[Fila]-1,0,Parametros[Alto]),Bloques[[#This Row],[Bloque]],OFFSET(Ref_Conteo,Parametros[Fila]-1,-1,Parametros[Alto]),Bloques[[#This Row],[Grupo]])-1,0)","v":0},null,null,""]
["Costos","Depreciaciones, amortizaciones y deterioros","Depreciación activos biológicos - Del  costo",{"$f":"IF(Bloques[[#This Row],[Segmento]]=Parametros[Segmento],COUNTIFS(OFFSET(Ref_Segmento,Parametros[Fila]-1,0,Parametros[Alto]),Bloques[[#This Row],[Segmento]],OFFSET(Ref_Conteo,Parametros[Fila]-1,0,Parametros[Alto]),Bloques[[#This Row],[Bloque]],OFFSET(Ref_Conteo,Parametros[Fila]-1,-1,Parametros[Alto]),Bloques[[#This Row],[Grupo]])-1,0)","v":0},null,null,""]
["Costos","Depreciaciones, amortizaciones y deterioros","Depreciación activos biológicos - Del ajuste acumulado por revaluaciones o reexpresiones ",{"$f":"IF(Bloques[[#This Row],[Segmento]]=Parametros[Segmento],COUNTIFS(OFFSET(Ref_Segmento,Parametros[Fila]-1,0,Parametros[Alto]),Bloques[[#This Row],[Segmento]],OFFSET(Ref_Conteo,Parametros[Fila]-1,0,Parametros[Alto]),Bloques[[#This Row],[Bloque]],OFFSET(Ref_Conteo,Parametros[Fila]-1,-1,Parametros[Alto]),Bloques[[#This Row],[Grupo]])-1,0)","v":0},null,null,""]
["Costos","Depreciaciones, amortizaciones y deterioros","Amortización activos intangibles - Del costo",{"$f":"IF(Bloques[[#This Row],[Segmento]]=Parametros[Segmento],COUNTIFS(OFFSET(Ref_Segmento,Parametros[Fila]-1,0,Parametros[Alto]),Bloques[[#This Row],[Segmento]],OFFSET(Ref_Conteo,Parametros[Fila]-1,0,Parametros[Alto]),Bloques[[#This Row],[Bloque]],OFFSET(Ref_Conteo,Parametros[Fila]-1,-1,Parametros[Alto]),Bloques[[#This Row],[Grupo]])-1,0)","v":0},null,null,""]
["Costos","Depreciaciones, amortizaciones y deterioros","Amortización activos intangibles - Del ajuste acumulado por revaluaciones o reexpresiones ",{"$f":"IF(Bloques[[#This Row],[Segmento]]=Parametros[Segmento],COUNTIFS(OFFSET(Ref_Segmento,Parametros[Fila]-1,0,Parametros[Alto]),Bloques[[#This Row],[Segmento]],OFFSET(Ref_Conteo,Parametros[Fila]-1,0,Parametros[Alto]),Bloques[[#This Row],[Bloque]],OFFSET(Ref_Conteo,Parametros[Fila]-1,-1,Parametros[Alto]),Bloques[[#This Row],[Grupo]])-1,0)","v":0},null,null,""]
["Costos","Depreciaciones, amortizaciones y deterioros","Depreciación derechos de uso en arrendamientos operativo (NIIF 16)",{"$f":"IF(Bloques[[#This Row],[Segmento]]=Parametros[Segmento],COUNTIFS(OFFSET(Ref_Segmento,Parametros[Fila]-1,0,Parametros[Alto]),Bloques[[#This Row],[Segmento]],OFFSET(Ref_Conteo,Parametros[Fila]-1,0,Parametros[Alto]),Bloques[[#This Row],[Bloque]],OFFSET(Ref_Conteo,Parametros[Fila]-1,-1,Parametros[Alto]),Bloques[[#This Row],[Grupo]])-1,0)","v":0},null,null,""]
["Costos","Depreciaciones, amortizaciones y deterioros","Otras depreciaciones y amortizaciones - Del costo ",{"$f":"IF(Bloques[[#This Row],[Segmento]]=Parametros[Segmento],COUNTIFS(OFFSET(Ref_Segmento,Parametros[Fila]-1,0,Parametros[Alto]),Bloques[[#This Row],[Segmento]],OFFSET(Ref_Conteo,Parametros[Fila]-1,0,Parametros[Alto]),Bloques[[#This Row],[Bloque]],OFFSET(Ref_Conteo,Parametros[Fila]-1,-1,Parametros[Alto]),Bloques[[#This Row],[Grupo]])-1,0)","v":0},null,null,""]
["Costos","Depreciaciones, amortizaciones y deterioros","Otras depreciaciones y amortizaciones - Del ajuste acumulado por revaluaciones o reexpresiones ",{"$f":"IF(Bloques[[#This Row],[Segmento]]=Parametros[Segmento],COUNTIFS(OFFSET(Ref_Segmento,Parametros[Fila]-1,0,Parametros[Alto]),Bloques[[#This Row],[Segmento]],OFFSET(Ref_Conteo,Parametros[Fila]-1,0,Parametros[Alto]),Bloques[[#This Row],[Bloque]],OFFSET(Ref_Conteo,Parametros[Fila]-1,-1,Parametros[Alto]),Bloques[[#This Row],[Grupo]])-1,0)","v":0},null,null,""]
["Costos","Depreciaciones, amortizaciones y deterioros","Deterioro del valor de los activos - Inventarios ",{"$f":"IF(Bloques[[#This Row],[Segmento]]=Parametros[Segmento],COUNTIFS(OFFSET(Ref_Segmento,Parametros[Fila]-1,0,Parametros[Alto]),Bloques[[#This Row],[Segmento]],OFFSET(Ref_Conteo,Parametros[Fila]-1,0,Parametros[Alto]),Bloques[[#This Row],[Bloque]],OFFSET(Ref_Conteo,Parametros[Fila]-1,-1,Parametros[Alto]),Bloques[[#This Row],[Grupo]])-1,0)","v":0},null,null,""]
["Costos","Depreciaciones, amortizaciones y deterioros","Deterioro del valor de los activos - Propiedades, planta y equipo ",{"$f":"IF(Bloques[[#This Row],[Segmento]]=Parametros[Segmento],COUNTIFS(OFFSET(Ref_Segmento,Parametros[Fila]-1,0,Parametros[Alto]),Bloques[[#This Row],[Segmento]],OFFSET(Ref_Conteo,Parametros[Fila]-1,0,Parametros[Alto]),Bloques[[#This Row],[Bloque]],OFFSET(Ref_Conteo,Parametros[Fila]-1,-1,Parametros[Alto]),Bloques[[#This Row],[Grupo]])-1,0)","v":0},null,null,""]
["Costos","Depreciaciones, amortizaciones y deterioros","Deterioro del valor de los activos - Activos intangibles",{"$f":"IF(Bloques[[#This Row],[Segmento]]=Parametros[Segmento],COUNTIFS(OFFSET(Ref_Segmento,Parametros[Fila]-1,0,Parametros[Alto]),Bloques[[#This Row],[Segmento]],OFFSET(Ref_Conteo,Parametros[Fila]-1,0,Parametros[Alto]),Bloques[[#This Row],[Bloque]],OFFSET(Ref_Conteo,Parametros[Fila]-1,-1,Parametros[Alto]),Bloques[[#This Row],[Grupo]])-1,0)","v":0},null,null,""]
["Costos","Depreciaciones, amortizaciones y deterioros","Deterioro del valor de los activos - Activos de exploración y evaluación de recursos minerales ",{"$f":"IF(Bloques[[#This Row],[Segmento]]=Parametros[Segmento],COUNTIFS(OFFSET(Ref_Segmento,Parametros[Fila]-1,0,Parametros[Alto]),Bloques[[#This Row],[Segmento]],OFFSET(Ref_Conteo,Parametros[Fila]-1,0,Parametros[Alto]),Bloques[[#This Row],[Bloque]],OFFSET(Ref_Conteo,Parametros[Fila]-1,-1,Parametros[Alto]),Bloques[[#This Row],[Grupo]])-1,0)","v":0},null,null,""]
["Costos","Depreciaciones, amortizaciones y deterioros","Deterioro del valor de los activos - Propiedades de inversión medidas al modelo de costo ",{"$f":"IF(Bloques[[#This Row],[Segmento]]=Parametros[Segmento],COUNTIFS(OFFSET(Ref_Segmento,Parametros[Fila]-1,0,Parametros[Alto]),Bloques[[#This Row],[Segmento]],OFFSET(Ref_Conteo,Parametros[Fila]-1,0,Parametros[Alto]),Bloques[[#This Row],[Bloque]],OFFSET(Ref_Conteo,Parametros[Fila]-1,-1,Parametros[Alto]),Bloques[[#This Row],[Grupo]])-1,0)","v":0},null,null,""]
["Costos","Depreciaciones, amortizaciones y deterioros","Deterioro del valor de los activos -  Activos no corrientes mantenidos para la venta / Distribuir a los propietarios ",{"$f":"IF(Bloques[[#This Row],[Segmento]]=Parametros[Segmento],COUNTIFS(OFFSET(Ref_Segmento,Parametros[Fila]-1,0,Parametros[Alto]),Bloques[[#This Row],[Segmento]],OFFSET(Ref_Conteo,Parametros[Fila]-1,0,Parametros[Alto]),Bloques[[#This Row],[Bloque]],OFFSET(Ref_Conteo,Parametros[Fila]-1,-1,Parametros[Alto]),Bloques[[#This Row],[Grupo]])-1,0)","v":0},null,null,""]
["Costos","Depreciaciones, amortizaciones y deterioros","Deterioro del valor de los activos -  Activos biológicos medidos al modelo del costo ",{"$f":"IF(Bloques[[#This Row],[Segmento]]=Parametros[Segmento],COUNTIFS(OFFSET(Ref_Segmento,Parametros[Fila]-1,0,Parametros[Alto]),Bloques[[#This Row],[Segmento]],OFFSET(Ref_Conteo,Parametros[Fila]-1,0,Parametros[Alto]),Bloques[[#This Row],[Bloque]],OFFSET(Ref_Conteo,Parametros[Fila]-1,-1,Parametros[Alto]),Bloques[[#This Row],[Grupo]])-1,0)","v":0},null,null,""]
["Costos","Depreciaciones, amortizaciones y deterioros","Deterioro del valor de los activos -  Bienes de arte y cultura medido al modelo de costo ",{"$f":"IF(Bloques[[#This Row],[Segmento]]=Parametros[Segmento],COUNTIFS(OFFSET(Ref_Segmento,Parametros[Fila]-1,0,Parametros[Alto]),Bloques[[#This Row],[Segmento]],OFFSET(Ref_Conteo,Parametros[Fila]-1,0,Parametros[Alto]),Bloques[[#This Row],[Bloque]],OFFSET(Ref_Conteo,Parametros[Fila]-1,-1,Parametros[Alto]),Bloques[[#This Row],[Grupo]])-1,0)","v":0},null,null,""]
["Costos","Depreciaciones, amortizaciones y deterioros","Deterioro del valor de los activos -  Activos financieros (diferentes a cartera de crédito y operaciones de leasing)",{"$f":"IF(Bloques[[#This Row],[Segmento]]=Parametros[Segmento],COUNTIFS(OFFSET(Ref_Segmento,Parametros[Fila]-1,0,Parametros[Alto]),Bloques[[#This Row],[Segmento]],OFFSET(Ref_Conteo,Parametros[Fila]-1,0,Parametros[Alto]),Bloques[[#This Row],[Bloque]],OFFSET(Ref_Conteo,Parametros[Fila]-1,-1,Parametros[Alto]),Bloques[[#This Row],[Grupo]])-1,0)","v":0},null,null,""]
["Costos","Depreciaciones, amortizaciones y deterioros","Deterioro del valor de los activos -  Cartera de crédito y operaciones de leasing ",{"$f":"IF(Bloques[[#This Row],[Segmento]]=Parametros[Segmento],COUNTIFS(OFFSET(Ref_Segmento,Parametros[Fila]-1,0,Parametros[Alto]),Bloques[[#This Row],[Segmento]],OFFSET(Ref_Conteo,Parametros[Fila]-1,0,Parametros[Alto]),Bloques[[#This Row],[Bloque]],OFFSET(Ref_Conteo,Parametros[Fila]-1,-1,Parametros[Alto]),Bloques[[#This Row],[Grupo]])-1,0)","v":0},null,null,""]
["Costos","Depreciaciones, amortizaciones y deterioros","Deterioro del valor de los activos -  Otras inversiones medidas al costo o por el métido de la participación ",{"$f":"IF(Bloques[[#This Row],[Segmento]]=Parametros[Segmento],COUNTIFS(OFFSET(Ref_Segmento,Parametros[Fila]-1,0,Parametros[Alto]),Bloques[[#This Row],[Segmento]],OFFSET(Ref_Conteo,Parametros[Fila]-1,0,Parametros[Alto]),Bloques[[#This Row],[Bloque]],OFFSET(Ref_Conteo,Parametros[Fila]-1,-1,Parametros[Alto]),Bloques[[#This Row],[Grupo]])-1,0)","v":0},null,null,""]
["Costos","Depreciaciones, amortizaciones y deterioros","Deterioro del valor de los activos -  Derechos de uso en arrendamientos operativos (NIIF 16)",{"$f":"IF(Bloques[[#This Row],[Segmento]]=Parametros[Segmento],COUNTIFS(OFFSET(Ref_Segmento,Parametros[Fila]-1,0,Parametros[Alto]),Bloques[[#This Row],[Segmento]],OFFSET(Ref_Conteo,Parametros[Fila]-1,0,Parametros[Alto]),Bloques[[#This Row],[Bloque]],OFFSET(Ref_Conteo,Parametros[Fila]-1,-1,Parametros[Alto]),Bloques[[#This Row],[Grupo]])-1,0)","v":0},null,null,""]
["Costos","Depreciaciones, amortizaciones y deterioros","Otros deterioros",{"$f":"IF(Bloques[[#This Row],[Segmento]]=Parametros[Segmento],COUNTIFS(OFFSET(Ref_Segmento,Parametros[Fila]-1,0,Parametros[Alto]),Bloques[[#This Row],[Segmento]],OFFSET(Ref_Conteo,Parametros[Fila]-1,0,Parametros[Alto]),Bloques[[#This Row],[Bloque]],OFFSET(Ref_Conteo,Parametros[Fila]-1,-1,Parametros[Alto]),Bloques[[#This Row],[Grupo]])-1,0)","v":0},null,null,""]
["Costos","Otros costos ","Arrendamientos",{"$f":"IF(Bloques[[#This Row],[Segmento]]=Parametros[Segmento],COUNTIFS(OFFSET(Ref_Segmento,Parametros[Fila]-1,0,Parametros[Alto]),Bloques[[#This Row],[Segmento]],OFFSET(Ref_Conteo,Parametros[Fila]-1,0,Parametros[Alto]),Bloques[[#This Row],[Bloque]],OFFSET(Ref_Conteo,Parametros[Fila]-1,-1,Parametros[Alto]),Bloques[[#This Row],[Grupo]])-1,0)","v":0},null,null,""]
["Costos","Otros costos ","Seguros ",{"$f":"IF(Bloques[[#This Row],[Segmento]]=Parametros[Segmento],COUNTIFS(OFFSET(Ref_Segmento,Parametros[Fila]-1,0,Parametros[Alto]),Bloques[[#This Row],[Segmento]],OFFSET(Ref_Conteo,Parametros[Fila]-1,0,Parametros[Alto]),Bloques[[#This Row],[Bloque]],OFFSET(Ref_Conteo,Parametros[Fila]-1,-1,Parametros[Alto]),Bloques[[#This Row],[Grupo]])-1,0)","v":0},null,null,""]
["Costos","Otros costos ","Servicios ",{"$f":"IF(Bloques[[#This Row],[Segmento]]=Parametros[Segmento],COUNTIFS(OFFSET(Ref_Segmento,Parametros[Fila]-1,0,Parametros[Alto]),Bloques[[#This Row],[Segmento]],OFFSET(Ref_Conteo,Parametros[Fila]-1,0,Parametros[Alto]),Bloques[[#This Row],[Bloque]],OFFSET(Ref_Conteo,Parametros[Fila]-1,-1,Parametros[Alto]),Bloques[[#This Row],[Grupo]])-1,0)","v":0},null,null,""]
["Costos","Otros costos ","Honorarios ",{"$f":"IF(Bloques[[#This Row],[Segmento]]=Parametros[Segmento],COUNTIFS(OFFSET(Ref_Segmento,Parametros[Fila]-1,0,Parametros[Alto]),Bloques[[#This Row],[Segmento]],OFFSET(Ref_Conteo,Parametros[Fila]-1,0,Parametros[Alto]),Bloques[[#This Row],[Bloque]],OFFSET(Ref_Conteo,Parametros[Fila]-1,-1,Parametros[Alto]),Bloques[[#This Row],[Grupo]])-1,0)","v":0},null,null,""]
["Costos","Otros costos ","Servicios técnicos - Vinculados económicos ",{"$f":"IF(Bloques[[#This Row],[Segmento]]=Parametros[Segmento],COUNTIFS(OFFSET(Ref_Segmento,Parametros[Fila]-1,0,Parametros[Alto]),Bloques[[#This Row],[Segmento]],OFFSET(Ref_Conteo,Parametros[Fila]-1,0,Parametros[Alto]),Bloques[[#This Row],[Bloque]],OFFSET(Ref_Conteo,Parametros[Fila]-1,-1,Parametros[Alto]),Bloques[[#This Row],[Grupo]])-1,0)","v":0},null,null,""]
["Costos","Otros costos ","Servicios técnicos - Jurisdicciones no cooperantes, de baja o nula imposición y regímenes tributarios preferenciales",{"$f":"IF(Bloques[[#This Row],[Segmento]]=Parametros[Segmento],COUNTIFS(OFFSET(Ref_Segmento,Parametros[Fila]-1,0,Parametros[Alto]),Bloques[[#This Row],[Segmento]],OFFSET(Ref_Conteo,Parametros[Fila]-1,0,Parametros[Alto]),Bloques[[#This Row],[Bloque]],OFFSET(Ref_Conteo,Parametros[Fila]-1,-1,Parametros[Alto]),Bloques[[#This Row],[Grupo]])-1,0)","v":0},null,null,""]
["Costos","Otros costos ","Servicios técnicos - No vinculados ",{"$f":"IF(Bloques[[#This Row],[Segmento]]=Parametros[Segmento],COUNTIFS(OFFSET(Ref_Segmento,Parametros[Fila]-1,0,Parametros[Alto]),Bloques[[#This Row],[Segmento]],OFFSET(Ref_Conteo,Parametros[Fila]-1,0,Parametros[Alto]),Bloques[[#This Row],[Bloque]],OFFSET(Ref_Conteo,Parametros[Fila]-1,-1,Parametros[Alto]),Bloques[[#This Row],[Grupo]])-1,0)","v":0},null,null,""]
["Costos","Otros costos ","Asistencia técnica - Vinculados económicos ",{"$f":"IF(Bloques[[#This Row],[Segmento]]=Parametros[Segmento],COUNTIFS(OFFSET(Ref_Segmento,Parametros[Fila]-1,0,Parametros[Alto]),Bloques[[#This Row],[Segmento]],OFFSET(Ref_Conteo,Parametros[Fila]-1,0,Parametros[Alto]),Bloques[[#This Row],[Bloque]],OFFSET(Ref_Conteo,Parametros[Fila]-1,-1,Parametros[Alto]),Bloques[[#This Row],[Grupo]])-1,0)","v":0},null,null,""]
["Costos","Otros costos ","Asistencia técnica - Jurisdicciones no cooperantes, de baja o nula imposición y regímenes tributarios preferenciales",{"$f":"IF(Bloques[[#This Row],[Segmento]]=Parametros[Segmento],COUNTIFS(OFFSET(Ref_Segmento,Parametros[Fila]-1,0,Parametros[Alto]),Bloques[[#This Row],[Segmento]],OFFSET(Ref_Conteo,Parametros[Fila]-1,0,Parametros[Alto]),Bloques[[#This Row],[Bloque]],OFFSET(Ref_Conteo,Parametros[Fila]-1,-1,Parametros[Alto]),Bloques[[#This Row],[Grupo]])-1,0)","v":0},null,null,""]
["Costos","Otros costos ","Asistencia técnica - No vinculados ",{"$f":"IF(Bloques[[#This Row],[Segmento]]=Parametros[Segmento],COUNTIFS(OFFSET(Ref_Segmento,Parametros[Fila]-1,0,Parametros[Alto]),Bloques[[#This Row],[Segmento]],OFFSET(Ref_Conteo,Parametros[Fila]-1,0,Parametros[Alto]),Bloques[[#This Row],[Bloque]],OFFSET(Ref_Conteo,Parametros[Fila]-1,-1,Parametros[Alto]),Bloques[[#This Row],[Grupo]])-1,0)","v":0},null,null,""]
["Costos","Otros costos ","Otros conceptos reconocidos como costo en el estado de resultados ",{"$f":"IF(Bloques[[#This Row],[Segmento]]=Parametros[Segmento],COUNTIFS(OFFSET(Ref_Segmento,Parametros[Fila]-1,0,Parametros[Alto]),Bloques[[#This Row],[Segmento]],OFFSET(Ref_Conteo,Parametros[Fila]-1,0,Parametros[Alto]),Bloques[[#This Row],[Bloque]],OFFSET(Ref_Conteo,Parametros[Fila]-1,-1,Parametros[Alto]),Bloques[[#This Row],[Grupo]])-1,0)","v":0},null,null,""]
["Costos","Otros costos ","Otros costos fiscales no reconocidos contablemente ",{"$f":"IF(Bloques[[#This Row],[Segmento]]=Parametros[Segmento],COUNTIFS(OFFSET(Ref_Segmento,Parametros[Fila]-1,0,Parametros[Alto]),Bloques[[#This Row],[Segmento]],OFFSET(Ref_Conteo,Parametros[Fila]-1,0,Parametros[Alto]),Bloques[[#This Row],[Bloque]],OFFSET(Ref_Conteo,Parametros[Fila]-1,-1,Parametros[Alto]),Bloques[[#This Row],[Grupo]])-1,0)","v":0},null,null,""]
["Costos","Otros costos ","Menor costo - Ajuste Precios de Transferencia",{"$f":"IF(Bloques[[#This Row],[Segmento]]=Parametros[Segmento],COUNTIFS(OFFSET(Ref_Segmento,Parametros[Fila]-1,0,Parametros[Alto]),Bloques[[#This Row],[Segmento]],OFFSET(Ref_Conteo,Parametros[Fila]-1,0,Parametros[Alto]),Bloques[[#This Row],[Bloque]],OFFSET(Ref_Conteo,Parametros[Fila]-1,-1,Parametros[Alto]),Bloques[[#This Row],[Grupo]])-1,0)","v":0},null,null,""]
["Costos","Costos por venta de activos poseídos por menos de dos años ","Costo de venta de activos considerados como propiedad, planta y equipo",{"$f":"IF(Bloques[[#This Row],[Segmento]]=Parametros[Segmento],COUNTIFS(OFFSET(Ref_Segmento,Parametros[Fila]-1,0,Parametros[Alto]),Bloques[[#This Row],[Segmento]],OFFSET(Ref_Conteo,Parametros[Fila]-1,0,Parametros[Alto]),Bloques[[#This Row],[Bloque]],OFFSET(Ref_Conteo,Parametros[Fila]-1,-1,Parametros[Alto]),Bloques[[#This Row],[Grupo]])-1,0)","v":0},null,null,""]
["Costos","Costos por venta de activos poseídos por menos de dos años ","Costo de venta de propiedades de inversión",{"$f":"IF(Bloques[[#This Row],[Segmento]]=Parametros[Segmento],COUNTIFS(OFFSET(Ref_Segmento,Parametros[Fila]-1,0,Parametros[Alto]),Bloques[[#This Row],[Segmento]],OFFSET(Ref_Conteo,Parametros[Fila]-1,0,Parametros[Alto]),Bloques[[#This Row],[Bloque]],OFFSET(Ref_Conteo,Parametros[Fila]-1,-1,Parametros[Alto]),Bloques[[#This Row],[Grupo]])-1,0)","v":0},null,null,""]
["Costos","Costos por venta de activos poseídos por menos de dos años ","Costo de venta de activos biológicos",{"$f":"IF(Bloques[[#This Row],[Segmento]]=Parametros[Segmento],COUNTIFS(OFFSET(Ref_Segmento,Parametros[Fila]-1,0,Parametros[Alto]),Bloques[[#This Row],[Segmento]],OFFSET(Ref_Conteo,Parametros[Fila]-1,0,Parametros[Alto]),Bloques[[#This Row],[Bloque]],OFFSET(Ref_Conteo,Parametros[Fila]-1,-1,Parametros[Alto]),Bloques[[#This Row],[Grupo]])-1,0)","v":0},null,null,""]
["Costos","Costos por venta de activos poseídos por menos de dos años ","Costo de venta de activos no corrientes mantenidos para la venta",{"$f":"IF(Bloques[[#This Row],[Segmento]]=Parametros[Segmento],COUNTIFS(OFFSET(Ref_Segmento,Parametros[Fila]-1,0,Parametros[Alto]),Bloques[[#This Row],[Segmento]],OFFSET(Ref_Conteo,Parametros[Fila]-1,0,Parametros[Alto]),Bloques[[#This Row],[Bloque]],OFFSET(Ref_Conteo,Parametros[Fila]-1,-1,Parametros[Alto]),Bloques[[#This Row],[Grupo]])-1,0)","v":0},null,null,""]
["Costos","Costos por venta de activos poseídos por menos de dos años ","Costo de venta de activos intangibles",{"$f":"IF(Bloques[[#This Row],[Segmento]]=Parametros[Segmento],COUNTIFS(OFFSET(Ref_Segmento,Parametros[Fila]-1,0,Parametros[Alto]),Bloques[[#This Row],[Segmento]],OFFSET(Ref_Conteo,Parametros[Fila]-1,0,Parametros[Alto]),Bloques[[#This Row],[Bloque]],OFFSET(Ref_Conteo,Parametros[Fila]-1,-1,Parametros[Alto]),Bloques[[#This Row],[Grupo]])-1,0)","v":0},null,null,""]
["Costos","Costos por venta de activos poseídos por menos de dos años ","Costo de venta de inversiones en acciones y otras participaciones",{"$f":"IF(Bloques[[#This Row],[Segmento]]=Parametros[Segmento],COUNTIFS(OFFSET(Ref_Segmento,Parametros[Fila]-1,0,Parametros[Alto]),Bloques[[#This Row],[Segmento]],OFFSET(Ref_Conteo,Parametros[Fila]-1,0,Parametros[Alto]),Bloques[[#This Row],[Bloque]],OFFSET(Ref_Conteo,Parametros[Fila]-1,-1,Parametros[Alto]),Bloques[[#This Row],[Grupo]])-1,0)","v":0},null,null,""]
["Costos","Costos por venta de activos poseídos por menos de dos años ","Costo de venta de otros instrumentos financieros",{"$f":"IF(Bloques[[#This Row],[Segmento]]=Parametros[Segmento],COUNTIFS(OFFSET(Ref_Segmento,Parametros[Fila]-1,0,Parametros[Alto]),Bloques[[#This Row],[Segmento]],OFFSET(Ref_Conteo,Parametros[Fila]-1,0,Parametros[Alto]),Bloques[[#This Row],[Bloque]],OFFSET(Ref_Conteo,Parametros[Fila]-1,-1,Parametros[Alto]),Bloques[[#This Row],[Grupo]])-1,0)","v":0},null,null,""]
["Costos","Costos por venta de activos poseídos por menos de dos años ","Costo de venta de otros activos",{"$f":"IF(Bloques[[#This Row],[Segmento]]=Parametros[Segmento],COUNTIFS(OFFSET(Ref_Segmento,Parametros[Fila]-1,0,Parametros[Alto]),Bloques[[#This Row],[Segmento]],OFFSET(Ref_Conteo,Parametros[Fila]-1,0,Parametros[Alto]),Bloques[[#This Row],[Bloque]],OFFSET(Ref_Conteo,Parametros[Fila]-1,-1,Parametros[Alto]),Bloques[[#This Row],[Grupo]])-1,0)","v":0},null,null,""]
["Costos","Costos y gastos informativos ","Costos y gastos de nómina ",{"$f":"IF(Bloques[[#This Row],[Segmento]]=Parametros[Segmento],COUNTIFS(OFFSET(Ref_Segmento,Parametros[Fila]-1,0,Parametros[Alto]),Bloques[[#This Row],[Segmento]],OFFSET(Ref_Conteo,Parametros[Fila]-1,0,Parametros[Alto]),Bloques[[#This Row],[Bloque]],OFFSET(Ref_Conteo,Parametros[Fila]-1,-1,Parametros[Alto]),Bloques[[#This Row],[Grupo]])-1,0)","v":0},null,null,""]
["Costos","Costos y gastos informativos ","Aportes al sistema de seguridad social ",{"$f":"IF(Bloques[[#This Row],[Segmento]]=Parametros[Segmento],COUNTIFS(OFFSET(Ref_Segmento,Parametros[Fila]-1,0,Parametros[Alto]),Bloques[[#This Row],[Segmento]],OFFSET(Ref_Conteo,Parametros[Fila]-1,0,Parametros[Alto]),Bloques[[#This Row],[Bloque]],OFFSET(Ref_Conteo,Parametros[Fila]-1,-1,Parametros[Alto]),Bloques[[#This Row],[Grupo]])-1,0)","v":0},null,null,""]
["Costos","Costos y gastos informativos ","Aportes al SENA, ICBF y caja de compensación",{"$f":"IF(Bloques[[#This Row],[Segmento]]=Parametros[Segmento],COUNTIFS(OFFSET(Ref_Segmento,Parametros[Fila]-1,0,Parametros[Alto]),Bloques[[#This Row],[Segmento]],OFFSET(Ref_Conteo,Parametros[Fila]-1,0,Parametros[Alto]),Bloques[[#This Row],[Bloque]],OFFSET(Ref_Conteo,Parametros[Fila]-1,-1,Parametros[Alto]),Bloques[[#This Row],[Grupo]])-1,0)","v":0},null,null,""]
["Gastos","De Administración - Mano de Obra","Beneficios a empleados - De corto plazo ",{"$f":"IF(Bloques[[#This Row],[Segmento]]=Parametros[Segmento],COUNTIFS(OFFSET(Ref_Segmento,Parametros[Fila]-1,0,Parametros[Alto]),Bloques[[#This Row],[Segmento]],OFFSET(Ref_Conteo,Parametros[Fila]-1,0,Parametros[Alto]),Bloques[[#This Row],[Bloque]],OFFSET(Ref_Conteo,Parametros[Fila]-1,-1,Parametros[Alto]),Bloques[[#This Row],[Grupo]])-1,0)","v":0},null,null,""]
["Gastos","De Administración - Mano de Obra","Beneficios a empleados - De largo plazo ",{"$f":"IF(Bloques[[#This Row],[Segmento]]=Parametros[Segmento],COUNTIFS(OFFSET(Ref_Segmento,Parametros[Fila]-1,0,Parametros[Alto]),Bloques[[#This Row],[Segmento]],OFFSET(Ref_Conteo,Parametros[Fila]-1,0,Parametros[Alto]),Bloques[[#This Row],[Bloque]],OFFSET(Ref_Conteo,Parametros[Fila]-1,-1,Parametros[Alto]),Bloques[[#This Row],[Grupo]])-1,0)","v":0},null,null,""]
["Gastos","De Administración - Mano de Obra","Beneficios a empleados - Por terminación del vínculo laboral",{"$f":"IF(Bloques[[#This Row],[Segmento]]=Parametros[Segmento],COUNTIFS(OFFSET(Ref_Segmento,Parametros[Fila]-1,0,Parametros[Alto]),Bloques[[#This Row],[Segmento]],OFFSET(Ref_Conteo,Parametros[Fila]-1,0,Parametros[Alto]),Bloques[[#This Row],[Bloque]],OFFSET(Ref_Conteo,Parametros[Fila]-1,-1,Parametros[Alto]),Bloques[[#This Row],[Grupo]])-1,0)","v":0},null,null,""]
["Gastos","De Administración - Mano de Obra","Beneficios a empleados - Post empleo ",{"$f":"IF(Bloques[[#This Row],[Segmento]]=Parametros[Segmento],COUNTIFS(OFFSET(Ref_Segmento,Parametros[Fila]-1,0,Parametros[Alto]),Bloques[[#This Row],[Segmento]],OFFSET(Ref_Conteo,Parametros[Fila]-1,0,Parametros[Alto]),Bloques[[#This Row],[Bloque]],OFFSET(Ref_Conteo,Parametros[Fila]-1,-1,Parametros[Alto]),Bloques[[#This Row],[Grupo]])-1,0)","v":0},null,null,""]
["Gastos","Otros gastos de administración","Impuestos distintos al impuesto de renta ",{"$f":"IF(Bloques[[#This Row],[Segmento]]=Parametros[Segmento],COUNTIFS(OFFSET(Ref_Segmento,Parametros[Fila]-1,0,Parametros[Alto]),Bloques[[#This Row],[Segmento]],OFFSET(Ref_Conteo,Parametros[Fila]-1,0,Parametros[Alto]),Bloques[[#This Row],[Bloque]],OFFSET(Ref_Conteo,Parametros[Fila]-1,-1,Parametros[Alto]),Bloques[[#This Row],[Grupo]])-1,0)","v":0},null,null,""]
["Gastos","Otros gastos de administración","Arrendamientos Operativos ",{"$f":"IF(Bloques[[#This Row],[Segmento]]=Parametros[Segmento],COUNTIFS(OFFSET(Ref_Segmento,Parametros[Fila]-1,0,Parametros[Alto]),Bloques[[#This Row],[Segmento]],OFFSET(Ref_Conteo,Parametros[Fila]-1,0,Parametros[Alto]),Bloques[[#This Row],[Bloque]],OFFSET(Ref_Conteo,Parametros[Fila]-1,-1,Parametros[Alto]),Bloques[[#This Row],[Grupo]])-1,0)","v":0},null,null,""]
["Gastos","Otros gastos de administración","Contribuciones y afiliaciones",{"$f":"IF(Bloques[[#This Row],[Segmento]]=Parametros[Segmento],COUNTIFS(OFFSET(Ref_Segmento,Parametros[Fila]-1,0,Parametros[Alto]),Bloques[[#This Row],[Segmento]],OFFSET(Ref_Conteo,Parametros[Fila]-1,0,Parametros[Alto]),Bloques[[#This Row],[Bloque]],OFFSET(Ref_Conteo,Parametros[Fila]-1,-1,Parametros[Alto]),Bloques[[#This Row],[Grupo]])-1,0)","v":0},null,null,""]
["Gastos","Otros gastos de administración","Honorarios ",{"$f":"IF(Bloques[[#This Row],[Segmento]]=Parametros[Segmento],COUNTIFS(OFFSET(Ref_Segmento,Parametros[Fila]-1,0,Parametros[Alto]),Bloques[[#This Row],[Segmento]],OFFSET(Ref_Conteo,Parametros[Fila]-1,0,Parametros[Alto]),Bloques[[#This Row],[Bloque]],OFFSET(Ref_Conteo,Parametros[Fila]-1,-1,Parametros[Alto]),Bloques[[#This Row],[Grupo]])-1,0)","v":0},null,null,""]
["Gastos","Otros gastos de administración","Seguros ",{"$f":"IF(Bloques[[#This Row],[Segmento]]=Parametros[Segmento],COUNTIFS(OFFSET(Ref_Segmento,Parametros[Fila]-1,0,Parametros[Alto]),Bloques[[#This Row],[Segmento]],OFFSET(Ref_Conteo,Parametros[Fila]-1,0,Parametros[Alto]),Bloques[[#This Row],[Bloque]],OFFSET(Ref_Conteo,Parametros[Fila]-1,-1,Parametros[Alto]),Bloques[[#This Row],[Grupo]])-1,0)","v":0},null,null,""]
["Gastos","Otros gastos de administración","Servicios administrativos - Vinculados económicos ",{"$f":"IF(Bloques[[#This Row],[Segmento]]=Parametros[Segmento],COUNTIFS(OFFSET(Ref_Segmento,Parametros[Fila]-1,0,Parametros[Alto]),Bloques[[#This Row],[Segmento]],OFFSET(Ref_Conteo,Parametros[Fila]-1,0,Parametros[Alto]),Bloques[[#This Row],[Bloque]],OFFSET(Ref_Conteo,Parametros[Fila]-1,-1,Parametros[Alto]),Bloques[[#This Row],[Grupo]])-1,0)","v":0},null,null,""]
["Gastos","Otros gastos de administración","Servicios administrativos - Jurisdicciones no cooperantes, de baja o nula imposición y regímenes tributarios preferenciales ",{"$f":"IF(Bloques[[#This Row],[Segmento]]=Parametros[Segmento],COUNTIFS(OFFSET(Ref_Segmento,Parametros[Fila]-1,0,Parametros[Alto]),Bloques[[#This Row],[Segmento]],OFFSET(Ref_Conteo,Parametros[Fila]-1,0,Parametros[Alto]),Bloques[[#This Row],[Bloque]],OFFSET(Ref_Conteo,Parametros[Fila]-1,-1,Parametros[Alto]),Bloques[[#This Row],[Grupo]])-1,0)","v":0},null,null,""]
["Gastos","Otros gastos de administración","Servicios administrativos - No vinculados ",{"$f":"IF(Bloques[[#This Row],[Segmento]]=Parametros[Segmento],COUNTIFS(OFFSET(Ref_Segmento,Parametros[Fila]-1,0,Parametros[Alto]),Bloques[[#This Row],[Segmento]],OFFSET(Ref_Conteo,Parametros[Fila]-1,0,Parametros[Alto]),Bloques[[#This Row],[Bloque]],OFFSET(Ref_Conteo,Parametros[Fila]-1,-1,Parametros[Alto]),Bloques[[#This Row],[Grupo]])-1,0)","v":0},null,null,""]
["Gastos","Otros gastos de administración","Regalías - Vinculados económicos ",{"$f":"IF(Bloques[[#This Row],[Segmento]]=Parametros[Segmento],COUNTIFS(OFFSET(Ref_Segmento,Parametros[Fila]-1,0,Parametros[Alto]),Bloques[[#This Row],[Segmento]],OFFSET(Ref_Conteo,Parametros[Fila]-1,0,Parametros[Alto]),Bloques[[#This Row],[Bloque]],OFFSET(Ref_Conteo,Parametros[Fila]-1,-1,Parametros[Alto]),Bloques[[#This Row],[Grupo]])-1,0)","v":0},null,null,""]
["Gastos","Otros gastos de administración","Regalías - Jurisdicciones no cooperantes, de baja o nula imposición y regímenes tributarios preferenciales ",{"$f":"IF(Bloques[[#This Row],[Segmento]]=Parametros[Segmento],COUNTIFS(OFFSET(Ref_Segmento,Parametros[Fila]-1,0,Parametros[Alto]),Bloques[[#This Row],[Segmento]],OFFSET(Ref_Conteo,Parametros[Fila]-1,0,Parametros[Alto]),Bloques[[#This Row],[Bloque]],OFFSET(Ref_Conteo,Parametros[Fila]-1,-1,Parametros[Alto]),Bloques[[#This Row],[Grupo]])-1,0)","v":0},null,null,""]
["Gastos","Otros gastos de administración","Regalías - No vinculados",{"$f":"IF(Bloques[[#This Row],[Segmento]]=Parametros[Segmento],COUNTIFS(OFFSET(Ref_Segmento,Parametros[Fila]-1,0,Parametros[Alto]),Bloques[[#This Row],[Segmento]],OFFSET(Ref_Conteo,Parametros[Fila]-1,0,Parametros[Alto]),Bloques[[#This Row],[Bloque]],OFFSET(Ref_Conteo,Parametros[Fila]-1,-1,Parametros[Alto]),Bloques[[#This Row],[Grupo]])-1,0)","v":0},null,null,""]
["Gastos","Otros gastos de administración","Asistencia técnica - Vinculados económicos ",{"$f":"IF(Bloques[[#This Row],[Segmento]]=Parametros[Segmento],COUNTIFS(OFFSET(Ref_Segmento,Parametros[Fila]-1,0,Parametros[Alto]),Bloques[[#This Row],[Segmento]],OFFSET(Ref_Conteo,Parametros[Fila]-1,0,Parametros[Alto]),Bloques[[#This Row],[Bloque]],OFFSET(Ref_Conteo,Parametros[Fila]-1,-1,Parametros[Alto]),Bloques[[#This Row],[Grupo]])-1,0)","v":0},null,null,""]
["Gastos","Otros gastos de administración","Asistencia técnica - Jurisdicciones no cooperantes, de baja o nula imposición y regímenes tributarios preferenciales ",{"$f":"IF(Bloques[[#This Row],[Segmento]]=Parametros[Segmento],COUNTIFS(OFFSET(Ref_Segmento,Parametros[Fila]-1,0,Parametros[Alto]),Bloques[[#This Row],[Segmento]],OFFSET(Ref_Conteo,Parametros[Fila]-1,0,Parametros[Alto]),Bloques[[#This Row],[Bloque]],OFFSET(Ref_Conteo,Parametros[Fila]-1,-1,Parametros[Alto]),Bloques[[#This Row],[Grupo]])-1,0)","v":0},null,null,""]
["Gastos","Otros gastos de administración","Asistencia técnica - No vinculados",{"$f":"IF(Bloques[[#This Row],[Segmento]]=Parametros[Segmento],COUNTIFS(OFFSET(Ref_Segmento,Parametros[Fila]-1,0,Parametros[Alto]),Bloques[[#This Row],[Segmento]],OFFSET(Ref_Conteo,Parametros[Fila]-1,0,Parametros[Alto]),Bloques[[#This Row],[Bloque]],OFFSET(Ref_Conteo,Parametros[Fila]-1,-1,Parametros[Alto]),Bloques[[#This Row],[Grupo]])-1,0)","v":0},null,null,""]
["Gastos","Otros gastos de administración","Otros servicios ",{"$f":"IF(Bloques[[#This Row],[Segmento]]=Parametros[Segmento],COUNTIFS(OFFSET(Ref_Segmento,Parametros[Fila]-1,0,Parametros[Alto]),Bloques[[#This Row],[Segmento]],OFFSET(Ref_Conteo,Parametros[Fila]-1,0,Parametros[Alto]),Bloques[[#This Row],[Bloque]],OFFSET(Ref_Conteo,Parametros[Fila]-1,-1,Parametros[Alto]),Bloques[[#This Row],[Grupo]])-1,0)","v":0},null,null,""]
["Gastos","Otros gastos de administración","Investigación y desarrollo ",{"$f":"IF(Bloques[[#This Row],[Segmento]]=Parametros[Segmento],COUNTIFS(OFFSET(Ref_Segmento,Parametros[Fila]-1,0,Parametros[Alto]),Bloques[[#This Row],[Segmento]],OFFSET(Ref_Conteo,Parametros[Fila]-1,0,Parametros[Alto]),Bloques[[#This Row],[Bloque]],OFFSET(Ref_Conteo,Parametros[Fila]-1,-1,Parametros[Alto]),Bloques[[#This Row],[Grupo]])-1,0)","v":0},null,null,""]
["Gastos","Otros gastos de administración","Gastos legales",{"$f":"IF(Bloques[[#This Row],[Segmento]]=Parametros[Segmento],COUNTIFS(OFFSET(Ref_Segmento,Parametros[Fila]-1,0,Parametros[Alto]),Bloques[[#This Row],[Segmento]],OFFSET(Ref_Conteo,Parametros[Fila]-1,0,Parametros[Alto]),Bloques[[#This Row],[Bloque]],OFFSET(Ref_Conteo,Parametros[Fila]-1,-1,Parametros[Alto]),Bloques[[#This Row],[Grupo]])-1,0)","v":0},null,null,""]
["Gastos","Otros gastos de administración","Reparación, mantenimiento, adecuación e instalaciones",{"$f":"IF(Bloques[[#This Row],[Segmento]]=Parametros[Segmento],COUNTIFS(OFFSET(Ref_Segmento,Parametros[Fila]-1,0,Parametros[Alto]),Bloques[[#This Row],[Segmento]],OFFSET(Ref_Conteo,Parametros[Fila]-1,0,Parametros[Alto]),Bloques[[#This Row],[Bloque]],OFFSET(Ref_Conteo,Parametros[Fila]-1,-1,Parametros[Alto]),Bloques[[#This Row],[Grupo]])-1,0)","v":0},null,null,""]
["Gastos","Otros gastos de administración","Transporte ",{"$f":"IF(Bloques[[#This Row],[Segmento]]=Parametros[Segmento],COUNTIFS(OFFSET(Ref_Segmento,Parametros[Fila]-1,0,Parametros[Alto]),Bloques[[#This Row],[Segmento]],OFFSET(Ref_Conteo,Parametros[Fila]-1,0,Parametros[Alto]),Bloques[[#This Row],[Bloque]],OFFSET(Ref_Conteo,Parametros[Fila]-1,-1,Parametros[Alto]),Bloques[[#This Row],[Grupo]])-1,0)","v":0},null,null,""]
["Gastos","Otros gastos de administración","Otros gastos ",{"$f":"IF(Bloques[[#This Row],[Segmento]]=Parametros[Segmento],COUNTIFS(OFFSET(Ref_Segmento,Parametros[Fila]-1,0,Parametros[Alto]),Bloques[[#This Row],[Segmento]],OFFSET(Ref_Conteo,Parametros[Fila]-1,0,Parametros[Alto]),Bloques[[#This Row],[Bloque]],OFFSET(Ref_Conteo,Parametros[Fila]-1,-1,Parametros[Alto]),Bloques[[#This Row],[Grupo]])-1,0)","v":0},null,null,""]
["Gastos","De Administración - Depreciaciones, amortizaciones y deterioros","Depreciación propiedades, planta y equipo - Del costo",{"$f":"IF(Bloques[[#This Row],[Segmento]]=Parametros[Segmento],COUNTIFS(OFFSET(Ref_Segmento,Parametros[Fila]-1,0,Parametros[Alto]),Bloques[[#This Row],[Segmento]],OFFSET(Ref_Conteo,Parametros[Fila]-1,0,Parametros[Alto]),Bloques[[#This Row],[Bloque]],OFFSET(Ref_Conteo,Parametros[Fila]-1,-1,Parametros[Alto]),Bloques[[#This Row],[Grupo]])-1,0)","v":0},null,null,""]
["Gastos","De Administración - Depreciaciones, amortizaciones y deterioros","Depreciación propiedades, planta y equipo - Del  ajuste acumulado por revaluaciones o reexpresiones ",{"$f":"IF(Bloques[[#This Row],[Segmento]]=Parametros[Segmento],COUNTIFS(OFFSET(Ref_Segmento,Parametros[Fila]-1,0,Parametros[Alto]),Bloques[[#This Row],[Segmento]],OFFSET(Ref_Conteo,Parametros[Fila]-1,0,Parametros[Alto]),Bloques[[#This Row],[Bloque]],OFFSET(Ref_Conteo,Parametros[Fila]-1,-1,Parametros[Alto]),Bloques[[#This Row],[Grupo]])-1,0)","v":0},null,null,""]
["Gastos","De Administración - Depreciaciones, amortizaciones y deterioros","Depreciación propiedades de inversión - Del costo",{"$f":"IF(Bloques[[#This Row],[Segmento]]=Parametros[Segmento],COUNTIFS(OFFSET(Ref_Segmento,Parametros[Fila]-1,0,Parametros[Alto]),Bloques[[#This Row],[Segmento]],OFFSET(Ref_Conteo,Parametros[Fila]-1,0,Parametros[Alto]),Bloques[[#This Row],[Bloque]],OFFSET(Ref_Conteo,Parametros[Fila]-1,-1,Parametros[Alto]),Bloques[[#This Row],[Grupo]])-1,0)","v":0},null,null,""]
["Gastos","De Administración - Depreciaciones, amortizaciones y deterioros","Depreciación propiedades de inversión - Del  ajuste acumulado por revaluaciones o reexpresiones ",{"$f":"IF(Bloques[[#This Row],[Segmento]]=Parametros[Segmento],COUNTIFS(OFFSET(Ref_Segmento,Parametros[Fila]-1,0,Parametros[Alto]),Bloques[[#This Row],[Segmento]],OFFSET(Ref_Conteo,Parametros[Fila]-1,0,Parametros[Alto]),Bloques[[#This Row],[Bloque]],OFFSET(Ref_Conteo,Parametros[Fila]-1,-1,Parametros[Alto]),Bloques[[#This Row],[Grupo]])-1,0)","v":0},null,null,""]
["Gastos","De Administración - Depreciaciones, amortizaciones y deterioros","Depreciación Arrendamientos operativos (NIIF 16)",{"$f":"IF(Bloques[[#This Row],[Segmento]]=Parametros[Segmento],COUNTIFS(OFFSET(Ref_Segmento,Parametros[Fila]-1,0,Parametros[Alto]),Bloques[[#This Row],[Segmento]],OFFSET(Ref_Conteo,Parametros[Fila]-1,0,Parametros[Alto]),Bloques[[#This Row],[Bloque]],OFFSET(Ref_Conteo,Parametros[Fila]-1,-1,Parametros[Alto]),Bloques[[#This Row],[Grupo]])-1,0)","v":0},null,null,""]
["Gastos","De Administración - Depreciaciones, amortizaciones y deterioros","Otras depreciaciones - Del costo",{"$f":"IF(Bloques[[#This Row],[Segmento]]=Parametros[Segmento],COUNTIFS(OFFSET(Ref_Segmento,Parametros[Fila]-1,0,Parametros[Alto]),Bloques[[#This Row],[Segmento]],OFFSET(Ref_Conteo,Parametros[Fila]-1,0,Parametros[Alto]),Bloques[[#This Row],[Bloque]],OFFSET(Ref_Conteo,Parametros[Fila]-1,-1,Parametros[Alto]),Bloques[[#This Row],[Grupo]])-1,0)","v":0},null,null,""]
["Gastos","De Administración - Depreciaciones, amortizaciones y deterioros","Otras depreciaciones - Del ajuste acumulado por revaluaciones o reexpresiones ",{"$f":"IF(Bloques[[#This Row],[Segmento]]=Parametros[Segmento],COUNTIFS(OFFSET(Ref_Segmento,Parametros[Fila]-1,0,Parametros[Alto]),Bloques[[#This Row],[Segmento]],OFFSET(Ref_Conteo,Parametros[Fila]-1,0,Parametros[Alto]),Bloques[[#This Row],[Bloque]],OFFSET(Ref_Conteo,Parametros[Fila]-1,-1,Parametros[Alto]),Bloques[[#This Row],[Grupo]])-1,0)","v":0},null,null,""]
["Gastos","De Administración - Depreciaciones, amortizaciones y deterioros","Amortización activos intangibles - Del costo",{"$f":"IF(Bloques[[#This Row],[Segmento]]=Parametros[Segmento],COUNTIFS(OFFSET(Ref_Segmento,Parametros[Fila]-1,0,Parametros[Alto]),Bloques[[#This Row],[Segmento]],OFFSET(Ref_Conteo,Parametros[Fila]-1,0,Parametros[Alto]),Bloques[[#This Row],[Bloque]],OFFSET(Ref_Conteo,Parametros[Fila]-1,-1,Parametros[Alto]),Bloques[[#This Row],[Grupo]])-1,0)","v":0},null,null,""]
["Gastos","De Administración - Depreciaciones, amortizaciones y deterioros","Amortización activos intangibles - Del ajuste acumulado por revaluaciones o reexpresiones ",{"$f":"IF(Bloques[[#This Row],[Segmento]]=Parametros[Segmento],COUNTIFS(OFFSET(Ref_Segmento,Parametros[Fila]-1,0,Parametros[Alto]),Bloques[[#This Row],[Segmento]],OFFSET(Ref_Conteo,Parametros[Fila]-1,0,Parametros[Alto]),Bloques[[#This Row],[Bloque]],OFFSET(Ref_Conteo,Parametros[Fila]-1,-1,Parametros[Alto]),Bloques[[#This Row],[Grupo]])-1,0)","v":0},null,null,""]
["Gastos","De Administración - Depreciaciones, amortizaciones y deterioros","Otras amortizaciones - Del costo ",{"$f":"IF(Bloques[[#This Row],[Segmento]]=Parametros[Segmento],COUNTIFS(OFFSET(Ref_Segmento,Parametros[Fila]-1,0,Parametros[Alto]),Bloques[[#This Row],[Segmento]],OFFSET(Ref_Conteo,Parametros[Fila]-1,0,Parametros[Alto]),Bloques[[#This Row],[Bloque]],OFFSET(Ref_Conteo,Parametros[Fila]-1,-1,Parametros[Alto]),Bloques[[#This Row],[Grupo]])-1,0)","v":0},null,null,""]
["Gastos","De Administración - Depreciaciones, amortizaciones y deterioros","Otras amortizaciones - Del ajuste acumulado por revaluaciones o reexpresiones ",{"$f":"IF(Bloques[[#This Row],[Segmento]]=Parametros[Segmento],COUNTIFS(OFFSET(Ref_Segmento,Parametros[Fila]-1,0,Parametros[Alto]),Bloques[[#This Row],[Segmento]],OFFSET(Ref_Conteo,Parametros[Fila]-1,0,Parametros[Alto]),Bloques[[#This Row],[Bloque]],OFFSET(Ref_Conteo,Parametros[Fila]-1,-1,Parametros[Alto]),Bloques[[#This Row],[Grupo]])-1,0)","v":0},null,null,""]
["Gastos","De Administración - Depreciaciones, amortizaciones y deterioros","Deterioro del valor de los activos - Inventarios ",{"$f":"IF(Bloques[[#This Row],[Segmento]]=Parametros[Segmento],COUNTIFS(OFFSET(Ref_Segmento,Parametros[Fila]-1,0,Parametros[Alto]),Bloques[[#This Row],[Segmento]],OFFSET(Ref_Conteo,Parametros[Fila]-1,0,Parametros[Alto]),Bloques[[#This Row],[Bloque]],OFFSET(Ref_Conteo,Parametros[Fila]-1,-1,Parametros[Alto]),Bloques[[#This Row],[Grupo]])-1,0)","v":0},null,null,""]
["Gastos","De Administración - Depreciaciones, amortizaciones y deterioros","Deterioro del valor de los activos - Propiedades, planta y equipo ",{"$f":"IF(Bloques[[#This Row],[Segmento]]=Parametros[Segmento],COUNTIFS(OFFSET(Ref_Segmento,Parametros[Fila]-1,0,Parametros[Alto]),Bloques[[#This Row],[Segmento]],OFFSET(Ref_Conteo,Parametros[Fila]-1,0,Parametros[Alto]),Bloques[[#This Row],[Bloque]],OFFSET(Ref_Conteo,Parametros[Fila]-1,-1,Parametros[Alto]),Bloques[[#This Row],[Grupo]])-1,0)","v":0},null,null,""]
["Gastos","De Administración - Depreciaciones, amortizaciones y deterioros","Deterioro del valor de los activos - Activos intangibles",{"$f":"IF(Bloques[[#This Row],[Segmento]]=Parametros[Segmento],COUNTIFS(OFFSET(Ref_Segmento,Parametros[Fila]-1,0,Parametros[Alto]),Bloques[[#This Row],[Segmento]],OFFSET(Ref_Conteo,Parametros[Fila]-1,0,Parametros[Alto]),Bloques[[#This Row],[Bloque]],OFFSET(Ref_Conteo,Parametros[Fila]-1,-1,Parametros[Alto]),Bloques[[#This Row],[Grupo]])-1,0)","v":0},null,null,""]
["Gastos","De Administración - Depreciaciones, amortizaciones y deterioros","Deterioro del valor de los activos - Activos de exploración y evaluación de recursos minerales ",{"$f":"IF(Bloques[[#This Row],[Segmento]]=Parametros[Segmento],COUNTIFS(OFFSET(Ref_Segmento,Parametros[Fila]-1,0,Parametros[Alto]),Bloques[[#This Row],[Segmento]],OFFSET(Ref_Conteo,Parametros[Fila]-1,0,Parametros[Alto]),Bloques[[#This Row],[Bloque]],OFFSET(Ref_Conteo,Parametros[Fila]-1,-1,Parametros[Alto]),Bloques[[#This Row],[Grupo]])-1,0)","v":0},null,null,""]
["Gastos","De Administración - Depreciaciones, amortizaciones y deterioros","Deterioro del valor de los activos - Propiedades de inversión medidas al modelo de costo ",{"$f":"IF(Bloques[[#This Row],[Segmento]]=Parametros[Segmento],COUNTIFS(OFFSET(Ref_Segmento,Parametros[Fila]-1,0,Parametros[Alto]),Bloques[[#This Row],[Segmento]],OFFSET(Ref_Conteo,Parametros[Fila]-1,0,Parametros[Alto]),Bloques[[#This Row],[Bloque]],OFFSET(Ref_Conteo,Parametros[Fila]-1,-1,Parametros[Alto]),Bloques[[#This Row],[Grupo]])-1,0)","v":0},null,null,""]
["Gastos","De Administración - Depreciaciones, amortizaciones y deterioros","Deterioro del valor de los activos -  Activos no corrientes mantenidos para la venta / Distribuir a los propietarios ",{"$f":"IF(Bloques[[#This Row],[Segmento]]=Parametros[Segmento],COUNTIFS(OFFSET(Ref_Segmento,Parametros[Fila]-1,0,Parametros[Alto]),Bloques[[#This Row],[Segmento]],OFFSET(Ref_Conteo,Parametros[Fila]-1,0,Parametros[Alto]),Bloques[[#This Row],[Bloque]],OFFSET(Ref_Conteo,Parametros[Fila]-1,-1,Parametros[Alto]),Bloques[[#This Row],[Grupo]])-1,0)","v":0},null,null,""]
["Gastos","De Administración - Depreciaciones, amortizaciones y deterioros","Deterioro del valor de los activos -  Bienes de arte y cultura medido al modelo de costo ",{"$f":"IF(Bloques[[#This Row],[Segmento]]=Parametros[Segmento],COUNTIFS(OFFSET(Ref_Segmento,Parametros[Fila]-1,0,Parametros[Alto]),Bloques[[#This Row],[Segmento]],OFFSET(Ref_Conteo,Parametros[Fila]-1,0,Parametros[Alto]),Bloques[[#This Row],[Bloque]],OFFSET(Ref_Conteo,Parametros[Fila]-1,-1,Parametros[Alto]),Bloques[[#This Row],[Grupo]])-1,0)","v":0},null,null,""]
["Gastos","De Administración - Depreciaciones, amortizaciones y deterioros","Deterioro del valor de los activos -  Activos biológicos medidos al modelo del costo ",{"$f":"IF(Bloques[[#This Row],[Segmento]]=Parametros[Segmento],COUNTIFS(OFFSET(Ref_Segmento,Parametros[Fila]-1,0,Parametros[Alto]),Bloques[[#This Row],[Segmento]],OFFSET(Ref_Conteo,Parametros[Fila]-1,0,Parametros[Alto]),Bloques[[#This Row],[Bloque]],OFFSET(Ref_Conteo,Parametros[Fila]-1,-1,Parametros[Alto]),Bloques[[#This Row],[Grupo]])-1,0)","v":0},null,null,""]
["Gastos","De Administración - Depreciaciones, amortizaciones y deterioros","Deterioro del valor de los activos -  Activos financieros (diferentes a cartera de crédito y operaciones de leasing)",{"$f":"IF(Bloques[[#This Row],[Segmento]]=Parametros[Segmento],COUNTIFS(OFFSET(Ref_Segmento,Parametros[Fila]-1,0,Parametros[Alto]),Bloques[[#This Row],[Segmento]],OFFSET(Ref_Conteo,Parametros[Fila]-1,0,Parametros[Alto]),Bloques[[#This Row],[Bloque]],OFFSET(Ref_Conteo,Parametros[Fila]-1,-1,Parametros[Alto]),Bloques[[#This Row],[Grupo]])-1,0)","v":0},null,null,""]
["Gastos","De Administración - Depreciaciones, amortizaciones y deterioros","Deterioro del valor de los activos -  Cartera de crédito y operaciones de leasing ",{"$f":"IF(Bloques[[#This Row],[Segmento]]=Parametros[Segmento],COUNTIFS(OFFSET(Ref_Segmento,Parametros[Fila]-1,0,Parametros[Alto]),Bloques[[#This Row],[Segmento]],OFFSET(Ref_Conteo,Parametros[Fila]-1,0,Parametros[Alto]),Bloques[[#This Row],[Bloque]],OFFSET(Ref_Conteo,Parametros[Fila]-1,-1,Parametros[Alto]),Bloques[[#This Row],[Grupo]])-1,0)","v":0},null,null,""]
["Gastos","De Administración - Depreciaciones, amortizaciones y deterioros","Deterioro del valor de los activos -  Otras inversiones medidas al costo o por el método de la participación ",{"$f":"IF(Bloques[[#This Row],[Segmento]]=Parametros[Segmento],COUNTIFS(OFFSET(Ref_Segmento,Parametros[Fila]-1,0,Parametros[Alto]),Bloques[[#This Row],[Segmento]],OFFSET(Ref_Conteo,Parametros[Fila]-1,0,Parametros[Alto]),Bloques[[#This Row],[Bloque]],OFFSET(Ref_Conteo,Parametros[Fila]-1,-1,Parametros[Alto]),Bloques[[#This Row],[Grupo]])-1,0)","v":0},null,null,""]
["Gastos","De Administración - Depreciaciones, amortizaciones y deterioros","Deterioro del valor de los activos -  Derechos de uso en arrendamientos operativos (NIIF 16)",{"$f":"IF(Bloques[[#This Row],[Segmento]]=Parametros[Segmento],COUNTIFS(OFFSET(Ref_Segmento,Parametros[Fila]-1,0,Parametros[Alto]),Bloques[[#This Row],[Segmento]],OFFSET(Ref_Conteo,Parametros[Fila]-1,0,Parametros[Alto]),Bloques[[#This Row],[Bloque]],OFFSET(Ref_Conteo,Parametros[Fila]-1,-1,Parametros[Alto]),Bloques[[#This Row],[Grupo]])-1,0)","v":0},null,null,""]
["Gastos","De Administración - Depreciaciones, amortizaciones y deterioros","Otros deterioros",{"$f":"IF(Bloques[[#This Row],[Segmento]]=Parametros[Segmento],COUNTIFS(OFFSET(Ref_Segmento,Parametros[Fila]-1,0,Parametros[Alto]),Bloques[[#This Row],[Segmento]],OFFSET(Ref_Conteo,Parametros[Fila]-1,0,Parametros[Alto]),Bloques[[#This Row],[Bloque]],OFFSET(Ref_Conteo,Parametros[Fila]-1,-1,Parametros[Alto]),Bloques[[#This Row],[Grupo]])-1,0)","v":0},null,null,""]
["Gastos","De distribución y venta - Mano de Obra","Beneficios a empleados - De corto plazo ",{"$f":"IF(Bloques[[#This Row],[Segmento]]=Parametros[Segmento],COUNTIFS(OFFSET(Ref_Segmento,Parametros[Fila]-1,0,Parametros[Alto]),Bloques[[#This Row],[Segmento]],OFFSET(Ref_Conteo,Parametros[Fila]-1,0,Parametros[Alto]),Bloques[[#This Row],[Bloque]],OFFSET(Ref_Conteo,Parametros[Fila]-1,-1,Parametros[Alto]),Bloques[[#This Row],[Grupo]])-1,0)","v":0},null,null,""]
["Gastos","De distribución y venta - Mano de Obra","Beneficios a empleados - De largo plazo ",{"$f":"IF(Bloques[[#This Row],[Segmento]]=Parametros[Segmento],COUNTIFS(OFFSET(Ref_Segmento,Parametros[Fila]-1,0,Parametros[Alto]),Bloques[[#This Row],[Segmento]],OFFSET(Ref_Conteo,Parametros[Fila]-1,0,Parametros[Alto]),Bloques[[#This Row],[Bloque]],OFFSET(Ref_Conteo,Parametros[Fila]-1,-1,Parametros[Alto]),Bloques[[#This Row],[Grupo]])-1,0)","v":0},null,null,""]
["Gastos","De distribución y venta - Mano de Obra","Beneficios a empleados - Por terminación del vínculo laboral",{"$f":"IF(Bloques[[#This Row],[Segmento]]=Parametros[Segmento],COUNTIFS(OFFSET(Ref_Segmento,Parametros[Fila]-1,0,Parametros[Alto]),Bloques[[#This Row],[Segmento]],OFFSET(Ref_Conteo,Parametros[Fila]-1,0,Parametros[Alto]),Bloques[[#This Row],[Bloque]],OFFSET(Ref_Conteo,Parametros[Fila]-1,-1,Parametros[Alto]),Bloques[[#This Row],[Grupo]])-1,0)","v":0},null,null,""]
["Gastos","De distribución y venta - Mano de Obra","Beneficios a empleados - Post empleo ",{"$f":"IF(Bloques[[#This Row],[Segmento]]=Parametros[Segmento],COUNTIFS(OFFSET(Ref_Segmento,Parametros[Fila]-1,0,Parametros[Alto]),Bloques[[#This Row],[Segmento]],OFFSET(Ref_Conteo,Parametros[Fila]-1,0,Parametros[Alto]),Bloques[[#This Row],[Bloque]],OFFSET(Ref_Conteo,Parametros[Fila]-1,-1,Parametros[Alto]),Bloques[[#This Row],[Grupo]])-1,0)","v":0},null,null,""]
["Gastos","Otros gastos de distribución y ventas","Impuestos distintos al impuesto de renta ",{"$f":"IF(Bloques[[#This Row],[Segmento]]=Parametros[Segmento],COUNTIFS(OFFSET(Ref_Segmento,Parametros[Fila]-1,0,Parametros[Alto]),Bloques[[#This Row],[Segmento]],OFFSET(Ref_Conteo,Parametros[Fila]-1,0,Parametros[Alto]),Bloques[[#This Row],[Bloque]],OFFSET(Ref_Conteo,Parametros[Fila]-1,-1,Parametros[Alto]),Bloques[[#This Row],[Grupo]])-1,0)","v":0},null,null,""]
["Gastos","Otros gastos de distribución y ventas","Arrendamientos Operativos ",{"$f":"IF(Bloques[[#This Row],[Segmento]]=Parametros[Segmento],COUNTIFS(OFFSET(Ref_Segmento,Parametros[Fila]-1,0,Parametros[Alto]),Bloques[[#This Row],[Segmento]],OFFSET(Ref_Conteo,Parametros[Fila]-1,0,Parametros[Alto]),Bloques[[#This Row],[Bloque]],OFFSET(Ref_Conteo,Parametros[Fila]-1,-1,Parametros[Alto]),Bloques[[#This Row],[Grupo]])-1,0)","v":0},null,null,""]
["Gastos","Otros gastos de distribución y ventas","Contribuciones y afiliaciones",{"$f":"IF(Bloques[[#This Row],[Segmento]]=Parametros[Segmento],COUNTIFS(OFFSET(Ref_Segmento,Parametros[Fila]-1,0,Parametros[Alto]),Bloques[[#This Row],[Segmento]],OFFSET(Ref_Conteo,Parametros[Fila]-1,0,Parametros[Alto]),Bloques[[#This Row],[Bloque]],OFFSET(Ref_Conteo,Parametros[Fila]-1,-1,Parametros[Alto]),Bloques[[#This Row],[Grupo]])-1,0)","v":0},null,null,""]
["Gastos","Otros gastos de distribución y ventas","Honorarios ",{"$f":"IF(Bloques[[#This Row],[Segmento]]=Parametros[Segmento],COUNTIFS(OFFSET(Ref_Segmento,Parametros[Fila]-1,0,Parametros[Alto]),Bloques[[#This Row],[Segmento]],OFFSET(Ref_Conteo,Parametros[Fila]-1,0,Parametros[Alto]),Bloques[[#This Row],[Bloque]],OFFSET(Ref_Conteo,Parametros[Fila]-1,-1,Parametros[Alto]),Bloques[[#This Row],[Grupo]])-1,0)","v":0},null,null,""]
["Gastos","Otros gastos de distribución y ventas","Seguros ",{"$f":"IF(Bloques[[#This Row],[Segmento]]=Parametros[Segmento],COUNTIFS(OFFSET(Ref_Segmento,Parametros[Fila]-1,0,Parametros[Alto]),Bloques[[#This Row],[Segmento]],OFFSET(Ref_Conteo,Parametros[Fila]-1,0,Parametros[Alto]),Bloques[[#This Row],[Bloque]],OFFSET(Ref_Conteo,Parametros[Fila]-1,-1,Parametros[Alto]),Bloques[[#This Row],[Grupo]])-1,0)","v":0},null,null,""]
["Gastos","Otros gastos de distribución y ventas","Servicios administrativos - Vinculados económicos ",{"$f":"IF(Bloques[[#This Row],[Segmento]]=Parametros[Segmento],COUNTIFS(OFFSET(Ref_Segmento,Parametros[Fila]-1,0,Parametros[Alto]),Bloques[[#This Row],[Segmento]],OFFSET(Ref_Conteo,Parametros[Fila]-1,0,Parametros[Alto]),Bloques[[#This Row],[Bloque]],OFFSET(Ref_Conteo,Parametros[Fila]-1,-1,Parametros[Alto]),Bloques[[#This Row],[Grupo]])-1,0)","v":0},null,null,""]
["Gastos","Otros gastos de distribución y ventas","Servicios administrativos - Jurisdicciones no cooperantes, de baja o nula imposición y regímenes tributarios preferenciales ",{"$f":"IF(Bloques[[#This Row],[Segmento]]=Parametros[Segmento],COUNTIFS(OFFSET(Ref_Segmento,Parametros[Fila]-1,0,Parametros[Alto]),Bloques[[#This Row],[Segmento]],OFFSET(Ref_Conteo,Parametros[Fila]-1,0,Parametros[Alto]),Bloques[[#This Row],[Bloque]],OFFSET(Ref_Conteo,Parametros[Fila]-1,-1,Parametros[Alto]),Bloques[[#This Row],[Grupo]])-1,0)","v":0},null,null,""]
["Gastos","Otros gastos de distribución y ventas","Servicios administrativos - No vinculados ",{"$f":"IF(Bloques[[#This Row],[Segmento]]=Parametros[Segmento],COUNTIFS(OFFSET(Ref_Segmento,Parametros[Fila]-1,0,Parametros[Alto]),Bloques[[#This Row],[Segmento]],OFFSET(Ref_Conteo,Parametros[Fila]-1,0,Parametros[Alto]),Bloques[[#This Row],[Bloque]],OFFSET(Ref_Conteo,Parametros[Fila]-1,-1,Parametros[Alto]),Bloques[[#This Row],[Grupo]])-1,0)","v":0},null,null,""]
["Gastos","Otros gastos de distribución y ventas","Regalías - Vinculados económicos ",{"$f":"IF(Bloques[[#This Row],[Segmento]]=Parametros[Segmento],COUNTIFS(OFFSET(Ref_Segmento,Parametros[Fila]-1,0,Parametros[Alto]),Bloques[[#This Row],[Segmento]],OFFSET(Ref_Conteo,Parametros[Fila]-1,0,Parametros[Alto]),Bloques[[#This Row],[Bloque]],OFFSET(Ref_Conteo,Parametros[Fila]-1,-1,Parametros[Alto]),Bloques[[#This Row],[Grupo]])-1,0)","v":0},null,null,""]
["Gastos","Otros gastos de distribución y ventas","Regalías - Jurisdicciones no cooperantes, de baja o nula imposición y regímenes tributarios preferenciales ",{"$f":"IF(Bloques[[#This Row],[Segmento]]=Parametros[Segmento],COUNTIFS(OFFSET(Ref_Segmento,Parametros[Fila]-1,0,Parametros[Alto]),Bloques[[#This Row],[Segmento]],OFFSET(Ref_Conteo,Parametros[Fila]-1,0,Parametros[Alto]),Bloques[[#This Row],[Bloque]],OFFSET(Ref_Conteo,Parametros[Fila]-1,-1,Parametros[Alto]),Bloques[[#This Row],[Grupo]])-1,0)","v":0},null,null,""]
["Gastos","Otros gastos de distribución y ventas","Regalías - No vinculados",{"$f":"IF(Bloques[[#This Row],[Segmento]]=Parametros[Segmento],COUNTIFS(OFFSET(Ref_Segmento,Parametros[Fila]-1,0,Parametros[Alto]),Bloques[[#This Row],[Segmento]],OFFSET(Ref_Conteo,Parametros[Fila]-1,0,Parametros[Alto]),Bloques[[#This Row],[Bloque]],OFFSET(Ref_Conteo,Parametros[Fila]-1,-1,Parametros[Alto]),Bloques[[#This Row],[Grupo]])-1,0)","v":0},null,null,""]
["Gastos","Otros gastos de distribución y ventas","Asistencia técnica - Vinculados económicos ",{"$f":"IF(Bloques[[#This Row],[Segmento]]=Parametros[Segmento],COUNTIFS(OFFSET(Ref_Segmento,Parametros[Fila]-1,0,Parametros[Alto]),Bloques[[#This Row],[Segmento]],OFFSET(Ref_Conteo,Parametros[Fila]-1,0,Parametros[Alto]),Bloques[[#This Row],[Bloque]],OFFSET(Ref_Conteo,Parametros[Fila]-1,-1,Parametros[Alto]),Bloques[[#This Row],[Grupo]])-1,0)","v":0},null,null,""]
["Gastos","Otros gastos de distribución y ventas","Asistencia técnica - Jurisdicciones no cooperantes, de baja o nula imposición y regímenes tributarios preferenciales ",{"$f":"IF(Bloques[[#This Row],[Segmento]]=Parametros[Segmento],COUNTIFS(OFFSET(Ref_Segmento,Parametros[Fila]-1,0,Parametros[Alto]),Bloques[[#This Row],[Segmento]],OFFSET(Ref_Conteo,Parametros[Fila]-1,0,Parametros[Alto]),Bloques[[#This Row],[Bloque]],OFFSET(Ref_Conteo,Parametros[Fila]-1,-1,Parametros[Alto]),Bloques[[#This Row],[Grupo]])-1,0)","v":0},null,null,""]
["Gastos","Otros gastos de distribución y ventas","Asistencia técnica - No vinculados",{"$f":"IF(Bloques[[#This Row],[Segmento]]=Parametros[Segmento],COUNTIFS(OFFSET(Ref_Segmento,Parametros[Fila]-1,0,Parametros[Alto]),Bloques[[#This Row],[Segmento]],OFFSET(Ref_Conteo,Parametros[Fila]-1,0,Parametros[Alto]),Bloques[[#This Row],[Bloque]],OFFSET(Ref_Conteo,Parametros[Fila]-1,-1,Parametros[Alto]),Bloques[[#This Row],[Grupo]])-1,0)","v":0},null,null,""]
["Gastos","Otros gastos de distribución y ventas","Otros servicios ",{"$f":"IF(Bloques[[#This Row],[Segmento]]=Parametros[Segmento],COUNTIFS(OFFSET(Ref_Segmento,Parametros[Fila]-1,0,Parametros[Alto]),Bloques[[#This Row],[Segmento]],OFFSET(Ref_Conteo,Parametros[Fila]-1,0,Parametros[Alto]),Bloques[[#This Row],[Bloque]],OFFSET(Ref_Conteo,Parametros[Fila]-1,-1,Parametros[Alto]),Bloques[[#This Row],[Grupo]])-1,0)","v":0},null,null,""]
["Gastos","Otros gastos de distribución y ventas","Investigación y desarrollo ",{"$f":"IF(Bloques[[#This Row],[Segmento]]=Parametros[Segmento],COUNTIFS(OFFSET(Ref_Segmento,Parametros[Fila]-1,0,Parametros[Alto]),Bloques[[#This Row],[Segmento]],OFFSET(Ref_Conteo,Parametros[Fila]-1,0,Parametros[Alto]),Bloques[[#This Row],[Bloque]],OFFSET(Ref_Conteo,Parametros[Fila]-1,-1,Parametros[Alto]),Bloques[[#This Row],[Grupo]])-1,0)","v":0},null,null,""]
["Gastos","Otros gastos de distribución y ventas","Gastos legales",{"$f":"IF(Bloques[[#This Row],[Segmento]]=Parametros[Segmento],COUNTIFS(OFFSET(Ref_Segmento,Parametros[Fila]-1,0,Parametros[Alto]),Bloques[[#This Row],[Segmento]],OFFSET(Ref_Conteo,Parametros[Fila]-1,0,Parametros[Alto]),Bloques[[#This Row],[Bloque]],OFFSET(Ref_Conteo,Parametros[Fila]-1,-1,Parametros[Alto]),Bloques[[#This Row],[Grupo]])-1,0)","v":0},null,null,""]
["Gastos","Otros gastos de distribución y ventas","Reparación, mantenimiento, adecuación e instalaciones",{"$f":"IF(Bloques[[#This Row],[Segmento]]=Parametros[Segmento],COUNTIFS(OFFSET(Ref_Segmento,Parametros[Fila]-1,0,Parametros[Alto]),Bloques[[#This Row],[Segmento]],OFFSET(Ref_Conteo,Parametros[Fila]-1,0,Parametros[Alto]),Bloques[[#This Row],[Bloque]],OFFSET(Ref_Conteo,Parametros[Fila]-1,-1,Parametros[Alto]),Bloques[[#This Row],[Grupo]])-1,0)","v":0},null,null,""]
["Gastos","Otros gastos de distribución y ventas","Transporte ",{"$f":"IF(Bloques[[#This Row],[Segmento]]=Parametros[Segmento],COUNTIFS(OFFSET(Ref_Segmento,Parametros[Fila]-1,0,Parametros[Alto]),Bloques[[#This Row],[Segmento]],OFFSET(Ref_Conteo,Parametros[Fila]-1,0,Parametros[Alto]),Bloques[[#This Row],[Bloque]],OFFSET(Ref_Conteo,Parametros[Fila]-1,-1,Parametros[Alto]),Bloques[[#This Row],[Grupo]])-1,0)","v":0},null,null,""]
["Gastos","Otros gastos de distribución y ventas","Constitución de reservas (empresas aseguradoras)",{"$f":"IF(Bloques[[#This Row],[Segmento]]=Parametros[Segmento],COUNTIFS(OFFSET(Ref_Segmento,Parametros[Fila]-1,0,Parametros[Alto]),Bloques[[#This Row],[Segmento]],OFFSET(Ref_Conteo,Parametros[Fila]-1,0,Parametros[Alto]),Bloques[[#This Row],[Bloque]],OFFSET(Ref_Conteo,Parametros[Fila]-1,-1,Parametros[Alto]),Bloques[[#This Row],[Grupo]])-1,0)","v":0},null,null,""]
["Gastos","Otros gastos de distribución y ventas","Liquidación de siniestros",{"$f":"IF(Bloques[[#This Row],[Segmento]]=Parametros[Segmento],COUNTIFS(OFFSET(Ref_Segmento,Parametros[Fila]-1,0,Parametros[Alto]),Bloques[[#This Row],[Segmento]],OFFSET(Ref_Conteo,Parametros[Fila]-1,0,Parametros[Alto]),Bloques[[#This Row],[Bloque]],OFFSET(Ref_Conteo,Parametros[Fila]-1,-1,Parametros[Alto]),Bloques[[#This Row],[Grupo]])-1,0)","v":0},null,null,""]
["Gastos","Otros gastos de distribución y ventas","Prima de reaseguros",{"$f":"IF(Bloques[[#This Row],[Segmento]]=Parametros[Segmento],COUNTIFS(OFFSET(Ref_Segmento,Parametros[Fila]-1,0,Parametros[Alto]),Bloques[[#This Row],[Segmento]],OFFSET(Ref_Conteo,Parametros[Fila]-1,0,Parametros[Alto]),Bloques[[#This Row],[Bloque]],OFFSET(Ref_Conteo,Parametros[Fila]-1,-1,Parametros[Alto]),Bloques[[#This Row],[Grupo]])-1,0)","v":0},null,null,""]
["Gastos","Otros gastos de distribución y ventas","Otros gastos ",{"$f":"IF(Bloques[[#This Row],[Segmento]]=Parametros[Segmento],COUNTIFS(OFFSET(Ref_Segmento,Parametros[Fila]-1,0,Parametros[Alto]),Bloques[[#This Row],[Segmento]],OFFSET(Ref_Conteo,Parametros[Fila]-1,0,Parametros[Alto]),Bloques[[#This Row],[Bloque]],OFFSET(Ref_Conteo,Parametros[Fila]-1,-1,Parametros[Alto]),Bloques[[#This Row],[Grupo]])-1,0)","v":0},null,null,""]
["Gastos","De Distribución y Ventas - Depreciaciones, amortizaciones y deterioros","Depreciación propiedades, planta y equipo - Del costo",{"$f":"IF(Bloques[[#This Row],[Segmento]]=Parametros[Segmento],COUNTIFS(OFFSET(Ref_Segmento,Parametros[Fila]-1,0,Parametros[Alto]),Bloques[[#This Row],[Segmento]],OFFSET(Ref_Conteo,Parametros[Fila]-1,0,Parametros[Alto]),Bloques[[#This Row],[Bloque]],OFFSET(Ref_Conteo,Parametros[Fila]-1,-1,Parametros[Alto]),Bloques[[#This Row],[Grupo]])-1,0)","v":0},null,null,""]
["Gastos","De Distribución y Ventas - Depreciaciones, amortizaciones y deterioros","Depreciación propiedades, planta y equipo - Del  ajuste acumulado por revaluaciones o reexpresiones ",{"$f":"IF(Bloques[[#This Row],[Segmento]]=Parametros[Segmento],COUNTIFS(OFFSET(Ref_Segmento,Parametros[Fila]-1,0,Parametros[Alto]),Bloques[[#This Row],[Segmento]],OFFSET(Ref_Conteo,Parametros[Fila]-1,0,Parametros[Alto]),Bloques[[#This Row],[Bloque]],OFFSET(Ref_Conteo,Parametros[Fila]-1,-1,Parametros[Alto]),Bloques[[#This Row],[Grupo]])-1,0)","v":0},null,null,""]
["Gastos","De Distribución y Ventas - Depreciaciones, amortizaciones y deterioros","Depreciación propiedades de inversión - Del costo",{"$f":"IF(Bloques[[#This Row],[Segmento]]=Parametros[Segmento],COUNTIFS(OFFSET(Ref_Segmento,Parametros[Fila]-1,0,Parametros[Alto]),Bloques[[#This Row],[Segmento]],OFFSET(Ref_Conteo,Parametros[Fila]-1,0,Parametros[Alto]),Bloques[[#This Row],[Bloque]],OFFSET(Ref_Conteo,Parametros[Fila]-1,-1,Parametros[Alto]),Bloques[[#This Row],[Grupo]])-1,0)","v":0},null,null,""]
["Gastos","De Distribución y Ventas - Depreciaciones, amortizaciones y deterioros","Depreciación propiedades de inversión - Del  ajuste acumulado por revaluaciones o reexpresiones ",{"$f":"IF(Bloques[[#This Row],[Segmento]]=Parametros[Segmento],COUNTIFS(OFFSET(Ref_Segmento,Parametros[Fila]-1,0,Parametros[Alto]),Bloques[[#This Row],[Segmento]],OFFSET(Ref_Conteo,Parametros[Fila]-1,0,Parametros[Alto]),Bloques[[#This Row],[Bloque]],OFFSET(Ref_Conteo,Parametros[Fila]-1,-1,Parametros[Alto]),Bloques[[#This Row],[Grupo]])-1,0)","v":0},null,null,""]
["Gastos","De Distribución y Ventas - Depreciaciones, amortizaciones y deterioros","Depreciación activos biológicos - Del costo",{"$f":"IF(Bloques[[#This Row],[Segmento]]=Parametros[Segmento],COUNTIFS(OFFSET(Ref_Segmento,Parametros[Fila]-1,0,Parametros[Alto]),Bloques[[#This Row],[Segmento]],OFFSET(Ref_Conteo,Parametros[Fila]-1,0,Parametros[Alto]),Bloques[[#This Row],[Bloque]],OFFSET(Ref_Conteo,Parametros[Fila]-1,-1,Parametros[Alto]),Bloques[[#This Row],[Grupo]])-1,0)","v":0},null,null,""]
["Gastos","De Distribución y Ventas - Depreciaciones, amortizaciones y deterioros","Depreciación activos biológicos - Del  ajuste acumulado por revaluaciones o reexpresiones ",{"$f":"IF(Bloques[[#This Row],[Segmento]]=Parametros[Segmento],COUNTIFS(OFFSET(Ref_Segmento,Parametros[Fila]-1,0,Parametros[Alto]),Bloques[[#This Row],[Segmento]],OFFSET(Ref_Conteo,Parametros[Fila]-1,0,Parametros[Alto]),Bloques[[#This Row],[Bloque]],OFFSET(Ref_Conteo,Parametros[Fila]-1,-1,Parametros[Alto]),Bloques[[#This Row],[Grupo]])-1,0)","v":0},null,null,""]
["Gastos","De Distribución y Ventas - Depreciaciones, amortizaciones y deterioros","Amortización activos intangibles - Del costo",{"$f":"IF(Bloques[[#This Row],[Segmento]]=Parametros[Segmento],COUNTIFS(OFFSET(Ref_Segmento,Parametros[Fila]-1,0,Parametros[Alto]),Bloques[[#This Row],[Segmento]],OFFSET(Ref_Conteo,Parametros[Fila]-1,0,Parametros[Alto]),Bloques[[#This Row],[Bloque]],OFFSET(Ref_Conteo,Parametros[Fila]-1,-1,Parametros[Alto]),Bloques[[#This Row],[Grupo]])-1,0)","v":0},null,null,""]
["Gastos","De Distribución y Ventas - Depreciaciones, amortizaciones y deterioros","Amortización activos intangibles - Del ajuste acumulado por revaluaciones o reexpresiones ",{"$f":"IF(Bloques[[#This Row],[Segmento]]=Parametros[Segmento],COUNTIFS(OFFSET(Ref_Segmento,Parametros[Fila]-1,0,Parametros[Alto]),Bloques[[#This Row],[Segmento]],OFFSET(Ref_Conteo,Parametros[Fila]-1,0,Parametros[Alto]),Bloques[[#This Row],[Bloque]],OFFSET(Ref_Conteo,Parametros[Fila]-1,-1,Parametros[Alto]),Bloques[[#This Row],[Grupo]])-1,0)","v":0},null,null,""]
["Gastos","De Distribución y Ventas - Depreciaciones, amortizaciones y deterioros","Depreciación Arrendamientos Operativos (NIIF 16)",{"$f":"IF(Bloques[[#This Row],[Segmento]]=Parametros[Segmento],COUNTIFS(OFFSET(Ref_Segmento,Parametros[Fila]-1,0,Parametros[Alto]),Bloques[[#This Row],[Segmento]],OFFSET(Ref_Conteo,Parametros[Fila]-1,0,Parametros[Alto]),Bloques[[#This Row],[Bloque]],OFFSET(Ref_Conteo,Parametros[Fila]-1,-1,Parametros[Alto]),Bloques[[#This Row],[Grupo]])-1,0)","v":0},null,null,""]
["Gastos","De Distribución y Ventas - Depreciaciones, amortizaciones y deterioros","Otras depreciaciones y amortizaciones - Del costo ",{"$f":"IF(Bloques[[#This Row],[Segmento]]=Parametros[Segmento],COUNTIFS(OFFSET(Ref_Segmento,Parametros[Fila]-1,0,Parametros[Alto]),Bloques[[#This Row],[Segmento]],OFFSET(Ref_Conteo,Parametros[Fila]-1,0,Parametros[Alto]),Bloques[[#This Row],[Bloque]],OFFSET(Ref_Conteo,Parametros[Fila]-1,-1,Parametros[Alto]),Bloques[[#This Row],[Grupo]])-1,0)","v":0},null,null,""]
["Gastos","De Distribución y Ventas - Depreciaciones, amortizaciones y deterioros","Otras depreciaciones y amortizaciones - Del ajuste acumulado por revaluaciones o reexpresiones ",{"$f":"IF(Bloques[[#This Row],[Segmento]]=Parametros[Segmento],COUNTIFS(OFFSET(Ref_Segmento,Parametros[Fila]-1,0,Parametros[Alto]),Bloques[[#This Row],[Segmento]],OFFSET(Ref_Conteo,Parametros[Fila]-1,0,Parametros[Alto]),Bloques[[#This Row],[Bloque]],OFFSET(Ref_Conteo,Parametros[Fila]-1,-1,Parametros[Alto]),Bloques[[#This Row],[Grupo]])-1,0)","v":0},null,null,""]
["Gastos","De Distribución y Ventas - Depreciaciones, amortizaciones y deterioros","Deterioro del valor de los activos - Inventarios ",{"$f":"IF(Bloques[[#This Row],[Segmento]]=Parametros[Segmento],COUNTIFS(OFFSET(Ref_Segmento,Parametros[Fila]-1,0,Parametros[Alto]),Bloques[[#This Row],[Segmento]],OFFSET(Ref_Conteo,Parametros[Fila]-1,0,Parametros[Alto]),Bloques[[#This Row],[Bloque]],OFFSET(Ref_Conteo,Parametros[Fila]-1,-1,Parametros[Alto]),Bloques[[#This Row],[Grupo]])-1,0)","v":0},null,null,""]
["Gastos","De Distribución y Ventas - Depreciaciones, amortizaciones y deterioros","Deterioro del valor de los activos - Propiedades, planta y equipo ",{"$f":"IF(Bloques[[#This Row],[Segmento]]=Parametros[Segmento],COUNTIFS(OFFSET(Ref_Segmento,Parametros[Fila]-1,0,Parametros[Alto]),Bloques[[#This Row],[Segmento]],OFFSET(Ref_Conteo,Parametros[Fila]-1,0,Parametros[Alto]),Bloques[[#This Row],[Bloque]],OFFSET(Ref_Conteo,Parametros[Fila]-1,-1,Parametros[Alto]),Bloques[[#This Row],[Grupo]])-1,0)","v":0},null,null,""]
["Gastos","De Distribución y Ventas - Depreciaciones, amortizaciones y deterioros","Deterioro del valor de los activos - Activos intangibles",{"$f":"IF(Bloques[[#This Row],[Segmento]]=Parametros[Segmento],COUNTIFS(OFFSET(Ref_Segmento,Parametros[Fila]-1,0,Parametros[Alto]),Bloques[[#This Row],[Segmento]],OFFSET(Ref_Conteo,Parametros[Fila]-1,0,Parametros[Alto]),Bloques[[#This Row],[Bloque]],OFFSET(Ref_Conteo,Parametros[Fila]-1,-1,Parametros[Alto]),Bloques[[#This Row],[Grupo]])-1,0)","v":0},null,null,""]
["Gastos","De Distribución y Ventas - Depreciaciones, amortizaciones y deterioros","Deterioro del valor de los activos - Activos de exploración y evaluación de recursos minerales ",{"$f":"IF(Bloques[[#This Row],[Segmento]]=Parametros[Segmento],COUNTIFS(OFFSET(Ref_Segmento,Parametros[Fila]-1,0,Parametros[Alto]),Bloques[[#This Row],[Segmento]],OFFSET(Ref_Conteo,Parametros[Fila]-1,0,Parametros[Alto]),Bloques[[#This Row],[Bloque]],OFFSET(Ref_Conteo,Parametros[Fila]-1,-1,Parametros[Alto]),Bloques[[#This Row],[Grupo]])-1,0)","v":0},null,null,""]
["Gastos","De Distribución y Ventas - Depreciaciones, amortizaciones y deterioros","Deterioro del valor de los activos - Propiedades de inversión medidas al modelo de costo ",{"$f":"IF(Bloques[[#This Row],[Segmento]]=Parametros[Segmento],COUNTIFS(OFFSET(Ref_Segmento,Parametros[Fila]-1,0,Parametros[Alto]),Bloques[[#This Row],[Segmento]],OFFSET(Ref_Conteo,Parametros[Fila]-1,0,Parametros[Alto]),Bloques[[#This Row],[Bloque]],OFFSET(Ref_Conteo,Parametros[Fila]-1,-1,Parametros[Alto]),Bloques[[#This Row],[Grupo]])-1,0)","v":0},null,null,""]
["Gastos","De Distribución y Ventas - Depreciaciones, amortizaciones y deterioros","Deterioro del valor de los activos -  Activos no corrientes mantenidos para la venta / Distribuir a los propietarios ",{"$f":"IF(Bloques[[#This Row],[Segmento]]=Parametros[Segmento],COUNTIFS(OFFSET(Ref_Segmento,Parametros[Fila]-1,0,Parametros[Alto]),Bloques[[#This Row],[Segmento]],OFFSET(Ref_Conteo,Parametros[Fila]-1,0,Parametros[Alto]),Bloques[[#This Row],[Bloque]],OFFSET(Ref_Conteo,Parametros[Fila]-1,-1,Parametros[Alto]),Bloques[[#This Row],[Grupo]])-1,0)","v":0},null,null,""]
["Gastos","De Distribución y Ventas - Depreciaciones, amortizaciones y deterioros","Deterioro del valor de los activos -  Bienes de arte y cultura medido al modelo de costo ",{"$f":"IF(Bloques[[#This Row],[Segmento]]=Parametros[Segmento],COUNTIFS(OFFSET(Ref_Segmento,Parametros[Fila]-1,0,Parametros[Alto]),Bloques[[#This Row],[Segmento]],OFFSET(Ref_Conteo,Parametros[Fila]-1,0,Parametros[Alto]),Bloques[[#This Row],[Bloque]],OFFSET(Ref_Conteo,Parametros[Fila]-1,-1,Parametros[Alto]),Bloques[[#This Row],[Grupo]])-1,0)","v":0},null,null,""]
["Gastos","De Distribución y Ventas - Depreciaciones, amortizaciones y deterioros","Deterioro del valor de los activos -  Activos biológicos medidos al modelo del costo ",{"$f":"IF(Bloques[[#This Row],[Segmento]]=Parametros[Segmento],COUNTIFS(OFFSET(Ref_Segmento,Parametros[Fila]-1,0,Parametros[Alto]),Bloques[[#This Row],[Segmento]],OFFSET(Ref_Conteo,Parametros[Fila]-1,0,Parametros[Alto]),Bloques[[#This Row],[Bloque]],OFFSET(Ref_Conteo,Parametros[Fila]-1,-1,Parametros[Alto]),Bloques[[#This Row],[Grupo]])-1,0)","v":0},null,null,""]
["Gastos","De Distribución y Ventas - Depreciaciones, amortizaciones y deterioros","Deterioro del valor de los activos -  Activos financieros (diferentes a cartera de crédito y operaciones de leasing)",{"$f":"IF(Bloques[[#This Row],[Segmento]]=Parametros[Segmento],COUNTIFS(OFFSET(Ref_Segmento,Parametros[Fila]-1,0,Parametros[Alto]),Bloques[[#This Row],[Segmento]],OFFSET(Ref_Conteo,Parametros[Fila]-1,0,Parametros[Alto]),Bloques[[#This Row],[Bloque]],OFFSET(Ref_Conteo,Parametros[Fila]-1,-1,Parametros[Alto]),Bloques[[#This Row],[Grupo]])-1,0)","v":0},null,null,""]
["Gastos","De Distribución y Ventas - Depreciaciones, amortizaciones y deterioros","Deterioro del valor de los activos -  Cartera de crédito y operaciones de leasing ",{"$f":"IF(Bloques[[#This Row],[Segmento]]=Parametros[Segmento],COUNTIFS(OFFSET(Ref_Segmento,Parametros[Fila]-1,0,Parametros[Alto]),Bloques[[#This Row],[Segmento]],OFFSET(Ref_Conteo,Parametros[Fila]-1,0,Parametros[Alto]),Bloques[[#This Row],[Bloque]],OFFSET(Ref_Conteo,Parametros[Fila]-1,-1,Parametros[Alto]),Bloques[[#This Row],[Grupo]])-1,0)","v":0},null,null,""]
["Gastos","De Distribución y Ventas - Depreciaciones, amortizaciones y deterioros","Deterioro del valor de los activos -  Otras inversiones medidas al costo o por el método de la participación ",{"$f":"IF(Bloques[[#This Row],[Segmento]]=Parametros[Segmento],COUNTIFS(OFFSET(Ref_Segmento,Parametros[Fila]-1,0,Parametros[Alto]),Bloques[[#This Row],[Segmento]],OFFSET(Ref_Conteo,Parametros[Fila]-1,0,Parametros[Alto]),Bloques[[#This Row],[Bloque]],OFFSET(Ref_Conteo,Parametros[Fila]-1,-1,Parametros[Alto]),Bloques[[#This Row],[Grupo]])-1,0)","v":0},null,null,""]
["Gastos","De Distribución y Ventas - Depreciaciones, amortizaciones y deterioros","Deterioro del valor de los activos -  Derechos de uso en arrendamientos operativos (NIIF 16)",{"$f":"IF(Bloques[[#This Row],[Segmento]]=Parametros[Segmento],COUNTIFS(OFFSET(Ref_Segmento,Parametros[Fila]-1,0,Parametros[Alto]),Bloques[[#This Row],[Segmento]],OFFSET(Ref_Conteo,Parametros[Fila]-1,0,Parametros[Alto]),Bloques[[#This Row],[Bloque]],OFFSET(Ref_Conteo,Parametros[Fila]-1,-1,Parametros[Alto]),Bloques[[#This Row],[Grupo]])-1,0)","v":0},null,null,""]
["Gastos","De Distribución y Ventas - Depreciaciones, amortizaciones y deterioros","Otros deterioros",{"$f":"IF(Bloques[[#This Row],[Segmento]]=Parametros[Segmento],COUNTIFS(OFFSET(Ref_Segmento,Parametros[Fila]-1,0,Parametros[Alto]),Bloques[[#This Row],[Segmento]],OFFSET(Ref_Conteo,Parametros[Fila]-1,0,Parametros[Alto]),Bloques[[#This Row],[Bloque]],OFFSET(Ref_Conteo,Parametros[Fila]-1,-1,Parametros[Alto]),Bloques[[#This Row],[Grupo]])-1,0)","v":0},null,null,""]
["Gastos","Financieros","Arrendamiento Financiero o mercantil (leasing)",{"$f":"IF(Bloques[[#This Row],[Segmento]]=Parametros[Segmento],COUNTIFS(OFFSET(Ref_Segmento,Parametros[Fila]-1,0,Parametros[Alto]),Bloques[[#This Row],[Segmento]],OFFSET(Ref_Conteo,Parametros[Fila]-1,0,Parametros[Alto]),Bloques[[#This Row],[Bloque]],OFFSET(Ref_Conteo,Parametros[Fila]-1,-1,Parametros[Alto]),Bloques[[#This Row],[Grupo]])-1,0)","v":0},null,null,""]
["Gastos","Financieros","Arrendamiento Operativo (NIIF 16)",{"$f":"IF(Bloques[[#This Row],[Segmento]]=Parametros[Segmento],COUNTIFS(OFFSET(Ref_Segmento,Parametros[Fila]-1,0,Parametros[Alto]),Bloques[[#This Row],[Segmento]],OFFSET(Ref_Conteo,Parametros[Fila]-1,0,Parametros[Alto]),Bloques[[#This Row],[Bloque]],OFFSET(Ref_Conteo,Parametros[Fila]-1,-1,Parametros[Alto]),Bloques[[#This Row],[Grupo]])-1,0)","v":0},null,null,""]
["Gastos","Financieros","Intereses devengados - sector financiero",{"$f":"IF(Bloques[[#This Row],[Segmento]]=Parametros[Segmento],COUNTIFS(OFFSET(Ref_Segmento,Parametros[Fila]-1,0,Parametros[Alto]),Bloques[[#This Row],[Segmento]],OFFSET(Ref_Conteo,Parametros[Fila]-1,0,Parametros[Alto]),Bloques[[#This Row],[Bloque]],OFFSET(Ref_Conteo,Parametros[Fila]-1,-1,Parametros[Alto]),Bloques[[#This Row],[Grupo]])-1,0)","v":0},null,null,""]
["Gastos","Financieros","Intereses devengados por préstamos de terceros (distintos al sector financiero)",{"$f":"IF(Bloques[[#This Row],[Segmento]]=Parametros[Segmento],COUNTIFS(OFFSET(Ref_Segmento,Parametros[Fila]-1,0,Parametros[Alto]),Bloques[[#This Row],[Segmento]],OFFSET(Ref_Conteo,Parametros[Fila]-1,0,Parametros[Alto]),Bloques[[#This Row],[Bloque]],OFFSET(Ref_Conteo,Parametros[Fila]-1,-1,Parametros[Alto]),Bloques[[#This Row],[Grupo]])-1,0)","v":0},null,null,""]
["Gastos","Financieros","Por instrumentos financieros medidos a costo amortizado distinto a préstamos ",{"$f":"IF(Bloques[[#This Row],[Segmento]]=Parametros[Segmento],COUNTIFS(OFFSET(Ref_Segmento,Parametros[Fila]-1,0,Parametros[Alto]),Bloques[[#This Row],[Segmento]],OFFSET(Ref_Conteo,Parametros[Fila]-1,0,Parametros[Alto]),Bloques[[#This Row],[Bloque]],OFFSET(Ref_Conteo,Parametros[Fila]-1,-1,Parametros[Alto]),Bloques[[#This Row],[Grupo]])-1,0)","v":0},null,null,""]
["Gastos","Financieros","Costos de transacción ",{"$f":"IF(Bloques[[#This Row],[Segmento]]=Parametros[Segmento],COUNTIFS(OFFSET(Ref_Segmento,Parametros[Fila]-1,0,Parametros[Alto]),Bloques[[#This Row],[Segmento]],OFFSET(Ref_Conteo,Parametros[Fila]-1,0,Parametros[Alto]),Bloques[[#This Row],[Bloque]],OFFSET(Ref_Conteo,Parametros[Fila]-1,-1,Parametros[Alto]),Bloques[[#This Row],[Grupo]])-1,0)","v":0},null,null,""]
["Gastos","Financieros","Diferencia en cambio",{"$f":"IF(Bloques[[#This Row],[Segmento]]=Parametros[Segmento],COUNTIFS(OFFSET(Ref_Segmento,Parametros[Fila]-1,0,Parametros[Alto]),Bloques[[#This Row],[Segmento]],OFFSET(Ref_Conteo,Parametros[Fila]-1,0,Parametros[Alto]),Bloques[[#This Row],[Bloque]],OFFSET(Ref_Conteo,Parametros[Fila]-1,-1,Parametros[Alto]),Bloques[[#This Row],[Grupo]])-1,0)","v":0},null,null,""]
["Gastos","Financieros","Intereses implícitos (transacciones de financiación)",{"$f":"IF(Bloques[[#This Row],[Segmento]]=Parametros[Segmento],COUNTIFS(OFFSET(Ref_Segmento,Parametros[Fila]-1,0,Parametros[Alto]),Bloques[[#This Row],[Segmento]],OFFSET(Ref_Conteo,Parametros[Fila]-1,0,Parametros[Alto]),Bloques[[#This Row],[Bloque]],OFFSET(Ref_Conteo,Parametros[Fila]-1,-1,Parametros[Alto]),Bloques[[#This Row],[Grupo]])-1,0)","v":0},null,null,""]
["Gastos","Financieros","Actualización de provisiones reconocidas a valor presente ",{"$f":"IF(Bloques[[#This Row],[Segmento]]=Parametros[Segmento],COUNTIFS(OFFSET(Ref_Segmento,Parametros[Fila]-1,0,Parametros[Alto]),Bloques[[#This Row],[Segmento]],OFFSET(Ref_Conteo,Parametros[Fila]-1,0,Parametros[Alto]),Bloques[[#This Row],[Bloque]],OFFSET(Ref_Conteo,Parametros[Fila]-1,-1,Parametros[Alto]),Bloques[[#This Row],[Grupo]])-1,0)","v":0},null,null,""]
["Gastos","Financieros","Intereses por acciones preferenciales ",{"$f":"IF(Bloques[[#This Row],[Segmento]]=Parametros[Segmento],COUNTIFS(OFFSET(Ref_Segmento,Parametros[Fila]-1,0,Parametros[Alto]),Bloques[[#This Row],[Segmento]],OFFSET(Ref_Conteo,Parametros[Fila]-1,0,Parametros[Alto]),Bloques[[#This Row],[Bloque]],OFFSET(Ref_Conteo,Parametros[Fila]-1,-1,Parametros[Alto]),Bloques[[#This Row],[Grupo]])-1,0)","v":0},null,null,""]
["Gastos","Financieros","Otros gastos financieros reconocidos como gasto en el estado de resultados ",{"$f":"IF(Bloques[[#This Row],[Segmento]]=Parametros[Segmento],COUNTIFS(OFFSET(Ref_Segmento,Parametros[Fila]-1,0,Parametros[Alto]),Bloques[[#This Row],[Segmento]],OFFSET(Ref_Conteo,Parametros[Fila]-1,0,Parametros[Alto]),Bloques[[#This Row],[Bloque]],OFFSET(Ref_Conteo,Parametros[Fila]-1,-1,Parametros[Alto]),Bloques[[#This Row],[Grupo]])-1,0)","v":0},null,null,""]
["Gastos","Provisiones, otros gastos y pérdidas ","Gastos por provisiones - Garantías",{"$f":"IF(Bloques[[#This Row],[Segmento]]=Parametros[Segmento],COUNTIFS(OFFSET(Ref_Segmento,Parametros[Fila]-1,0,Parametros[Alto]),Bloques[[#This Row],[Segmento]],OFFSET(Ref_Conteo,Parametros[Fila]-1,0,Parametros[Alto]),Bloques[[#This Row],[Bloque]],OFFSET(Ref_Conteo,Parametros[Fila]-1,-1,Parametros[Alto]),Bloques[[#This Row],[Grupo]])-1,0)","v":0},null,null,""]
["Gastos","Provisiones, otros gastos y pérdidas ","Gastos por provisiones - Contratos onerosos",{"$f":"IF(Bloques[[#This Row],[Segmento]]=Parametros[Segmento],COUNTIFS(OFFSET(Ref_Segmento,Parametros[Fila]-1,0,Parametros[Alto]),Bloques[[#This Row],[Segmento]],OFFSET(Ref_Conteo,Parametros[Fila]-1,0,Parametros[Alto]),Bloques[[#This Row],[Bloque]],OFFSET(Ref_Conteo,Parametros[Fila]-1,-1,Parametros[Alto]),Bloques[[#This Row],[Grupo]])-1,0)","v":0},null,null,""]
["Gastos","Provisiones, otros gastos y pérdidas ","Gastos por provisiones - Litigios",{"$f":"IF(Bloques[[#This Row],[Segmento]]=Parametros[Segmento],COUNTIFS(OFFSET(Ref_Segmento,Parametros[Fila]-1,0,Parametros[Alto]),Bloques[[#This Row],[Segmento]],OFFSET(Ref_Conteo,Parametros[Fila]-1,0,Parametros[Alto]),Bloques[[#This Row],[Bloque]],OFFSET(Ref_Conteo,Parametros[Fila]-1,-1,Parametros[Alto]),Bloques[[#This Row],[Grupo]])-1,0)","v":0},null,null,""]
["Gastos","Provisiones, otros gastos y pérdidas ","Gastos por provisiones - Reembolsos a clientes",{"$f":"IF(Bloques[[#This Row],[Segmento]]=Parametros[Segmento],COUNTIFS(OFFSET(Ref_Segmento,Parametros[Fila]-1,0,Parametros[Alto]),Bloques[[#This Row],[Segmento]],OFFSET(Ref_Conteo,Parametros[Fila]-1,0,Parametros[Alto]),Bloques[[#This Row],[Bloque]],OFFSET(Ref_Conteo,Parametros[Fila]-1,-1,Parametros[Alto]),Bloques[[#This Row],[Grupo]])-1,0)","v":0},null,null,""]
["Gastos","Provisiones, otros gastos y pérdidas ","Gastos por provisiones - Reestructuraciones de negocios ",{"$f":"IF(Bloques[[#This Row],[Segmento]]=Parametros[Segmento],COUNTIFS(OFFSET(Ref_Segmento,Parametros[Fila]-1,0,Parametros[Alto]),Bloques[[#This Row],[Segmento]],OFFSET(Ref_Conteo,Parametros[Fila]-1,0,Parametros[Alto]),Bloques[[#This Row],[Bloque]],OFFSET(Ref_Conteo,Parametros[Fila]-1,-1,Parametros[Alto]),Bloques[[#This Row],[Grupo]])-1,0)","v":0},null,null,""]
["Gastos","Provisiones, otros gastos y pérdidas ","Gastos por provisiones - Pasivos contingentes asumidos en una combinación de negocios ",{"$f":"IF(Bloques[[#This Row],[Segmento]]=Parametros[Segmento],COUNTIFS(OFFSET(Ref_Segmento,Parametros[Fila]-1,0,Parametros[Alto]),Bloques[[#This Row],[Segmento]],OFFSET(Ref_Conteo,Parametros[Fila]-1,0,Parametros[Alto]),Bloques[[#This Row],[Bloque]],OFFSET(Ref_Conteo,Parametros[Fila]-1,-1,Parametros[Alto]),Bloques[[#This Row],[Grupo]])-1,0)","v":0},null,null,""]
["Gastos","Provisiones, otros gastos y pérdidas ","Gastos por provisiones - Otros ",{"$f":"IF(Bloques[[#This Row],[Segmento]]=Parametros[Segmento],COUNTIFS(OFFSET(Ref_Segmento,Parametros[Fila]-1,0,Parametros[Alto]),Bloques[[#This Row],[Segmento]],OFFSET(Ref_Conteo,Parametros[Fila]-1,0,Parametros[Alto]),Bloques[[#This Row],[Bloque]],OFFSET(Ref_Conteo,Parametros[Fila]-1,-1,Parametros[Alto]),Bloques[[#This Row],[Grupo]])-1,0)","v":0},null,null,""]
["Gastos","Provisiones, otros gastos y pérdidas ","Otros gastos - Transferencias, subvenciones y ayudas gubernamentales ",{"$f":"IF(Bloques[[#This Row],[Segmento]]=Parametros[Segmento],COUNTIFS(OFFSET(Ref_Segmento,Parametros[Fila]-1,0,Parametros[Alto]),Bloques[[#This Row],[Segmento]],OFFSET(Ref_Conteo,Parametros[Fila]-1,0,Parametros[Alto]),Bloques[[#This Row],[Bloque]],OFFSET(Ref_Conteo,Parametros[Fila]-1,-1,Parametros[Alto]),Bloques[[#This Row],[Grupo]])-1,0)","v":0},null,null,""]
["Gastos","Provisiones, otros gastos y pérdidas ","Otros gastos - Donaciones, aportaciones y similares",{"$f":"IF(Bloques[[#This Row],[Segmento]]=Parametros[Segmento],COUNTIFS(OFFSET(Ref_Segmento,Parametros[Fila]-1,0,Parametros[Alto]),Bloques[[#This Row],[Segmento]],OFFSET(Ref_Conteo,Parametros[Fila]-1,0,Parametros[Alto]),Bloques[[#This Row],[Bloque]],OFFSET(Ref_Conteo,Parametros[Fila]-1,-1,Parametros[Alto]),Bloques[[#This Row],[Grupo]])-1,0)","v":0},null,null,""]
["Gastos","Provisiones, otros gastos y pérdidas ","Otros gastos - Contribuciones a educación de los empleados ",{"$f":"IF(Bloques[[#This Row],[Segmento]]=Parametros[Segmento],COUNTIFS(OFFSET(Ref_Segmento,Parametros[Fila]-1,0,Parametros[Alto]),Bloques[[#This Row],[Segmento]],OFFSET(Ref_Conteo,Parametros[Fila]-1,0,Parametros[Alto]),Bloques[[#This Row],[Bloque]],OFFSET(Ref_Conteo,Parametros[Fila]-1,-1,Parametros[Alto]),Bloques[[#This Row],[Grupo]])-1,0)","v":0},null,null,""]
["Gastos","Provisiones, otros gastos y pérdidas ","Otros gastos - Deducciones fiscales no reconocidas contablemente ",{"$f":"IF(Bloques[[#This Row],[Segmento]]=Parametros[Segmento],COUNTIFS(OFFSET(Ref_Segmento,Parametros[Fila]-1,0,Parametros[Alto]),Bloques[[#This Row],[Segmento]],OFFSET(Ref_Conteo,Parametros[Fila]-1,0,Parametros[Alto]),Bloques[[#This Row],[Bloque]],OFFSET(Ref_Conteo,Parametros[Fila]-1,-1,Parametros[Alto]),Bloques[[#This Row],[Grupo]])-1,0)","v":0},null,null,""]
["Gastos","Provisiones, otros gastos y pérdidas ","Otros gastos ",{"$f":"IF(Bloques[[#This Row],[Segmento]]=Parametros[Segmento],COUNTIFS(OFFSET(Ref_Segmento,Parametros[Fila]-1,0,Parametros[Alto]),Bloques[[#This Row],[Segmento]],OFFSET(Ref_Conteo,Parametros[Fila]-1,0,Parametros[Alto]),Bloques[[#This Row],[Bloque]],OFFSET(Ref_Conteo,Parametros[Fila]-1,-1,Parametros[Alto]),Bloques[[#This Row],[Grupo]])-1,0)","v":0},null,null,""]
["Gastos","Provisiones, otros gastos y pérdidas ","Pérdidas por inversiones en subsidiarias, asociadas y/o negocios conjuntos - Pérdidas por método de participación",{"$f":"IF(Bloques[[#This Row],[Segmento]]=Parametros[Segmento],COUNTIFS(OFFSET(Ref_Segmento,Parametros[Fila]-1,0,Parametros[Alto]),Bloques[[#This Row],[Segmento]],OFFSET(Ref_Conteo,Parametros[Fila]-1,0,Parametros[Alto]),Bloques[[#This Row],[Bloque]],OFFSET(Ref_Conteo,Parametros[Fila]-1,-1,Parametros[Alto]),Bloques[[#This Row],[Grupo]])-1,0)","v":0},null,null,""]
["Gastos","Provisiones, otros gastos y pérdidas ","Pérdidas por inversiones en subsidiarias, asociadas y/o negocios conjuntos - Pérdidas por mediciones a valor razonable",{"$f":"IF(Bloques[[#This Row],[Segmento]]=Parametros[Segmento],COUNTIFS(OFFSET(Ref_Segmento,Parametros[Fila]-1,0,Parametros[Alto]),Bloques[[#This Row],[Segmento]],OFFSET(Ref_Conteo,Parametros[Fila]-1,0,Parametros[Alto]),Bloques[[#This Row],[Bloque]],OFFSET(Ref_Conteo,Parametros[Fila]-1,-1,Parametros[Alto]),Bloques[[#This Row],[Grupo]])-1,0)","v":0},null,null,""]
["Gastos","Provisiones, otros gastos y pérdidas ","Pérdidas por mediciones a valor razonable - Activos biológicos",{"$f":"IF(Bloques[[#This Row],[Segmento]]=Parametros[Segmento],COUNTIFS(OFFSET(Ref_Segmento,Parametros[Fila]-1,0,Parametros[Alto]),Bloques[[#This Row],[Segmento]],OFFSET(Ref_Conteo,Parametros[Fila]-1,0,Parametros[Alto]),Bloques[[#This Row],[Bloque]],OFFSET(Ref_Conteo,Parametros[Fila]-1,-1,Parametros[Alto]),Bloques[[#This Row],[Grupo]])-1,0)","v":0},null,null,""]
["Gastos","Provisiones, otros gastos y pérdidas ","Pérdidas por mediciones a valor razonable - Propiedades de inversión",{"$f":"IF(Bloques[[#This Row],[Segmento]]=Parametros[Segmento],COUNTIFS(OFFSET(Ref_Segmento,Parametros[Fila]-1,0,Parametros[Alto]),Bloques[[#This Row],[Segmento]],OFFSET(Ref_Conteo,Parametros[Fila]-1,0,Parametros[Alto]),Bloques[[#This Row],[Bloque]],OFFSET(Ref_Conteo,Parametros[Fila]-1,-1,Parametros[Alto]),Bloques[[#This Row],[Grupo]])-1,0)","v":0},null,null,""]
["Gastos","Provisiones, otros gastos y pérdidas ","Pérdidas por mediciones a valor razonable - Instrumentos financieros",{"$f":"IF(Bloques[[#This Row],[Segmento]]=Parametros[Segmento],COUNTIFS(OFFSET(Ref_Segmento,Parametros[Fila]-1,0,Parametros[Alto]),Bloques[[#This Row],[Segmento]],OFFSET(Ref_Conteo,Parametros[Fila]-1,0,Parametros[Alto]),Bloques[[#This Row],[Bloque]],OFFSET(Ref_Conteo,Parametros[Fila]-1,-1,Parametros[Alto]),Bloques[[#This Row],[Grupo]])-1,0)","v":0},null,null,""]
["Gastos","Provisiones, otros gastos y pérdidas ","Pérdidas por mediciones a valor razonable - Instrumentos derivados",{"$f":"IF(Bloques[[#This Row],[Segmento]]=Parametros[Segmento],COUNTIFS(OFFSET(Ref_Segmento,Parametros[Fila]-1,0,Parametros[Alto]),Bloques[[#This Row],[Segmento]],OFFSET(Ref_Conteo,Parametros[Fila]-1,0,Parametros[Alto]),Bloques[[#This Row],[Bloque]],OFFSET(Ref_Conteo,Parametros[Fila]-1,-1,Parametros[Alto]),Bloques[[#This Row],[Grupo]])-1,0)","v":0},null,null,""]
["Gastos","Provisiones, otros gastos y pérdidas ","Pérdidas por mediciones a valor razonable - Otras",{"$f":"IF(Bloques[[#This Row],[Segmento]]=Parametros[Segmento],COUNTIFS(OFFSET(Ref_Segmento,Parametros[Fila]-1,0,Parametros[Alto]),Bloques[[#This Row],[Segmento]],OFFSET(Ref_Conteo,Parametros[Fila]-1,0,Parametros[Alto]),Bloques[[#This Row],[Bloque]],OFFSET(Ref_Conteo,Parametros[Fila]-1,-1,Parametros[Alto]),Bloques[[#This Row],[Grupo]])-1,0)","v":0},null,null,""]
["Gastos","Provisiones, otros gastos y pérdidas ","Pérdidas en la venta o enajenación de activos fijos - Propiedades, planta y equipo",{"$f":"IF(Bloques[[#This Row],[Segmento]]=Parametros[Segmento],COUNTIFS(OFFSET(Ref_Segmento,Parametros[Fila]-1,0,Parametros[Alto]),Bloques[[#This Row],[Segmento]],OFFSET(Ref_Conteo,Parametros[Fila]-1,0,Parametros[Alto]),Bloques[[#This Row],[Bloque]],OFFSET(Ref_Conteo,Parametros[Fila]-1,-1,Parametros[Alto]),Bloques[[#This Row],[Grupo]])-1,0)","v":0},null,null,""]
["Gastos","Provisiones, otros gastos y pérdidas ","Pérdidas en la venta o enajenación de activos fijos - Propiedades de inversión",{"$f":"IF(Bloques[[#This Row],[Segmento]]=Parametros[Segmento],COUNTIFS(OFFSET(Ref_Segmento,Parametros[Fila]-1,0,Parametros[Alto]),Bloques[[#This Row],[Segmento]],OFFSET(Ref_Conteo,Parametros[Fila]-1,0,Parametros[Alto]),Bloques[[#This Row],[Bloque]],OFFSET(Ref_Conteo,Parametros[Fila]-1,-1,Parametros[Alto]),Bloques[[#This Row],[Grupo]])-1,0)","v":0},null,null,""]
["Gastos","Provisiones, otros gastos y pérdidas ","Pérdidas en la venta o enajenación de activos fijos - Activos no corrientes mantenidos para la venta / Entregar a propietarios ",{"$f":"IF(Bloques[[#This Row],[Segmento]]=Parametros[Segmento],COUNTIFS(OFFSET(Ref_Segmento,Parametros[Fila]-1,0,Parametros[Alto]),Bloques[[#This Row],[Segmento]],OFFSET(Ref_Conteo,Parametros[Fila]-1,0,Parametros[Alto]),Bloques[[#This Row],[Bloque]],OFFSET(Ref_Conteo,Parametros[Fila]-1,-1,Parametros[Alto]),Bloques[[#This Row],[Grupo]])-1,0)","v":0},null,null,""]
["Gastos","Provisiones, otros gastos y pérdidas ","Pérdidas en la venta o enajenación de activos fijos - Valoración y venta de inversiones fondo de liquidez y títulos participativos, entre otros ",{"$f":"IF(Bloques[[#This Row],[Segmento]]=Parametros[Segmento],COUNTIFS(OFFSET(Ref_Segmento,Parametros[Fila]-1,0,Parametros[Alto]),Bloques[[#This Row],[Segmento]],OFFSET(Ref_Conteo,Parametros[Fila]-1,0,Parametros[Alto]),Bloques[[#This Row],[Bloque]],OFFSET(Ref_Conteo,Parametros[Fila]-1,-1,Parametros[Alto]),Bloques[[#This Row],[Grupo]])-1,0)","v":0},null,null,""]
["Gastos","Provisiones, otros gastos y pérdidas ","Pérdidas en la venta o enajenación de activos fijos - Por disposición de otros instrumentos financieros",{"$f":"IF(Bloques[[#This Row],[Segmento]]=Parametros[Segmento],COUNTIFS(OFFSET(Ref_Segmento,Parametros[Fila]-1,0,Parametros[Alto]),Bloques[[#This Row],[Segmento]],OFFSET(Ref_Conteo,Parametros[Fila]-1,0,Parametros[Alto]),Bloques[[#This Row],[Bloque]],OFFSET(Ref_Conteo,Parametros[Fila]-1,-1,Parametros[Alto]),Bloques[[#This Row],[Grupo]])-1,0)","v":0},null,null,""]
["Gastos","Provisiones, otros gastos y pérdidas ","Pérdidas en la venta o enajenación de activos fijos - Activos intangibles",{"$f":"IF(Bloques[[#This Row],[Segmento]]=Parametros[Segmento],COUNTIFS(OFFSET(Ref_Segmento,Parametros[Fila]-1,0,Parametros[Alto]),Bloques[[#This Row],[Segmento]],OFFSET(Ref_Conteo,Parametros[Fila]-1,0,Parametros[Alto]),Bloques[[#This Row],[Bloque]],OFFSET(Ref_Conteo,Parametros[Fila]-1,-1,Parametros[Alto]),Bloques[[#This Row],[Grupo]])-1,0)","v":0},null,null,""]
["Gastos","Provisiones, otros gastos y pérdidas ","Pérdidas en la venta o enajenación de activos fijos - Descuento en operaciones de factoring ",{"$f":"IF(Bloques[[#This Row],[Segmento]]=Parametros[Segmento],COUNTIFS(OFFSET(Ref_Segmento,Parametros[Fila]-1,0,Parametros[Alto]),Bloques[[#This Row],[Segmento]],OFFSET(Ref_Conteo,Parametros[Fila]-1,0,Parametros[Alto]),Bloques[[#This Row],[Bloque]],OFFSET(Ref_Conteo,Parametros[Fila]-1,-1,Parametros[Alto]),Bloques[[#This Row],[Grupo]])-1,0)","v":0},null,null,""]
["Gastos","Provisiones, otros gastos y pérdidas ","Pérdidas en la venta o enajenación de activos fijos - Inversiones en acciones y otras participaciones",{"$f":"IF(Bloques[[#This Row],[Segmento]]=Parametros[Segmento],COUNTIFS(OFFSET(Ref_Segmento,Parametros[Fila]-1,0,Parametros[Alto]),Bloques[[#This Row],[Segmento]],OFFSET(Ref_Conteo,Parametros[Fila]-1,0,Parametros[Alto]),Bloques[[#This Row],[Bloque]],OFFSET(Ref_Conteo,Parametros[Fila]-1,-1,Parametros[Alto]),Bloques[[#This Row],[Grupo]])-1,0)","v":0},null,null,""]
["Gastos","Provisiones, otros gastos y pérdidas ","Pérdidas en la venta o enajenación de activos fijos - Otros ",{"$f":"IF(Bloques[[#This Row],[Segmento]]=Parametros[Segmento],COUNTIFS(OFFSET(Ref_Segmento,Parametros[Fila]-1,0,Parametros[Alto]),Bloques[[#This Row],[Segmento]],OFFSET(Ref_Conteo,Parametros[Fila]-1,0,Parametros[Alto]),Bloques[[#This Row],[Bloque]],OFFSET(Ref_Conteo,Parametros[Fila]-1,-1,Parametros[Alto]),Bloques[[#This Row],[Grupo]])-1,0)","v":0},null,null,""]
["Gastos","Provisiones, otros gastos y pérdidas ","Pérdidas netas en operaciones discontinuadas",{"$f":"IF(Bloques[[#This Row],[Segmento]]=Parametros[Segmento],COUNTIFS(OFFSET(Ref_Segmento,Parametros[Fila]-1,0,Parametros[Alto]),Bloques[[#This Row],[Segmento]],OFFSET(Ref_Conteo,Parametros[Fila]-1,0,Parametros[Alto]),Bloques[[#This Row],[Bloque]],OFFSET(Ref_Conteo,Parametros[Fila]-1,-1,Parametros[Alto]),Bloques[[#This Row],[Grupo]])-1,0)","v":0},null,null,""]
["Gastos","Provisiones, otros gastos y pérdidas ","Menor gasto o deducción - Ajuste Precios de Transferencia ",{"$f":"IF(Bloques[[#This Row],[Segmento]]=Parametros[Segmento],COUNTIFS(OFFSET(Ref_Segmento,Parametros[Fila]-1,0,Parametros[Alto]),Bloques[[#This Row],[Segmento]],OFFSET(Ref_Conteo,Parametros[Fila]-1,0,Parametros[Alto]),Bloques[[#This Row],[Bloque]],OFFSET(Ref_Conteo,Parametros[Fila]-1,-1,Parametros[Alto]),Bloques[[#This Row],[Grupo]])-1,0)","v":0},null,null,""]
["Rentas Exentas","Rentas exentas","Total rentas exentas",{"$f":"IF(Bloques[[#This Row],[Segmento]]=Parametros[Segmento],COUNTIFS(OFFSET(Ref_Segmento,Parametros[Fila]-1,0,Parametros[Alto]),Bloques[[#This Row],[Segmento]],OFFSET(Ref_Conteo,Parametros[Fila]-1,0,Parametros[Alto]),Bloques[[#This Row],[Bloque]],OFFSET(Ref_Conteo,Parametros[Fila]-1,-1,Parametros[Alto]),Bloques[[#This Row],[Grupo]])-1,0)","v":0},null,null,""]
["Renta recup. deducciones","Rentas por recuperación de deducciones","Pérdidas en inventarios ",{"$f":"IF(Bloques[[#This Row],[Segmento]]=Parametros[Segmento],COUNTIFS(OFFSET(Ref_Segmento,Parametros[Fila]-1,0,Parametros[Alto]),Bloques[[#This Row],[Segmento]],OFFSET(Ref_Conteo,Parametros[Fila]-1,0,Parametros[Alto]),Bloques[[#This Row],[Bloque]],OFFSET(Ref_Conteo,Parametros[Fila]-1,-1,Parametros[Alto]),Bloques[[#This Row],[Grupo]])-1,0)","v":0},null,null,""]
["Renta recup. deducciones","Rentas por recuperación de deducciones","Depreciación",{"$f":"IF(Bloques[[#This Row],[Segmento]]=Parametros[Segmento],COUNTIFS(OFFSET(Ref_Segmento,Parametros[Fila]-1,0,Parametros[Alto]),Bloques[[#This Row],[Segmento]],OFFSET(Ref_Conteo,Parametros[Fila]-1,0,Parametros[Alto]),Bloques[[#This Row],[Bloque]],OFFSET(Ref_Conteo,Parametros[Fila]-1,-1,Parametros[Alto]),Bloques[[#This Row],[Grupo]])-1,0)","v":0},null,null,""]
["Renta recup. deducciones","Rentas por recuperación de deducciones","Pérdidas de activos fijos ",{"$f":"IF(Bloques[[#This Row],[Segmento]]=Parametros[Segmento],COUNTIFS(OFFSET(Ref_Segmento,Parametros[Fila]-1,0,Parametros[Alto]),Bloques[[#This Row],[Segmento]],OFFSET(Ref_Conteo,Parametros[Fila]-1,0,Parametros[Alto]),Bloques[[#This Row],[Bloque]],OFFSET(Ref_Conteo,Parametros[Fila]-1,-1,Parametros[Alto]),Bloques[[#This Row],[Grupo]])-1,0)","v":0},null,null,""]
["Renta recup. deducciones","Rentas por recuperación de deducciones","Amortización de inventarios ",{"$f":"IF(Bloques[[#This Row],[Segmento]]=Parametros[Segmento],COUNTIFS(OFFSET(Ref_Segmento,Parametros[Fila]-1,0,Parametros[Alto]),Bloques[[#This Row],[Segmento]],OFFSET(Ref_Conteo,Parametros[Fila]-1,0,Parametros[Alto]),Bloques[[#This Row],[Bloque]],OFFSET(Ref_Conteo,Parametros[Fila]-1,-1,Parametros[Alto]),Bloques[[#This Row],[Grupo]])-1,0)","v":0},null,null,""]
["Renta recup. deducciones","Rentas por recuperación de deducciones","Deudas de dudoso o difícil cobro",{"$f":"IF(Bloques[[#This Row],[Segmento]]=Parametros[Segmento],COUNTIFS(OFFSET(Ref_Segmento,Parametros[Fila]-1,0,Parametros[Alto]),Bloques[[#This Row],[Segmento]],OFFSET(Ref_Conteo,Parametros[Fila]-1,0,Parametros[Alto]),Bloques[[#This Row],[Bloque]],OFFSET(Ref_Conteo,Parametros[Fila]-1,-1,Parametros[Alto]),Bloques[[#This Row],[Grupo]])-1,0)","v":0},null,null,""]
["Renta recup. deducciones","Rentas por recuperación de deducciones","Otros conceptos no mencionados anteriormente",{"$f":"IF(Bloques[[#This Row],[Segmento]]=Parametros[Segmento],COUNTIFS(OFFSET(Ref_Segmento,Parametros[Fila]-1,0,Parametros[Alto]),Bloques[[#This Row],[Segmento]],OFFSET(Ref_Conteo,Parametros[Fila]-1,0,Parametros[Alto]),Bloques[[#This Row],[Bloque]],OFFSET(Ref_Conteo,Parametros[Fila]-1,-1,Parametros[Alto]),Bloques[[#This Row],[Grupo]])-1,0)","v":0},null,null,""]
["Otras rentas líq. gravab.","Otras rentas líquidas gravables","Activos omitidos ",{"$f":"IF(Bloques[[#This Row],[Segmento]]=Parametros[Segmento],COUNTIFS(OFFSET(Ref_Segmento,Parametros[Fila]-1,0,Parametros[Alto]),Bloques[[#This Row],[Segmento]],OFFSET(Ref_Conteo,Parametros[Fila]-1,0,Parametros[Alto]),Bloques[[#This Row],[Bloque]],OFFSET(Ref_Conteo,Parametros[Fila]-1,-1,Parametros[Alto]),Bloques[[#This Row],[Grupo]])-1,0)","v":0},null,null,""]
["Otras rentas líq. gravab.","Otras rentas líquidas gravables","Pasivos inexistentes",{"$f":"IF(Bloques[[#This Row],[Segmento]]=Parametros[Segmento],COUNTIFS(OFFSET(Ref_Segmento,Parametros[Fila]-1,0,Parametros[Alto]),Bloques[[#This Row],[Segmento]],OFFSET(Ref_Conteo,Parametros[Fila]-1,0,Parametros[Alto]),Bloques[[#This Row],[Bloque]],OFFSET(Ref_Conteo,Parametros[Fila]-1,-1,Parametros[Alto]),Bloques[[#This Row],[Grupo]])-1,0)","v":0},null,null,""]
["Otras rentas líq. gravab.","Otras rentas líquidas gravables","Pérdidas compensadas modificadas por Liquidación Oficial",{"$f":"IF(Bloques[[#This Row],[Segmento]]=Parametros[Segmento],COUNTIFS(OFFSET(Ref_Segmento,Parametros[Fila]-1,0,Parametros[Alto]),Bloques[[#This Row],[Segmento]],OFFSET(Ref_Conteo,Parametros[Fila]-1,0,Parametros[Alto]),Bloques[[#This Row],[Bloque]],OFFSET(Ref_Conteo,Parametros[Fila]-1,-1,Parametros[Alto]),Bloques[[#This Row],[Grupo]])-1,0)","v":0},null,null,""]
["Otras rentas líq. gravab.","Otras rentas líquidas gravables","Otras rentas líquidas gravables ",{"$f":"IF(Bloques[[#This Row],[Segmento]]=Parametros[Segmento],COUNTIFS(OFFSET(Ref_Segmento,Parametros[Fila]-1,0,Parametros[Alto]),Bloques[[#This Row],[Segmento]],OFFSET(Ref_Conteo,Parametros[Fila]-1,0,Parametros[Alto]),Bloques[[#This Row],[Bloque]],OFFSET(Ref_Conteo,Parametros[Fila]-1,-1,Parametros[Alto]),Bloques[[#This Row],[Grupo]])-1,0)","v":0},null,null,""]
["OtrasRentasLiqGravaESAL","Otras rentas líquidas gravables ESAL","Excedentes no reinvertidos",{"$f":"IF(Bloques[[#This Row],[Segmento]]=Parametros[Segmento],COUNTIFS(OFFSET(Ref_Segmento,Parametros[Fila]-1,0,Parametros[Alto]),Bloques[[#This Row],[Segmento]],OFFSET(Ref_Conteo,Parametros[Fila]-1,0,Parametros[Alto]),Bloques[[#This Row],[Bloque]],OFFSET(Ref_Conteo,Parametros[Fila]-1,-1,Parametros[Alto]),Bloques[[#This Row],[Grupo]])-1,0)","v":0},null,null,""]
["OtrasRentasLiqGravaESAL","Otras rentas líquidas gravables ESAL","Asignaciones permanentes no ejecutadas",{"$f":"IF(Bloques[[#This Row],[Segmento]]=Parametros[Segmento],COUNTIFS(OFFSET(Ref_Segmento,Parametros[Fila]-1,0,Parametros[Alto]),Bloques[[#This Row],[Segmento]],OFFSET(Ref_Conteo,Parametros[Fila]-1,0,Parametros[Alto]),Bloques[[#This Row],[Bloque]],OFFSET(Ref_Conteo,Parametros[Fila]-1,-1,Parametros[Alto]),Bloques[[#This Row],[Grupo]])-1,0)","v":0},null,null,""]
["OtrasRentasLiqGravaESAL","Otras rentas líquidas gravables ESAL","Inversiones liquidadas y no reinvertidas",{"$f":"IF(Bloques[[#This Row],[Segmento]]=Parametros[Segmento],COUNTIFS(OFFSET(Ref_Segmento,Parametros[Fila]-1,0,Parametros[Alto]),Bloques[[#This Row],[Segmento]],OFFSET(Ref_Conteo,Parametros[Fila]-1,0,Parametros[Alto]),Bloques[[#This Row],[Bloque]],OFFSET(Ref_Conteo,Parametros[Fila]-1,-1,Parametros[Alto]),Bloques[[#This Row],[Grupo]])-1,0)","v":0},null,null,""]
["OtrasRentasLiqGravaESAL","Otras rentas líquidas gravables ESAL","Otras rentas líquidas gravables generadas en ESAL ",{"$f":"IF(Bloques[[#This Row],[Segmento]]=Parametros[Segmento],COUNTIFS(OFFSET(Ref_Segmento,Parametros[Fila]-1,0,Parametros[Alto]),Bloques[[#This Row],[Segmento]],OFFSET(Ref_Conteo,Parametros[Fila]-1,0,Parametros[Alto]),Bloques[[#This Row],[Bloque]],OFFSET(Ref_Conteo,Parametros[Fila]-1,-1,Parametros[Alto]),Bloques[[#This Row],[Grupo]])-1,0)","v":0},null,null,""]
["Retenciones en la Fuente","Retenciones en la fuente por Ingresos Ordinarios","Retenciones en la fuente por Ingresos brutos Actividad Industrial, Comercial y Servicios - Venta de bienes",{"$f":"IF(Bloques[[#This Row],[Segmento]]=Parametros[Segmento],COUNTIFS(OFFSET(Ref_Segmento,Parametros[Fila]-1,0,Parametros[Alto]),Bloques[[#This Row],[Segmento]],OFFSET(Ref_Conteo,Parametros[Fila]-1,0,Parametros[Alto]),Bloques[[#This Row],[Bloque]],OFFSET(Ref_Conteo,Parametros[Fila]-1,-1,Parametros[Alto]),Bloques[[#This Row],[Grupo]])-1,0)","v":0},null,null,""]
["Retenciones en la Fuente","Retenciones en la fuente por Ingresos Ordinarios","Retenciones en la fuente por Ingresos brutos Actividad Industrial, Comercial y Servicios - Prestación de servicios (diferentes a honorarios profesionales)",{"$f":"IF(Bloques[[#This Row],[Segmento]]=Parametros[Segmento],COUNTIFS(OFFSET(Ref_Segmento,Parametros[Fila]-1,0,Parametros[Alto]),Bloques[[#This Row],[Segmento]],OFFSET(Ref_Conteo,Parametros[Fila]-1,0,Parametros[Alto]),Bloques[[#This Row],[Bloque]],OFFSET(Ref_Conteo,Parametros[Fila]-1,-1,Parametros[Alto]),Bloques[[#This Row],[Grupo]])-1,0)","v":0},null,null,""]
["Retenciones en la Fuente","Retenciones en la fuente por Ingresos Ordinarios","Retenciones en la fuente por Ingresos Brutos Actividad Industrial, Comercial y Servicios - Otros ingresos ",{"$f":"IF(Bloques[[#This Row],[Segmento]]=Parametros[Segmento],COUNTIFS(OFFSET(Ref_Segmento,Parametros[Fila]-1,0,Parametros[Alto]),Bloques[[#This Row],[Segmento]],OFFSET(Ref_Conteo,Parametros[Fila]-1,0,Parametros[Alto]),Bloques[[#This Row],[Bloque]],OFFSET(Ref_Conteo,Parametros[Fila]-1,-1,Parametros[Alto]),Bloques[[#This Row],[Grupo]])-1,0)","v":0},null,null,""]
["Retenciones en la Fuente","Retenciones en la fuente por Ingresos Ordinarios","Retenciones en la fuente por Ingresos financieros",{"$f":"IF(Bloques[[#This Row],[Segmento]]=Parametros[Segmento],COUNTIFS(OFFSET(Ref_Segmento,Parametros[Fila]-1,0,Parametros[Alto]),Bloques[[#This Row],[Segmento]],OFFSET(Ref_Conteo,Parametros[Fila]-1,0,Parametros[Alto]),Bloques[[#This Row],[Bloque]],OFFSET(Ref_Conteo,Parametros[Fila]-1,-1,Parametros[Alto]),Bloques[[#This Row],[Grupo]])-1,0)","v":0},null,null,""]
["Retenciones en la Fuente","Retenciones en la fuente por Ingresos Ordinarios","Retenciones en la fuente por Dividendos ",{"$f":"IF(Bloques[[#This Row],[Segmento]]=Parametros[Segmento],COUNTIFS(OFFSET(Ref_Segmento,Parametros[Fila]-1,0,Parametros[Alto]),Bloques[[#This Row],[Segmento]],OFFSET(Ref_Conteo,Parametros[Fila]-1,0,Parametros[Alto]),Bloques[[#This Row],[Bloque]],OFFSET(Ref_Conteo,Parametros[Fila]-1,-1,Parametros[Alto]),Bloques[[#This Row],[Grupo]])-1,0)","v":0},null,null,""]
["Retenciones en la Fuente","Retenciones en la fuente por Ingresos Ordinarios","Retenciones en la fuente por Ingresos por reversión de deterioro del valor ",{"$f":"IF(Bloques[[#This Row],[Segmento]]=Parametros[Segmento],COUNTIFS(OFFSET(Ref_Segmento,Parametros[Fila]-1,0,Parametros[Alto]),Bloques[[#This Row],[Segmento]],OFFSET(Ref_Conteo,Parametros[Fila]-1,0,Parametros[Alto]),Bloques[[#This Row],[Bloque]],OFFSET(Ref_Conteo,Parametros[Fila]-1,-1,Parametros[Alto]),Bloques[[#This Row],[Grupo]])-1,0)","v":0},null,null,""]
["Retenciones en la Fuente","Retenciones en la fuente por Ingresos Ordinarios","Retenciones en la fuente por Ingresos por reversión de pasivos por beneficios a los empleados ",{"$f":"IF(Bloques[[#This Row],[Segmento]]=Parametros[Segmento],COUNTIFS(OFFSET(Ref_Segmento,Parametros[Fila]-1,0,Parametros[Alto]),Bloques[[#This Row],[Segmento]],OFFSET(Ref_Conteo,Parametros[Fila]-1,0,Parametros[Alto]),Bloques[[#This Row],[Bloque]],OFFSET(Ref_Conteo,Parametros[Fila]-1,-1,Parametros[Alto]),Bloques[[#This Row],[Grupo]])-1,0)","v":0},null,null,""]
["Retenciones en la Fuente","Retenciones en la fuente por Ingresos Ordinarios","Retenciones en la fuente por Ingresos por reversión de provisiones (pasivos de monto o fecha inciertos)",{"$f":"IF(Bloques[[#This Row],[Segmento]]=Parametros[Segmento],COUNTIFS(OFFSET(Ref_Segmento,Parametros[Fila]-1,0,Parametros[Alto]),Bloques[[#This Row],[Segmento]],OFFSET(Ref_Conteo,Parametros[Fila]-1,0,Parametros[Alto]),Bloques[[#This Row],[Bloque]],OFFSET(Ref_Conteo,Parametros[Fila]-1,-1,Parametros[Alto]),Bloques[[#This Row],[Grupo]])-1,0)","v":0},null,null,""]
["Retenciones en la Fuente","Retenciones en la fuente por Ingresos Ordinarios","Retenciones en la fuente por Otros Ingresos ",{"$f":"IF(Bloques[[#This Row],[Segmento]]=Parametros[Segmento],COUNTIFS(OFFSET(Ref_Segmento,Parametros[Fila]-1,0,Parametros[Alto]),Bloques[[#This Row],[Segmento]],OFFSET(Ref_Conteo,Parametros[Fila]-1,0,Parametros[Alto]),Bloques[[#This Row],[Bloque]],OFFSET(Ref_Conteo,Parametros[Fila]-1,-1,Parametros[Alto]),Bloques[[#This Row],[Grupo]])-1,0)","v":0},null,null,""]
["Retenciones en la Fuente","Retenciones en la fuente por Ingresos Ordinarios","Retenciones en la fuente por Ingresos por mediciones a valor razonable",{"$f":"IF(Bloques[[#This Row],[Segmento]]=Parametros[Segmento],COUNTIFS(OFFSET(Ref_Segmento,Parametros[Fila]-1,0,Parametros[Alto]),Bloques[[#This Row],[Segmento]],OFFSET(Ref_Conteo,Parametros[Fila]-1,0,Parametros[Alto]),Bloques[[#This Row],[Bloque]],OFFSET(Ref_Conteo,Parametros[Fila]-1,-1,Parametros[Alto]),Bloques[[#This Row],[Grupo]])-1,0)","v":0},null,null,""]
["Retenciones en la Fuente","Retenciones en la fuente por Ingresos Ordinarios","Retenciones en la fuente por Venta de activos poseídos por menos de dos años",{"$f":"IF(Bloques[[#This Row],[Segmento]]=Parametros[Segmento],COUNTIFS(OFFSET(Ref_Segmento,Parametros[Fila]-1,0,Parametros[Alto]),Bloques[[#This Row],[Segmento]],OFFSET(Ref_Conteo,Parametros[Fila]-1,0,Parametros[Alto]),Bloques[[#This Row],[Bloque]],OFFSET(Ref_Conteo,Parametros[Fila]-1,-1,Parametros[Alto]),Bloques[[#This Row],[Grupo]])-1,0)","v":0},null,null,""]
["Retenciones en la Fuente","Retenciones en la fuente por Ingresos Ordinarios","Otras retenciones en la fuente ",{"$f":"IF(Bloques[[#This Row],[Segmento]]=Parametros[Segmento],COUNTIFS(OFFSET(Ref_Segmento,Parametros[Fila]-1,0,Parametros[Alto]),Bloques[[#This Row],[Segmento]],OFFSET(Ref_Conteo,Parametros[Fila]-1,0,Parametros[Alto]),Bloques[[#This Row],[Bloque]],OFFSET(Ref_Conteo,Parametros[Fila]-1,-1,Parametros[Alto]),Bloques[[#This Row],[Grupo]])-1,0)","v":0},null,null,""]
["Retenciones en la Fuente","Retenciones en la fuente por Ganancias Ocasionales","Retenciones en la fuente por la venta de bienes poseídos por dos años o más",{"$f":"IF(Bloques[[#This Row],[Segmento]]=Parametros[Segmento],COUNTIFS(OFFSET(Ref_Segmento,Parametros[Fila]-1,0,Parametros[Alto]),Bloques[[#This Row],[Segmento]],OFFSET(Ref_Conteo,Parametros[Fila]-1,0,Parametros[Alto]),Bloques[[#This Row],[Bloque]],OFFSET(Ref_Conteo,Parametros[Fila]-1,-1,Parametros[Alto]),Bloques[[#This Row],[Grupo]])-1,0)","v":0},null,null,""]
["Retenciones en la Fuente","Retenciones en la fuente por Ganancias Ocasionales","Retenciones en la fuente por Donaciones ",{"$f":"IF(Bloques[[#This Row],[Segmento]]=Parametros[Segmento],COUNTIFS(OFFSET(Ref_Segmento,Parametros[Fila]-1,0,Parametros[Alto]),Bloques[[#This Row],[Segmento]],OFFSET(Ref_Conteo,Parametros[Fila]-1,0,Parametros[Alto]),Bloques[[#This Row],[Bloque]],OFFSET(Ref_Conteo,Parametros[Fila]-1,-1,Parametros[Alto]),Bloques[[#This Row],[Grupo]])-1,0)","v":0},null,null,""]
["Retenciones en la Fuente","Retenciones en la fuente por Ganancias Ocasionales","Retenciones en la fuente por Premios obtenidos en juegos de suerte y azar ",{"$f":"IF(Bloques[[#This Row],[Segmento]]=Parametros[Segmento],COUNTIFS(OFFSET(Ref_Segmento,Parametros[Fila]-1,0,Parametros[Alto]),Bloques[[#This Row],[Segmento]],OFFSET(Ref_Conteo,Parametros[Fila]-1,0,Parametros[Alto]),Bloques[[#This Row],[Bloque]],OFFSET(Ref_Conteo,Parametros[Fila]-1,-1,Parametros[Alto]),Bloques[[#This Row],[Grupo]])-1,0)","v":0},null,null,""]
["Retenciones en la Fuente","Retenciones en la fuente por Ganancias Ocasionales","Retenciones en la fuente por otras ganancias ocasionales ",{"$f":"IF(Bloques[[#This Row],[Segmento]]=Parametros[Segmento],COUNTIFS(OFFSET(Ref_Segmento,Parametros[Fila]-1,0,Parametros[Alto]),Bloques[[#This Row],[Segmento]],OFFSET(Ref_Conteo,Parametros[Fila]-1,0,Parametros[Alto]),Bloques[[#This Row],[Bloque]],OFFSET(Ref_Conteo,Parametros[Fila]-1,-1,Parametros[Alto]),Bloques[[#This Row],[Grupo]])-1,0)","v":0},null,null,""]
["Retenciones en la Fuente","Autorretenciones por Ingresos Ordinarios","Autorretenciones por Ingresos brutos Actividad Industrial, Comercial y Servicios - Venta de bienes",{"$f":"IF(Bloques[[#This Row],[Segmento]]=Parametros[Segmento],COUNTIFS(OFFSET(Ref_Segmento,Parametros[Fila]-1,0,Parametros[Alto]),Bloques[[#This Row],[Segmento]],OFFSET(Ref_Conteo,Parametros[Fila]-1,0,Parametros[Alto]),Bloques[[#This Row],[Bloque]],OFFSET(Ref_Conteo,Parametros[Fila]-1,-1,Parametros[Alto]),Bloques[[#This Row],[Grupo]])-1,0)","v":0},null,null,""]
["Retenciones en la Fuente","Autorretenciones por Ingresos Ordinarios","Autorretenciones por Ingresos brutos Actividad Industrial, Comercial y Servicios - Prestación de servicios (diferentes a honorarios profesionales)",{"$f":"IF(Bloques[[#This Row],[Segmento]]=Parametros[Segmento],COUNTIFS(OFFSET(Ref_Segmento,Parametros[Fila]-1,0,Parametros[Alto]),Bloques[[#This Row],[Segmento]],OFFSET(Ref_Conteo,Parametros[Fila]-1,0,Parametros[Alto]),Bloques[[#This Row],[Bloque]],OFFSET(Ref_Conteo,Parametros[Fila]-1,-1,Parametros[Alto]),Bloques[[#This Row],[Grupo]])-1,0)","v":0},null,null,""]
["Retenciones en la Fuente","Autorretenciones por Ingresos Ordinarios","Autorretenciones por Ingresos Brutos Actividad Industrial, Comercial y Servicios - Otros ingresos ",{"$f":"IF(Bloques[[#This Row],[Segmento]]=Parametros[Segmento],COUNTIFS(OFFSET(Ref_Segmento,Parametros[Fila]-1,0,Parametros[Alto]),Bloques[[#This Row],[Segmento]],OFFSET(Ref_Conteo,Parametros[Fila]-1,0,Parametros[Alto]),Bloques[[#This Row],[Bloque]],OFFSET(Ref_Conteo,Parametros[Fila]-1,-1,Parametros[Alto]),Bloques[[#This Row],[Grupo]])-1,0)","v":0},null,null,""]
["Retenciones en la Fuente","Autorretenciones por Ingresos Ordinarios","Autorretenciones por Ingresos financieros",{"$f":"IF(Bloques[[#This Row],[Segmento]]=Parametros[Segmento],COUNTIFS(OFFSET(Ref_Segmento,Parametros[Fila]-1,0,Parametros[Alto]),Bloques[[#This Row],[Segmento]],OFFSET(Ref_Conteo,Parametros[Fila]-1,0,Parametros[Alto]),Bloques[[#This Row],[Bloque]],OFFSET(Ref_Conteo,Parametros[Fila]-1,-1,Parametros[Alto]),Bloques[[#This Row],[Grupo]])-1,0)","v":0},null,null,""]
["Retenciones en la Fuente","Autorretenciones por Ingresos Ordinarios","Autorretenciones por Dividendos ",{"$f":"IF(Bloques[[#This Row],[Segmento]]=Parametros[Segmento],COUNTIFS(OFFSET(Ref_Segmento,Parametros[Fila]-1,0,Parametros[Alto]),Bloques[[#This Row],[Segmento]],OFFSET(Ref_Conteo,Parametros[Fila]-1,0,Parametros[Alto]),Bloques[[#This Row],[Bloque]],OFFSET(Ref_Conteo,Parametros[Fila]-1,-1,Parametros[Alto]),Bloques[[#This Row],[Grupo]])-1,0)","v":0},null,null,""]
["Retenciones en la Fuente","Autorretenciones por Ingresos Ordinarios","Autorretenciones por Ingresos por reversión de deterioro del valor ",{"$f":"IF(Bloques[[#This Row],[Segmento]]=Parametros[Segmento],COUNTIFS(OFFSET(Ref_Segmento,Parametros[Fila]-1,0,Parametros[Alto]),Bloques[[#This Row],[Segmento]],OFFSET(Ref_Conteo,Parametros[Fila]-1,0,Parametros[Alto]),Bloques[[#This Row],[Bloque]],OFFSET(Ref_Conteo,Parametros[Fila]-1,-1,Parametros[Alto]),Bloques[[#This Row],[Grupo]])-1,0)","v":0},null,null,""]
["Retenciones en la Fuente","Autorretenciones por Ingresos Ordinarios","Autorretenciones por Ingresos por reversión de pasivos por beneficios a los empleados ",{"$f":"IF(Bloques[[#This Row],[Segmento]]=Parametros[Segmento],COUNTIFS(OFFSET(Ref_Segmento,Parametros[Fila]-1,0,Parametros[Alto]),Bloques[[#This Row],[Segmento]],OFFSET(Ref_Conteo,Parametros[Fila]-1,0,Parametros[Alto]),Bloques[[#This Row],[Bloque]],OFFSET(Ref_Conteo,Parametros[Fila]-1,-1,Parametros[Alto]),Bloques[[#This Row],[Grupo]])-1,0)","v":0},null,null,""]
["Retenciones en la Fuente","Autorretenciones por Ingresos Ordinarios","Autorretenciones por Ingresos por reversión de provisiones (pasivos de monto o fecha inciertos)",{"$f":"IF(Bloques[[#This Row],[Segmento]]=Parametros[Segmento],COUNTIFS(OFFSET(Ref_Segmento,Parametros[Fila]-1,0,Parametros[Alto]),Bloques[[#This Row],[Segmento]],OFFSET(Ref_Conteo,Parametros[Fila]-1,0,Parametros[Alto]),Bloques[[#This Row],[Bloque]],OFFSET(Ref_Conteo,Parametros[Fila]-1,-1,Parametros[Alto]),Bloques[[#This Row],[Grupo]])-1,0)","v":0},null,null,""]
["Retenciones en la Fuente","Autorretenciones por Ingresos Ordinarios","Autorretenciones por Otros Ingresos ",{"$f":"IF(Bloques[[#This Row],[Segmento]]=Parametros[Segmento],COUNTIFS(OFFSET(Ref_Segmento,Parametros[Fila]-1,0,Parametros[Alto]),Bloques[[#This Row],[Segmento]],OFFSET(Ref_Conteo,Parametros[Fila]-1,0,Parametros[Alto]),Bloques[[#This Row],[Bloque]],OFFSET(Ref_Conteo,Parametros[Fila]-1,-1,Parametros[Alto]),Bloques[[#This Row],[Grupo]])-1,0)","v":0},null,null,""]
["Retenciones en la Fuente","Autorretenciones por Ingresos Ordinarios","Autorretenciones por Ingresos por mediciones a valor razonable",{"$f":"IF(Bloques[[#This Row],[Segmento]]=Parametros[Segmento],COUNTIFS(OFFSET(Ref_Segmento,Parametros[Fila]-1,0,Parametros[Alto]),Bloques[[#This Row],[Segmento]],OFFSET(Ref_Conteo,Parametros[Fila]-1,0,Parametros[Alto]),Bloques[[#This Row],[Bloque]],OFFSET(Ref_Conteo,Parametros[Fila]-1,-1,Parametros[Alto]),Bloques[[#This Row],[Grupo]])-1,0)","v":0},null,null,""]
["Retenciones en la Fuente","Autorretenciones por Ingresos Ordinarios","Autorretenciones por Venta de activos poseídos por menos de dos años",{"$f":"IF(Bloques[[#This Row],[Segmento]]=Parametros[Segmento],COUNTIFS(OFFSET(Ref_Segmento,Parametros[Fila]-1,0,Parametros[Alto]),Bloques[[#This Row],[Segmento]],OFFSET(Ref_Conteo,Parametros[Fila]-1,0,Parametros[Alto]),Bloques[[#This Row],[Bloque]],OFFSET(Ref_Conteo,Parametros[Fila]-1,-1,Parametros[Alto]),Bloques[[#This Row],[Grupo]])-1,0)","v":0},null,null,""]
["Retenciones en la Fuente","Autorretenciones por Ingresos Ordinarios","Otras Autorretenciones ",{"$f":"IF(Bloques[[#This Row],[Segmento]]=Parametros[Segmento],COUNTIFS(OFFSET(Ref_Segmento,Parametros[Fila]-1,0,Parametros[Alto]),Bloques[[#This Row],[Segmento]],OFFSET(Ref_Conteo,Parametros[Fila]-1,0,Parametros[Alto]),Bloques[[#This Row],[Bloque]],OFFSET(Ref_Conteo,Parametros[Fila]-1,-1,Parametros[Alto]),Bloques[[#This Row],[Grupo]])-1,0)","v":0},null,null,""]
["Retenciones en la Fuente","Autorretenciones por Ganancias Ocasionales","Autorretenciones por la venta de bienes poseídos por dos años o más",{"$f":"IF(Bloques[[#This Row],[Segmento]]=Parametros[Segmento],COUNTIFS(OFFSET(Ref_Segmento,Parametros[Fila]-1,0,Parametros[Alto]),Bloques[[#This Row],[Segmento]],OFFSET(Ref_Conteo,Parametros[Fila]-1,0,Parametros[Alto]),Bloques[[#This Row],[Bloque]],OFFSET(Ref_Conteo,Parametros[Fila]-1,-1,Parametros[Alto]),Bloques[[#This Row],[Grupo]])-1,0)","v":0},null,null,""]
["Retenciones en la Fuente","Autorretenciones por Ganancias Ocasionales","Autorretenciones por Donaciones ",{"$f":"IF(Bloques[[#This Row],[Segmento]]=Parametros[Segmento],COUNTIFS(OFFSET(Ref_Segmento,Parametros[Fila]-1,0,Parametros[Alto]),Bloques[[#This Row],[Segmento]],OFFSET(Ref_Conteo,Parametros[Fila]-1,0,Parametros[Alto]),Bloques[[#This Row],[Bloque]],OFFSET(Ref_Conteo,Parametros[Fila]-1,-1,Parametros[Alto]),Bloques[[#This Row],[Grupo]])-1,0)","v":0},null,null,""]
["Retenciones en la Fuente","Autorretenciones por Ganancias Ocasionales","Autorretenciones por Premios obtenidos en juegos de suerte y azar ",{"$f":"IF(Bloques[[#This Row],[Segmento]]=Parametros[Segmento],COUNTIFS(OFFSET(Ref_Segmento,Parametros[Fila]-1,0,Parametros[Alto]),Bloques[[#This Row],[Segmento]],OFFSET(Ref_Conteo,Parametros[Fila]-1,0,Parametros[Alto]),Bloques[[#This Row],[Bloque]],OFFSET(Ref_Conteo,Parametros[Fila]-1,-1,Parametros[Alto]),Bloques[[#This Row],[Grupo]])-1,0)","v":0},null,null,""]
["Retenciones en la Fuente","Autorretenciones por Ganancias Ocasionales","Autorretenciones por otras ganancias ocasionales ",{"$f":"IF(Bloques[[#This Row],[Segmento]]=Parametros[Segmento],COUNTIFS(OFFSET(Ref_Segmento,Parametros[Fila]-1,0,Parametros[Alto]),Bloques[[#This Row],[Segmento]],OFFSET(Ref_Conteo,Parametros[Fila]-1,0,Parametros[Alto]),Bloques[[#This Row],[Bloque]],OFFSET(Ref_Conteo,Parametros[Fila]-1,-1,Parametros[Alto]),Bloques[[#This Row],[Grupo]])-1,0)","v":0},null,null,""]
["Tasa Mínima","Retenciones en la fuente","Menos Ingresos no constitutivos de renta ",{"$f":"IF(Bloques[[#This Row],[Segmento]]=Parametros[Segmento],COUNTIFS(OFFSET(Ref_Segmento,Parametros[Fila]-1,0,Parametros[Alto]),Bloques[[#This Row],[Segmento]],OFFSET(Ref_Conteo,Parametros[Fila]-1,0,Parametros[Alto]),Bloques[[#This Row],[Bloque]],OFFSET(Ref_Conteo,Parametros[Fila]-1,-1,Parametros[Alto]),Bloques[[#This Row],[Grupo]])-1,0)","v":0},1,1,"Otros ingresos no constitutivos de renta "]
["Tasa Mínima","Retenciones en la fuente","Menos ingresos contables no fiscales ",{"$f":"IF(Bloques[[#This Row],[Segmento]]=Parametros[Segmento],COUNTIFS(OFFSET(Ref_Segmento,Parametros[Fila]-1,0,Parametros[Alto]),Bloques[[#This Row],[Segmento]],OFFSET(Ref_Conteo,Parametros[Fila]-1,0,Parametros[Alto]),Bloques[[#This Row],[Bloque]],OFFSET(Ref_Conteo,Parametros[Fila]-1,-1,Parametros[Alto]),Bloques[[#This Row],[Grupo]])-1,0)","v":0},null,0,""]
["Tasa Mínima","Retenciones en la fuente","Menos Gastos fiscales no contables ",{"$f":"IF(Bloques[[#This Row],[Segmento]]=Parametros[Segmento],COUNTIFS(OFFSET(Ref_Segmento,Parametros[Fila]-1,0,Parametros[Alto]),Bloques[[#This Row],[Segmento]],OFFSET(Ref_Conteo,Parametros[Fila]-1,0,Parametros[Alto]),Bloques[[#This Row],[Bloque]],OFFSET(Ref_Conteo,Parametros[Fila]-1,-1,Parametros[Alto]),Bloques[[#This Row],[Grupo]])-1,0)","v":0},null,0,""]
["Tasa Mínima","Retenciones en la fuente","Menos Ganancias Ocasionales ",{"$f":"IF(Bloques[[#This Row],[Segmento]]=Parametros[Segmento],COUNTIFS(OFFSET(Ref_Segmento,Parametros[Fila]-1,0,Parametros[Alto]),Bloques[[#This Row],[Segmento]],OFFSET(Ref_Conteo,Parametros[Fila]-1,0,Parametros[Alto]),Bloques[[#This Row],[Bloque]],OFFSET(Ref_Conteo,Parametros[Fila]-1,-1,Parametros[Alto]),Bloques[[#This Row],[Grupo]])-1,0)","v":0},null,0,""]
["Tasa Mínima","Retenciones en la fuente","Más Gastos contables no deducibles ",{"$f":"IF(Bloques[[#This Row],[Segmento]]=Parametros[Segmento],COUNTIFS(OFFSET(Ref_Segmento,Parametros[Fila]-1,0,Parametros[Alto]),Bloques[[#This Row],[Segmento]],OFFSET(Ref_Conteo,Parametros[Fila]-1,0,Parametros[Alto]),Bloques[[#This Row],[Bloque]],OFFSET(Ref_Conteo,Parametros[Fila]-1,-1,Parametros[Alto]),Bloques[[#This Row],[Grupo]])-1,0)","v":0},null,7,"Mayor gasto por depreciación contable ;Gasto por deterioro de inventarios ;Gasto por impuestos no deducibles ;Gastos extraordinarios ;Gastos por donaciones a entidades del RTE ;Gastos Diversos ;Otros gastos no deducibles "]
["Tasa Mínima","Retenciones en la fuente","Más Ingresos Fiscales no contables ",{"$f":"IF(Bloques[[#This Row],[Segmento]]=Parametros[Segmento],COUNTIFS(OFFSET(Ref_Segmento,Parametros[Fila]-1,0,Parametros[Alto]),Bloques[[#This Row],[Segmento]],OFFSET(Ref_Conteo,Parametros[Fila]-1,0,Parametros[Alto]),Bloques[[#This Row],[Bloque]],OFFSET(Ref_Conteo,Parametros[Fila]-1,-1,Parametros[Alto]),Bloques[[#This Row],[Grupo]])-1,0)","v":0},null,0,""]
["Tasa Mínima","Retenciones en la fuente","Más Pérdidas en venta de activos fijos poseídos por más de dos años ",{"$f":"IF(Bloques[[#This Row],[Segmento]]=Parametros[Segmento],COUNTIFS(OFFSET(Ref_Segmento,Parametros[Fila]-1,0,Parametros[Alto]),Bloques[[#This Row],[Segmento]],OFFSET(Ref_Conteo,Parametros[Fila]-1,0,Parametros[Alto]),Bloques[[#This Row],[Bloque]],OFFSET(Ref_Conteo,Parametros[Fila]-1,-1,Parametros[Alto]),Bloques[[#This Row],[Grupo]])-1,0)","v":0},null,0,""]
["Tasa Mínima","Retenciones en la fuente","Menos Compensaciones ",{"$f":"IF(Bloques[[#This Row],[Segmento]]=Parametros[Segmento],COUNTIFS(OFFSET(Ref_Segmento,Parametros[Fila]-1,0,Parametros[Alto]),Bloques[[#This Row],[Segmento]],OFFSET(Ref_Conteo,Parametros[Fila]-1,0,Parametros[Alto]),Bloques[[#This Row],[Bloque]],OFFSET(Ref_Conteo,Parametros[Fila]-1,-1,Parametros[Alto]),Bloques[[#This Row],[Grupo]])-1,0)","v":0},null,0,""]
["Tasa Mínima","Retenciones en la fuente","Más Rentas Líquidas Gravables",{"$f":"IF(Bloques[[#This Row],[Segmento]]=Parametros[Segmento],COUNTIFS(OFFSET(Ref_Segmento,Parametros[Fila]-1,0,Parametros[Alto]),Bloques[[#This Row],[Segmento]],OFFSET(Ref_Conteo,Parametros[Fila]-1,0,Parametros[Alto]),Bloques[[#This Row],[Bloque]],OFFSET(Ref_Conteo,Parametros[Fila]-1,-1,Parametros[Alto]),Bloques[[#This Row],[Grupo]])-1,0)","v":0},null,0,""]
["Tasa Mínima","Retenciones en la fuente","Más Rentas Pasivas ECE ",{"$f":"IF(Bloques[[#This Row],[Segmento]]=Parametros[Segmento],COUNTIFS(OFFSET(Ref_Segmento,Parametros[Fila]-1,0,Parametros[Alto]),Bloques[[#This Row],[Segmento]],OFFSET(Ref_Conteo,Parametros[Fila]-1,0,Parametros[Alto]),Bloques[[#This Row],[Bloque]],OFFSET(Ref_Conteo,Parametros[Fila]-1,-1,Parametros[Alto]),Bloques[[#This Row],[Grupo]])-1,0)","v":0},null,0,""]
["Tasa Mínima","Retenciones en la fuente","Ganancias Ocasionales ",{"$f":"IF(Bloques[[#This Row],[Segmento]]=Parametros[Segmento],COUNTIFS(OFFSET(Ref_Segmento,Parametros[Fila]-1,0,Parametros[Alto]),Bloques[[#This Row],[Segmento]],OFFSET(Ref_Conteo,Parametros[Fila]-1,0,Parametros[Alto]),Bloques[[#This Row],[Bloque]],OFFSET(Ref_Conteo,Parametros[Fila]-1,-1,Parametros[Alto]),Bloques[[#This Row],[Grupo]])-1,0)","v":0},null,0,""]
["Descuentos Tributarios","Descuentos Tributarios ","Impuestos pagados en el exterior ",{"$f":"IF(Bloques[[#This Row],[Segmento]]=Parametros[Segmento],COUNTIFS(OFFSET(Ref_Segmento,Parametros[Fila]-1,0,Parametros[Alto]),Bloques[[#This Row],[Segmento]],OFFSET(Ref_Conteo,Parametros[Fila]-1,0,Parametros[Alto]),Bloques[[#This Row],[Bloque]],OFFSET(Ref_Conteo,Parametros[Fila]-1,-1,Parametros[Alto]),Bloques[[#This Row],[Grupo]])-1,0)","v":0},null,null,""]
["Descuentos Tributarios","Descuentos Tributarios ","Impuestos pagados  en el exterior por la Entidad controlada del Exterior (ECE)",{"$f":"IF(Bloques[[#This Row],[Segmento]]=Parametros[Segmento],COUNTIFS(OFFSET(Ref_Segmento,Parametros[Fila]-1,0,Parametros[Alto]),Bloques[[#This Row],[Segmento]],OFFSET(Ref_Conteo,Parametros[Fila]-1,0,Parametros[Alto]),Bloques[[#This Row],[Bloque]],OFFSET(Ref_Conteo,Parametros[Fila]-1,-1,Parametros[Alto]),Bloques[[#This Row],[Grupo]])-1,0)","v":0},null,null,""]
["Descuentos Tributarios","Descuentos Tributarios ","Impuestos pagados en el exterior por Ganancias Ocasionales ",{"$f":"IF(Bloques[[#This Row],[Segmento]]=Parametros[Segmento],COUNTIFS(OFFSET(Ref_Segmento,Parametros[Fila]-1,0,Parametros[Alto]),Bloques[[#This Row],[Segmento]],OFFSET(Ref_Conteo,Parametros[Fila]-1,0,Parametros[Alto]),Bloques[[#This Row],[Bloque]],OFFSET(Ref_Conteo,Parametros[Fila]-1,-1,Parametros[Alto]),Bloques[[#This Row],[Grupo]])-1,0)","v":0},null,null,""]
["Descuentos Tributarios","Descuentos Tributarios ","Otros descuentos tributarios no mencionados anteriormente",{"$f":"IF(Bloques[[#This Row],[Segmento]]=Parametros[Segmento],COUNTIFS(OFFSET(Ref_Segmento,Parametros[Fila]-1,0,Parametros[Alto]),Bloques[[#This Row],[Segmento]],OFFSET(Ref_Conteo,Parametros[Fila]-1,0,Parametros[Alto]),Bloques[[#This Row],[Bloque]],OFFSET(Ref_Conteo,Parametros[Fila]-1,-1,Parametros[Alto]),Bloques[[#This Row],[Grupo]])-1,0)","v":0},null,null,""]

{"sheet":"Listas","index":1,"n_rows":630,"n_cols":23,"rows_kept":630,"cut":false,"hidden":true,"merged":[]}
[]
[null,"Sí","Modalidad de pago 1","Temporaria","Colombia ","Pago pendiente ","S",null,null,null,null,null,null,null,null,null,null,null,null,null,5800000]
[null,"No","Modalidad de pago 2","Permanente","Exterior ","Pago realizado","N",null,null,null,null,null,null,null,null,null,null,null,null,null,159.7444089456869]
[null,"N/A"]
[null,"Lista de países",null,null,"Lista de actividades económicas ",null,null,null,null,"Códigos direcciones seccionales DIAN",null,null,null,null,null,null,null,null,null,0,350,1,{"$f":"+IF(U3>T5,IF((U3<=U5),V5,0),0)","v":1}]
[null,null,null,null,null,null,null,null,null,null,null,null,"Dígito de verificación",null,null,null,null,null,null,350,410,0.9,{"$f":"+IF(U3>T6,IF((U3<=U6),V6,0),0)","v":0}]
[null,"No Aplica",null,null,null,null,null,null,null,"Código","Lugares Administrativos",null,"0",null,null,"Esta es la primera vez",null,null,null,410,470,0.8,{"$f":"+IF(U3>T7,IF((U3<=U7),V7,0),0)","v":0}]
[null,"Afganistán",null,null,null,null,null,null,{"$f":"+CONCATENATE(J8,\" - \",K8)","v":"00 - Nivel Central"},"00","Nivel Central",null,1,null,null,"Esta es la segunda vez",null,null,null,470,530,0.6,{"$f":"+IF(U3>T8,IF((U3<=U8),V8,0),0)","v":0}]
[null,"Albania",null,null,null,null,null,null,"01 - Dirección Seccional de Impuestos y Aduanas de Armenia","01","Dirección Seccional de Impuestos y Aduanas de Armenia",null,2,null,null,"Esta es la tercera vez o más",null,null,null,530,590,0.4,{"$f":"+IF(U3>T9,IF((U3<=U9),V9,0),0)","v":0}]
[null,"Alemania",null,null,null,null,null,null,"02 - Dirección Seccional de Impuestos de Barranquilla","02","Dirección Seccional de Impuestos de Barranquilla",null,3,null,null,null,null,null,null,590,650,0.2,{"$f":"+IF(U3>T10,IF((U3<=U10),V10,0),0)","v":0}]
[null,"Andorra",null,null,null,null,null,null,"03 - Dirección Seccional de Aduanas de Bogotá – Aeropuerto El Dorado","03","Dirección Seccional de Aduanas de Bogotá – Aeropuerto El Dorado",null,4,null,null,null,null,null,null,650,null,0,{"$f":"+IF(U3>T11,V11,0)","v":0}]
[null,"Angola",null,{"$f":"+CONCATENATE(E12,\" - \",F12)","v":"0111 - Cultivo de cereales (excepto arroz), legumbres y semillas oleaginosas  "},"0111","Cultivo de cereales (excepto arroz), legumbres y semillas oleaginosas  ",null,null,"04 - Dirección Seccional de Impuestos y Aduanas de Bucaramanga","04","Dirección Seccional de Impuestos y Aduanas de Bucaramanga",null,5]
[null,"Antigua y Barbuda",null,"0112 - Cultivo de arroz  ","0112","Cultivo de arroz  ",null,null,"05 - Dirección Seccional de Impuestos de Cali","05","Dirección Seccional de Impuestos de Cali",null,6]
[null,"Arabia Saudita",null,"0113 - Cultivo de hortalizas, raíces y tubérculos  ","0113","Cultivo de hortalizas, raíces y tubérculos  ",null,null,"06 - Dirección Seccional de Impuestos de Cartagena","06","Dirección Seccional de Impuestos de Cartagena",null,7,null,null,"Opción 1"]
[null,"Argelia",null,"0114 - Cultivo de tabaco  ","0114","Cultivo de tabaco  ",null,null,"07 - Dirección Seccional de Impuestos de Cúcuta","07","Dirección Seccional de Impuestos de Cúcuta",null,8,null,null,"Opción 2"]
[null,"Argentina",null,"0115 - Cultivo de plantas textiles  ","0115","Cultivo de plantas textiles  ",null,null,"08 - Dirección Seccional de Impuestos y Aduanas de Girardot","08","Dirección Seccional de Impuestos y Aduanas de Girardot",null,9]
[null,"Armenia",null,"0119 - Otros cultivos transitorios n.c.p.","0119","Otros cultivos transitorios n.c.p.",null,null,"09 - Dirección Seccional de Impuestos y Aduanas de Ibagué","09","Dirección Seccional de Impuestos y Aduanas de Ibagué",null,null,null,null,"Rentas - Honorarios"]
[null,"Australia",null,"0121 - Cultivo de frutas tropicales y subtropicales  ","0121","Cultivo de frutas tropicales y subtropicales  ",null,null,"10 - Dirección Seccional de Impuestos y Aduanas de Manizales",10,"Dirección Seccional de Impuestos y Aduanas de Manizales",null,"Utilidad en casa o apartamento de habitación",null,null,"Rentas de capital "]
[null,"Austria",null,"0122 - Cultivo de plátano y banano  ","0122","Cultivo de plátano y banano  ",null,null,"11 - Dirección Seccional de Impuestos de Medellín",11,"Dirección Seccional de Impuestos de Medellín",null,1986,0.1,null,"Rentas no laborales"]
[null,"Azerbaiyán",null,"0123 - Cultivo de café  ","0123","Cultivo de café  ",null,null,"12 - Dirección Seccional de Impuestos y Aduanas de Montería",12,"Dirección Seccional de Impuestos y Aduanas de Montería",null,1985,0.2]
[null,"Bahamas",null,"0124 - Cultivo de caña de azúcar  ","0124","Cultivo de caña de azúcar  ",null,null,"13 - Dirección Seccional de Impuestos y Aduanas de Neiva",13,"Dirección Seccional de Impuestos y Aduanas de Neiva",null,1984,0.3]
[null,"Bangladés",null,"0125 - Cultivo de flor de corte  ","0125","Cultivo de flor de corte  ",null,null,"14 - Dirección Seccional de Impuestos y Aduanas de Pasto",14,"Dirección Seccional de Impuestos y Aduanas de Pasto",null,1983,0.4,null,"Colombia"]
[null,"Barbados",null,"0126 - Cultivo de palma para aceite (palma africana) y otros frutos oleaginosos  ","0126","Cultivo de palma para aceite (palma africana) y otros frutos oleaginosos  ",null,null,"15 - Dirección Seccional de Impuestos y Aduanas de Palmira",15,"Dirección Seccional de Impuestos y Aduanas de Palmira",null,1982,0.5,null,"CAN"]
[null,"Baréin",null,"0127 - Cultivo de plantas con las que se preparan bebidas  ","0127","Cultivo de plantas con las que se preparan bebidas  ",null,null,"16 - Dirección Seccional de Impuestos y Aduanas de Pereira",16,"Dirección Seccional de Impuestos y Aduanas de Pereira",null,1981,0.6,null,"Otros países exterior "]
[null,"Bélgica",null,"0128 - Cultivo de especias y de plantas aromáticas y medicinales  ","0128","Cultivo de especias y de plantas aromáticas y medicinales  ",null,null,"17 - Dirección Seccional de Impuestos y Aduanas de Popayán",17,"Dirección Seccional de Impuestos y Aduanas de Popayán",null,1980,0.7]
[null,"Belice",null,"0129 - Otros cultivos permanentes n.c.p.","0129","Otros cultivos permanentes n.c.p.",null,null,"18 - Dirección Seccional de Impuestos y Aduanas de Quibdó",18,"Dirección Seccional de Impuestos y Aduanas de Quibdó",null,1979,0.8]
[null,"Benín",null,"0130 - Propagación de plantas (actividades de los viveros, excepto viveros forestales)  ","0130","Propagación de plantas (actividades de los viveros, excepto viveros forestales)  ",null,null,"19 - Dirección Seccional de Impuestos y Aduanas de Santa Marta",19,"Dirección Seccional de Impuestos y Aduanas de Santa Marta",null,1978,0.9]
[null,"Bielorrusia",null,"0141 - Cría de ganado bovino y bufalino  ","0141","Cría de ganado bovino y bufalino  ",null,null,"20 - Dirección Seccional de Impuestos y Aduanas de Tunja",20,"Dirección Seccional de Impuestos y Aduanas de Tunja",null,1977,1]
[null,"Birmania",null,"0142 - Cría de caballos y otros equinos  ","0142","Cría de caballos y otros equinos  ",null,null,"21 - Dirección Seccional de Impuestos y Aduanas de Tuluá",21,"Dirección Seccional de Impuestos y Aduanas de Tuluá"]
[null,"Bolivia",null,"0143 - Cría de ovejas y cabras  ","0143","Cría de ovejas y cabras  ",null,null,"22 - Dirección Seccional de Impuestos y Aduanas de Villavicencio",22,"Dirección Seccional de Impuestos y Aduanas de Villavicencio"]
[null,"Bosnia-Herzegovina",null,"0144 - Cría de ganado porcino  ","0144","Cría de ganado porcino  ",null,null,"23 - Dirección Seccional de Impuestos y Aduanas de Sincelejo",23,"Dirección Seccional de Impuestos y Aduanas de Sincelejo"]
[null,"Botsuana",null,"0145 - Cría de aves de corral  ","0145","Cría de aves de corral  ",null,null,"24 - Dirección Seccional de Impuestos y Aduanas de Valledupar",24,"Dirección Seccional de Impuestos y Aduanas de Valledupar"]
[null,"Brasil",null,"0149 - Cría de otros animales n.c.p. ","0149","Cría de otros animales n.c.p. ",null,null,"25 - Dirección Seccional de Impuestos y Aduanas de Riohacha",25,"Dirección Seccional de Impuestos y Aduanas de Riohacha"]
[null,"Brunéi",null,"0150 - Explotación mixta (agrícola y pecuaria) ","0150","Explotación mixta (agrícola y pecuaria) ",null,null,"26 - Dirección Seccional de Impuestos y Aduanas de Sogamoso",26,"Dirección Seccional de Impuestos y Aduanas de Sogamoso"]
[null,"Bulgaria",null,"0161 - Actividades de apoyo a la agricultura ","0161","Actividades de apoyo a la agricultura ",null,null,"27 - Dirección Seccional de Impuestos y Aduanas de San Andrés",27,"Dirección Seccional de Impuestos y Aduanas de San Andrés"]
[null,"Burkina Faso",null,"0162 - Actividades de apoyo a la ganadería ","0162","Actividades de apoyo a la ganadería ",null,null,"28 - Dirección Seccional de Impuestos y Aduanas de Florencia",28,"Dirección Seccional de Impuestos y Aduanas de Florencia"]
[null,"Burundi",null,"0163 - Actividades posteriores a la cosecha ","0163","Actividades posteriores a la cosecha ",null,null,"29 - Dirección Seccional de Impuestos y Aduanas de Barrancabermeja",29,"Dirección Seccional de Impuestos y Aduanas de Barrancabermeja"]
[null,"Bután",null,"0164 - Tratamiento de semillas para propagación ","0164","Tratamiento de semillas para propagación ",null,null,"31 - Dirección Operativa de Grandes Contribuyentes",31,"Dirección Operativa de Grandes Contribuyentes"]
[null,"Cabo Verde",null,"0170 - Caza ordinaria y mediante trampas y actividades de servicios conexas ","0170","Caza ordinaria y mediante trampas y actividades de servicios conexas ",null,null,"32 - Dirección Seccional de Impuestos de Bogotá",32,"Dirección Seccional de Impuestos de Bogotá"]
[null,"Camboya",null,"0210 - Silvicultura y otras actividades forestales ","0210","Silvicultura y otras actividades forestales ",null,null,{"$f":"+CONCATENATE(J40,\" - \",K40)","v":"34 - Dirección Seccional de Impuestos y Aduanas de Arauca"},34,"Dirección Seccional de Impuestos y Aduanas de Arauca"]
[null,"Camerún",null,"0220 - Extracción de madera ","0220","Extracción de madera ",null,null,"35 - Dirección Seccional de Impuestos y Aduanas de Buenaventura",35,"Dirección Seccional de Impuestos y Aduanas de Buenaventura"]
[null,"Canadá",null,"0230 - Recolección de productos forestales diferentes a la madera ","0230","Recolección de productos forestales diferentes a la madera ",null,null,"37 - Dirección Seccional de Impuestos y Aduanas de Ipiales",37,"Dirección Seccional de Impuestos y Aduanas de Ipiales"]
[null,"Catar",null,"0240 - Servicios de apoyo a la silvicultura ","0240","Servicios de apoyo a la silvicultura ",null,null,"38 - Dirección Seccional de Impuestos y Aduanas de Leticia",38,"Dirección Seccional de Impuestos y Aduanas de Leticia"]
[null,"Chad",null,"0311 - Pesca marítima ","0311","Pesca marítima ",null,null,"39 - Dirección Seccional de Impuestos y Aduanas de Maicao",39,"Dirección Seccional de Impuestos y Aduanas de Maicao"]
[null,"Chile",null,"0312 - Pesca de agua dulce ","0312","Pesca de agua dulce ",null,null,"40 - Dirección Seccional de Impuestos y Aduanas de Tumaco",40,"Dirección Seccional de Impuestos y Aduanas de Tumaco"]
[null,"China",null,"0321 - Acuicultura marítima ","0321","Acuicultura marítima ",null,null,"41 - Dirección Seccional de Impuestos y Aduanas de Urabá",41,"Dirección Seccional de Impuestos y Aduanas de Urabá"]
[null,"Chipre",null,"0322 - Acuicultura de agua dulce ","0322","Acuicultura de agua dulce ",null,null,"42 - Dirección Seccional Delegada de Impuestos y Aduanas de Puerto Carreño",42,"Dirección Seccional Delegada de Impuestos y Aduanas de Puerto Carreño"]
[null,"Colombia",null,"0510 - Extracción de hulla (carbón de piedra) ","0510","Extracción de hulla (carbón de piedra) ",null,null,"43 - Dirección Seccional Delegada de Impuestos y Aduanas de Puerto Inírida",43,"Dirección Seccional Delegada de Impuestos y Aduanas de Puerto Inírida"]
[null,"Comoras",null,"0520 - Extracción de carbón lignito ","0520","Extracción de carbón lignito ",null,null,"44 - Dirección Seccional de Impuestos y Aduanas de Yopal",44,"Dirección Seccional de Impuestos y Aduanas de Yopal"]
[null,"Congo",null,"0610 - Extracción de petróleo crudo ","0610","Extracción de petróleo crudo ",null,null,"45 - Dirección Seccional Delegada de Impuestos y Aduanas Mitú",45,"Dirección Seccional Delegada de Impuestos y Aduanas Mitú"]
[null,"Corea del Norte",null,"0620 - Extracción de gas natural ","0620","Extracción de gas natural ",null,null,"46 - Dirección Seccional de Impuestos y Aduanas de Puerto Asís",46,"Dirección Seccional de Impuestos y Aduanas de Puerto Asís"]
[null,"Corea del Sur",null,"0710 - Extracción de minerales de hierro ","0710","Extracción de minerales de hierro ",null,null,"48 - Dirección Seccional de Aduanas de Cartagena",48,"Dirección Seccional de Aduanas de Cartagena"]
[null,"Costa de Marfil",null,"0721 - Extracción de minerales de uranio y de torio ","0721","Extracción de minerales de uranio y de torio ",null,null,"78 - Dirección Seccional Delegada de Impuestos y Aduanas de San José de Guaviare",78,"Dirección Seccional Delegada de Impuestos y Aduanas de San José de Guaviare"]
[null,"Costa Rica",null,"0722 - Extracción de oro y otros metales preciosos ","0722","Extracción de oro y otros metales preciosos ",null,null,"86 - Dirección Seccional Delegada de Impuestos y Aduanas de Pamplona",86,"Dirección Seccional Delegada de Impuestos y Aduanas de Pamplona"]
[null,"Croacia",null,"0723 - Extracción de minerales de níquel ","0723","Extracción de minerales de níquel ",null,null,"87 - Dirección Seccional de Aduanas de Barranquilla",87,"Dirección Seccional de Aduanas de Barranquilla"]
[null,"Cuba",null,"0729 - Extracción de otros minerales metalíferos no ferrosos n.c.p. ","0729","Extracción de otros minerales metalíferos no ferrosos n.c.p. ",null,null,"88 - Dirección Seccional de Aduanas de Cali",88,"Dirección Seccional de Aduanas de Cali"]
[null,"Dinamarca",null,"0811 - Extracción de piedra, arena, arcillas comunes, yeso y anhidrita ","0811","Extracción de piedra, arena, arcillas comunes, yeso y anhidrita ",null,null,"89 - Dirección Seccional de Aduanas de Cúcuta",89,"Dirección Seccional de Aduanas de Cúcuta"]
[null,"Dominica",null,"0812 - Extracción de arcillas de uso industrial, caliza, caolín y bentonitas ","0812","Extracción de arcillas de uso industrial, caliza, caolín y bentonitas ",null,null,"90 - Dirección Seccional de Aduanas de Medellín",90,"Dirección Seccional de Aduanas de Medellín"]
[null,"Ecuador",null,"0820 - Extracción de esmeraldas, piedras preciosas y semipreciosas ","0820","Extracción de esmeraldas, piedras preciosas y semipreciosas ",null,null,"91 - Dirección Seccional de Aduanas de Bogotá",91,"Dirección Seccional de Aduanas de Bogotá"]
[null,"Egipto",null,"0891 - Extracción de minerales para la fabricación de abonos y productos químicos ","0891","Extracción de minerales para la fabricación de abonos y productos químicos "]
[null,"El Salvador",null,"0892 - Extracción de halita (sal) ","0892","Extracción de halita (sal) "]
[null,"Emiratos Árabes Unidos",null,"0899 - Extracción de otros minerales no metálicos n.c.p. ","0899","Extracción de otros minerales no metálicos n.c.p. "]
[null,"Eritrea",null,"0910 - Actividades de apoyo para la extracción de petróleo y de gas natural ","0910","Actividades de apoyo para la extracción de petróleo y de gas natural "]
[null,"Eslovaquia",null,"0990 - Actividades de apoyo para otras actividades de explotación de minas y canteras ","0990","Actividades de apoyo para otras actividades de explotación de minas y canteras "]
[null,"Eslovenia",null,"1011 - Procesamiento y conservación de carne y productos cárnicos ",1011,"Procesamiento y conservación de carne y productos cárnicos "]
[null,"España",null,"1012 - Procesamiento y conservación de pescados, crustáceos y moluscos ",1012,"Procesamiento y conservación de pescados, crustáceos y moluscos "]
[null,"Estados Unidos",null,"1020 - Procesamiento y conservación de frutas, legumbres, hortalizas y tubérculos ",1020,"Procesamiento y conservación de frutas, legumbres, hortalizas y tubérculos "]
[null,"Estonia",null,"1031 - Extracción de aceites de origen vegetal crudos","1031","Extracción de aceites de origen vegetal crudos"]
[null,"Esuatini",null,"1032 - Elaboración de aceites y grasas de origen vegetal refinados","1032","Elaboración de aceites y grasas de origen vegetal refinados"]
[null,"Etiopía",null,"1033 - Elaboración de aceites y grasas de origen animal","1033","Elaboración de aceites y grasas de origen animal"]
[null,"Filipinas",null,"1040 - Elaboración de productos lácteos ",1040,"Elaboración de productos lácteos "]
[null,"Finlandia",null,"1051 - Elaboración de productos de molinería ",1051,"Elaboración de productos de molinería "]
[null,"Fiyi",null,"1052 - Elaboración de almidones y productos derivados del almidón ",1052,"Elaboración de almidones y productos derivados del almidón "]
[null,"Francia",null,"1061 - Trilla de café ",1061,"Trilla de café "]
[null,"Gabón",null,"1062 - Descafeinado, tostión y molienda del café ",1062,"Descafeinado, tostión y molienda del café "]
[null,"Gambia",null,"1063 - Otros derivados del café ",1063,"Otros derivados del café "]
[null,"Georgia",null,"1071 - Elaboración y refinación de azúcar ",1071,"Elaboración y refinación de azúcar "]
[null,"Ghana",null,{"$f":"+CONCATENATE(E78,\" - \",F78)","v":"1072 - Elaboración de panela "},1072,"Elaboración de panela "]
[null,"Granada",null,"1081 - Elaboración de productos de panadería ",1081,"Elaboración de productos de panadería "]
[null,"Grecia",null,"1082 - Elaboración de cacao, chocolate y productos de confitería ",1082,"Elaboración de cacao, chocolate y productos de confitería "]
[null,"Guatemala",null,"1083 - Elaboración de macarrones, fideos, alcuzcuz y productos farináceos similares ",1083,"Elaboración de macarrones, fideos, alcuzcuz y productos farináceos similares "]
[null,"Guinea",null,"1084 - Elaboración de comidas y platos preparados ",1084,"Elaboración de comidas y platos preparados "]
[null,"Guinea Ecuatorial",null,"1089 - Elaboración de otros productos alimenticios n.c.p. ",1089,"Elaboración de otros productos alimenticios n.c.p. "]
[null,"Guinea-Bisáu",null,"1090 - Elaboración de alimentos preparados para animales ",1090,"Elaboración de alimentos preparados para animales "]
[null,"Guyana",null,"1101 - Destilación, rectificación y mezcla de bebidas alcohólicas ","1101","Destilación, rectificación y mezcla de bebidas alcohólicas "]
[null,"Haití",null,"1102 - Elaboración de bebidas fermentadas no destiladas ","1102","Elaboración de bebidas fermentadas no destiladas "]
[null,"Honduras",null,"1103 - Producción de malta, elaboración de cervezas y otras bebidas malteadas ","1103","Producción de malta, elaboración de cervezas y otras bebidas malteadas "]
[null,"Hungría",null,"1104 - Elaboración de bebidas no alcohólicas, producción de aguas minerales y otras aguas embotelladas ","1104","Elaboración de bebidas no alcohólicas, producción de aguas minerales y otras aguas embotelladas "]
[null,"India",null,"1200 - Elaboración de productos de tabaco ","1200","Elaboración de productos de tabaco "]
[null,"Indonesia",null,"1311 - Preparación e hilatura de fibras textiles ",1311,"Preparación e hilatura de fibras textiles "]
[null,"Irak",null,"1312 - Tejeduría de productos textiles ",1312,"Tejeduría de productos textiles "]
[null,"Irán",null,"1313 - Acabado de productos textiles ",1313,"Acabado de productos textiles "]
[null,"Irlanda",null,"1391 - Fabricación de tejidos de punto y ganchillo ",1391,"Fabricación de tejidos de punto y ganchillo "]
[null,"Islandia",null,"1392 - Confección de artículos con materiales textiles, excepto prendas de vestir ",1392,"Confección de artículos con materiales textiles, excepto prendas de vestir "]
[null,"Islas Marshall",null,"1393 - Fabricación de tapetes y alfombras para pisos ",1393,"Fabricación de tapetes y alfombras para pisos "]
[null,"Islas Salomón",null,"1394 - Fabricación de cuerdas, cordeles, cables, bramantes y redes ",1394,"Fabricación de cuerdas, cordeles, cables, bramantes y redes "]
[null,"Israel",null,"1399 - Fabricación de otros artículos textiles n.c.p. ",1399,"Fabricación de otros artículos textiles n.c.p. "]
[null,"Italia",null,"1410 - Confección de prendas de vestir, excepto prendas de piel ",1410,"Confección de prendas de vestir, excepto prendas de piel "]
[null,"Jamaica",null,"1420 - Fabricación de artículos de piel ",1420,"Fabricación de artículos de piel "]
[null,"Japón",null,"1430 - Fabricación de artículos de punto y ganchillo ",1430,"Fabricación de artículos de punto y ganchillo "]
[null,"Jordania",null,"1511 - Curtido y recurtido de cueros; recurtido y teñido de pieles ","1511","Curtido y recurtido de cueros; recurtido y teñido de pieles "]
[null,"Kazajistán",null,"1512 - Fabricación de artículos de viaje, bolsos de mano y artículos similares elaborados en cuero, y fabricación de artículos de talabartería y guarnicionería ",1512,"Fabricación de artículos de viaje, bolsos de mano y artículos similares elaborados en cuero, y fabricación de artículos de talabartería y guarnicionería "]
[null,"Kenia",null,"1513 - Fabricación de artículos de viaje, bolsos de mano y artículos similares; artículos de talabartería y guarnicionería elaborados en otros materiales ",1513,"Fabricación de artículos de viaje, bolsos de mano y artículos similares; artículos de talabartería y guarnicionería elaborados en otros materiales "]
[null,"Kirguistán",null,"1521 - Fabricación de calzado de cuero y piel, con cualquier tipo de suela ",1521,"Fabricación de calzado de cuero y piel, con cualquier tipo de suela "]
[null,"Kiribati",null,"1522 - Fabricación de otros tipos de calzado, excepto calzado de cuero y piel ",1522,"Fabricación de otros tipos de calzado, excepto calzado de cuero y piel "]
[null,"Kosovo",null,"1523 - Fabricación de partes del calzado ",1523,"Fabricación de partes del calzado "]
[null,"Kuwait",null,"1610 - Aserrado, acepillado e impregnación de la madera ",1610,"Aserrado, acepillado e impregnación de la madera "]
[null,"Laos",null,"1620 - Fabricación   de   hojas   de   madera   para   enchapado;   fabricación   de   tableros contrachapados,  tableros  laminados,  tableros  de  partículas  y  otros  tableros  y paneles ","1620","Fabricación   de   hojas   de   madera   para   enchapado;   fabricación   de   tableros contrachapados,  tableros  laminados,  tableros  de  partículas  y  otros  tableros  y paneles "]
[null,"Lesoto",null,"1630 - Fabricación  de  partes  y  piezas  de  madera,  de  carpintería  y  ebanistería  para  la construcción ",1630,"Fabricación  de  partes  y  piezas  de  madera,  de  carpintería  y  ebanistería  para  la construcción "]
[null,"Letonia",null,"1640 - Fabricación de recipientes de madera ",1640,"Fabricación de recipientes de madera "]
[null,"Líbano",null,"1690 - Fabricación  de  otros  productos  de  madera;  fabricación  de  artículos  de  corcho, cestería y espartería ",1690,"Fabricación  de  otros  productos  de  madera;  fabricación  de  artículos  de  corcho, cestería y espartería "]
[null,"Liberia",null,"1701 - Fabricación de pulpas (pastas) celulósicas; papel y cartón ",1701,"Fabricación de pulpas (pastas) celulósicas; papel y cartón "]
[null,"Libia",null,"1702 - Fabricación  de  papel  y  cartón  ondulado  (corrugado);  fabricación  de  envases, empaques y de embalajes de papel y cartón ",1702,"Fabricación  de  papel  y  cartón  ondulado  (corrugado);  fabricación  de  envases, empaques y de embalajes de papel y cartón "]
[null,"Liechtenstein",null,"1709 - Fabricación de otros artículos de papel y cartón ",1709,"Fabricación de otros artículos de papel y cartón "]
[null,"Lituania",null,"1811 - Actividades de impresión ",1811,"Actividades de impresión "]
[null,"Luxemburgo",null,"1812 - Actividades de servicios relacionados con la impresión ",1812,"Actividades de servicios relacionados con la impresión "]
[null,"Macedonia del Norte",null,"1820 - Producción de copias a partir de grabaciones originales ",1820,"Producción de copias a partir de grabaciones originales "]
[null,"Madagascar",null,"1910 - Fabricación de productos de hornos de coque ",1910,"Fabricación de productos de hornos de coque "]
[null,"Malasia",null,"1921 - Fabricación de productos de la refinación del petróleo ",1921,"Fabricación de productos de la refinación del petróleo "]
[null,"Malaui",null,"1922 - Actividad de mezcla de combustibles ",1922,"Actividad de mezcla de combustibles "]
[null,"Maldivas",null,"2011 - Fabricación de sustancias y productos químicos básicos ",2011,"Fabricación de sustancias y productos químicos básicos "]
[null,"Malí",null,"2012 - Fabricación de abonos y compuestos inorgánicos nitrogenados ",2012,"Fabricación de abonos y compuestos inorgánicos nitrogenados "]
[null,"Malta",null,"2013 - Fabricación de plásticos en formas primarias ",2013,"Fabricación de plásticos en formas primarias "]
[null,"Marruecos",null,"2014 - Fabricación de caucho sintético en formas primarias ",2014,"Fabricación de caucho sintético en formas primarias "]
[null,"Mauricio",null,"2021 - Fabricación de plaguicidas y otros productos químicos de uso agropecuario ",2021,"Fabricación de plaguicidas y otros productos químicos de uso agropecuario "]
[null,"Mauritania",null,"2022 - Fabricación de pinturas, barnices y revestimientos similares, tintas para impresión y masillas ",2022,"Fabricación de pinturas, barnices y revestimientos similares, tintas para impresión y masillas "]
[null,"México",null,"2023 - Fabricación de jabones y detergentes, preparados para limpiar y pulir; perfumes y preparados de tocador ",2023,"Fabricación de jabones y detergentes, preparados para limpiar y pulir; perfumes y preparados de tocador "]
[null,"Micronesia",null,"2029 - Fabricación de otros productos químicos n.c.p. ",2029,"Fabricación de otros productos químicos n.c.p. "]
[null,"Moldavia",null,"2030 - Fabricación de fibras sintéticas y artificiales ",2030,"Fabricación de fibras sintéticas y artificiales "]
[null,"Mónaco",null,"2100 - Fabricación de productos farmacéuticos, sustancias químicas medicinales y productos botánicos de uso farmacéutico ","2100","Fabricación de productos farmacéuticos, sustancias químicas medicinales y productos botánicos de uso farmacéutico "]
[null,"Mongolia",null,"2211 - Fabricación de llantas y neumáticos de caucho ",2211,"Fabricación de llantas y neumáticos de caucho "]
[null,"Montenegro",null,"2212 - Reencauche de llantas usadas ",2212,"Reencauche de llantas usadas "]
[null,"Mozambique",null,"2219 - Fabricación de formas básicas de caucho y otros productos de caucho n.c.p. ",2219,"Fabricación de formas básicas de caucho y otros productos de caucho n.c.p. "]
[null,"Namibia",null,"2221 - Fabricación de formas básicas de plástico ",2221,"Fabricación de formas básicas de plástico "]
[null,"Nauru",null,"2229 - Fabricación de artículos de plástico n.c.p. ",2229,"Fabricación de artículos de plástico n.c.p. "]
[null,"Nepal",null,"2310 - Fabricación de vidrio y productos de vidrio ",2310,"Fabricación de vidrio y productos de vidrio "]
[null,"Nicaragua",null,"2391 - Fabricación de productos refractarios ",2391,"Fabricación de productos refractarios "]
[null,"Níger",null,"2392 - Fabricación de materiales de arcilla para la construcción ",2392,"Fabricación de materiales de arcilla para la construcción "]
[null,"Nigeria",null,"2393 - Fabricación de otros productos de cerámica y porcelana ",2393,"Fabricación de otros productos de cerámica y porcelana "]
[null,"Noruega",null,"2394 - Fabricación de cemento, cal y yeso ",2394,"Fabricación de cemento, cal y yeso "]
[null,"Nueva Zelanda",null,"2395 - Fabricación de artículos de hormigón, cemento y yeso ",2395,"Fabricación de artículos de hormigón, cemento y yeso "]
[null,"Omán",null,{"$f":"+CONCATENATE(E142,\" - \",F142)","v":"2396 - Corte, tallado y acabado de la piedra "},2396,"Corte, tallado y acabado de la piedra "]
[null,"Países Bajos",null,"2399 - Fabricación de otros productos minerales no metálicos n.c.p. ",2399,"Fabricación de otros productos minerales no metálicos n.c.p. "]
[null,"Pakistán",null,"2410 - Industrias básicas de hierro y de acero ",2410,"Industrias básicas de hierro y de acero "]
[null,"Palaos",null,"2421 - Industrias básicas de metales preciosos ",2421,"Industrias básicas de metales preciosos "]
[null,"Palestina",null,"2429 - Industrias básicas de otros metales no ferrosos ",2429,"Industrias básicas de otros metales no ferrosos "]
[null,"Panamá",null,"2431 - Fundición de hierro y de acero ",2431,"Fundición de hierro y de acero "]
[null,"Papúa Nueva Guinea",null,"2432 - Fundición de metales no ferrosos ",2432,"Fundición de metales no ferrosos "]
[null,"Paraguay",null,"2511 - Fabricación de productos metálicos para uso estructural ",2511,"Fabricación de productos metálicos para uso estructural "]
[null,"Perú",null,"2512 - Fabricación de tanques, depósitos y recipientes de metal, excepto los utilizados para el envase o el transporte de mercancías ",2512,"Fabricación de tanques, depósitos y recipientes de metal, excepto los utilizados para el envase o el transporte de mercancías "]
[null,"Polonia",null,"2513 - Fabricación de generadores de vapor, excepto calderas de agua caliente para calefacción central ",2513,"Fabricación de generadores de vapor, excepto calderas de agua caliente para calefacción central "]
[null,"Portugal",null,"2520 - Fabricación de armas y municiones ",2520,"Fabricación de armas y municiones "]
[null,"Reino Unido",null,"2591 - Forja, prensado, estampado y laminado de metal; pulvimetalurgia ",2591,"Forja, prensado, estampado y laminado de metal; pulvimetalurgia "]
[null,"República Centroafricana",null,"2592 - Tratamiento y revestimiento de metales; mecanizado ",2592,"Tratamiento y revestimiento de metales; mecanizado "]
[null,"República Checa",null,"2593 - Fabricación de artículos de cuchillería, herramientas de mano y artículos de ferretería ",2593,"Fabricación de artículos de cuchillería, herramientas de mano y artículos de ferretería "]
[null,"República Democrática del Congo",null,"2599 - Fabricación de otros productos elaborados de metal n.c.p. ",2599,"Fabricación de otros productos elaborados de metal n.c.p. "]
[null,"República Dominicana",null,"2610 - Fabricación de componentes y tableros electrónicos ",2610,"Fabricación de componentes y tableros electrónicos "]
[null,"Ruanda",null,"2620 - Fabricación de computadoras y de equipo periférico ",2620,"Fabricación de computadoras y de equipo periférico "]
[null,"Rumania",null,"2630 - Fabricación de equipos de comunicación ",2630,"Fabricación de equipos de comunicación "]
[null,"Rusia",null,"2640 - Fabricación de aparatos electrónicos de consumo ",2640,"Fabricación de aparatos electrónicos de consumo "]
[null,"Samoa",null,"2651 - Fabricación de equipo de medición, prueba, navegación y control ",2651,"Fabricación de equipo de medición, prueba, navegación y control "]
[null,"San Cristóbal y Nieves",null,"2652 - Fabricación de relojes ",2652,"Fabricación de relojes "]
[null,"San Marino",null,"2660 - Fabricación de equipo de irradiación y equipo electrónico de uso médico y terapéutico ","2660","Fabricación de equipo de irradiación y equipo electrónico de uso médico y terapéutico "]
[null,"San Vicente y las Granadinas",null,"2670 - Fabricación de instrumentos ópticos y equipo fotográfico ",2670,"Fabricación de instrumentos ópticos y equipo fotográfico "]
[null,"Santa Lucía",null,"2680 - Fabricación de medios magnéticos y ópticos para almacenamiento de datos ",2680,"Fabricación de medios magnéticos y ópticos para almacenamiento de datos "]
[null,"Santo Tomé y Príncipe",null,"2711 - Fabricación de motores, generadores y transformadores eléctricos ",2711,"Fabricación de motores, generadores y transformadores eléctricos "]
[null,"Senegal",null,"2712 - Fabricación de aparatos de distribución y control de la energía eléctrica ",2712,"Fabricación de aparatos de distribución y control de la energía eléctrica "]
[null,"Serbia",null,"2720 - Fabricación de pilas, baterías y acumuladores eléctricos ",2720,"Fabricación de pilas, baterías y acumuladores eléctricos "]
[null,"Seychelles",null,"2731 - Fabricación de hilos y cables eléctricos y de fibra óptica ",2731,"Fabricación de hilos y cables eléctricos y de fibra óptica "]
[null,"Sierra Leona",null,"2732 - Fabricación de dispositivos de cableado ",2732,"Fabricación de dispositivos de cableado "]
[null,"Singapur",null,"2740 - Fabricación de equipos eléctricos de iluminación ",2740,"Fabricación de equipos eléctricos de iluminación "]
[null,"Siria",null,"2750 - Fabricación de aparatos de uso doméstico ","2750","Fabricación de aparatos de uso doméstico "]
[null,"Somalia",null,"2790 - Fabricación de otros tipos de equipo eléctrico n.c.p. ","2790","Fabricación de otros tipos de equipo eléctrico n.c.p. "]
[null,"Sri Lanka",null,"2811 - Fabricación de motores, turbinas, y partes para motores de combustión interna ",2811,"Fabricación de motores, turbinas, y partes para motores de combustión interna "]
[null,"Sudáfrica",null,"2812 - Fabricación de equipos de potencia hidráulica y neumática ",2812,"Fabricación de equipos de potencia hidráulica y neumática "]
[null,"Sudán",null,"2813 - Fabricación de otras bombas, compresores, grifos y válvulas ",2813,"Fabricación de otras bombas, compresores, grifos y válvulas "]
[null,"Sudán del Sur",null,"2814 - Fabricación de cojinetes, engranajes, trenes de engranajes y piezas de transmisión ",2814,"Fabricación de cojinetes, engranajes, trenes de engranajes y piezas de transmisión "]
[null,"Suecia",null,"2815 - Fabricación de hornos, hogares y quemadores industriales ",2815,"Fabricación de hornos, hogares y quemadores industriales "]
[null,"Suiza",null,"2816 - Fabricación de equipo de elevación y manipulación ",2816,"Fabricación de equipo de elevación y manipulación "]
[null,"Surinam",null,"2817 - Fabricación de maquinaria y equipo de oficina (excepto computadoras y equipo periférico) ",2817,"Fabricación de maquinaria y equipo de oficina (excepto computadoras y equipo periférico) "]
[null,"Tailandia",null,"2818 - Fabricación de herramientas manuales con motor ",2818,"Fabricación de herramientas manuales con motor "]
[null,"Taiwán",null,"2819 - Fabricación de otros tipos de maquinaria y equipo de uso general n.c.p. ",2819,"Fabricación de otros tipos de maquinaria y equipo de uso general n.c.p. "]
[null,"Tanzania",null,"2821 - Fabricación de maquinaria agropecuaria y forestal ",2821,"Fabricación de maquinaria agropecuaria y forestal "]
[null,"Tayikistán",null,"2822 - Fabricación de máquinas formadoras de metal y de máquinas herramienta ",2822,"Fabricación de máquinas formadoras de metal y de máquinas herramienta "]
[null,"Timor Oriental",null,"2823 - Fabricación de maquinaria para la metalurgia ",2823,"Fabricación de maquinaria para la metalurgia "]
[null,"Togo",null,"2824 - Fabricación de maquinaria para explotación de minas y canteras y para obras de construcción ",2824,"Fabricación de maquinaria para explotación de minas y canteras y para obras de construcción "]
[null,"Tonga",null,"2825 - Fabricación de maquinaria para la elaboración de alimentos, bebidas y tabaco ",2825,"Fabricación de maquinaria para la elaboración de alimentos, bebidas y tabaco "]
[null,"Trinidad y Tobago",null,"2826 - Fabricación de maquinaria para la elaboración de productos textiles, prendas de vestir y cueros ",2826,"Fabricación de maquinaria para la elaboración de productos textiles, prendas de vestir y cueros "]
[null,"Túnez",null,"2829 - Fabricación de otros tipos de maquinaria y equipo de uso especial n.c.p. ",2829,"Fabricación de otros tipos de maquinaria y equipo de uso especial n.c.p. "]
[null,"Turkmenistán",null,"2910 - Fabricación de vehículos automotores y sus motores ",2910,"Fabricación de vehículos automotores y sus motores "]
[null,"Turquía",null,"2920 - Fabricación de carrocerías para vehículos automotores; fabricación de remolques y semirremolques ",2920,"Fabricación de carrocerías para vehículos automotores; fabricación de remolques y semirremolques "]
[null,"Tuvalu",null,"2930 - Fabricación de partes, piezas (autopartes) y accesorios (lujos) para vehículos automotores ",2930,"Fabricación de partes, piezas (autopartes) y accesorios (lujos) para vehículos automotores "]
[null,"Ucrania",null,"3011 - Construcción de barcos y de estructuras flotantes ",3011,"Construcción de barcos y de estructuras flotantes "]
[null,"Uganda",null,"3012 - Construcción de embarcaciones de recreo y deporte ",3012,"Construcción de embarcaciones de recreo y deporte "]
[null,"Uruguay",null,"3020 - Fabricación de locomotoras y de material rodante para ferrocarriles ",3020,"Fabricación de locomotoras y de material rodante para ferrocarriles "]
[null,"Uzbekistán",null,"3030 - Fabricación de aeronaves, naves espaciales y de maquinaria conexa ",3030,"Fabricación de aeronaves, naves espaciales y de maquinaria conexa "]
[null,"Vanuatu",null,"3040 - Fabricación de vehículos militares de combate ",3040,"Fabricación de vehículos militares de combate "]
[null,"Vaticano",null,"3091 - Fabricación de motocicletas ",3091,"Fabricación de motocicletas "]
[null,"Venezuela",null,"3092 - Fabricación de bicicletas y de sillas de ruedas para personas con discapacidad ",3092,"Fabricación de bicicletas y de sillas de ruedas para personas con discapacidad "]
[null,"Vietnam",null,"3099 - Fabricación de otros tipos de equipo de transporte n.c.p. ",3099,"Fabricación de otros tipos de equipo de transporte n.c.p. "]
[null,"Yemen",null,"3110 - Fabricación de muebles ",3110,"Fabricación de muebles "]
[null,"Yibuti",null,"3120 - Fabricación de colchones y somieres ",3120,"Fabricación de colchones y somieres "]
[null,"Zambia",null,"3210 - Fabricación de joyas, bisutería y artículos conexos ",3210,"Fabricación de joyas, bisutería y artículos conexos "]
[null,"Zimbabue",null,"3220 - Fabricación de instrumentos musicales ",3220,"Fabricación de instrumentos musicales "]
[null,null,null,"3230 - Fabricación de artículos y equipo para la práctica del deporte ",3230,"Fabricación de artículos y equipo para la práctica del deporte "]
[null,null,null,{"$f":"+CONCATENATE(E206,\" - \",F206)","v":"3240 - Fabricación de juegos, juguetes y rompecabezas "},3240,"Fabricación de juegos, juguetes y rompecabezas "]
[null,null,null,"3250 - Fabricación de instrumentos, aparatos y materiales médicos y odontológicos (incluido mobiliario) ",3250,"Fabricación de instrumentos, aparatos y materiales médicos y odontológicos (incluido mobiliario) "]
[null,null,null,"3290 - Otras industrias manufactureras n.c.p. ","3290","Otras industrias manufactureras n.c.p. "]
[null,null,null,"3311 - Mantenimiento y reparación especializado de productos elaborados en metal ",3311,"Mantenimiento y reparación especializado de productos elaborados en metal "]
[null,null,null,"3312 - Mantenimiento y reparación especializado de maquinaria y equipo ",3312,"Mantenimiento y reparación especializado de maquinaria y equipo "]
[null,null,null,"3313 - Mantenimiento y reparación especializado de equipo electrónico y óptico ",3313,"Mantenimiento y reparación especializado de equipo electrónico y óptico "]
[null,null,null,"3314 - Mantenimiento y reparación especializado de equipo eléctrico ",3314,"Mantenimiento y reparación especializado de equipo eléctrico "]
[null,null,null,"3315 - Mantenimiento y reparación especializado de equipo de transporte, excepto los vehículos automotores, motocicletas y bicicletas ",3315,"Mantenimiento y reparación especializado de equipo de transporte, excepto los vehículos automotores, motocicletas y bicicletas "]
[null,null,null,"3319 - Mantenimiento y reparación de otros tipos de equipos y sus componentes n.c.p. ",3319,"Mantenimiento y reparación de otros tipos de equipos y sus componentes n.c.p. "]
[null,null,null,"3320 - Instalación especializada de maquinaria y equipo industrial ",3320,"Instalación especializada de maquinaria y equipo industrial "]
[null,null,null,"3511 - Generación de energía eléctrica ",3511,"Generación de energía eléctrica "]
[null,null,null,"3512 - Transmisión de energía eléctrica ",3512,"Transmisión de energía eléctrica "]
[null,null,null,"3513 - Distribución de energía eléctrica ",3513,"Distribución de energía eléctrica "]
[null,null,null,"3514 - Comercialización de energía eléctrica ",3514,"Comercialización de energía eléctrica "]
[null,null,null,"3520 - Producción de gas; distribución de combustibles gaseosos por tuberías ",3520,"Producción de gas; distribución de combustibles gaseosos por tuberías "]
[null,null,null,"3530 - Suministro de vapor y aire acondicionado ",3530,"Suministro de vapor y aire acondicionado "]
[null,{"$f":"' '!C216","v":"General"},null,"3600 - Captación, tratamiento y distribución de agua ","3600","Captación, tratamiento y distribución de agua "]
[null,{"$f":"' '!C217","v":"Cooperativas"},null,"3700 - Evacuación y tratamiento de aguas residuales ","3700","Evacuación y tratamiento de aguas residuales "]
[null,{"$f":"' '!C218","v":"Sociedad constituida en la ZESE - Dentro de los primeros 5 años de operaciones"},null,"3811 - Recolección de desechos no peligrosos ",3811,"Recolección de desechos no peligrosos "]
[null,{"$f":"' '!C219","v":"Sociedad constituida en la ZESE - Dentro del 6 y 10 años de operaciones"},null,"3812 - Recolección de desechos peligrosos ",3812,"Recolección de desechos peligrosos "]
[null,{"$f":"' '!C220","v":"Usuario de Zonas Francas comerciales"},null,"3821 - Tratamiento y disposición de desechos no peligrosos ",3821,"Tratamiento y disposición de desechos no peligrosos "]
[null,{"$f":"' '!C221","v":"Usuario de Zonas Francas no comerciales"},null,"3822 - Tratamiento y disposición de desechos peligrosos ",3822,"Tratamiento y disposición de desechos peligrosos "]
[null,{"$f":"' '!C222","v":"Usuario de nuevas zonas francas de Cúcuta creadas entre enero de 2017 y diciembre de 2019"},null,"3830 - Recuperación de materiales ",3830,"Recuperación de materiales "]
[null,{"$f":"' '!C223","v":"Régimen Tributario Especial"},null,"3900 - Actividades de saneamiento ambiental y otros servicios de gestión de desechos ","3900","Actividades de saneamiento ambiental y otros servicios de gestión de desechos "]
[null,{"$f":"' '!C224","v":"Servicios prestados en parques temáticos de ecoturismo y/o de agroturismo, cumpliendo las condiciones señaladas en el parágrafo 5 del artículo 240 del ET"},null,"4111 - Construcción de edificios residenciales ",4111,"Construcción de edificios residenciales "]
[null,{"$f":"' '!C225","v":"Empresa industrial y comercial el Estado "},null,"4112 - Construcción de edificios no residenciales ",4112,"Construcción de edificios no residenciales "]
[null,{"$f":"' '!C226","v":"Sociedad de economía mixta del orden nacional, departamental, municipal y distrital, en las cuales la participación del Estado sea superior del 90% que ejerzan los monopolios de suerte y azar y de licores y alcoholes."},null,"4210 - Construcción de carreteras y vías de ferrocarril ",4210,"Construcción de carreteras y vías de ferrocarril "]
[null,{"$f":"' '!C227","v":"Micro y pequeñas empresas que inicien actividades en las ZOMAC por el año 2024 (25% de la tarifa general)"},null,"4220 - Construcción de proyectos de servicio público ",4220,"Construcción de proyectos de servicio público "]
[null,{"$f":"' '!C228","v":"Medianas y grandes empresas que inicien actividades en las ZOMAC por el año 2024 (75% de la tarifa general)"},null,"4290 - Construcción de otras obras de ingeniería civil ",4290,"Construcción de otras obras de ingeniería civil "]
[null,{"$f":"' '!C229","v":"Empresa editorial cuya actividad económica y objeto social sea exclusivamente la edición de libros en los términos de la Ley 98 de 1993"},null,"4311 - Demolición ",4311,"Demolición "]
[null,{"$f":"' '!C230","v":"Mega inversiones en actividades comerciales, industriales y/o de servicios"},null,"4312 - Preparación del terreno ",4312,"Preparación del terreno "]
[null,{"$f":"' '!C231","v":"Mega inversiones en servicios hoteleros "},null,"4321 - Instalaciones eléctricas ",4321,"Instalaciones eléctricas "]
[null,{"$f":"' '!C232","v":"Otra tarifa del impuesto de renta "},null,"4322 - Instalaciones de fontanería, calefacción y aire acondicionado ",4322,"Instalaciones de fontanería, calefacción y aire acondicionado "]
[null,null,null,"4329 - Otras instalaciones especializadas ",4329,"Otras instalaciones especializadas "]
[null,null,null,"4330 - Terminación y acabado de edificios y obras de ingeniería civil ",4330,"Terminación y acabado de edificios y obras de ingeniería civil "]
[null,null,null,"4390 - Otras actividades especializadas para la construcción de edificios y obras de ingeniería civil ",4390,"Otras actividades especializadas para la construcción de edificios y obras de ingeniería civil "]
[null,null,null,"4511 - Comercio de vehículos automotores nuevos ",4511,"Comercio de vehículos automotores nuevos "]
[null,null,null,"4512 - Comercio de vehículos automotores usados ",4512,"Comercio de vehículos automotores usados "]
[null,null,null,"4520 - Mantenimiento y reparación de vehículos automotores ",4520,"Mantenimiento y reparación de vehículos automotores "]
[null,null,null,"4530 - Comercio de partes, piezas (autopartes) y accesorios (lujos) para vehículos automotores ",4530,"Comercio de partes, piezas (autopartes) y accesorios (lujos) para vehículos automotores "]
[null,null,null,"4541 - Comercio de motocicletas y de sus partes, piezas y accesorios ",4541,"Comercio de motocicletas y de sus partes, piezas y accesorios "]
[null,null,null,"4542 - Mantenimiento y reparación de motocicletas y de sus partes y piezas ",4542,"Mantenimiento y reparación de motocicletas y de sus partes y piezas "]
[null,null,null,"4610 - Comercio al por mayor a cambio de una retribución o por contrata ",4610,"Comercio al por mayor a cambio de una retribución o por contrata "]
[null,null,null,"4620 - Comercio al por mayor de materias primas agropecuarias; animales vivos ",4620,"Comercio al por mayor de materias primas agropecuarias; animales vivos "]
[null,null,null,"4631 - Comercio al por mayor de productos alimenticios ",4631,"Comercio al por mayor de productos alimenticios "]
[null,null,null,"4632 - Comercio al por mayor de bebidas y tabaco ",4632,"Comercio al por mayor de bebidas y tabaco "]
[null,null,null,"4641 - Comercio al por mayor de productos textiles, productos confeccionados para uso doméstico ",4641,"Comercio al por mayor de productos textiles, productos confeccionados para uso doméstico "]
[null,null,null,"4642 - Comercio al por mayor de prendas de vestir ",4642,"Comercio al por mayor de prendas de vestir "]
[null,null,null,"4643 - Comercio al por mayor de calzado ",4643,"Comercio al por mayor de calzado "]
[null,null,null,"4644 - Comercio al por mayor de aparatos y equipo de uso doméstico ",4644,"Comercio al por mayor de aparatos y equipo de uso doméstico "]
[null,null,null,"4645 - Comercio al por mayor de productos farmacéuticos, medicinales, cosméticos y de tocador ",4645,"Comercio al por mayor de productos farmacéuticos, medicinales, cosméticos y de tocador "]
[null,null,null,"4649 - Comercio al por mayor de otros utensilios domésticos n.c.p. ",4649,"Comercio al por mayor de otros utensilios domésticos n.c.p. "]
[null,null,null,"4651 - Comercio al por mayor de computadores, equipo periférico y programas de informática ",4651,"Comercio al por mayor de computadores, equipo periférico y programas de informática "]
[null,null,null,"4652 - Comercio al por mayor de equipo, partes y piezas electrónicos y de telecomunicaciones ",4652,"Comercio al por mayor de equipo, partes y piezas electrónicos y de telecomunicaciones "]
[null,null,null,"4653 - Comercio al por mayor de maquinaria y equipo agropecuarios ",4653,"Comercio al por mayor de maquinaria y equipo agropecuarios "]
[null,null,null,"4659 - Comercio al por mayor de otros tipos de maquinaria y equipo n.c.p. ",4659,"Comercio al por mayor de otros tipos de maquinaria y equipo n.c.p. "]
[null,null,null,"4661 - Comercio  al  por  mayor  de  combustibles  sólidos,  líquidos,  gaseosos  y  productos conexos ",4661,"Comercio  al  por  mayor  de  combustibles  sólidos,  líquidos,  gaseosos  y  productos conexos "]
[null,null,null,"4662 - Comercio al por mayor de metales y productos metalíferos ",4662,"Comercio al por mayor de metales y productos metalíferos "]
[null,null,null,"4663 - Comercio al por mayor de materiales de construcción, artículos de ferretería, pinturas, productos de vidrio, equipo y materiales de fontanería y calefacción ",4663,"Comercio al por mayor de materiales de construcción, artículos de ferretería, pinturas, productos de vidrio, equipo y materiales de fontanería y calefacción "]
[null,null,null,"4664 - Comercio al por mayor de productos químicos básicos, cauchos y plásticos en formas primarias y productos químicos de uso agropecuario ",4664,"Comercio al por mayor de productos químicos básicos, cauchos y plásticos en formas primarias y productos químicos de uso agropecuario "]
[null,null,null,"4665 - Comercio al por mayor de desperdicios, desechos y chatarra ",4665,"Comercio al por mayor de desperdicios, desechos y chatarra "]
[null,null,null,"4669 - Comercio al por mayor de otros productos n.c.p. ",4669,"Comercio al por mayor de otros productos n.c.p. "]
[null,null,null,"4690 - Comercio al por mayor no especializado ",4690,"Comercio al por mayor no especializado "]
[null,null,null,"4711 - Comercio al por menor en establecimientos no especializados con surtido compuesto principalmente por alimentos, bebidas (alcohólicas y no alcohólicas) o tabaco ","4711","Comercio al por menor en establecimientos no especializados con surtido compuesto principalmente por alimentos, bebidas (alcohólicas y no alcohólicas) o tabaco "]
[null,null,null,{"$f":"+CONCATENATE(E270,\" - \",F270)","v":"4719 - Comercio al por menor en establecimientos no especializados, con surtido compuesto principalmente por productos diferentes de alimentos (víveres en general), bebidas (alcohólicas y no alcohólicas) y tabaco "},"4719","Comercio al por menor en establecimientos no especializados, con surtido compuesto principalmente por productos diferentes de alimentos (víveres en general), bebidas (alcohólicas y no alcohólicas) y tabaco "]
[null,null,null,"4721 - Comercio al por menor de productos agrícolas para el consumo en establecimientos especializados ","4721","Comercio al por menor de productos agrícolas para el consumo en establecimientos especializados "]
[null,null,null,"4722 - Comercio al por menor de leche, productos lácteos y huevos, en establecimientos especializados ","4722","Comercio al por menor de leche, productos lácteos y huevos, en establecimientos especializados "]
[null,null,null,"4723 - Comercio al por menor de carnes (incluye aves de corral), productos cárnicos, pescados y productos de mar, en establecimientos especializados ","4723","Comercio al por menor de carnes (incluye aves de corral), productos cárnicos, pescados y productos de mar, en establecimientos especializados "]
[null,null,null,"4724 - Comercio al por menor de bebidas y productos del tabaco, en establecimientos especializados ","4724","Comercio al por menor de bebidas y productos del tabaco, en establecimientos especializados "]
[null,null,null,"4729 - Comercio al por menor de otros productos alimenticios n.c.p. , en establecimientos especializados ","4729","Comercio al por menor de otros productos alimenticios n.c.p. , en establecimientos especializados "]
[null,null,null,"4731 - Comercio al por menor de combustible para automotores ","4731","Comercio al por menor de combustible para automotores "]
[null,null,null,"4732 - Comercio al por menor de lubricantes (aceites, grasas), aditivos y productos de limpieza para vehículos automotores ","4732","Comercio al por menor de lubricantes (aceites, grasas), aditivos y productos de limpieza para vehículos automotores "]
[null,null,null,"4741 - Comercio al por menor de computadores, equipos periféricos, programas de informática y equipos de telecomunicaciones en establecimientos especializados ","4741","Comercio al por menor de computadores, equipos periféricos, programas de informática y equipos de telecomunicaciones en establecimientos especializados "]
[null,null,null,"4742 - Comercio al por menor de equipos y aparatos de sonido y de video, en establecimientos especializados ","4742","Comercio al por menor de equipos y aparatos de sonido y de video, en establecimientos especializados "]
[null,null,null,"4751 - Comercio al por menor de productos textiles en establecimientos especializados ","4751","Comercio al por menor de productos textiles en establecimientos especializados "]
[null,null,null,"4752 - Comercio al por menor de artículos de ferretería, pinturas y productos de vidrio en establecimientos especializados ","4752","Comercio al por menor de artículos de ferretería, pinturas y productos de vidrio en establecimientos especializados "]
[null,null,null,"4753 - Comercio al por menor de tapices, alfombras y recubrimientos para paredes y pisos en establecimientos especializados ","4753","Comercio al por menor de tapices, alfombras y recubrimientos para paredes y pisos en establecimientos especializados "]
[null,null,null,"4754 - Comercio al por menor de electrodomésticos y gasodomésticos de uso doméstico, muebles y equipos de iluminación en establecimientos especializados ","4754","Comercio al por menor de electrodomésticos y gasodomésticos de uso doméstico, muebles y equipos de iluminación en establecimientos especializados "]
[null,null,null,"4755 - Comercio al por menor de artículos y utensilios de uso doméstico en establecimientos especializados ",4755,"Comercio al por menor de artículos y utensilios de uso doméstico en establecimientos especializados "]
[null,null,null,"4759 - Comercio al por menor de otros artículos domésticos en establecimientos especializados ",4759,"Comercio al por menor de otros artículos domésticos en establecimientos especializados "]
[null,null,null,"4761 - Comercio al por menor de libros, periódicos, materiales y artículos de papelería y escritorio, en establecimientos especializados ",4761,"Comercio al por menor de libros, periódicos, materiales y artículos de papelería y escritorio, en establecimientos especializados "]
[null,null,null,"4762 - Comercio al por menor de artículos deportivos, en establecimientos especializados ",4762,"Comercio al por menor de artículos deportivos, en establecimientos especializados "]
[null,null,null,"4769 - Comercio al por menor de otros artículos culturales y de entretenimiento n.c.p.  en establecimientos especializados ",4769,"Comercio al por menor de otros artículos culturales y de entretenimiento n.c.p.  en establecimientos especializados "]
[null,null,null,"4771 - Comercio al por menor de prendas de vestir y sus accesorios (incluye artículos de piel) en establecimientos especializados ",4771,"Comercio al por menor de prendas de vestir y sus accesorios (incluye artículos de piel) en establecimientos especializados "]
[null,null,null,"4772 - Comercio al por menor de todo tipo de calzado y artículos de cuero y sucedáneos del cuero en establecimientos especializados ","4772","Comercio al por menor de todo tipo de calzado y artículos de cuero y sucedáneos del cuero en establecimientos especializados "]
[null,null,null,"4773 - Comercio al por menor de productos farmacéuticos y medicinales, cosméticos y artículos de tocador en establecimientos especializados ","4773","Comercio al por menor de productos farmacéuticos y medicinales, cosméticos y artículos de tocador en establecimientos especializados "]
[null,null,null,"4774 - Comercio al por menor de otros productos nuevos en establecimientos especializados ","4774","Comercio al por menor de otros productos nuevos en establecimientos especializados "]
[null,null,null,"4775 - Comercio al por menor de artículos de segunda mano ",4775,"Comercio al por menor de artículos de segunda mano "]
[null,null,null,"4781 - Comercio al por menor de alimentos, bebidas y tabaco, en puestos de venta móviles ",4781,"Comercio al por menor de alimentos, bebidas y tabaco, en puestos de venta móviles "]
[null,null,null,"4782 - Comercio al por menor de productos textiles, prendas de vestir y calzado, en puestos de venta móviles ",4782,"Comercio al por menor de productos textiles, prendas de vestir y calzado, en puestos de venta móviles "]
[null,null,null,"4789 - Comercio al por menor de otros productos en puestos de venta móviles ",4789,"Comercio al por menor de otros productos en puestos de venta móviles "]
[null,null,null,"4791 - Comercio al por menor realizado a través de Internet ",4791,"Comercio al por menor realizado a través de Internet "]
[null,null,null,"4792 - Comercio al por menor realizado a través de casas de venta o por correo ",4792,"Comercio al por menor realizado a través de casas de venta o por correo "]
[null,null,null,"4799 - Otros tipos de comercio al por menor no realizado en establecimientos, puestos de venta o mercados ",4799,"Otros tipos de comercio al por menor no realizado en establecimientos, puestos de venta o mercados "]
[null,null,null,"4911 - Transporte férreo de pasajeros ","4911","Transporte férreo de pasajeros "]
[null,null,null,"4912 - Transporte férreo de carga ","4912","Transporte férreo de carga "]
[null,null,null,"4921 - Transporte de pasajeros ",4921,"Transporte de pasajeros "]
[null,null,null,"4922 - Transporte mixto ",4922,"Transporte mixto "]
[null,null,null,"4923 - Transporte de carga por carretera ",4923,"Transporte de carga por carretera "]
[null,null,null,"4930 - Transporte por tuberías ",4930,"Transporte por tuberías "]
[null,null,null,"5011 - Transporte de pasajeros marítimo y de cabotaje ",5011,"Transporte de pasajeros marítimo y de cabotaje "]
[null,null,null,"5012 - Transporte de carga marítimo y de cabotaje ",5012,"Transporte de carga marítimo y de cabotaje "]
[null,null,null,"5021 - Transporte fluvial de pasajeros ",5021,"Transporte fluvial de pasajeros "]
[null,null,null,"5022 - Transporte fluvial de carga ",5022,"Transporte fluvial de carga "]
[null,null,null,"5111 - Transporte aéreo nacional de pasajeros ",5111,"Transporte aéreo nacional de pasajeros "]
[null,null,null,"5112 - Transporte aéreo internacional de pasajeros ",5112,"Transporte aéreo internacional de pasajeros "]
[null,null,null,"5121 - Transporte aéreo nacional de carga ",5121,"Transporte aéreo nacional de carga "]
[null,null,null,"5122 - Transporte aéreo internacional de carga ",5122,"Transporte aéreo internacional de carga "]
[null,null,null,"5210 - Almacenamiento y depósito ",5210,"Almacenamiento y depósito "]
[null,null,null,"5221 - Actividades de estaciones, vías y servicios complementarios para el transporte terrestre ","5221","Actividades de estaciones, vías y servicios complementarios para el transporte terrestre "]
[null,null,null,"5222 - Actividades de puertos y servicios complementarios para el transporte acuático ","5222","Actividades de puertos y servicios complementarios para el transporte acuático "]
[null,null,null,"5223 - Actividades de aeropuertos, servicios de navegación aérea y demás actividades conexas al transporte aéreo ","5223","Actividades de aeropuertos, servicios de navegación aérea y demás actividades conexas al transporte aéreo "]
[null,null,null,"5224 - Manipulación de carga ","5224","Manipulación de carga "]
[null,null,null,"5229 - Otras actividades complementarias al transporte ",5229,"Otras actividades complementarias al transporte "]
[null,null,null,"5310 - Actividades postales nacionales ","5310","Actividades postales nacionales "]
[null,null,null,"5320 - Actividades de mensajería ","5320","Actividades de mensajería "]
[null,null,null,"5511 - Alojamiento en hoteles ",5511,"Alojamiento en hoteles "]
[null,null,null,"5512 - Alojamiento en apartahoteles ",5512,"Alojamiento en apartahoteles "]
[null,null,null,"5513 - Alojamiento en centros vacacionales ",5513,"Alojamiento en centros vacacionales "]
[null,null,null,"5514 - Alojamiento rural ",5514,"Alojamiento rural "]
[null,null,null,"5519 - Otros tipos de alojamiento para visitantes ",5519,"Otros tipos de alojamiento para visitantes "]
[null,null,null,"5520 - Actividades de zonas de camping y parques para vehículos recreacionales ",5520,"Actividades de zonas de camping y parques para vehículos recreacionales "]
[null,null,null,"5530 - Servicio de estancia por horas ",5530,"Servicio de estancia por horas "]
[null,null,null,"5590 - Otros tipos de alojamiento n.c.p. ",5590,"Otros tipos de alojamiento n.c.p. "]
[null,null,null,"5611 - Expendio a la mesa de comidas preparadas ",5611,"Expendio a la mesa de comidas preparadas "]
[null,null,null,"5612 - Expendio por autoservicio de comidas preparadas ",5612,"Expendio por autoservicio de comidas preparadas "]
[null,null,null,"5613 - Expendio de comidas preparadas en cafeterías ",5613,"Expendio de comidas preparadas en cafeterías "]
[null,null,null,"5619 - Otros tipos de expendio de comidas preparadas n.c.p. ",5619,"Otros tipos de expendio de comidas preparadas n.c.p. "]
[null,null,null,{"$f":"+CONCATENATE(E334,\" - \",F334)","v":"5621 - Catering para eventos "},5621,"Catering para eventos "]
[null,null,null,"5629 - Actividades de otros servicios de comidas ",5629,"Actividades de otros servicios de comidas "]
[null,null,null,"5630 - Expendio de bebidas alcohólicas para el consumo dentro del establecimiento ",5630,"Expendio de bebidas alcohólicas para el consumo dentro del establecimiento "]
[null,null,null,"5811 - Edición de libros ",5811,"Edición de libros "]
[null,null,null,"5812 - Edición de directorios y listas de correo ",5812,"Edición de directorios y listas de correo "]
[null,null,null,"5813 - Edición de periódicos, revistas y otras publicaciones periódicas ",5813,"Edición de periódicos, revistas y otras publicaciones periódicas "]
[null,null,null,"5819 - Otros trabajos de edición ",5819,"Otros trabajos de edición "]
[null,null,null,"5820 - Edición de programas de informática (software) ",5820,"Edición de programas de informática (software) "]
[null,null,null,"5911 - Actividades de producción de películas cinematográficas, videos, programas, anuncios y comerciales de televisión ",5911,"Actividades de producción de películas cinematográficas, videos, programas, anuncios y comerciales de televisión "]
[null,null,null,"5912 - Actividades de postproducción de películas cinematográficas, videos, programas, anuncios y comerciales de televisión ",5912,"Actividades de postproducción de películas cinematográficas, videos, programas, anuncios y comerciales de televisión "]
[null,null,null,"5913 - Actividades de distribución de películas cinematográficas, videos, programas, anuncios y comerciales de televisión ",5913,"Actividades de distribución de películas cinematográficas, videos, programas, anuncios y comerciales de televisión "]
[null,null,null,"5914 - Actividades de exhibición de películas cinematográficas y videos ",5914,"Actividades de exhibición de películas cinematográficas y videos "]
[null,null,null,"5920 - Actividades de grabación de sonido y edición de música ",5920,"Actividades de grabación de sonido y edición de música "]
[null,null,null,"6010 - Actividades de programación y transmisión en el servicio de radiodifusión sonora ",6010,"Actividades de programación y transmisión en el servicio de radiodifusión sonora "]
[null,null,null,"6020 - Actividades de programación y transmisión de televisión ",6020,"Actividades de programación y transmisión de televisión "]
[null,null,null,"6110 - Actividades de telecomunicaciones alámbricas ",6110,"Actividades de telecomunicaciones alámbricas "]
[null,null,null,"6120 - Actividades de telecomunicaciones inalámbricas ",6120,"Actividades de telecomunicaciones inalámbricas "]
[null,null,null,"6130 - Actividades de telecomunicación satelital ",6130,"Actividades de telecomunicación satelital "]
[null,null,null,"6190 - Otras actividades de telecomunicaciones ","6190","Otras actividades de telecomunicaciones "]
[null,null,null,"6201 - Actividades de desarrollo de sistemas informáticos (planificación, análisis, diseño, programación, pruebas) ","6201","Actividades de desarrollo de sistemas informáticos (planificación, análisis, diseño, programación, pruebas) "]
[null,null,null,"6202 - Actividades de consultoría informática y actividades de administración de instalaciones informáticas ","6202","Actividades de consultoría informática y actividades de administración de instalaciones informáticas "]
[null,null,null,"6209 - Otras actividades de tecnologías de información y actividades de servicios informáticos ","6209","Otras actividades de tecnologías de información y actividades de servicios informáticos "]
[null,null,null,"6311 - Procesamiento de datos, alojamiento (hosting) y actividades relacionadas ",6311,"Procesamiento de datos, alojamiento (hosting) y actividades relacionadas "]
[null,null,null,"6312 - Portales web ",6312,"Portales web "]
[null,null,null,"6391 - Actividades de agencias de noticias ",6391,"Actividades de agencias de noticias "]
[null,null,null,"6399 - Otras actividades de servicios de información n.c.p. ",6399,"Otras actividades de servicios de información n.c.p. "]
[null,null,null,"6411 - Banco Central ",6411,"Banco Central "]
[null,null,null,"6412 - Bancos comerciales ",6412,"Bancos comerciales "]
[null,null,null,"6421 - Actividades de las corporaciones financieras ",6421,"Actividades de las corporaciones financieras "]
[null,null,null,"6422 - Actividades de las compañías de financiamiento ",6422,"Actividades de las compañías de financiamiento "]
[null,null,null,"6423 - Banca de segundo piso ",6423,"Banca de segundo piso "]
[null,null,null,"6424 - Actividades de las cooperativas financieras ",6424,"Actividades de las cooperativas financieras "]
[null,null,null,"6431 - Fideicomisos, fondos y entidades financieras similares ",6431,"Fideicomisos, fondos y entidades financieras similares "]
[null,null,null,"6432 - Fondos de cesantías ",6432,"Fondos de cesantías "]
[null,null,null,"6491 - Leasing financiero (arrendamiento financiero) ",6491,"Leasing financiero (arrendamiento financiero) "]
[null,null,null,"6492 - Actividades financieras de fondos de empleados y otras formas asociativas del sector solidario ",6492,"Actividades financieras de fondos de empleados y otras formas asociativas del sector solidario "]
[null,null,null,"6493 - Actividades de compra de cartera o factoring ",6493,"Actividades de compra de cartera o factoring "]
[null,null,null,"6494 - Otras actividades de distribución de fondos ",6494,"Otras actividades de distribución de fondos "]
[null,null,null,"6495 - Instituciones especiales oficiales ",6495,"Instituciones especiales oficiales "]
[null,null,null,"6496 - Capitalización",6496,"Capitalización"]
[null,null,null,"6499 - Otras actividades de servicio financiero, excepto las de seguros y pensiones n.c.p. ",6499,"Otras actividades de servicio financiero, excepto las de seguros y pensiones n.c.p. "]
[null,null,null,"6511 - Seguros generales ",6511,"Seguros generales "]
[null,null,null,"6512 - Seguros de vida ",6512,"Seguros de vida "]
[null,null,null,"6513 - Reaseguros ",6513,"Reaseguros "]
[null,null,null,"6515 - Seguros de salud ",6515,"Seguros de salud "]
[null,null,null,"6521 - Servicios de seguros sociales de salud ",6521,"Servicios de seguros sociales de salud "]
[null,null,null,"6522 - Servicios de seguros sociales en riesgos laborales ",6522,"Servicios de seguros sociales en riesgos laborales "]
[null,null,null,"6523 - Servicios de seguros sociales en riesgos familia ",6523,"Servicios de seguros sociales en riesgos familia "]
[null,null,null,"6531 - Régimen de prima media con prestación definida (RPM) ","6531","Régimen de prima media con prestación definida (RPM) "]
[null,null,null,"6532 - Régimen de ahorro con solidaridad (RAIS) ","6532","Régimen de ahorro con solidaridad (RAIS) "]
[null,null,null,"6611 - Administración de mercados financieros ",6611,"Administración de mercados financieros "]
[null,null,null,"6612 - Corretaje de valores y de contratos de productos básicos ",6612,"Corretaje de valores y de contratos de productos básicos "]
[null,null,null,"6613 - Otras actividades relacionadas con el mercado de valores ",6613,"Otras actividades relacionadas con el mercado de valores "]
[null,null,null,"6614 - Actividades de las sociedades de intermediación cambiaria y de servicios financieros especiales ",6614,"Actividades de las sociedades de intermediación cambiaria y de servicios financieros especiales "]
[null,null,null,"6615 - Actividades de los profesionales de compra y venta de divisas ",6615,"Actividades de los profesionales de compra y venta de divisas "]
[null,null,null,"6619 - Otras actividades auxiliares de las actividades de servicios financieros n.c.p. ",6619,"Otras actividades auxiliares de las actividades de servicios financieros n.c.p. "]
[null,null,null,"6621 - Actividades de agentes y corredores de seguros ",6621,"Actividades de agentes y corredores de seguros "]
[null,null,null,"6629 - Evaluación de riesgos y daños, y otras actividades de servicios auxiliares ",6629,"Evaluación de riesgos y daños, y otras actividades de servicios auxiliares "]
[null,null,null,"6630 - Actividades de administración de fondos ",6630,"Actividades de administración de fondos "]
[null,null,null,"6810 - Actividades inmobiliarias realizadas con bienes propios o arrendados ",6810,"Actividades inmobiliarias realizadas con bienes propios o arrendados "]
[null,null,null,"6820 - Actividades inmobiliarias realizadas a cambio de una retribución o por contrata ",6820,"Actividades inmobiliarias realizadas a cambio de una retribución o por contrata "]
[null,null,null,"6910 - Actividades jurídicas ","6910","Actividades jurídicas "]
[null,null,null,"6920 - Actividades  de  contabilidad,  teneduría  de  libros,  auditoría  financiera  y  asesoría tributaria ","6920","Actividades  de  contabilidad,  teneduría  de  libros,  auditoría  financiera  y  asesoría tributaria "]
[null,null,null,"7010 - Actividades de administración empresarial ","7010","Actividades de administración empresarial "]
[null,null,null,{"$f":"+CONCATENATE(E398,\" - \",F398)","v":"7020 - Actividades de consultoría de gestión "},"7020","Actividades de consultoría de gestión "]
[null,null,null,"7111 - Actividades de arquitectura ","7111","Actividades de arquitectura "]
[null,null,null,"7112 - Actividades de ingeniería y otras actividades conexas de consultoría técnica ","7112","Actividades de ingeniería y otras actividades conexas de consultoría técnica "]
[null,null,null,"7120 - Ensayos y análisis técnicos ","7120","Ensayos y análisis técnicos "]
[null,null,null,"7210 - Investigaciones y desarrollo experimental en el campo de las ciencias naturales y la ingeniería ",7210,"Investigaciones y desarrollo experimental en el campo de las ciencias naturales y la ingeniería "]
[null,null,null,"7220 - Investigaciones y desarrollo experimental en el campo de las ciencias sociales y las humanidades ",7220,"Investigaciones y desarrollo experimental en el campo de las ciencias sociales y las humanidades "]
[null,null,null,"7310 - Publicidad ",7310,"Publicidad "]
[null,null,null,"7320 - Estudios de mercado y realización de encuestas de opinión pública ",7320,"Estudios de mercado y realización de encuestas de opinión pública "]
[null,null,null,"7410 - Actividades especializadas de diseño ",7410,"Actividades especializadas de diseño "]
[null,null,null,"7420 - Actividades de fotografía ",7420,"Actividades de fotografía "]
[null,null,null,"7490 - Otras actividades profesionales, científicas y técnicas n.c.p. ",7490,"Otras actividades profesionales, científicas y técnicas n.c.p. "]
[null,null,null,"7500 - Actividades veterinarias ","7500","Actividades veterinarias "]
[null,null,null,"7710 - Alquiler y arrendamiento de vehículos automotores ",7710,"Alquiler y arrendamiento de vehículos automotores "]
[null,null,null,"7721 - Alquiler y arrendamiento de equipo recreativo y deportivo ",7721,"Alquiler y arrendamiento de equipo recreativo y deportivo "]
[null,null,null,"7722 - Alquiler de videos y discos ",7722,"Alquiler de videos y discos "]
[null,null,null,"7729 - Alquiler y arrendamiento de otros efectos personales y enseres domésticos n.c.p. ",7729,"Alquiler y arrendamiento de otros efectos personales y enseres domésticos n.c.p. "]
[null,null,null,"7730 - Alquiler y arrendamiento de otros tipos de maquinaria, equipo y bienes tangibles n.c.p. ",7730,"Alquiler y arrendamiento de otros tipos de maquinaria, equipo y bienes tangibles n.c.p. "]
[null,null,null,"7740 - Arrendamiento de propiedad intelectual y productos similares, excepto obras protegidas por derechos de autor ",7740,"Arrendamiento de propiedad intelectual y productos similares, excepto obras protegidas por derechos de autor "]
[null,null,null,"7810 - Actividades de agencias de gestión y colocación empleo ",7810,"Actividades de agencias de gestión y colocación empleo "]
[null,null,null,"7820 - Actividades de empresas de servicios temporales ",7820,"Actividades de empresas de servicios temporales "]
[null,null,null,"7830 - Otras actividades de provisión de talento humano ",7830,"Otras actividades de provisión de talento humano "]
[null,null,null,"7911 - Actividades de las agencias de viaje ",7911,"Actividades de las agencias de viaje "]
[null,null,null,"7912 - Actividades de operadores turísticos ",7912,"Actividades de operadores turísticos "]
[null,null,null,"7990 - Otros servicios de reserva y actividades relacionadas ",7990,"Otros servicios de reserva y actividades relacionadas "]
[null,null,null,"8010 - Actividades de seguridad privada ",8010,"Actividades de seguridad privada "]
[null,null,null,"8020 - Actividades de servicios de sistemas de seguridad ",8020,"Actividades de servicios de sistemas de seguridad "]
[null,null,null,"8030 - Actividades de detectives e investigadores privados ",8030,"Actividades de detectives e investigadores privados "]
[null,null,null,"8110 - Actividades combinadas de apoyo a instalaciones ",8110,"Actividades combinadas de apoyo a instalaciones "]
[null,null,null,"8121 - Limpieza general interior de edificios ",8121,"Limpieza general interior de edificios "]
[null,null,null,"8129 - Otras actividades de limpieza de edificios e instalaciones industriales ",8129,"Otras actividades de limpieza de edificios e instalaciones industriales "]
[null,null,null,"8130 - Actividades de paisajismo y servicios de mantenimiento conexos ",8130,"Actividades de paisajismo y servicios de mantenimiento conexos "]
[null,null,null,"8211 - Actividades combinadas de servicios administrativos de oficina ",8211,"Actividades combinadas de servicios administrativos de oficina "]
[null,null,null,"8219 - Fotocopiado,  preparación  de  documentos  y  otras  actividades  especializadas apoyo a oficina ",8219,"Fotocopiado,  preparación  de  documentos  y  otras  actividades  especializadas apoyo a oficina "]
[null,null,null,"8220 - Actividades de centros de llamadas (call center) ",8220,"Actividades de centros de llamadas (call center) "]
[null,null,null,"8230 - Organización de convenciones y eventos comerciales ",8230,"Organización de convenciones y eventos comerciales "]
[null,null,null,"8291 - Actividades de agencias de cobranza y oficinas de calificación crediticia ",8291,"Actividades de agencias de cobranza y oficinas de calificación crediticia "]
[null,null,null,"8292 - Actividades de envase y empaque ",8292,"Actividades de envase y empaque "]
[null,null,null,"8299 - Otras actividades de servicio de apoyo a las empresas n.c.p. ",8299,"Otras actividades de servicio de apoyo a las empresas n.c.p. "]
[null,null,null,"8411 - Actividades legislativas de la administración pública ","8411","Actividades legislativas de la administración pública "]
[null,null,null,"8412 - Actividades ejecutivas de la administración pública ","8412","Actividades ejecutivas de la administración pública "]
[null,null,null,"8413 - Regulación de las actividades de organismos que prestan servicios de salud, educativos, culturales y otros servicios sociales, excepto servicios de seguridad social ","8413","Regulación de las actividades de organismos que prestan servicios de salud, educativos, culturales y otros servicios sociales, excepto servicios de seguridad social "]
[null,null,null,"8414 - Actividades reguladoras y facilitadoras de la actividad económica ",8414,"Actividades reguladoras y facilitadoras de la actividad económica "]
[null,null,null,"8415 - Actividades de los órganos de control y otras instituciones ",8415,"Actividades de los órganos de control y otras instituciones "]
[null,null,null,"8421 - Relaciones exteriores ",8421,"Relaciones exteriores "]
[null,null,null,"8422 - Actividades de defensa ",8422,"Actividades de defensa "]
[null,null,null,"8423 - Orden público y actividades de seguridad ",8423,"Orden público y actividades de seguridad "]
[null,null,null,"8424 - Administración de justicia ",8424,"Administración de justicia "]
[null,null,null,"8430 - Actividades de planes de seguridad social de afiliación obligatoria ",8430,"Actividades de planes de seguridad social de afiliación obligatoria "]
[null,null,null,"8511 - Educación de la primera infancia ",8511,"Educación de la primera infancia "]
[null,null,null,"8512 - Educación preescolar ",8512,"Educación preescolar "]
[null,null,null,"8513 - Educación básica primaria ",8513,"Educación básica primaria "]
[null,null,null,"8521 - Educación básica secundaria ",8521,"Educación básica secundaria "]
[null,null,null,"8522 - Educación media académica ",8522,"Educación media académica "]
[null,null,null,"8523 - Educación media técnica ",8523,"Educación media técnica "]
[null,null,null,"8530 - Establecimientos que combinan diferentes niveles de educación ",8530,"Establecimientos que combinan diferentes niveles de educación "]
[null,null,null,"8541 - Educación técnica profesional ",8541,"Educación técnica profesional "]
[null,null,null,"8542 - Educación tecnológica ",8542,"Educación tecnológica "]
[null,null,null,"8543 - Educación de instituciones universitarias o de escuelas tecnológicas ",8543,"Educación de instituciones universitarias o de escuelas tecnológicas "]
[null,null,null,"8544 - Educación de universidades ",8544,"Educación de universidades "]
[null,null,null,"8551 - Formación para el trabajo ",8551,"Formación para el trabajo "]
[null,null,null,"8552 - Enseñanza deportiva y recreativa ",8552,"Enseñanza deportiva y recreativa "]
[null,null,null,"8553 - Enseñanza cultural ",8553,"Enseñanza cultural "]
[null,null,null,"8559 - Otros tipos de educación n.c.p. ",8559,"Otros tipos de educación n.c.p. "]
[null,null,null,"8560 - Actividades de apoyo a la educación ",8560,"Actividades de apoyo a la educación "]
[null,null,null,{"$f":"+CONCATENATE(E462,\" - \",F462)","v":"8610 - Actividades de hospitales y clínicas, con internación "},8610,"Actividades de hospitales y clínicas, con internación "]
[null,null,null,"8621 - Actividades de la práctica médica, sin internación ",8621,"Actividades de la práctica médica, sin internación "]
[null,null,null,"8622 - Actividades de la práctica odontológica ",8622,"Actividades de la práctica odontológica "]
[null,null,null,"8691 - Actividades de apoyo diagnóstico ",8691,"Actividades de apoyo diagnóstico "]
[null,null,null,"8692 - Actividades de apoyo terapéutico ",8692,"Actividades de apoyo terapéutico "]
[null,null,null,"8699 - Otras actividades de atención de la salud humana ",8699,"Otras actividades de atención de la salud humana "]
[null,null,null,"8710 - Actividades de atención residencial medicalizada de tipo general ",8710,"Actividades de atención residencial medicalizada de tipo general "]
[null,null,null,"8720 - Actividades de atención residencial, para el cuidado de pacientes con retardo mental, enfermedad mental y consumo de sustancias psicoactivas ",8720,"Actividades de atención residencial, para el cuidado de pacientes con retardo mental, enfermedad mental y consumo de sustancias psicoactivas "]
[null,null,null,"8730 - Actividades de atención en instituciones para el cuidado de personas mayores y/o discapacitadas ","8730","Actividades de atención en instituciones para el cuidado de personas mayores y/o discapacitadas "]
[null,null,null,"8790 - Otras actividades de atención en instituciones con alojamiento ",8790,"Otras actividades de atención en instituciones con alojamiento "]
[null,null,null,"8810 - Actividades de asistencia social sin alojamiento para personas mayores y discapacitadas ",8810,"Actividades de asistencia social sin alojamiento para personas mayores y discapacitadas "]
[null,null,null,"8891 - Actividades de guarderías para niños y niñas ",8891,"Actividades de guarderías para niños y niñas "]
[null,null,null,"8899 - Otras actividades de asistencia social n.c.p. ",8899,"Otras actividades de asistencia social n.c.p. "]
[null,null,null,"9001 - Creación literaria ",9001,"Creación literaria "]
[null,null,null,"9002 - Creación musical ",9002,"Creación musical "]
[null,null,null,"9003 - Creación teatral ",9003,"Creación teatral "]
[null,null,null,"9004 - Creación audiovisual ",9004,"Creación audiovisual "]
[null,null,null,"9005 - Artes plásticas y visuales ",9005,"Artes plásticas y visuales "]
[null,null,null,"9006 - Actividades teatrales ",9006,"Actividades teatrales "]
[null,null,null,"9007 - Actividades de espectáculos musicales en vivo ",9007,"Actividades de espectáculos musicales en vivo "]
[null,null,null,"9008 - Otras actividades de espectáculos en vivo n.c.p. ",9008,"Otras actividades de espectáculos en vivo n.c.p. "]
[null,null,null,"9101 - Actividades de bibliotecas y archivos ",9101,"Actividades de bibliotecas y archivos "]
[null,null,null,"9102 - Actividades   y   funcionamiento   de   museos,   conservación   de   edificios   y   sitios históricos ",9102,"Actividades   y   funcionamiento   de   museos,   conservación   de   edificios   y   sitios históricos "]
[null,null,null,"9103 - Actividades de jardines botánicos, zoológicos y reservas naturales ",9103,"Actividades de jardines botánicos, zoológicos y reservas naturales "]
[null,null,null,"9200 - Actividades de juegos de azar y apuestas ","9200","Actividades de juegos de azar y apuestas "]
[null,null,null,"9311 - Gestión de instalaciones deportivas ",9311,"Gestión de instalaciones deportivas "]
[null,null,null,"9312 - Actividades de clubes deportivos ",9312,"Actividades de clubes deportivos "]
[null,null,null,"9319 - Otras actividades deportivas ",9319,"Otras actividades deportivas "]
[null,null,null,"9321 - Actividades de parques de atracciones y parques temáticos ",9321,"Actividades de parques de atracciones y parques temáticos "]
[null,null,null,"9329 - Otras actividades recreativas y de esparcimiento n.c.p. ",9329,"Otras actividades recreativas y de esparcimiento n.c.p. "]
[null,null,null,"9411 - Actividades de asociaciones empresariales y de empleadores ",9411,"Actividades de asociaciones empresariales y de empleadores "]
[null,null,null,"9412 - Actividades de asociaciones profesionales ",9412,"Actividades de asociaciones profesionales "]
[null,null,null,"9420 - Actividades de sindicatos de empleados ",9420,"Actividades de sindicatos de empleados "]
[null,null,null,"9491 - Actividades de asociaciones religiosas ",9491,"Actividades de asociaciones religiosas "]
[null,null,null,"9492 - Actividades de asociaciones políticas ","9492","Actividades de asociaciones políticas "]
[null,null,null,"9499 - Actividades de otras asociaciones n.c.p. ",9499,"Actividades de otras asociaciones n.c.p. "]
[null,null,null,"9511 - Mantenimiento y reparación de computadores y de equipo periférico ",9511,"Mantenimiento y reparación de computadores y de equipo periférico "]
[null,null,null,"9512 - Mantenimiento y reparación de equipos de comunicación ",9512,"Mantenimiento y reparación de equipos de comunicación "]
[null,null,null,"9521 - Mantenimiento y reparación de aparatos electrónicos de consumo ",9521,"Mantenimiento y reparación de aparatos electrónicos de consumo "]
[null,null,null,"9522 - Mantenimiento y reparación de aparatos y equipos domésticos y de jardinería ",9522,"Mantenimiento y reparación de aparatos y equipos domésticos y de jardinería "]
[null,null,null,"9523 - Reparación de calzado y artículos de cuero ",9523,"Reparación de calzado y artículos de cuero "]
[null,null,null,"9524 - Reparación de muebles y accesorios para el hogar ",9524,"Reparación de muebles y accesorios para el hogar "]
[null,null,null,"9529 - Mantenimiento y reparación de otros efectos personales y enseres domésticos ",9529,"Mantenimiento y reparación de otros efectos personales y enseres domésticos "]
[null,null,null,"9601 - Lavado y limpieza, incluso la limpieza en seco, de productos textiles y de piel ","9601","Lavado y limpieza, incluso la limpieza en seco, de productos textiles y de piel "]
[null,null,null,"9602 - Peluquería y otros tratamientos de belleza ","9602","Peluquería y otros tratamientos de belleza "]
[null,null,null,"9603 - Pompas fúnebres y actividades relacionadas ","9603","Pompas fúnebres y actividades relacionadas "]
[null,null,null,"9609 - Otras actividades de servicios personales n.c.p. ","9609","Otras actividades de servicios personales n.c.p. "]
[null,null,null,"9700 - Actividades de los hogares individuales como empleadores de personal doméstico ","9700","Actividades de los hogares individuales como empleadores de personal doméstico "]
[null,null,null,"9810 - Actividades no diferenciadas de los hogares individuales como productores de bienes para uso propio ","9810","Actividades no diferenciadas de los hogares individuales como productores de bienes para uso propio "]
[null,null,null,"9820 - Actividades no diferenciadas de los hogares individuales como productores de servicios para uso propio ","9820","Actividades no diferenciadas de los hogares individuales como productores de servicios para uso propio "]
[null,null,null,"9900 - Actividades de organizaciones y entidades extraterritoriales ","9900","Actividades de organizaciones y entidades extraterritoriales "]
[null,null,null,"0010 - Asalariados","0010","Asalariados"]
[null,null,null,"0020 - Pensionados","0020","Pensionados"]
[null,null,null,"0081 - Personas naturales y sucesiones ilíquidas sin actividad económica","0081","Personas naturales y sucesiones ilíquidas sin actividad económica"]
[null,null,null,"0082 - Personas naturales subsidiadas por terceros","0082","Personas naturales subsidiadas por terceros"]
[null,null,null,"0090 - Rentistas de Capital, solo para personas naturales y sucesiones ilíquidas ","0090","Rentistas de Capital, solo para personas naturales y sucesiones ilíquidas "]
[]
[]
[]
[]
[]
[]
[]
[]
[]
[]
[]
[]
[]
[]
[]
[]
[]
[]
[]
[]
[]
[]
[]
[]
[]
[]
[]
[]
[]
[]
[]
[]
[]
[]
[]
[]
[]
[]
[]
[]
[]
[]
[]
[]
[]
[]
[]
[]
[]
[]
[]
[]
[]
[]
[]
[]
[]
[]
[]
[]
[]
[]
[]
[]
[]
[]
[]
[]
[]
[]
[]
[]
[]
[]
[]
[]
[]
[]
[]
[]
[]
[]
[]
[]
[]
[]
[]
[]
[]
[]
[]
[]
[]
[]
[]
[]
[]
[]
[]
[]
[]
[]
[]
[]
[]
[]
[]
[]
[]
[]
[]
[]
[null,null,null,null,null,null,null,null,"de"]

{"sheet":"Campos_Ingreso_Datos","index":2,"n_rows":2366,"n_cols":9,"rows_kept":2366,"cut":false,"hidden":true,"merged":[]}
["SEGMENTO","Vinculo","Rango","Formato","Lista","Lista2","Restablacer","Formula","Bloque"]
["Intereses presuntivos",{"$f":"' '!$G$58","v":0},{"$f":"Formula_Local(Campos_Ingreso_Datos[[#This Row],[Vinculo]])","v":"=' '!$G$58"},"#,##0"]
["Intereses presuntivos",{"$f":"' '!$G$59","v":0},{"$f":"Formula_Local(Campos_Ingreso_Datos[[#This Row],[Vinculo]])","v":"=' '!$G$59"},"#,##0"]
["Intereses presuntivos",{"$f":"' '!$G$60","v":0},{"$f":"Formula_Local(Campos_Ingreso_Datos[[#This Row],[Vinculo]])","v":"=' '!$G$60"},"#,##0"]
["Intereses presuntivos",{"$f":"' '!$G$61","v":0},{"$f":"Formula_Local(Campos_Ingreso_Datos[[#This Row],[Vinculo]])","v":"=' '!$G$61"},"#,##0"]
["Intereses presuntivos",{"$f":"' '!$G$62","v":0},{"$f":"Formula_Local(Campos_Ingreso_Datos[[#This Row],[Vinculo]])","v":"=' '!$G$62"},"#,##0"]
["Intereses presuntivos",{"$f":"' '!$G$63","v":0},{"$f":"Formula_Local(Campos_Ingreso_Datos[[#This Row],[Vinculo]])","v":"=' '!$G$63"},"#,##0"]
["Intereses presuntivos",{"$f":"' '!$G$64","v":0},{"$f":"Formula_Local(Campos_Ingreso_Datos[[#This Row],[Vinculo]])","v":"=' '!$G$64"},"#,##0"]
["Intereses presuntivos",{"$f":"' '!$G$65","v":0},{"$f":"Formula_Local(Campos_Ingreso_Datos[[#This Row],[Vinculo]])","v":"=' '!$G$65"},"#,##0"]
["Intereses presuntivos",{"$f":"' '!$G$66","v":0},{"$f":"Formula_Local(Campos_Ingreso_Datos[[#This Row],[Vinculo]])","v":"=' '!$G$66"},"#,##0"]
["Intereses presuntivos",{"$f":"' '!$G$67","v":0},{"$f":"Formula_Local(Campos_Ingreso_Datos[[#This Row],[Vinculo]])","v":"=' '!$G$67"},"#,##0"]
["Intereses presuntivos",{"$f":"' '!$G$68","v":0},{"$f":"Formula_Local(Campos_Ingreso_Datos[[#This Row],[Vinculo]])","v":"=' '!$G$68"},"#,##0"]
["Intereses presuntivos",{"$f":"' '!$G$69","v":0},{"$f":"Formula_Local(Campos_Ingreso_Datos[[#This Row],[Vinculo]])","v":"=' '!$G$69"},"#,##0"]
["Subcapitalización",{"$f":"' '!$G$99","v":0},{"$f":"Formula_Local(Campos_Ingreso_Datos[[#This Row],[Vinculo]])","v":"=' '!$G$99"},"#,##0"]
["Subcapitalización",{"$f":"' '!$G$100","v":0},{"$f":"Formula_Local(Campos_Ingreso_Datos[[#This Row],[Vinculo]])","v":"=' '!$G$100"},"#,##0"]
["Subcapitalización",{"$f":"' '!$G$101","v":0},{"$f":"Formula_Local(Campos_Ingreso_Datos[[#This Row],[Vinculo]])","v":"=' '!$G$101"},"#,##0"]
["Subcapitalización",{"$f":"' '!$G$102","v":0},{"$f":"Formula_Local(Campos_Ingreso_Datos[[#This Row],[Vinculo]])","v":"=' '!$G$102"},"#,##0"]
["Subcapitalización",{"$f":"' '!$G$103","v":0},{"$f":"Formula_Local(Campos_Ingreso_Datos[[#This Row],[Vinculo]])","v":"=' '!$G$103"},"#,##0"]
["Subcapitalización",{"$f":"' '!$G$104","v":0},{"$f":"Formula_Local(Campos_Ingreso_Datos[[#This Row],[Vinculo]])","v":"=' '!$G$104"},"#,##0"]
["Subcapitalización",{"$f":"' '!$G$105","v":0},{"$f":"Formula_Local(Campos_Ingreso_Datos[[#This Row],[Vinculo]])","v":"=' '!$G$105"},"#,##0"]
["Subcapitalización",{"$f":"' '!$G$106","v":0},{"$f":"Formula_Local(Campos_Ingreso_Datos[[#This Row],[Vinculo]])","v":"=' '!$G$106"},"#,##0"]
["Subcapitalización",{"$f":"' '!$G$107","v":0},{"$f":"Formula_Local(Campos_Ingreso_Datos[[#This Row],[Vinculo]])","v":"=' '!$G$107"},"#,##0"]
["Subcapitalización",{"$f":"' '!$G$108","v":0},{"$f":"Formula_Local(Campos_Ingreso_Datos[[#This Row],[Vinculo]])","v":"=' '!$G$108"},"#,##0"]
["Subcapitalización",{"$f":"' '!$G$109","v":0},{"$f":"Formula_Local(Campos_Ingreso_Datos[[#This Row],[Vinculo]])","v":"=' '!$G$109"},"#,##0"]
["Subcapitalización",{"$f":"' '!$G$110","v":0},{"$f":"Formula_Local(Campos_Ingreso_Datos[[#This Row],[Vinculo]])","v":"=' '!$G$110"},"#,##0"]
["Tarifas de Impuestos",{"$f":"' '!$D$232","v":0},{"$f":"Formula_Local(Campos_Ingreso_Datos[[#This Row],[Vinculo]])","v":"=' '!$D$232"},"0.0%","",""]
["Datos básicos contribuyente",{"$f":"' '!$D$237","v":0},{"$f":"Formula_Local(Campos_Ingreso_Datos[[#This Row],[Vinculo]])","v":"=' '!$D$237"},"General","",""]
["Datos básicos contribuyente",{"$f":"' '!$D$238","v":0},{"$f":"Formula_Local(Campos_Ingreso_Datos[[#This Row],[Vinculo]])","v":"=' '!$D$238"},"#,##0","",""]
["Datos básicos contribuyente",{"$f":"' '!$D$242","v":0},{"$f":"Formula_Local(Campos_Ingreso_Datos[[#This Row],[Vinculo]])","v":"=' '!$D$242"},"General","=Lista_CIIU",""]
["Datos básicos contribuyente",{"$f":"' '!$D$243","v":0},{"$f":"Formula_Local(Campos_Ingreso_Datos[[#This Row],[Vinculo]])","v":"=' '!$D$243"},"General","=Lista_Seccionales_DIAN",""]
["Datos básicos contribuyente",{"$f":"' '!$D$244","v":0},{"$f":"Formula_Local(Campos_Ingreso_Datos[[#This Row],[Vinculo]])","v":"=' '!$D$244"},"General","=Listas!$B$2:$B$3",""]
["Datos básicos contribuyente",{"$f":"' '!$D$245","v":0},{"$f":"Formula_Local(Campos_Ingreso_Datos[[#This Row],[Vinculo]])","v":"=' '!$D$245"},"General","=Lista_Tipo_Empresas",""]
["Datos básicos contribuyente",{"$f":"' '!$D$247","v":0},{"$f":"Formula_Local(Campos_Ingreso_Datos[[#This Row],[Vinculo]])","v":"=' '!$D$247"},"General","=Listas!$B$2:$B$3",""]
["Datos básicos contribuyente",{"$f":"' '!$D$248","v":0},{"$f":"Formula_Local(Campos_Ingreso_Datos[[#This Row],[Vinculo]])","v":"=' '!$D$248"},"General","=Listas!$P$7:$P$9",""]
["Datos básicos contribuyente",{"$f":"' '!$D$252","v":0},{"$f":"Formula_Local(Campos_Ingreso_Datos[[#This Row],[Vinculo]])","v":"=' '!$D$252"},"[$$-240A] #,##0","",""]
["Datos básicos contribuyente",{"$f":"' '!$D$253","v":0},{"$f":"Formula_Local(Campos_Ingreso_Datos[[#This Row],[Vinculo]])","v":"=' '!$D$253"},"[$$-240A] #,##0","",""]
["Datos básicos contribuyente",{"$f":"' '!$D$254","v":0},{"$f":"Formula_Local(Campos_Ingreso_Datos[[#This Row],[Vinculo]])","v":"=' '!$D$254"},"[$$-240A] #,##0","",""]
["Datos básicos contribuyente",{"$f":"' '!$D$255","v":0},{"$f":"Formula_Local(Campos_Ingreso_Datos[[#This Row],[Vinculo]])","v":"=' '!$D$255"},"[$$-240A] #,##0","",""]
["Datos básicos contribuyente",{"$f":"' '!$D$256","v":0},{"$f":"Formula_Local(Campos_Ingreso_Datos[[#This Row],[Vinculo]])","v":"=' '!$D$256"},"[$$-240A] #,##0","",""]
["Datos básicos contribuyente",{"$f":"' '!$D$257","v":0},{"$f":"Formula_Local(Campos_Ingreso_Datos[[#This Row],[Vinculo]])","v":"=' '!$D$257"},"[$$-240A] #,##0","",""]
["Datos básicos contribuyente",{"$f":"' '!$D$258","v":0},{"$f":"Formula_Local(Campos_Ingreso_Datos[[#This Row],[Vinculo]])","v":"=' '!$D$258"},"[$$-240A] #,##0","",""]
["Datos básicos contribuyente",{"$f":"' '!$D$259","v":0},{"$f":"Formula_Local(Campos_Ingreso_Datos[[#This Row],[Vinculo]])","v":"=' '!$D$259"},"General","=Listas!$B$2:$B$3",""]
["Datos básicos contribuyente",{"$f":"' '!$D$260","v":0},{"$f":"Formula_Local(Campos_Ingreso_Datos[[#This Row],[Vinculo]])","v":"=' '!$D$260"},"[$$-240A] #,##0","",""]
["Datos básicos contribuyente",{"$f":"' '!$D$261","v":0},{"$f":"Formula_Local(Campos_Ingreso_Datos[[#This Row],[Vinculo]])","v":"=' '!$D$261"},"General","=Listas!$B$2:$B$3",""]
["Datos básicos contribuyente",{"$f":"' '!$D$262","v":0},{"$f":"Formula_Local(Campos_Ingreso_Datos[[#This Row],[Vinculo]])","v":"=' '!$D$262"},"[$$-240A] #,##0","",""]
["Datos básicos contribuyente",{"$f":"' '!$D$266","v":0},{"$f":"Formula_Local(Campos_Ingreso_Datos[[#This Row],[Vinculo]])","v":"=' '!$D$266"},"General","=Listas!$B$2:$B$3",""]
["Datos básicos contribuyente",{"$f":"' '!$D$267","v":0},{"$f":"Formula_Local(Campos_Ingreso_Datos[[#This Row],[Vinculo]])","v":"=' '!$D$267"},"[$$-240A] #,##0","",""]
["Datos básicos contribuyente",{"$f":"' '!$D$268","v":0},{"$f":"Formula_Local(Campos_Ingreso_Datos[[#This Row],[Vinculo]])","v":"=' '!$D$268"},"General","=Listas!$C$2:$C$3",""]
["Datos básicos contribuyente",{"$f":"' '!$D$269","v":0},{"$f":"Formula_Local(Campos_Ingreso_Datos[[#This Row],[Vinculo]])","v":"=' '!$D$269"},"[$$-240A] #,##0","",""]
["Datos básicos contribuyente",{"$f":"' '!$D$270","v":0},{"$f":"Formula_Local(Campos_Ingreso_Datos[[#This Row],[Vinculo]])","v":"=' '!$D$270"},"[$$-240A] #,##0","",""]
["Datos básicos contribuyente",{"$f":"' '!$D$271","v":0},{"$f":"Formula_Local(Campos_Ingreso_Datos[[#This Row],[Vinculo]])","v":"=' '!$D$271"},"General","=Listas!$B$2:$B$3",""]
["Datos básicos contribuyente",{"$f":"' '!$D$272","v":0},{"$f":"Formula_Local(Campos_Ingreso_Datos[[#This Row],[Vinculo]])","v":"=' '!$D$272"},"[$$-240A] #,##0","",""]
["Datos básicos contribuyente",{"$f":"' '!$D$273","v":0},{"$f":"Formula_Local(Campos_Ingreso_Datos[[#This Row],[Vinculo]])","v":"=' '!$D$273"},"General","=Listas!$B$2:$B$3",""]
["Datos básicos contribuyente",{"$f":"' '!$D$274","v":0},{"$f":"Formula_Local(Campos_Ingreso_Datos[[#This Row],[Vinculo]])","v":"=' '!$D$274"},"[$$-240A] #,##0","",""]
["Datos básicos contribuyente",{"$f":"' '!$D$275","v":0},{"$f":"Formula_Local(Campos_Ingreso_Datos[[#This Row],[Vinculo]])","v":"=' '!$D$275"},"General","=Listas!$B$2:$B$3",""]
["Datos básicos contribuyente",{"$f":"' '!$D$276","v":0},{"$f":"Formula_Local(Campos_Ingreso_Datos[[#This Row],[Vinculo]])","v":"=' '!$D$276"},"[$$-240A] #,##0","",""]
["Datos básicos contribuyente",{"$f":"' '!$D$277","v":0},{"$f":"Formula_Local(Campos_Ingreso_Datos[[#This Row],[Vinculo]])","v":"=' '!$D$277"},"General","=Listas!$B$2:$B$3",""]
["Datos básicos contribuyente",{"$f":"' '!$D$278","v":0},{"$f":"Formula_Local(Campos_Ingreso_Datos[[#This Row],[Vinculo]])","v":"=' '!$D$278"},"[$$-240A] #,##0","",""]
["Datos básicos contribuyente",{"$f":"' '!$D$279","v":0},{"$f":"Formula_Local(Campos_Ingreso_Datos[[#This Row],[Vinculo]])","v":"=' '!$D$279"},"#,##0","=Listas!$B$2:$B$3",""]
["Datos básicos contribuyente",{"$f":"' '!$D$285","v":"00:00:00"},{"$f":"Formula_Local(Campos_Ingreso_Datos[[#This Row],[Vinculo]])","v":"=' '!$D$285"},"dd/mm/yyyy","2024-01-01","2100-12-31"]
["Datos básicos contribuyente",{"$f":"' '!$D$288","v":0},{"$f":"Formula_Local(Campos_Ingreso_Datos[[#This Row],[Vinculo]])","v":"=' '!$D$288"},"General","=Listas!$B$2:$B$3",""]
["Datos básicos contribuyente",{"$f":"' '!$D$295","v":"00:00:00"},{"$f":"Formula_Local(Campos_Ingreso_Datos[[#This Row],[Vinculo]])","v":"=' '!$D$295"},"dd/mm/yyyy","2024-01-01","2100-12-31"]
["Datos básicos contribuyente",{"$f":"' '!$D$298","v":0},{"$f":"Formula_Local(Campos_Ingreso_Datos[[#This Row],[Vinculo]])","v":"=' '!$D$298"},"General","=Listas!$B$2:$B$3",""]
["Activos",{"$f":"' '!$C$323","v":0},{"$f":"Formula_Local(Campos_Ingreso_Datos[[#This Row],[Vinculo]])","v":"=' '!$C$323"},"[$$-240A] #,##0","",""]
["Activos",{"$f":"' '!$E$323","v":0},{"$f":"Formula_Local(Campos_Ingreso_Datos[[#This Row],[Vinculo]])","v":"=' '!$E$323"},"[$$-240A] #,##0","",""]
["Activos",{"$f":"' '!$F$323","v":0},{"$f":"Formula_Local(Campos_Ingreso_Datos[[#This Row],[Vinculo]])","v":"=' '!$F$323"},"[$$-240A] #,##0","",""]
["Activos",{"$f":"' '!$C$333","v":0},{"$f":"Formula_Local(Campos_Ingreso_Datos[[#This Row],[Vinculo]])","v":"=' '!$C$333"},"[$$-240A] #,##0","",""]
["Activos",{"$f":"' '!$E$333","v":0},{"$f":"Formula_Local(Campos_Ingreso_Datos[[#This Row],[Vinculo]])","v":"=' '!$E$333"},"[$$-240A] #,##0","",""]
["Activos",{"$f":"' '!$F$333","v":0},{"$f":"Formula_Local(Campos_Ingreso_Datos[[#This Row],[Vinculo]])","v":"=' '!$F$333"},"[$$-240A] #,##0","",""]
["Activos",{"$f":"' '!$C$337","v":0},{"$f":"Formula_Local(Campos_Ingreso_Datos[[#This Row],[Vinculo]])","v":"=' '!$C$337"},"[$$-240A] #,##0","",""]
["Activos",{"$f":"' '!$E$337","v":0},{"$f":"Formula_Local(Campos_Ingreso_Datos[[#This Row],[Vinculo]])","v":"=' '!$E$337"},"[$$-240A] #,##0","",""]
["Activos",{"$f":"' '!$F$337","v":0},{"$f":"Formula_Local(Campos_Ingreso_Datos[[#This Row],[Vinculo]])","v":"=' '!$F$337"},"[$$-240A] #,##0","",""]
["Activos",{"$f":"' '!$C$341","v":0},{"$f":"Formula_Local(Campos_Ingreso_Datos[[#This Row],[Vinculo]])","v":"=' '!$C$341"},"[$$-240A] #,##0","",""]
["Activos",{"$f":"' '!$E$341","v":0},{"$f":"Formula_Local(Campos_Ingreso_Datos[[#This Row],[Vinculo]])","v":"=' '!$E$341"},"[$$-240A] #,##0","",""]
["Activos",{"$f":"' '!$F$341","v":0},{"$f":"Formula_Local(Campos_Ingreso_Datos[[#This Row],[Vinculo]])","v":"=' '!$F$341"},"[$$-240A] #,##0","",""]
["Activos",{"$f":"' '!$C$345","v":0},{"$f":"Formula_Local(Campos_Ingreso_Datos[[#This Row],[Vinculo]])","v":"=' '!$C$345"},"[$$-240A] #,##0","",""]
["Activos",{"$f":"' '!$E$345","v":0},{"$f":"Formula_Local(Campos_Ingreso_Datos[[#This Row],[Vinculo]])","v":"=' '!$E$345"},"[$$-240A] #,##0","",""]
["Activos",{"$f":"' '!$F$345","v":0},{"$f":"Formula_Local(Campos_Ingreso_Datos[[#This Row],[Vinculo]])","v":"=' '!$F$345"},"[$$-240A] #,##0","",""]
["Activos",{"$f":"' '!$C$361","v":0},{"$f":"Formula_Local(Campos_Ingreso_Datos[[#This Row],[Vinculo]])","v":"=' '!$C$361"},"[$$-240A] #,##0","",""]
["Activos",{"$f":"' '!$E$361","v":0},{"$f":"Formula_Local(Campos_Ingreso_Datos[[#This Row],[Vinculo]])","v":"=' '!$E$361"},"[$$-240A] #,##0","",""]
["Activos",{"$f":"' '!$F$361","v":0},{"$f":"Formula_Local(Campos_Ingreso_Datos[[#This Row],[Vinculo]])","v":"=' '!$F$361"},"[$$-240A] #,##0","",""]
["Activos",{"$f":"' '!$C$365","v":0},{"$f":"Formula_Local(Campos_Ingreso_Datos[[#This Row],[Vinculo]])","v":"=' '!$C$365"},"[$$-240A] #,##0","",""]
["Activos",{"$f":"' '!$E$365","v":0},{"$f":"Formula_Local(Campos_Ingreso_Datos[[#This Row],[Vinculo]])","v":"=' '!$E$365"},"[$$-240A] #,##0","",""]
["Activos",{"$f":"' '!$F$365","v":0},{"$f":"Formula_Local(Campos_Ingreso_Datos[[#This Row],[Vinculo]])","v":"=' '!$F$365"},"[$$-240A] #,##0","",""]
["Activos",{"$f":"' '!$C$374","v":0},{"$f":"Formula_Local(Campos_Ingreso_Datos[[#This Row],[Vinculo]])","v":"=' '!$C$374"},"[$$-240A] #,##0","",""]
["Activos",{"$f":"' '!$E$374","v":0},{"$f":"Formula_Local(Campos_Ingreso_Datos[[#This Row],[Vinculo]])","v":"=' '!$E$374"},"[$$-240A] #,##0","",""]
["Activos",{"$f":"' '!$F$374","v":0},{"$f":"Formula_Local(Campos_Ingreso_Datos[[#This Row],[Vinculo]])","v":"=' '!$F$374"},"[$$-240A] #,##0","",""]
["Activos",{"$f":"' '!$C$378","v":0},{"$f":"Formula_Local(Campos_Ingreso_Datos[[#This Row],[Vinculo]])","v":"=' '!$C$378"},"[$$-240A] #,##0","",""]
["Activos",{"$f":"' '!$E$378","v":0},{"$f":"Formula_Local(Campos_Ingreso_Datos[[#This Row],[Vinculo]])","v":"=' '!$E$378"},"[$$-240A] #,##0","",""]
["Activos",{"$f":"' '!$F$378","v":0},{"$f":"Formula_Local(Campos_Ingreso_Datos[[#This Row],[Vinculo]])","v":"=' '!$F$378"},"[$$-240A] #,##0","",""]
["Activos",{"$f":"' '!$C$382","v":0},{"$f":"Formula_Local(Campos_Ingreso_Datos[[#This Row],[Vinculo]])","v":"=' '!$C$382"},"[$$-240A] #,##0","",""]
["Activos",{"$f":"' '!$E$382","v":0},{"$f":"Formula_Local(Campos_Ingreso_Datos[[#This Row],[Vinculo]])","v":"=' '!$E$382"},"[$$-240A] #,##0","",""]
["Activos",{"$f":"' '!$F$382","v":0},{"$f":"Formula_Local(Campos_Ingreso_Datos[[#This Row],[Vinculo]])","v":"=' '!$F$382"},"[$$-240A] #,##0","",""]
["Activos",{"$f":"' '!$C$386","v":0},{"$f":"Formula_Local(Campos_Ingreso_Datos[[#This Row],[Vinculo]])","v":"=' '!$C$386"},"[$$-240A] #,##0","",""]
["Activos",{"$f":"' '!$E$386","v":0},{"$f":"Formula_Local(Campos_Ingreso_Datos[[#This Row],[Vinculo]])","v":"=' '!$E$386"},"[$$-240A] #,##0","",""]
["Activos",{"$f":"' '!$F$386","v":0},{"$f":"Formula_Local(Campos_Ingreso_Datos[[#This Row],[Vinculo]])","v":"=' '!$F$386"},"[$$-240A] #,##0","",""]
["Activos",{"$f":"' '!$C$390","v":0},{"$f":"Formula_Local(Campos_Ingreso_Datos[[#This Row],[Vinculo]])","v":"=' '!$C$390"},"[$$-240A] #,##0","",""]
["Activos",{"$f":"' '!$E$390","v":0},{"$f":"Formula_Local(Campos_Ingreso_Datos[[#This Row],[Vinculo]])","v":"=' '!$E$390"},"[$$-240A] #,##0","",""]
["Activos",{"$f":"' '!$F$390","v":0},{"$f":"Formula_Local(Campos_Ingreso_Datos[[#This Row],[Vinculo]])","v":"=' '!$F$390"},"[$$-240A] #,##0","",""]
["Activos",{"$f":"' '!$C$394","v":0},{"$f":"Formula_Local(Campos_Ingreso_Datos[[#This Row],[Vinculo]])","v":"=' '!$C$394"},"[$$-240A] #,##0","",""]
["Activos",{"$f":"' '!$E$394","v":0},{"$f":"Formula_Local(Campos_Ingreso_Datos[[#This Row],[Vinculo]])","v":"=' '!$E$394"},"[$$-240A] #,##0","",""]
["Activos",{"$f":"' '!$F$394","v":0},{"$f":"Formula_Local(Campos_Ingreso_Datos[[#This Row],[Vinculo]])","v":"=' '!$F$394"},"[$$-240A] #,##0","",""]
["Activos",{"$f":"' '!$C$398","v":0},{"$f":"Formula_Local(Campos_Ingreso_Datos[[#This Row],[Vinculo]])","v":"=' '!$C$398"},"[$$-240A] #,##0","",""]
["Activos",{"$f":"' '!$E$398","v":0},{"$f":"Formula_Local(Campos_Ingreso_Datos[[#This Row],[Vinculo]])","v":"=' '!$E$398"},"[$$-240A] #,##0","",""]
["Activos",{"$f":"' '!$F$398","v":0},{"$f":"Formula_Local(Campos_Ingreso_Datos[[#This Row],[Vinculo]])","v":"=' '!$F$398"},"[$$-240A] #,##0","",""]
["Activos",{"$f":"' '!$C$414","v":0},{"$f":"Formula_Local(Campos_Ingreso_Datos[[#This Row],[Vinculo]])","v":"=' '!$C$414"},"[$$-240A] #,##0","",""]
["Activos",{"$f":"' '!$E$414","v":0},{"$f":"Formula_Local(Campos_Ingreso_Datos[[#This Row],[Vinculo]])","v":"=' '!$E$414"},"[$$-240A] #,##0","",""]
["Activos",{"$f":"' '!$F$414","v":0},{"$f":"Formula_Local(Campos_Ingreso_Datos[[#This Row],[Vinculo]])","v":"=' '!$F$414"},"[$$-240A] #,##0","",""]
["Activos",{"$f":"' '!$C$423","v":0},{"$f":"Formula_Local(Campos_Ingreso_Datos[[#This Row],[Vinculo]])","v":"=' '!$C$423"},"[$$-240A] #,##0","",""]
["Activos",{"$f":"' '!$E$423","v":0},{"$f":"Formula_Local(Campos_Ingreso_Datos[[#This Row],[Vinculo]])","v":"=' '!$E$423"},"[$$-240A] #,##0","",""]
["Activos",{"$f":"' '!$F$423","v":0},{"$f":"Formula_Local(Campos_Ingreso_Datos[[#This Row],[Vinculo]])","v":"=' '!$F$423"},"[$$-240A] #,##0","",""]
["Activos",{"$f":"' '!$C$427","v":0},{"$f":"Formula_Local(Campos_Ingreso_Datos[[#This Row],[Vinculo]])","v":"=' '!$C$427"},"[$$-240A] #,##0","",""]
["Activos",{"$f":"' '!$E$427","v":0},{"$f":"Formula_Local(Campos_Ingreso_Datos[[#This Row],[Vinculo]])","v":"=' '!$E$427"},"[$$-240A] #,##0","",""]
["Activos",{"$f":"' '!$F$427","v":0},{"$f":"Formula_Local(Campos_Ingreso_Datos[[#This Row],[Vinculo]])","v":"=' '!$F$427"},"[$$-240A] #,##0","",""]
["Activos",{"$f":"' '!$C$431","v":0},{"$f":"Formula_Local(Campos_Ingreso_Datos[[#This Row],[Vinculo]])","v":"=' '!$C$431"},"[$$-240A] #,##0","",""]
["Activos",{"$f":"' '!$E$431","v":0},{"$f":"Formula_Local(Campos_Ingreso_Datos[[#This Row],[Vinculo]])","v":"=' '!$E$431"},"[$$-240A] #,##0","",""]
["Activos",{"$f":"' '!$F$431","v":0},{"$f":"Formula_Local(Campos_Ingreso_Datos[[#This Row],[Vinculo]])","v":"=' '!$F$431"},"[$$-240A] #,##0","",""]
["Activos",{"$f":"' '!$C$435","v":0},{"$f":"Formula_Local(Campos_Ingreso_Datos[[#This Row],[Vinculo]])","v":"=' '!$C$435"},"[$$-240A] #,##0","",""]
["Activos",{"$f":"' '!$E$435","v":0},{"$f":"Formula_Local(Campos_Ingreso_Datos[[#This Row],[Vinculo]])","v":"=' '!$E$435"},"[$$-240A] #,##0","",""]
["Activos",{"$f":"' '!$F$435","v":0},{"$f":"Formula_Local(Campos_Ingreso_Datos[[#This Row],[Vinculo]])","v":"=' '!$F$435"},"[$$-240A] #,##0","",""]
["Activos",{"$f":"' '!$C$439","v":0},{"$f":"Formula_Local(Campos_Ingreso_Datos[[#This Row],[Vinculo]])","v":"=' '!$C$439"},"[$$-240A] #,##0","",""]
["Activos",{"$f":"' '!$E$439","v":0},{"$f":"Formula_Local(Campos_Ingreso_Datos[[#This Row],[Vinculo]])","v":"=' '!$E$439"},"[$$-240A] #,##0","",""]
["Activos",{"$f":"' '!$F$439","v":0},{"$f":"Formula_Local(Campos_Ingreso_Datos[[#This Row],[Vinculo]])","v":"=' '!$F$439"},"[$$-240A] #,##0","",""]
["Activos",{"$f":"' '!$C$443","v":0},{"$f":"Formula_Local(Campos_Ingreso_Datos[[#This Row],[Vinculo]])","v":"=' '!$C$443"},"[$$-240A] #,##0","",""]
["Activos",{"$f":"' '!$E$443","v":0},{"$f":"Formula_Local(Campos_Ingreso_Datos[[#This Row],[Vinculo]])","v":"=' '!$E$443"},"[$$-240A] #,##0","",""]
["Activos",{"$f":"' '!$F$443","v":0},{"$f":"Formula_Local(Campos_Ingreso_Datos[[#This Row],[Vinculo]])","v":"=' '!$F$443"},"[$$-240A] #,##0","",""]
["Activos",{"$f":"' '!$C$447","v":0},{"$f":"Formula_Local(Campos_Ingreso_Datos[[#This Row],[Vinculo]])","v":"=' '!$C$447"},"[$$-240A] #,##0","",""]
["Activos",{"$f":"' '!$E$447","v":0},{"$f":"Formula_Local(Campos_Ingreso_Datos[[#This Row],[Vinculo]])","v":"=' '!$E$447"},"[$$-240A] #,##0","",""]
["Activos",{"$f":"' '!$F$447","v":0},{"$f":"Formula_Local(Campos_Ingreso_Datos[[#This Row],[Vinculo]])","v":"=' '!$F$447"},"[$$-240A] #,##0","",""]
["Activos",{"$f":"' '!$C$451","v":0},{"$f":"Formula_Local(Campos_Ingreso_Datos[[#This Row],[Vinculo]])","v":"=' '!$C$451"},"[$$-240A] #,##0","",""]
["Activos",{"$f":"' '!$E$451","v":0},{"$f":"Formula_Local(Campos_Ingreso_Datos[[#This Row],[Vinculo]])","v":"=' '!$E$451"},"[$$-240A] #,##0","",""]
["Activos",{"$f":"' '!$F$451","v":0},{"$f":"Formula_Local(Campos_Ingreso_Datos[[#This Row],[Vinculo]])","v":"=' '!$F$451"},"[$$-240A] #,##0","",""]
["Activos",{"$f":"' '!$C$455","v":0},{"$f":"Formula_Local(Campos_Ingreso_Datos[[#This Row],[Vinculo]])","v":"=' '!$C$455"},"[$$-240A] #,##0","",""]
["Activos",{"$f":"' '!$E$455","v":0},{"$f":"Formula_Local(Campos_Ingreso_Datos[[#This Row],[Vinculo]])","v":"=' '!$E$455"},"[$$-240A] #,##0","",""]
["Activos",{"$f":"' '!$F$455","v":0},{"$f":"Formula_Local(Campos_Ingreso_Datos[[#This Row],[Vinculo]])","v":"=' '!$F$455"},"[$$-240A] #,##0","",""]
["Activos",{"$f":"' '!$C$467","v":0},{"$f":"Formula_Local(Campos_Ingreso_Datos[[#This Row],[Vinculo]])","v":"=' '!$C$467"},"[$$-240A] #,##0","",""]
["Activos",{"$f":"' '!$E$467","v":0},{"$f":"Formula_Local(Campos_Ingreso_Datos[[#This Row],[Vinculo]])","v":"=' '!$E$467"},"[$$-240A] #,##0","",""]
["Activos",{"$f":"' '!$F$467","v":0},{"$f":"Formula_Local(Campos_Ingreso_Datos[[#This Row],[Vinculo]])","v":"=' '!$F$467"},"[$$-240A] #,##0","",""]
["Activos",{"$f":"' '!$C$468","v":0},{"$f":"Formula_Local(Campos_Ingreso_Datos[[#This Row],[Vinculo]])","v":"=' '!$C$468"},"[$$-240A] #,##0","",""]
["Activos",{"$f":"' '!$E$468","v":0},{"$f":"Formula_Local(Campos_Ingreso_Datos[[#This Row],[Vinculo]])","v":"=' '!$E$468"},"[$$-240A] #,##0","",""]
["Activos",{"$f":"' '!$F$468","v":0},{"$f":"Formula_Local(Campos_Ingreso_Datos[[#This Row],[Vinculo]])","v":"=' '!$F$468"},"[$$-240A] #,##0","",""]
["Activos",{"$f":"' '!$C$472","v":0},{"$f":"Formula_Local(Campos_Ingreso_Datos[[#This Row],[Vinculo]])","v":"=' '!$C$472"},"[$$-240A] #,##0","",""]
["Activos",{"$f":"' '!$E$472","v":0},{"$f":"Formula_Local(Campos_Ingreso_Datos[[#This Row],[Vinculo]])","v":"=' '!$E$472"},"[$$-240A] #,##0","",""]
["Activos",{"$f":"' '!$F$472","v":0},{"$f":"Formula_Local(Campos_Ingreso_Datos[[#This Row],[Vinculo]])","v":"=' '!$F$472"},"[$$-240A] #,##0","",""]
["Activos",{"$f":"' '!$C$473","v":0},{"$f":"Formula_Local(Campos_Ingreso_Datos[[#This Row],[Vinculo]])","v":"=' '!$C$473"},"[$$-240A] #,##0","",""]
["Activos",{"$f":"' '!$E$473","v":0},{"$f":"Formula_Local(Campos_Ingreso_Datos[[#This Row],[Vinculo]])","v":"=' '!$E$473"},"[$$-240A] #,##0","",""]
["Activos",{"$f":"' '!$F$473","v":0},{"$f":"Formula_Local(Campos_Ingreso_Datos[[#This Row],[Vinculo]])","v":"=' '!$F$473"},"[$$-240A] #,##0","",""]
["Activos",{"$f":"' '!$C$477","v":0},{"$f":"Formula_Local(Campos_Ingreso_Datos[[#This Row],[Vinculo]])","v":"=' '!$C$477"},"[$$-240A] #,##0","",""]
["Activos",{"$f":"' '!$E$477","v":0},{"$f":"Formula_Local(Campos_Ingreso_Datos[[#This Row],[Vinculo]])","v":"=' '!$E$477"},"[$$-240A] #,##0","",""]
["Activos",{"$f":"' '!$F$477","v":0},{"$f":"Formula_Local(Campos_Ingreso_Datos[[#This Row],[Vinculo]])","v":"=' '!$F$477"},"[$$-240A] #,##0","",""]
["Activos",{"$f":"' '!$C$478","v":0},{"$f":"Formula_Local(Campos_Ingreso_Datos[[#This Row],[Vinculo]])","v":"=' '!$C$478"},"[$$-240A] #,##0","",""]
["Activos",{"$f":"' '!$E$478","v":0},{"$f":"Formula_Local(Campos_Ingreso_Datos[[#This Row],[Vinculo]])","v":"=' '!$E$478"},"[$$-240A] #,##0","",""]
["Activos",{"$f":"' '!$F$478","v":0},{"$f":"Formula_Local(Campos_Ingreso_Datos[[#This Row],[Vinculo]])","v":"=' '!$F$478"},"[$$-240A] #,##0","",""]
["Activos",{"$f":"' '!$C$485","v":0},{"$f":"Formula_Local(Campos_Ingreso_Datos[[#This Row],[Vinculo]])","v":"=' '!$C$485"},"[$$-240A] #,##0","",""]
["Activos",{"$f":"' '!$E$485","v":0},{"$f":"Formula_Local(Campos_Ingreso_Datos[[#This Row],[Vinculo]])","v":"=' '!$E$485"},"[$$-240A] #,##0","",""]
["Activos",{"$f":"' '!$F$485","v":0},{"$f":"Formula_Local(Campos_Ingreso_Datos[[#This Row],[Vinculo]])","v":"=' '!$F$485"},"[$$-240A] #,##0","",""]
["Activos",{"$f":"' '!$C$486","v":0},{"$f":"Formula_Local(Campos_Ingreso_Datos[[#This Row],[Vinculo]])","v":"=' '!$C$486"},"[$$-240A] #,##0","",""]
["Activos",{"$f":"' '!$E$486","v":0},{"$f":"Formula_Local(Campos_Ingreso_Datos[[#This Row],[Vinculo]])","v":"=' '!$E$486"},"[$$-240A] #,##0","",""]
["Activos",{"$f":"' '!$F$486","v":0},{"$f":"Formula_Local(Campos_Ingreso_Datos[[#This Row],[Vinculo]])","v":"=' '!$F$486"},"[$$-240A] #,##0","",""]
["Activos",{"$f":"' '!$C$493","v":0},{"$f":"Formula_Local(Campos_Ingreso_Datos[[#This Row],[Vinculo]])","v":"=' '!$C$493"},"[$$-240A] #,##0","",""]
["Activos",{"$f":"' '!$E$493","v":0},{"$f":"Formula_Local(Campos_Ingreso_Datos[[#This Row],[Vinculo]])","v":"=' '!$E$493"},"[$$-240A] #,##0","",""]
["Activos",{"$f":"' '!$F$493","v":0},{"$f":"Formula_Local(Campos_Ingreso_Datos[[#This Row],[Vinculo]])","v":"=' '!$F$493"},"[$$-240A] #,##0","",""]
["Activos",{"$f":"' '!$C$494","v":0},{"$f":"Formula_Local(Campos_Ingreso_Datos[[#This Row],[Vinculo]])","v":"=' '!$C$494"},"[$$-240A] #,##0","",""]
["Activos",{"$f":"' '!$E$494","v":0},{"$f":"Formula_Local(Campos_Ingreso_Datos[[#This Row],[Vinculo]])","v":"=' '!$E$494"},"[$$-240A] #,##0","",""]
["Activos",{"$f":"' '!$F$494","v":0},{"$f":"Formula_Local(Campos_Ingreso_Datos[[#This Row],[Vinculo]])","v":"=' '!$F$494"},"[$$-240A] #,##0","",""]
["Activos",{"$f":"' '!$C$561","v":0},{"$f":"Formula_Local(Campos_Ingreso_Datos[[#This Row],[Vinculo]])","v":"=' '!$C$561"},"[$$-240A] #,##0","",""]
["Activos",{"$f":"' '!$E$561","v":0},{"$f":"Formula_Local(Campos_Ingreso_Datos[[#This Row],[Vinculo]])","v":"=' '!$E$561"},"[$$-240A] #,##0","",""]
["Activos",{"$f":"' '!$F$561","v":0},{"$f":"Formula_Local(Campos_Ingreso_Datos[[#This Row],[Vinculo]])","v":"=' '!$F$561"},"[$$-240A] #,##0","",""]
["Activos",{"$f":"' '!$C$562","v":0},{"$f":"Formula_Local(Campos_Ingreso_Datos[[#This Row],[Vinculo]])","v":"=' '!$C$562"},"[$$-240A] #,##0","",""]
["Activos",{"$f":"' '!$E$562","v":0},{"$f":"Formula_Local(Campos_Ingreso_Datos[[#This Row],[Vinculo]])","v":"=' '!$E$562"},"[$$-240A] #,##0","",""]
["Activos",{"$f":"' '!$F$562","v":0},{"$f":"Formula_Local(Campos_Ingreso_Datos[[#This Row],[Vinculo]])","v":"=' '!$F$562"},"[$$-240A] #,##0","",""]
["Activos",{"$f":"' '!$C$569","v":0},{"$f":"Formula_Local(Campos_Ingreso_Datos[[#This Row],[Vinculo]])","v":"=' '!$C$569"},"[$$-240A] #,##0","",""]
["Activos",{"$f":"' '!$E$569","v":0},{"$f":"Formula_Local(Campos_Ingreso_Datos[[#This Row],[Vinculo]])","v":"=' '!$E$569"},"[$$-240A] #,##0","",""]
["Activos",{"$f":"' '!$F$569","v":0},{"$f":"Formula_Local(Campos_Ingreso_Datos[[#This Row],[Vinculo]])","v":"=' '!$F$569"},"[$$-240A] #,##0","",""]
["Activos",{"$f":"' '!$C$570","v":0},{"$f":"Formula_Local(Campos_Ingreso_Datos[[#This Row],[Vinculo]])","v":"=' '!$C$570"},"[$$-240A] #,##0","",""]
["Activos",{"$f":"' '!$E$570","v":0},{"$f":"Formula_Local(Campos_Ingreso_Datos[[#This Row],[Vinculo]])","v":"=' '!$E$570"},"[$$-240A] #,##0","",""]
["Activos",{"$f":"' '!$F$570","v":0},{"$f":"Formula_Local(Campos_Ingreso_Datos[[#This Row],[Vinculo]])","v":"=' '!$F$570"},"[$$-240A] #,##0","",""]
["Activos",{"$f":"' '!$C$582","v":0},{"$f":"Formula_Local(Campos_Ingreso_Datos[[#This Row],[Vinculo]])","v":"=' '!$C$582"},"[$$-240A] #,##0","",""]
["Activos",{"$f":"' '!$E$582","v":0},{"$f":"Formula_Local(Campos_Ingreso_Datos[[#This Row],[Vinculo]])","v":"=' '!$E$582"},"[$$-240A] #,##0","",""]
["Activos",{"$f":"' '!$F$582","v":0},{"$f":"Formula_Local(Campos_Ingreso_Datos[[#This Row],[Vinculo]])","v":"=' '!$F$582"},"[$$-240A] #,##0","",""]
["Activos",{"$f":"' '!$C$583","v":0},{"$f":"Formula_Local(Campos_Ingreso_Datos[[#This Row],[Vinculo]])","v":"=' '!$C$583"},"[$$-240A] #,##0","",""]
["Activos",{"$f":"' '!$E$583","v":0},{"$f":"Formula_Local(Campos_Ingreso_Datos[[#This Row],[Vinculo]])","v":"=' '!$E$583"},"[$$-240A] #,##0","",""]
["Activos",{"$f":"' '!$F$583","v":0},{"$f":"Formula_Local(Campos_Ingreso_Datos[[#This Row],[Vinculo]])","v":"=' '!$F$583"},"[$$-240A] #,##0","",""]
["Activos",{"$f":"' '!$C$590","v":0},{"$f":"Formula_Local(Campos_Ingreso_Datos[[#This Row],[Vinculo]])","v":"=' '!$C$590"},"[$$-240A] #,##0","",""]
["Activos",{"$f":"' '!$E$590","v":0},{"$f":"Formula_Local(Campos_Ingreso_Datos[[#This Row],[Vinculo]])","v":"=' '!$E$590"},"[$$-240A] #,##0","",""]
["Activos",{"$f":"' '!$F$590","v":0},{"$f":"Formula_Local(Campos_Ingreso_Datos[[#This Row],[Vinculo]])","v":"=' '!$F$590"},"[$$-240A] #,##0","",""]
["Activos",{"$f":"' '!$C$597","v":0},{"$f":"Formula_Local(Campos_Ingreso_Datos[[#This Row],[Vinculo]])","v":"=' '!$C$597"},"[$$-240A] #,##0","",""]
["Activos",{"$f":"' '!$E$597","v":0},{"$f":"Formula_Local(Campos_Ingreso_Datos[[#This Row],[Vinculo]])","v":"=' '!$E$597"},"[$$-240A] #,##0","",""]
["Activos",{"$f":"' '!$F$597","v":0},{"$f":"Formula_Local(Campos_Ingreso_Datos[[#This Row],[Vinculo]])","v":"=' '!$F$597"},"[$$-240A] #,##0","",""]
["Activos",{"$f":"' '!$C$598","v":0},{"$f":"Formula_Local(Campos_Ingreso_Datos[[#This Row],[Vinculo]])","v":"=' '!$C$598"},"[$$-240A] #,##0","",""]
["Activos",{"$f":"' '!$E$598","v":0},{"$f":"Formula_Local(Campos_Ingreso_Datos[[#This Row],[Vinculo]])","v":"=' '!$E$598"},"[$$-240A] #,##0","",""]
["Activos",{"$f":"' '!$F$598","v":0},{"$f":"Formula_Local(Campos_Ingreso_Datos[[#This Row],[Vinculo]])","v":"=' '!$F$598"},"[$$-240A] #,##0","",""]
["Activos",{"$f":"' '!$C$605","v":0},{"$f":"Formula_Local(Campos_Ingreso_Datos[[#This Row],[Vinculo]])","v":"=' '!$C$605"},"[$$-240A] #,##0","",""]
["Activos",{"$f":"' '!$E$605","v":0},{"$f":"Formula_Local(Campos_Ingreso_Datos[[#This Row],[Vinculo]])","v":"=' '!$E$605"},"[$$-240A] #,##0","",""]
["Activos",{"$f":"' '!$F$605","v":0},{"$f":"Formula_Local(Campos_Ingreso_Datos[[#This Row],[Vinculo]])","v":"=' '!$F$605"},"[$$-240A] #,##0","",""]
["Activos",{"$f":"' '!$C$617","v":0},{"$f":"Formula_Local(Campos_Ingreso_Datos[[#This Row],[Vinculo]])","v":"=' '!$C$617"},"[$$-240A] #,##0","",""]
["Activos",{"$f":"' '!$E$617","v":0},{"$f":"Formula_Local(Campos_Ingreso_Datos[[#This Row],[Vinculo]])","v":"=' '!$E$617"},"[$$-240A] #,##0","",""]
["Activos",{"$f":"' '!$F$617","v":0},{"$f":"Formula_Local(Campos_Ingreso_Datos[[#This Row],[Vinculo]])","v":"=' '!$F$617"},"[$$-240A] #,##0","",""]
["Activos",{"$f":"' '!$C$621","v":0},{"$f":"Formula_Local(Campos_Ingreso_Datos[[#This Row],[Vinculo]])","v":"=' '!$C$621"},"[$$-240A] #,##0","",""]
["Activos",{"$f":"' '!$E$621","v":0},{"$f":"Formula_Local(Campos_Ingreso_Datos[[#This Row],[Vinculo]])","v":"=' '!$E$621"},"[$$-240A] #,##0","",""]
["Activos",{"$f":"' '!$F$621","v":0},{"$f":"Formula_Local(Campos_Ingreso_Datos[[#This Row],[Vinculo]])","v":"=' '!$F$621"},"[$$-240A] #,##0","",""]
["Rentas Exentas",{"$f":"' '!$C$2255","v":0},{"$f":"Formula_Local(Campos_Ingreso_Datos[[#This Row],[Vinculo]])","v":"=' '!$C$2255"},"#,##0","",""]
["Rentas Exentas",{"$f":"' '!$C$2256","v":0},{"$f":"Formula_Local(Campos_Ingreso_Datos[[#This Row],[Vinculo]])","v":"=' '!$C$2256"},"#,##0","",""]
["Rentas Exentas",{"$f":"' '!$C$2257","v":0},{"$f":"Formula_Local(Campos_Ingreso_Datos[[#This Row],[Vinculo]])","v":"=' '!$C$2257"},"#,##0","",""]
["Valor a Adicionar",{"$f":"' '!$C$2474","v":0},{"$f":"Formula_Local(Campos_Ingreso_Datos[[#This Row],[Vinculo]])","v":"=' '!$C$2474"},"#,##0","",""]
["Valor a Adicionar",{"$f":"' '!$C$2475","v":0},{"$f":"Formula_Local(Campos_Ingreso_Datos[[#This Row],[Vinculo]])","v":"=' '!$C$2475"},"#,##0","",""]
["Valor a Adicionar",{"$f":"' '!$C$2476","v":0},{"$f":"Formula_Local(Campos_Ingreso_Datos[[#This Row],[Vinculo]])","v":"=' '!$C$2476"},"#,##0","",""]
["Valor a Adicionar",{"$f":"' '!$C$2477","v":0},{"$f":"Formula_Local(Campos_Ingreso_Datos[[#This Row],[Vinculo]])","v":"=' '!$C$2477"},"#,##0","",""]
["Valor a Adicionar",{"$f":"' '!$C$2478","v":0},{"$f":"Formula_Local(Campos_Ingreso_Datos[[#This Row],[Vinculo]])","v":"=' '!$C$2478"},"#,##0","",""]
["Valor a Adicionar",{"$f":"' '!$C$2479","v":0},{"$f":"Formula_Local(Campos_Ingreso_Datos[[#This Row],[Vinculo]])","v":"=' '!$C$2479"},"#,##0","",""]
["Valor a Adicionar",{"$f":"' '!$C$2480","v":0},{"$f":"Formula_Local(Campos_Ingreso_Datos[[#This Row],[Vinculo]])","v":"=' '!$C$2480"},"#,##0","",""]
["Valor a Adicionar",{"$f":"' '!$C$2482","v":0},{"$f":"Formula_Local(Campos_Ingreso_Datos[[#This Row],[Vinculo]])","v":"=' '!$C$2482"},"#,##0","",""]
["Tasa Mínima",{"$f":"' '!$C$2499","v":0},{"$f":"Formula_Local(Campos_Ingreso_Datos[[#This Row],[Vinculo]])","v":"=' '!$C$2499"},"#,##0","","",{"$f":"Formula_Local(Campos_Ingreso_Datos[[#This Row],[Formula]])","v":"=+' '!D980"},{"$f":"+' '!D980","v":0}]
["Tasa Mínima",{"$f":"' '!$C$2500","v":0},{"$f":"Formula_Local(Campos_Ingreso_Datos[[#This Row],[Vinculo]])","v":"=' '!$C$2500"},"#,##0","","",{"$f":"Formula_Local(Campos_Ingreso_Datos[[#This Row],[Formula]])","v":"=+' '!D983"},{"$f":"+' '!D983","v":0}]
["Tasa Mínima",{"$f":"' '!$C$2501","v":0},{"$f":"Formula_Local(Campos_Ingreso_Datos[[#This Row],[Vinculo]])","v":"=' '!$C$2501"},"#,##0","","",{"$f":"Formula_Local(Campos_Ingreso_Datos[[#This Row],[Formula]])","v":"=+' '!C986"},{"$f":"+' '!C986","v":0}]
["Tasa Mínima",{"$f":"' '!$C$2502","v":0},{"$f":"Formula_Local(Campos_Ingreso_Datos[[#This Row],[Vinculo]])","v":"=' '!$C$2502"},"#,##0","","",{"$f":"Formula_Local(Campos_Ingreso_Datos[[#This Row],[Formula]])","v":"=+' '!D989"},{"$f":"+' '!D989","v":0}]
["Tasa Mínima",{"$f":"' '!$C$2503","v":0},{"$f":"Formula_Local(Campos_Ingreso_Datos[[#This Row],[Vinculo]])","v":"=' '!$C$2503"},"#,##0","","",{"$f":"Formula_Local(Campos_Ingreso_Datos[[#This Row],[Formula]])","v":"=+' '!D992"},{"$f":"+' '!D992","v":0}]
["Tasa Mínima",{"$f":"' '!$C$2504","v":0},{"$f":"Formula_Local(Campos_Ingreso_Datos[[#This Row],[Vinculo]])","v":"=' '!$C$2504"},"#,##0","","",{"$f":"Formula_Local(Campos_Ingreso_Datos[[#This Row],[Formula]])","v":"=+' '!D995"},{"$f":"+' '!D995","v":0}]
["Tasa Mínima",{"$f":"' '!$C$2506","v":0},{"$f":"Formula_Local(Campos_Ingreso_Datos[[#This Row],[Vinculo]])","v":"=' '!$C$2506"},"#,##0","","",{"$f":"Formula_Local(Campos_Ingreso_Datos[[#This Row],[Formula]])","v":"=+' '!D1003"},{"$f":"+' '!D1003","v":0}]
["Tasa Mínima",{"$f":"' '!$C$2507","v":0},{"$f":"Formula_Local(Campos_Ingreso_Datos[[#This Row],[Vinculo]])","v":"=' '!$C$2507"},"#,##0","","",{"$f":"Formula_Local(Campos_Ingreso_Datos[[#This Row],[Formula]])","v":"=+' '!D1006"},{"$f":"+' '!D1006","v":0}]
["Tasa Mínima",{"$f":"' '!$C$2508","v":0},{"$f":"Formula_Local(Campos_Ingreso_Datos[[#This Row],[Vinculo]])","v":"=' '!$C$2508"},"#,##0","","",{"$f":"Formula_Local(Campos_Ingreso_Datos[[#This Row],[Formula]])","v":"=+' '!D1009"},{"$f":"+' '!D1009","v":0}]
["Tasa Mínima",{"$f":"' '!$C$2509","v":0},{"$f":"Formula_Local(Campos_Ingreso_Datos[[#This Row],[Vinculo]])","v":"=' '!$C$2509"},"#,##0","","",{"$f":"Formula_Local(Campos_Ingreso_Datos[[#This Row],[Formula]])","v":"=+' '!D1012"},{"$f":"+' '!D1012","v":0}]
["Tasa Mínima",{"$f":"' '!$C$2510","v":0},{"$f":"Formula_Local(Campos_Ingreso_Datos[[#This Row],[Vinculo]])","v":"=' '!$C$2510"},"#,##0","","",{"$f":"Formula_Local(Campos_Ingreso_Datos[[#This Row],[Formula]])","v":"=+' '!D1015"},{"$f":"+' '!D1015","v":0}]
["Tasa Mínima",{"$f":"' '!$C$2511","v":0},{"$f":"Formula_Local(Campos_Ingreso_Datos[[#This Row],[Vinculo]])","v":"=' '!$C$2511"},"#,##0","","",{"$f":"Formula_Local(Campos_Ingreso_Datos[[#This Row],[Formula]])","v":"=+' '!D1018"},{"$f":"+' '!D1018","v":0}]
["Tasa Mínima",{"$f":"' '!$C$2513","v":0},{"$f":"Formula_Local(Campos_Ingreso_Datos[[#This Row],[Vinculo]])","v":"=' '!$C$2513"},"#,##0","","",{"$f":"Formula_Local(Campos_Ingreso_Datos[[#This Row],[Formula]])","v":"=+' '!D1026"},{"$f":"+' '!D1026","v":0}]
["Tasa Mínima",{"$f":"' '!$C$2514","v":0},{"$f":"Formula_Local(Campos_Ingreso_Datos[[#This Row],[Vinculo]])","v":"=' '!$C$2514"},"#,##0","","",{"$f":"Formula_Local(Campos_Ingreso_Datos[[#This Row],[Formula]])","v":"=+' '!D1029"},{"$f":"+' '!D1029","v":0}]
["Tasa Mínima",{"$f":"' '!$C$2515","v":0},{"$f":"Formula_Local(Campos_Ingreso_Datos[[#This Row],[Vinculo]])","v":"=' '!$C$2515"},"#,##0","","",{"$f":"Formula_Local(Campos_Ingreso_Datos[[#This Row],[Formula]])","v":"=+' '!D1032"},{"$f":"+' '!D1032","v":0}]
["Tasa Mínima",{"$f":"' '!$C$2516","v":0},{"$f":"Formula_Local(Campos_Ingreso_Datos[[#This Row],[Vinculo]])","v":"=' '!$C$2516"},"#,##0","","",{"$f":"Formula_Local(Campos_Ingreso_Datos[[#This Row],[Formula]])","v":"=+' '!D1035"},{"$f":"+' '!D1035","v":0}]
["Tasa Mínima",{"$f":"' '!$C$2517","v":0},{"$f":"Formula_Local(Campos_Ingreso_Datos[[#This Row],[Vinculo]])","v":"=' '!$C$2517"},"#,##0","","",{"$f":"Formula_Local(Campos_Ingreso_Datos[[#This Row],[Formula]])","v":"=+' '!D1038"},{"$f":"+' '!D1038","v":0}]
["Tasa Mínima",{"$f":"' '!$C$2518","v":0},{"$f":"Formula_Local(Campos_Ingreso_Datos[[#This Row],[Vinculo]])","v":"=' '!$C$2518"},"#,##0","","",{"$f":"Formula_Local(Campos_Ingreso_Datos[[#This Row],[Formula]])","v":"=+' '!D1041"},{"$f":"+' '!D1041","v":0}]
["Tasa Mínima",{"$f":"' '!$C$2519","v":0},{"$f":"Formula_Local(Campos_Ingreso_Datos[[#This Row],[Vinculo]])","v":"=' '!$C$2519"},"#,##0","","",{"$f":"Formula_Local(Campos_Ingreso_Datos[[#This Row],[Formula]])","v":"=+' '!D1044"},{"$f":"+' '!D1044","v":0}]
["Tasa Mínima",{"$f":"' '!$C$2520","v":0},{"$f":"Formula_Local(Campos_Ingreso_Datos[[#This Row],[Vinculo]])","v":"=' '!$C$2520"},"#,##0","","",{"$f":"Formula_Local(Campos_Ingreso_Datos[[#This Row],[Formula]])","v":"=+' '!D1047"},{"$f":"+' '!D1047","v":0}]
["Tasa Mínima",{"$f":"' '!$C$2521","v":0},{"$f":"Formula_Local(Campos_Ingreso_Datos[[#This Row],[Vinculo]])","v":"=' '!$C$2521"},"#,##0","","",{"$f":"Formula_Local(Campos_Ingreso_Datos[[#This Row],[Formula]])","v":"=+' '!D1050"},{"$f":"+' '!D1050","v":0}]
["Tasa Mínima",{"$f":"' '!$C$2522","v":0},{"$f":"Formula_Local(Campos_Ingreso_Datos[[#This Row],[Vinculo]])","v":"=' '!$C$2522"},"#,##0","","",{"$f":"Formula_Local(Campos_Ingreso_Datos[[#This Row],[Formula]])","v":"=+' '!D1053"},{"$f":"+' '!D1053","v":0}]
["Tasa Mínima",{"$f":"' '!$C$2524","v":0},{"$f":"Formula_Local(Campos_Ingreso_Datos[[#This Row],[Vinculo]])","v":"=' '!$C$2524"},"#,##0","","",{"$f":"Formula_Local(Campos_Ingreso_Datos[[#This Row],[Formula]])","v":"=+' '!D1086"},{"$f":"+' '!D1086","v":0}]
["Tasa Mínima",{"$f":"' '!$C$2525","v":0},{"$f":"Formula_Local(Campos_Ingreso_Datos[[#This Row],[Vinculo]])","v":"=' '!$C$2525"},"#,##0","","",{"$f":"Formula_Local(Campos_Ingreso_Datos[[#This Row],[Formula]])","v":"=+' '!D1089"},{"$f":"+' '!D1089","v":0}]
["Tasa Mínima",{"$f":"' '!$C$2526","v":0},{"$f":"Formula_Local(Campos_Ingreso_Datos[[#This Row],[Vinculo]])","v":"=' '!$C$2526"},"#,##0","","",{"$f":"Formula_Local(Campos_Ingreso_Datos[[#This Row],[Formula]])","v":"=+' '!D1092"},{"$f":"+' '!D1092","v":0}]
["Tasa Mínima",{"$f":"' '!$C$2527","v":0},{"$f":"Formula_Local(Campos_Ingreso_Datos[[#This Row],[Vinculo]])","v":"=' '!$C$2527"},"#,##0","","",{"$f":"Formula_Local(Campos_Ingreso_Datos[[#This Row],[Formula]])","v":"=+' '!D1095"},{"$f":"+' '!D1095","v":0}]
["Tasa Mínima",{"$f":"' '!$C$2528","v":0},{"$f":"Formula_Local(Campos_Ingreso_Datos[[#This Row],[Vinculo]])","v":"=' '!$C$2528"},"#,##0","","",{"$f":"Formula_Local(Campos_Ingreso_Datos[[#This Row],[Formula]])","v":"=+' '!D1098"},{"$f":"+' '!D1098","v":0}]
["Tasa Mínima",{"$f":"' '!$C$2529","v":0},{"$f":"Formula_Local(Campos_Ingreso_Datos[[#This Row],[Vinculo]])","v":"=' '!$C$2529"},"#,##0","","",{"$f":"Formula_Local(Campos_Ingreso_Datos[[#This Row],[Formula]])","v":"=+' '!D1101"},{"$f":"+' '!D1101","v":0}]
["Tasa Mínima",{"$f":"' '!$C$2530","v":0},{"$f":"Formula_Local(Campos_Ingreso_Datos[[#This Row],[Vinculo]])","v":"=' '!$C$2530"},"#,##0","","",{"$f":"Formula_Local(Campos_Ingreso_Datos[[#This Row],[Formula]])","v":"=+' '!D1104"},{"$f":"+' '!D1104","v":0}]
["Tasa Mínima",{"$f":"' '!$C$2532","v":0},{"$f":"Formula_Local(Campos_Ingreso_Datos[[#This Row],[Vinculo]])","v":"=' '!$C$2532"},"#,##0","","",{"$f":"Formula_Local(Campos_Ingreso_Datos[[#This Row],[Formula]])","v":"=+' '!D1123"},{"$f":"+' '!D1123","v":0}]
["Tasa Mínima",{"$f":"' '!$C$2533","v":0},{"$f":"Formula_Local(Campos_Ingreso_Datos[[#This Row],[Vinculo]])","v":"=' '!$C$2533"},"#,##0","","",{"$f":"Formula_Local(Campos_Ingreso_Datos[[#This Row],[Formula]])","v":"=+' '!D1126"},{"$f":"+' '!D1126","v":0}]
["Tasa Mínima",{"$f":"' '!$C$2534","v":0},{"$f":"Formula_Local(Campos_Ingreso_Datos[[#This Row],[Vinculo]])","v":"=' '!$C$2534"},"#,##0","","",{"$f":"Formula_Local(Campos_Ingreso_Datos[[#This Row],[Formula]])","v":"=+' '!D1129"},{"$f":"+' '!D1129","v":0}]
["Tasa Mínima",{"$f":"' '!$C$2535","v":0},{"$f":"Formula_Local(Campos_Ingreso_Datos[[#This Row],[Vinculo]])","v":"=' '!$C$2535"},"#,##0","","",{"$f":"Formula_Local(Campos_Ingreso_Datos[[#This Row],[Formula]])","v":"=+' '!D1132"},{"$f":"+' '!D1132","v":0}]
["Tasa Mínima",{"$f":"' '!$C$2536","v":0},{"$f":"Formula_Local(Campos_Ingreso_Datos[[#This Row],[Vinculo]])","v":"=' '!$C$2536"},"#,##0","","",{"$f":"Formula_Local(Campos_Ingreso_Datos[[#This Row],[Formula]])","v":"=+' '!D1135"},{"$f":"+' '!D1135","v":0}]
["Tasa Mínima",{"$f":"' '!$C$2537","v":0},{"$f":"Formula_Local(Campos_Ingreso_Datos[[#This Row],[Vinculo]])","v":"=' '!$C$2537"},"#,##0","","",{"$f":"Formula_Local(Campos_Ingreso_Datos[[#This Row],[Formula]])","v":"=+' '!D1138"},{"$f":"+' '!D1138","v":0}]
["Tasa Mínima",{"$f":"' '!$C$2538","v":0},{"$f":"Formula_Local(Campos_Ingreso_Datos[[#This Row],[Vinculo]])","v":"=' '!$C$2538"},"#,##0","","",{"$f":"Formula_Local(Campos_Ingreso_Datos[[#This Row],[Formula]])","v":"=+' '!D1141"},{"$f":"+' '!D1141","v":0}]
["Tasa Mínima",{"$f":"' '!$C$2539","v":0},{"$f":"Formula_Local(Campos_Ingreso_Datos[[#This Row],[Vinculo]])","v":"=' '!$C$2539"},"#,##0","","",{"$f":"Formula_Local(Campos_Ingreso_Datos[[#This Row],[Formula]])","v":"=+' '!D1144"},{"$f":"+' '!D1144","v":0}]
["Tasa Mínima",{"$f":"' '!$C$2540","v":0},{"$f":"Formula_Local(Campos_Ingreso_Datos[[#This Row],[Vinculo]])","v":"=' '!$C$2540"},"#,##0","","",{"$f":"Formula_Local(Campos_Ingreso_Datos[[#This Row],[Formula]])","v":"=+' '!D1147"},{"$f":"+' '!D1147","v":0}]
["Tasa Mínima",{"$f":"' '!$C$2541","v":0},{"$f":"Formula_Local(Campos_Ingreso_Datos[[#This Row],[Vinculo]])","v":"=' '!$C$2541"},"#,##0","","",{"$f":"Formula_Local(Campos_Ingreso_Datos[[#This Row],[Formula]])","v":"=+' '!D1150"},{"$f":"+' '!D1150","v":0}]
["Tasa Mínima",{"$f":"' '!$C$2543","v":0},{"$f":"Formula_Local(Campos_Ingreso_Datos[[#This Row],[Vinculo]])","v":"=' '!$C$2543"},"#,##0","","",{"$f":"Formula_Local(Campos_Ingreso_Datos[[#This Row],[Formula]])","v":"=+' '!D1169"},{"$f":"+' '!D1169","v":0}]
["Tasa Mínima",{"$f":"' '!$C$2544","v":0},{"$f":"Formula_Local(Campos_Ingreso_Datos[[#This Row],[Vinculo]])","v":"=' '!$C$2544"},"#,##0","","",{"$f":"Formula_Local(Campos_Ingreso_Datos[[#This Row],[Formula]])","v":"=+' '!D1172"},{"$f":"+' '!D1172","v":0}]
["Tasa Mínima",{"$f":"' '!$C$2545","v":0},{"$f":"Formula_Local(Campos_Ingreso_Datos[[#This Row],[Vinculo]])","v":"=' '!$C$2545"},"#,##0","","",{"$f":"Formula_Local(Campos_Ingreso_Datos[[#This Row],[Formula]])","v":"=+' '!D1175"},{"$f":"+' '!D1175","v":0}]
["Tasa Mínima",{"$f":"' '!$C$2546","v":0},{"$f":"Formula_Local(Campos_Ingreso_Datos[[#This Row],[Vinculo]])","v":"=' '!$C$2546"},"#,##0","","",{"$f":"Formula_Local(Campos_Ingreso_Datos[[#This Row],[Formula]])","v":"=+' '!D1178"},{"$f":"+' '!D1178","v":0}]
["Tasa Mínima",{"$f":"' '!$C$2547","v":0},{"$f":"Formula_Local(Campos_Ingreso_Datos[[#This Row],[Vinculo]])","v":"=' '!$C$2547"},"#,##0","","",{"$f":"Formula_Local(Campos_Ingreso_Datos[[#This Row],[Formula]])","v":"=+' '!D1181"},{"$f":"+' '!D1181","v":0}]
["Tasa Mínima",{"$f":"' '!$C$2548","v":0},{"$f":"Formula_Local(Campos_Ingreso_Datos[[#This Row],[Vinculo]])","v":"=' '!$C$2548"},"#,##0","","",{"$f":"Formula_Local(Campos_Ingreso_Datos[[#This Row],[Formula]])","v":"=+' '!D1184"},{"$f":"+' '!D1184","v":0}]
["Tasa Mínima",{"$f":"' '!$C$2549","v":0},{"$f":"Formula_Local(Campos_Ingreso_Datos[[#This Row],[Vinculo]])","v":"=' '!$C$2549"},"#,##0","","",{"$f":"Formula_Local(Campos_Ingreso_Datos[[#This Row],[Formula]])","v":"=+' '!D1187"},{"$f":"+' '!D1187","v":0}]
["Tasa Mínima",{"$f":"' '!$C$2550","v":0},{"$f":"Formula_Local(Campos_Ingreso_Datos[[#This Row],[Vinculo]])","v":"=' '!$C$2550"},"#,##0","","",{"$f":"Formula_Local(Campos_Ingreso_Datos[[#This Row],[Formula]])","v":"=+' '!D1190"},{"$f":"+' '!D1190","v":0}]
["Tasa Mínima",{"$f":"' '!$C$2551","v":0},{"$f":"Formula_Local(Campos_Ingreso_Datos[[#This Row],[Vinculo]])","v":"=' '!$C$2551"},"#,##0","","",{"$f":"Formula_Local(Campos_Ingreso_Datos[[#This Row],[Formula]])","v":"=+' '!D1193"},{"$f":"+' '!D1193","v":0}]
["Tasa Mínima",{"$f":"' '!$C$2552","v":0},{"$f":"Formula_Local(Campos_Ingreso_Datos[[#This Row],[Vinculo]])","v":"=' '!$C$2552"},"#,##0","","",{"$f":"Formula_Local(Campos_Ingreso_Datos[[#This Row],[Formula]])","v":"=+' '!D1196"},{"$f":"+' '!D1196","v":0}]
["Tasa Mínima",{"$f":"' '!$C$2553","v":0},{"$f":"Formula_Local(Campos_Ingreso_Datos[[#This Row],[Vinculo]])","v":"=' '!$C$2553"},"#,##0","","",{"$f":"Formula_Local(Campos_Ingreso_Datos[[#This Row],[Formula]])","v":"=+' '!D1199"},{"$f":"+' '!D1199","v":0}]
["Tasa Mínima",{"$f":"' '!$C$2554","v":0},{"$f":"Formula_Local(Campos_Ingreso_Datos[[#This Row],[Vinculo]])","v":"=' '!$C$2554"},"#,##0","","",{"$f":"Formula_Local(Campos_Ingreso_Datos[[#This Row],[Formula]])","v":"=+' '!D1202"},{"$f":"+' '!D1202","v":0}]
["Tasa Mínima",{"$f":"' '!$C$2556","v":0},{"$f":"Formula_Local(Campos_Ingreso_Datos[[#This Row],[Vinculo]])","v":"=' '!$C$2556"},"#,##0","","",{"$f":"Formula_Local(Campos_Ingreso_Datos[[#This Row],[Formula]])","v":"=+' '!D1210"},{"$f":"+' '!D1210","v":0}]
["Tasa Mínima",{"$f":"' '!$C$2557","v":0},{"$f":"Formula_Local(Campos_Ingreso_Datos[[#This Row],[Vinculo]])","v":"=' '!$C$2557"},"#,##0","","",{"$f":"Formula_Local(Campos_Ingreso_Datos[[#This Row],[Formula]])","v":"=+' '!D1213"},{"$f":"+' '!D1213","v":0}]
["Tasa Mínima",{"$f":"' '!$C$2558","v":0},{"$f":"Formula_Local(Campos_Ingreso_Datos[[#This Row],[Vinculo]])","v":"=' '!$C$2558"},"#,##0","","",{"$f":"Formula_Local(Campos_Ingreso_Datos[[#This Row],[Formula]])","v":"=+' '!D1216"},{"$f":"+' '!D1216","v":0}]
["Tasa Mínima",{"$f":"' '!$C$2559","v":0},{"$f":"Formula_Local(Campos_Ingreso_Datos[[#This Row],[Vinculo]])","v":"=' '!$C$2559"},"#,##0","","",{"$f":"Formula_Local(Campos_Ingreso_Datos[[#This Row],[Formula]])","v":"=+' '!D1219"},{"$f":"+' '!D1219","v":0}]
["Tasa Mínima",{"$f":"' '!$C$2561","v":0},{"$f":"Formula_Local(Campos_Ingreso_Datos[[#This Row],[Vinculo]])","v":"=' '!$C$2561"},"#,##0","","",{"$f":"Formula_Local(Campos_Ingreso_Datos[[#This Row],[Formula]])","v":"=+' '!D1227"},{"$f":"+' '!D1227","v":0}]
["Tasa Mínima",{"$f":"' '!$C$2562","v":0},{"$f":"Formula_Local(Campos_Ingreso_Datos[[#This Row],[Vinculo]])","v":"=' '!$C$2562"},"#,##0","","",{"$f":"Formula_Local(Campos_Ingreso_Datos[[#This Row],[Formula]])","v":"=+' '!D1230"},{"$f":"+' '!D1230","v":0}]
["Tasa Mínima",{"$f":"' '!$C$2563","v":0},{"$f":"Formula_Local(Campos_Ingreso_Datos[[#This Row],[Vinculo]])","v":"=' '!$C$2563"},"#,##0","","",{"$f":"Formula_Local(Campos_Ingreso_Datos[[#This Row],[Formula]])","v":"=+' '!D1233"},{"$f":"+' '!D1233","v":0}]
["Tasa Mínima",{"$f":"' '!$C$2564","v":0},{"$f":"Formula_Local(Campos_Ingreso_Datos[[#This Row],[Vinculo]])","v":"=' '!$C$2564"},"#,##0","","",{"$f":"Formula_Local(Campos_Ingreso_Datos[[#This Row],[Formula]])","v":"=+' '!D1236"},{"$f":"+' '!D1236","v":0}]
["Tasa Mínima",{"$f":"' '!$C$2565","v":0},{"$f":"Formula_Local(Campos_Ingreso_Datos[[#This Row],[Vinculo]])","v":"=' '!$C$2565"},"#,##0","","",{"$f":"Formula_Local(Campos_Ingreso_Datos[[#This Row],[Formula]])","v":"=+' '!D1239"},{"$f":"+' '!D1239","v":0}]
["Tasa Mínima",{"$f":"' '!$C$2566","v":0},{"$f":"Formula_Local(Campos_Ingreso_Datos[[#This Row],[Vinculo]])","v":"=' '!$C$2566"},"#,##0","","",{"$f":"Formula_Local(Campos_Ingreso_Datos[[#This Row],[Formula]])","v":"=+' '!D1242"},{"$f":"+' '!D1242","v":0}]
["Tasa Mínima",{"$f":"' '!$C$2567","v":0},{"$f":"Formula_Local(Campos_Ingreso_Datos[[#This Row],[Vinculo]])","v":"=' '!$C$2567"},"#,##0","","",{"$f":"Formula_Local(Campos_Ingreso_Datos[[#This Row],[Formula]])","v":"=+' '!D1245"},{"$f":"+' '!D1245","v":0}]
["Tasa Mínima",{"$f":"' '!$C$2569","v":0},{"$f":"Formula_Local(Campos_Ingreso_Datos[[#This Row],[Vinculo]])","v":"=' '!$C$2569"},"#,##0","","",{"$f":"Formula_Local(Campos_Ingreso_Datos[[#This Row],[Formula]])","v":"=+' '!D1264"},{"$f":"+' '!D1264","v":0}]
["Tasa Mínima",{"$f":"' '!$C$2570","v":0},{"$f":"Formula_Local(Campos_Ingreso_Datos[[#This Row],[Vinculo]])","v":"=' '!$C$2570"},"#,##0","","",{"$f":"Formula_Local(Campos_Ingreso_Datos[[#This Row],[Formula]])","v":"=+' '!D1267"},{"$f":"+' '!D1267","v":0}]
["Tasa Mínima",{"$f":"' '!$C$2571","v":0},{"$f":"Formula_Local(Campos_Ingreso_Datos[[#This Row],[Vinculo]])","v":"=' '!$C$2571"},"#,##0","","",{"$f":"Formula_Local(Campos_Ingreso_Datos[[#This Row],[Formula]])","v":"=+' '!D1270"},{"$f":"+' '!D1270","v":0}]
["Tasa Mínima",{"$f":"' '!$C$2572","v":0},{"$f":"Formula_Local(Campos_Ingreso_Datos[[#This Row],[Vinculo]])","v":"=' '!$C$2572"},"#,##0","","",{"$f":"Formula_Local(Campos_Ingreso_Datos[[#This Row],[Formula]])","v":"=+' '!D1273"},{"$f":"+' '!D1273","v":0}]
["Tasa Mínima",{"$f":"' '!$C$2573","v":0},{"$f":"Formula_Local(Campos_Ingreso_Datos[[#This Row],[Vinculo]])","v":"=' '!$C$2573"},"#,##0","","",{"$f":"Formula_Local(Campos_Ingreso_Datos[[#This Row],[Formula]])","v":"=+' '!D1276"},{"$f":"+' '!D1276","v":0}]
["Tasa Mínima",{"$f":"' '!$C$2574","v":0},{"$f":"Formula_Local(Campos_Ingreso_Datos[[#This Row],[Vinculo]])","v":"=' '!$C$2574"},"#,##0","","",{"$f":"Formula_Local(Campos_Ingreso_Datos[[#This Row],[Formula]])","v":"=+' '!D1279"},{"$f":"+' '!D1279","v":0}]
["Tasa Mínima",{"$f":"' '!$C$2575","v":0},{"$f":"Formula_Local(Campos_Ingreso_Datos[[#This Row],[Vinculo]])","v":"=' '!$C$2575"},"#,##0","","",{"$f":"Formula_Local(Campos_Ingreso_Datos[[#This Row],[Formula]])","v":"=+' '!D1282"},{"$f":"+' '!D1282","v":0}]
["Tasa Mínima",{"$f":"' '!$C$2577","v":0},{"$f":"Formula_Local(Campos_Ingreso_Datos[[#This Row],[Vinculo]])","v":"=' '!$C$2577"},"#,##0","","",{"$f":"Formula_Local(Campos_Ingreso_Datos[[#This Row],[Formula]])","v":"=+' '!D1304"},{"$f":"+' '!D1304","v":0}]
["Tasa Mínima",{"$f":"' '!$C$2578","v":0},{"$f":"Formula_Local(Campos_Ingreso_Datos[[#This Row],[Vinculo]])","v":"=' '!$C$2578"},"#,##0","","",{"$f":"Formula_Local(Campos_Ingreso_Datos[[#This Row],[Formula]])","v":"=+' '!D1307"},{"$f":"+' '!D1307","v":0}]
["Tasa Mínima",{"$f":"' '!$C$2579","v":0},{"$f":"Formula_Local(Campos_Ingreso_Datos[[#This Row],[Vinculo]])","v":"=' '!$C$2579"},"#,##0","","",{"$f":"Formula_Local(Campos_Ingreso_Datos[[#This Row],[Formula]])","v":"=+' '!D1310"},{"$f":"+' '!D1310","v":0}]
["Tasa Mínima",{"$f":"' '!$C$2580","v":0},{"$f":"Formula_Local(Campos_Ingreso_Datos[[#This Row],[Vinculo]])","v":"=' '!$C$2580"},"#,##0","","",{"$f":"Formula_Local(Campos_Ingreso_Datos[[#This Row],[Formula]])","v":"=+' '!D1313"},{"$f":"+' '!D1313","v":0}]
["Tasa Mínima",{"$f":"' '!$C$2581","v":0},{"$f":"Formula_Local(Campos_Ingreso_Datos[[#This Row],[Vinculo]])","v":"=' '!$C$2581"},"#,##0","","",{"$f":"Formula_Local(Campos_Ingreso_Datos[[#This Row],[Formula]])","v":"=+' '!D1316"},{"$f":"+' '!D1316","v":0}]
["Tasa Mínima",{"$f":"' '!$C$2583","v":0},{"$f":"Formula_Local(Campos_Ingreso_Datos[[#This Row],[Vinculo]])","v":"=' '!$C$2583"},"#,##0","","",{"$f":"Formula_Local(Campos_Ingreso_Datos[[#This Row],[Formula]])","v":"=+' '!D1335"},{"$f":"+' '!D1335","v":0}]
["Tasa Mínima",{"$f":"' '!$C$2584","v":0},{"$f":"Formula_Local(Campos_Ingreso_Datos[[#This Row],[Vinculo]])","v":"=' '!$C$2584"},"#,##0","","",{"$f":"Formula_Local(Campos_Ingreso_Datos[[#This Row],[Formula]])","v":"=+' '!D1338"},{"$f":"+' '!D1338","v":0}]
["Tasa Mínima",{"$f":"' '!$C$2585","v":0},{"$f":"Formula_Local(Campos_Ingreso_Datos[[#This Row],[Vinculo]])","v":"=' '!$C$2585"},"#,##0","","",{"$f":"Formula_Local(Campos_Ingreso_Datos[[#This Row],[Formula]])","v":"=+' '!D1341"},{"$f":"+' '!D1341","v":0}]
["Tasa Mínima",{"$f":"' '!$C$2586","v":0},{"$f":"Formula_Local(Campos_Ingreso_Datos[[#This Row],[Vinculo]])","v":"=' '!$C$2586"},"#,##0","","",{"$f":"Formula_Local(Campos_Ingreso_Datos[[#This Row],[Formula]])","v":"=+' '!D1344"},{"$f":"+' '!D1344","v":0}]
["Tasa Mínima",{"$f":"' '!$C$2587","v":0},{"$f":"Formula_Local(Campos_Ingreso_Datos[[#This Row],[Vinculo]])","v":"=' '!$C$2587"},"#,##0","","",{"$f":"Formula_Local(Campos_Ingreso_Datos[[#This Row],[Formula]])","v":"=+' '!D1347"},{"$f":"+' '!D1347","v":0}]
["Tasa Mínima",{"$f":"' '!$C$2588","v":0},{"$f":"Formula_Local(Campos_Ingreso_Datos[[#This Row],[Vinculo]])","v":"=' '!$C$2588"},"#,##0","","",{"$f":"Formula_Local(Campos_Ingreso_Datos[[#This Row],[Formula]])","v":"=+' '!D1350"},{"$f":"+' '!D1350","v":0}]
["Tasa Mínima",{"$f":"' '!$C$2589","v":0},{"$f":"Formula_Local(Campos_Ingreso_Datos[[#This Row],[Vinculo]])","v":"=' '!$C$2589"},"#,##0","","",{"$f":"Formula_Local(Campos_Ingreso_Datos[[#This Row],[Formula]])","v":"=+' '!D1353"},{"$f":"+' '!D1353","v":0}]
["Tasa Mínima",{"$f":"' '!$C$2590","v":0},{"$f":"Formula_Local(Campos_Ingreso_Datos[[#This Row],[Vinculo]])","v":"=' '!$C$2590"},"#,##0","","",{"$f":"Formula_Local(Campos_Ingreso_Datos[[#This Row],[Formula]])","v":"=+' '!D1356"},{"$f":"+' '!D1356","v":0}]
["Tasa Mínima",{"$f":"' '!$C$2592","v":0},{"$f":"Formula_Local(Campos_Ingreso_Datos[[#This Row],[Vinculo]])","v":"=' '!$C$2592"},"#,##0","","",{"$f":"Formula_Local(Campos_Ingreso_Datos[[#This Row],[Formula]])","v":"=+' '!D1431"},{"$f":"+' '!D1431","v":0}]
["Tasa Mínima",{"$f":"' '!$C$2593","v":0},{"$f":"Formula_Local(Campos_Ingreso_Datos[[#This Row],[Vinculo]])","v":"=' '!$C$2593"},"#,##0","","",{"$f":"Formula_Local(Campos_Ingreso_Datos[[#This Row],[Formula]])","v":"=+' '!D1468"},{"$f":"+' '!D1468","v":0}]
["Tasa Mínima",{"$f":"' '!$C$2594","v":0},{"$f":"Formula_Local(Campos_Ingreso_Datos[[#This Row],[Vinculo]])","v":"=' '!$C$2594"},"#,##0","","",{"$f":"Formula_Local(Campos_Ingreso_Datos[[#This Row],[Formula]])","v":"=+' '!D1485"},{"$f":"+' '!D1485","v":0}]
["Tasa Mínima",{"$f":"' '!$C$2595","v":0},{"$f":"Formula_Local(Campos_Ingreso_Datos[[#This Row],[Vinculo]])","v":"=' '!$C$2595"},"#,##0","","",{"$f":"Formula_Local(Campos_Ingreso_Datos[[#This Row],[Formula]])","v":"=+' '!D1502"},{"$f":"+' '!D1502","v":0}]
["Tasa Mínima",{"$f":"' '!$C$2599","v":0},{"$f":"Formula_Local(Campos_Ingreso_Datos[[#This Row],[Vinculo]])","v":"=' '!$C$2599"},"#,##0","","",{"$f":"Formula_Local(Campos_Ingreso_Datos[[#This Row],[Formula]])","v":"=+' '!D1061"},{"$f":"+' '!D1061","v":0}]
["Tasa Mínima",{"$f":"' '!$C$2600","v":0},{"$f":"Formula_Local(Campos_Ingreso_Datos[[#This Row],[Vinculo]])","v":"=' '!$C$2600"},"#,##0","","",{"$f":"Formula_Local(Campos_Ingreso_Datos[[#This Row],[Formula]])","v":"=+' '!D1064"},{"$f":"+' '!D1064","v":0}]
["Tasa Mínima",{"$f":"' '!$C$2601","v":0},{"$f":"Formula_Local(Campos_Ingreso_Datos[[#This Row],[Vinculo]])","v":"=' '!$C$2601"},"#,##0","","",{"$f":"Formula_Local(Campos_Ingreso_Datos[[#This Row],[Formula]])","v":"=+' '!D1067"},{"$f":"+' '!D1067","v":0}]
["Tasa Mínima",{"$f":"' '!$C$2605","v":0},{"$f":"Formula_Local(Campos_Ingreso_Datos[[#This Row],[Vinculo]])","v":"=' '!$C$2605"},"#,##0","",""]
["Tasa Mínima",{"$f":"' '!$C$2606","v":0},{"$f":"Formula_Local(Campos_Ingreso_Datos[[#This Row],[Vinculo]])","v":"=' '!$C$2606"},"#,##0","","",{"$f":"Formula_Local(Campos_Ingreso_Datos[[#This Row],[Formula]])","v":"=+' '!D1618"},{"$f":"+' '!D1618","v":0}]
["Tasa Mínima",{"$f":"' '!$C$2607","v":0},{"$f":"Formula_Local(Campos_Ingreso_Datos[[#This Row],[Vinculo]])","v":"=' '!$C$2607"},"#,##0","","",{"$f":"Formula_Local(Campos_Ingreso_Datos[[#This Row],[Formula]])","v":"=+' '!D1695"},{"$f":"+' '!D1695","v":0}]
["Tasa Mínima",{"$f":"' '!$C$2608","v":0},{"$f":"Formula_Local(Campos_Ingreso_Datos[[#This Row],[Vinculo]])","v":"=' '!$C$2608"},"#,##0","","",{"$f":"Formula_Local(Campos_Ingreso_Datos[[#This Row],[Formula]])","v":"=+' '!D1739+' '!D1768+' '!D1460"},{"$f":"+' '!D1739+' '!D1768+' '!D1460","v":0}]
["Tasa Mínima",{"$f":"' '!$C$2612","v":0},{"$f":"Formula_Local(Campos_Ingreso_Datos[[#This Row],[Vinculo]])","v":"=' '!$C$2612"},"#,##0","","",{"$f":"Formula_Local(Campos_Ingreso_Datos[[#This Row],[Formula]])","v":"=+' '!D1802"},{"$f":"+' '!D1802","v":0}]
["Tasa Mínima",{"$f":"' '!$C$2613","v":0},{"$f":"Formula_Local(Campos_Ingreso_Datos[[#This Row],[Vinculo]])","v":"=' '!$C$2613"},"#,##0","","",{"$f":"Formula_Local(Campos_Ingreso_Datos[[#This Row],[Formula]])","v":"=+' '!D1867"},{"$f":"+' '!D1867","v":0}]
["Tasa Mínima",{"$f":"' '!$C$2614","v":0},{"$f":"Formula_Local(Campos_Ingreso_Datos[[#This Row],[Vinculo]])","v":"=' '!$C$2614"},"#,##0","","",{"$f":"Formula_Local(Campos_Ingreso_Datos[[#This Row],[Formula]])","v":"=+' '!D1944"},{"$f":"+' '!D1944","v":0}]
["Tasa Mínima",{"$f":"' '!$C$2615","v":0},{"$f":"Formula_Local(Campos_Ingreso_Datos[[#This Row],[Vinculo]])","v":"=' '!$C$2615"},"#,##0","","",{"$f":"Formula_Local(Campos_Ingreso_Datos[[#This Row],[Formula]])","v":"=+' '!D1961"},{"$f":"+' '!D1961","v":0}]
["Tasa Mínima",{"$f":"' '!$C$2616","v":0},{"$f":"Formula_Local(Campos_Ingreso_Datos[[#This Row],[Vinculo]])","v":"=' '!$C$2616"},"#,##0","","",{"$f":"Formula_Local(Campos_Ingreso_Datos[[#This Row],[Formula]])","v":"=+' '!D2035"},{"$f":"+' '!D2035","v":0}]
["Tasa Mínima",{"$f":"' '!$C$2617","v":0},{"$f":"Formula_Local(Campos_Ingreso_Datos[[#This Row],[Vinculo]])","v":"=' '!$C$2617"},"#,##0","","",{"$f":"Formula_Local(Campos_Ingreso_Datos[[#This Row],[Formula]])","v":"=+' '!D2112"},{"$f":"+' '!D2112","v":0}]
["Tasa Mínima",{"$f":"' '!$C$2618","v":0},{"$f":"Formula_Local(Campos_Ingreso_Datos[[#This Row],[Vinculo]])","v":"=' '!$C$2618"},"#,##0","","",{"$f":"Formula_Local(Campos_Ingreso_Datos[[#This Row],[Formula]])","v":"=+' '!D2152"},{"$f":"+' '!D2152","v":0}]
["Tasa Mínima",{"$f":"' '!$C$2619","v":0},{"$f":"Formula_Local(Campos_Ingreso_Datos[[#This Row],[Vinculo]])","v":"=' '!$C$2619"},"#,##0","","",{"$f":"Formula_Local(Campos_Ingreso_Datos[[#This Row],[Formula]])","v":"=+' '!D2247"},{"$f":"+' '!D2247","v":0}]
["Tasa Mínima",{"$f":"' '!$C$2628","v":0},{"$f":"Formula_Local(Campos_Ingreso_Datos[[#This Row],[Vinculo]])","v":"=' '!$C$2628"},"#,##0","","",{"$f":"Formula_Local(Campos_Ingreso_Datos[[#This Row],[Formula]])","v":"=+' '!H1078"},{"$f":"+' '!H1078","v":0}]
["Tasa Mínima",{"$f":"' '!$E$2628","v":0},{"$f":"Formula_Local(Campos_Ingreso_Datos[[#This Row],[Vinculo]])","v":"=' '!$E$2628"},"#,##0","",""]
["Tasa Mínima",{"$f":"' '!$C$2629","v":0},{"$f":"Formula_Local(Campos_Ingreso_Datos[[#This Row],[Vinculo]])","v":"=' '!$C$2629"},"#,##0","","",{"$f":"Formula_Local(Campos_Ingreso_Datos[[#This Row],[Formula]])","v":"=+' '!H1115"},{"$f":"+' '!H1115","v":0}]
["Tasa Mínima",{"$f":"' '!$E$2629","v":0},{"$f":"Formula_Local(Campos_Ingreso_Datos[[#This Row],[Vinculo]])","v":"=' '!$E$2629"},"#,##0","",""]
["Tasa Mínima",{"$f":"' '!$C$2630","v":0},{"$f":"Formula_Local(Campos_Ingreso_Datos[[#This Row],[Vinculo]])","v":"=' '!$C$2630"},"#,##0","","",{"$f":"Formula_Local(Campos_Ingreso_Datos[[#This Row],[Formula]])","v":"=+' '!H1161"},{"$f":"+' '!H1161","v":0}]
["Tasa Mínima",{"$f":"' '!$E$2630","v":0},{"$f":"Formula_Local(Campos_Ingreso_Datos[[#This Row],[Vinculo]])","v":"=' '!$E$2630"},"#,##0","",""]
["Tasa Mínima",{"$f":"' '!$C$2631","v":0},{"$f":"Formula_Local(Campos_Ingreso_Datos[[#This Row],[Vinculo]])","v":"=' '!$C$2631"},"#,##0","","",{"$f":"Formula_Local(Campos_Ingreso_Datos[[#This Row],[Formula]])","v":"=+' '!H1327"},{"$f":"+' '!H1327","v":0}]
["Tasa Mínima",{"$f":"' '!$E$2631","v":0},{"$f":"Formula_Local(Campos_Ingreso_Datos[[#This Row],[Vinculo]])","v":"=' '!$E$2631"},"#,##0","",""]
["Tasa Mínima",{"$f":"' '!$C$2635","v":0},{"$f":"Formula_Local(Campos_Ingreso_Datos[[#This Row],[Vinculo]])","v":"=' '!$C$2635"},"#,##0","",""]
["Tasa Mínima",{"$f":"' '!$E$2635","v":0},{"$f":"Formula_Local(Campos_Ingreso_Datos[[#This Row],[Vinculo]])","v":"=' '!$E$2635"},"#,##0","",""]
["Tasa Mínima",{"$f":"' '!$C$2636","v":0},{"$f":"Formula_Local(Campos_Ingreso_Datos[[#This Row],[Vinculo]])","v":"=' '!$C$2636"},"#,##0","",""]
["Tasa Mínima",{"$f":"' '!$E$2636","v":0},{"$f":"Formula_Local(Campos_Ingreso_Datos[[#This Row],[Vinculo]])","v":"=' '!$E$2636"},"#,##0","",""]
["Tasa Mínima",{"$f":"' '!$C$2637","v":0},{"$f":"Formula_Local(Campos_Ingreso_Datos[[#This Row],[Vinculo]])","v":"=' '!$C$2637"},"#,##0","",""]
["Tasa Mínima",{"$f":"' '!$E$2637","v":0},{"$f":"Formula_Local(Campos_Ingreso_Datos[[#This Row],[Vinculo]])","v":"=' '!$E$2637"},"#,##0","",""]
["Tasa Mínima",{"$f":"' '!$C$2638","v":0},{"$f":"Formula_Local(Campos_Ingreso_Datos[[#This Row],[Vinculo]])","v":"=' '!$C$2638"},"#,##0","",""]
["Tasa Mínima",{"$f":"' '!$E$2638","v":0},{"$f":"Formula_Local(Campos_Ingreso_Datos[[#This Row],[Vinculo]])","v":"=' '!$E$2638"},"#,##0","",""]
["Tasa Mínima",{"$f":"' '!$C$2639","v":0},{"$f":"Formula_Local(Campos_Ingreso_Datos[[#This Row],[Vinculo]])","v":"=' '!$C$2639"},"#,##0","",""]
["Tasa Mínima",{"$f":"' '!$E$2639","v":0},{"$f":"Formula_Local(Campos_Ingreso_Datos[[#This Row],[Vinculo]])","v":"=' '!$E$2639"},"#,##0","",""]
["Tasa Mínima",{"$f":"' '!$C$2646","v":0},{"$f":"Formula_Local(Campos_Ingreso_Datos[[#This Row],[Vinculo]])","v":"=' '!$C$2646"},"#,##0","","",{"$f":"Formula_Local(Campos_Ingreso_Datos[[#This Row],[Formula]])","v":"=SI((' '!H1431-' '!H1460)>0;(' '!H1431-' '!H1460);0)"},{"$f":"IF((' '!H1431-' '!H1460)>0,(' '!H1431-' '!H1460),0)","v":0}]
["Tasa Mínima",{"$f":"' '!$E$2646","v":0},{"$f":"Formula_Local(Campos_Ingreso_Datos[[#This Row],[Vinculo]])","v":"=' '!$E$2646"},"#,##0","",""]
["Tasa Mínima",{"$f":"' '!$C$2647","v":0},{"$f":"Formula_Local(Campos_Ingreso_Datos[[#This Row],[Vinculo]])","v":"=' '!$C$2647"},"#,##0","","",{"$f":"Formula_Local(Campos_Ingreso_Datos[[#This Row],[Formula]])","v":"=+' '!H1468"},{"$f":"+' '!H1468","v":0}]
["Tasa Mínima",{"$f":"' '!$E$2647","v":0},{"$f":"Formula_Local(Campos_Ingreso_Datos[[#This Row],[Vinculo]])","v":"=' '!$E$2647"},"#,##0","",""]
["Tasa Mínima",{"$f":"' '!$C$2648","v":0},{"$f":"Formula_Local(Campos_Ingreso_Datos[[#This Row],[Vinculo]])","v":"=' '!$C$2648"},"#,##0","","",{"$f":"Formula_Local(Campos_Ingreso_Datos[[#This Row],[Formula]])","v":"=+' '!H1485"},{"$f":"+' '!H1485","v":0}]
["Tasa Mínima",{"$f":"' '!$E$2648","v":0},{"$f":"Formula_Local(Campos_Ingreso_Datos[[#This Row],[Vinculo]])","v":"=' '!$E$2648"},"#,##0","",""]
["Tasa Mínima",{"$f":"' '!$C$2649","v":0},{"$f":"Formula_Local(Campos_Ingreso_Datos[[#This Row],[Vinculo]])","v":"=' '!$C$2649"},"#,##0","","",{"$f":"Formula_Local(Campos_Ingreso_Datos[[#This Row],[Formula]])","v":"=+' '!H1502"},{"$f":"+' '!H1502","v":0}]
["Tasa Mínima",{"$f":"' '!$E$2649","v":0},{"$f":"Formula_Local(Campos_Ingreso_Datos[[#This Row],[Vinculo]])","v":"=' '!$E$2649"},"#,##0","",""]
["Tasa Mínima",{"$f":"' '!$E$2653","v":0},{"$f":"Formula_Local(Campos_Ingreso_Datos[[#This Row],[Vinculo]])","v":"=' '!$E$2653"},"#,##0","",""]
["Tasa Mínima",{"$f":"' '!$E$2663","v":0},{"$f":"Formula_Local(Campos_Ingreso_Datos[[#This Row],[Vinculo]])","v":"=' '!$E$2663"},"#,##0","",""]
["Tasa Mínima",{"$f":"' '!$E$2670","v":0},{"$f":"Formula_Local(Campos_Ingreso_Datos[[#This Row],[Vinculo]])","v":"=' '!$E$2670"},"#,##0","","",{"$f":"Formula_Local(Campos_Ingreso_Datos[[#This Row],[Formula]])","v":"=+C2669"},{"$f":"+C2669","v":0}]
["Tasa Mínima",{"$f":"' '!$C$2672","v":0},{"$f":"Formula_Local(Campos_Ingreso_Datos[[#This Row],[Vinculo]])","v":"=' '!$C$2672"},"#,##0","","",{"$f":"Formula_Local(Campos_Ingreso_Datos[[#This Row],[Formula]])","v":"=+' '!C2271"},{"$f":"+' '!C2271","v":0}]
["Tasa Mínima",{"$f":"' '!$E$2672","v":0},{"$f":"Formula_Local(Campos_Ingreso_Datos[[#This Row],[Vinculo]])","v":"=' '!$E$2672"},"#,##0","",""]
["Tasa Mínima",{"$f":"' '!$C$2673","v":0},{"$f":"Formula_Local(Campos_Ingreso_Datos[[#This Row],[Vinculo]])","v":"=' '!$C$2673"},"#,##0","","",{"$f":"Formula_Local(Campos_Ingreso_Datos[[#This Row],[Formula]])","v":"=+' '!C2280"},{"$f":"+' '!C2280","v":0}]
["Tasa Mínima",{"$f":"' '!$E$2673","v":0},{"$f":"Formula_Local(Campos_Ingreso_Datos[[#This Row],[Vinculo]])","v":"=' '!$E$2673"},"#,##0","",""]
["Tasa Mínima",{"$f":"' '!$E$2677","v":0},{"$f":"Formula_Local(Campos_Ingreso_Datos[[#This Row],[Vinculo]])","v":"=' '!$E$2677"},"#,##0","",""]
["Tasa Mínima",{"$f":"' '!$E$2678","v":0},{"$f":"Formula_Local(Campos_Ingreso_Datos[[#This Row],[Vinculo]])","v":"=' '!$E$2678"},"#,##0","",""]
["Tasa Mínima",{"$f":"' '!$E$2679","v":0},{"$f":"Formula_Local(Campos_Ingreso_Datos[[#This Row],[Vinculo]])","v":"=' '!$E$2679"},"#,##0","",""]
["Tasa Mínima",{"$f":"' '!$C$2683","v":0},{"$f":"Formula_Local(Campos_Ingreso_Datos[[#This Row],[Vinculo]])","v":"=' '!$C$2683"},"#,##0","",""]
["Tasa Mínima",{"$f":"' '!$E$2683","v":0},{"$f":"Formula_Local(Campos_Ingreso_Datos[[#This Row],[Vinculo]])","v":"=' '!$E$2683"},"#,##0","",""]
["Tasa Mínima",{"$f":"' '!$C$2684","v":0},{"$f":"Formula_Local(Campos_Ingreso_Datos[[#This Row],[Vinculo]])","v":"=' '!$C$2684"},"#,##0","","",{"$f":"Formula_Local(Campos_Ingreso_Datos[[#This Row],[Formula]])","v":"=+' '!H2307"},{"$f":"+' '!H2307","v":0}]
["Tasa Mínima",{"$f":"' '!$E$2684","v":0},{"$f":"Formula_Local(Campos_Ingreso_Datos[[#This Row],[Vinculo]])","v":"=' '!$E$2684"},"#,##0","",""]
["Tasa Mínima",{"$f":"' '!$C$2685","v":0},{"$f":"Formula_Local(Campos_Ingreso_Datos[[#This Row],[Vinculo]])","v":"=' '!$C$2685"},"#,##0","","",{"$f":"Formula_Local(Campos_Ingreso_Datos[[#This Row],[Formula]])","v":"=+' '!H2327"},{"$f":"+' '!H2327","v":0}]
["Tasa Mínima",{"$f":"' '!$E$2685","v":0},{"$f":"Formula_Local(Campos_Ingreso_Datos[[#This Row],[Vinculo]])","v":"=' '!$E$2685"},"#,##0","",""]
["Tasa Mínima",{"$f":"' '!$C$2686","v":0},{"$f":"Formula_Local(Campos_Ingreso_Datos[[#This Row],[Vinculo]])","v":"=' '!$C$2686"},"#,##0","","",{"$f":"Formula_Local(Campos_Ingreso_Datos[[#This Row],[Formula]])","v":"=+' '!H2347"},{"$f":"+' '!H2347","v":0}]
["Tasa Mínima",{"$f":"' '!$E$2686","v":0},{"$f":"Formula_Local(Campos_Ingreso_Datos[[#This Row],[Vinculo]])","v":"=' '!$E$2686"},"#,##0","",""]
["Tasa Mínima",{"$f":"' '!$C$2690","v":0},{"$f":"Formula_Local(Campos_Ingreso_Datos[[#This Row],[Vinculo]])","v":"=' '!$C$2690"},"#,##0","","",{"$f":"Formula_Local(Campos_Ingreso_Datos[[#This Row],[Formula]])","v":"=+' '!H1367"},{"$f":"+' '!H1367","v":0}]
["Tasa Mínima",{"$f":"' '!$E$2690","v":0},{"$f":"Formula_Local(Campos_Ingreso_Datos[[#This Row],[Vinculo]])","v":"=' '!$E$2690"},"#,##0","",""]
["Tasa Mínima",{"$f":"' '!$C$2691","v":0},{"$f":"Formula_Local(Campos_Ingreso_Datos[[#This Row],[Vinculo]])","v":"=' '!$C$2691"},"#,##0","","",{"$f":"Formula_Local(Campos_Ingreso_Datos[[#This Row],[Formula]])","v":"=+' '!H1370"},{"$f":"+' '!H1370","v":0}]
["Tasa Mínima",{"$f":"' '!$E$2691","v":0},{"$f":"Formula_Local(Campos_Ingreso_Datos[[#This Row],[Vinculo]])","v":"=' '!$E$2691"},"#,##0","",""]
["Tasa Mínima",{"$f":"' '!$C$2692","v":0},{"$f":"Formula_Local(Campos_Ingreso_Datos[[#This Row],[Vinculo]])","v":"=' '!$C$2692"},"#,##0","","",{"$f":"Formula_Local(Campos_Ingreso_Datos[[#This Row],[Formula]])","v":"=+' '!H1373"},{"$f":"+' '!H1373","v":0}]
["Tasa Mínima",{"$f":"' '!$E$2692","v":0},{"$f":"Formula_Local(Campos_Ingreso_Datos[[#This Row],[Vinculo]])","v":"=' '!$E$2692"},"#,##0","",""]
["Tasa Mínima",{"$f":"' '!$C$2693","v":0},{"$f":"Formula_Local(Campos_Ingreso_Datos[[#This Row],[Vinculo]])","v":"=' '!$C$2693"},"#,##0","","",{"$f":"Formula_Local(Campos_Ingreso_Datos[[#This Row],[Formula]])","v":"=+' '!H1376"},{"$f":"+' '!H1376","v":0}]
["Tasa Mínima",{"$f":"' '!$E$2693","v":0},{"$f":"Formula_Local(Campos_Ingreso_Datos[[#This Row],[Vinculo]])","v":"=' '!$E$2693"},"#,##0","",""]
["Tasa Mínima",{"$f":"' '!$C$2694","v":0},{"$f":"Formula_Local(Campos_Ingreso_Datos[[#This Row],[Vinculo]])","v":"=' '!$C$2694"},"#,##0","","",{"$f":"Formula_Local(Campos_Ingreso_Datos[[#This Row],[Formula]])","v":"=+' '!H1379"},{"$f":"+' '!H1379","v":0}]
["Tasa Mínima",{"$f":"' '!$E$2694","v":0},{"$f":"Formula_Local(Campos_Ingreso_Datos[[#This Row],[Vinculo]])","v":"=' '!$E$2694"},"#,##0","",""]
["Tasa Mínima",{"$f":"' '!$C$2695","v":0},{"$f":"Formula_Local(Campos_Ingreso_Datos[[#This Row],[Vinculo]])","v":"=' '!$C$2695"},"#,##0","","",{"$f":"Formula_Local(Campos_Ingreso_Datos[[#This Row],[Formula]])","v":"=+' '!H1382"},{"$f":"+' '!H1382","v":0}]
["Tasa Mínima",{"$f":"' '!$E$2695","v":0},{"$f":"Formula_Local(Campos_Ingreso_Datos[[#This Row],[Vinculo]])","v":"=' '!$E$2695"},"#,##0","",""]
["Tasa Mínima",{"$f":"' '!$C$2696","v":0},{"$f":"Formula_Local(Campos_Ingreso_Datos[[#This Row],[Vinculo]])","v":"=' '!$C$2696"},"#,##0","","",{"$f":"Formula_Local(Campos_Ingreso_Datos[[#This Row],[Formula]])","v":"=+' '!H1385"},{"$f":"+' '!H1385","v":0}]
["Tasa Mínima",{"$f":"' '!$E$2696","v":0},{"$f":"Formula_Local(Campos_Ingreso_Datos[[#This Row],[Vinculo]])","v":"=' '!$E$2696"},"#,##0","",""]
["Tasa Mínima",{"$f":"' '!$C$2702","v":0},{"$f":"Formula_Local(Campos_Ingreso_Datos[[#This Row],[Vinculo]])","v":"=' '!$C$2702"},"#,##0","",""]
["Tasa Mínima",{"$f":"' '!$E$2702","v":0},{"$f":"Formula_Local(Campos_Ingreso_Datos[[#This Row],[Vinculo]])","v":"=' '!$E$2702"},"#,##0","",""]
["Tasa Mínima",{"$f":"' '!$C$2703","v":0},{"$f":"Formula_Local(Campos_Ingreso_Datos[[#This Row],[Vinculo]])","v":"=' '!$C$2703"},"#,##0","",""]
["Tasa Mínima",{"$f":"' '!$E$2703","v":0},{"$f":"Formula_Local(Campos_Ingreso_Datos[[#This Row],[Vinculo]])","v":"=' '!$E$2703"},"#,##0","",""]
["Tasa Mínima",{"$f":"' '!$C$2704","v":0},{"$f":"Formula_Local(Campos_Ingreso_Datos[[#This Row],[Vinculo]])","v":"=' '!$C$2704"},"#,##0","","",{"$f":"Formula_Local(Campos_Ingreso_Datos[[#This Row],[Formula]])","v":"=+' '!H1468"},{"$f":"+' '!H1468","v":0}]
["Tasa Mínima",{"$f":"' '!$E$2704","v":0},{"$f":"Formula_Local(Campos_Ingreso_Datos[[#This Row],[Vinculo]])","v":"=' '!$E$2704"},"#,##0","",""]
["Tasa Mínima",{"$f":"' '!$C$2705","v":0},{"$f":"Formula_Local(Campos_Ingreso_Datos[[#This Row],[Vinculo]])","v":"=' '!$C$2705"},"#,##0","","",{"$f":"Formula_Local(Campos_Ingreso_Datos[[#This Row],[Formula]])","v":"=+' '!H1502"},{"$f":"+' '!H1502","v":0}]
["Tasa Mínima",{"$f":"' '!$E$2705","v":0},{"$f":"Formula_Local(Campos_Ingreso_Datos[[#This Row],[Vinculo]])","v":"=' '!$E$2705"},"#,##0","",""]
["Tasa Mínima",{"$f":"' '!$D$2708","v":0},{"$f":"Formula_Local(Campos_Ingreso_Datos[[#This Row],[Vinculo]])","v":"=' '!$D$2708"},"#,##0","",""]
["Tasa Mínima",{"$f":"' '!$F$2708","v":0},{"$f":"Formula_Local(Campos_Ingreso_Datos[[#This Row],[Vinculo]])","v":"=' '!$F$2708"},"#,##0","","",{"$f":"Formula_Local(Campos_Ingreso_Datos[[#This Row],[Formula]])","v":"=+D2707"},{"$f":"+D2707","v":0}]
["Tasa Mínima",{"$f":"' '!$D$2709","v":0},{"$f":"Formula_Local(Campos_Ingreso_Datos[[#This Row],[Vinculo]])","v":"=' '!$D$2709"},"#,##0","","",{"$f":"Formula_Local(Campos_Ingreso_Datos[[#This Row],[Formula]])","v":"=+' '!D1516+' '!D1527"},{"$f":"+' '!D1516+' '!D1527","v":0}]
["Tasa Mínima",{"$f":"' '!$F$2709","v":0},{"$f":"Formula_Local(Campos_Ingreso_Datos[[#This Row],[Vinculo]])","v":"=' '!$F$2709"},"#,##0","","",{"$f":"Formula_Local(Campos_Ingreso_Datos[[#This Row],[Formula]])","v":"=+D2708"},{"$f":"+D2708","v":0}]
["Tasa Mínima",{"$f":"' '!$E$2717","v":0},{"$f":"Formula_Local(Campos_Ingreso_Datos[[#This Row],[Vinculo]])","v":"=' '!$E$2717"},"#,##0","",""]
["Tasa Mínima",{"$f":"' '!$E$2718","v":0},{"$f":"Formula_Local(Campos_Ingreso_Datos[[#This Row],[Vinculo]])","v":"=' '!$E$2718"},"#,##0","",""]
["Tasa Mínima",{"$f":"' '!$E$2719","v":0},{"$f":"Formula_Local(Campos_Ingreso_Datos[[#This Row],[Vinculo]])","v":"=' '!$E$2719"},"#,##0","",""]
["Sanciones",{"$f":"' '!$E$2882","v":0},{"$f":"Formula_Local(Campos_Ingreso_Datos[[#This Row],[Vinculo]])","v":"=' '!$E$2882"},"General","=Listas!$B$2:$B$3",""]
["Sanciones",{"$f":"' '!$E$2883","v":0},{"$f":"Formula_Local(Campos_Ingreso_Datos[[#This Row],[Vinculo]])","v":"=' '!$E$2883"},"General","=Listas!$B$2:$B$3",""]
["Sanciones",{"$f":"' '!$E$2884","v":0},{"$f":"Formula_Local(Campos_Ingreso_Datos[[#This Row],[Vinculo]])","v":"=' '!$E$2884"},"General","=Listas!$B$2:$B$3",""]
["Sanciones",{"$f":"' '!$E$2893","v":0},{"$f":"Formula_Local(Campos_Ingreso_Datos[[#This Row],[Vinculo]])","v":"=' '!$E$2893"},"General","=Listas!$B$2:$B$3",""]
["Sanciones",{"$f":"' '!$E$2894","v":0},{"$f":"Formula_Local(Campos_Ingreso_Datos[[#This Row],[Vinculo]])","v":"=' '!$E$2894"},"General","=Listas!$B$2:$B$3",""]
["Sanciones",{"$f":"' '!$E$2895","v":0},{"$f":"Formula_Local(Campos_Ingreso_Datos[[#This Row],[Vinculo]])","v":"=' '!$E$2895"},"General","=Listas!$B$2:$B$3",""]
["Sanciones",{"$f":"' '!$E$2896","v":0},{"$f":"Formula_Local(Campos_Ingreso_Datos[[#This Row],[Vinculo]])","v":"=' '!$E$2896"},"General","=Listas!$B$2:$B$3",""]
["Descuentos Tributarios",{"$f":"' '!$D$3016","v":0},{"$f":"Formula_Local(Campos_Ingreso_Datos[[#This Row],[Vinculo]])","v":"=' '!$D$3016"},"#,##0","",""]
["Descuentos Tributarios",{"$f":"' '!$D$3024","v":0},{"$f":"Formula_Local(Campos_Ingreso_Datos[[#This Row],[Vinculo]])","v":"=' '!$D$3024"},"#,##0","",""]
["Descuentos Tributarios",{"$f":"' '!$D$3031","v":0},{"$f":"Formula_Local(Campos_Ingreso_Datos[[#This Row],[Vinculo]])","v":"=' '!$D$3031"},"#,##0","",""]
["Descuentos Tributarios",{"$f":"' '!$D$3035","v":0},{"$f":"Formula_Local(Campos_Ingreso_Datos[[#This Row],[Vinculo]])","v":"=' '!$D$3035"},"#,##0","",""]
["Descuentos Tributarios",{"$f":"' '!$D$3039","v":0},{"$f":"Formula_Local(Campos_Ingreso_Datos[[#This Row],[Vinculo]])","v":"=' '!$D$3039"},"#,##0","",""]
["Descuentos Tributarios",{"$f":"' '!$D$3043","v":0},{"$f":"Formula_Local(Campos_Ingreso_Datos[[#This Row],[Vinculo]])","v":"=' '!$D$3043"},"#,##0","",""]
["Descuentos Tributarios",{"$f":"' '!$D$3047","v":0},{"$f":"Formula_Local(Campos_Ingreso_Datos[[#This Row],[Vinculo]])","v":"=' '!$D$3047"},"#,##0","",""]
["Descuentos Tributarios",{"$f":"' '!$D$3051","v":0},{"$f":"Formula_Local(Campos_Ingreso_Datos[[#This Row],[Vinculo]])","v":"=' '!$D$3051"},"#,##0","",""]
["Descuentos Tributarios",{"$f":"' '!$D$3055","v":0},{"$f":"Formula_Local(Campos_Ingreso_Datos[[#This Row],[Vinculo]])","v":"=' '!$D$3055"},"#,##0","",""]
["Descuentos Tributarios",{"$f":"' '!$D$3059","v":0},{"$f":"Formula_Local(Campos_Ingreso_Datos[[#This Row],[Vinculo]])","v":"=' '!$D$3059"},"#,##0","",""]
["Descuentos Tributarios",{"$f":"' '!$D$3063","v":0},{"$f":"Formula_Local(Campos_Ingreso_Datos[[#This Row],[Vinculo]])","v":"=' '!$D$3063"},"#,##0","",""]
["Descuentos Tributarios",{"$f":"' '!$D$3067","v":0},{"$f":"Formula_Local(Campos_Ingreso_Datos[[#This Row],[Vinculo]])","v":"=' '!$D$3067"},"#,##0","",""]
["Descuentos Tributarios",{"$f":"' '!$D$3071","v":0},{"$f":"Formula_Local(Campos_Ingreso_Datos[[#This Row],[Vinculo]])","v":"=' '!$D$3071"},"#,##0","",""]
["Descuentos Tributarios",{"$f":"' '!$D$3075","v":0},{"$f":"Formula_Local(Campos_Ingreso_Datos[[#This Row],[Vinculo]])","v":"=' '!$D$3075"},"#,##0","",""]
["H1 Carátula",{"$f":"' '!$X$3110","v":"N"},{"$f":"Formula_Local(Campos_Ingreso_Datos[[#This Row],[Vinculo]])","v":"=' '!$X$3110"},"General","=Listas!$G$2:$G$3","","N"]
["H1 Carátula",{"$f":"' '!$Y$3110","v":0},{"$f":"Formula_Local(Campos_Ingreso_Datos[[#This Row],[Vinculo]])","v":"=' '!$Y$3110"},"0.0%","",""]
["H1 Carátula",{"$f":"' '!$X$3111","v":"N"},{"$f":"Formula_Local(Campos_Ingreso_Datos[[#This Row],[Vinculo]])","v":"=' '!$X$3111"},"General","=Listas!$G$2:$G$3","","N"]
["H1 Carátula",{"$f":"' '!$Y$3111","v":0},{"$f":"Formula_Local(Campos_Ingreso_Datos[[#This Row],[Vinculo]])","v":"=' '!$Y$3111"},"0.0%","",""]
["H1 Carátula",{"$f":"' '!$X$3112","v":"N"},{"$f":"Formula_Local(Campos_Ingreso_Datos[[#This Row],[Vinculo]])","v":"=' '!$X$3112"},"General","=Listas!$G$2:$G$3","","N"]
["H1 Carátula",{"$f":"' '!$Y$3112","v":0},{"$f":"Formula_Local(Campos_Ingreso_Datos[[#This Row],[Vinculo]])","v":"=' '!$Y$3112"},"0.0%","",""]
["H1 Carátula",{"$f":"' '!$X$3113","v":"N"},{"$f":"Formula_Local(Campos_Ingreso_Datos[[#This Row],[Vinculo]])","v":"=' '!$X$3113"},"General","=Listas!$G$2:$G$3","","N"]
["H1 Carátula",{"$f":"' '!$Y$3113","v":0},{"$f":"Formula_Local(Campos_Ingreso_Datos[[#This Row],[Vinculo]])","v":"=' '!$Y$3113"},"0.0%","",""]
["H1 Carátula",{"$f":"' '!$X$3114","v":"N"},{"$f":"Formula_Local(Campos_Ingreso_Datos[[#This Row],[Vinculo]])","v":"=' '!$X$3114"},"General","=Listas!$G$2:$G$3","","N"]
["H1 Carátula",{"$f":"' '!$Y$3114","v":0},{"$f":"Formula_Local(Campos_Ingreso_Datos[[#This Row],[Vinculo]])","v":"=' '!$Y$3114"},"0.0%","",""]
["H1 Carátula",{"$f":"' '!$X$3115","v":"N"},{"$f":"Formula_Local(Campos_Ingreso_Datos[[#This Row],[Vinculo]])","v":"=' '!$X$3115"},"General","=Listas!$G$2:$G$3","","N"]
["H1 Carátula",{"$f":"' '!$Y$3115","v":0},{"$f":"Formula_Local(Campos_Ingreso_Datos[[#This Row],[Vinculo]])","v":"=' '!$Y$3115"},"0.0%","",""]
["H1 Carátula",{"$f":"' '!$X$3116","v":"N"},{"$f":"Formula_Local(Campos_Ingreso_Datos[[#This Row],[Vinculo]])","v":"=' '!$X$3116"},"General","=Listas!$G$2:$G$3","","N"]
["H1 Carátula",{"$f":"' '!$Y$3116","v":0},{"$f":"Formula_Local(Campos_Ingreso_Datos[[#This Row],[Vinculo]])","v":"=' '!$Y$3116"},"0.0%","",""]
["H1 Carátula",{"$f":"' '!$X$3117","v":"N"},{"$f":"Formula_Local(Campos_Ingreso_Datos[[#This Row],[Vinculo]])","v":"=' '!$X$3117"},"General","=Listas!$G$2:$G$3","","N"]
["H1 Carátula",{"$f":"' '!$Y$3117","v":0},{"$f":"Formula_Local(Campos_Ingreso_Datos[[#This Row],[Vinculo]])","v":"=' '!$Y$3117"},"0.0%","",""]
["H1 Carátula",{"$f":"' '!$X$3118","v":"N"},{"$f":"Formula_Local(Campos_Ingreso_Datos[[#This Row],[Vinculo]])","v":"=' '!$X$3118"},"General","=Listas!$G$2:$G$3","","N"]
["H1 Carátula",{"$f":"' '!$Y$3118","v":0},{"$f":"Formula_Local(Campos_Ingreso_Datos[[#This Row],[Vinculo]])","v":"=' '!$Y$3118"},"0.0%","",""]
["H1 Carátula",{"$f":"' '!$X$3119","v":"N"},{"$f":"Formula_Local(Campos_Ingreso_Datos[[#This Row],[Vinculo]])","v":"=' '!$X$3119"},"General","=Listas!$G$2:$G$3","","N"]
["H1 Carátula",{"$f":"' '!$Y$3119","v":0},{"$f":"Formula_Local(Campos_Ingreso_Datos[[#This Row],[Vinculo]])","v":"=' '!$Y$3119"},"0.0%","",""]
["H1 Carátula",{"$f":"' '!$X$3120","v":"N"},{"$f":"Formula_Local(Campos_Ingreso_Datos[[#This Row],[Vinculo]])","v":"=' '!$X$3120"},"General","=Listas!$G$2:$G$3","","N"]
["H1 Carátula",{"$f":"' '!$Y$3120","v":0},{"$f":"Formula_Local(Campos_Ingreso_Datos[[#This Row],[Vinculo]])","v":"=' '!$Y$3120"},"0.0%","",""]
["H1 Carátula",{"$f":"' '!$X$3121","v":"N"},{"$f":"Formula_Local(Campos_Ingreso_Datos[[#This Row],[Vinculo]])","v":"=' '!$X$3121"},"General","=Listas!$G$2:$G$3","","N"]
["H1 Carátula",{"$f":"' '!$Y$3121","v":0},{"$f":"Formula_Local(Campos_Ingreso_Datos[[#This Row],[Vinculo]])","v":"=' '!$Y$3121"},"0.0%","",""]
["H1 Carátula",{"$f":"' '!$X$3122","v":"N"},{"$f":"Formula_Local(Campos_Ingreso_Datos[[#This Row],[Vinculo]])","v":"=' '!$X$3122"},"General","=Listas!$G$2:$G$3","","N"]
["H1 Carátula",{"$f":"' '!$Y$3122","v":0},{"$f":"Formula_Local(Campos_Ingreso_Datos[[#This Row],[Vinculo]])","v":"=' '!$Y$3122"},"0.0%","",""]
["H1 Carátula",{"$f":"' '!$X$3123","v":"N"},{"$f":"Formula_Local(Campos_Ingreso_Datos[[#This Row],[Vinculo]])","v":"=' '!$X$3123"},"General","=Listas!$G$2:$G$3","","N"]
["H1 Carátula",{"$f":"' '!$Y$3123","v":0},{"$f":"Formula_Local(Campos_Ingreso_Datos[[#This Row],[Vinculo]])","v":"=' '!$Y$3123"},"0.0%","",""]
["H1 Carátula",{"$f":"' '!$X$3124","v":"N"},{"$f":"Formula_Local(Campos_Ingreso_Datos[[#This Row],[Vinculo]])","v":"=' '!$X$3124"},"General","=Listas!$G$2:$G$3","","N"]
["H1 Carátula",{"$f":"' '!$Y$3124","v":0},{"$f":"Formula_Local(Campos_Ingreso_Datos[[#This Row],[Vinculo]])","v":"=' '!$Y$3124"},"0.0%","",""]
["H1 Carátula",{"$f":"' '!$X$3125","v":"N"},{"$f":"Formula_Local(Campos_Ingreso_Datos[[#This Row],[Vinculo]])","v":"=' '!$X$3125"},"General","=Listas!$G$2:$G$3","","N"]
["H1 Carátula",{"$f":"' '!$Y$3125","v":0},{"$f":"Formula_Local(Campos_Ingreso_Datos[[#This Row],[Vinculo]])","v":"=' '!$Y$3125"},"0.0%","",""]
["H1 Carátula",{"$f":"' '!$X$3126","v":"N"},{"$f":"Formula_Local(Campos_Ingreso_Datos[[#This Row],[Vinculo]])","v":"=' '!$X$3126"},"General","=Listas!$G$2:$G$3","","N"]
["H1 Carátula",{"$f":"' '!$Y$3126","v":0},{"$f":"Formula_Local(Campos_Ingreso_Datos[[#This Row],[Vinculo]])","v":"=' '!$Y$3126"},"0.0%","",""]
["H1 Carátula",{"$f":"' '!$X$3127","v":"N"},{"$f":"Formula_Local(Campos_Ingreso_Datos[[#This Row],[Vinculo]])","v":"=' '!$X$3127"},"General","=Listas!$G$2:$G$3","","N"]
["H1 Carátula",{"$f":"' '!$Y$3127","v":0},{"$f":"Formula_Local(Campos_Ingreso_Datos[[#This Row],[Vinculo]])","v":"=' '!$Y$3127"},"0.0%","",""]
["H1 Carátula",{"$f":"' '!$X$3128","v":"N"},{"$f":"Formula_Local(Campos_Ingreso_Datos[[#This Row],[Vinculo]])","v":"=' '!$X$3128"},"General","=Listas!$G$2:$G$3","","N"]
["H1 Carátula",{"$f":"' '!$Y$3128","v":0},{"$f":"Formula_Local(Campos_Ingreso_Datos[[#This Row],[Vinculo]])","v":"=' '!$Y$3128"},"0.0%","",""]
["H1 Carátula",{"$f":"' '!$X$3129","v":"N"},{"$f":"Formula_Local(Campos_Ingreso_Datos[[#This Row],[Vinculo]])","v":"=' '!$X$3129"},"General","=Listas!$G$2:$G$3","","N"]
["H1 Carátula",{"$f":"' '!$Y$3129","v":0},{"$f":"Formula_Local(Campos_Ingreso_Datos[[#This Row],[Vinculo]])","v":"=' '!$Y$3129"},"0.0%","",""]
["H1 Carátula",{"$f":"' '!$X$3130","v":"N"},{"$f":"Formula_Local(Campos_Ingreso_Datos[[#This Row],[Vinculo]])","v":"=' '!$X$3130"},"General","=Listas!$G$2:$G$3","","N"]
["H1 Carátula",{"$f":"' '!$Y$3130","v":0},{"$f":"Formula_Local(Campos_Ingreso_Datos[[#This Row],[Vinculo]])","v":"=' '!$Y$3130"},"0.0%","",""]
["H1 Carátula",{"$f":"' '!$X$3131","v":"N"},{"$f":"Formula_Local(Campos_Ingreso_Datos[[#This Row],[Vinculo]])","v":"=' '!$X$3131"},"General","=Listas!$G$2:$G$3","","N"]
["H1 Carátula",{"$f":"' '!$Y$3131","v":0},{"$f":"Formula_Local(Campos_Ingreso_Datos[[#This Row],[Vinculo]])","v":"=' '!$Y$3131"},"0.0%","",""]
["H2 ESF Patrimonio",{"$f":"' '!$I$3153","v":0},{"$f":"Formula_Local(Campos_Ingreso_Datos[[#This Row],[Vinculo]])","v":"=' '!$I$3153"},"#,##0","",""]
["H2 ESF Patrimonio",{"$f":"' '!$I$3154","v":0},{"$f":"Formula_Local(Campos_Ingreso_Datos[[#This Row],[Vinculo]])","v":"=' '!$I$3154"},"#,##0","",""]
["H2 ESF Patrimonio",{"$f":"' '!$I$3155","v":0},{"$f":"Formula_Local(Campos_Ingreso_Datos[[#This Row],[Vinculo]])","v":"=' '!$I$3155"},"#,##0","",""]
["H2 ESF Patrimonio",{"$f":"' '!$I$3158","v":0},{"$f":"Formula_Local(Campos_Ingreso_Datos[[#This Row],[Vinculo]])","v":"=' '!$I$3158"},"#,##0","",""]
["H2 ESF Patrimonio",{"$f":"' '!$I$3159","v":0},{"$f":"Formula_Local(Campos_Ingreso_Datos[[#This Row],[Vinculo]])","v":"=' '!$I$3159"},"#,##0","",""]
["H2 ESF Patrimonio",{"$f":"' '!$I$3160","v":0},{"$f":"Formula_Local(Campos_Ingreso_Datos[[#This Row],[Vinculo]])","v":"=' '!$I$3160"},"#,##0","",""]
["H2 ESF Patrimonio",{"$f":"' '!$I$3161","v":0},{"$f":"Formula_Local(Campos_Ingreso_Datos[[#This Row],[Vinculo]])","v":"=' '!$I$3161"},"#,##0","",""]
["H2 ESF Patrimonio",{"$f":"' '!$I$3162","v":0},{"$f":"Formula_Local(Campos_Ingreso_Datos[[#This Row],[Vinculo]])","v":"=' '!$I$3162"},"#,##0","",""]
["H2 ESF Patrimonio",{"$f":"' '!$I$3163","v":0},{"$f":"Formula_Local(Campos_Ingreso_Datos[[#This Row],[Vinculo]])","v":"=' '!$I$3163"},"#,##0","",""]
["H2 ESF Patrimonio",{"$f":"' '!$I$3164","v":0},{"$f":"Formula_Local(Campos_Ingreso_Datos[[#This Row],[Vinculo]])","v":"=' '!$I$3164"},"#,##0","",""]
["H2 ESF Patrimonio",{"$f":"' '!$I$3165","v":0},{"$f":"Formula_Local(Campos_Ingreso_Datos[[#This Row],[Vinculo]])","v":"=' '!$I$3165"},"#,##0","",""]
["H2 ESF Patrimonio",{"$f":"' '!$I$3166","v":0},{"$f":"Formula_Local(Campos_Ingreso_Datos[[#This Row],[Vinculo]])","v":"=' '!$I$3166"},"#,##0","",""]
["H2 ESF Patrimonio",{"$f":"' '!$I$3167","v":0},{"$f":"Formula_Local(Campos_Ingreso_Datos[[#This Row],[Vinculo]])","v":"=' '!$I$3167"},"#,##0","",""]
["H2 ESF Patrimonio",{"$f":"' '!$I$3168","v":0},{"$f":"Formula_Local(Campos_Ingreso_Datos[[#This Row],[Vinculo]])","v":"=' '!$I$3168"},"#,##0","",""]
["H2 ESF Patrimonio",{"$f":"' '!$I$3169","v":0},{"$f":"Formula_Local(Campos_Ingreso_Datos[[#This Row],[Vinculo]])","v":"=' '!$I$3169"},"#,##0","",""]
["H2 ESF Patrimonio",{"$f":"' '!$I$3170","v":0},{"$f":"Formula_Local(Campos_Ingreso_Datos[[#This Row],[Vinculo]])","v":"=' '!$I$3170"},"#,##0","",""]
["H2 ESF Patrimonio",{"$f":"' '!$I$3172","v":0},{"$f":"Formula_Local(Campos_Ingreso_Datos[[#This Row],[Vinculo]])","v":"=' '!$I$3172"},"#,##0","",""]
["H2 ESF Patrimonio",{"$f":"' '!$I$3173","v":0},{"$f":"Formula_Local(Campos_Ingreso_Datos[[#This Row],[Vinculo]])","v":"=' '!$I$3173"},"#,##0","",""]
["H2 ESF Patrimonio",{"$f":"' '!$I$3174","v":0},{"$f":"Formula_Local(Campos_Ingreso_Datos[[#This Row],[Vinculo]])","v":"=' '!$I$3174"},"#,##0","",""]
["H2 ESF Patrimonio",{"$f":"' '!$I$3175","v":0},{"$f":"Formula_Local(Campos_Ingreso_Datos[[#This Row],[Vinculo]])","v":"=' '!$I$3175"},"#,##0","",""]
["H2 ESF Patrimonio",{"$f":"' '!$I$3176","v":0},{"$f":"Formula_Local(Campos_Ingreso_Datos[[#This Row],[Vinculo]])","v":"=' '!$I$3176"},"#,##0","",""]
["H2 ESF Patrimonio",{"$f":"' '!$I$3177","v":0},{"$f":"Formula_Local(Campos_Ingreso_Datos[[#This Row],[Vinculo]])","v":"=' '!$I$3177"},"#,##0","",""]
["H2 ESF Patrimonio",{"$f":"' '!$I$3178","v":0},{"$f":"Formula_Local(Campos_Ingreso_Datos[[#This Row],[Vinculo]])","v":"=' '!$I$3178"},"#,##0","",""]
["H2 ESF Patrimonio",{"$f":"' '!$I$3181","v":0},{"$f":"Formula_Local(Campos_Ingreso_Datos[[#This Row],[Vinculo]])","v":"=' '!$I$3181"},"#,##0","",""]
["H2 ESF Patrimonio",{"$f":"' '!$I$3182","v":0},{"$f":"Formula_Local(Campos_Ingreso_Datos[[#This Row],[Vinculo]])","v":"=' '!$I$3182"},"#,##0","",""]
["H2 ESF Patrimonio",{"$f":"' '!$I$3183","v":0},{"$f":"Formula_Local(Campos_Ingreso_Datos[[#This Row],[Vinculo]])","v":"=' '!$I$3183"},"#,##0","",""]
["H2 ESF Patrimonio",{"$f":"' '!$I$3184","v":0},{"$f":"Formula_Local(Campos_Ingreso_Datos[[#This Row],[Vinculo]])","v":"=' '!$I$3184"},"#,##0","",""]
["H2 ESF Patrimonio",{"$f":"' '!$I$3185","v":0},{"$f":"Formula_Local(Campos_Ingreso_Datos[[#This Row],[Vinculo]])","v":"=' '!$I$3185"},"#,##0","",""]
["H2 ESF Patrimonio",{"$f":"' '!$I$3186","v":0},{"$f":"Formula_Local(Campos_Ingreso_Datos[[#This Row],[Vinculo]])","v":"=' '!$I$3186"},"#,##0","",""]
["H2 ESF Patrimonio",{"$f":"' '!$I$3187","v":0},{"$f":"Formula_Local(Campos_Ingreso_Datos[[#This Row],[Vinculo]])","v":"=' '!$I$3187"},"#,##0","",""]
["H2 ESF Patrimonio",{"$f":"' '!$I$3188","v":0},{"$f":"Formula_Local(Campos_Ingreso_Datos[[#This Row],[Vinculo]])","v":"=' '!$I$3188"},"#,##0","",""]
["H2 ESF Patrimonio",{"$f":"' '!$I$3189","v":0},{"$f":"Formula_Local(Campos_Ingreso_Datos[[#This Row],[Vinculo]])","v":"=' '!$I$3189"},"#,##0","",""]
["H2 ESF Patrimonio",{"$f":"' '!$I$3190","v":0},{"$f":"Formula_Local(Campos_Ingreso_Datos[[#This Row],[Vinculo]])","v":"=' '!$I$3190"},"#,##0","",""]
["H2 ESF Patrimonio",{"$f":"' '!$I$3191","v":0},{"$f":"Formula_Local(Campos_Ingreso_Datos[[#This Row],[Vinculo]])","v":"=' '!$I$3191"},"#,##0","",""]
["H2 ESF Patrimonio",{"$f":"' '!$I$3192","v":0},{"$f":"Formula_Local(Campos_Ingreso_Datos[[#This Row],[Vinculo]])","v":"=' '!$I$3192"},"#,##0","",""]
["H2 ESF Patrimonio",{"$f":"' '!$I$3194","v":0},{"$f":"Formula_Local(Campos_Ingreso_Datos[[#This Row],[Vinculo]])","v":"=' '!$I$3194"},"#,##0","",""]
["H2 ESF Patrimonio",{"$f":"' '!$I$3195","v":0},{"$f":"Formula_Local(Campos_Ingreso_Datos[[#This Row],[Vinculo]])","v":"=' '!$I$3195"},"#,##0","",""]
["H2 ESF Patrimonio",{"$f":"' '!$I$3196","v":0},{"$f":"Formula_Local(Campos_Ingreso_Datos[[#This Row],[Vinculo]])","v":"=' '!$I$3196"},"#,##0","",""]
["H2 ESF Patrimonio",{"$f":"' '!$I$3197","v":0},{"$f":"Formula_Local(Campos_Ingreso_Datos[[#This Row],[Vinculo]])","v":"=' '!$I$3197"},"#,##0","",""]
["H2 ESF Patrimonio",{"$f":"' '!$I$3198","v":0},{"$f":"Formula_Local(Campos_Ingreso_Datos[[#This Row],[Vinculo]])","v":"=' '!$I$3198"},"#,##0","",""]
["H2 ESF Patrimonio",{"$f":"' '!$I$3199","v":0},{"$f":"Formula_Local(Campos_Ingreso_Datos[[#This Row],[Vinculo]])","v":"=' '!$I$3199"},"#,##0","",""]
["H2 ESF Patrimonio",{"$f":"' '!$I$3200","v":0},{"$f":"Formula_Local(Campos_Ingreso_Datos[[#This Row],[Vinculo]])","v":"=' '!$I$3200"},"#,##0","",""]
["H2 ESF Patrimonio",{"$f":"' '!$I$3201","v":0},{"$f":"Formula_Local(Campos_Ingreso_Datos[[#This Row],[Vinculo]])","v":"=' '!$I$3201"},"#,##0","",""]
["H2 ESF Patrimonio",{"$f":"' '!$I$3203","v":0},{"$f":"Formula_Local(Campos_Ingreso_Datos[[#This Row],[Vinculo]])","v":"=' '!$I$3203"},"#,##0","",""]
["H2 ESF Patrimonio",{"$f":"' '!$I$3204","v":0},{"$f":"Formula_Local(Campos_Ingreso_Datos[[#This Row],[Vinculo]])","v":"=' '!$I$3204"},"#,##0","",""]
["H2 ESF Patrimonio",{"$f":"' '!$I$3205","v":0},{"$f":"Formula_Local(Campos_Ingreso_Datos[[#This Row],[Vinculo]])","v":"=' '!$I$3205"},"#,##0","",""]
["H2 ESF Patrimonio",{"$f":"' '!$I$3206","v":0},{"$f":"Formula_Local(Campos_Ingreso_Datos[[#This Row],[Vinculo]])","v":"=' '!$I$3206"},"#,##0","",""]
["H2 ESF Patrimonio",{"$f":"' '!$I$3207","v":0},{"$f":"Formula_Local(Campos_Ingreso_Datos[[#This Row],[Vinculo]])","v":"=' '!$I$3207"},"#,##0","",""]
["H2 ESF Patrimonio",{"$f":"' '!$I$3208","v":0},{"$f":"Formula_Local(Campos_Ingreso_Datos[[#This Row],[Vinculo]])","v":"=' '!$I$3208"},"#,##0","",""]
["H2 ESF Patrimonio",{"$f":"' '!$I$3209","v":0},{"$f":"Formula_Local(Campos_Ingreso_Datos[[#This Row],[Vinculo]])","v":"=' '!$I$3209"},"#,##0","",""]
["H2 ESF Patrimonio",{"$f":"' '!$I$3210","v":0},{"$f":"Formula_Local(Campos_Ingreso_Datos[[#This Row],[Vinculo]])","v":"=' '!$I$3210"},"#,##0","",""]
["H2 ESF Patrimonio",{"$f":"' '!$I$3211","v":0},{"$f":"Formula_Local(Campos_Ingreso_Datos[[#This Row],[Vinculo]])","v":"=' '!$I$3211"},"#,##0","",""]
["H2 ESF Patrimonio",{"$f":"' '!$I$3212","v":0},{"$f":"Formula_Local(Campos_Ingreso_Datos[[#This Row],[Vinculo]])","v":"=' '!$I$3212"},"#,##0","",""]
["H2 ESF Patrimonio",{"$f":"' '!$I$3213","v":0},{"$f":"Formula_Local(Campos_Ingreso_Datos[[#This Row],[Vinculo]])","v":"=' '!$I$3213"},"#,##0","",""]
["H2 ESF Patrimonio",{"$f":"' '!$I$3215","v":0},{"$f":"Formula_Local(Campos_Ingreso_Datos[[#This Row],[Vinculo]])","v":"=' '!$I$3215"},"#,##0","",""]
["H2 ESF Patrimonio",{"$f":"' '!$I$3216","v":0},{"$f":"Formula_Local(Campos_Ingreso_Datos[[#This Row],[Vinculo]])","v":"=' '!$I$3216"},"#,##0","",""]
["H2 ESF Patrimonio",{"$f":"' '!$I$3217","v":0},{"$f":"Formula_Local(Campos_Ingreso_Datos[[#This Row],[Vinculo]])","v":"=' '!$I$3217"},"#,##0","",""]
["H2 ESF Patrimonio",{"$f":"' '!$I$3218","v":0},{"$f":"Formula_Local(Campos_Ingreso_Datos[[#This Row],[Vinculo]])","v":"=' '!$I$3218"},"#,##0","",""]
["H2 ESF Patrimonio",{"$f":"' '!$I$3220","v":0},{"$f":"Formula_Local(Campos_Ingreso_Datos[[#This Row],[Vinculo]])","v":"=' '!$I$3220"},"#,##0","",""]
["H2 ESF Patrimonio",{"$f":"' '!$I$3221","v":0},{"$f":"Formula_Local(Campos_Ingreso_Datos[[#This Row],[Vinculo]])","v":"=' '!$I$3221"},"#,##0","",""]
["H2 ESF Patrimonio",{"$f":"' '!$I$3222","v":0},{"$f":"Formula_Local(Campos_Ingreso_Datos[[#This Row],[Vinculo]])","v":"=' '!$I$3222"},"#,##0","",""]
["H2 ESF Patrimonio",{"$f":"' '!$I$3223","v":0},{"$f":"Formula_Local(Campos_Ingreso_Datos[[#This Row],[Vinculo]])","v":"=' '!$I$3223"},"#,##0","",""]
["H2 ESF Patrimonio",{"$f":"' '!$I$3226","v":0},{"$f":"Formula_Local(Campos_Ingreso_Datos[[#This Row],[Vinculo]])","v":"=' '!$I$3226"},"#,##0","",""]
["H2 ESF Patrimonio",{"$f":"' '!$I$3227","v":0},{"$f":"Formula_Local(Campos_Ingreso_Datos[[#This Row],[Vinculo]])","v":"=' '!$I$3227"},"#,##0","",""]
["H2 ESF Patrimonio",{"$f":"' '!$I$3228","v":0},{"$f":"Formula_Local(Campos_Ingreso_Datos[[#This Row],[Vinculo]])","v":"=' '!$I$3228"},"#,##0","",""]
["H2 ESF Patrimonio",{"$f":"' '!$I$3229","v":0},{"$f":"Formula_Local(Campos_Ingreso_Datos[[#This Row],[Vinculo]])","v":"=' '!$I$3229"},"#,##0","",""]
["H2 ESF Patrimonio",{"$f":"' '!$I$3230","v":0},{"$f":"Formula_Local(Campos_Ingreso_Datos[[#This Row],[Vinculo]])","v":"=' '!$I$3230"},"#,##0","",""]
["H2 ESF Patrimonio",{"$f":"' '!$I$3231","v":0},{"$f":"Formula_Local(Campos_Ingreso_Datos[[#This Row],[Vinculo]])","v":"=' '!$I$3231"},"#,##0","",""]
["H2 ESF Patrimonio",{"$f":"' '!$I$3232","v":0},{"$f":"Formula_Local(Campos_Ingreso_Datos[[#This Row],[Vinculo]])","v":"=' '!$I$3232"},"#,##0","",""]
["H2 ESF Patrimonio",{"$f":"' '!$I$3233","v":0},{"$f":"Formula_Local(Campos_Ingreso_Datos[[#This Row],[Vinculo]])","v":"=' '!$I$3233"},"#,##0","",""]
["H2 ESF Patrimonio",{"$f":"' '!$I$3234","v":0},{"$f":"Formula_Local(Campos_Ingreso_Datos[[#This Row],[Vinculo]])","v":"=' '!$I$3234"},"#,##0","",""]
["H2 ESF Patrimonio",{"$f":"' '!$I$3237","v":0},{"$f":"Formula_Local(Campos_Ingreso_Datos[[#This Row],[Vinculo]])","v":"=' '!$I$3237"},"#,##0","",""]
["H2 ESF Patrimonio",{"$f":"' '!$I$3238","v":0},{"$f":"Formula_Local(Campos_Ingreso_Datos[[#This Row],[Vinculo]])","v":"=' '!$I$3238"},"#,##0","",""]
["H2 ESF Patrimonio",{"$f":"' '!$I$3239","v":0},{"$f":"Formula_Local(Campos_Ingreso_Datos[[#This Row],[Vinculo]])","v":"=' '!$I$3239"},"#,##0","",""]
["H2 ESF Patrimonio",{"$f":"' '!$I$3240","v":0},{"$f":"Formula_Local(Campos_Ingreso_Datos[[#This Row],[Vinculo]])","v":"=' '!$I$3240"},"#,##0","",""]
["H2 ESF Patrimonio",{"$f":"' '!$I$3241","v":0},{"$f":"Formula_Local(Campos_Ingreso_Datos[[#This Row],[Vinculo]])","v":"=' '!$I$3241"},"#,##0","",""]
["H2 ESF Patrimonio",{"$f":"' '!$I$3242","v":0},{"$f":"Formula_Local(Campos_Ingreso_Datos[[#This Row],[Vinculo]])","v":"=' '!$I$3242"},"#,##0","",""]
["H2 ESF Patrimonio",{"$f":"' '!$I$3243","v":0},{"$f":"Formula_Local(Campos_Ingreso_Datos[[#This Row],[Vinculo]])","v":"=' '!$I$3243"},"#,##0","",""]
["H2 ESF Patrimonio",{"$f":"' '!$I$3244","v":0},{"$f":"Formula_Local(Campos_Ingreso_Datos[[#This Row],[Vinculo]])","v":"=' '!$I$3244"},"#,##0","",""]
["H2 ESF Patrimonio",{"$f":"' '!$I$3245","v":0},{"$f":"Formula_Local(Campos_Ingreso_Datos[[#This Row],[Vinculo]])","v":"=' '!$I$3245"},"#,##0","",""]
["H2 ESF Patrimonio",{"$f":"' '!$I$3246","v":0},{"$f":"Formula_Local(Campos_Ingreso_Datos[[#This Row],[Vinculo]])","v":"=' '!$I$3246"},"#,##0","",""]
["H2 ESF Patrimonio",{"$f":"' '!$I$3248","v":0},{"$f":"Formula_Local(Campos_Ingreso_Datos[[#This Row],[Vinculo]])","v":"=' '!$I$3248"},"#,##0","",""]
["H2 ESF Patrimonio",{"$f":"' '!$I$3249","v":0},{"$f":"Formula_Local(Campos_Ingreso_Datos[[#This Row],[Vinculo]])","v":"=' '!$I$3249"},"#,##0","",""]
["H2 ESF Patrimonio",{"$f":"' '!$I$3250","v":0},{"$f":"Formula_Local(Campos_Ingreso_Datos[[#This Row],[Vinculo]])","v":"=' '!$I$3250"},"#,##0","",""]
["H2 ESF Patrimonio",{"$f":"' '!$I$3251","v":0},{"$f":"Formula_Local(Campos_Ingreso_Datos[[#This Row],[Vinculo]])","v":"=' '!$I$3251"},"#,##0","",""]
["H2 ESF Patrimonio",{"$f":"' '!$I$3252","v":0},{"$f":"Formula_Local(Campos_Ingreso_Datos[[#This Row],[Vinculo]])","v":"=' '!$I$3252"},"#,##0","",""]
["H2 ESF Patrimonio",{"$f":"' '!$I$3253","v":0},{"$f":"Formula_Local(Campos_Ingreso_Datos[[#This Row],[Vinculo]])","v":"=' '!$I$3253"},"#,##0","",""]
["H2 ESF Patrimonio",{"$f":"' '!$I$3255","v":0},{"$f":"Formula_Local(Campos_Ingreso_Datos[[#This Row],[Vinculo]])","v":"=' '!$I$3255"},"#,##0","",""]
["H2 ESF Patrimonio",{"$f":"' '!$I$3256","v":0},{"$f":"Formula_Local(Campos_Ingreso_Datos[[#This Row],[Vinculo]])","v":"=' '!$I$3256"},"#,##0","",""]
["H2 ESF Patrimonio",{"$f":"' '!$I$3257","v":0},{"$f":"Formula_Local(Campos_Ingreso_Datos[[#This Row],[Vinculo]])","v":"=' '!$I$3257"},"#,##0","",""]
["H2 ESF Patrimonio",{"$f":"' '!$I$3258","v":0},{"$f":"Formula_Local(Campos_Ingreso_Datos[[#This Row],[Vinculo]])","v":"=' '!$I$3258"},"#,##0","",""]
["H2 ESF Patrimonio",{"$f":"' '!$I$3260","v":0},{"$f":"Formula_Local(Campos_Ingreso_Datos[[#This Row],[Vinculo]])","v":"=' '!$I$3260"},"#,##0","",""]
["H2 ESF Patrimonio",{"$f":"' '!$I$3261","v":0},{"$f":"Formula_Local(Campos_Ingreso_Datos[[#This Row],[Vinculo]])","v":"=' '!$I$3261"},"#,##0","",""]
["H2 ESF Patrimonio",{"$f":"' '!$I$3262","v":0},{"$f":"Formula_Local(Campos_Ingreso_Datos[[#This Row],[Vinculo]])","v":"=' '!$I$3262"},"#,##0","",""]
["H2 ESF Patrimonio",{"$f":"' '!$I$3263","v":0},{"$f":"Formula_Local(Campos_Ingreso_Datos[[#This Row],[Vinculo]])","v":"=' '!$I$3263"},"#,##0","",""]
["H2 ESF Patrimonio",{"$f":"' '!$I$3266","v":0},{"$f":"Formula_Local(Campos_Ingreso_Datos[[#This Row],[Vinculo]])","v":"=' '!$I$3266"},"#,##0","",""]
["H2 ESF Patrimonio",{"$f":"' '!$I$3267","v":0},{"$f":"Formula_Local(Campos_Ingreso_Datos[[#This Row],[Vinculo]])","v":"=' '!$I$3267"},"#,##0","",""]
["H2 ESF Patrimonio",{"$f":"' '!$I$3268","v":0},{"$f":"Formula_Local(Campos_Ingreso_Datos[[#This Row],[Vinculo]])","v":"=' '!$I$3268"},"#,##0","",""]
["H2 ESF Patrimonio",{"$f":"' '!$I$3269","v":0},{"$f":"Formula_Local(Campos_Ingreso_Datos[[#This Row],[Vinculo]])","v":"=' '!$I$3269"},"#,##0","",""]
["H2 ESF Patrimonio",{"$f":"' '!$I$3270","v":0},{"$f":"Formula_Local(Campos_Ingreso_Datos[[#This Row],[Vinculo]])","v":"=' '!$I$3270"},"#,##0","",""]
["H2 ESF Patrimonio",{"$f":"' '!$I$3271","v":0},{"$f":"Formula_Local(Campos_Ingreso_Datos[[#This Row],[Vinculo]])","v":"=' '!$I$3271"},"#,##0","",""]
["H2 ESF Patrimonio",{"$f":"' '!$I$3272","v":0},{"$f":"Formula_Local(Campos_Ingreso_Datos[[#This Row],[Vinculo]])","v":"=' '!$I$3272"},"#,##0","",""]
["H2 ESF Patrimonio",{"$f":"' '!$I$3274","v":0},{"$f":"Formula_Local(Campos_Ingreso_Datos[[#This Row],[Vinculo]])","v":"=' '!$I$3274"},"#,##0","",""]
["H2 ESF Patrimonio",{"$f":"' '!$I$3275","v":0},{"$f":"Formula_Local(Campos_Ingreso_Datos[[#This Row],[Vinculo]])","v":"=' '!$I$3275"},"#,##0","",""]
["H2 ESF Patrimonio",{"$f":"' '!$I$3276","v":0},{"$f":"Formula_Local(Campos_Ingreso_Datos[[#This Row],[Vinculo]])","v":"=' '!$I$3276"},"#,##0","",""]
["H2 ESF Patrimonio",{"$f":"' '!$I$3277","v":0},{"$f":"Formula_Local(Campos_Ingreso_Datos[[#This Row],[Vinculo]])","v":"=' '!$I$3277"},"#,##0","",""]
["H2 ESF Patrimonio",{"$f":"' '!$I$3278","v":0},{"$f":"Formula_Local(Campos_Ingreso_Datos[[#This Row],[Vinculo]])","v":"=' '!$I$3278"},"#,##0","",""]
["H2 ESF Patrimonio",{"$f":"' '!$I$3279","v":0},{"$f":"Formula_Local(Campos_Ingreso_Datos[[#This Row],[Vinculo]])","v":"=' '!$I$3279"},"#,##0","",""]
["H2 ESF Patrimonio",{"$f":"' '!$I$3280","v":0},{"$f":"Formula_Local(Campos_Ingreso_Datos[[#This Row],[Vinculo]])","v":"=' '!$I$3280"},"#,##0","",""]
["H2 ESF Patrimonio",{"$f":"' '!$I$3282","v":0},{"$f":"Formula_Local(Campos_Ingreso_Datos[[#This Row],[Vinculo]])","v":"=' '!$I$3282"},"#,##0","",""]
["H2 ESF Patrimonio",{"$f":"' '!$I$3283","v":0},{"$f":"Formula_Local(Campos_Ingreso_Datos[[#This Row],[Vinculo]])","v":"=' '!$I$3283"},"#,##0","",""]
["H2 ESF Patrimonio",{"$f":"' '!$I$3288","v":0},{"$f":"Formula_Local(Campos_Ingreso_Datos[[#This Row],[Vinculo]])","v":"=' '!$I$3288"},"#,##0","",""]
["H2 ESF Patrimonio",{"$f":"' '!$I$3289","v":0},{"$f":"Formula_Local(Campos_Ingreso_Datos[[#This Row],[Vinculo]])","v":"=' '!$I$3289"},"#,##0","",""]
["H2 ESF Patrimonio",{"$f":"' '!$I$3290","v":0},{"$f":"Formula_Local(Campos_Ingreso_Datos[[#This Row],[Vinculo]])","v":"=' '!$I$3290"},"#,##0","",""]
["H2 ESF Patrimonio",{"$f":"' '!$I$3291","v":0},{"$f":"Formula_Local(Campos_Ingreso_Datos[[#This Row],[Vinculo]])","v":"=' '!$I$3291"},"#,##0","",""]
["H2 ESF Patrimonio",{"$f":"' '!$I$3292","v":0},{"$f":"Formula_Local(Campos_Ingreso_Datos[[#This Row],[Vinculo]])","v":"=' '!$I$3292"},"#,##0","",""]
["H2 ESF Patrimonio",{"$f":"' '!$I$3293","v":0},{"$f":"Formula_Local(Campos_Ingreso_Datos[[#This Row],[Vinculo]])","v":"=' '!$I$3293"},"#,##0","",""]
["H2 ESF Patrimonio",{"$f":"' '!$I$3294","v":0},{"$f":"Formula_Local(Campos_Ingreso_Datos[[#This Row],[Vinculo]])","v":"=' '!$I$3294"},"#,##0","",""]
["H2 ESF Patrimonio",{"$f":"' '!$I$3295","v":0},{"$f":"Formula_Local(Campos_Ingreso_Datos[[#This Row],[Vinculo]])","v":"=' '!$I$3295"},"#,##0","",""]
["H2 ESF Patrimonio",{"$f":"' '!$I$3296","v":0},{"$f":"Formula_Local(Campos_Ingreso_Datos[[#This Row],[Vinculo]])","v":"=' '!$I$3296"},"#,##0","",""]
["H2 ESF Patrimonio",{"$f":"' '!$I$3297","v":0},{"$f":"Formula_Local(Campos_Ingreso_Datos[[#This Row],[Vinculo]])","v":"=' '!$I$3297"},"#,##0","",""]
["H2 ESF Patrimonio",{"$f":"' '!$I$3298","v":0},{"$f":"Formula_Local(Campos_Ingreso_Datos[[#This Row],[Vinculo]])","v":"=' '!$I$3298"},"#,##0","",""]
["H2 ESF Patrimonio",{"$f":"' '!$I$3299","v":0},{"$f":"Formula_Local(Campos_Ingreso_Datos[[#This Row],[Vinculo]])","v":"=' '!$I$3299"},"#,##0","",""]
["H2 ESF Patrimonio",{"$f":"' '!$I$3301","v":0},{"$f":"Formula_Local(Campos_Ingreso_Datos[[#This Row],[Vinculo]])","v":"=' '!$I$3301"},"#,##0","",""]
["H2 ESF Patrimonio",{"$f":"' '!$I$3302","v":0},{"$f":"Formula_Local(Campos_Ingreso_Datos[[#This Row],[Vinculo]])","v":"=' '!$I$3302"},"#,##0","",""]
["H2 ESF Patrimonio",{"$f":"' '!$I$3303","v":0},{"$f":"Formula_Local(Campos_Ingreso_Datos[[#This Row],[Vinculo]])","v":"=' '!$I$3303"},"#,##0","",""]
["H2 ESF Patrimonio",{"$f":"' '!$I$3305","v":0},{"$f":"Formula_Local(Campos_Ingreso_Datos[[#This Row],[Vinculo]])","v":"=' '!$I$3305"},"#,##0","",""]
["H2 ESF Patrimonio",{"$f":"' '!$I$3306","v":0},{"$f":"Formula_Local(Campos_Ingreso_Datos[[#This Row],[Vinculo]])","v":"=' '!$I$3306"},"#,##0","",""]
["H2 ESF Patrimonio",{"$f":"' '!$I$3307","v":0},{"$f":"Formula_Local(Campos_Ingreso_Datos[[#This Row],[Vinculo]])","v":"=' '!$I$3307"},"#,##0","",""]
["H2 ESF Patrimonio",{"$f":"' '!$I$3308","v":0},{"$f":"Formula_Local(Campos_Ingreso_Datos[[#This Row],[Vinculo]])","v":"=' '!$I$3308"},"#,##0","",""]
["H2 ESF Patrimonio",{"$f":"' '!$I$3309","v":0},{"$f":"Formula_Local(Campos_Ingreso_Datos[[#This Row],[Vinculo]])","v":"=' '!$I$3309"},"#,##0","",""]
["H2 ESF Patrimonio",{"$f":"' '!$I$3311","v":0},{"$f":"Formula_Local(Campos_Ingreso_Datos[[#This Row],[Vinculo]])","v":"=' '!$I$3311"},"#,##0","",""]
["H2 ESF Patrimonio",{"$f":"' '!$I$3312","v":0},{"$f":"Formula_Local(Campos_Ingreso_Datos[[#This Row],[Vinculo]])","v":"=' '!$I$3312"},"#,##0","",""]
["H2 ESF Patrimonio",{"$f":"' '!$I$3313","v":0},{"$f":"Formula_Local(Campos_Ingreso_Datos[[#This Row],[Vinculo]])","v":"=' '!$I$3313"},"#,##0","",""]
["H2 ESF Patrimonio",{"$f":"' '!$I$3316","v":0},{"$f":"Formula_Local(Campos_Ingreso_Datos[[#This Row],[Vinculo]])","v":"=' '!$I$3316"},"#,##0","",""]
["H2 ESF Patrimonio",{"$f":"' '!$I$3317","v":0},{"$f":"Formula_Local(Campos_Ingreso_Datos[[#This Row],[Vinculo]])","v":"=' '!$I$3317"},"#,##0","",""]
["H2 ESF Patrimonio",{"$f":"' '!$I$3318","v":0},{"$f":"Formula_Local(Campos_Ingreso_Datos[[#This Row],[Vinculo]])","v":"=' '!$I$3318"},"#,##0","",""]
["H2 ESF Patrimonio",{"$f":"' '!$I$3319","v":0},{"$f":"Formula_Local(Campos_Ingreso_Datos[[#This Row],[Vinculo]])","v":"=' '!$I$3319"},"#,##0","",""]
["H2 ESF Patrimonio",{"$f":"' '!$I$3321","v":0},{"$f":"Formula_Local(Campos_Ingreso_Datos[[#This Row],[Vinculo]])","v":"=' '!$I$3321"},"#,##0","",""]
["H2 ESF Patrimonio",{"$f":"' '!$I$3322","v":0},{"$f":"Formula_Local(Campos_Ingreso_Datos[[#This Row],[Vinculo]])","v":"=' '!$I$3322"},"#,##0","",""]
["H2 ESF Patrimonio",{"$f":"' '!$I$3323","v":0},{"$f":"Formula_Local(Campos_Ingreso_Datos[[#This Row],[Vinculo]])","v":"=' '!$I$3323"},"#,##0","",""]
["H2 ESF Patrimonio",{"$f":"' '!$I$3324","v":0},{"$f":"Formula_Local(Campos_Ingreso_Datos[[#This Row],[Vinculo]])","v":"=' '!$I$3324"},"#,##0","",""]
["H2 ESF Patrimonio",{"$f":"' '!$I$3325","v":0},{"$f":"Formula_Local(Campos_Ingreso_Datos[[#This Row],[Vinculo]])","v":"=' '!$I$3325"},"#,##0","",""]
["H2 ESF Patrimonio",{"$f":"' '!$I$3326","v":0},{"$f":"Formula_Local(Campos_Ingreso_Datos[[#This Row],[Vinculo]])","v":"=' '!$I$3326"},"#,##0","",""]
["H2 ESF Patrimonio",{"$f":"' '!$I$3327","v":0},{"$f":"Formula_Local(Campos_Ingreso_Datos[[#This Row],[Vinculo]])","v":"=' '!$I$3327"},"#,##0","",""]
["H2 ESF Patrimonio",{"$f":"' '!$I$3328","v":0},{"$f":"Formula_Local(Campos_Ingreso_Datos[[#This Row],[Vinculo]])","v":"=' '!$I$3328"},"#,##0","",""]
["H2 ESF Patrimonio",{"$f":"' '!$I$3329","v":0},{"$f":"Formula_Local(Campos_Ingreso_Datos[[#This Row],[Vinculo]])","v":"=' '!$I$3329"},"#,##0","",""]
["H2 ESF Patrimonio",{"$f":"' '!$I$3330","v":0},{"$f":"Formula_Local(Campos_Ingreso_Datos[[#This Row],[Vinculo]])","v":"=' '!$I$3330"},"#,##0","",""]
["H2 ESF Patrimonio",{"$f":"' '!$I$3331","v":0},{"$f":"Formula_Local(Campos_Ingreso_Datos[[#This Row],[Vinculo]])","v":"=' '!$I$3331"},"#,##0","",""]
["H2 ESF Patrimonio",{"$f":"' '!$I$3333","v":0},{"$f":"Formula_Local(Campos_Ingreso_Datos[[#This Row],[Vinculo]])","v":"=' '!$I$3333"},"#,##0","",""]
["H2 ESF Patrimonio",{"$f":"' '!$I$3334","v":0},{"$f":"Formula_Local(Campos_Ingreso_Datos[[#This Row],[Vinculo]])","v":"=' '!$I$3334"},"#,##0","",""]
["H2 ESF Patrimonio",{"$f":"' '!$I$3335","v":0},{"$f":"Formula_Local(Campos_Ingreso_Datos[[#This Row],[Vinculo]])","v":"=' '!$I$3335"},"#,##0","",""]
["H2 ESF Patrimonio",{"$f":"' '!$I$3336","v":0},{"$f":"Formula_Local(Campos_Ingreso_Datos[[#This Row],[Vinculo]])","v":"=' '!$I$3336"},"#,##0","",""]
["H2 ESF Patrimonio",{"$f":"' '!$I$3338","v":0},{"$f":"Formula_Local(Campos_Ingreso_Datos[[#This Row],[Vinculo]])","v":"=' '!$I$3338"},"#,##0","",""]
["H2 ESF Patrimonio",{"$f":"' '!$I$3339","v":0},{"$f":"Formula_Local(Campos_Ingreso_Datos[[#This Row],[Vinculo]])","v":"=' '!$I$3339"},"#,##0","",""]
["H2 ESF Patrimonio",{"$f":"' '!$I$3340","v":0},{"$f":"Formula_Local(Campos_Ingreso_Datos[[#This Row],[Vinculo]])","v":"=' '!$I$3340"},"#,##0","",""]
["H2 ESF Patrimonio",{"$f":"' '!$I$3341","v":0},{"$f":"Formula_Local(Campos_Ingreso_Datos[[#This Row],[Vinculo]])","v":"=' '!$I$3341"},"#,##0","",""]
["H2 ESF Patrimonio",{"$f":"' '!$I$3342","v":0},{"$f":"Formula_Local(Campos_Ingreso_Datos[[#This Row],[Vinculo]])","v":"=' '!$I$3342"},"#,##0","",""]
["H2 ESF Patrimonio",{"$f":"' '!$I$3343","v":0},{"$f":"Formula_Local(Campos_Ingreso_Datos[[#This Row],[Vinculo]])","v":"=' '!$I$3343"},"#,##0","",""]
["H2 ESF Patrimonio",{"$f":"' '!$I$3344","v":0},{"$f":"Formula_Local(Campos_Ingreso_Datos[[#This Row],[Vinculo]])","v":"=' '!$I$3344"},"#,##0","",""]
["H2 ESF Patrimonio",{"$f":"' '!$I$3350","v":0},{"$f":"Formula_Local(Campos_Ingreso_Datos[[#This Row],[Vinculo]])","v":"=' '!$I$3350"},"#,##0","",""]
["H2 ESF Patrimonio",{"$f":"' '!$I$3351","v":0},{"$f":"Formula_Local(Campos_Ingreso_Datos[[#This Row],[Vinculo]])","v":"=' '!$I$3351"},"#,##0","",""]
["H2 ESF Patrimonio",{"$f":"' '!$I$3352","v":0},{"$f":"Formula_Local(Campos_Ingreso_Datos[[#This Row],[Vinculo]])","v":"=' '!$I$3352"},"#,##0","",""]
["H2 ESF Patrimonio",{"$f":"' '!$I$3353","v":0},{"$f":"Formula_Local(Campos_Ingreso_Datos[[#This Row],[Vinculo]])","v":"=' '!$I$3353"},"#,##0","",""]
["H2 ESF Patrimonio",{"$f":"' '!$I$3354","v":0},{"$f":"Formula_Local(Campos_Ingreso_Datos[[#This Row],[Vinculo]])","v":"=' '!$I$3354"},"#,##0","",""]
["H2 ESF Patrimonio",{"$f":"' '!$I$3355","v":0},{"$f":"Formula_Local(Campos_Ingreso_Datos[[#This Row],[Vinculo]])","v":"=' '!$I$3355"},"#,##0","",""]
["H2 ESF Patrimonio",{"$f":"' '!$I$3356","v":0},{"$f":"Formula_Local(Campos_Ingreso_Datos[[#This Row],[Vinculo]])","v":"=' '!$I$3356"},"#,##0","",""]
["H2 ESF Patrimonio",{"$f":"' '!$I$3357","v":0},{"$f":"Formula_Local(Campos_Ingreso_Datos[[#This Row],[Vinculo]])","v":"=' '!$I$3357"},"#,##0","",""]
["H2 ESF Patrimonio",{"$f":"' '!$I$3358","v":0},{"$f":"Formula_Local(Campos_Ingreso_Datos[[#This Row],[Vinculo]])","v":"=' '!$I$3358"},"#,##0","",""]
["H2 ESF Patrimonio",{"$f":"' '!$I$3359","v":0},{"$f":"Formula_Local(Campos_Ingreso_Datos[[#This Row],[Vinculo]])","v":"=' '!$I$3359"},"#,##0","",""]
["H2 ESF Patrimonio",{"$f":"' '!$I$3360","v":0},{"$f":"Formula_Local(Campos_Ingreso_Datos[[#This Row],[Vinculo]])","v":"=' '!$I$3360"},"#,##0","",""]
["H2 ESF Patrimonio",{"$f":"' '!$I$3361","v":0},{"$f":"Formula_Local(Campos_Ingreso_Datos[[#This Row],[Vinculo]])","v":"=' '!$I$3361"},"#,##0","",""]
["H2 ESF Patrimonio",{"$f":"' '!$I$3362","v":0},{"$f":"Formula_Local(Campos_Ingreso_Datos[[#This Row],[Vinculo]])","v":"=' '!$I$3362"},"#,##0","",""]
["H2 ESF Patrimonio",{"$f":"' '!$I$3363","v":0},{"$f":"Formula_Local(Campos_Ingreso_Datos[[#This Row],[Vinculo]])","v":"=' '!$I$3363"},"#,##0","",""]
["H2 ESF Patrimonio",{"$f":"' '!$I$3364","v":0},{"$f":"Formula_Local(Campos_Ingreso_Datos[[#This Row],[Vinculo]])","v":"=' '!$I$3364"},"#,##0","",""]
["H2 ESF Patrimonio",{"$f":"' '!$I$3365","v":0},{"$f":"Formula_Local(Campos_Ingreso_Datos[[#This Row],[Vinculo]])","v":"=' '!$I$3365"},"#,##0","",""]
["H2 ESF Patrimonio",{"$f":"' '!$I$3367","v":0},{"$f":"Formula_Local(Campos_Ingreso_Datos[[#This Row],[Vinculo]])","v":"=' '!$I$3367"},"#,##0","",""]
["H2 ESF Patrimonio",{"$f":"' '!$I$3368","v":0},{"$f":"Formula_Local(Campos_Ingreso_Datos[[#This Row],[Vinculo]])","v":"=' '!$I$3368"},"#,##0","",""]
["H2 ESF Patrimonio",{"$f":"' '!$I$3369","v":0},{"$f":"Formula_Local(Campos_Ingreso_Datos[[#This Row],[Vinculo]])","v":"=' '!$I$3369"},"#,##0","",""]
["H2 ESF Patrimonio",{"$f":"' '!$I$3370","v":0},{"$f":"Formula_Local(Campos_Ingreso_Datos[[#This Row],[Vinculo]])","v":"=' '!$I$3370"},"#,##0","",""]
["H2 ESF Patrimonio",{"$f":"' '!$I$3372","v":0},{"$f":"Formula_Local(Campos_Ingreso_Datos[[#This Row],[Vinculo]])","v":"=' '!$I$3372"},"#,##0","",""]
["H2 ESF Patrimonio",{"$f":"' '!$I$3373","v":0},{"$f":"Formula_Local(Campos_Ingreso_Datos[[#This Row],[Vinculo]])","v":"=' '!$I$3373"},"#,##0","",""]
["H2 ESF Patrimonio",{"$f":"' '!$I$3374","v":0},{"$f":"Formula_Local(Campos_Ingreso_Datos[[#This Row],[Vinculo]])","v":"=' '!$I$3374"},"#,##0","",""]
["H2 ESF Patrimonio",{"$f":"' '!$I$3375","v":0},{"$f":"Formula_Local(Campos_Ingreso_Datos[[#This Row],[Vinculo]])","v":"=' '!$I$3375"},"#,##0","",""]
["H2 ESF Patrimonio",{"$f":"' '!$I$3376","v":0},{"$f":"Formula_Local(Campos_Ingreso_Datos[[#This Row],[Vinculo]])","v":"=' '!$I$3376"},"#,##0","",""]
["H2 ESF Patrimonio",{"$f":"' '!$I$3377","v":0},{"$f":"Formula_Local(Campos_Ingreso_Datos[[#This Row],[Vinculo]])","v":"=' '!$I$3377"},"#,##0","",""]
["H2 ESF Patrimonio",{"$f":"' '!$I$3378","v":0},{"$f":"Formula_Local(Campos_Ingreso_Datos[[#This Row],[Vinculo]])","v":"=' '!$I$3378"},"#,##0","",""]
["H2 ESF Patrimonio",{"$f":"' '!$I$3380","v":0},{"$f":"Formula_Local(Campos_Ingreso_Datos[[#This Row],[Vinculo]])","v":"=' '!$I$3380"},"#,##0","",""]
["H2 ESF Patrimonio",{"$f":"' '!$I$3381","v":0},{"$f":"Formula_Local(Campos_Ingreso_Datos[[#This Row],[Vinculo]])","v":"=' '!$I$3381"},"#,##0","",""]
["H2 ESF Patrimonio",{"$f":"' '!$I$3383","v":0},{"$f":"Formula_Local(Campos_Ingreso_Datos[[#This Row],[Vinculo]])","v":"=' '!$I$3383"},"#,##0","",""]
["H2 ESF Patrimonio",{"$f":"' '!$I$3384","v":0},{"$f":"Formula_Local(Campos_Ingreso_Datos[[#This Row],[Vinculo]])","v":"=' '!$I$3384"},"#,##0","",""]
["H2 ESF Patrimonio",{"$f":"' '!$I$3385","v":0},{"$f":"Formula_Local(Campos_Ingreso_Datos[[#This Row],[Vinculo]])","v":"=' '!$I$3385"},"#,##0","",""]
["H2 ESF Patrimonio",{"$f":"' '!$I$3386","v":0},{"$f":"Formula_Local(Campos_Ingreso_Datos[[#This Row],[Vinculo]])","v":"=' '!$I$3386"},"#,##0","",""]
["H2 ESF Patrimonio",{"$f":"' '!$H$3389","v":0},{"$f":"Formula_Local(Campos_Ingreso_Datos[[#This Row],[Vinculo]])","v":"=' '!$H$3389"},"#,##0","",""]
["H2 ESF Patrimonio",{"$f":"' '!$I$3389","v":0},{"$f":"Formula_Local(Campos_Ingreso_Datos[[#This Row],[Vinculo]])","v":"=' '!$I$3389"},"#,##0","",""]
["H2 ESF Patrimonio",{"$f":"' '!$H$3390","v":0},{"$f":"Formula_Local(Campos_Ingreso_Datos[[#This Row],[Vinculo]])","v":"=' '!$H$3390"},"#,##0","",""]
["H2 ESF Patrimonio",{"$f":"' '!$I$3390","v":0},{"$f":"Formula_Local(Campos_Ingreso_Datos[[#This Row],[Vinculo]])","v":"=' '!$I$3390"},"#,##0","",""]
["H2 ESF Patrimonio",{"$f":"' '!$L$3390","v":0},{"$f":"Formula_Local(Campos_Ingreso_Datos[[#This Row],[Vinculo]])","v":"=' '!$L$3390"},"#,##0","",""]
["H2 ESF Patrimonio",{"$f":"' '!$H$3391","v":0},{"$f":"Formula_Local(Campos_Ingreso_Datos[[#This Row],[Vinculo]])","v":"=' '!$H$3391"},"#,##0","",""]
["H2 ESF Patrimonio",{"$f":"' '!$I$3391","v":0},{"$f":"Formula_Local(Campos_Ingreso_Datos[[#This Row],[Vinculo]])","v":"=' '!$I$3391"},"#,##0","",""]
["H2 ESF Patrimonio",{"$f":"' '!$H$3392","v":0},{"$f":"Formula_Local(Campos_Ingreso_Datos[[#This Row],[Vinculo]])","v":"=' '!$H$3392"},"#,##0","",""]
["H2 ESF Patrimonio",{"$f":"' '!$I$3392","v":0},{"$f":"Formula_Local(Campos_Ingreso_Datos[[#This Row],[Vinculo]])","v":"=' '!$I$3392"},"#,##0","",""]
["H2 ESF Patrimonio",{"$f":"' '!$H$3393","v":0},{"$f":"Formula_Local(Campos_Ingreso_Datos[[#This Row],[Vinculo]])","v":"=' '!$H$3393"},"#,##0","",""]
["H2 ESF Patrimonio",{"$f":"' '!$I$3393","v":0},{"$f":"Formula_Local(Campos_Ingreso_Datos[[#This Row],[Vinculo]])","v":"=' '!$I$3393"},"#,##0","",""]
["H2 ESF Patrimonio",{"$f":"' '!$H$3394","v":0},{"$f":"Formula_Local(Campos_Ingreso_Datos[[#This Row],[Vinculo]])","v":"=' '!$H$3394"},"#,##0","",""]
["H2 ESF Patrimonio",{"$f":"' '!$I$3394","v":0},{"$f":"Formula_Local(Campos_Ingreso_Datos[[#This Row],[Vinculo]])","v":"=' '!$I$3394"},"#,##0","",""]
["H2 ESF Patrimonio",{"$f":"' '!$H$3395","v":0},{"$f":"Formula_Local(Campos_Ingreso_Datos[[#This Row],[Vinculo]])","v":"=' '!$H$3395"},"#,##0","",""]
["H2 ESF Patrimonio",{"$f":"' '!$I$3395","v":0},{"$f":"Formula_Local(Campos_Ingreso_Datos[[#This Row],[Vinculo]])","v":"=' '!$I$3395"},"#,##0","",""]
["H2 ESF Patrimonio",{"$f":"' '!$L$3395","v":0},{"$f":"Formula_Local(Campos_Ingreso_Datos[[#This Row],[Vinculo]])","v":"=' '!$L$3395"},"#,##0","",""]
["H2 ESF Patrimonio",{"$f":"' '!$H$3396","v":0},{"$f":"Formula_Local(Campos_Ingreso_Datos[[#This Row],[Vinculo]])","v":"=' '!$H$3396"},"#,##0","",""]
["H2 ESF Patrimonio",{"$f":"' '!$I$3396","v":0},{"$f":"Formula_Local(Campos_Ingreso_Datos[[#This Row],[Vinculo]])","v":"=' '!$I$3396"},"#,##0","",""]
["H2 ESF Patrimonio",{"$f":"' '!$H$3397","v":0},{"$f":"Formula_Local(Campos_Ingreso_Datos[[#This Row],[Vinculo]])","v":"=' '!$H$3397"},"#,##0","",""]
["H2 ESF Patrimonio",{"$f":"' '!$I$3397","v":0},{"$f":"Formula_Local(Campos_Ingreso_Datos[[#This Row],[Vinculo]])","v":"=' '!$I$3397"},"#,##0","",""]
["H2 ESF Patrimonio",{"$f":"' '!$H$3398","v":0},{"$f":"Formula_Local(Campos_Ingreso_Datos[[#This Row],[Vinculo]])","v":"=' '!$H$3398"},"#,##0","",""]
["H2 ESF Patrimonio",{"$f":"' '!$I$3398","v":0},{"$f":"Formula_Local(Campos_Ingreso_Datos[[#This Row],[Vinculo]])","v":"=' '!$I$3398"},"#,##0","",""]
["H2 ESF Patrimonio",{"$f":"' '!$H$3399","v":0},{"$f":"Formula_Local(Campos_Ingreso_Datos[[#This Row],[Vinculo]])","v":"=' '!$H$3399"},"#,##0","",""]
["H2 ESF Patrimonio",{"$f":"' '!$I$3399","v":0},{"$f":"Formula_Local(Campos_Ingreso_Datos[[#This Row],[Vinculo]])","v":"=' '!$I$3399"},"#,##0","",""]
["H2 ESF Patrimonio",{"$f":"' '!$H$3400","v":0},{"$f":"Formula_Local(Campos_Ingreso_Datos[[#This Row],[Vinculo]])","v":"=' '!$H$3400"},"#,##0","",""]
["H2 ESF Patrimonio",{"$f":"' '!$I$3400","v":0},{"$f":"Formula_Local(Campos_Ingreso_Datos[[#This Row],[Vinculo]])","v":"=' '!$I$3400"},"#,##0","",""]
["H3 ERI Renta líquida",{"$f":"' '!$J$3413","v":0},{"$f":"Formula_Local(Campos_Ingreso_Datos[[#This Row],[Vinculo]])","v":"=' '!$J$3413"},"#,##0","",""]
["H3 ERI Renta líquida",{"$f":"' '!$J$3414","v":0},{"$f":"Formula_Local(Campos_Ingreso_Datos[[#This Row],[Vinculo]])","v":"=' '!$J$3414"},"#,##0","",""]
["H3 ERI Renta líquida",{"$f":"' '!$J$3415","v":0},{"$f":"Formula_Local(Campos_Ingreso_Datos[[#This Row],[Vinculo]])","v":"=' '!$J$3415"},"#,##0","",""]
["H3 ERI Renta líquida",{"$f":"' '!$J$3416","v":0},{"$f":"Formula_Local(Campos_Ingreso_Datos[[#This Row],[Vinculo]])","v":"=' '!$J$3416"},"#,##0","",""]
["H3 ERI Renta líquida",{"$f":"' '!$J$3417","v":0},{"$f":"Formula_Local(Campos_Ingreso_Datos[[#This Row],[Vinculo]])","v":"=' '!$J$3417"},"#,##0","",""]
["H3 ERI Renta líquida",{"$f":"' '!$J$3418","v":0},{"$f":"Formula_Local(Campos_Ingreso_Datos[[#This Row],[Vinculo]])","v":"=' '!$J$3418"},"#,##0","",""]
["H3 ERI Renta líquida",{"$f":"' '!$J$3419","v":0},{"$f":"Formula_Local(Campos_Ingreso_Datos[[#This Row],[Vinculo]])","v":"=' '!$J$3419"},"#,##0","",""]
["H3 ERI Renta líquida",{"$f":"' '!$J$3420","v":0},{"$f":"Formula_Local(Campos_Ingreso_Datos[[#This Row],[Vinculo]])","v":"=' '!$J$3420"},"#,##0","",""]
["H3 ERI Renta líquida",{"$f":"' '!$J$3421","v":0},{"$f":"Formula_Local(Campos_Ingreso_Datos[[#This Row],[Vinculo]])","v":"=' '!$J$3421"},"#,##0","",""]
["H3 ERI Renta líquida",{"$f":"' '!$J$3422","v":0},{"$f":"Formula_Local(Campos_Ingreso_Datos[[#This Row],[Vinculo]])","v":"=' '!$J$3422"},"#,##0","",""]
["H3 ERI Renta líquida",{"$f":"' '!$J$3423","v":0},{"$f":"Formula_Local(Campos_Ingreso_Datos[[#This Row],[Vinculo]])","v":"=' '!$J$3423"},"#,##0","",""]
["H3 ERI Renta líquida",{"$f":"' '!$J$3424","v":0},{"$f":"Formula_Local(Campos_Ingreso_Datos[[#This Row],[Vinculo]])","v":"=' '!$J$3424"},"#,##0","",""]
["H3 ERI Renta líquida",{"$f":"' '!$J$3425","v":0},{"$f":"Formula_Local(Campos_Ingreso_Datos[[#This Row],[Vinculo]])","v":"=' '!$J$3425"},"#,##0","",""]
["H3 ERI Renta líquida",{"$f":"' '!$J$3426","v":0},{"$f":"Formula_Local(Campos_Ingreso_Datos[[#This Row],[Vinculo]])","v":"=' '!$J$3426"},"#,##0","",""]
["H3 ERI Renta líquida",{"$f":"' '!$J$3427","v":0},{"$f":"Formula_Local(Campos_Ingreso_Datos[[#This Row],[Vinculo]])","v":"=' '!$J$3427"},"#,##0","",""]
["H3 ERI Renta líquida",{"$f":"' '!$J$3428","v":0},{"$f":"Formula_Local(Campos_Ingreso_Datos[[#This Row],[Vinculo]])","v":"=' '!$J$3428"},"#,##0","",""]
["H3 ERI Renta líquida",{"$f":"' '!$J$3429","v":0},{"$f":"Formula_Local(Campos_Ingreso_Datos[[#This Row],[Vinculo]])","v":"=' '!$J$3429"},"#,##0","",""]
["H3 ERI Renta líquida",{"$f":"' '!$J$3430","v":0},{"$f":"Formula_Local(Campos_Ingreso_Datos[[#This Row],[Vinculo]])","v":"=' '!$J$3430"},"#,##0","",""]
["H3 ERI Renta líquida",{"$f":"' '!$J$3431","v":0},{"$f":"Formula_Local(Campos_Ingreso_Datos[[#This Row],[Vinculo]])","v":"=' '!$J$3431"},"#,##0","",""]
["H3 ERI Renta líquida",{"$f":"' '!$J$3432","v":0},{"$f":"Formula_Local(Campos_Ingreso_Datos[[#This Row],[Vinculo]])","v":"=' '!$J$3432"},"#,##0","",""]
["H3 ERI Renta líquida",{"$f":"' '!$J$3433","v":0},{"$f":"Formula_Local(Campos_Ingreso_Datos[[#This Row],[Vinculo]])","v":"=' '!$J$3433"},"#,##0","",""]
["H3 ERI Renta líquida",{"$f":"' '!$J$3434","v":0},{"$f":"Formula_Local(Campos_Ingreso_Datos[[#This Row],[Vinculo]])","v":"=' '!$J$3434"},"#,##0","",""]
["H3 ERI Renta líquida",{"$f":"' '!$J$3436","v":0},{"$f":"Formula_Local(Campos_Ingreso_Datos[[#This Row],[Vinculo]])","v":"=' '!$J$3436"},"#,##0","",""]
["H3 ERI Renta líquida",{"$f":"' '!$J$3437","v":0},{"$f":"Formula_Local(Campos_Ingreso_Datos[[#This Row],[Vinculo]])","v":"=' '!$J$3437"},"#,##0","",""]
["H3 ERI Renta líquida",{"$f":"' '!$J$3438","v":0},{"$f":"Formula_Local(Campos_Ingreso_Datos[[#This Row],[Vinculo]])","v":"=' '!$J$3438"},"#,##0","",""]
["H3 ERI Renta líquida",{"$f":"' '!$J$3440","v":0},{"$f":"Formula_Local(Campos_Ingreso_Datos[[#This Row],[Vinculo]])","v":"=' '!$J$3440"},"#,##0","",""]
["H3 ERI Renta líquida",{"$f":"' '!$J$3441","v":0},{"$f":"Formula_Local(Campos_Ingreso_Datos[[#This Row],[Vinculo]])","v":"=' '!$J$3441"},"#,##0","",""]
["H3 ERI Renta líquida",{"$f":"' '!$J$3442","v":0},{"$f":"Formula_Local(Campos_Ingreso_Datos[[#This Row],[Vinculo]])","v":"=' '!$J$3442"},"#,##0","",""]
["H3 ERI Renta líquida",{"$f":"' '!$J$3443","v":0},{"$f":"Formula_Local(Campos_Ingreso_Datos[[#This Row],[Vinculo]])","v":"=' '!$J$3443"},"#,##0","",""]
["H3 ERI Renta líquida",{"$f":"' '!$J$3444","v":0},{"$f":"Formula_Local(Campos_Ingreso_Datos[[#This Row],[Vinculo]])","v":"=' '!$J$3444"},"#,##0","",""]
["H3 ERI Renta líquida",{"$f":"' '!$J$3445","v":0},{"$f":"Formula_Local(Campos_Ingreso_Datos[[#This Row],[Vinculo]])","v":"=' '!$J$3445"},"#,##0","",""]
["H3 ERI Renta líquida",{"$f":"' '!$J$3446","v":0},{"$f":"Formula_Local(Campos_Ingreso_Datos[[#This Row],[Vinculo]])","v":"=' '!$J$3446"},"#,##0","",""]
["H3 ERI Renta líquida",{"$f":"' '!$J$3448","v":0},{"$f":"Formula_Local(Campos_Ingreso_Datos[[#This Row],[Vinculo]])","v":"=' '!$J$3448"},"#,##0","",""]
["H3 ERI Renta líquida",{"$f":"' '!$J$3449","v":0},{"$f":"Formula_Local(Campos_Ingreso_Datos[[#This Row],[Vinculo]])","v":"=' '!$J$3449"},"#,##0","",""]
["H3 ERI Renta líquida",{"$f":"' '!$J$3450","v":0},{"$f":"Formula_Local(Campos_Ingreso_Datos[[#This Row],[Vinculo]])","v":"=' '!$J$3450"},"#,##0","",""]
["H3 ERI Renta líquida",{"$f":"' '!$J$3451","v":0},{"$f":"Formula_Local(Campos_Ingreso_Datos[[#This Row],[Vinculo]])","v":"=' '!$J$3451"},"#,##0","",""]
["H3 ERI Renta líquida",{"$f":"' '!$J$3452","v":0},{"$f":"Formula_Local(Campos_Ingreso_Datos[[#This Row],[Vinculo]])","v":"=' '!$J$3452"},"#,##0","",""]
["H3 ERI Renta líquida",{"$f":"' '!$J$3453","v":0},{"$f":"Formula_Local(Campos_Ingreso_Datos[[#This Row],[Vinculo]])","v":"=' '!$J$3453"},"#,##0","",""]
["H3 ERI Renta líquida",{"$f":"' '!$J$3454","v":0},{"$f":"Formula_Local(Campos_Ingreso_Datos[[#This Row],[Vinculo]])","v":"=' '!$J$3454"},"#,##0","",""]
["H3 ERI Renta líquida",{"$f":"' '!$J$3455","v":0},{"$f":"Formula_Local(Campos_Ingreso_Datos[[#This Row],[Vinculo]])","v":"=' '!$J$3455"},"#,##0","",""]
["H3 ERI Renta líquida",{"$f":"' '!$J$3456","v":0},{"$f":"Formula_Local(Campos_Ingreso_Datos[[#This Row],[Vinculo]])","v":"=' '!$J$3456"},"#,##0","",""]
["H3 ERI Renta líquida",{"$f":"' '!$J$3457","v":0},{"$f":"Formula_Local(Campos_Ingreso_Datos[[#This Row],[Vinculo]])","v":"=' '!$J$3457"},"#,##0","",""]
["H3 ERI Renta líquida",{"$f":"' '!$J$3459","v":0},{"$f":"Formula_Local(Campos_Ingreso_Datos[[#This Row],[Vinculo]])","v":"=' '!$J$3459"},"#,##0","",""]
["H3 ERI Renta líquida",{"$f":"' '!$J$3460","v":0},{"$f":"Formula_Local(Campos_Ingreso_Datos[[#This Row],[Vinculo]])","v":"=' '!$J$3460"},"#,##0","",""]
["H3 ERI Renta líquida",{"$f":"' '!$J$3461","v":0},{"$f":"Formula_Local(Campos_Ingreso_Datos[[#This Row],[Vinculo]])","v":"=' '!$J$3461"},"#,##0","",""]
["H3 ERI Renta líquida",{"$f":"' '!$J$3462","v":0},{"$f":"Formula_Local(Campos_Ingreso_Datos[[#This Row],[Vinculo]])","v":"=' '!$J$3462"},"#,##0","",""]
["H3 ERI Renta líquida",{"$f":"' '!$J$3463","v":0},{"$f":"Formula_Local(Campos_Ingreso_Datos[[#This Row],[Vinculo]])","v":"=' '!$J$3463"},"#,##0","",""]
["H3 ERI Renta líquida",{"$f":"' '!$J$3465","v":0},{"$f":"Formula_Local(Campos_Ingreso_Datos[[#This Row],[Vinculo]])","v":"=' '!$J$3465"},"#,##0","",""]
["H3 ERI Renta líquida",{"$f":"' '!$J$3466","v":0},{"$f":"Formula_Local(Campos_Ingreso_Datos[[#This Row],[Vinculo]])","v":"=' '!$J$3466"},"#,##0","",""]
["H3 ERI Renta líquida",{"$f":"' '!$J$3467","v":0},{"$f":"Formula_Local(Campos_Ingreso_Datos[[#This Row],[Vinculo]])","v":"=' '!$J$3467"},"#,##0","",""]
["H3 ERI Renta líquida",{"$f":"' '!$J$3468","v":0},{"$f":"Formula_Local(Campos_Ingreso_Datos[[#This Row],[Vinculo]])","v":"=' '!$J$3468"},"#,##0","",""]
["H3 ERI Renta líquida",{"$f":"' '!$J$3469","v":0},{"$f":"Formula_Local(Campos_Ingreso_Datos[[#This Row],[Vinculo]])","v":"=' '!$J$3469"},"#,##0","",""]
["H3 ERI Renta líquida",{"$f":"' '!$J$3470","v":0},{"$f":"Formula_Local(Campos_Ingreso_Datos[[#This Row],[Vinculo]])","v":"=' '!$J$3470"},"#,##0","",""]
["H3 ERI Renta líquida",{"$f":"' '!$J$3471","v":0},{"$f":"Formula_Local(Campos_Ingreso_Datos[[#This Row],[Vinculo]])","v":"=' '!$J$3471"},"#,##0","",""]
["H3 ERI Renta líquida",{"$f":"' '!$J$3472","v":0},{"$f":"Formula_Local(Campos_Ingreso_Datos[[#This Row],[Vinculo]])","v":"=' '!$J$3472"},"#,##0","",""]
["H3 ERI Renta líquida",{"$f":"' '!$J$3474","v":0},{"$f":"Formula_Local(Campos_Ingreso_Datos[[#This Row],[Vinculo]])","v":"=' '!$J$3474"},"#,##0","",""]
["H3 ERI Renta líquida",{"$f":"' '!$J$3475","v":0},{"$f":"Formula_Local(Campos_Ingreso_Datos[[#This Row],[Vinculo]])","v":"=' '!$J$3475"},"#,##0","",""]
["H3 ERI Renta líquida",{"$f":"' '!$J$3476","v":0},{"$f":"Formula_Local(Campos_Ingreso_Datos[[#This Row],[Vinculo]])","v":"=' '!$J$3476"},"#,##0","",""]
["H3 ERI Renta líquida",{"$f":"' '!$J$3477","v":0},{"$f":"Formula_Local(Campos_Ingreso_Datos[[#This Row],[Vinculo]])","v":"=' '!$J$3477"},"#,##0","",""]
["H3 ERI Renta líquida",{"$f":"' '!$J$3478","v":0},{"$f":"Formula_Local(Campos_Ingreso_Datos[[#This Row],[Vinculo]])","v":"=' '!$J$3478"},"#,##0","",""]
["H3 ERI Renta líquida",{"$f":"' '!$J$3479","v":0},{"$f":"Formula_Local(Campos_Ingreso_Datos[[#This Row],[Vinculo]])","v":"=' '!$J$3479"},"#,##0","",""]
["H3 ERI Renta líquida",{"$f":"' '!$J$3480","v":0},{"$f":"Formula_Local(Campos_Ingreso_Datos[[#This Row],[Vinculo]])","v":"=' '!$J$3480"},"#,##0","",""]
["H3 ERI Renta líquida",{"$f":"' '!$J$3481","v":0},{"$f":"Formula_Local(Campos_Ingreso_Datos[[#This Row],[Vinculo]])","v":"=' '!$J$3481"},"#,##0","",""]
["H3 ERI Renta líquida",{"$f":"' '!$J$3483","v":0},{"$f":"Formula_Local(Campos_Ingreso_Datos[[#This Row],[Vinculo]])","v":"=' '!$J$3483"},"#,##0","",""]
["H3 ERI Renta líquida",{"$f":"' '!$J$3484","v":0},{"$f":"Formula_Local(Campos_Ingreso_Datos[[#This Row],[Vinculo]])","v":"=' '!$J$3484"},"#,##0","",""]
["H3 ERI Renta líquida",{"$f":"' '!$J$3485","v":0},{"$f":"Formula_Local(Campos_Ingreso_Datos[[#This Row],[Vinculo]])","v":"=' '!$J$3485"},"#,##0","",""]
["H3 ERI Renta líquida",{"$f":"' '!$J$3486","v":0},{"$f":"Formula_Local(Campos_Ingreso_Datos[[#This Row],[Vinculo]])","v":"=' '!$J$3486"},"#,##0","",""]
["H3 ERI Renta líquida",{"$f":"' '!$J$3487","v":0},{"$f":"Formula_Local(Campos_Ingreso_Datos[[#This Row],[Vinculo]])","v":"=' '!$J$3487"},"#,##0","",""]
["H3 ERI Renta líquida",{"$f":"' '!$J$3488","v":0},{"$f":"Formula_Local(Campos_Ingreso_Datos[[#This Row],[Vinculo]])","v":"=' '!$J$3488"},"#,##0","",""]
["H3 ERI Renta líquida",{"$f":"' '!$J$3489","v":0},{"$f":"Formula_Local(Campos_Ingreso_Datos[[#This Row],[Vinculo]])","v":"=' '!$J$3489"},"#,##0","",""]
["H3 ERI Renta líquida",{"$f":"' '!$J$3490","v":0},{"$f":"Formula_Local(Campos_Ingreso_Datos[[#This Row],[Vinculo]])","v":"=' '!$J$3490"},"#,##0","",""]
["H3 ERI Renta líquida",{"$f":"' '!$J$3491","v":0},{"$f":"Formula_Local(Campos_Ingreso_Datos[[#This Row],[Vinculo]])","v":"=' '!$J$3491"},"#,##0","",""]
["H3 ERI Renta líquida",{"$f":"' '!$J$3492","v":0},{"$f":"Formula_Local(Campos_Ingreso_Datos[[#This Row],[Vinculo]])","v":"=' '!$J$3492"},"#,##0","",""]
["H3 ERI Renta líquida",{"$f":"' '!$J$3493","v":0},{"$f":"Formula_Local(Campos_Ingreso_Datos[[#This Row],[Vinculo]])","v":"=' '!$J$3493"},"#,##0","",""]
["H3 ERI Renta líquida",{"$f":"' '!$J$3494","v":0},{"$f":"Formula_Local(Campos_Ingreso_Datos[[#This Row],[Vinculo]])","v":"=' '!$J$3494"},"#,##0","",""]
["H3 ERI Renta líquida",{"$f":"' '!$J$3496","v":0},{"$f":"Formula_Local(Campos_Ingreso_Datos[[#This Row],[Vinculo]])","v":"=' '!$J$3496"},"#,##0","",""]
["H3 ERI Renta líquida",{"$f":"' '!$J$3497","v":0},{"$f":"Formula_Local(Campos_Ingreso_Datos[[#This Row],[Vinculo]])","v":"=' '!$J$3497"},"#,##0","",""]
["H3 ERI Renta líquida",{"$f":"' '!$J$3498","v":0},{"$f":"Formula_Local(Campos_Ingreso_Datos[[#This Row],[Vinculo]])","v":"=' '!$J$3498"},"#,##0","",""]
["H3 ERI Renta líquida",{"$f":"' '!$J$3499","v":0},{"$f":"Formula_Local(Campos_Ingreso_Datos[[#This Row],[Vinculo]])","v":"=' '!$J$3499"},"#,##0","",""]
["H3 ERI Renta líquida",{"$f":"' '!$J$3500","v":0},{"$f":"Formula_Local(Campos_Ingreso_Datos[[#This Row],[Vinculo]])","v":"=' '!$J$3500"},"#,##0","",""]
["H3 ERI Renta líquida",{"$f":"' '!$J$3501","v":0},{"$f":"Formula_Local(Campos_Ingreso_Datos[[#This Row],[Vinculo]])","v":"=' '!$J$3501"},"#,##0","",""]
["H3 ERI Renta líquida",{"$f":"' '!$J$3502","v":0},{"$f":"Formula_Local(Campos_Ingreso_Datos[[#This Row],[Vinculo]])","v":"=' '!$J$3502"},"#,##0","",""]
["H3 ERI Renta líquida",{"$f":"' '!$J$3504","v":0},{"$f":"Formula_Local(Campos_Ingreso_Datos[[#This Row],[Vinculo]])","v":"=' '!$J$3504"},"#,##0","",""]
["H3 ERI Renta líquida",{"$f":"' '!$J$3505","v":0},{"$f":"Formula_Local(Campos_Ingreso_Datos[[#This Row],[Vinculo]])","v":"=' '!$J$3505"},"#,##0","",""]
["H3 ERI Renta líquida",{"$f":"' '!$J$3506","v":0},{"$f":"Formula_Local(Campos_Ingreso_Datos[[#This Row],[Vinculo]])","v":"=' '!$J$3506"},"#,##0","",""]
["H3 ERI Renta líquida",{"$f":"' '!$J$3507","v":0},{"$f":"Formula_Local(Campos_Ingreso_Datos[[#This Row],[Vinculo]])","v":"=' '!$J$3507"},"#,##0","",""]
["H3 ERI Renta líquida",{"$f":"' '!$J$3509","v":0},{"$f":"Formula_Local(Campos_Ingreso_Datos[[#This Row],[Vinculo]])","v":"=' '!$J$3509"},"#,##0","",""]
["H3 ERI Renta líquida",{"$f":"' '!$J$3510","v":0},{"$f":"Formula_Local(Campos_Ingreso_Datos[[#This Row],[Vinculo]])","v":"=' '!$J$3510"},"#,##0","",""]
["H3 ERI Renta líquida",{"$f":"' '!$J$3511","v":0},{"$f":"Formula_Local(Campos_Ingreso_Datos[[#This Row],[Vinculo]])","v":"=' '!$J$3511"},"#,##0","",""]
["H3 ERI Renta líquida",{"$f":"' '!$J$3512","v":0},{"$f":"Formula_Local(Campos_Ingreso_Datos[[#This Row],[Vinculo]])","v":"=' '!$J$3512"},"#,##0","",""]
["H3 ERI Renta líquida",{"$f":"' '!$J$3513","v":0},{"$f":"Formula_Local(Campos_Ingreso_Datos[[#This Row],[Vinculo]])","v":"=' '!$J$3513"},"#,##0","",""]
["H3 ERI Renta líquida",{"$f":"' '!$J$3514","v":0},{"$f":"Formula_Local(Campos_Ingreso_Datos[[#This Row],[Vinculo]])","v":"=' '!$J$3514"},"#,##0","",""]
["H3 ERI Renta líquida",{"$f":"' '!$J$3515","v":0},{"$f":"Formula_Local(Campos_Ingreso_Datos[[#This Row],[Vinculo]])","v":"=' '!$J$3515"},"#,##0","",""]
["H3 ERI Renta líquida",{"$f":"' '!$J$3526","v":0},{"$f":"Formula_Local(Campos_Ingreso_Datos[[#This Row],[Vinculo]])","v":"=' '!$J$3526"},"#,##0","",""]
["H3 ERI Renta líquida",{"$f":"' '!$J$3527","v":0},{"$f":"Formula_Local(Campos_Ingreso_Datos[[#This Row],[Vinculo]])","v":"=' '!$J$3527"},"#,##0","",""]
["H3 ERI Renta líquida",{"$f":"' '!$J$3528","v":0},{"$f":"Formula_Local(Campos_Ingreso_Datos[[#This Row],[Vinculo]])","v":"=' '!$J$3528"},"#,##0","",""]
["H3 ERI Renta líquida",{"$f":"' '!$J$3529","v":0},{"$f":"Formula_Local(Campos_Ingreso_Datos[[#This Row],[Vinculo]])","v":"=' '!$J$3529"},"#,##0","",""]
["H3 ERI Renta líquida",{"$f":"' '!$J$3530","v":0},{"$f":"Formula_Local(Campos_Ingreso_Datos[[#This Row],[Vinculo]])","v":"=' '!$J$3530"},"#,##0","",""]
["H3 ERI Renta líquida",{"$f":"' '!$J$3531","v":0},{"$f":"Formula_Local(Campos_Ingreso_Datos[[#This Row],[Vinculo]])","v":"=' '!$J$3531"},"#,##0","",""]
["H3 ERI Renta líquida",{"$f":"' '!$J$3532","v":0},{"$f":"Formula_Local(Campos_Ingreso_Datos[[#This Row],[Vinculo]])","v":"=' '!$J$3532"},"#,##0","",""]
["H3 ERI Renta líquida",{"$f":"' '!$J$3533","v":0},{"$f":"Formula_Local(Campos_Ingreso_Datos[[#This Row],[Vinculo]])","v":"=' '!$J$3533"},"#,##0","",""]
["H3 ERI Renta líquida",{"$f":"' '!$J$3534","v":0},{"$f":"Formula_Local(Campos_Ingreso_Datos[[#This Row],[Vinculo]])","v":"=' '!$J$3534"},"#,##0","",""]
["H3 ERI Renta líquida",{"$f":"' '!$J$3535","v":0},{"$f":"Formula_Local(Campos_Ingreso_Datos[[#This Row],[Vinculo]])","v":"=' '!$J$3535"},"#,##0","",""]
["H3 ERI Renta líquida",{"$f":"' '!$J$3536","v":0},{"$f":"Formula_Local(Campos_Ingreso_Datos[[#This Row],[Vinculo]])","v":"=' '!$J$3536"},"#,##0","",""]
["H3 ERI Renta líquida",{"$f":"' '!$J$3537","v":0},{"$f":"Formula_Local(Campos_Ingreso_Datos[[#This Row],[Vinculo]])","v":"=' '!$J$3537"},"#,##0","",""]
["H3 ERI Renta líquida",{"$f":"' '!$J$3538","v":0},{"$f":"Formula_Local(Campos_Ingreso_Datos[[#This Row],[Vinculo]])","v":"=' '!$J$3538"},"#,##0","",""]
["H3 ERI Renta líquida",{"$f":"' '!$J$3539","v":0},{"$f":"Formula_Local(Campos_Ingreso_Datos[[#This Row],[Vinculo]])","v":"=' '!$J$3539"},"#,##0","",""]
["H3 ERI Renta líquida",{"$f":"' '!$J$3540","v":0},{"$f":"Formula_Local(Campos_Ingreso_Datos[[#This Row],[Vinculo]])","v":"=' '!$J$3540"},"#,##0","",""]
["H3 ERI Renta líquida",{"$f":"' '!$J$3541","v":0},{"$f":"Formula_Local(Campos_Ingreso_Datos[[#This Row],[Vinculo]])","v":"=' '!$J$3541"},"#,##0","",""]
["H3 ERI Renta líquida",{"$f":"' '!$J$3543","v":0},{"$f":"Formula_Local(Campos_Ingreso_Datos[[#This Row],[Vinculo]])","v":"=' '!$J$3543"},"#,##0","",""]
["H3 ERI Renta líquida",{"$f":"' '!$J$3544","v":0},{"$f":"Formula_Local(Campos_Ingreso_Datos[[#This Row],[Vinculo]])","v":"=' '!$J$3544"},"#,##0","",""]
["H3 ERI Renta líquida",{"$f":"' '!$J$3545","v":0},{"$f":"Formula_Local(Campos_Ingreso_Datos[[#This Row],[Vinculo]])","v":"=' '!$J$3545"},"#,##0","",""]
["H3 ERI Renta líquida",{"$f":"' '!$J$3546","v":0},{"$f":"Formula_Local(Campos_Ingreso_Datos[[#This Row],[Vinculo]])","v":"=' '!$J$3546"},"#,##0","",""]
["H3 ERI Renta líquida",{"$f":"' '!$J$3548","v":0},{"$f":"Formula_Local(Campos_Ingreso_Datos[[#This Row],[Vinculo]])","v":"=' '!$J$3548"},"#,##0","",""]
["H3 ERI Renta líquida",{"$f":"' '!$J$3549","v":0},{"$f":"Formula_Local(Campos_Ingreso_Datos[[#This Row],[Vinculo]])","v":"=' '!$J$3549"},"#,##0","",""]
["H3 ERI Renta líquida",{"$f":"' '!$J$3550","v":0},{"$f":"Formula_Local(Campos_Ingreso_Datos[[#This Row],[Vinculo]])","v":"=' '!$J$3550"},"#,##0","",""]
["H3 ERI Renta líquida",{"$f":"' '!$J$3551","v":0},{"$f":"Formula_Local(Campos_Ingreso_Datos[[#This Row],[Vinculo]])","v":"=' '!$J$3551"},"#,##0","",""]
["H3 ERI Renta líquida",{"$f":"' '!$J$3552","v":0},{"$f":"Formula_Local(Campos_Ingreso_Datos[[#This Row],[Vinculo]])","v":"=' '!$J$3552"},"#,##0","",""]
["H3 ERI Renta líquida",{"$f":"' '!$J$3553","v":0},{"$f":"Formula_Local(Campos_Ingreso_Datos[[#This Row],[Vinculo]])","v":"=' '!$J$3553"},"#,##0","",""]
["H3 ERI Renta líquida",{"$f":"' '!$J$3554","v":0},{"$f":"Formula_Local(Campos_Ingreso_Datos[[#This Row],[Vinculo]])","v":"=' '!$J$3554"},"#,##0","",""]
["H3 ERI Renta líquida",{"$f":"' '!$J$3555","v":0},{"$f":"Formula_Local(Campos_Ingreso_Datos[[#This Row],[Vinculo]])","v":"=' '!$J$3555"},"#,##0","",""]
["H3 ERI Renta líquida",{"$f":"' '!$J$3556","v":0},{"$f":"Formula_Local(Campos_Ingreso_Datos[[#This Row],[Vinculo]])","v":"=' '!$J$3556"},"#,##0","",""]
["H3 ERI Renta líquida",{"$f":"' '!$J$3557","v":0},{"$f":"Formula_Local(Campos_Ingreso_Datos[[#This Row],[Vinculo]])","v":"=' '!$J$3557"},"#,##0","",""]
["H3 ERI Renta líquida",{"$f":"' '!$J$3558","v":0},{"$f":"Formula_Local(Campos_Ingreso_Datos[[#This Row],[Vinculo]])","v":"=' '!$J$3558"},"#,##0","",""]
["H3 ERI Renta líquida",{"$f":"' '!$J$3559","v":0},{"$f":"Formula_Local(Campos_Ingreso_Datos[[#This Row],[Vinculo]])","v":"=' '!$J$3559"},"#,##0","",""]
["H3 ERI Renta líquida",{"$f":"' '!$J$3560","v":0},{"$f":"Formula_Local(Campos_Ingreso_Datos[[#This Row],[Vinculo]])","v":"=' '!$J$3560"},"#,##0","",""]
["H3 ERI Renta líquida",{"$f":"' '!$J$3561","v":0},{"$f":"Formula_Local(Campos_Ingreso_Datos[[#This Row],[Vinculo]])","v":"=' '!$J$3561"},"#,##0","",""]
["H3 ERI Renta líquida",{"$f":"' '!$J$3562","v":0},{"$f":"Formula_Local(Campos_Ingreso_Datos[[#This Row],[Vinculo]])","v":"=' '!$J$3562"},"#,##0","",""]
["H3 ERI Renta líquida",{"$f":"' '!$J$3563","v":0},{"$f":"Formula_Local(Campos_Ingreso_Datos[[#This Row],[Vinculo]])","v":"=' '!$J$3563"},"#,##0","",""]
["H3 ERI Renta líquida",{"$f":"' '!$J$3564","v":0},{"$f":"Formula_Local(Campos_Ingreso_Datos[[#This Row],[Vinculo]])","v":"=' '!$J$3564"},"#,##0","",""]
["H3 ERI Renta líquida",{"$f":"' '!$J$3565","v":0},{"$f":"Formula_Local(Campos_Ingreso_Datos[[#This Row],[Vinculo]])","v":"=' '!$J$3565"},"#,##0","",""]
["H3 ERI Renta líquida",{"$f":"' '!$J$3566","v":0},{"$f":"Formula_Local(Campos_Ingreso_Datos[[#This Row],[Vinculo]])","v":"=' '!$J$3566"},"#,##0","",""]
["H3 ERI Renta líquida",{"$f":"' '!$J$3567","v":0},{"$f":"Formula_Local(Campos_Ingreso_Datos[[#This Row],[Vinculo]])","v":"=' '!$J$3567"},"#,##0","",""]
["H3 ERI Renta líquida",{"$f":"' '!$J$3568","v":0},{"$f":"Formula_Local(Campos_Ingreso_Datos[[#This Row],[Vinculo]])","v":"=' '!$J$3568"},"#,##0","",""]
["H3 ERI Renta líquida",{"$f":"' '!$J$3569","v":0},{"$f":"Formula_Local(Campos_Ingreso_Datos[[#This Row],[Vinculo]])","v":"=' '!$J$3569"},"#,##0","",""]
["H3 ERI Renta líquida",{"$f":"' '!$J$3570","v":0},{"$f":"Formula_Local(Campos_Ingreso_Datos[[#This Row],[Vinculo]])","v":"=' '!$J$3570"},"#,##0","",""]
["H3 ERI Renta líquida",{"$f":"' '!$J$3571","v":0},{"$f":"Formula_Local(Campos_Ingreso_Datos[[#This Row],[Vinculo]])","v":"=' '!$J$3571"},"#,##0","",""]
["H3 ERI Renta líquida",{"$f":"' '!$J$3573","v":0},{"$f":"Formula_Local(Campos_Ingreso_Datos[[#This Row],[Vinculo]])","v":"=' '!$J$3573"},"#,##0","",""]
["H3 ERI Renta líquida",{"$f":"' '!$J$3574","v":0},{"$f":"Formula_Local(Campos_Ingreso_Datos[[#This Row],[Vinculo]])","v":"=' '!$J$3574"},"#,##0","",""]
["H3 ERI Renta líquida",{"$f":"' '!$J$3575","v":0},{"$f":"Formula_Local(Campos_Ingreso_Datos[[#This Row],[Vinculo]])","v":"=' '!$J$3575"},"#,##0","",""]
["H3 ERI Renta líquida",{"$f":"' '!$J$3576","v":0},{"$f":"Formula_Local(Campos_Ingreso_Datos[[#This Row],[Vinculo]])","v":"=' '!$J$3576"},"#,##0","",""]
["H3 ERI Renta líquida",{"$f":"' '!$J$3577","v":0},{"$f":"Formula_Local(Campos_Ingreso_Datos[[#This Row],[Vinculo]])","v":"=' '!$J$3577"},"#,##0","",""]
["H3 ERI Renta líquida",{"$f":"' '!$J$3578","v":0},{"$f":"Formula_Local(Campos_Ingreso_Datos[[#This Row],[Vinculo]])","v":"=' '!$J$3578"},"#,##0","",""]
["H3 ERI Renta líquida",{"$f":"' '!$J$3579","v":0},{"$f":"Formula_Local(Campos_Ingreso_Datos[[#This Row],[Vinculo]])","v":"=' '!$J$3579"},"#,##0","",""]
["H3 ERI Renta líquida",{"$f":"' '!$J$3580","v":0},{"$f":"Formula_Local(Campos_Ingreso_Datos[[#This Row],[Vinculo]])","v":"=' '!$J$3580"},"#,##0","",""]
["H3 ERI Renta líquida",{"$f":"' '!$J$3581","v":0},{"$f":"Formula_Local(Campos_Ingreso_Datos[[#This Row],[Vinculo]])","v":"=' '!$J$3581"},"#,##0","",""]
["H3 ERI Renta líquida",{"$f":"' '!$J$3582","v":0},{"$f":"Formula_Local(Campos_Ingreso_Datos[[#This Row],[Vinculo]])","v":"=' '!$J$3582"},"#,##0","",""]
["H3 ERI Renta líquida",{"$f":"' '!$J$3583","v":0},{"$f":"Formula_Local(Campos_Ingreso_Datos[[#This Row],[Vinculo]])","v":"=' '!$J$3583"},"#,##0","",""]
["H3 ERI Renta líquida",{"$f":"' '!$J$3590","v":0},{"$f":"Formula_Local(Campos_Ingreso_Datos[[#This Row],[Vinculo]])","v":"=' '!$J$3590"},"#,##0","",""]
["H3 ERI Renta líquida",{"$f":"' '!$J$3591","v":0},{"$f":"Formula_Local(Campos_Ingreso_Datos[[#This Row],[Vinculo]])","v":"=' '!$J$3591"},"#,##0","",""]
["H3 ERI Renta líquida",{"$f":"' '!$J$3592","v":0},{"$f":"Formula_Local(Campos_Ingreso_Datos[[#This Row],[Vinculo]])","v":"=' '!$J$3592"},"#,##0","",""]
["H3 ERI Renta líquida",{"$f":"' '!$J$3593","v":0},{"$f":"Formula_Local(Campos_Ingreso_Datos[[#This Row],[Vinculo]])","v":"=' '!$J$3593"},"#,##0","",""]
["H3 ERI Renta líquida",{"$f":"' '!$J$3595","v":0},{"$f":"Formula_Local(Campos_Ingreso_Datos[[#This Row],[Vinculo]])","v":"=' '!$J$3595"},"#,##0","",""]
["H3 ERI Renta líquida",{"$f":"' '!$J$3596","v":0},{"$f":"Formula_Local(Campos_Ingreso_Datos[[#This Row],[Vinculo]])","v":"=' '!$J$3596"},"#,##0","",""]
["H3 ERI Renta líquida",{"$f":"' '!$J$3597","v":0},{"$f":"Formula_Local(Campos_Ingreso_Datos[[#This Row],[Vinculo]])","v":"=' '!$J$3597"},"#,##0","",""]
["H3 ERI Renta líquida",{"$f":"' '!$J$3598","v":0},{"$f":"Formula_Local(Campos_Ingreso_Datos[[#This Row],[Vinculo]])","v":"=' '!$J$3598"},"#,##0","",""]
["H3 ERI Renta líquida",{"$f":"' '!$J$3599","v":0},{"$f":"Formula_Local(Campos_Ingreso_Datos[[#This Row],[Vinculo]])","v":"=' '!$J$3599"},"#,##0","",""]
["H3 ERI Renta líquida",{"$f":"' '!$J$3600","v":0},{"$f":"Formula_Local(Campos_Ingreso_Datos[[#This Row],[Vinculo]])","v":"=' '!$J$3600"},"#,##0","",""]
["H3 ERI Renta líquida",{"$f":"' '!$J$3601","v":0},{"$f":"Formula_Local(Campos_Ingreso_Datos[[#This Row],[Vinculo]])","v":"=' '!$J$3601"},"#,##0","",""]
["H3 ERI Renta líquida",{"$f":"' '!$J$3602","v":0},{"$f":"Formula_Local(Campos_Ingreso_Datos[[#This Row],[Vinculo]])","v":"=' '!$J$3602"},"#,##0","",""]
["H3 ERI Renta líquida",{"$f":"' '!$J$3603","v":0},{"$f":"Formula_Local(Campos_Ingreso_Datos[[#This Row],[Vinculo]])","v":"=' '!$J$3603"},"#,##0","",""]
["H3 ERI Renta líquida",{"$f":"' '!$J$3604","v":0},{"$f":"Formula_Local(Campos_Ingreso_Datos[[#This Row],[Vinculo]])","v":"=' '!$J$3604"},"#,##0","",""]
["H3 ERI Renta líquida",{"$f":"' '!$J$3605","v":0},{"$f":"Formula_Local(Campos_Ingreso_Datos[[#This Row],[Vinculo]])","v":"=' '!$J$3605"},"#,##0","",""]
["H3 ERI Renta líquida",{"$f":"' '!$J$3606","v":0},{"$f":"Formula_Local(Campos_Ingreso_Datos[[#This Row],[Vinculo]])","v":"=' '!$J$3606"},"#,##0","",""]
["H3 ERI Renta líquida",{"$f":"' '!$J$3607","v":0},{"$f":"Formula_Local(Campos_Ingreso_Datos[[#This Row],[Vinculo]])","v":"=' '!$J$3607"},"#,##0","",""]
["H3 ERI Renta líquida",{"$f":"' '!$J$3608","v":0},{"$f":"Formula_Local(Campos_Ingreso_Datos[[#This Row],[Vinculo]])","v":"=' '!$J$3608"},"#,##0","",""]
["H3 ERI Renta líquida",{"$f":"' '!$J$3609","v":0},{"$f":"Formula_Local(Campos_Ingreso_Datos[[#This Row],[Vinculo]])","v":"=' '!$J$3609"},"#,##0","",""]
["H3 ERI Renta líquida",{"$f":"' '!$J$3610","v":0},{"$f":"Formula_Local(Campos_Ingreso_Datos[[#This Row],[Vinculo]])","v":"=' '!$J$3610"},"#,##0","",""]
["H3 ERI Renta líquida",{"$f":"' '!$J$3611","v":0},{"$f":"Formula_Local(Campos_Ingreso_Datos[[#This Row],[Vinculo]])","v":"=' '!$J$3611"},"#,##0","",""]
["H3 ERI Renta líquida",{"$f":"' '!$J$3612","v":0},{"$f":"Formula_Local(Campos_Ingreso_Datos[[#This Row],[Vinculo]])","v":"=' '!$J$3612"},"#,##0","",""]
["H3 ERI Renta líquida",{"$f":"' '!$J$3613","v":0},{"$f":"Formula_Local(Campos_Ingreso_Datos[[#This Row],[Vinculo]])","v":"=' '!$J$3613"},"#,##0","",""]
["H3 ERI Renta líquida",{"$f":"' '!$J$3614","v":0},{"$f":"Formula_Local(Campos_Ingreso_Datos[[#This Row],[Vinculo]])","v":"=' '!$J$3614"},"#,##0","",""]
["H3 ERI Renta líquida",{"$f":"' '!$J$3616","v":0},{"$f":"Formula_Local(Campos_Ingreso_Datos[[#This Row],[Vinculo]])","v":"=' '!$J$3616"},"#,##0","",""]
["H3 ERI Renta líquida",{"$f":"' '!$J$3617","v":0},{"$f":"Formula_Local(Campos_Ingreso_Datos[[#This Row],[Vinculo]])","v":"=' '!$J$3617"},"#,##0","",""]
["H3 ERI Renta líquida",{"$f":"' '!$J$3618","v":0},{"$f":"Formula_Local(Campos_Ingreso_Datos[[#This Row],[Vinculo]])","v":"=' '!$J$3618"},"#,##0","",""]
["H3 ERI Renta líquida",{"$f":"' '!$J$3619","v":0},{"$f":"Formula_Local(Campos_Ingreso_Datos[[#This Row],[Vinculo]])","v":"=' '!$J$3619"},"#,##0","",""]
["H3 ERI Renta líquida",{"$f":"' '!$J$3620","v":0},{"$f":"Formula_Local(Campos_Ingreso_Datos[[#This Row],[Vinculo]])","v":"=' '!$J$3620"},"#,##0","",""]
["H3 ERI Renta líquida",{"$f":"' '!$J$3621","v":0},{"$f":"Formula_Local(Campos_Ingreso_Datos[[#This Row],[Vinculo]])","v":"=' '!$J$3621"},"#,##0","",""]
["H3 ERI Renta líquida",{"$f":"' '!$J$3622","v":0},{"$f":"Formula_Local(Campos_Ingreso_Datos[[#This Row],[Vinculo]])","v":"=' '!$J$3622"},"#,##0","",""]
["H3 ERI Renta líquida",{"$f":"' '!$J$3623","v":0},{"$f":"Formula_Local(Campos_Ingreso_Datos[[#This Row],[Vinculo]])","v":"=' '!$J$3623"},"#,##0","",""]
["H3 ERI Renta líquida",{"$f":"' '!$J$3624","v":0},{"$f":"Formula_Local(Campos_Ingreso_Datos[[#This Row],[Vinculo]])","v":"=' '!$J$3624"},"#,##0","",""]
["H3 ERI Renta líquida",{"$f":"' '!$J$3625","v":0},{"$f":"Formula_Local(Campos_Ingreso_Datos[[#This Row],[Vinculo]])","v":"=' '!$J$3625"},"#,##0","",""]
["H3 ERI Renta líquida",{"$f":"' '!$J$3626","v":0},{"$f":"Formula_Local(Campos_Ingreso_Datos[[#This Row],[Vinculo]])","v":"=' '!$J$3626"},"#,##0","",""]
["H3 ERI Renta líquida",{"$f":"' '!$J$3627","v":0},{"$f":"Formula_Local(Campos_Ingreso_Datos[[#This Row],[Vinculo]])","v":"=' '!$J$3627"},"#,##0","",""]
["H3 ERI Renta líquida",{"$f":"' '!$J$3628","v":0},{"$f":"Formula_Local(Campos_Ingreso_Datos[[#This Row],[Vinculo]])","v":"=' '!$J$3628"},"#,##0","",""]
["H3 ERI Renta líquida",{"$f":"' '!$J$3629","v":0},{"$f":"Formula_Local(Campos_Ingreso_Datos[[#This Row],[Vinculo]])","v":"=' '!$J$3629"},"#,##0","",""]
["H3 ERI Renta líquida",{"$f":"' '!$J$3630","v":0},{"$f":"Formula_Local(Campos_Ingreso_Datos[[#This Row],[Vinculo]])","v":"=' '!$J$3630"},"#,##0","",""]
["H3 ERI Renta líquida",{"$f":"' '!$J$3631","v":0},{"$f":"Formula_Local(Campos_Ingreso_Datos[[#This Row],[Vinculo]])","v":"=' '!$J$3631"},"#,##0","",""]
["H3 ERI Renta líquida",{"$f":"' '!$J$3632","v":0},{"$f":"Formula_Local(Campos_Ingreso_Datos[[#This Row],[Vinculo]])","v":"=' '!$J$3632"},"#,##0","",""]
["H3 ERI Renta líquida",{"$f":"' '!$J$3633","v":0},{"$f":"Formula_Local(Campos_Ingreso_Datos[[#This Row],[Vinculo]])","v":"=' '!$J$3633"},"#,##0","",""]
["H3 ERI Renta líquida",{"$f":"' '!$J$3634","v":0},{"$f":"Formula_Local(Campos_Ingreso_Datos[[#This Row],[Vinculo]])","v":"=' '!$J$3634"},"#,##0","",""]
["H3 ERI Renta líquida",{"$f":"' '!$J$3635","v":0},{"$f":"Formula_Local(Campos_Ingreso_Datos[[#This Row],[Vinculo]])","v":"=' '!$J$3635"},"#,##0","",""]
["H3 ERI Renta líquida",{"$f":"' '!$J$3636","v":0},{"$f":"Formula_Local(Campos_Ingreso_Datos[[#This Row],[Vinculo]])","v":"=' '!$J$3636"},"#,##0","",""]
["H3 ERI Renta líquida",{"$f":"' '!$J$3637","v":0},{"$f":"Formula_Local(Campos_Ingreso_Datos[[#This Row],[Vinculo]])","v":"=' '!$J$3637"},"#,##0","",""]
["H3 ERI Renta líquida",{"$f":"' '!$J$3638","v":0},{"$f":"Formula_Local(Campos_Ingreso_Datos[[#This Row],[Vinculo]])","v":"=' '!$J$3638"},"#,##0","",""]
["H3 ERI Renta líquida",{"$f":"' '!$J$3639","v":0},{"$f":"Formula_Local(Campos_Ingreso_Datos[[#This Row],[Vinculo]])","v":"=' '!$J$3639"},"#,##0","",""]
["H3 ERI Renta líquida",{"$f":"' '!$J$3642","v":0},{"$f":"Formula_Local(Campos_Ingreso_Datos[[#This Row],[Vinculo]])","v":"=' '!$J$3642"},"#,##0","",""]
["H3 ERI Renta líquida",{"$f":"' '!$J$3643","v":0},{"$f":"Formula_Local(Campos_Ingreso_Datos[[#This Row],[Vinculo]])","v":"=' '!$J$3643"},"#,##0","",""]
["H3 ERI Renta líquida",{"$f":"' '!$J$3644","v":0},{"$f":"Formula_Local(Campos_Ingreso_Datos[[#This Row],[Vinculo]])","v":"=' '!$J$3644"},"#,##0","",""]
["H3 ERI Renta líquida",{"$f":"' '!$J$3645","v":0},{"$f":"Formula_Local(Campos_Ingreso_Datos[[#This Row],[Vinculo]])","v":"=' '!$J$3645"},"#,##0","",""]
["H3 ERI Renta líquida",{"$f":"' '!$J$3647","v":0},{"$f":"Formula_Local(Campos_Ingreso_Datos[[#This Row],[Vinculo]])","v":"=' '!$J$3647"},"#,##0","",""]
["H3 ERI Renta líquida",{"$f":"' '!$J$3648","v":0},{"$f":"Formula_Local(Campos_Ingreso_Datos[[#This Row],[Vinculo]])","v":"=' '!$J$3648"},"#,##0","",""]
["H3 ERI Renta líquida",{"$f":"' '!$J$3649","v":0},{"$f":"Formula_Local(Campos_Ingreso_Datos[[#This Row],[Vinculo]])","v":"=' '!$J$3649"},"#,##0","",""]
["H3 ERI Renta líquida",{"$f":"' '!$J$3650","v":0},{"$f":"Formula_Local(Campos_Ingreso_Datos[[#This Row],[Vinculo]])","v":"=' '!$J$3650"},"#,##0","",""]
["H3 ERI Renta líquida",{"$f":"' '!$J$3651","v":0},{"$f":"Formula_Local(Campos_Ingreso_Datos[[#This Row],[Vinculo]])","v":"=' '!$J$3651"},"#,##0","",""]
["H3 ERI Renta líquida",{"$f":"' '!$J$3652","v":0},{"$f":"Formula_Local(Campos_Ingreso_Datos[[#This Row],[Vinculo]])","v":"=' '!$J$3652"},"#,##0","",""]
["H3 ERI Renta líquida",{"$f":"' '!$J$3653","v":0},{"$f":"Formula_Local(Campos_Ingreso_Datos[[#This Row],[Vinculo]])","v":"=' '!$J$3653"},"#,##0","",""]
["H3 ERI Renta líquida",{"$f":"' '!$J$3654","v":0},{"$f":"Formula_Local(Campos_Ingreso_Datos[[#This Row],[Vinculo]])","v":"=' '!$J$3654"},"#,##0","",""]
["H3 ERI Renta líquida",{"$f":"' '!$J$3655","v":0},{"$f":"Formula_Local(Campos_Ingreso_Datos[[#This Row],[Vinculo]])","v":"=' '!$J$3655"},"#,##0","",""]
["H3 ERI Renta líquida",{"$f":"' '!$J$3656","v":0},{"$f":"Formula_Local(Campos_Ingreso_Datos[[#This Row],[Vinculo]])","v":"=' '!$J$3656"},"#,##0","",""]
["H3 ERI Renta líquida",{"$f":"' '!$J$3657","v":0},{"$f":"Formula_Local(Campos_Ingreso_Datos[[#This Row],[Vinculo]])","v":"=' '!$J$3657"},"#,##0","",""]
["H3 ERI Renta líquida",{"$f":"' '!$J$3658","v":0},{"$f":"Formula_Local(Campos_Ingreso_Datos[[#This Row],[Vinculo]])","v":"=' '!$J$3658"},"#,##0","",""]
["H3 ERI Renta líquida",{"$f":"' '!$J$3659","v":0},{"$f":"Formula_Local(Campos_Ingreso_Datos[[#This Row],[Vinculo]])","v":"=' '!$J$3659"},"#,##0","",""]
["H3 ERI Renta líquida",{"$f":"' '!$J$3660","v":0},{"$f":"Formula_Local(Campos_Ingreso_Datos[[#This Row],[Vinculo]])","v":"=' '!$J$3660"},"#,##0","",""]
["H3 ERI Renta líquida",{"$f":"' '!$J$3661","v":0},{"$f":"Formula_Local(Campos_Ingreso_Datos[[#This Row],[Vinculo]])","v":"=' '!$J$3661"},"#,##0","",""]
["H3 ERI Renta líquida",{"$f":"' '!$J$3662","v":0},{"$f":"Formula_Local(Campos_Ingreso_Datos[[#This Row],[Vinculo]])","v":"=' '!$J$3662"},"#,##0","",""]
["H3 ERI Renta líquida",{"$f":"' '!$J$3663","v":0},{"$f":"Formula_Local(Campos_Ingreso_Datos[[#This Row],[Vinculo]])","v":"=' '!$J$3663"},"#,##0","",""]
["H3 ERI Renta líquida",{"$f":"' '!$J$3664","v":0},{"$f":"Formula_Local(Campos_Ingreso_Datos[[#This Row],[Vinculo]])","v":"=' '!$J$3664"},"#,##0","",""]
["H3 ERI Renta líquida",{"$f":"' '!$J$3665","v":0},{"$f":"Formula_Local(Campos_Ingreso_Datos[[#This Row],[Vinculo]])","v":"=' '!$J$3665"},"#,##0","",""]
["H3 ERI Renta líquida",{"$f":"' '!$J$3666","v":0},{"$f":"Formula_Local(Campos_Ingreso_Datos[[#This Row],[Vinculo]])","v":"=' '!$J$3666"},"#,##0","",""]
["H3 ERI Renta líquida",{"$f":"' '!$J$3667","v":0},{"$f":"Formula_Local(Campos_Ingreso_Datos[[#This Row],[Vinculo]])","v":"=' '!$J$3667"},"#,##0","",""]
["H3 ERI Renta líquida",{"$f":"' '!$J$3668","v":0},{"$f":"Formula_Local(Campos_Ingreso_Datos[[#This Row],[Vinculo]])","v":"=' '!$J$3668"},"#,##0","",""]
["H3 ERI Renta líquida",{"$f":"' '!$J$3669","v":0},{"$f":"Formula_Local(Campos_Ingreso_Datos[[#This Row],[Vinculo]])","v":"=' '!$J$3669"},"#,##0","",""]
["H3 ERI Renta líquida",{"$f":"' '!$J$3671","v":0},{"$f":"Formula_Local(Campos_Ingreso_Datos[[#This Row],[Vinculo]])","v":"=' '!$J$3671"},"#,##0","",""]
["H3 ERI Renta líquida",{"$f":"' '!$J$3672","v":0},{"$f":"Formula_Local(Campos_Ingreso_Datos[[#This Row],[Vinculo]])","v":"=' '!$J$3672"},"#,##0","",""]
["H3 ERI Renta líquida",{"$f":"' '!$J$3673","v":0},{"$f":"Formula_Local(Campos_Ingreso_Datos[[#This Row],[Vinculo]])","v":"=' '!$J$3673"},"#,##0","",""]
["H3 ERI Renta líquida",{"$f":"' '!$J$3674","v":0},{"$f":"Formula_Local(Campos_Ingreso_Datos[[#This Row],[Vinculo]])","v":"=' '!$J$3674"},"#,##0","",""]
["H3 ERI Renta líquida",{"$f":"' '!$J$3675","v":0},{"$f":"Formula_Local(Campos_Ingreso_Datos[[#This Row],[Vinculo]])","v":"=' '!$J$3675"},"#,##0","",""]
["H3 ERI Renta líquida",{"$f":"' '!$J$3676","v":0},{"$f":"Formula_Local(Campos_Ingreso_Datos[[#This Row],[Vinculo]])","v":"=' '!$J$3676"},"#,##0","",""]
["H3 ERI Renta líquida",{"$f":"' '!$J$3677","v":0},{"$f":"Formula_Local(Campos_Ingreso_Datos[[#This Row],[Vinculo]])","v":"=' '!$J$3677"},"#,##0","",""]
["H3 ERI Renta líquida",{"$f":"' '!$J$3678","v":0},{"$f":"Formula_Local(Campos_Ingreso_Datos[[#This Row],[Vinculo]])","v":"=' '!$J$3678"},"#,##0","",""]
["H3 ERI Renta líquida",{"$f":"' '!$J$3679","v":0},{"$f":"Formula_Local(Campos_Ingreso_Datos[[#This Row],[Vinculo]])","v":"=' '!$J$3679"},"#,##0","",""]
["H3 ERI Renta líquida",{"$f":"' '!$J$3680","v":0},{"$f":"Formula_Local(Campos_Ingreso_Datos[[#This Row],[Vinculo]])","v":"=' '!$J$3680"},"#,##0","",""]
["H3 ERI Renta líquida",{"$f":"' '!$J$3681","v":0},{"$f":"Formula_Local(Campos_Ingreso_Datos[[#This Row],[Vinculo]])","v":"=' '!$J$3681"},"#,##0","",""]
["H3 ERI Renta líquida",{"$f":"' '!$J$3682","v":0},{"$f":"Formula_Local(Campos_Ingreso_Datos[[#This Row],[Vinculo]])","v":"=' '!$J$3682"},"#,##0","",""]
["H3 ERI Renta líquida",{"$f":"' '!$J$3683","v":0},{"$f":"Formula_Local(Campos_Ingreso_Datos[[#This Row],[Vinculo]])","v":"=' '!$J$3683"},"#,##0","",""]
["H3 ERI Renta líquida",{"$f":"' '!$J$3684","v":0},{"$f":"Formula_Local(Campos_Ingreso_Datos[[#This Row],[Vinculo]])","v":"=' '!$J$3684"},"#,##0","",""]
["H3 ERI Renta líquida",{"$f":"' '!$J$3685","v":0},{"$f":"Formula_Local(Campos_Ingreso_Datos[[#This Row],[Vinculo]])","v":"=' '!$J$3685"},"#,##0","",""]
["H3 ERI Renta líquida",{"$f":"' '!$J$3686","v":0},{"$f":"Formula_Local(Campos_Ingreso_Datos[[#This Row],[Vinculo]])","v":"=' '!$J$3686"},"#,##0","",""]
["H3 ERI Renta líquida",{"$f":"' '!$J$3687","v":0},{"$f":"Formula_Local(Campos_Ingreso_Datos[[#This Row],[Vinculo]])","v":"=' '!$J$3687"},"#,##0","",""]
["H3 ERI Renta líquida",{"$f":"' '!$J$3688","v":0},{"$f":"Formula_Local(Campos_Ingreso_Datos[[#This Row],[Vinculo]])","v":"=' '!$J$3688"},"#,##0","",""]
["H3 ERI Renta líquida",{"$f":"' '!$J$3689","v":0},{"$f":"Formula_Local(Campos_Ingreso_Datos[[#This Row],[Vinculo]])","v":"=' '!$J$3689"},"#,##0","",""]
["H3 ERI Renta líquida",{"$f":"' '!$J$3690","v":0},{"$f":"Formula_Local(Campos_Ingreso_Datos[[#This Row],[Vinculo]])","v":"=' '!$J$3690"},"#,##0","",""]
["H3 ERI Renta líquida",{"$f":"' '!$J$3691","v":0},{"$f":"Formula_Local(Campos_Ingreso_Datos[[#This Row],[Vinculo]])","v":"=' '!$J$3691"},"#,##0","",""]
["H3 ERI Renta líquida",{"$f":"' '!$J$3692","v":0},{"$f":"Formula_Local(Campos_Ingreso_Datos[[#This Row],[Vinculo]])","v":"=' '!$J$3692"},"#,##0","",""]
["H3 ERI Renta líquida",{"$f":"' '!$J$3693","v":0},{"$f":"Formula_Local(Campos_Ingreso_Datos[[#This Row],[Vinculo]])","v":"=' '!$J$3693"},"#,##0","",""]
["H3 ERI Renta líquida",{"$f":"' '!$J$3694","v":0},{"$f":"Formula_Local(Campos_Ingreso_Datos[[#This Row],[Vinculo]])","v":"=' '!$J$3694"},"#,##0","",""]
["H3 ERI Renta líquida",{"$f":"' '!$J$3696","v":0},{"$f":"Formula_Local(Campos_Ingreso_Datos[[#This Row],[Vinculo]])","v":"=' '!$J$3696"},"#,##0","",""]
["H3 ERI Renta líquida",{"$f":"' '!$J$3697","v":0},{"$f":"Formula_Local(Campos_Ingreso_Datos[[#This Row],[Vinculo]])","v":"=' '!$J$3697"},"#,##0","",""]
["H3 ERI Renta líquida",{"$f":"' '!$J$3698","v":0},{"$f":"Formula_Local(Campos_Ingreso_Datos[[#This Row],[Vinculo]])","v":"=' '!$J$3698"},"#,##0","",""]
["H3 ERI Renta líquida",{"$f":"' '!$J$3699","v":0},{"$f":"Formula_Local(Campos_Ingreso_Datos[[#This Row],[Vinculo]])","v":"=' '!$J$3699"},"#,##0","",""]
["H3 ERI Renta líquida",{"$f":"' '!$J$3700","v":0},{"$f":"Formula_Local(Campos_Ingreso_Datos[[#This Row],[Vinculo]])","v":"=' '!$J$3700"},"#,##0","",""]
["H3 ERI Renta líquida",{"$f":"' '!$J$3701","v":0},{"$f":"Formula_Local(Campos_Ingreso_Datos[[#This Row],[Vinculo]])","v":"=' '!$J$3701"},"#,##0","",""]
["H3 ERI Renta líquida",{"$f":"' '!$J$3702","v":0},{"$f":"Formula_Local(Campos_Ingreso_Datos[[#This Row],[Vinculo]])","v":"=' '!$J$3702"},"#,##0","",""]
["H3 ERI Renta líquida",{"$f":"' '!$J$3703","v":0},{"$f":"Formula_Local(Campos_Ingreso_Datos[[#This Row],[Vinculo]])","v":"=' '!$J$3703"},"#,##0","",""]
["H3 ERI Renta líquida",{"$f":"' '!$J$3704","v":0},{"$f":"Formula_Local(Campos_Ingreso_Datos[[#This Row],[Vinculo]])","v":"=' '!$J$3704"},"#,##0","",""]
["H3 ERI Renta líquida",{"$f":"' '!$J$3705","v":0},{"$f":"Formula_Local(Campos_Ingreso_Datos[[#This Row],[Vinculo]])","v":"=' '!$J$3705"},"#,##0","",""]
["H3 ERI Renta líquida",{"$f":"' '!$J$3706","v":0},{"$f":"Formula_Local(Campos_Ingreso_Datos[[#This Row],[Vinculo]])","v":"=' '!$J$3706"},"#,##0","",""]
["H3 ERI Renta líquida",{"$f":"' '!$J$3708","v":0},{"$f":"Formula_Local(Campos_Ingreso_Datos[[#This Row],[Vinculo]])","v":"=' '!$J$3708"},"#,##0","",""]
["H3 ERI Renta líquida",{"$f":"' '!$J$3709","v":0},{"$f":"Formula_Local(Campos_Ingreso_Datos[[#This Row],[Vinculo]])","v":"=' '!$J$3709"},"#,##0","",""]
["H3 ERI Renta líquida",{"$f":"' '!$J$3711","v":0},{"$f":"Formula_Local(Campos_Ingreso_Datos[[#This Row],[Vinculo]])","v":"=' '!$J$3711"},"#,##0","",""]
["H3 ERI Renta líquida",{"$f":"' '!$J$3712","v":0},{"$f":"Formula_Local(Campos_Ingreso_Datos[[#This Row],[Vinculo]])","v":"=' '!$J$3712"},"#,##0","",""]
["H3 ERI Renta líquida",{"$f":"' '!$J$3713","v":0},{"$f":"Formula_Local(Campos_Ingreso_Datos[[#This Row],[Vinculo]])","v":"=' '!$J$3713"},"#,##0","",""]
["H3 ERI Renta líquida",{"$f":"' '!$J$3714","v":0},{"$f":"Formula_Local(Campos_Ingreso_Datos[[#This Row],[Vinculo]])","v":"=' '!$J$3714"},"#,##0","",""]
["H3 ERI Renta líquida",{"$f":"' '!$J$3715","v":0},{"$f":"Formula_Local(Campos_Ingreso_Datos[[#This Row],[Vinculo]])","v":"=' '!$J$3715"},"#,##0","",""]
["H3 ERI Renta líquida",{"$f":"' '!$J$3717","v":0},{"$f":"Formula_Local(Campos_Ingreso_Datos[[#This Row],[Vinculo]])","v":"=' '!$J$3717"},"#,##0","",""]
["H3 ERI Renta líquida",{"$f":"' '!$J$3718","v":0},{"$f":"Formula_Local(Campos_Ingreso_Datos[[#This Row],[Vinculo]])","v":"=' '!$J$3718"},"#,##0","",""]
["H3 ERI Renta líquida",{"$f":"' '!$J$3719","v":0},{"$f":"Formula_Local(Campos_Ingreso_Datos[[#This Row],[Vinculo]])","v":"=' '!$J$3719"},"#,##0","",""]
["H3 ERI Renta líquida",{"$f":"' '!$J$3720","v":0},{"$f":"Formula_Local(Campos_Ingreso_Datos[[#This Row],[Vinculo]])","v":"=' '!$J$3720"},"#,##0","",""]
["H3 ERI Renta líquida",{"$f":"' '!$J$3721","v":0},{"$f":"Formula_Local(Campos_Ingreso_Datos[[#This Row],[Vinculo]])","v":"=' '!$J$3721"},"#,##0","",""]
["H3 ERI Renta líquida",{"$f":"' '!$J$3722","v":0},{"$f":"Formula_Local(Campos_Ingreso_Datos[[#This Row],[Vinculo]])","v":"=' '!$J$3722"},"#,##0","",""]
["H3 ERI Renta líquida",{"$f":"' '!$J$3723","v":0},{"$f":"Formula_Local(Campos_Ingreso_Datos[[#This Row],[Vinculo]])","v":"=' '!$J$3723"},"#,##0","",""]
["H3 ERI Renta líquida",{"$f":"' '!$J$3724","v":0},{"$f":"Formula_Local(Campos_Ingreso_Datos[[#This Row],[Vinculo]])","v":"=' '!$J$3724"},"#,##0","",""]
["H3 ERI Renta líquida",{"$f":"' '!$J$3725","v":0},{"$f":"Formula_Local(Campos_Ingreso_Datos[[#This Row],[Vinculo]])","v":"=' '!$J$3725"},"#,##0","",""]
["H3 ERI Renta líquida",{"$f":"' '!$J$3727","v":0},{"$f":"Formula_Local(Campos_Ingreso_Datos[[#This Row],[Vinculo]])","v":"=' '!$J$3727"},"#,##0","",""]
["H3 ERI Renta líquida",{"$f":"' '!$J$3728","v":0},{"$f":"Formula_Local(Campos_Ingreso_Datos[[#This Row],[Vinculo]])","v":"=' '!$J$3728"},"#,##0","",""]
["H3 ERI Renta líquida",{"$f":"' '!$J$3729","v":0},{"$f":"Formula_Local(Campos_Ingreso_Datos[[#This Row],[Vinculo]])","v":"=' '!$J$3729"},"#,##0","",""]
["H3 ERI Renta líquida",{"$f":"' '!$J$3730","v":0},{"$f":"Formula_Local(Campos_Ingreso_Datos[[#This Row],[Vinculo]])","v":"=' '!$J$3730"},"#,##0","",""]
["H3 ERI Renta líquida",{"$f":"' '!$J$3731","v":0},{"$f":"Formula_Local(Campos_Ingreso_Datos[[#This Row],[Vinculo]])","v":"=' '!$J$3731"},"#,##0","",""]
["H3 ERI Renta líquida",{"$f":"' '!$J$3732","v":0},{"$f":"Formula_Local(Campos_Ingreso_Datos[[#This Row],[Vinculo]])","v":"=' '!$J$3732"},"#,##0","",""]
["H3 ERI Renta líquida",{"$f":"' '!$J$3733","v":0},{"$f":"Formula_Local(Campos_Ingreso_Datos[[#This Row],[Vinculo]])","v":"=' '!$J$3733"},"#,##0","",""]
["H3 ERI Renta líquida",{"$f":"' '!$J$3735","v":0},{"$f":"Formula_Local(Campos_Ingreso_Datos[[#This Row],[Vinculo]])","v":"=' '!$J$3735"},"#,##0","",""]
["H3 ERI Renta líquida",{"$f":"' '!$J$3736","v":0},{"$f":"Formula_Local(Campos_Ingreso_Datos[[#This Row],[Vinculo]])","v":"=' '!$J$3736"},"#,##0","",""]
["H3 ERI Renta líquida",{"$f":"' '!$J$3737","v":0},{"$f":"Formula_Local(Campos_Ingreso_Datos[[#This Row],[Vinculo]])","v":"=' '!$J$3737"},"#,##0","",""]
["H3 ERI Renta líquida",{"$f":"' '!$J$3738","v":0},{"$f":"Formula_Local(Campos_Ingreso_Datos[[#This Row],[Vinculo]])","v":"=' '!$J$3738"},"#,##0","",""]
["H3 ERI Renta líquida",{"$f":"' '!$I$3740","v":0},{"$f":"Formula_Local(Campos_Ingreso_Datos[[#This Row],[Vinculo]])","v":"=' '!$I$3740"},"#,##0","",""]
["H3 ERI Renta líquida",{"$f":"' '!$J$3740","v":0},{"$f":"Formula_Local(Campos_Ingreso_Datos[[#This Row],[Vinculo]])","v":"=' '!$J$3740"},"#,##0","",""]
["H3 ERI Renta líquida",{"$f":"' '!$L$3741","v":0},{"$f":"Formula_Local(Campos_Ingreso_Datos[[#This Row],[Vinculo]])","v":"=' '!$L$3741"},"#,##0","",""]
["H3 ERI Renta líquida",{"$f":"' '!$L$3748","v":0},{"$f":"Formula_Local(Campos_Ingreso_Datos[[#This Row],[Vinculo]])","v":"=' '!$L$3748"},"#,##0","",""]
["H3 ERI Renta líquida",{"$f":"' '!$L$3750","v":0},{"$f":"Formula_Local(Campos_Ingreso_Datos[[#This Row],[Vinculo]])","v":"=' '!$L$3750"},"#,##0","","",{"$f":"Formula_Local(Campos_Ingreso_Datos[[#This Row],[Formula]])","v":"=+I3465"},{"$f":"+I3465","v":0}]
["H3 ERI Renta líquida",{"$f":"' '!$L$3751","v":0},{"$f":"Formula_Local(Campos_Ingreso_Datos[[#This Row],[Vinculo]])","v":"=' '!$L$3751"},"#,##0","",""]
["H3 ERI Renta líquida",{"$f":"' '!$L$3752","v":0},{"$f":"Formula_Local(Campos_Ingreso_Datos[[#This Row],[Vinculo]])","v":"=' '!$L$3752"},"#,##0","",""]
["H3 ERI Renta líquida",{"$f":"' '!$L$3753","v":0},{"$f":"Formula_Local(Campos_Ingreso_Datos[[#This Row],[Vinculo]])","v":"=' '!$L$3753"},"#,##0","",""]
["H3 ERI Renta líquida",{"$f":"' '!$L$3754","v":0},{"$f":"Formula_Local(Campos_Ingreso_Datos[[#This Row],[Vinculo]])","v":"=' '!$L$3754"},"#,##0","","",{"$f":"Formula_Local(Campos_Ingreso_Datos[[#This Row],[Formula]])","v":"=+L3535"},{"$f":"+L3535","v":0}]
["H3 ERI Renta líquida",{"$f":"' '!$L$3755","v":0},{"$f":"Formula_Local(Campos_Ingreso_Datos[[#This Row],[Vinculo]])","v":"=' '!$L$3755"},"#,##0","",""]
["H3 ERI Renta líquida",{"$f":"' '!$L$3756","v":0},{"$f":"Formula_Local(Campos_Ingreso_Datos[[#This Row],[Vinculo]])","v":"=' '!$L$3756"},"#,##0","",""]
["H3 ERI Renta líquida",{"$f":"' '!$L$3757","v":0},{"$f":"Formula_Local(Campos_Ingreso_Datos[[#This Row],[Vinculo]])","v":"=' '!$L$3757"},"#,##0","",""]
["H3 ERI Renta líquida",{"$f":"' '!$L$3758","v":0},{"$f":"Formula_Local(Campos_Ingreso_Datos[[#This Row],[Vinculo]])","v":"=' '!$L$3758"},"#,##0","",""]
["H3 ERI Renta líquida",{"$f":"' '!$L$3760","v":0},{"$f":"Formula_Local(Campos_Ingreso_Datos[[#This Row],[Vinculo]])","v":"=' '!$L$3760"},"#,##0","",""]
["H3 ERI Renta líquida",{"$f":"' '!$L$3761","v":0},{"$f":"Formula_Local(Campos_Ingreso_Datos[[#This Row],[Vinculo]])","v":"=' '!$L$3761"},"#,##0","",""]
["H3 ERI Renta líquida",{"$f":"' '!$L$3762","v":0},{"$f":"Formula_Local(Campos_Ingreso_Datos[[#This Row],[Vinculo]])","v":"=' '!$L$3762"},"#,##0","",""]
["H3 ERI Renta líquida",{"$f":"' '!$L$3763","v":0},{"$f":"Formula_Local(Campos_Ingreso_Datos[[#This Row],[Vinculo]])","v":"=' '!$L$3763"},"#,##0","",""]
["H3 ERI Renta líquida",{"$f":"' '!$L$3764","v":0},{"$f":"Formula_Local(Campos_Ingreso_Datos[[#This Row],[Vinculo]])","v":"=' '!$L$3764"},"#,##0","",""]
["H3 ERI Renta líquida",{"$f":"' '!$L$3765","v":0},{"$f":"Formula_Local(Campos_Ingreso_Datos[[#This Row],[Vinculo]])","v":"=' '!$L$3765"},"#,##0","",""]
["H3 ERI Renta líquida",{"$f":"' '!$L$3766","v":0},{"$f":"Formula_Local(Campos_Ingreso_Datos[[#This Row],[Vinculo]])","v":"=' '!$L$3766"},"#,##0","",""]
["H3 ERI Renta líquida",{"$f":"' '!$L$3767","v":0},{"$f":"Formula_Local(Campos_Ingreso_Datos[[#This Row],[Vinculo]])","v":"=' '!$L$3767"},"#,##0","",""]
["H3 ERI Renta líquida",{"$f":"' '!$L$3768","v":0},{"$f":"Formula_Local(Campos_Ingreso_Datos[[#This Row],[Vinculo]])","v":"=' '!$L$3768"},"#,##0","",""]
["H3 ERI Renta líquida",{"$f":"' '!$L$3769","v":0},{"$f":"Formula_Local(Campos_Ingreso_Datos[[#This Row],[Vinculo]])","v":"=' '!$L$3769"},"#,##0","",""]
["H3 ERI Renta líquida",{"$f":"' '!$L$3770","v":0},{"$f":"Formula_Local(Campos_Ingreso_Datos[[#This Row],[Vinculo]])","v":"=' '!$L$3770"},"#,##0","",""]
["H3 ERI Renta líquida",{"$f":"' '!$L$3771","v":0},{"$f":"Formula_Local(Campos_Ingreso_Datos[[#This Row],[Vinculo]])","v":"=' '!$L$3771"},"#,##0","",""]
["H3 ERI Renta líquida",{"$f":"' '!$L$3772","v":0},{"$f":"Formula_Local(Campos_Ingreso_Datos[[#This Row],[Vinculo]])","v":"=' '!$L$3772"},"#,##0","","",{"$f":"Formula_Local(Campos_Ingreso_Datos[[#This Row],[Formula]])","v":"=+I3725"},{"$f":"+I3725","v":0}]
["H3 ERI Renta líquida",{"$f":"' '!$L$3773","v":0},{"$f":"Formula_Local(Campos_Ingreso_Datos[[#This Row],[Vinculo]])","v":"=' '!$L$3773"},"#,##0","",""]
["H3 ERI Renta líquida",{"$f":"' '!$L$3774","v":0},{"$f":"Formula_Local(Campos_Ingreso_Datos[[#This Row],[Vinculo]])","v":"=' '!$L$3774"},"#,##0","",""]
["H3 ERI Renta líquida",{"$f":"' '!$L$3775","v":0},{"$f":"Formula_Local(Campos_Ingreso_Datos[[#This Row],[Vinculo]])","v":"=' '!$L$3775"},"#,##0","",""]
["H3 ERI Renta líquida",{"$f":"' '!$L$3776","v":0},{"$f":"Formula_Local(Campos_Ingreso_Datos[[#This Row],[Vinculo]])","v":"=' '!$L$3776"},"#,##0","",""]
["H3 ERI Renta líquida",{"$f":"' '!$L$3777","v":0},{"$f":"Formula_Local(Campos_Ingreso_Datos[[#This Row],[Vinculo]])","v":"=' '!$L$3777"},"#,##0","",""]
["H3 ERI Renta líquida",{"$f":"' '!$L$3778","v":0},{"$f":"Formula_Local(Campos_Ingreso_Datos[[#This Row],[Vinculo]])","v":"=' '!$L$3778"},"#,##0","",""]
["H3 ERI Renta líquida",{"$f":"' '!$L$3779","v":0},{"$f":"Formula_Local(Campos_Ingreso_Datos[[#This Row],[Vinculo]])","v":"=' '!$L$3779"},"#,##0","",""]
["H3 ERI Renta líquida",{"$f":"' '!$L$3780","v":0},{"$f":"Formula_Local(Campos_Ingreso_Datos[[#This Row],[Vinculo]])","v":"=' '!$L$3780"},"#,##0","",""]
["H3 ERI Renta líquida",{"$f":"' '!$L$3781","v":0},{"$f":"Formula_Local(Campos_Ingreso_Datos[[#This Row],[Vinculo]])","v":"=' '!$L$3781"},"#,##0","",""]
["H3 ERI Renta líquida",{"$f":"' '!$L$3782","v":0},{"$f":"Formula_Local(Campos_Ingreso_Datos[[#This Row],[Vinculo]])","v":"=' '!$L$3782"},"#,##0","",""]
["H3 ERI Renta líquida",{"$f":"' '!$L$3783","v":0},{"$f":"Formula_Local(Campos_Ingreso_Datos[[#This Row],[Vinculo]])","v":"=' '!$L$3783"},"#,##0","",""]
["H3 ERI Renta líquida",{"$f":"' '!$L$3784","v":0},{"$f":"Formula_Local(Campos_Ingreso_Datos[[#This Row],[Vinculo]])","v":"=' '!$L$3784"},"#,##0","",""]
["H3 ERI Renta líquida",{"$f":"' '!$L$3785","v":0},{"$f":"Formula_Local(Campos_Ingreso_Datos[[#This Row],[Vinculo]])","v":"=' '!$L$3785"},"#,##0","",""]
["H3 ERI Renta líquida",{"$f":"' '!$L$3786","v":0},{"$f":"Formula_Local(Campos_Ingreso_Datos[[#This Row],[Vinculo]])","v":"=' '!$L$3786"},"#,##0","",""]
["H3 ERI Renta líquida",{"$f":"' '!$L$3787","v":0},{"$f":"Formula_Local(Campos_Ingreso_Datos[[#This Row],[Vinculo]])","v":"=' '!$L$3787"},"#,##0","",""]
["H3 ERI Renta líquida",{"$f":"' '!$L$3788","v":0},{"$f":"Formula_Local(Campos_Ingreso_Datos[[#This Row],[Vinculo]])","v":"=' '!$L$3788"},"#,##0","",""]
["H3 ERI Renta líquida",{"$f":"' '!$L$3789","v":0},{"$f":"Formula_Local(Campos_Ingreso_Datos[[#This Row],[Vinculo]])","v":"=' '!$L$3789"},"#,##0","",""]
["H3 ERI Renta líquida",{"$f":"' '!$L$3790","v":0},{"$f":"Formula_Local(Campos_Ingreso_Datos[[#This Row],[Vinculo]])","v":"=' '!$L$3790"},"#,##0","",""]
["H3 ERI Renta líquida",{"$f":"' '!$L$3794","v":0},{"$f":"Formula_Local(Campos_Ingreso_Datos[[#This Row],[Vinculo]])","v":"=' '!$L$3794"},"#,##0","",""]
["H3 ERI Renta líquida",{"$f":"' '!$L$3795","v":0},{"$f":"Formula_Local(Campos_Ingreso_Datos[[#This Row],[Vinculo]])","v":"=' '!$L$3795"},"#,##0","",""]
["H3 ERI Renta líquida",{"$f":"' '!$L$3796","v":0},{"$f":"Formula_Local(Campos_Ingreso_Datos[[#This Row],[Vinculo]])","v":"=' '!$L$3796"},"#,##0","",""]
["H3 ERI Renta líquida",{"$f":"' '!$L$3797","v":0},{"$f":"Formula_Local(Campos_Ingreso_Datos[[#This Row],[Vinculo]])","v":"=' '!$L$3797"},"#,##0","",""]
["H3 ERI Renta líquida",{"$f":"' '!$L$3798","v":0},{"$f":"Formula_Local(Campos_Ingreso_Datos[[#This Row],[Vinculo]])","v":"=' '!$L$3798"},"#,##0","",""]
["H3 ERI Renta líquida",{"$f":"' '!$L$3799","v":0},{"$f":"Formula_Local(Campos_Ingreso_Datos[[#This Row],[Vinculo]])","v":"=' '!$L$3799"},"#,##0","",""]
["H3 ERI Renta líquida",{"$f":"' '!$L$3800","v":0},{"$f":"Formula_Local(Campos_Ingreso_Datos[[#This Row],[Vinculo]])","v":"=' '!$L$3800"},"#,##0","",""]
["H3 ERI Renta líquida",{"$f":"' '!$L$3801","v":0},{"$f":"Formula_Local(Campos_Ingreso_Datos[[#This Row],[Vinculo]])","v":"=' '!$L$3801"},"#,##0","",""]
["H3 ERI Renta líquida",{"$f":"' '!$L$3802","v":0},{"$f":"Formula_Local(Campos_Ingreso_Datos[[#This Row],[Vinculo]])","v":"=' '!$L$3802"},"#,##0","",""]
["H3 ERI Renta líquida",{"$f":"' '!$L$3803","v":0},{"$f":"Formula_Local(Campos_Ingreso_Datos[[#This Row],[Vinculo]])","v":"=' '!$L$3803"},"#,##0","",""]
["H3 ERI Renta líquida",{"$f":"' '!$L$3804","v":0},{"$f":"Formula_Local(Campos_Ingreso_Datos[[#This Row],[Vinculo]])","v":"=' '!$L$3804"},"#,##0","",""]
["H3 ERI Renta líquida",{"$f":"' '!$L$3805","v":0},{"$f":"Formula_Local(Campos_Ingreso_Datos[[#This Row],[Vinculo]])","v":"=' '!$L$3805"},"#,##0","",""]
["H3 ERI Renta líquida",{"$f":"' '!$K$3806","v":0},{"$f":"Formula_Local(Campos_Ingreso_Datos[[#This Row],[Vinculo]])","v":"=' '!$K$3806"},"#,##0","",""]
["H3 ERI Renta líquida",{"$f":"' '!$L$3806","v":0},{"$f":"Formula_Local(Campos_Ingreso_Datos[[#This Row],[Vinculo]])","v":"=' '!$L$3806"},"#,##0","",""]
["H3 ERI Renta líquida",{"$f":"' '!$K$3807","v":0},{"$f":"Formula_Local(Campos_Ingreso_Datos[[#This Row],[Vinculo]])","v":"=' '!$K$3807"},"#,##0","",""]
["H3 ERI Renta líquida",{"$f":"' '!$L$3807","v":0},{"$f":"Formula_Local(Campos_Ingreso_Datos[[#This Row],[Vinculo]])","v":"=' '!$L$3807"},"#,##0","",""]
["H3 ERI Renta líquida",{"$f":"' '!$K$3808","v":0},{"$f":"Formula_Local(Campos_Ingreso_Datos[[#This Row],[Vinculo]])","v":"=' '!$K$3808"},"#,##0","",""]
["H3 ERI Renta líquida",{"$f":"' '!$L$3808","v":0},{"$f":"Formula_Local(Campos_Ingreso_Datos[[#This Row],[Vinculo]])","v":"=' '!$L$3808"},"#,##0","",""]
["H3 ERI Renta líquida",{"$f":"' '!$K$3809","v":0},{"$f":"Formula_Local(Campos_Ingreso_Datos[[#This Row],[Vinculo]])","v":"=' '!$K$3809"},"#,##0","",""]
["H3 ERI Renta líquida",{"$f":"' '!$L$3809","v":0},{"$f":"Formula_Local(Campos_Ingreso_Datos[[#This Row],[Vinculo]])","v":"=' '!$L$3809"},"#,##0","",""]
["H3 ERI Renta líquida",{"$f":"' '!$K$3810","v":0},{"$f":"Formula_Local(Campos_Ingreso_Datos[[#This Row],[Vinculo]])","v":"=' '!$K$3810"},"#,##0","",""]
["H3 ERI Renta líquida",{"$f":"' '!$L$3810","v":0},{"$f":"Formula_Local(Campos_Ingreso_Datos[[#This Row],[Vinculo]])","v":"=' '!$L$3810"},"#,##0","",""]
["H3 ERI Renta líquida",{"$f":"' '!$K$3811","v":0},{"$f":"Formula_Local(Campos_Ingreso_Datos[[#This Row],[Vinculo]])","v":"=' '!$K$3811"},"#,##0","",""]
["H3 ERI Renta líquida",{"$f":"' '!$L$3811","v":0},{"$f":"Formula_Local(Campos_Ingreso_Datos[[#This Row],[Vinculo]])","v":"=' '!$L$3811"},"#,##0","",""]
["H3 ERI Renta líquida",{"$f":"' '!$L$3812","v":0},{"$f":"Formula_Local(Campos_Ingreso_Datos[[#This Row],[Vinculo]])","v":"=' '!$L$3812"},"#,##0","",""]
["H3 ERI Renta líquida",{"$f":"' '!$L$3813","v":0},{"$f":"Formula_Local(Campos_Ingreso_Datos[[#This Row],[Vinculo]])","v":"=' '!$L$3813"},"#,##0","",""]
["H3 ERI Renta líquida",{"$f":"' '!$L$3814","v":0},{"$f":"Formula_Local(Campos_Ingreso_Datos[[#This Row],[Vinculo]])","v":"=' '!$L$3814"},"#,##0","",""]
["H3 ERI Renta líquida",{"$f":"' '!$K$3815","v":0},{"$f":"Formula_Local(Campos_Ingreso_Datos[[#This Row],[Vinculo]])","v":"=' '!$K$3815"},"#,##0","",""]
["H3 ERI Renta líquida",{"$f":"' '!$L$3815","v":0},{"$f":"Formula_Local(Campos_Ingreso_Datos[[#This Row],[Vinculo]])","v":"=' '!$L$3815"},"#,##0","",""]
["H3 ERI Renta líquida",{"$f":"' '!$K$3816","v":0},{"$f":"Formula_Local(Campos_Ingreso_Datos[[#This Row],[Vinculo]])","v":"=' '!$K$3816"},"#,##0","",""]
["H3 ERI Renta líquida",{"$f":"' '!$L$3816","v":0},{"$f":"Formula_Local(Campos_Ingreso_Datos[[#This Row],[Vinculo]])","v":"=' '!$L$3816"},"#,##0","",""]
["H3 ERI Renta líquida",{"$f":"' '!$L$3817","v":0},{"$f":"Formula_Local(Campos_Ingreso_Datos[[#This Row],[Vinculo]])","v":"=' '!$L$3817"},"#,##0","",""]
["H3 ERI Renta líquida",{"$f":"' '!$K$3818","v":0},{"$f":"Formula_Local(Campos_Ingreso_Datos[[#This Row],[Vinculo]])","v":"=' '!$K$3818"},"#,##0","",""]
["H3 ERI Renta líquida",{"$f":"' '!$L$3818","v":0},{"$f":"Formula_Local(Campos_Ingreso_Datos[[#This Row],[Vinculo]])","v":"=' '!$L$3818"},"#,##0","",""]
["H3 ERI Renta líquida",{"$f":"' '!$K$3819","v":0},{"$f":"Formula_Local(Campos_Ingreso_Datos[[#This Row],[Vinculo]])","v":"=' '!$K$3819"},"#,##0","",""]
["H3 ERI Renta líquida",{"$f":"' '!$L$3819","v":0},{"$f":"Formula_Local(Campos_Ingreso_Datos[[#This Row],[Vinculo]])","v":"=' '!$L$3819"},"#,##0","",""]
["H3 ERI Renta líquida",{"$f":"' '!$K$3820","v":0},{"$f":"Formula_Local(Campos_Ingreso_Datos[[#This Row],[Vinculo]])","v":"=' '!$K$3820"},"#,##0","",""]
["H3 ERI Renta líquida",{"$f":"' '!$L$3820","v":0},{"$f":"Formula_Local(Campos_Ingreso_Datos[[#This Row],[Vinculo]])","v":"=' '!$L$3820"},"#,##0","",""]
["H3 ERI Renta líquida",{"$f":"' '!$K$3821","v":0},{"$f":"Formula_Local(Campos_Ingreso_Datos[[#This Row],[Vinculo]])","v":"=' '!$K$3821"},"#,##0","",""]
["H3 ERI Renta líquida",{"$f":"' '!$L$3821","v":0},{"$f":"Formula_Local(Campos_Ingreso_Datos[[#This Row],[Vinculo]])","v":"=' '!$L$3821"},"#,##0","",""]
["H3 ERI Renta líquida",{"$f":"' '!$K$3822","v":0},{"$f":"Formula_Local(Campos_Ingreso_Datos[[#This Row],[Vinculo]])","v":"=' '!$K$3822"},"#,##0","",""]
["H3 ERI Renta líquida",{"$f":"' '!$L$3822","v":0},{"$f":"Formula_Local(Campos_Ingreso_Datos[[#This Row],[Vinculo]])","v":"=' '!$L$3822"},"#,##0","",""]
["H3 ERI Renta líquida",{"$f":"' '!$K$3823","v":0},{"$f":"Formula_Local(Campos_Ingreso_Datos[[#This Row],[Vinculo]])","v":"=' '!$K$3823"},"#,##0","",""]
["H3 ERI Renta líquida",{"$f":"' '!$L$3823","v":0},{"$f":"Formula_Local(Campos_Ingreso_Datos[[#This Row],[Vinculo]])","v":"=' '!$L$3823"},"#,##0","",""]
["H3 ERI Renta líquida",{"$f":"' '!$K$3824","v":0},{"$f":"Formula_Local(Campos_Ingreso_Datos[[#This Row],[Vinculo]])","v":"=' '!$K$3824"},"#,##0","",""]
["H3 ERI Renta líquida",{"$f":"' '!$L$3824","v":0},{"$f":"Formula_Local(Campos_Ingreso_Datos[[#This Row],[Vinculo]])","v":"=' '!$L$3824"},"#,##0","",""]
["H3 ERI Renta líquida",{"$f":"' '!$K$3825","v":0},{"$f":"Formula_Local(Campos_Ingreso_Datos[[#This Row],[Vinculo]])","v":"=' '!$K$3825"},"#,##0","",""]
["H3 ERI Renta líquida",{"$f":"' '!$L$3825","v":0},{"$f":"Formula_Local(Campos_Ingreso_Datos[[#This Row],[Vinculo]])","v":"=' '!$L$3825"},"#,##0","",""]
["H3 ERI Renta líquida",{"$f":"' '!$K$3826","v":0},{"$f":"Formula_Local(Campos_Ingreso_Datos[[#This Row],[Vinculo]])","v":"=' '!$K$3826"},"#,##0","",""]
["H3 ERI Renta líquida",{"$f":"' '!$L$3826","v":0},{"$f":"Formula_Local(Campos_Ingreso_Datos[[#This Row],[Vinculo]])","v":"=' '!$L$3826"},"#,##0","",""]
["H3 ERI Renta líquida",{"$f":"' '!$K$3827","v":0},{"$f":"Formula_Local(Campos_Ingreso_Datos[[#This Row],[Vinculo]])","v":"=' '!$K$3827"},"#,##0","",""]
["H3 ERI Renta líquida",{"$f":"' '!$L$3827","v":0},{"$f":"Formula_Local(Campos_Ingreso_Datos[[#This Row],[Vinculo]])","v":"=' '!$L$3827"},"#,##0","",""]
["H3 ERI Renta líquida",{"$f":"' '!$K$3828","v":0},{"$f":"Formula_Local(Campos_Ingreso_Datos[[#This Row],[Vinculo]])","v":"=' '!$K$3828"},"#,##0","",""]
["H3 ERI Renta líquida",{"$f":"' '!$L$3828","v":0},{"$f":"Formula_Local(Campos_Ingreso_Datos[[#This Row],[Vinculo]])","v":"=' '!$L$3828"},"#,##0","",""]
["H3 ERI Renta líquida",{"$f":"' '!$K$3829","v":0},{"$f":"Formula_Local(Campos_Ingreso_Datos[[#This Row],[Vinculo]])","v":"=' '!$K$3829"},"#,##0","",""]
["H3 ERI Renta líquida",{"$f":"' '!$L$3829","v":0},{"$f":"Formula_Local(Campos_Ingreso_Datos[[#This Row],[Vinculo]])","v":"=' '!$L$3829"},"#,##0","",""]
["H3 ERI Renta líquida",{"$f":"' '!$K$3832","v":0},{"$f":"Formula_Local(Campos_Ingreso_Datos[[#This Row],[Vinculo]])","v":"=' '!$K$3832"},"#,##0","",""]
["H3 ERI Renta líquida",{"$f":"' '!$L$3832","v":0},{"$f":"Formula_Local(Campos_Ingreso_Datos[[#This Row],[Vinculo]])","v":"=' '!$L$3832"},"#,##0","",""]
["H3 ERI Renta líquida",{"$f":"' '!$K$3833","v":0},{"$f":"Formula_Local(Campos_Ingreso_Datos[[#This Row],[Vinculo]])","v":"=' '!$K$3833"},"#,##0","",""]
["H3 ERI Renta líquida",{"$f":"' '!$L$3833","v":0},{"$f":"Formula_Local(Campos_Ingreso_Datos[[#This Row],[Vinculo]])","v":"=' '!$L$3833"},"#,##0","",""]
["H3 ERI Renta líquida",{"$f":"' '!$K$3834","v":0},{"$f":"Formula_Local(Campos_Ingreso_Datos[[#This Row],[Vinculo]])","v":"=' '!$K$3834"},"#,##0","",""]
["H3 ERI Renta líquida",{"$f":"' '!$L$3834","v":0},{"$f":"Formula_Local(Campos_Ingreso_Datos[[#This Row],[Vinculo]])","v":"=' '!$L$3834"},"#,##0","",""]
["H3 ERI Renta líquida",{"$f":"' '!$K$3835","v":0},{"$f":"Formula_Local(Campos_Ingreso_Datos[[#This Row],[Vinculo]])","v":"=' '!$K$3835"},"#,##0","",""]
["H3 ERI Renta líquida",{"$f":"' '!$L$3835","v":0},{"$f":"Formula_Local(Campos_Ingreso_Datos[[#This Row],[Vinculo]])","v":"=' '!$L$3835"},"#,##0","",""]
["H3 ERI Renta líquida",{"$f":"' '!$K$3836","v":0},{"$f":"Formula_Local(Campos_Ingreso_Datos[[#This Row],[Vinculo]])","v":"=' '!$K$3836"},"#,##0","",""]
["H3 ERI Renta líquida",{"$f":"' '!$L$3836","v":0},{"$f":"Formula_Local(Campos_Ingreso_Datos[[#This Row],[Vinculo]])","v":"=' '!$L$3836"},"#,##0","",""]
["H3 ERI Renta líquida",{"$f":"' '!$K$3837","v":0},{"$f":"Formula_Local(Campos_Ingreso_Datos[[#This Row],[Vinculo]])","v":"=' '!$K$3837"},"#,##0","",""]
["H3 ERI Renta líquida",{"$f":"' '!$L$3837","v":0},{"$f":"Formula_Local(Campos_Ingreso_Datos[[#This Row],[Vinculo]])","v":"=' '!$L$3837"},"#,##0","",""]
["H3 ERI Renta líquida",{"$f":"' '!$K$3838","v":0},{"$f":"Formula_Local(Campos_Ingreso_Datos[[#This Row],[Vinculo]])","v":"=' '!$K$3838"},"#,##0","",""]
["H3 ERI Renta líquida",{"$f":"' '!$L$3838","v":0},{"$f":"Formula_Local(Campos_Ingreso_Datos[[#This Row],[Vinculo]])","v":"=' '!$L$3838"},"#,##0","",""]
["H3 ERI Renta líquida",{"$f":"' '!$K$3839","v":0},{"$f":"Formula_Local(Campos_Ingreso_Datos[[#This Row],[Vinculo]])","v":"=' '!$K$3839"},"#,##0","",""]
["H3 ERI Renta líquida",{"$f":"' '!$L$3839","v":0},{"$f":"Formula_Local(Campos_Ingreso_Datos[[#This Row],[Vinculo]])","v":"=' '!$L$3839"},"#,##0","",""]
["H3 ERI Renta líquida",{"$f":"' '!$L$3840","v":0},{"$f":"Formula_Local(Campos_Ingreso_Datos[[#This Row],[Vinculo]])","v":"=' '!$L$3840"},"#,##0","",""]
["H3 ERI Renta líquida",{"$f":"' '!$K$3841","v":0},{"$f":"Formula_Local(Campos_Ingreso_Datos[[#This Row],[Vinculo]])","v":"=' '!$K$3841"},"#,##0","",""]
["H3 ERI Renta líquida",{"$f":"' '!$L$3841","v":0},{"$f":"Formula_Local(Campos_Ingreso_Datos[[#This Row],[Vinculo]])","v":"=' '!$L$3841"},"#,##0","",""]
["H3 ERI Renta líquida",{"$f":"' '!$L$3842","v":0},{"$f":"Formula_Local(Campos_Ingreso_Datos[[#This Row],[Vinculo]])","v":"=' '!$L$3842"},"#,##0","",""]
["H3 ERI Renta líquida",{"$f":"' '!$K$3843","v":0},{"$f":"Formula_Local(Campos_Ingreso_Datos[[#This Row],[Vinculo]])","v":"=' '!$K$3843"},"#,##0","",""]
["H3 ERI Renta líquida",{"$f":"' '!$L$3843","v":0},{"$f":"Formula_Local(Campos_Ingreso_Datos[[#This Row],[Vinculo]])","v":"=' '!$L$3843"},"#,##0","",""]
["H3 ERI Renta líquida",{"$f":"' '!$K$3844","v":0},{"$f":"Formula_Local(Campos_Ingreso_Datos[[#This Row],[Vinculo]])","v":"=' '!$K$3844"},"#,##0","",""]
["H3 ERI Renta líquida",{"$f":"' '!$L$3844","v":0},{"$f":"Formula_Local(Campos_Ingreso_Datos[[#This Row],[Vinculo]])","v":"=' '!$L$3844"},"#,##0","",""]
["H3 ERI Renta líquida",{"$f":"' '!$L$3845","v":0},{"$f":"Formula_Local(Campos_Ingreso_Datos[[#This Row],[Vinculo]])","v":"=' '!$L$3845"},"#,##0","",""]
["H3 ERI Renta líquida",{"$f":"' '!$K$3846","v":0},{"$f":"Formula_Local(Campos_Ingreso_Datos[[#This Row],[Vinculo]])","v":"=' '!$K$3846"},"#,##0","",""]
["H3 ERI Renta líquida",{"$f":"' '!$L$3846","v":0},{"$f":"Formula_Local(Campos_Ingreso_Datos[[#This Row],[Vinculo]])","v":"=' '!$L$3846"},"#,##0","",""]
["H3 ERI Renta líquida",{"$f":"' '!$K$3847","v":0},{"$f":"Formula_Local(Campos_Ingreso_Datos[[#This Row],[Vinculo]])","v":"=' '!$K$3847"},"#,##0","",""]
["H3 ERI Renta líquida",{"$f":"' '!$L$3847","v":0},{"$f":"Formula_Local(Campos_Ingreso_Datos[[#This Row],[Vinculo]])","v":"=' '!$L$3847"},"#,##0","",""]
["H3 ERI Renta líquida",{"$f":"' '!$I$3851","v":0},{"$f":"Formula_Local(Campos_Ingreso_Datos[[#This Row],[Vinculo]])","v":"=' '!$I$3851"},"#,##0","",""]
["H3 ERI Renta líquida",{"$f":"' '!$K$3851","v":0},{"$f":"Formula_Local(Campos_Ingreso_Datos[[#This Row],[Vinculo]])","v":"=' '!$K$3851"},"#,##0","",""]
["H3 ERI Renta líquida",{"$f":"' '!$L$3851","v":0},{"$f":"Formula_Local(Campos_Ingreso_Datos[[#This Row],[Vinculo]])","v":"=' '!$L$3851"},"#,##0","",""]
["H3 ERI Renta líquida",{"$f":"' '!$I$3852","v":0},{"$f":"Formula_Local(Campos_Ingreso_Datos[[#This Row],[Vinculo]])","v":"=' '!$I$3852"},"#,##0","",""]
["H3 ERI Renta líquida",{"$f":"' '!$K$3852","v":0},{"$f":"Formula_Local(Campos_Ingreso_Datos[[#This Row],[Vinculo]])","v":"=' '!$K$3852"},"#,##0","",""]
["H3 ERI Renta líquida",{"$f":"' '!$L$3852","v":0},{"$f":"Formula_Local(Campos_Ingreso_Datos[[#This Row],[Vinculo]])","v":"=' '!$L$3852"},"#,##0","",""]
["H3 ERI Renta líquida",{"$f":"' '!$I$3853","v":0},{"$f":"Formula_Local(Campos_Ingreso_Datos[[#This Row],[Vinculo]])","v":"=' '!$I$3853"},"#,##0","",""]
["H3 ERI Renta líquida",{"$f":"' '!$K$3853","v":0},{"$f":"Formula_Local(Campos_Ingreso_Datos[[#This Row],[Vinculo]])","v":"=' '!$K$3853"},"#,##0","",""]
["H3 ERI Renta líquida",{"$f":"' '!$L$3853","v":0},{"$f":"Formula_Local(Campos_Ingreso_Datos[[#This Row],[Vinculo]])","v":"=' '!$L$3853"},"#,##0","",""]
["H3 ERI Renta líquida",{"$f":"' '!$I$3854","v":0},{"$f":"Formula_Local(Campos_Ingreso_Datos[[#This Row],[Vinculo]])","v":"=' '!$I$3854"},"#,##0","",""]
["H3 ERI Renta líquida",{"$f":"' '!$K$3854","v":0},{"$f":"Formula_Local(Campos_Ingreso_Datos[[#This Row],[Vinculo]])","v":"=' '!$K$3854"},"#,##0","",""]
["H3 ERI Renta líquida",{"$f":"' '!$L$3854","v":0},{"$f":"Formula_Local(Campos_Ingreso_Datos[[#This Row],[Vinculo]])","v":"=' '!$L$3854"},"#,##0","",""]
["H3 ERI Renta líquida",{"$f":"' '!$I$3855","v":0},{"$f":"Formula_Local(Campos_Ingreso_Datos[[#This Row],[Vinculo]])","v":"=' '!$I$3855"},"#,##0","",""]
["H3 ERI Renta líquida",{"$f":"' '!$K$3855","v":0},{"$f":"Formula_Local(Campos_Ingreso_Datos[[#This Row],[Vinculo]])","v":"=' '!$K$3855"},"#,##0","",""]
["H3 ERI Renta líquida",{"$f":"' '!$L$3855","v":0},{"$f":"Formula_Local(Campos_Ingreso_Datos[[#This Row],[Vinculo]])","v":"=' '!$L$3855"},"#,##0","",""]
["H3 ERI Renta líquida",{"$f":"' '!$I$3856","v":0},{"$f":"Formula_Local(Campos_Ingreso_Datos[[#This Row],[Vinculo]])","v":"=' '!$I$3856"},"#,##0","",""]
["H3 ERI Renta líquida",{"$f":"' '!$K$3856","v":0},{"$f":"Formula_Local(Campos_Ingreso_Datos[[#This Row],[Vinculo]])","v":"=' '!$K$3856"},"#,##0","",""]
["H3 ERI Renta líquida",{"$f":"' '!$L$3856","v":0},{"$f":"Formula_Local(Campos_Ingreso_Datos[[#This Row],[Vinculo]])","v":"=' '!$L$3856"},"#,##0","",""]
["H3 ERI Renta líquida",{"$f":"' '!$I$3857","v":0},{"$f":"Formula_Local(Campos_Ingreso_Datos[[#This Row],[Vinculo]])","v":"=' '!$I$3857"},"#,##0","",""]
["H3 ERI Renta líquida",{"$f":"' '!$K$3857","v":0},{"$f":"Formula_Local(Campos_Ingreso_Datos[[#This Row],[Vinculo]])","v":"=' '!$K$3857"},"#,##0","",""]
["H3 ERI Renta líquida",{"$f":"' '!$L$3857","v":0},{"$f":"Formula_Local(Campos_Ingreso_Datos[[#This Row],[Vinculo]])","v":"=' '!$L$3857"},"#,##0","",""]
["H3 ERI Renta líquida",{"$f":"' '!$I$3858","v":0},{"$f":"Formula_Local(Campos_Ingreso_Datos[[#This Row],[Vinculo]])","v":"=' '!$I$3858"},"#,##0","",""]
["H3 ERI Renta líquida",{"$f":"' '!$K$3858","v":0},{"$f":"Formula_Local(Campos_Ingreso_Datos[[#This Row],[Vinculo]])","v":"=' '!$K$3858"},"#,##0","",""]
["H3 ERI Renta líquida",{"$f":"' '!$L$3858","v":0},{"$f":"Formula_Local(Campos_Ingreso_Datos[[#This Row],[Vinculo]])","v":"=' '!$L$3858"},"#,##0","",""]
["H3 ERI Renta líquida",{"$f":"' '!$J$3866","v":0},{"$f":"Formula_Local(Campos_Ingreso_Datos[[#This Row],[Vinculo]])","v":"=' '!$J$3866"},"#,##0","",""]
["H3 ERI Renta líquida",{"$f":"' '!$K$3866","v":0},{"$f":"Formula_Local(Campos_Ingreso_Datos[[#This Row],[Vinculo]])","v":"=' '!$K$3866"},"#,##0","","",{"$f":"Formula_Local(Campos_Ingreso_Datos[[#This Row],[Formula]])","v":"=SUMA(' '!F1368:F1369)"},{"$f":"SUM(' '!F1368:F1369)","v":0}]
["H3 ERI Renta líquida",{"$f":"' '!$L$3866","v":0},{"$f":"Formula_Local(Campos_Ingreso_Datos[[#This Row],[Vinculo]])","v":"=' '!$L$3866"},"#,##0","","",{"$f":"Formula_Local(Campos_Ingreso_Datos[[#This Row],[Formula]])","v":"=SUMA(' '!E1368:E1369)"},{"$f":"SUM(' '!E1368:E1369)","v":0}]
["H3 ERI Renta líquida",{"$f":"' '!$J$3867","v":0},{"$f":"Formula_Local(Campos_Ingreso_Datos[[#This Row],[Vinculo]])","v":"=' '!$J$3867"},"#,##0","",""]
["H3 ERI Renta líquida",{"$f":"' '!$K$3867","v":0},{"$f":"Formula_Local(Campos_Ingreso_Datos[[#This Row],[Vinculo]])","v":"=' '!$K$3867"},"#,##0","","",{"$f":"Formula_Local(Campos_Ingreso_Datos[[#This Row],[Formula]])","v":"=SUMA(' '!F1371:F1372)"},{"$f":"SUM(' '!F1371:F1372)","v":0}]
["H3 ERI Renta líquida",{"$f":"' '!$L$3867","v":0},{"$f":"Formula_Local(Campos_Ingreso_Datos[[#This Row],[Vinculo]])","v":"=' '!$L$3867"},"#,##0","","",{"$f":"Formula_Local(Campos_Ingreso_Datos[[#This Row],[Formula]])","v":"=SUMA(' '!E1371:E1372)"},{"$f":"SUM(' '!E1371:E1372)","v":0}]
["H3 ERI Renta líquida",{"$f":"' '!$J$3868","v":0},{"$f":"Formula_Local(Campos_Ingreso_Datos[[#This Row],[Vinculo]])","v":"=' '!$J$3868"},"#,##0","",""]
["H3 ERI Renta líquida",{"$f":"' '!$K$3868","v":0},{"$f":"Formula_Local(Campos_Ingreso_Datos[[#This Row],[Vinculo]])","v":"=' '!$K$3868"},"#,##0","","",{"$f":"Formula_Local(Campos_Ingreso_Datos[[#This Row],[Formula]])","v":"=SUMA(' '!F1374:F1375)"},{"$f":"SUM(' '!F1374:F1375)","v":0}]
["H3 ERI Renta líquida",{"$f":"' '!$L$3868","v":0},{"$f":"Formula_Local(Campos_Ingreso_Datos[[#This Row],[Vinculo]])","v":"=' '!$L$3868"},"#,##0","","",{"$f":"Formula_Local(Campos_Ingreso_Datos[[#This Row],[Formula]])","v":"=SUMA(' '!E1374:E1375)"},{"$f":"SUM(' '!E1374:E1375)","v":0}]
["H3 ERI Renta líquida",{"$f":"' '!$J$3869","v":0},{"$f":"Formula_Local(Campos_Ingreso_Datos[[#This Row],[Vinculo]])","v":"=' '!$J$3869"},"#,##0","",""]
["H3 ERI Renta líquida",{"$f":"' '!$K$3869","v":0},{"$f":"Formula_Local(Campos_Ingreso_Datos[[#This Row],[Vinculo]])","v":"=' '!$K$3869"},"#,##0","","",{"$f":"Formula_Local(Campos_Ingreso_Datos[[#This Row],[Formula]])","v":"=SUMA(' '!F1377:F1378)"},{"$f":"SUM(' '!F1377:F1378)","v":0}]
["H3 ERI Renta líquida",{"$f":"' '!$L$3869","v":0},{"$f":"Formula_Local(Campos_Ingreso_Datos[[#This Row],[Vinculo]])","v":"=' '!$L$3869"},"#,##0","","",{"$f":"Formula_Local(Campos_Ingreso_Datos[[#This Row],[Formula]])","v":"=SUMA(' '!E1377:E1378)"},{"$f":"SUM(' '!E1377:E1378)","v":0}]
["H3 ERI Renta líquida",{"$f":"' '!$J$3870","v":0},{"$f":"Formula_Local(Campos_Ingreso_Datos[[#This Row],[Vinculo]])","v":"=' '!$J$3870"},"#,##0","",""]
["H3 ERI Renta líquida",{"$f":"' '!$K$3870","v":0},{"$f":"Formula_Local(Campos_Ingreso_Datos[[#This Row],[Vinculo]])","v":"=' '!$K$3870"},"#,##0","","",{"$f":"Formula_Local(Campos_Ingreso_Datos[[#This Row],[Formula]])","v":"=SUMA(' '!F1380:F1381)"},{"$f":"SUM(' '!F1380:F1381)","v":0}]
["H3 ERI Renta líquida",{"$f":"' '!$L$3870","v":0},{"$f":"Formula_Local(Campos_Ingreso_Datos[[#This Row],[Vinculo]])","v":"=' '!$L$3870"},"#,##0","","",{"$f":"Formula_Local(Campos_Ingreso_Datos[[#This Row],[Formula]])","v":"=SUMA(' '!E1380:E1381)"},{"$f":"SUM(' '!E1380:E1381)","v":0}]
["H3 ERI Renta líquida",{"$f":"' '!$J$3871","v":0},{"$f":"Formula_Local(Campos_Ingreso_Datos[[#This Row],[Vinculo]])","v":"=' '!$J$3871"},"#,##0","",""]
["H3 ERI Renta líquida",{"$f":"' '!$K$3871","v":0},{"$f":"Formula_Local(Campos_Ingreso_Datos[[#This Row],[Vinculo]])","v":"=' '!$K$3871"},"#,##0","","",{"$f":"Formula_Local(Campos_Ingreso_Datos[[#This Row],[Formula]])","v":"=SUMA(' '!F1383:F1384)"},{"$f":"SUM(' '!F1383:F1384)","v":0}]
["H3 ERI Renta líquida",{"$f":"' '!$L$3871","v":0},{"$f":"Formula_Local(Campos_Ingreso_Datos[[#This Row],[Vinculo]])","v":"=' '!$L$3871"},"#,##0","","",{"$f":"Formula_Local(Campos_Ingreso_Datos[[#This Row],[Formula]])","v":"=SUMA(' '!E1383:E1384)"},{"$f":"SUM(' '!E1383:E1384)","v":0}]
["H3 ERI Renta líquida",{"$f":"' '!$J$3872","v":0},{"$f":"Formula_Local(Campos_Ingreso_Datos[[#This Row],[Vinculo]])","v":"=' '!$J$3872"},"#,##0","",""]
["H3 ERI Renta líquida",{"$f":"' '!$K$3872","v":0},{"$f":"Formula_Local(Campos_Ingreso_Datos[[#This Row],[Vinculo]])","v":"=' '!$K$3872"},"#,##0","","",{"$f":"Formula_Local(Campos_Ingreso_Datos[[#This Row],[Formula]])","v":"=SUMA(' '!F1386:F1387)"},{"$f":"SUM(' '!F1386:F1387)","v":0}]
["H3 ERI Renta líquida",{"$f":"' '!$L$3872","v":0},{"$f":"Formula_Local(Campos_Ingreso_Datos[[#This Row],[Vinculo]])","v":"=' '!$L$3872"},"#,##0","","",{"$f":"Formula_Local(Campos_Ingreso_Datos[[#This Row],[Formula]])","v":"=SUMA(' '!E1386:E1387)"},{"$f":"SUM(' '!E1386:E1387)","v":0}]
["H3 ERI Renta líquida",{"$f":"' '!$J$3874","v":0},{"$f":"Formula_Local(Campos_Ingreso_Datos[[#This Row],[Vinculo]])","v":"=' '!$J$3874"},"#,##0","",""]
["H3 ERI Renta líquida",{"$f":"' '!$K$3874","v":0},{"$f":"Formula_Local(Campos_Ingreso_Datos[[#This Row],[Vinculo]])","v":"=' '!$K$3874"},"#,##0","","",{"$f":"Formula_Local(Campos_Ingreso_Datos[[#This Row],[Formula]])","v":"=SUMA(' '!F1394:F1395)"},{"$f":"SUM(' '!F1394:F1395)","v":0}]
["H3 ERI Renta líquida",{"$f":"' '!$L$3874","v":0},{"$f":"Formula_Local(Campos_Ingreso_Datos[[#This Row],[Vinculo]])","v":"=' '!$L$3874"},"#,##0","","",{"$f":"Formula_Local(Campos_Ingreso_Datos[[#This Row],[Formula]])","v":"=SUMA(' '!E1394:E1395)"},{"$f":"SUM(' '!E1394:E1395)","v":0}]
["H3 ERI Renta líquida",{"$f":"' '!$J$3875","v":0},{"$f":"Formula_Local(Campos_Ingreso_Datos[[#This Row],[Vinculo]])","v":"=' '!$J$3875"},"#,##0","",""]
["H3 ERI Renta líquida",{"$f":"' '!$K$3875","v":0},{"$f":"Formula_Local(Campos_Ingreso_Datos[[#This Row],[Vinculo]])","v":"=' '!$K$3875"},"#,##0","","",{"$f":"Formula_Local(Campos_Ingreso_Datos[[#This Row],[Formula]])","v":"=SUMA(' '!F1397:F1398)"},{"$f":"SUM(' '!F1397:F1398)","v":0}]
["H3 ERI Renta líquida",{"$f":"' '!$L$3875","v":0},{"$f":"Formula_Local(Campos_Ingreso_Datos[[#This Row],[Vinculo]])","v":"=' '!$L$3875"},"#,##0","","",{"$f":"Formula_Local(Campos_Ingreso_Datos[[#This Row],[Formula]])","v":"=SUMA(' '!E1397:E1398)"},{"$f":"SUM(' '!E1397:E1398)","v":0}]
["H3 ERI Renta líquida",{"$f":"' '!$M$3881","v":0},{"$f":"Formula_Local(Campos_Ingreso_Datos[[#This Row],[Vinculo]])","v":"=' '!$M$3881"},"#,##0","","",{"$f":"Formula_Local(Campos_Ingreso_Datos[[#This Row],[Formula]])","v":"=+' '!C2271"},{"$f":"+' '!C2271","v":0}]
["H3 ERI Renta líquida",{"$f":"' '!$M$3882","v":0},{"$f":"Formula_Local(Campos_Ingreso_Datos[[#This Row],[Vinculo]])","v":"=' '!$M$3882"},"#,##0","","",{"$f":"Formula_Local(Campos_Ingreso_Datos[[#This Row],[Formula]])","v":"=+' '!C2280"},{"$f":"+' '!C2280","v":0}]
["H3 ERI Renta líquida",{"$f":"' '!$M$3885","v":0},{"$f":"Formula_Local(Campos_Ingreso_Datos[[#This Row],[Vinculo]])","v":"=' '!$M$3885"},"#,##0","",""]
["H3 ERI Renta líquida",{"$f":"' '!$M$3886","v":0},{"$f":"Formula_Local(Campos_Ingreso_Datos[[#This Row],[Vinculo]])","v":"=' '!$M$3886"},"#,##0","",""]
["H3 ERI Renta líquida",{"$f":"' '!$M$3887","v":0},{"$f":"Formula_Local(Campos_Ingreso_Datos[[#This Row],[Vinculo]])","v":"=' '!$M$3887"},"#,##0","",""]
["H3 ERI Renta líquida",{"$f":"' '!$M$3888","v":0},{"$f":"Formula_Local(Campos_Ingreso_Datos[[#This Row],[Vinculo]])","v":"=' '!$M$3888"},"#,##0","",""]
["H3 ERI Renta líquida",{"$f":"' '!$M$3889","v":0},{"$f":"Formula_Local(Campos_Ingreso_Datos[[#This Row],[Vinculo]])","v":"=' '!$M$3889"},"#,##0","",""]
["H3 ERI Renta líquida",{"$f":"' '!$M$3890","v":0},{"$f":"Formula_Local(Campos_Ingreso_Datos[[#This Row],[Vinculo]])","v":"=' '!$M$3890"},"#,##0","",""]
["H3 ERI Renta líquida",{"$f":"' '!$M$3891","v":0},{"$f":"Formula_Local(Campos_Ingreso_Datos[[#This Row],[Vinculo]])","v":"=' '!$M$3891"},"#,##0","",""]
["H3 ERI Renta líquida",{"$f":"' '!$M$3892","v":0},{"$f":"Formula_Local(Campos_Ingreso_Datos[[#This Row],[Vinculo]])","v":"=' '!$M$3892"},"#,##0","",""]
["H3 ERI Renta líquida",{"$f":"' '!$M$3895","v":0},{"$f":"Formula_Local(Campos_Ingreso_Datos[[#This Row],[Vinculo]])","v":"=' '!$M$3895"},"#,##0","",""]
["H3 ERI Renta líquida",{"$f":"' '!$M$3912","v":0},{"$f":"Formula_Local(Campos_Ingreso_Datos[[#This Row],[Vinculo]])","v":"=' '!$M$3912"},"#,##0","",""]
["H3 ERI Renta líquida",{"$f":"' '!$M$3914","v":0},{"$f":"Formula_Local(Campos_Ingreso_Datos[[#This Row],[Vinculo]])","v":"=' '!$M$3914"},"#,##0","",""]
["H3 ERI Renta líquida",{"$f":"' '!$M$3916","v":0},{"$f":"Formula_Local(Campos_Ingreso_Datos[[#This Row],[Vinculo]])","v":"=' '!$M$3916"},"#,##0","",""]
["H3 ERI Renta líquida",{"$f":"' '!$M$3917","v":0},{"$f":"Formula_Local(Campos_Ingreso_Datos[[#This Row],[Vinculo]])","v":"=' '!$M$3917"},"#,##0","",""]
["H3 ERI Renta líquida",{"$f":"' '!$I$3949","v":0},{"$f":"Formula_Local(Campos_Ingreso_Datos[[#This Row],[Vinculo]])","v":"=' '!$I$3949"},"#,##0","",""]
["H3 ERI Renta líquida",{"$f":"' '!$J$3949","v":0},{"$f":"Formula_Local(Campos_Ingreso_Datos[[#This Row],[Vinculo]])","v":"=' '!$J$3949"},"#,##0","",""]
["H3 ERI Renta líquida",{"$f":"' '!$K$3949","v":0},{"$f":"Formula_Local(Campos_Ingreso_Datos[[#This Row],[Vinculo]])","v":"=' '!$K$3949"},"#,##0","",""]
["H3 ERI Renta líquida",{"$f":"' '!$I$3950","v":0},{"$f":"Formula_Local(Campos_Ingreso_Datos[[#This Row],[Vinculo]])","v":"=' '!$I$3950"},"#,##0","",""]
["H3 ERI Renta líquida",{"$f":"' '!$J$3950","v":0},{"$f":"Formula_Local(Campos_Ingreso_Datos[[#This Row],[Vinculo]])","v":"=' '!$J$3950"},"#,##0","",""]
["H3 ERI Renta líquida",{"$f":"' '!$K$3950","v":0},{"$f":"Formula_Local(Campos_Ingreso_Datos[[#This Row],[Vinculo]])","v":"=' '!$K$3950"},"#,##0","",""]
["H3 ERI Renta líquida",{"$f":"' '!$I$3951","v":0},{"$f":"Formula_Local(Campos_Ingreso_Datos[[#This Row],[Vinculo]])","v":"=' '!$I$3951"},"#,##0","",""]
["H3 ERI Renta líquida",{"$f":"' '!$J$3951","v":0},{"$f":"Formula_Local(Campos_Ingreso_Datos[[#This Row],[Vinculo]])","v":"=' '!$J$3951"},"#,##0","",""]
["H3 ERI Renta líquida",{"$f":"' '!$K$3951","v":0},{"$f":"Formula_Local(Campos_Ingreso_Datos[[#This Row],[Vinculo]])","v":"=' '!$K$3951"},"#,##0","",""]
["H3 ERI Renta líquida",{"$f":"' '!$I$3952","v":0},{"$f":"Formula_Local(Campos_Ingreso_Datos[[#This Row],[Vinculo]])","v":"=' '!$I$3952"},"#,##0","",""]
["H3 ERI Renta líquida",{"$f":"' '!$J$3952","v":0},{"$f":"Formula_Local(Campos_Ingreso_Datos[[#This Row],[Vinculo]])","v":"=' '!$J$3952"},"#,##0","",""]
["H3 ERI Renta líquida",{"$f":"' '!$K$3952","v":0},{"$f":"Formula_Local(Campos_Ingreso_Datos[[#This Row],[Vinculo]])","v":"=' '!$K$3952"},"#,##0","",""]
["H3 ERI Renta líquida",{"$f":"' '!$I$3953","v":0},{"$f":"Formula_Local(Campos_Ingreso_Datos[[#This Row],[Vinculo]])","v":"=' '!$I$3953"},"#,##0","",""]
["H3 ERI Renta líquida",{"$f":"' '!$J$3953","v":0},{"$f":"Formula_Local(Campos_Ingreso_Datos[[#This Row],[Vinculo]])","v":"=' '!$J$3953"},"#,##0","",""]
["H3 ERI Renta líquida",{"$f":"' '!$K$3953","v":0},{"$f":"Formula_Local(Campos_Ingreso_Datos[[#This Row],[Vinculo]])","v":"=' '!$K$3953"},"#,##0","",""]
["H3 ERI Renta líquida",{"$f":"' '!$I$3954","v":0},{"$f":"Formula_Local(Campos_Ingreso_Datos[[#This Row],[Vinculo]])","v":"=' '!$I$3954"},"#,##0","",""]
["H3 ERI Renta líquida",{"$f":"' '!$J$3954","v":0},{"$f":"Formula_Local(Campos_Ingreso_Datos[[#This Row],[Vinculo]])","v":"=' '!$J$3954"},"#,##0","",""]
["H3 ERI Renta líquida",{"$f":"' '!$K$3954","v":0},{"$f":"Formula_Local(Campos_Ingreso_Datos[[#This Row],[Vinculo]])","v":"=' '!$K$3954"},"#,##0","",""]
["H3 ERI Renta líquida",{"$f":"' '!$I$3955","v":0},{"$f":"Formula_Local(Campos_Ingreso_Datos[[#This Row],[Vinculo]])","v":"=' '!$I$3955"},"#,##0","",""]
["H3 ERI Renta líquida",{"$f":"' '!$J$3955","v":0},{"$f":"Formula_Local(Campos_Ingreso_Datos[[#This Row],[Vinculo]])","v":"=' '!$J$3955"},"#,##0","",""]
["H3 ERI Renta líquida",{"$f":"' '!$K$3955","v":0},{"$f":"Formula_Local(Campos_Ingreso_Datos[[#This Row],[Vinculo]])","v":"=' '!$K$3955"},"#,##0","",""]
["H3 ERI Renta líquida",{"$f":"' '!$I$3956","v":0},{"$f":"Formula_Local(Campos_Ingreso_Datos[[#This Row],[Vinculo]])","v":"=' '!$I$3956"},"#,##0","",""]
["H3 ERI Renta líquida",{"$f":"' '!$J$3956","v":0},{"$f":"Formula_Local(Campos_Ingreso_Datos[[#This Row],[Vinculo]])","v":"=' '!$J$3956"},"#,##0","",""]
["H3 ERI Renta líquida",{"$f":"' '!$K$3956","v":0},{"$f":"Formula_Local(Campos_Ingreso_Datos[[#This Row],[Vinculo]])","v":"=' '!$K$3956"},"#,##0","",""]
["H3 ERI Renta líquida",{"$f":"' '!$I$3957","v":0},{"$f":"Formula_Local(Campos_Ingreso_Datos[[#This Row],[Vinculo]])","v":"=' '!$I$3957"},"#,##0","",""]
["H3 ERI Renta líquida",{"$f":"' '!$J$3957","v":0},{"$f":"Formula_Local(Campos_Ingreso_Datos[[#This Row],[Vinculo]])","v":"=' '!$J$3957"},"#,##0","",""]
["H3 ERI Renta líquida",{"$f":"' '!$K$3957","v":0},{"$f":"Formula_Local(Campos_Ingreso_Datos[[#This Row],[Vinculo]])","v":"=' '!$K$3957"},"#,##0","",""]
["H3 ERI Renta líquida",{"$f":"' '!$I$3958","v":0},{"$f":"Formula_Local(Campos_Ingreso_Datos[[#This Row],[Vinculo]])","v":"=' '!$I$3958"},"#,##0","",""]
["H3 ERI Renta líquida",{"$f":"' '!$J$3958","v":0},{"$f":"Formula_Local(Campos_Ingreso_Datos[[#This Row],[Vinculo]])","v":"=' '!$J$3958"},"#,##0","",""]
["H3 ERI Renta líquida",{"$f":"' '!$K$3958","v":0},{"$f":"Formula_Local(Campos_Ingreso_Datos[[#This Row],[Vinculo]])","v":"=' '!$K$3958"},"#,##0","",""]
["H3 ERI Renta líquida",{"$f":"' '!$I$3959","v":0},{"$f":"Formula_Local(Campos_Ingreso_Datos[[#This Row],[Vinculo]])","v":"=' '!$I$3959"},"#,##0","",""]
["H3 ERI Renta líquida",{"$f":"' '!$J$3959","v":0},{"$f":"Formula_Local(Campos_Ingreso_Datos[[#This Row],[Vinculo]])","v":"=' '!$J$3959"},"#,##0","",""]
["H3 ERI Renta líquida",{"$f":"' '!$K$3959","v":0},{"$f":"Formula_Local(Campos_Ingreso_Datos[[#This Row],[Vinculo]])","v":"=' '!$K$3959"},"#,##0","",""]
["H3 ERI Renta líquida",{"$f":"' '!$I$3960","v":0},{"$f":"Formula_Local(Campos_Ingreso_Datos[[#This Row],[Vinculo]])","v":"=' '!$I$3960"},"#,##0","",""]
["H3 ERI Renta líquida",{"$f":"' '!$J$3960","v":0},{"$f":"Formula_Local(Campos_Ingreso_Datos[[#This Row],[Vinculo]])","v":"=' '!$J$3960"},"#,##0","",""]
["H3 ERI Renta líquida",{"$f":"' '!$K$3960","v":0},{"$f":"Formula_Local(Campos_Ingreso_Datos[[#This Row],[Vinculo]])","v":"=' '!$K$3960"},"#,##0","",""]
["H3 ERI Renta líquida",{"$f":"' '!$I$3964","v":0},{"$f":"Formula_Local(Campos_Ingreso_Datos[[#This Row],[Vinculo]])","v":"=' '!$I$3964"},"#,##0","",""]
["H3 ERI Renta líquida",{"$f":"' '!$I$3965","v":0},{"$f":"Formula_Local(Campos_Ingreso_Datos[[#This Row],[Vinculo]])","v":"=' '!$I$3965"},"#,##0","",""]
["H3 ERI Renta líquida",{"$f":"' '!$I$3966","v":0},{"$f":"Formula_Local(Campos_Ingreso_Datos[[#This Row],[Vinculo]])","v":"=' '!$I$3966"},"#,##0","",""]
["H3 ERI Renta líquida",{"$f":"' '!$I$3967","v":0},{"$f":"Formula_Local(Campos_Ingreso_Datos[[#This Row],[Vinculo]])","v":"=' '!$I$3967"},"#,##0","",""]
["H3 ERI Renta líquida",{"$f":"' '!$I$3968","v":0},{"$f":"Formula_Local(Campos_Ingreso_Datos[[#This Row],[Vinculo]])","v":"=' '!$I$3968"},"#,##0","",""]
["H3 ERI Renta líquida",{"$f":"' '!$I$3969","v":0},{"$f":"Formula_Local(Campos_Ingreso_Datos[[#This Row],[Vinculo]])","v":"=' '!$I$3969"},"#,##0","",""]
["H3 ERI Renta líquida",{"$f":"' '!$I$3972","v":0},{"$f":"Formula_Local(Campos_Ingreso_Datos[[#This Row],[Vinculo]])","v":"=' '!$I$3972"},"#,##0","",""]
["H3 ERI Renta líquida",{"$f":"' '!$J$3972","v":0},{"$f":"Formula_Local(Campos_Ingreso_Datos[[#This Row],[Vinculo]])","v":"=' '!$J$3972"},"#,##0","",""]
["H3 ERI Renta líquida",{"$f":"' '!$M$3972","v":0},{"$f":"Formula_Local(Campos_Ingreso_Datos[[#This Row],[Vinculo]])","v":"=' '!$M$3972"},"#,##0","",""]
["H3 ERI Renta líquida",{"$f":"' '!$M$3973","v":0},{"$f":"Formula_Local(Campos_Ingreso_Datos[[#This Row],[Vinculo]])","v":"=' '!$M$3973"},"#,##0","",""]
["H3 ERI Renta líquida",{"$f":"' '!$I$3974","v":0},{"$f":"Formula_Local(Campos_Ingreso_Datos[[#This Row],[Vinculo]])","v":"=' '!$I$3974"},"#,##0","",""]
["H3 ERI Renta líquida",{"$f":"' '!$J$3974","v":0},{"$f":"Formula_Local(Campos_Ingreso_Datos[[#This Row],[Vinculo]])","v":"=' '!$J$3974"},"#,##0","",""]
["H3 ERI Renta líquida",{"$f":"' '!$M$3974","v":0},{"$f":"Formula_Local(Campos_Ingreso_Datos[[#This Row],[Vinculo]])","v":"=' '!$M$3974"},"#,##0","",""]
["H3 ERI Renta líquida",{"$f":"' '!$I$3975","v":0},{"$f":"Formula_Local(Campos_Ingreso_Datos[[#This Row],[Vinculo]])","v":"=' '!$I$3975"},"#,##0","",""]
["H3 ERI Renta líquida",{"$f":"' '!$J$3975","v":0},{"$f":"Formula_Local(Campos_Ingreso_Datos[[#This Row],[Vinculo]])","v":"=' '!$J$3975"},"#,##0","",""]
["H3 ERI Renta líquida",{"$f":"' '!$I$3976","v":0},{"$f":"Formula_Local(Campos_Ingreso_Datos[[#This Row],[Vinculo]])","v":"=' '!$I$3976"},"#,##0","",""]
["H3 ERI Renta líquida",{"$f":"' '!$J$3976","v":0},{"$f":"Formula_Local(Campos_Ingreso_Datos[[#This Row],[Vinculo]])","v":"=' '!$J$3976"},"#,##0","",""]
["H3 ERI Renta líquida",{"$f":"' '!$I$3977","v":0},{"$f":"Formula_Local(Campos_Ingreso_Datos[[#This Row],[Vinculo]])","v":"=' '!$I$3977"},"#,##0","",""]
["H3 ERI Renta líquida",{"$f":"' '!$J$3977","v":0},{"$f":"Formula_Local(Campos_Ingreso_Datos[[#This Row],[Vinculo]])","v":"=' '!$J$3977"},"#,##0","",""]
["H3 ERI Renta líquida",{"$f":"' '!$I$3978","v":0},{"$f":"Formula_Local(Campos_Ingreso_Datos[[#This Row],[Vinculo]])","v":"=' '!$I$3978"},"#,##0","",""]
["H3 ERI Renta líquida",{"$f":"' '!$J$3978","v":0},{"$f":"Formula_Local(Campos_Ingreso_Datos[[#This Row],[Vinculo]])","v":"=' '!$J$3978"},"#,##0","",""]
["H3 ERI Renta líquida",{"$f":"' '!$I$3979","v":0},{"$f":"Formula_Local(Campos_Ingreso_Datos[[#This Row],[Vinculo]])","v":"=' '!$I$3979"},"#,##0","",""]
["H3 ERI Renta líquida",{"$f":"' '!$J$3979","v":0},{"$f":"Formula_Local(Campos_Ingreso_Datos[[#This Row],[Vinculo]])","v":"=' '!$J$3979"},"#,##0","",""]
["H3 ERI Renta líquida",{"$f":"' '!$M$3979","v":0},{"$f":"Formula_Local(Campos_Ingreso_Datos[[#This Row],[Vinculo]])","v":"=' '!$M$3979"},"#,##0","",""]
["H3 ERI Renta líquida",{"$f":"' '!$I$3980","v":0},{"$f":"Formula_Local(Campos_Ingreso_Datos[[#This Row],[Vinculo]])","v":"=' '!$I$3980"},"#,##0","",""]
["H3 ERI Renta líquida",{"$f":"' '!$J$3980","v":0},{"$f":"Formula_Local(Campos_Ingreso_Datos[[#This Row],[Vinculo]])","v":"=' '!$J$3980"},"#,##0","",""]
["H3 ERI Renta líquida",{"$f":"' '!$M$3980","v":0},{"$f":"Formula_Local(Campos_Ingreso_Datos[[#This Row],[Vinculo]])","v":"=' '!$M$3980"},"#,##0","",""]
["H3 ERI Renta líquida",{"$f":"' '!$I$3981","v":0},{"$f":"Formula_Local(Campos_Ingreso_Datos[[#This Row],[Vinculo]])","v":"=' '!$I$3981"},"#,##0","",""]
["H3 ERI Renta líquida",{"$f":"' '!$J$3981","v":0},{"$f":"Formula_Local(Campos_Ingreso_Datos[[#This Row],[Vinculo]])","v":"=' '!$J$3981"},"#,##0","",""]
["H3 ERI Renta líquida",{"$f":"' '!$I$3982","v":0},{"$f":"Formula_Local(Campos_Ingreso_Datos[[#This Row],[Vinculo]])","v":"=' '!$I$3982"},"#,##0","",""]
["H3 ERI Renta líquida",{"$f":"' '!$J$3982","v":0},{"$f":"Formula_Local(Campos_Ingreso_Datos[[#This Row],[Vinculo]])","v":"=' '!$J$3982"},"#,##0","",""]
["H3 ERI Renta líquida",{"$f":"' '!$I$3983","v":0},{"$f":"Formula_Local(Campos_Ingreso_Datos[[#This Row],[Vinculo]])","v":"=' '!$I$3983"},"#,##0","",""]
["H3 ERI Renta líquida",{"$f":"' '!$J$3983","v":0},{"$f":"Formula_Local(Campos_Ingreso_Datos[[#This Row],[Vinculo]])","v":"=' '!$J$3983"},"#,##0","",""]
["H3 ERI Renta líquida",{"$f":"' '!$I$3984","v":0},{"$f":"Formula_Local(Campos_Ingreso_Datos[[#This Row],[Vinculo]])","v":"=' '!$I$3984"},"#,##0","",""]
["H3 ERI Renta líquida",{"$f":"' '!$J$3984","v":0},{"$f":"Formula_Local(Campos_Ingreso_Datos[[#This Row],[Vinculo]])","v":"=' '!$J$3984"},"#,##0","",""]
["H3 ERI Renta líquida",{"$f":"' '!$M$3985","v":0},{"$f":"Formula_Local(Campos_Ingreso_Datos[[#This Row],[Vinculo]])","v":"=' '!$M$3985"},"#,##0","",""]
["H3 ERI Renta líquida",{"$f":"' '!$I$3986","v":0},{"$f":"Formula_Local(Campos_Ingreso_Datos[[#This Row],[Vinculo]])","v":"=' '!$I$3986"},"#,##0","",""]
["H3 ERI Renta líquida",{"$f":"' '!$J$3986","v":0},{"$f":"Formula_Local(Campos_Ingreso_Datos[[#This Row],[Vinculo]])","v":"=' '!$J$3986"},"#,##0","",""]
["H3 ERI Renta líquida",{"$f":"' '!$M$3986","v":0},{"$f":"Formula_Local(Campos_Ingreso_Datos[[#This Row],[Vinculo]])","v":"=' '!$M$3986"},"#,##0","",""]
["H3 ERI Renta líquida",{"$f":"' '!$I$3987","v":0},{"$f":"Formula_Local(Campos_Ingreso_Datos[[#This Row],[Vinculo]])","v":"=' '!$I$3987"},"#,##0","",""]
["H3 ERI Renta líquida",{"$f":"' '!$J$3987","v":0},{"$f":"Formula_Local(Campos_Ingreso_Datos[[#This Row],[Vinculo]])","v":"=' '!$J$3987"},"#,##0","",""]
["H3 ERI Renta líquida",{"$f":"' '!$M$3987","v":0},{"$f":"Formula_Local(Campos_Ingreso_Datos[[#This Row],[Vinculo]])","v":"=' '!$M$3987"},"#,##0","",""]
["H3 ERI Renta líquida",{"$f":"' '!$I$3988","v":0},{"$f":"Formula_Local(Campos_Ingreso_Datos[[#This Row],[Vinculo]])","v":"=' '!$I$3988"},"#,##0","",""]
["H3 ERI Renta líquida",{"$f":"' '!$J$3988","v":0},{"$f":"Formula_Local(Campos_Ingreso_Datos[[#This Row],[Vinculo]])","v":"=' '!$J$3988"},"#,##0","",""]
["H3 ERI Renta líquida",{"$f":"' '!$M$3988","v":0},{"$f":"Formula_Local(Campos_Ingreso_Datos[[#This Row],[Vinculo]])","v":"=' '!$M$3988"},"#,##0","",""]
["H3 ERI Renta líquida",{"$f":"' '!$I$3989","v":0},{"$f":"Formula_Local(Campos_Ingreso_Datos[[#This Row],[Vinculo]])","v":"=' '!$I$3989"},"#,##0","",""]
["H3 ERI Renta líquida",{"$f":"' '!$J$3989","v":0},{"$f":"Formula_Local(Campos_Ingreso_Datos[[#This Row],[Vinculo]])","v":"=' '!$J$3989"},"#,##0","",""]
["H3 ERI Renta líquida",{"$f":"' '!$M$3989","v":0},{"$f":"Formula_Local(Campos_Ingreso_Datos[[#This Row],[Vinculo]])","v":"=' '!$M$3989"},"#,##0","",""]
["H3 ERI Renta líquida",{"$f":"' '!$I$3990","v":0},{"$f":"Formula_Local(Campos_Ingreso_Datos[[#This Row],[Vinculo]])","v":"=' '!$I$3990"},"#,##0","",""]
["H3 ERI Renta líquida",{"$f":"' '!$J$3990","v":0},{"$f":"Formula_Local(Campos_Ingreso_Datos[[#This Row],[Vinculo]])","v":"=' '!$J$3990"},"#,##0","",""]
["H3 ERI Renta líquida",{"$f":"' '!$M$3990","v":0},{"$f":"Formula_Local(Campos_Ingreso_Datos[[#This Row],[Vinculo]])","v":"=' '!$M$3990"},"#,##0","",""]
["H3 ERI Renta líquida",{"$f":"' '!$I$3991","v":0},{"$f":"Formula_Local(Campos_Ingreso_Datos[[#This Row],[Vinculo]])","v":"=' '!$I$3991"},"#,##0","",""]
["H3 ERI Renta líquida",{"$f":"' '!$J$3991","v":0},{"$f":"Formula_Local(Campos_Ingreso_Datos[[#This Row],[Vinculo]])","v":"=' '!$J$3991"},"#,##0","",""]
["H3 ERI Renta líquida",{"$f":"' '!$M$3991","v":0},{"$f":"Formula_Local(Campos_Ingreso_Datos[[#This Row],[Vinculo]])","v":"=' '!$M$3991"},"#,##0","",""]
["H3 ERI Renta líquida",{"$f":"' '!$I$3992","v":0},{"$f":"Formula_Local(Campos_Ingreso_Datos[[#This Row],[Vinculo]])","v":"=' '!$I$3992"},"#,##0","",""]
["H3 ERI Renta líquida",{"$f":"' '!$J$3992","v":0},{"$f":"Formula_Local(Campos_Ingreso_Datos[[#This Row],[Vinculo]])","v":"=' '!$J$3992"},"#,##0","",""]
["H3 ERI Renta líquida",{"$f":"' '!$M$3992","v":0},{"$f":"Formula_Local(Campos_Ingreso_Datos[[#This Row],[Vinculo]])","v":"=' '!$M$3992"},"#,##0","",""]
["H3 ERI Renta líquida",{"$f":"' '!$I$3993","v":0},{"$f":"Formula_Local(Campos_Ingreso_Datos[[#This Row],[Vinculo]])","v":"=' '!$I$3993"},"#,##0","",""]
["H3 ERI Renta líquida",{"$f":"' '!$J$3993","v":0},{"$f":"Formula_Local(Campos_Ingreso_Datos[[#This Row],[Vinculo]])","v":"=' '!$J$3993"},"#,##0","",""]
["H3 ERI Renta líquida",{"$f":"' '!$M$3993","v":0},{"$f":"Formula_Local(Campos_Ingreso_Datos[[#This Row],[Vinculo]])","v":"=' '!$M$3993"},"#,##0","",""]
["H3 ERI Renta líquida",{"$f":"' '!$I$3994","v":0},{"$f":"Formula_Local(Campos_Ingreso_Datos[[#This Row],[Vinculo]])","v":"=' '!$I$3994"},"#,##0","",""]
["H3 ERI Renta líquida",{"$f":"' '!$J$3994","v":0},{"$f":"Formula_Local(Campos_Ingreso_Datos[[#This Row],[Vinculo]])","v":"=' '!$J$3994"},"#,##0","",""]
["H3 ERI Renta líquida",{"$f":"' '!$M$3994","v":0},{"$f":"Formula_Local(Campos_Ingreso_Datos[[#This Row],[Vinculo]])","v":"=' '!$M$3994"},"#,##0","",""]
["H3 ERI Renta líquida",{"$f":"' '!$I$3995","v":0},{"$f":"Formula_Local(Campos_Ingreso_Datos[[#This Row],[Vinculo]])","v":"=' '!$I$3995"},"#,##0","",""]
["H3 ERI Renta líquida",{"$f":"' '!$J$3995","v":0},{"$f":"Formula_Local(Campos_Ingreso_Datos[[#This Row],[Vinculo]])","v":"=' '!$J$3995"},"#,##0","",""]
["H3 ERI Renta líquida",{"$f":"' '!$M$3995","v":0},{"$f":"Formula_Local(Campos_Ingreso_Datos[[#This Row],[Vinculo]])","v":"=' '!$M$3995"},"#,##0","",""]
["H3 ERI Renta líquida",{"$f":"' '!$I$3996","v":0},{"$f":"Formula_Local(Campos_Ingreso_Datos[[#This Row],[Vinculo]])","v":"=' '!$I$3996"},"#,##0","",""]
["H3 ERI Renta líquida",{"$f":"' '!$J$3996","v":0},{"$f":"Formula_Local(Campos_Ingreso_Datos[[#This Row],[Vinculo]])","v":"=' '!$J$3996"},"#,##0","",""]
["H3 ERI Renta líquida",{"$f":"' '!$M$3996","v":0},{"$f":"Formula_Local(Campos_Ingreso_Datos[[#This Row],[Vinculo]])","v":"=' '!$M$3996"},"#,##0","",""]
["H3 ERI Renta líquida",{"$f":"' '!$I$3997","v":0},{"$f":"Formula_Local(Campos_Ingreso_Datos[[#This Row],[Vinculo]])","v":"=' '!$I$3997"},"#,##0","",""]
["H3 ERI Renta líquida",{"$f":"' '!$J$3997","v":0},{"$f":"Formula_Local(Campos_Ingreso_Datos[[#This Row],[Vinculo]])","v":"=' '!$J$3997"},"#,##0","",""]
["H3 ERI Renta líquida",{"$f":"' '!$M$3997","v":0},{"$f":"Formula_Local(Campos_Ingreso_Datos[[#This Row],[Vinculo]])","v":"=' '!$M$3997"},"#,##0","",""]
["H3 ERI Renta líquida",{"$f":"' '!$I$3998","v":0},{"$f":"Formula_Local(Campos_Ingreso_Datos[[#This Row],[Vinculo]])","v":"=' '!$I$3998"},"#,##0","",""]
["H3 ERI Renta líquida",{"$f":"' '!$J$3998","v":0},{"$f":"Formula_Local(Campos_Ingreso_Datos[[#This Row],[Vinculo]])","v":"=' '!$J$3998"},"#,##0","",""]
["H3 ERI Renta líquida",{"$f":"' '!$M$3998","v":0},{"$f":"Formula_Local(Campos_Ingreso_Datos[[#This Row],[Vinculo]])","v":"=' '!$M$3998"},"#,##0","",""]
["H3 ERI Renta líquida",{"$f":"' '!$I$3999","v":0},{"$f":"Formula_Local(Campos_Ingreso_Datos[[#This Row],[Vinculo]])","v":"=' '!$I$3999"},"#,##0","",""]
["H3 ERI Renta líquida",{"$f":"' '!$J$3999","v":0},{"$f":"Formula_Local(Campos_Ingreso_Datos[[#This Row],[Vinculo]])","v":"=' '!$J$3999"},"#,##0","",""]
["H3 ERI Renta líquida",{"$f":"' '!$M$3999","v":0},{"$f":"Formula_Local(Campos_Ingreso_Datos[[#This Row],[Vinculo]])","v":"=' '!$M$3999"},"#,##0","",""]
["H3 ERI Renta líquida",{"$f":"' '!$I$4000","v":0},{"$f":"Formula_Local(Campos_Ingreso_Datos[[#This Row],[Vinculo]])","v":"=' '!$I$4000"},"#,##0","",""]
["H3 ERI Renta líquida",{"$f":"' '!$J$4000","v":0},{"$f":"Formula_Local(Campos_Ingreso_Datos[[#This Row],[Vinculo]])","v":"=' '!$J$4000"},"#,##0","",""]
["H3 ERI Renta líquida",{"$f":"' '!$M$4000","v":0},{"$f":"Formula_Local(Campos_Ingreso_Datos[[#This Row],[Vinculo]])","v":"=' '!$M$4000"},"#,##0","",""]
["H3 ERI Renta líquida",{"$f":"' '!$I$4001","v":0},{"$f":"Formula_Local(Campos_Ingreso_Datos[[#This Row],[Vinculo]])","v":"=' '!$I$4001"},"#,##0","",""]
["H3 ERI Renta líquida",{"$f":"' '!$J$4001","v":0},{"$f":"Formula_Local(Campos_Ingreso_Datos[[#This Row],[Vinculo]])","v":"=' '!$J$4001"},"#,##0","",""]
["H3 ERI Renta líquida",{"$f":"' '!$M$4001","v":0},{"$f":"Formula_Local(Campos_Ingreso_Datos[[#This Row],[Vinculo]])","v":"=' '!$M$4001"},"#,##0","",""]
["H3 ERI Renta líquida",{"$f":"' '!$I$4002","v":0},{"$f":"Formula_Local(Campos_Ingreso_Datos[[#This Row],[Vinculo]])","v":"=' '!$I$4002"},"#,##0","",""]
["H3 ERI Renta líquida",{"$f":"' '!$J$4002","v":0},{"$f":"Formula_Local(Campos_Ingreso_Datos[[#This Row],[Vinculo]])","v":"=' '!$J$4002"},"#,##0","",""]
["H3 ERI Renta líquida",{"$f":"' '!$M$4002","v":0},{"$f":"Formula_Local(Campos_Ingreso_Datos[[#This Row],[Vinculo]])","v":"=' '!$M$4002"},"#,##0","",""]
["H4 Impuesto diferido",{"$f":"' '!$G$4013","v":0},{"$f":"Formula_Local(Campos_Ingreso_Datos[[#This Row],[Vinculo]])","v":"=' '!$G$4013"},"General","=Listas!$B$2:$B$3",""]
["H4 Impuesto diferido",{"$f":"' '!$F$4018","v":"Temporaria"},{"$f":"Formula_Local(Campos_Ingreso_Datos[[#This Row],[Vinculo]])","v":"=' '!$F$4018"},"General","=Listas!$D$2:$D$3","","Temporaria"]
["H4 Impuesto diferido",{"$f":"' '!$J$4018","v":0},{"$f":"Formula_Local(Campos_Ingreso_Datos[[#This Row],[Vinculo]])","v":"=' '!$J$4018"},"#,##0","",""]
["H4 Impuesto diferido",{"$f":"' '!$F$4019","v":"Temporaria"},{"$f":"Formula_Local(Campos_Ingreso_Datos[[#This Row],[Vinculo]])","v":"=' '!$F$4019"},"General","=Listas!$D$2:$D$3","","Temporaria"]
["H4 Impuesto diferido",{"$f":"' '!$J$4019","v":0},{"$f":"Formula_Local(Campos_Ingreso_Datos[[#This Row],[Vinculo]])","v":"=' '!$J$4019"},"#,##0","",""]
["H4 Impuesto diferido",{"$f":"' '!$F$4020","v":"Temporaria"},{"$f":"Formula_Local(Campos_Ingreso_Datos[[#This Row],[Vinculo]])","v":"=' '!$F$4020"},"General","=Listas!$D$2:$D$3","","Temporaria"]
["H4 Impuesto diferido",{"$f":"' '!$J$4020","v":0},{"$f":"Formula_Local(Campos_Ingreso_Datos[[#This Row],[Vinculo]])","v":"=' '!$J$4020"},"#,##0","",""]
["H4 Impuesto diferido",{"$f":"' '!$F$4021","v":"Temporaria"},{"$f":"Formula_Local(Campos_Ingreso_Datos[[#This Row],[Vinculo]])","v":"=' '!$F$4021"},"General","=Listas!$D$2:$D$3","","Temporaria"]
["H4 Impuesto diferido",{"$f":"' '!$J$4021","v":0},{"$f":"Formula_Local(Campos_Ingreso_Datos[[#This Row],[Vinculo]])","v":"=' '!$J$4021"},"#,##0","",""]
["H4 Impuesto diferido",{"$f":"' '!$F$4022","v":"Temporaria"},{"$f":"Formula_Local(Campos_Ingreso_Datos[[#This Row],[Vinculo]])","v":"=' '!$F$4022"},"General","=Listas!$D$2:$D$3","","Temporaria"]
["H4 Impuesto diferido",{"$f":"' '!$J$4022","v":0},{"$f":"Formula_Local(Campos_Ingreso_Datos[[#This Row],[Vinculo]])","v":"=' '!$J$4022"},"#,##0","",""]
["H4 Impuesto diferido",{"$f":"' '!$F$4023","v":"Temporaria"},{"$f":"Formula_Local(Campos_Ingreso_Datos[[#This Row],[Vinculo]])","v":"=' '!$F$4023"},"General","=Listas!$D$2:$D$3","","Temporaria"]
["H4 Impuesto diferido",{"$f":"' '!$J$4023","v":0},{"$f":"Formula_Local(Campos_Ingreso_Datos[[#This Row],[Vinculo]])","v":"=' '!$J$4023"},"#,##0","",""]
["H4 Impuesto diferido",{"$f":"' '!$F$4024","v":"Temporaria"},{"$f":"Formula_Local(Campos_Ingreso_Datos[[#This Row],[Vinculo]])","v":"=' '!$F$4024"},"General","=Listas!$D$2:$D$3","","Temporaria"]
["H4 Impuesto diferido",{"$f":"' '!$J$4024","v":0},{"$f":"Formula_Local(Campos_Ingreso_Datos[[#This Row],[Vinculo]])","v":"=' '!$J$4024"},"#,##0","",""]
["H4 Impuesto diferido",{"$f":"' '!$F$4025","v":"Temporaria"},{"$f":"Formula_Local(Campos_Ingreso_Datos[[#This Row],[Vinculo]])","v":"=' '!$F$4025"},"General","=Listas!$D$2:$D$3","","Temporaria"]
["H4 Impuesto diferido",{"$f":"' '!$J$4025","v":0},{"$f":"Formula_Local(Campos_Ingreso_Datos[[#This Row],[Vinculo]])","v":"=' '!$J$4025"},"#,##0","",""]
["H4 Impuesto diferido",{"$f":"' '!$F$4026","v":"Temporaria"},{"$f":"Formula_Local(Campos_Ingreso_Datos[[#This Row],[Vinculo]])","v":"=' '!$F$4026"},"General","=Listas!$D$2:$D$3","","Temporaria"]
["H4 Impuesto diferido",{"$f":"' '!$J$4026","v":0},{"$f":"Formula_Local(Campos_Ingreso_Datos[[#This Row],[Vinculo]])","v":"=' '!$J$4026"},"#,##0","",""]
["H4 Impuesto diferido",{"$f":"' '!$F$4027","v":"Temporaria"},{"$f":"Formula_Local(Campos_Ingreso_Datos[[#This Row],[Vinculo]])","v":"=' '!$F$4027"},"General","=Listas!$D$2:$D$3","","Temporaria"]
["H4 Impuesto diferido",{"$f":"' '!$J$4027","v":0},{"$f":"Formula_Local(Campos_Ingreso_Datos[[#This Row],[Vinculo]])","v":"=' '!$J$4027"},"#,##0","",""]
["H4 Impuesto diferido",{"$f":"' '!$F$4028","v":"Temporaria"},{"$f":"Formula_Local(Campos_Ingreso_Datos[[#This Row],[Vinculo]])","v":"=' '!$F$4028"},"General","=Listas!$D$2:$D$3","","Temporaria"]
["H4 Impuesto diferido",{"$f":"' '!$J$4028","v":0},{"$f":"Formula_Local(Campos_Ingreso_Datos[[#This Row],[Vinculo]])","v":"=' '!$J$4028"},"#,##0","",""]
["H4 Impuesto diferido",{"$f":"' '!$F$4029","v":"Temporaria"},{"$f":"Formula_Local(Campos_Ingreso_Datos[[#This Row],[Vinculo]])","v":"=' '!$F$4029"},"General","=Listas!$D$2:$D$3","","Temporaria"]
["H4 Impuesto diferido",{"$f":"' '!$J$4029","v":0},{"$f":"Formula_Local(Campos_Ingreso_Datos[[#This Row],[Vinculo]])","v":"=' '!$J$4029"},"#,##0","",""]
["H4 Impuesto diferido",{"$f":"' '!$F$4030","v":"Temporaria"},{"$f":"Formula_Local(Campos_Ingreso_Datos[[#This Row],[Vinculo]])","v":"=' '!$F$4030"},"General","=Listas!$D$2:$D$3","","Temporaria"]
["H4 Impuesto diferido",{"$f":"' '!$J$4030","v":0},{"$f":"Formula_Local(Campos_Ingreso_Datos[[#This Row],[Vinculo]])","v":"=' '!$J$4030"},"#,##0","",""]
["H4 Impuesto diferido",{"$f":"' '!$F$4031","v":"Temporaria"},{"$f":"Formula_Local(Campos_Ingreso_Datos[[#This Row],[Vinculo]])","v":"=' '!$F$4031"},"General","=Listas!$D$2:$D$3","","Temporaria"]
["H4 Impuesto diferido",{"$f":"' '!$J$4031","v":0},{"$f":"Formula_Local(Campos_Ingreso_Datos[[#This Row],[Vinculo]])","v":"=' '!$J$4031"},"#,##0","",""]
["H4 Impuesto diferido",{"$f":"' '!$F$4032","v":"Temporaria"},{"$f":"Formula_Local(Campos_Ingreso_Datos[[#This Row],[Vinculo]])","v":"=' '!$F$4032"},"General","=Listas!$D$2:$D$3","","Temporaria"]
["H4 Impuesto diferido",{"$f":"' '!$J$4032","v":0},{"$f":"Formula_Local(Campos_Ingreso_Datos[[#This Row],[Vinculo]])","v":"=' '!$J$4032"},"#,##0","",""]
["H4 Impuesto diferido",{"$f":"' '!$F$4033","v":"Temporaria"},{"$f":"Formula_Local(Campos_Ingreso_Datos[[#This Row],[Vinculo]])","v":"=' '!$F$4033"},"General","=Listas!$D$2:$D$3","","Temporaria"]
["H4 Impuesto diferido",{"$f":"' '!$J$4033","v":0},{"$f":"Formula_Local(Campos_Ingreso_Datos[[#This Row],[Vinculo]])","v":"=' '!$J$4033"},"#,##0","",""]
["H4 Impuesto diferido",{"$f":"' '!$F$4034","v":"Temporaria"},{"$f":"Formula_Local(Campos_Ingreso_Datos[[#This Row],[Vinculo]])","v":"=' '!$F$4034"},"General","=Listas!$D$2:$D$3","","Temporaria"]
["H4 Impuesto diferido",{"$f":"' '!$J$4034","v":0},{"$f":"Formula_Local(Campos_Ingreso_Datos[[#This Row],[Vinculo]])","v":"=' '!$J$4034"},"#,##0","",""]
["H4 Impuesto diferido",{"$f":"' '!$F$4035","v":"Temporaria"},{"$f":"Formula_Local(Campos_Ingreso_Datos[[#This Row],[Vinculo]])","v":"=' '!$F$4035"},"General","=Listas!$D$2:$D$3","","Temporaria"]
["H4 Impuesto diferido",{"$f":"' '!$J$4035","v":0},{"$f":"Formula_Local(Campos_Ingreso_Datos[[#This Row],[Vinculo]])","v":"=' '!$J$4035"},"#,##0","",""]
["H4 Impuesto diferido",{"$f":"' '!$F$4038","v":"Temporaria"},{"$f":"Formula_Local(Campos_Ingreso_Datos[[#This Row],[Vinculo]])","v":"=' '!$F$4038"},"General","=Listas!$D$2:$D$3","","Temporaria"]
["H4 Impuesto diferido",{"$f":"' '!$J$4038","v":0},{"$f":"Formula_Local(Campos_Ingreso_Datos[[#This Row],[Vinculo]])","v":"=' '!$J$4038"},"#,##0","",""]
["H4 Impuesto diferido",{"$f":"' '!$F$4039","v":"Temporaria"},{"$f":"Formula_Local(Campos_Ingreso_Datos[[#This Row],[Vinculo]])","v":"=' '!$F$4039"},"General","=Listas!$D$2:$D$3","","Temporaria"]
["H4 Impuesto diferido",{"$f":"' '!$J$4039","v":0},{"$f":"Formula_Local(Campos_Ingreso_Datos[[#This Row],[Vinculo]])","v":"=' '!$J$4039"},"#,##0","",""]
["H4 Impuesto diferido",{"$f":"' '!$F$4040","v":"Temporaria"},{"$f":"Formula_Local(Campos_Ingreso_Datos[[#This Row],[Vinculo]])","v":"=' '!$F$4040"},"General","=Listas!$D$2:$D$3","","Temporaria"]
["H4 Impuesto diferido",{"$f":"' '!$J$4040","v":0},{"$f":"Formula_Local(Campos_Ingreso_Datos[[#This Row],[Vinculo]])","v":"=' '!$J$4040"},"#,##0","",""]
["H4 Impuesto diferido",{"$f":"' '!$F$4041","v":"Temporaria"},{"$f":"Formula_Local(Campos_Ingreso_Datos[[#This Row],[Vinculo]])","v":"=' '!$F$4041"},"General","=Listas!$D$2:$D$3","","Temporaria"]
["H4 Impuesto diferido",{"$f":"' '!$J$4041","v":0},{"$f":"Formula_Local(Campos_Ingreso_Datos[[#This Row],[Vinculo]])","v":"=' '!$J$4041"},"#,##0","",""]
["H4 Impuesto diferido",{"$f":"' '!$F$4042","v":"Temporaria"},{"$f":"Formula_Local(Campos_Ingreso_Datos[[#This Row],[Vinculo]])","v":"=' '!$F$4042"},"General","=Listas!$D$2:$D$3","","Temporaria"]
["H4 Impuesto diferido",{"$f":"' '!$J$4042","v":0},{"$f":"Formula_Local(Campos_Ingreso_Datos[[#This Row],[Vinculo]])","v":"=' '!$J$4042"},"#,##0","",""]
["H4 Impuesto diferido",{"$f":"' '!$F$4043","v":"Temporaria"},{"$f":"Formula_Local(Campos_Ingreso_Datos[[#This Row],[Vinculo]])","v":"=' '!$F$4043"},"General","=Listas!$D$2:$D$3","","Temporaria"]
["H4 Impuesto diferido",{"$f":"' '!$J$4043","v":0},{"$f":"Formula_Local(Campos_Ingreso_Datos[[#This Row],[Vinculo]])","v":"=' '!$J$4043"},"#,##0","",""]
["H4 Impuesto diferido",{"$f":"' '!$F$4044","v":"Temporaria"},{"$f":"Formula_Local(Campos_Ingreso_Datos[[#This Row],[Vinculo]])","v":"=' '!$F$4044"},"General","=Listas!$D$2:$D$3","","Temporaria"]
["H4 Impuesto diferido",{"$f":"' '!$J$4044","v":0},{"$f":"Formula_Local(Campos_Ingreso_Datos[[#This Row],[Vinculo]])","v":"=' '!$J$4044"},"#,##0","",""]
["H4 Impuesto diferido",{"$f":"' '!$F$4045","v":"Temporaria"},{"$f":"Formula_Local(Campos_Ingreso_Datos[[#This Row],[Vinculo]])","v":"=' '!$F$4045"},"General","=Listas!$D$2:$D$3","","Temporaria"]
["H4 Impuesto diferido",{"$f":"' '!$J$4045","v":0},{"$f":"Formula_Local(Campos_Ingreso_Datos[[#This Row],[Vinculo]])","v":"=' '!$J$4045"},"#,##0","",""]
["H4 Impuesto diferido",{"$f":"' '!$F$4046","v":"Temporaria"},{"$f":"Formula_Local(Campos_Ingreso_Datos[[#This Row],[Vinculo]])","v":"=' '!$F$4046"},"General","=Listas!$D$2:$D$3","","Temporaria"]
["H4 Impuesto diferido",{"$f":"' '!$J$4046","v":0},{"$f":"Formula_Local(Campos_Ingreso_Datos[[#This Row],[Vinculo]])","v":"=' '!$J$4046"},"#,##0","",""]
["H4 Impuesto diferido",{"$f":"' '!$F$4047","v":"Temporaria"},{"$f":"Formula_Local(Campos_Ingreso_Datos[[#This Row],[Vinculo]])","v":"=' '!$F$4047"},"General","=Listas!$D$2:$D$3","","Temporaria"]
["H4 Impuesto diferido",{"$f":"' '!$J$4047","v":0},{"$f":"Formula_Local(Campos_Ingreso_Datos[[#This Row],[Vinculo]])","v":"=' '!$J$4047"},"#,##0","",""]
["H4 Impuesto diferido",{"$f":"' '!$F$4048","v":"Temporaria"},{"$f":"Formula_Local(Campos_Ingreso_Datos[[#This Row],[Vinculo]])","v":"=' '!$F$4048"},"General","=Listas!$D$2:$D$3","","Temporaria"]
["H4 Impuesto diferido",{"$f":"' '!$J$4048","v":0},{"$f":"Formula_Local(Campos_Ingreso_Datos[[#This Row],[Vinculo]])","v":"=' '!$J$4048"},"#,##0","",""]
["H4 Impuesto diferido",{"$f":"' '!$F$4049","v":"Temporaria"},{"$f":"Formula_Local(Campos_Ingreso_Datos[[#This Row],[Vinculo]])","v":"=' '!$F$4049"},"General","=Listas!$D$2:$D$3","","Temporaria"]
["H4 Impuesto diferido",{"$f":"' '!$J$4049","v":0},{"$f":"Formula_Local(Campos_Ingreso_Datos[[#This Row],[Vinculo]])","v":"=' '!$J$4049"},"#,##0","",""]
["H4 Impuesto diferido",{"$f":"' '!$F$4050","v":"Temporaria"},{"$f":"Formula_Local(Campos_Ingreso_Datos[[#This Row],[Vinculo]])","v":"=' '!$F$4050"},"General","=Listas!$D$2:$D$3","","Temporaria"]
["H4 Impuesto diferido",{"$f":"' '!$J$4050","v":0},{"$f":"Formula_Local(Campos_Ingreso_Datos[[#This Row],[Vinculo]])","v":"=' '!$J$4050"},"#,##0","",""]
["H4 Impuesto diferido",{"$f":"' '!$F$4051","v":"Temporaria"},{"$f":"Formula_Local(Campos_Ingreso_Datos[[#This Row],[Vinculo]])","v":"=' '!$F$4051"},"General","=Listas!$D$2:$D$3","","Temporaria"]
["H4 Impuesto diferido",{"$f":"' '!$J$4051","v":0},{"$f":"Formula_Local(Campos_Ingreso_Datos[[#This Row],[Vinculo]])","v":"=' '!$J$4051"},"#,##0","",""]
["H4 Impuesto diferido",{"$f":"' '!$F$4052","v":"Temporaria"},{"$f":"Formula_Local(Campos_Ingreso_Datos[[#This Row],[Vinculo]])","v":"=' '!$F$4052"},"General","=Listas!$D$2:$D$3","","Temporaria"]
["H4 Impuesto diferido",{"$f":"' '!$J$4052","v":0},{"$f":"Formula_Local(Campos_Ingreso_Datos[[#This Row],[Vinculo]])","v":"=' '!$J$4052"},"#,##0","",""]
["H4 Impuesto diferido",{"$f":"' '!$F$4053","v":"Temporaria"},{"$f":"Formula_Local(Campos_Ingreso_Datos[[#This Row],[Vinculo]])","v":"=' '!$F$4053"},"General","=Listas!$D$2:$D$3","","Temporaria"]
["H4 Impuesto diferido",{"$f":"' '!$J$4053","v":0},{"$f":"Formula_Local(Campos_Ingreso_Datos[[#This Row],[Vinculo]])","v":"=' '!$J$4053"},"#,##0","",""]
["H4 Impuesto diferido",{"$f":"' '!$F$4054","v":"Temporaria"},{"$f":"Formula_Local(Campos_Ingreso_Datos[[#This Row],[Vinculo]])","v":"=' '!$F$4054"},"General","=Listas!$D$2:$D$3","","Temporaria"]
["H4 Impuesto diferido",{"$f":"' '!$J$4054","v":0},{"$f":"Formula_Local(Campos_Ingreso_Datos[[#This Row],[Vinculo]])","v":"=' '!$J$4054"},"#,##0","",""]
["H4 Impuesto diferido",{"$f":"' '!$F$4055","v":"Temporaria"},{"$f":"Formula_Local(Campos_Ingreso_Datos[[#This Row],[Vinculo]])","v":"=' '!$F$4055"},"General","=Listas!$D$2:$D$3","","Temporaria"]
["H4 Impuesto diferido",{"$f":"' '!$J$4055","v":0},{"$f":"Formula_Local(Campos_Ingreso_Datos[[#This Row],[Vinculo]])","v":"=' '!$J$4055"},"#,##0","",""]
["H4 Impuesto diferido",{"$f":"' '!$G$4063","v":0},{"$f":"Formula_Local(Campos_Ingreso_Datos[[#This Row],[Vinculo]])","v":"=' '!$G$4063"},"#,##0","",""]
["H4 Impuesto diferido",{"$f":"' '!$H$4063","v":0},{"$f":"Formula_Local(Campos_Ingreso_Datos[[#This Row],[Vinculo]])","v":"=' '!$H$4063"},"#,##0","",""]
["H4 Impuesto diferido",{"$f":"' '!$I$4063","v":0},{"$f":"Formula_Local(Campos_Ingreso_Datos[[#This Row],[Vinculo]])","v":"=' '!$I$4063"},"#,##0","",""]
["H4 Impuesto diferido",{"$f":"' '!$J$4063","v":0},{"$f":"Formula_Local(Campos_Ingreso_Datos[[#This Row],[Vinculo]])","v":"=' '!$J$4063"},"#,##0","",""]
["H4 Impuesto diferido",{"$f":"' '!$K$4063","v":0},{"$f":"Formula_Local(Campos_Ingreso_Datos[[#This Row],[Vinculo]])","v":"=' '!$K$4063"},"#,##0","",""]
["H4 Impuesto diferido",{"$f":"' '!$L$4063","v":0},{"$f":"Formula_Local(Campos_Ingreso_Datos[[#This Row],[Vinculo]])","v":"=' '!$L$4063"},"#,##0","",""]
["H4 Impuesto diferido",{"$f":"' '!$D$4064","v":0},{"$f":"Formula_Local(Campos_Ingreso_Datos[[#This Row],[Vinculo]])","v":"=' '!$D$4064"},"#,##0","",""]
["H4 Impuesto diferido",{"$f":"' '!$E$4064","v":0},{"$f":"Formula_Local(Campos_Ingreso_Datos[[#This Row],[Vinculo]])","v":"=' '!$E$4064"},"#,##0","",""]
["H4 Impuesto diferido",{"$f":"' '!$G$4064","v":0},{"$f":"Formula_Local(Campos_Ingreso_Datos[[#This Row],[Vinculo]])","v":"=' '!$G$4064"},"#,##0","",""]
["H4 Impuesto diferido",{"$f":"' '!$H$4064","v":0},{"$f":"Formula_Local(Campos_Ingreso_Datos[[#This Row],[Vinculo]])","v":"=' '!$H$4064"},"#,##0","",""]
["H4 Impuesto diferido",{"$f":"' '!$I$4064","v":0},{"$f":"Formula_Local(Campos_Ingreso_Datos[[#This Row],[Vinculo]])","v":"=' '!$I$4064"},"#,##0","",""]
["H4 Impuesto diferido",{"$f":"' '!$J$4064","v":0},{"$f":"Formula_Local(Campos_Ingreso_Datos[[#This Row],[Vinculo]])","v":"=' '!$J$4064"},"#,##0","",""]
["H4 Impuesto diferido",{"$f":"' '!$K$4064","v":0},{"$f":"Formula_Local(Campos_Ingreso_Datos[[#This Row],[Vinculo]])","v":"=' '!$K$4064"},"#,##0","",""]
["H4 Impuesto diferido",{"$f":"' '!$L$4064","v":0},{"$f":"Formula_Local(Campos_Ingreso_Datos[[#This Row],[Vinculo]])","v":"=' '!$L$4064"},"#,##0","",""]
["H4 Impuesto diferido",{"$f":"' '!$D$4070","v":0},{"$f":"Formula_Local(Campos_Ingreso_Datos[[#This Row],[Vinculo]])","v":"=' '!$D$4070"},"#,##0","",""]
["H4 Impuesto diferido",{"$f":"' '!$E$4070","v":0},{"$f":"Formula_Local(Campos_Ingreso_Datos[[#This Row],[Vinculo]])","v":"=' '!$E$4070"},"#,##0","",""]
["H4 Impuesto diferido",{"$f":"' '!$F$4070","v":0},{"$f":"Formula_Local(Campos_Ingreso_Datos[[#This Row],[Vinculo]])","v":"=' '!$F$4070"},"#,##0","",""]
["H4 Impuesto diferido",{"$f":"' '!$G$4070","v":0},{"$f":"Formula_Local(Campos_Ingreso_Datos[[#This Row],[Vinculo]])","v":"=' '!$G$4070"},"#,##0","",""]
["H4 Impuesto diferido",{"$f":"' '!$H$4070","v":0},{"$f":"Formula_Local(Campos_Ingreso_Datos[[#This Row],[Vinculo]])","v":"=' '!$H$4070"},"#,##0","",""]
["H4 Impuesto diferido",{"$f":"' '!$I$4070","v":0},{"$f":"Formula_Local(Campos_Ingreso_Datos[[#This Row],[Vinculo]])","v":"=' '!$I$4070"},"#,##0","",""]
["H4 Impuesto diferido",{"$f":"' '!$K$4070","v":0},{"$f":"Formula_Local(Campos_Ingreso_Datos[[#This Row],[Vinculo]])","v":"=' '!$K$4070"},"#,##0","",""]
["H4 Impuesto diferido",{"$f":"' '!$E$4071","v":0},{"$f":"Formula_Local(Campos_Ingreso_Datos[[#This Row],[Vinculo]])","v":"=' '!$E$4071"},"#,##0","",""]
["H4 Impuesto diferido",{"$f":"' '!$F$4071","v":0},{"$f":"Formula_Local(Campos_Ingreso_Datos[[#This Row],[Vinculo]])","v":"=' '!$F$4071"},"#,##0","",""]
["H4 Impuesto diferido",{"$f":"' '!$G$4071","v":0},{"$f":"Formula_Local(Campos_Ingreso_Datos[[#This Row],[Vinculo]])","v":"=' '!$G$4071"},"#,##0","",""]
["H4 Impuesto diferido",{"$f":"' '!$H$4071","v":0},{"$f":"Formula_Local(Campos_Ingreso_Datos[[#This Row],[Vinculo]])","v":"=' '!$H$4071"},"#,##0","",""]
["H4 Impuesto diferido",{"$f":"' '!$I$4071","v":0},{"$f":"Formula_Local(Campos_Ingreso_Datos[[#This Row],[Vinculo]])","v":"=' '!$I$4071"},"#,##0","",""]
["H4 Impuesto diferido",{"$f":"' '!$K$4071","v":0},{"$f":"Formula_Local(Campos_Ingreso_Datos[[#This Row],[Vinculo]])","v":"=' '!$K$4071"},"#,##0","",""]
["H4 Impuesto diferido",{"$f":"' '!$E$4072","v":0},{"$f":"Formula_Local(Campos_Ingreso_Datos[[#This Row],[Vinculo]])","v":"=' '!$E$4072"},"#,##0","",""]
["H4 Impuesto diferido",{"$f":"' '!$F$4072","v":0},{"$f":"Formula_Local(Campos_Ingreso_Datos[[#This Row],[Vinculo]])","v":"=' '!$F$4072"},"#,##0","",""]
["H4 Impuesto diferido",{"$f":"' '!$G$4072","v":0},{"$f":"Formula_Local(Campos_Ingreso_Datos[[#This Row],[Vinculo]])","v":"=' '!$G$4072"},"#,##0","",""]
["H4 Impuesto diferido",{"$f":"' '!$H$4072","v":0},{"$f":"Formula_Local(Campos_Ingreso_Datos[[#This Row],[Vinculo]])","v":"=' '!$H$4072"},"#,##0","",""]
["H4 Impuesto diferido",{"$f":"' '!$I$4072","v":0},{"$f":"Formula_Local(Campos_Ingreso_Datos[[#This Row],[Vinculo]])","v":"=' '!$I$4072"},"#,##0","",""]
["H4 Impuesto diferido",{"$f":"' '!$K$4072","v":0},{"$f":"Formula_Local(Campos_Ingreso_Datos[[#This Row],[Vinculo]])","v":"=' '!$K$4072"},"#,##0","",""]
["H4 Impuesto diferido",{"$f":"' '!$E$4073","v":0},{"$f":"Formula_Local(Campos_Ingreso_Datos[[#This Row],[Vinculo]])","v":"=' '!$E$4073"},"#,##0","",""]
["H4 Impuesto diferido",{"$f":"' '!$F$4073","v":0},{"$f":"Formula_Local(Campos_Ingreso_Datos[[#This Row],[Vinculo]])","v":"=' '!$F$4073"},"#,##0","",""]
["H4 Impuesto diferido",{"$f":"' '!$G$4073","v":0},{"$f":"Formula_Local(Campos_Ingreso_Datos[[#This Row],[Vinculo]])","v":"=' '!$G$4073"},"#,##0","",""]
["H4 Impuesto diferido",{"$f":"' '!$H$4073","v":0},{"$f":"Formula_Local(Campos_Ingreso_Datos[[#This Row],[Vinculo]])","v":"=' '!$H$4073"},"#,##0","",""]
["H4 Impuesto diferido",{"$f":"' '!$I$4073","v":0},{"$f":"Formula_Local(Campos_Ingreso_Datos[[#This Row],[Vinculo]])","v":"=' '!$I$4073"},"#,##0","",""]
["H4 Impuesto diferido",{"$f":"' '!$K$4073","v":0},{"$f":"Formula_Local(Campos_Ingreso_Datos[[#This Row],[Vinculo]])","v":"=' '!$K$4073"},"#,##0","",""]
["H4 Impuesto diferido",{"$f":"' '!$E$4074","v":0},{"$f":"Formula_Local(Campos_Ingreso_Datos[[#This Row],[Vinculo]])","v":"=' '!$E$4074"},"#,##0","",""]
["H4 Impuesto diferido",{"$f":"' '!$F$4074","v":0},{"$f":"Formula_Local(Campos_Ingreso_Datos[[#This Row],[Vinculo]])","v":"=' '!$F$4074"},"#,##0","",""]
["H4 Impuesto diferido",{"$f":"' '!$G$4074","v":0},{"$f":"Formula_Local(Campos_Ingreso_Datos[[#This Row],[Vinculo]])","v":"=' '!$G$4074"},"#,##0","",""]
["H4 Impuesto diferido",{"$f":"' '!$H$4074","v":0},{"$f":"Formula_Local(Campos_Ingreso_Datos[[#This Row],[Vinculo]])","v":"=' '!$H$4074"},"#,##0","",""]
["H4 Impuesto diferido",{"$f":"' '!$I$4074","v":0},{"$f":"Formula_Local(Campos_Ingreso_Datos[[#This Row],[Vinculo]])","v":"=' '!$I$4074"},"#,##0","",""]
["H4 Impuesto diferido",{"$f":"' '!$K$4074","v":0},{"$f":"Formula_Local(Campos_Ingreso_Datos[[#This Row],[Vinculo]])","v":"=' '!$K$4074"},"#,##0","",""]
["H4 Impuesto diferido",{"$f":"' '!$E$4075","v":0},{"$f":"Formula_Local(Campos_Ingreso_Datos[[#This Row],[Vinculo]])","v":"=' '!$E$4075"},"#,##0","",""]
["H4 Impuesto diferido",{"$f":"' '!$F$4075","v":0},{"$f":"Formula_Local(Campos_Ingreso_Datos[[#This Row],[Vinculo]])","v":"=' '!$F$4075"},"#,##0","",""]
["H4 Impuesto diferido",{"$f":"' '!$G$4075","v":0},{"$f":"Formula_Local(Campos_Ingreso_Datos[[#This Row],[Vinculo]])","v":"=' '!$G$4075"},"#,##0","",""]
["H4 Impuesto diferido",{"$f":"' '!$H$4075","v":0},{"$f":"Formula_Local(Campos_Ingreso_Datos[[#This Row],[Vinculo]])","v":"=' '!$H$4075"},"#,##0","",""]
["H4 Impuesto diferido",{"$f":"' '!$I$4075","v":0},{"$f":"Formula_Local(Campos_Ingreso_Datos[[#This Row],[Vinculo]])","v":"=' '!$I$4075"},"#,##0","",""]
["H4 Impuesto diferido",{"$f":"' '!$K$4075","v":0},{"$f":"Formula_Local(Campos_Ingreso_Datos[[#This Row],[Vinculo]])","v":"=' '!$K$4075"},"#,##0","",""]
["H4 Impuesto diferido",{"$f":"' '!$E$4076","v":0},{"$f":"Formula_Local(Campos_Ingreso_Datos[[#This Row],[Vinculo]])","v":"=' '!$E$4076"},"#,##0","",""]
["H4 Impuesto diferido",{"$f":"' '!$F$4076","v":0},{"$f":"Formula_Local(Campos_Ingreso_Datos[[#This Row],[Vinculo]])","v":"=' '!$F$4076"},"#,##0","",""]
["H4 Impuesto diferido",{"$f":"' '!$G$4076","v":0},{"$f":"Formula_Local(Campos_Ingreso_Datos[[#This Row],[Vinculo]])","v":"=' '!$G$4076"},"#,##0","",""]
["H4 Impuesto diferido",{"$f":"' '!$H$4076","v":0},{"$f":"Formula_Local(Campos_Ingreso_Datos[[#This Row],[Vinculo]])","v":"=' '!$H$4076"},"#,##0","",""]
["H4 Impuesto diferido",{"$f":"' '!$I$4076","v":0},{"$f":"Formula_Local(Campos_Ingreso_Datos[[#This Row],[Vinculo]])","v":"=' '!$I$4076"},"#,##0","",""]
["H4 Impuesto diferido",{"$f":"' '!$K$4076","v":0},{"$f":"Formula_Local(Campos_Ingreso_Datos[[#This Row],[Vinculo]])","v":"=' '!$K$4076"},"#,##0","",""]
["H4 Impuesto diferido",{"$f":"' '!$E$4077","v":0},{"$f":"Formula_Local(Campos_Ingreso_Datos[[#This Row],[Vinculo]])","v":"=' '!$E$4077"},"#,##0","",""]
["H4 Impuesto diferido",{"$f":"' '!$F$4077","v":0},{"$f":"Formula_Local(Campos_Ingreso_Datos[[#This Row],[Vinculo]])","v":"=' '!$F$4077"},"#,##0","",""]
["H4 Impuesto diferido",{"$f":"' '!$G$4077","v":0},{"$f":"Formula_Local(Campos_Ingreso_Datos[[#This Row],[Vinculo]])","v":"=' '!$G$4077"},"#,##0","",""]
["H4 Impuesto diferido",{"$f":"' '!$H$4077","v":0},{"$f":"Formula_Local(Campos_Ingreso_Datos[[#This Row],[Vinculo]])","v":"=' '!$H$4077"},"#,##0","",""]
["H4 Impuesto diferido",{"$f":"' '!$I$4077","v":0},{"$f":"Formula_Local(Campos_Ingreso_Datos[[#This Row],[Vinculo]])","v":"=' '!$I$4077"},"#,##0","",""]
["H4 Impuesto diferido",{"$f":"' '!$K$4077","v":0},{"$f":"Formula_Local(Campos_Ingreso_Datos[[#This Row],[Vinculo]])","v":"=' '!$K$4077"},"#,##0","",""]
["H4 Impuesto diferido",{"$f":"' '!$D$4088","v":0},{"$f":"Formula_Local(Campos_Ingreso_Datos[[#This Row],[Vinculo]])","v":"=' '!$D$4088"},"#,##0","",""]
["H4 Impuesto diferido",{"$f":"' '!$E$4088","v":0},{"$f":"Formula_Local(Campos_Ingreso_Datos[[#This Row],[Vinculo]])","v":"=' '!$E$4088"},"#,##0","",""]
["H4 Impuesto diferido",{"$f":"' '!$F$4088","v":0},{"$f":"Formula_Local(Campos_Ingreso_Datos[[#This Row],[Vinculo]])","v":"=' '!$F$4088"},"#,##0","",""]
["H4 Impuesto diferido",{"$f":"' '!$G$4088","v":0},{"$f":"Formula_Local(Campos_Ingreso_Datos[[#This Row],[Vinculo]])","v":"=' '!$G$4088"},"#,##0","",""]
["H4 Impuesto diferido",{"$f":"' '!$H$4088","v":0},{"$f":"Formula_Local(Campos_Ingreso_Datos[[#This Row],[Vinculo]])","v":"=' '!$H$4088"},"#,##0","",""]
["H4 Impuesto diferido",{"$f":"' '!$I$4088","v":0},{"$f":"Formula_Local(Campos_Ingreso_Datos[[#This Row],[Vinculo]])","v":"=' '!$I$4088"},"#,##0","",""]
["H4 Impuesto diferido",{"$f":"' '!$K$4088","v":0},{"$f":"Formula_Local(Campos_Ingreso_Datos[[#This Row],[Vinculo]])","v":"=' '!$K$4088"},"#,##0","",""]
["H4 Impuesto diferido",{"$f":"' '!$E$4089","v":0},{"$f":"Formula_Local(Campos_Ingreso_Datos[[#This Row],[Vinculo]])","v":"=' '!$E$4089"},"#,##0","",""]
["H4 Impuesto diferido",{"$f":"' '!$F$4089","v":0},{"$f":"Formula_Local(Campos_Ingreso_Datos[[#This Row],[Vinculo]])","v":"=' '!$F$4089"},"#,##0","",""]
["H4 Impuesto diferido",{"$f":"' '!$G$4089","v":0},{"$f":"Formula_Local(Campos_Ingreso_Datos[[#This Row],[Vinculo]])","v":"=' '!$G$4089"},"#,##0","",""]
["H4 Impuesto diferido",{"$f":"' '!$H$4089","v":0},{"$f":"Formula_Local(Campos_Ingreso_Datos[[#This Row],[Vinculo]])","v":"=' '!$H$4089"},"#,##0","",""]
["H4 Impuesto diferido",{"$f":"' '!$I$4089","v":0},{"$f":"Formula_Local(Campos_Ingreso_Datos[[#This Row],[Vinculo]])","v":"=' '!$I$4089"},"#,##0","",""]
["H4 Impuesto diferido",{"$f":"' '!$K$4089","v":0},{"$f":"Formula_Local(Campos_Ingreso_Datos[[#This Row],[Vinculo]])","v":"=' '!$K$4089"},"#,##0","",""]
["H4 Impuesto diferido",{"$f":"' '!$E$4090","v":0},{"$f":"Formula_Local(Campos_Ingreso_Datos[[#This Row],[Vinculo]])","v":"=' '!$E$4090"},"#,##0","",""]
["H4 Impuesto diferido",{"$f":"' '!$F$4090","v":0},{"$f":"Formula_Local(Campos_Ingreso_Datos[[#This Row],[Vinculo]])","v":"=' '!$F$4090"},"#,##0","",""]
["H4 Impuesto diferido",{"$f":"' '!$G$4090","v":0},{"$f":"Formula_Local(Campos_Ingreso_Datos[[#This Row],[Vinculo]])","v":"=' '!$G$4090"},"#,##0","",""]
["H4 Impuesto diferido",{"$f":"' '!$H$4090","v":0},{"$f":"Formula_Local(Campos_Ingreso_Datos[[#This Row],[Vinculo]])","v":"=' '!$H$4090"},"#,##0","",""]
["H4 Impuesto diferido",{"$f":"' '!$I$4090","v":0},{"$f":"Formula_Local(Campos_Ingreso_Datos[[#This Row],[Vinculo]])","v":"=' '!$I$4090"},"#,##0","",""]
["H4 Impuesto diferido",{"$f":"' '!$K$4090","v":0},{"$f":"Formula_Local(Campos_Ingreso_Datos[[#This Row],[Vinculo]])","v":"=' '!$K$4090"},"#,##0","",""]
["H4 Impuesto diferido",{"$f":"' '!$E$4091","v":0},{"$f":"Formula_Local(Campos_Ingreso_Datos[[#This Row],[Vinculo]])","v":"=' '!$E$4091"},"#,##0","",""]
["H4 Impuesto diferido",{"$f":"' '!$F$4091","v":0},{"$f":"Formula_Local(Campos_Ingreso_Datos[[#This Row],[Vinculo]])","v":"=' '!$F$4091"},"#,##0","",""]
["H4 Impuesto diferido",{"$f":"' '!$G$4091","v":0},{"$f":"Formula_Local(Campos_Ingreso_Datos[[#This Row],[Vinculo]])","v":"=' '!$G$4091"},"#,##0","",""]
["H4 Impuesto diferido",{"$f":"' '!$H$4091","v":0},{"$f":"Formula_Local(Campos_Ingreso_Datos[[#This Row],[Vinculo]])","v":"=' '!$H$4091"},"#,##0","",""]
["H4 Impuesto diferido",{"$f":"' '!$I$4091","v":0},{"$f":"Formula_Local(Campos_Ingreso_Datos[[#This Row],[Vinculo]])","v":"=' '!$I$4091"},"#,##0","",""]
["H4 Impuesto diferido",{"$f":"' '!$K$4091","v":0},{"$f":"Formula_Local(Campos_Ingreso_Datos[[#This Row],[Vinculo]])","v":"=' '!$K$4091"},"#,##0","",""]
["H4 Impuesto diferido",{"$f":"' '!$E$4092","v":0},{"$f":"Formula_Local(Campos_Ingreso_Datos[[#This Row],[Vinculo]])","v":"=' '!$E$4092"},"#,##0","",""]
["H4 Impuesto diferido",{"$f":"' '!$F$4092","v":0},{"$f":"Formula_Local(Campos_Ingreso_Datos[[#This Row],[Vinculo]])","v":"=' '!$F$4092"},"#,##0","",""]
["H4 Impuesto diferido",{"$f":"' '!$G$4092","v":0},{"$f":"Formula_Local(Campos_Ingreso_Datos[[#This Row],[Vinculo]])","v":"=' '!$G$4092"},"#,##0","",""]
["H4 Impuesto diferido",{"$f":"' '!$H$4092","v":0},{"$f":"Formula_Local(Campos_Ingreso_Datos[[#This Row],[Vinculo]])","v":"=' '!$H$4092"},"#,##0","",""]
["H4 Impuesto diferido",{"$f":"' '!$I$4092","v":0},{"$f":"Formula_Local(Campos_Ingreso_Datos[[#This Row],[Vinculo]])","v":"=' '!$I$4092"},"#,##0","",""]
["H4 Impuesto diferido",{"$f":"' '!$K$4092","v":0},{"$f":"Formula_Local(Campos_Ingreso_Datos[[#This Row],[Vinculo]])","v":"=' '!$K$4092"},"#,##0","",""]
["H4 Impuesto diferido",{"$f":"' '!$E$4093","v":0},{"$f":"Formula_Local(Campos_Ingreso_Datos[[#This Row],[Vinculo]])","v":"=' '!$E$4093"},"#,##0","",""]
["H4 Impuesto diferido",{"$f":"' '!$F$4093","v":0},{"$f":"Formula_Local(Campos_Ingreso_Datos[[#This Row],[Vinculo]])","v":"=' '!$F$4093"},"#,##0","",""]
["H4 Impuesto diferido",{"$f":"' '!$G$4093","v":0},{"$f":"Formula_Local(Campos_Ingreso_Datos[[#This Row],[Vinculo]])","v":"=' '!$G$4093"},"#,##0","",""]
["H4 Impuesto diferido",{"$f":"' '!$H$4093","v":0},{"$f":"Formula_Local(Campos_Ingreso_Datos[[#This Row],[Vinculo]])","v":"=' '!$H$4093"},"#,##0","",""]
["H4 Impuesto diferido",{"$f":"' '!$I$4093","v":0},{"$f":"Formula_Local(Campos_Ingreso_Datos[[#This Row],[Vinculo]])","v":"=' '!$I$4093"},"#,##0","",""]
["H4 Impuesto diferido",{"$f":"' '!$K$4093","v":0},{"$f":"Formula_Local(Campos_Ingreso_Datos[[#This Row],[Vinculo]])","v":"=' '!$K$4093"},"#,##0","",""]
["H4 Impuesto diferido",{"$f":"' '!$E$4094","v":0},{"$f":"Formula_Local(Campos_Ingreso_Datos[[#This Row],[Vinculo]])","v":"=' '!$E$4094"},"#,##0","",""]
["H4 Impuesto diferido",{"$f":"' '!$F$4094","v":0},{"$f":"Formula_Local(Campos_Ingreso_Datos[[#This Row],[Vinculo]])","v":"=' '!$F$4094"},"#,##0","",""]
["H4 Impuesto diferido",{"$f":"' '!$G$4094","v":0},{"$f":"Formula_Local(Campos_Ingreso_Datos[[#This Row],[Vinculo]])","v":"=' '!$G$4094"},"#,##0","",""]
["H4 Impuesto diferido",{"$f":"' '!$H$4094","v":0},{"$f":"Formula_Local(Campos_Ingreso_Datos[[#This Row],[Vinculo]])","v":"=' '!$H$4094"},"#,##0","",""]
["H4 Impuesto diferido",{"$f":"' '!$I$4094","v":0},{"$f":"Formula_Local(Campos_Ingreso_Datos[[#This Row],[Vinculo]])","v":"=' '!$I$4094"},"#,##0","",""]
["H4 Impuesto diferido",{"$f":"' '!$K$4094","v":0},{"$f":"Formula_Local(Campos_Ingreso_Datos[[#This Row],[Vinculo]])","v":"=' '!$K$4094"},"#,##0","",""]
["H4 Impuesto diferido",{"$f":"' '!$E$4095","v":0},{"$f":"Formula_Local(Campos_Ingreso_Datos[[#This Row],[Vinculo]])","v":"=' '!$E$4095"},"#,##0","",""]
["H4 Impuesto diferido",{"$f":"' '!$F$4095","v":0},{"$f":"Formula_Local(Campos_Ingreso_Datos[[#This Row],[Vinculo]])","v":"=' '!$F$4095"},"#,##0","",""]
["H4 Impuesto diferido",{"$f":"' '!$G$4095","v":0},{"$f":"Formula_Local(Campos_Ingreso_Datos[[#This Row],[Vinculo]])","v":"=' '!$G$4095"},"#,##0","",""]
["H4 Impuesto diferido",{"$f":"' '!$H$4095","v":0},{"$f":"Formula_Local(Campos_Ingreso_Datos[[#This Row],[Vinculo]])","v":"=' '!$H$4095"},"#,##0","",""]
["H4 Impuesto diferido",{"$f":"' '!$I$4095","v":0},{"$f":"Formula_Local(Campos_Ingreso_Datos[[#This Row],[Vinculo]])","v":"=' '!$I$4095"},"#,##0","",""]
["H4 Impuesto diferido",{"$f":"' '!$K$4095","v":0},{"$f":"Formula_Local(Campos_Ingreso_Datos[[#This Row],[Vinculo]])","v":"=' '!$K$4095"},"#,##0","",""]
["H4 Impuesto diferido",{"$f":"' '!$E$4096","v":0},{"$f":"Formula_Local(Campos_Ingreso_Datos[[#This Row],[Vinculo]])","v":"=' '!$E$4096"},"#,##0","",""]
["H4 Impuesto diferido",{"$f":"' '!$F$4096","v":0},{"$f":"Formula_Local(Campos_Ingreso_Datos[[#This Row],[Vinculo]])","v":"=' '!$F$4096"},"#,##0","",""]
["H4 Impuesto diferido",{"$f":"' '!$G$4096","v":0},{"$f":"Formula_Local(Campos_Ingreso_Datos[[#This Row],[Vinculo]])","v":"=' '!$G$4096"},"#,##0","",""]
["H4 Impuesto diferido",{"$f":"' '!$H$4096","v":0},{"$f":"Formula_Local(Campos_Ingreso_Datos[[#This Row],[Vinculo]])","v":"=' '!$H$4096"},"#,##0","",""]
["H4 Impuesto diferido",{"$f":"' '!$I$4096","v":0},{"$f":"Formula_Local(Campos_Ingreso_Datos[[#This Row],[Vinculo]])","v":"=' '!$I$4096"},"#,##0","",""]
["H4 Impuesto diferido",{"$f":"' '!$K$4096","v":0},{"$f":"Formula_Local(Campos_Ingreso_Datos[[#This Row],[Vinculo]])","v":"=' '!$K$4096"},"#,##0","",""]
["H4 Impuesto diferido",{"$f":"' '!$E$4097","v":0},{"$f":"Formula_Local(Campos_Ingreso_Datos[[#This Row],[Vinculo]])","v":"=' '!$E$4097"},"#,##0","",""]
["H4 Impuesto diferido",{"$f":"' '!$F$4097","v":0},{"$f":"Formula_Local(Campos_Ingreso_Datos[[#This Row],[Vinculo]])","v":"=' '!$F$4097"},"#,##0","",""]
["H4 Impuesto diferido",{"$f":"' '!$G$4097","v":0},{"$f":"Formula_Local(Campos_Ingreso_Datos[[#This Row],[Vinculo]])","v":"=' '!$G$4097"},"#,##0","",""]
["H4 Impuesto diferido",{"$f":"' '!$H$4097","v":0},{"$f":"Formula_Local(Campos_Ingreso_Datos[[#This Row],[Vinculo]])","v":"=' '!$H$4097"},"#,##0","",""]
["H4 Impuesto diferido",{"$f":"' '!$I$4097","v":0},{"$f":"Formula_Local(Campos_Ingreso_Datos[[#This Row],[Vinculo]])","v":"=' '!$I$4097"},"#,##0","",""]
["H4 Impuesto diferido",{"$f":"' '!$K$4097","v":0},{"$f":"Formula_Local(Campos_Ingreso_Datos[[#This Row],[Vinculo]])","v":"=' '!$K$4097"},"#,##0","",""]
["H5 Ingresos y fact.",{"$f":"' '!$D$4109","v":0},{"$f":"Formula_Local(Campos_Ingreso_Datos[[#This Row],[Vinculo]])","v":"=' '!$D$4109"},"#,##0","",""]
["H5 Ingresos y fact.",{"$f":"' '!$E$4109","v":0},{"$f":"Formula_Local(Campos_Ingreso_Datos[[#This Row],[Vinculo]])","v":"=' '!$E$4109"},"#,##0","",""]
["H5 Ingresos y fact.",{"$f":"' '!$F$4109","v":0},{"$f":"Formula_Local(Campos_Ingreso_Datos[[#This Row],[Vinculo]])","v":"=' '!$F$4109"},"#,##0","",""]
["H5 Ingresos y fact.",{"$f":"' '!$H$4109","v":0},{"$f":"Formula_Local(Campos_Ingreso_Datos[[#This Row],[Vinculo]])","v":"=' '!$H$4109"},"#,##0","",""]
["H5 Ingresos y fact.",{"$f":"' '!$I$4109","v":0},{"$f":"Formula_Local(Campos_Ingreso_Datos[[#This Row],[Vinculo]])","v":"=' '!$I$4109"},"#,##0","","",{"$f":"Formula_Local(Campos_Ingreso_Datos[[#This Row],[Formula]])","v":"=+' '!D998"},{"$f":"+' '!D998","v":0}]
["H5 Ingresos y fact.",{"$f":"' '!$J$4109","v":0},{"$f":"Formula_Local(Campos_Ingreso_Datos[[#This Row],[Vinculo]])","v":"=' '!$J$4109"},"#,##0","",""]
["H5 Ingresos y fact.",{"$f":"' '!$K$4109","v":0},{"$f":"Formula_Local(Campos_Ingreso_Datos[[#This Row],[Vinculo]])","v":"=' '!$K$4109"},"#,##0","",""]
["H5 Ingresos y fact.",{"$f":"' '!$M$4109","v":0},{"$f":"Formula_Local(Campos_Ingreso_Datos[[#This Row],[Vinculo]])","v":"=' '!$M$4109"},"#,##0","",""]
["H5 Ingresos y fact.",{"$f":"' '!$N$4109","v":0},{"$f":"Formula_Local(Campos_Ingreso_Datos[[#This Row],[Vinculo]])","v":"=' '!$N$4109"},"#,##0","",""]
["H5 Ingresos y fact.",{"$f":"' '!$D$4110","v":0},{"$f":"Formula_Local(Campos_Ingreso_Datos[[#This Row],[Vinculo]])","v":"=' '!$D$4110"},"#,##0","",""]
["H5 Ingresos y fact.",{"$f":"' '!$E$4110","v":0},{"$f":"Formula_Local(Campos_Ingreso_Datos[[#This Row],[Vinculo]])","v":"=' '!$E$4110"},"#,##0","",""]
["H5 Ingresos y fact.",{"$f":"' '!$F$4110","v":0},{"$f":"Formula_Local(Campos_Ingreso_Datos[[#This Row],[Vinculo]])","v":"=' '!$F$4110"},"#,##0","",""]
["H5 Ingresos y fact.",{"$f":"' '!$H$4110","v":0},{"$f":"Formula_Local(Campos_Ingreso_Datos[[#This Row],[Vinculo]])","v":"=' '!$H$4110"},"#,##0","",""]
["H5 Ingresos y fact.",{"$f":"' '!$I$4110","v":0},{"$f":"Formula_Local(Campos_Ingreso_Datos[[#This Row],[Vinculo]])","v":"=' '!$I$4110"},"#,##0","","",{"$f":"Formula_Local(Campos_Ingreso_Datos[[#This Row],[Formula]])","v":"=+' '!D1021+' '!D1056"},{"$f":"+' '!D1021+' '!D1056","v":0}]
["H5 Ingresos y fact.",{"$f":"' '!$J$4110","v":0},{"$f":"Formula_Local(Campos_Ingreso_Datos[[#This Row],[Vinculo]])","v":"=' '!$J$4110"},"#,##0","",""]
["H5 Ingresos y fact.",{"$f":"' '!$K$4110","v":0},{"$f":"Formula_Local(Campos_Ingreso_Datos[[#This Row],[Vinculo]])","v":"=' '!$K$4110"},"#,##0","",""]
["H5 Ingresos y fact.",{"$f":"' '!$M$4110","v":0},{"$f":"Formula_Local(Campos_Ingreso_Datos[[#This Row],[Vinculo]])","v":"=' '!$M$4110"},"#,##0","",""]
["H5 Ingresos y fact.",{"$f":"' '!$N$4110","v":0},{"$f":"Formula_Local(Campos_Ingreso_Datos[[#This Row],[Vinculo]])","v":"=' '!$N$4110"},"#,##0","",""]
["H5 Ingresos y fact.",{"$f":"' '!$D$4111","v":0},{"$f":"Formula_Local(Campos_Ingreso_Datos[[#This Row],[Vinculo]])","v":"=' '!$D$4111"},"#,##0","",""]
["H5 Ingresos y fact.",{"$f":"' '!$E$4111","v":0},{"$f":"Formula_Local(Campos_Ingreso_Datos[[#This Row],[Vinculo]])","v":"=' '!$E$4111"},"#,##0","",""]
["H5 Ingresos y fact.",{"$f":"' '!$F$4111","v":0},{"$f":"Formula_Local(Campos_Ingreso_Datos[[#This Row],[Vinculo]])","v":"=' '!$F$4111"},"#,##0","",""]
["H5 Ingresos y fact.",{"$f":"' '!$H$4111","v":0},{"$f":"Formula_Local(Campos_Ingreso_Datos[[#This Row],[Vinculo]])","v":"=' '!$H$4111"},"#,##0","",""]
["H5 Ingresos y fact.",{"$f":"' '!$I$4111","v":0},{"$f":"Formula_Local(Campos_Ingreso_Datos[[#This Row],[Vinculo]])","v":"=' '!$I$4111"},"#,##0","",""]
["H5 Ingresos y fact.",{"$f":"' '!$J$4111","v":0},{"$f":"Formula_Local(Campos_Ingreso_Datos[[#This Row],[Vinculo]])","v":"=' '!$J$4111"},"#,##0","",""]
["H5 Ingresos y fact.",{"$f":"' '!$K$4111","v":0},{"$f":"Formula_Local(Campos_Ingreso_Datos[[#This Row],[Vinculo]])","v":"=' '!$K$4111"},"#,##0","",""]
["H5 Ingresos y fact.",{"$f":"' '!$M$4111","v":0},{"$f":"Formula_Local(Campos_Ingreso_Datos[[#This Row],[Vinculo]])","v":"=' '!$M$4111"},"#,##0","",""]
["H5 Ingresos y fact.",{"$f":"' '!$N$4111","v":0},{"$f":"Formula_Local(Campos_Ingreso_Datos[[#This Row],[Vinculo]])","v":"=' '!$N$4111"},"#,##0","",""]
["H5 Ingresos y fact.",{"$f":"' '!$H$4112","v":0},{"$f":"Formula_Local(Campos_Ingreso_Datos[[#This Row],[Vinculo]])","v":"=' '!$H$4112"},"#,##0","",""]
["H5 Ingresos y fact.",{"$f":"' '!$I$4112","v":0},{"$f":"Formula_Local(Campos_Ingreso_Datos[[#This Row],[Vinculo]])","v":"=' '!$I$4112"},"#,##0","",""]
["H5 Ingresos y fact.",{"$f":"' '!$J$4112","v":0},{"$f":"Formula_Local(Campos_Ingreso_Datos[[#This Row],[Vinculo]])","v":"=' '!$J$4112"},"#,##0","",""]
["H5 Ingresos y fact.",{"$f":"' '!$K$4112","v":0},{"$f":"Formula_Local(Campos_Ingreso_Datos[[#This Row],[Vinculo]])","v":"=' '!$K$4112"},"#,##0","",""]
["H5 Ingresos y fact.",{"$f":"' '!$H$4113","v":0},{"$f":"Formula_Local(Campos_Ingreso_Datos[[#This Row],[Vinculo]])","v":"=' '!$H$4113"},"#,##0","",""]
["H5 Ingresos y fact.",{"$f":"' '!$I$4113","v":0},{"$f":"Formula_Local(Campos_Ingreso_Datos[[#This Row],[Vinculo]])","v":"=' '!$I$4113"},"#,##0","","",{"$f":"Formula_Local(Campos_Ingreso_Datos[[#This Row],[Formula]])","v":"=+' '!D1070"},{"$f":"+' '!D1070","v":0}]
["H5 Ingresos y fact.",{"$f":"' '!$J$4113","v":0},{"$f":"Formula_Local(Campos_Ingreso_Datos[[#This Row],[Vinculo]])","v":"=' '!$J$4113"},"#,##0","",""]
["H5 Ingresos y fact.",{"$f":"' '!$K$4113","v":0},{"$f":"Formula_Local(Campos_Ingreso_Datos[[#This Row],[Vinculo]])","v":"=' '!$K$4113"},"#,##0","",""]
["H5 Ingresos y fact.",{"$f":"' '!$M$4113","v":0},{"$f":"Formula_Local(Campos_Ingreso_Datos[[#This Row],[Vinculo]])","v":"=' '!$M$4113"},"#,##0","",""]
["H5 Ingresos y fact.",{"$f":"' '!$N$4113","v":0},{"$f":"Formula_Local(Campos_Ingreso_Datos[[#This Row],[Vinculo]])","v":"=' '!$N$4113"},"#,##0","",""]
["H6 Activos Fijos",{"$f":"' '!$D$4127","v":0},{"$f":"Formula_Local(Campos_Ingreso_Datos[[#This Row],[Vinculo]])","v":"=' '!$D$4127"},"#,##0","",""]
["H6 Activos Fijos",{"$f":"' '!$F$4127","v":0},{"$f":"Formula_Local(Campos_Ingreso_Datos[[#This Row],[Vinculo]])","v":"=' '!$F$4127"},"#,##0","",""]
["H6 Activos Fijos",{"$f":"' '!$G$4127","v":0},{"$f":"Formula_Local(Campos_Ingreso_Datos[[#This Row],[Vinculo]])","v":"=' '!$G$4127"},"#,##0","",""]
["H6 Activos Fijos",{"$f":"' '!$H$4127","v":0},{"$f":"Formula_Local(Campos_Ingreso_Datos[[#This Row],[Vinculo]])","v":"=' '!$H$4127"},"#,##0","",""]
["H6 Activos Fijos",{"$f":"' '!$I$4127","v":0},{"$f":"Formula_Local(Campos_Ingreso_Datos[[#This Row],[Vinculo]])","v":"=' '!$I$4127"},"#,##0","",""]
["H6 Activos Fijos",{"$f":"' '!$J$4127","v":0},{"$f":"Formula_Local(Campos_Ingreso_Datos[[#This Row],[Vinculo]])","v":"=' '!$J$4127"},"#,##0","",""]
["H6 Activos Fijos",{"$f":"' '!$K$4127","v":0},{"$f":"Formula_Local(Campos_Ingreso_Datos[[#This Row],[Vinculo]])","v":"=' '!$K$4127"},"#,##0","",""]
["H6 Activos Fijos",{"$f":"' '!$M$4127","v":0},{"$f":"Formula_Local(Campos_Ingreso_Datos[[#This Row],[Vinculo]])","v":"=' '!$M$4127"},"#,##0","",""]
["H6 Activos Fijos",{"$f":"' '!$N$4127","v":0},{"$f":"Formula_Local(Campos_Ingreso_Datos[[#This Row],[Vinculo]])","v":"=' '!$N$4127"},"#,##0","",""]
["H6 Activos Fijos",{"$f":"' '!$Q$4127","v":0},{"$f":"Formula_Local(Campos_Ingreso_Datos[[#This Row],[Vinculo]])","v":"=' '!$Q$4127"},"#,##0","",""]
["H6 Activos Fijos",{"$f":"' '!$R$4127","v":0},{"$f":"Formula_Local(Campos_Ingreso_Datos[[#This Row],[Vinculo]])","v":"=' '!$R$4127"},"#,##0","",""]
["H6 Activos Fijos",{"$f":"' '!$S$4127","v":0},{"$f":"Formula_Local(Campos_Ingreso_Datos[[#This Row],[Vinculo]])","v":"=' '!$S$4127"},"#,##0","",""]
["H6 Activos Fijos",{"$f":"' '!$T$4127","v":0},{"$f":"Formula_Local(Campos_Ingreso_Datos[[#This Row],[Vinculo]])","v":"=' '!$T$4127"},"#,##0","",""]
["H6 Activos Fijos",{"$f":"' '!$U$4127","v":0},{"$f":"Formula_Local(Campos_Ingreso_Datos[[#This Row],[Vinculo]])","v":"=' '!$U$4127"},"#,##0","",""]
["H6 Activos Fijos",{"$f":"' '!$V$4127","v":0},{"$f":"Formula_Local(Campos_Ingreso_Datos[[#This Row],[Vinculo]])","v":"=' '!$V$4127"},"#,##0","",""]
["H6 Activos Fijos",{"$f":"' '!$W$4127","v":0},{"$f":"Formula_Local(Campos_Ingreso_Datos[[#This Row],[Vinculo]])","v":"=' '!$W$4127"},"#,##0","",""]
["H6 Activos Fijos",{"$f":"' '!$X$4127","v":0},{"$f":"Formula_Local(Campos_Ingreso_Datos[[#This Row],[Vinculo]])","v":"=' '!$X$4127"},"#,##0","",""]
["H6 Activos Fijos",{"$f":"' '!$Y$4127","v":0},{"$f":"Formula_Local(Campos_Ingreso_Datos[[#This Row],[Vinculo]])","v":"=' '!$Y$4127"},"#,##0","",""]
["H6 Activos Fijos",{"$f":"' '!$Z$4127","v":0},{"$f":"Formula_Local(Campos_Ingreso_Datos[[#This Row],[Vinculo]])","v":"=' '!$Z$4127"},"#,##0","",""]
["H6 Activos Fijos",{"$f":"' '!$AB$4127","v":0},{"$f":"Formula_Local(Campos_Ingreso_Datos[[#This Row],[Vinculo]])","v":"=' '!$AB$4127"},"#,##0","",""]
["H6 Activos Fijos",{"$f":"' '!$AD$4127","v":0},{"$f":"Formula_Local(Campos_Ingreso_Datos[[#This Row],[Vinculo]])","v":"=' '!$AD$4127"},"#,##0","",""]
["H6 Activos Fijos",{"$f":"' '!$AE$4127","v":0},{"$f":"Formula_Local(Campos_Ingreso_Datos[[#This Row],[Vinculo]])","v":"=' '!$AE$4127"},"#,##0","",""]
["H6 Activos Fijos",{"$f":"' '!$AF$4127","v":0},{"$f":"Formula_Local(Campos_Ingreso_Datos[[#This Row],[Vinculo]])","v":"=' '!$AF$4127"},"#,##0","",""]
["H6 Activos Fijos",{"$f":"' '!$AH$4127","v":0},{"$f":"Formula_Local(Campos_Ingreso_Datos[[#This Row],[Vinculo]])","v":"=' '!$AH$4127"},"#,##0","",""]
["H6 Activos Fijos",{"$f":"' '!$D$4128","v":0},{"$f":"Formula_Local(Campos_Ingreso_Datos[[#This Row],[Vinculo]])","v":"=' '!$D$4128"},"#,##0","",""]
["H6 Activos Fijos",{"$f":"' '!$F$4128","v":0},{"$f":"Formula_Local(Campos_Ingreso_Datos[[#This Row],[Vinculo]])","v":"=' '!$F$4128"},"#,##0","",""]
["H6 Activos Fijos",{"$f":"' '!$G$4128","v":0},{"$f":"Formula_Local(Campos_Ingreso_Datos[[#This Row],[Vinculo]])","v":"=' '!$G$4128"},"#,##0","",""]
["H6 Activos Fijos",{"$f":"' '!$H$4128","v":0},{"$f":"Formula_Local(Campos_Ingreso_Datos[[#This Row],[Vinculo]])","v":"=' '!$H$4128"},"#,##0","",""]
["H6 Activos Fijos",{"$f":"' '!$I$4128","v":0},{"$f":"Formula_Local(Campos_Ingreso_Datos[[#This Row],[Vinculo]])","v":"=' '!$I$4128"},"#,##0","",""]
["H6 Activos Fijos",{"$f":"' '!$J$4128","v":0},{"$f":"Formula_Local(Campos_Ingreso_Datos[[#This Row],[Vinculo]])","v":"=' '!$J$4128"},"#,##0","",""]
["H6 Activos Fijos",{"$f":"' '!$K$4128","v":0},{"$f":"Formula_Local(Campos_Ingreso_Datos[[#This Row],[Vinculo]])","v":"=' '!$K$4128"},"#,##0","",""]
["H6 Activos Fijos",{"$f":"' '!$M$4128","v":0},{"$f":"Formula_Local(Campos_Ingreso_Datos[[#This Row],[Vinculo]])","v":"=' '!$M$4128"},"#,##0","",""]
["H6 Activos Fijos",{"$f":"' '!$N$4128","v":0},{"$f":"Formula_Local(Campos_Ingreso_Datos[[#This Row],[Vinculo]])","v":"=' '!$N$4128"},"#,##0","",""]
["H6 Activos Fijos",{"$f":"' '!$Q$4128","v":0},{"$f":"Formula_Local(Campos_Ingreso_Datos[[#This Row],[Vinculo]])","v":"=' '!$Q$4128"},"#,##0","",""]
["H6 Activos Fijos",{"$f":"' '!$R$4128","v":0},{"$f":"Formula_Local(Campos_Ingreso_Datos[[#This Row],[Vinculo]])","v":"=' '!$R$4128"},"#,##0","",""]
["H6 Activos Fijos",{"$f":"' '!$S$4128","v":0},{"$f":"Formula_Local(Campos_Ingreso_Datos[[#This Row],[Vinculo]])","v":"=' '!$S$4128"},"#,##0","",""]
["H6 Activos Fijos",{"$f":"' '!$T$4128","v":0},{"$f":"Formula_Local(Campos_Ingreso_Datos[[#This Row],[Vinculo]])","v":"=' '!$T$4128"},"#,##0","",""]
["H6 Activos Fijos",{"$f":"' '!$U$4128","v":0},{"$f":"Formula_Local(Campos_Ingreso_Datos[[#This Row],[Vinculo]])","v":"=' '!$U$4128"},"#,##0","",""]
["H6 Activos Fijos",{"$f":"' '!$V$4128","v":0},{"$f":"Formula_Local(Campos_Ingreso_Datos[[#This Row],[Vinculo]])","v":"=' '!$V$4128"},"#,##0","",""]
["H6 Activos Fijos",{"$f":"' '!$W$4128","v":0},{"$f":"Formula_Local(Campos_Ingreso_Datos[[#This Row],[Vinculo]])","v":"=' '!$W$4128"},"#,##0","",""]
["H6 Activos Fijos",{"$f":"' '!$X$4128","v":0},{"$f":"Formula_Local(Campos_Ingreso_Datos[[#This Row],[Vinculo]])","v":"=' '!$X$4128"},"#,##0","",""]
["H6 Activos Fijos",{"$f":"' '!$Y$4128","v":0},{"$f":"Formula_Local(Campos_Ingreso_Datos[[#This Row],[Vinculo]])","v":"=' '!$Y$4128"},"#,##0","",""]
["H6 Activos Fijos",{"$f":"' '!$Z$4128","v":0},{"$f":"Formula_Local(Campos_Ingreso_Datos[[#This Row],[Vinculo]])","v":"=' '!$Z$4128"},"#,##0","",""]
["H6 Activos Fijos",{"$f":"' '!$AB$4128","v":0},{"$f":"Formula_Local(Campos_Ingreso_Datos[[#This Row],[Vinculo]])","v":"=' '!$AB$4128"},"#,##0","",""]
["H6 Activos Fijos",{"$f":"' '!$AD$4128","v":0},{"$f":"Formula_Local(Campos_Ingreso_Datos[[#This Row],[Vinculo]])","v":"=' '!$AD$4128"},"#,##0","",""]
["H6 Activos Fijos",{"$f":"' '!$AE$4128","v":0},{"$f":"Formula_Local(Campos_Ingreso_Datos[[#This Row],[Vinculo]])","v":"=' '!$AE$4128"},"#,##0","",""]
["H6 Activos Fijos",{"$f":"' '!$AF$4128","v":0},{"$f":"Formula_Local(Campos_Ingreso_Datos[[#This Row],[Vinculo]])","v":"=' '!$AF$4128"},"#,##0","",""]
["H6 Activos Fijos",{"$f":"' '!$AH$4128","v":0},{"$f":"Formula_Local(Campos_Ingreso_Datos[[#This Row],[Vinculo]])","v":"=' '!$AH$4128"},"#,##0","",""]
["H6 Activos Fijos",{"$f":"' '!$D$4129","v":0},{"$f":"Formula_Local(Campos_Ingreso_Datos[[#This Row],[Vinculo]])","v":"=' '!$D$4129"},"#,##0","",""]
["H6 Activos Fijos",{"$f":"' '!$F$4129","v":0},{"$f":"Formula_Local(Campos_Ingreso_Datos[[#This Row],[Vinculo]])","v":"=' '!$F$4129"},"#,##0","",""]
["H6 Activos Fijos",{"$f":"' '!$G$4129","v":0},{"$f":"Formula_Local(Campos_Ingreso_Datos[[#This Row],[Vinculo]])","v":"=' '!$G$4129"},"#,##0","",""]
["H6 Activos Fijos",{"$f":"' '!$H$4129","v":0},{"$f":"Formula_Local(Campos_Ingreso_Datos[[#This Row],[Vinculo]])","v":"=' '!$H$4129"},"#,##0","",""]
["H6 Activos Fijos",{"$f":"' '!$I$4129","v":0},{"$f":"Formula_Local(Campos_Ingreso_Datos[[#This Row],[Vinculo]])","v":"=' '!$I$4129"},"#,##0","",""]
["H6 Activos Fijos",{"$f":"' '!$J$4129","v":0},{"$f":"Formula_Local(Campos_Ingreso_Datos[[#This Row],[Vinculo]])","v":"=' '!$J$4129"},"#,##0","",""]
["H6 Activos Fijos",{"$f":"' '!$K$4129","v":0},{"$f":"Formula_Local(Campos_Ingreso_Datos[[#This Row],[Vinculo]])","v":"=' '!$K$4129"},"#,##0","",""]
["H6 Activos Fijos",{"$f":"' '!$M$4129","v":0},{"$f":"Formula_Local(Campos_Ingreso_Datos[[#This Row],[Vinculo]])","v":"=' '!$M$4129"},"#,##0","",""]
["H6 Activos Fijos",{"$f":"' '!$N$4129","v":0},{"$f":"Formula_Local(Campos_Ingreso_Datos[[#This Row],[Vinculo]])","v":"=' '!$N$4129"},"#,##0","",""]
["H6 Activos Fijos",{"$f":"' '!$Q$4129","v":0},{"$f":"Formula_Local(Campos_Ingreso_Datos[[#This Row],[Vinculo]])","v":"=' '!$Q$4129"},"#,##0","",""]
["H6 Activos Fijos",{"$f":"' '!$R$4129","v":0},{"$f":"Formula_Local(Campos_Ingreso_Datos[[#This Row],[Vinculo]])","v":"=' '!$R$4129"},"#,##0","",""]
["H6 Activos Fijos",{"$f":"' '!$S$4129","v":0},{"$f":"Formula_Local(Campos_Ingreso_Datos[[#This Row],[Vinculo]])","v":"=' '!$S$4129"},"#,##0","",""]
["H6 Activos Fijos",{"$f":"' '!$T$4129","v":0},{"$f":"Formula_Local(Campos_Ingreso_Datos[[#This Row],[Vinculo]])","v":"=' '!$T$4129"},"#,##0","",""]
["H6 Activos Fijos",{"$f":"' '!$U$4129","v":0},{"$f":"Formula_Local(Campos_Ingreso_Datos[[#This Row],[Vinculo]])","v":"=' '!$U$4129"},"#,##0","",""]
["H6 Activos Fijos",{"$f":"' '!$V$4129","v":0},{"$f":"Formula_Local(Campos_Ingreso_Datos[[#This Row],[Vinculo]])","v":"=' '!$V$4129"},"#,##0","",""]
["H6 Activos Fijos",{"$f":"' '!$W$4129","v":0},{"$f":"Formula_Local(Campos_Ingreso_Datos[[#This Row],[Vinculo]])","v":"=' '!$W$4129"},"#,##0","",""]
["H6 Activos Fijos",{"$f":"' '!$X$4129","v":0},{"$f":"Formula_Local(Campos_Ingreso_Datos[[#This Row],[Vinculo]])","v":"=' '!$X$4129"},"#,##0","",""]
["H6 Activos Fijos",{"$f":"' '!$Y$4129","v":0},{"$f":"Formula_Local(Campos_Ingreso_Datos[[#This Row],[Vinculo]])","v":"=' '!$Y$4129"},"#,##0","",""]
["H6 Activos Fijos",{"$f":"' '!$Z$4129","v":0},{"$f":"Formula_Local(Campos_Ingreso_Datos[[#This Row],[Vinculo]])","v":"=' '!$Z$4129"},"#,##0","",""]
["H6 Activos Fijos",{"$f":"' '!$AB$4129","v":0},{"$f":"Formula_Local(Campos_Ingreso_Datos[[#This Row],[Vinculo]])","v":"=' '!$AB$4129"},"#,##0","",""]
["H6 Activos Fijos",{"$f":"' '!$AD$4129","v":0},{"$f":"Formula_Local(Campos_Ingreso_Datos[[#This Row],[Vinculo]])","v":"=' '!$AD$4129"},"#,##0","",""]
["H6 Activos Fijos",{"$f":"' '!$AE$4129","v":0},{"$f":"Formula_Local(Campos_Ingreso_Datos[[#This Row],[Vinculo]])","v":"=' '!$AE$4129"},"#,##0","",""]
["H6 Activos Fijos",{"$f":"' '!$AF$4129","v":0},{"$f":"Formula_Local(Campos_Ingreso_Datos[[#This Row],[Vinculo]])","v":"=' '!$AF$4129"},"#,##0","",""]
["H6 Activos Fijos",{"$f":"' '!$AH$4129","v":0},{"$f":"Formula_Local(Campos_Ingreso_Datos[[#This Row],[Vinculo]])","v":"=' '!$AH$4129"},"#,##0","",""]
["H6 Activos Fijos",{"$f":"' '!$D$4130","v":0},{"$f":"Formula_Local(Campos_Ingreso_Datos[[#This Row],[Vinculo]])","v":"=' '!$D$4130"},"#,##0","",""]
["H6 Activos Fijos",{"$f":"' '!$F$4130","v":0},{"$f":"Formula_Local(Campos_Ingreso_Datos[[#This Row],[Vinculo]])","v":"=' '!$F$4130"},"#,##0","",""]
["H6 Activos Fijos",{"$f":"' '!$G$4130","v":0},{"$f":"Formula_Local(Campos_Ingreso_Datos[[#This Row],[Vinculo]])","v":"=' '!$G$4130"},"#,##0","",""]
["H6 Activos Fijos",{"$f":"' '!$H$4130","v":0},{"$f":"Formula_Local(Campos_Ingreso_Datos[[#This Row],[Vinculo]])","v":"=' '!$H$4130"},"#,##0","",""]
["H6 Activos Fijos",{"$f":"' '!$I$4130","v":0},{"$f":"Formula_Local(Campos_Ingreso_Datos[[#This Row],[Vinculo]])","v":"=' '!$I$4130"},"#,##0","",""]
["H6 Activos Fijos",{"$f":"' '!$J$4130","v":0},{"$f":"Formula_Local(Campos_Ingreso_Datos[[#This Row],[Vinculo]])","v":"=' '!$J$4130"},"#,##0","",""]
["H6 Activos Fijos",{"$f":"' '!$K$4130","v":0},{"$f":"Formula_Local(Campos_Ingreso_Datos[[#This Row],[Vinculo]])","v":"=' '!$K$4130"},"#,##0","",""]
["H6 Activos Fijos",{"$f":"' '!$M$4130","v":0},{"$f":"Formula_Local(Campos_Ingreso_Datos[[#This Row],[Vinculo]])","v":"=' '!$M$4130"},"#,##0","",""]
["H6 Activos Fijos",{"$f":"' '!$N$4130","v":0},{"$f":"Formula_Local(Campos_Ingreso_Datos[[#This Row],[Vinculo]])","v":"=' '!$N$4130"},"#,##0","",""]
["H6 Activos Fijos",{"$f":"' '!$Q$4130","v":0},{"$f":"Formula_Local(Campos_Ingreso_Datos[[#This Row],[Vinculo]])","v":"=' '!$Q$4130"},"#,##0","",""]
["H6 Activos Fijos",{"$f":"' '!$R$4130","v":0},{"$f":"Formula_Local(Campos_Ingreso_Datos[[#This Row],[Vinculo]])","v":"=' '!$R$4130"},"#,##0","",""]
["H6 Activos Fijos",{"$f":"' '!$S$4130","v":0},{"$f":"Formula_Local(Campos_Ingreso_Datos[[#This Row],[Vinculo]])","v":"=' '!$S$4130"},"#,##0","",""]
["H6 Activos Fijos",{"$f":"' '!$T$4130","v":0},{"$f":"Formula_Local(Campos_Ingreso_Datos[[#This Row],[Vinculo]])","v":"=' '!$T$4130"},"#,##0","",""]
["H6 Activos Fijos",{"$f":"' '!$U$4130","v":0},{"$f":"Formula_Local(Campos_Ingreso_Datos[[#This Row],[Vinculo]])","v":"=' '!$U$4130"},"#,##0","",""]
["H6 Activos Fijos",{"$f":"' '!$V$4130","v":0},{"$f":"Formula_Local(Campos_Ingreso_Datos[[#This Row],[Vinculo]])","v":"=' '!$V$4130"},"#,##0","",""]
["H6 Activos Fijos",{"$f":"' '!$W$4130","v":0},{"$f":"Formula_Local(Campos_Ingreso_Datos[[#This Row],[Vinculo]])","v":"=' '!$W$4130"},"#,##0","",""]
["H6 Activos Fijos",{"$f":"' '!$X$4130","v":0},{"$f":"Formula_Local(Campos_Ingreso_Datos[[#This Row],[Vinculo]])","v":"=' '!$X$4130"},"#,##0","",""]
["H6 Activos Fijos",{"$f":"' '!$Y$4130","v":0},{"$f":"Formula_Local(Campos_Ingreso_Datos[[#This Row],[Vinculo]])","v":"=' '!$Y$4130"},"#,##0","",""]
["H6 Activos Fijos",{"$f":"' '!$Z$4130","v":0},{"$f":"Formula_Local(Campos_Ingreso_Datos[[#This Row],[Vinculo]])","v":"=' '!$Z$4130"},"#,##0","",""]
["H6 Activos Fijos",{"$f":"' '!$AB$4130","v":0},{"$f":"Formula_Local(Campos_Ingreso_Datos[[#This Row],[Vinculo]])","v":"=' '!$AB$4130"},"#,##0","",""]
["H6 Activos Fijos",{"$f":"' '!$AD$4130","v":0},{"$f":"Formula_Local(Campos_Ingreso_Datos[[#This Row],[Vinculo]])","v":"=' '!$AD$4130"},"#,##0","",""]
["H6 Activos Fijos",{"$f":"' '!$AE$4130","v":0},{"$f":"Formula_Local(Campos_Ingreso_Datos[[#This Row],[Vinculo]])","v":"=' '!$AE$4130"},"#,##0","",""]
["H6 Activos Fijos",{"$f":"' '!$AF$4130","v":0},{"$f":"Formula_Local(Campos_Ingreso_Datos[[#This Row],[Vinculo]])","v":"=' '!$AF$4130"},"#,##0","",""]
["H6 Activos Fijos",{"$f":"' '!$AH$4130","v":0},{"$f":"Formula_Local(Campos_Ingreso_Datos[[#This Row],[Vinculo]])","v":"=' '!$AH$4130"},"#,##0","",""]
["H6 Activos Fijos",{"$f":"' '!$D$4131","v":0},{"$f":"Formula_Local(Campos_Ingreso_Datos[[#This Row],[Vinculo]])","v":"=' '!$D$4131"},"#,##0","",""]
["H6 Activos Fijos",{"$f":"' '!$F$4131","v":0},{"$f":"Formula_Local(Campos_Ingreso_Datos[[#This Row],[Vinculo]])","v":"=' '!$F$4131"},"#,##0","",""]
["H6 Activos Fijos",{"$f":"' '!$G$4131","v":0},{"$f":"Formula_Local(Campos_Ingreso_Datos[[#This Row],[Vinculo]])","v":"=' '!$G$4131"},"#,##0","",""]
["H6 Activos Fijos",{"$f":"' '!$H$4131","v":0},{"$f":"Formula_Local(Campos_Ingreso_Datos[[#This Row],[Vinculo]])","v":"=' '!$H$4131"},"#,##0","",""]
["H6 Activos Fijos",{"$f":"' '!$I$4131","v":0},{"$f":"Formula_Local(Campos_Ingreso_Datos[[#This Row],[Vinculo]])","v":"=' '!$I$4131"},"#,##0","",""]
["H6 Activos Fijos",{"$f":"' '!$J$4131","v":0},{"$f":"Formula_Local(Campos_Ingreso_Datos[[#This Row],[Vinculo]])","v":"=' '!$J$4131"},"#,##0","",""]
["H6 Activos Fijos",{"$f":"' '!$K$4131","v":0},{"$f":"Formula_Local(Campos_Ingreso_Datos[[#This Row],[Vinculo]])","v":"=' '!$K$4131"},"#,##0","",""]
["H6 Activos Fijos",{"$f":"' '!$M$4131","v":0},{"$f":"Formula_Local(Campos_Ingreso_Datos[[#This Row],[Vinculo]])","v":"=' '!$M$4131"},"#,##0","",""]
["H6 Activos Fijos",{"$f":"' '!$N$4131","v":0},{"$f":"Formula_Local(Campos_Ingreso_Datos[[#This Row],[Vinculo]])","v":"=' '!$N$4131"},"#,##0","",""]
["H6 Activos Fijos",{"$f":"' '!$Q$4131","v":0},{"$f":"Formula_Local(Campos_Ingreso_Datos[[#This Row],[Vinculo]])","v":"=' '!$Q$4131"},"#,##0","",""]
["H6 Activos Fijos",{"$f":"' '!$R$4131","v":0},{"$f":"Formula_Local(Campos_Ingreso_Datos[[#This Row],[Vinculo]])","v":"=' '!$R$4131"},"#,##0","",""]
["H6 Activos Fijos",{"$f":"' '!$S$4131","v":0},{"$f":"Formula_Local(Campos_Ingreso_Datos[[#This Row],[Vinculo]])","v":"=' '!$S$4131"},"#,##0","",""]
["H6 Activos Fijos",{"$f":"' '!$T$4131","v":0},{"$f":"Formula_Local(Campos_Ingreso_Datos[[#This Row],[Vinculo]])","v":"=' '!$T$4131"},"#,##0","",""]
["H6 Activos Fijos",{"$f":"' '!$U$4131","v":0},{"$f":"Formula_Local(Campos_Ingreso_Datos[[#This Row],[Vinculo]])","v":"=' '!$U$4131"},"#,##0","",""]
["H6 Activos Fijos",{"$f":"' '!$V$4131","v":0},{"$f":"Formula_Local(Campos_Ingreso_Datos[[#This Row],[Vinculo]])","v":"=' '!$V$4131"},"#,##0","",""]
["H6 Activos Fijos",{"$f":"' '!$W$4131","v":0},{"$f":"Formula_Local(Campos_Ingreso_Datos[[#This Row],[Vinculo]])","v":"=' '!$W$4131"},"#,##0","",""]
["H6 Activos Fijos",{"$f":"' '!$X$4131","v":0},{"$f":"Formula_Local(Campos_Ingreso_Datos[[#This Row],[Vinculo]])","v":"=' '!$X$4131"},"#,##0","",""]
["H6 Activos Fijos",{"$f":"' '!$Y$4131","v":0},{"$f":"Formula_Local(Campos_Ingreso_Datos[[#This Row],[Vinculo]])","v":"=' '!$Y$4131"},"#,##0","",""]
["H6 Activos Fijos",{"$f":"' '!$Z$4131","v":0},{"$f":"Formula_Local(Campos_Ingreso_Datos[[#This Row],[Vinculo]])","v":"=' '!$Z$4131"},"#,##0","",""]
["H6 Activos Fijos",{"$f":"' '!$AB$4131","v":0},{"$f":"Formula_Local(Campos_Ingreso_Datos[[#This Row],[Vinculo]])","v":"=' '!$AB$4131"},"#,##0","",""]
["H6 Activos Fijos",{"$f":"' '!$AD$4131","v":0},{"$f":"Formula_Local(Campos_Ingreso_Datos[[#This Row],[Vinculo]])","v":"=' '!$AD$4131"},"#,##0","",""]
["H6 Activos Fijos",{"$f":"' '!$AE$4131","v":0},{"$f":"Formula_Local(Campos_Ingreso_Datos[[#This Row],[Vinculo]])","v":"=' '!$AE$4131"},"#,##0","",""]
["H6 Activos Fijos",{"$f":"' '!$AF$4131","v":0},{"$f":"Formula_Local(Campos_Ingreso_Datos[[#This Row],[Vinculo]])","v":"=' '!$AF$4131"},"#,##0","",""]
["H6 Activos Fijos",{"$f":"' '!$AH$4131","v":0},{"$f":"Formula_Local(Campos_Ingreso_Datos[[#This Row],[Vinculo]])","v":"=' '!$AH$4131"},"#,##0","",""]
["H6 Activos Fijos",{"$f":"' '!$D$4132","v":0},{"$f":"Formula_Local(Campos_Ingreso_Datos[[#This Row],[Vinculo]])","v":"=' '!$D$4132"},"#,##0","",""]
["H6 Activos Fijos",{"$f":"' '!$F$4132","v":0},{"$f":"Formula_Local(Campos_Ingreso_Datos[[#This Row],[Vinculo]])","v":"=' '!$F$4132"},"#,##0","",""]
["H6 Activos Fijos",{"$f":"' '!$G$4132","v":0},{"$f":"Formula_Local(Campos_Ingreso_Datos[[#This Row],[Vinculo]])","v":"=' '!$G$4132"},"#,##0","",""]
["H6 Activos Fijos",{"$f":"' '!$H$4132","v":0},{"$f":"Formula_Local(Campos_Ingreso_Datos[[#This Row],[Vinculo]])","v":"=' '!$H$4132"},"#,##0","",""]
["H6 Activos Fijos",{"$f":"' '!$I$4132","v":0},{"$f":"Formula_Local(Campos_Ingreso_Datos[[#This Row],[Vinculo]])","v":"=' '!$I$4132"},"#,##0","",""]
["H6 Activos Fijos",{"$f":"' '!$J$4132","v":0},{"$f":"Formula_Local(Campos_Ingreso_Datos[[#This Row],[Vinculo]])","v":"=' '!$J$4132"},"#,##0","",""]
["H6 Activos Fijos",{"$f":"' '!$K$4132","v":0},{"$f":"Formula_Local(Campos_Ingreso_Datos[[#This Row],[Vinculo]])","v":"=' '!$K$4132"},"#,##0","",""]
["H6 Activos Fijos",{"$f":"' '!$M$4132","v":0},{"$f":"Formula_Local(Campos_Ingreso_Datos[[#This Row],[Vinculo]])","v":"=' '!$M$4132"},"#,##0","",""]
["H6 Activos Fijos",{"$f":"' '!$N$4132","v":0},{"$f":"Formula_Local(Campos_Ingreso_Datos[[#This Row],[Vinculo]])","v":"=' '!$N$4132"},"#,##0","",""]
["H6 Activos Fijos",{"$f":"' '!$Q$4132","v":0},{"$f":"Formula_Local(Campos_Ingreso_Datos[[#This Row],[Vinculo]])","v":"=' '!$Q$4132"},"#,##0","",""]
["H6 Activos Fijos",{"$f":"' '!$R$4132","v":0},{"$f":"Formula_Local(Campos_Ingreso_Datos[[#This Row],[Vinculo]])","v":"=' '!$R$4132"},"#,##0","",""]
["H6 Activos Fijos",{"$f":"' '!$S$4132","v":0},{"$f":"Formula_Local(Campos_Ingreso_Datos[[#This Row],[Vinculo]])","v":"=' '!$S$4132"},"#,##0","",""]
["H6 Activos Fijos",{"$f":"' '!$T$4132","v":0},{"$f":"Formula_Local(Campos_Ingreso_Datos[[#This Row],[Vinculo]])","v":"=' '!$T$4132"},"#,##0","",""]
["H6 Activos Fijos",{"$f":"' '!$U$4132","v":0},{"$f":"Formula_Local(Campos_Ingreso_Datos[[#This Row],[Vinculo]])","v":"=' '!$U$4132"},"#,##0","",""]
["H6 Activos Fijos",{"$f":"' '!$V$4132","v":0},{"$f":"Formula_Local(Campos_Ingreso_Datos[[#This Row],[Vinculo]])","v":"=' '!$V$4132"},"#,##0","",""]
["H6 Activos Fijos",{"$f":"' '!$W$4132","v":0},{"$f":"Formula_Local(Campos_Ingreso_Datos[[#This Row],[Vinculo]])","v":"=' '!$W$4132"},"#,##0","",""]
["H6 Activos Fijos",{"$f":"' '!$X$4132","v":0},{"$f":"Formula_Local(Campos_Ingreso_Datos[[#This Row],[Vinculo]])","v":"=' '!$X$4132"},"#,##0","",""]
["H6 Activos Fijos",{"$f":"' '!$Y$4132","v":0},{"$f":"Formula_Local(Campos_Ingreso_Datos[[#This Row],[Vinculo]])","v":"=' '!$Y$4132"},"#,##0","",""]
["H6 Activos Fijos",{"$f":"' '!$Z$4132","v":0},{"$f":"Formula_Local(Campos_Ingreso_Datos[[#This Row],[Vinculo]])","v":"=' '!$Z$4132"},"#,##0","",""]
["H6 Activos Fijos",{"$f":"' '!$AB$4132","v":0},{"$f":"Formula_Local(Campos_Ingreso_Datos[[#This Row],[Vinculo]])","v":"=' '!$AB$4132"},"#,##0","",""]
["H6 Activos Fijos",{"$f":"' '!$AD$4132","v":0},{"$f":"Formula_Local(Campos_Ingreso_Datos[[#This Row],[Vinculo]])","v":"=' '!$AD$4132"},"#,##0","",""]
["H6 Activos Fijos",{"$f":"' '!$AE$4132","v":0},{"$f":"Formula_Local(Campos_Ingreso_Datos[[#This Row],[Vinculo]])","v":"=' '!$AE$4132"},"#,##0","",""]
["H6 Activos Fijos",{"$f":"' '!$AF$4132","v":0},{"$f":"Formula_Local(Campos_Ingreso_Datos[[#This Row],[Vinculo]])","v":"=' '!$AF$4132"},"#,##0","",""]
["H6 Activos Fijos",{"$f":"' '!$AH$4132","v":0},{"$f":"Formula_Local(Campos_Ingreso_Datos[[#This Row],[Vinculo]])","v":"=' '!$AH$4132"},"#,##0","",""]
["H6 Activos Fijos",{"$f":"' '!$D$4133","v":0},{"$f":"Formula_Local(Campos_Ingreso_Datos[[#This Row],[Vinculo]])","v":"=' '!$D$4133"},"#,##0","",""]
["H6 Activos Fijos",{"$f":"' '!$F$4133","v":0},{"$f":"Formula_Local(Campos_Ingreso_Datos[[#This Row],[Vinculo]])","v":"=' '!$F$4133"},"#,##0","",""]
["H6 Activos Fijos",{"$f":"' '!$G$4133","v":0},{"$f":"Formula_Local(Campos_Ingreso_Datos[[#This Row],[Vinculo]])","v":"=' '!$G$4133"},"#,##0","",""]
["H6 Activos Fijos",{"$f":"' '!$H$4133","v":0},{"$f":"Formula_Local(Campos_Ingreso_Datos[[#This Row],[Vinculo]])","v":"=' '!$H$4133"},"#,##0","",""]
["H6 Activos Fijos",{"$f":"' '!$I$4133","v":0},{"$f":"Formula_Local(Campos_Ingreso_Datos[[#This Row],[Vinculo]])","v":"=' '!$I$4133"},"#,##0","",""]
["H6 Activos Fijos",{"$f":"' '!$J$4133","v":0},{"$f":"Formula_Local(Campos_Ingreso_Datos[[#This Row],[Vinculo]])","v":"=' '!$J$4133"},"#,##0","",""]
["H6 Activos Fijos",{"$f":"' '!$K$4133","v":0},{"$f":"Formula_Local(Campos_Ingreso_Datos[[#This Row],[Vinculo]])","v":"=' '!$K$4133"},"#,##0","",""]
["H6 Activos Fijos",{"$f":"' '!$M$4133","v":0},{"$f":"Formula_Local(Campos_Ingreso_Datos[[#This Row],[Vinculo]])","v":"=' '!$M$4133"},"#,##0","",""]
["H6 Activos Fijos",{"$f":"' '!$N$4133","v":0},{"$f":"Formula_Local(Campos_Ingreso_Datos[[#This Row],[Vinculo]])","v":"=' '!$N$4133"},"#,##0","",""]
["H6 Activos Fijos",{"$f":"' '!$Q$4133","v":0},{"$f":"Formula_Local(Campos_Ingreso_Datos[[#This Row],[Vinculo]])","v":"=' '!$Q$4133"},"#,##0","",""]
["H6 Activos Fijos",{"$f":"' '!$R$4133","v":0},{"$f":"Formula_Local(Campos_Ingreso_Datos[[#This Row],[Vinculo]])","v":"=' '!$R$4133"},"#,##0","",""]
["H6 Activos Fijos",{"$f":"' '!$S$4133","v":0},{"$f":"Formula_Local(Campos_Ingreso_Datos[[#This Row],[Vinculo]])","v":"=' '!$S$4133"},"#,##0","",""]
["H6 Activos Fijos",{"$f":"' '!$T$4133","v":0},{"$f":"Formula_Local(Campos_Ingreso_Datos[[#This Row],[Vinculo]])","v":"=' '!$T$4133"},"#,##0","",""]
["H6 Activos Fijos",{"$f":"' '!$U$4133","v":0},{"$f":"Formula_Local(Campos_Ingreso_Datos[[#This Row],[Vinculo]])","v":"=' '!$U$4133"},"#,##0","",""]
["H6 Activos Fijos",{"$f":"' '!$V$4133","v":0},{"$f":"Formula_Local(Campos_Ingreso_Datos[[#This Row],[Vinculo]])","v":"=' '!$V$4133"},"#,##0","",""]
["H6 Activos Fijos",{"$f":"' '!$W$4133","v":0},{"$f":"Formula_Local(Campos_Ingreso_Datos[[#This Row],[Vinculo]])","v":"=' '!$W$4133"},"#,##0","",""]
["H6 Activos Fijos",{"$f":"' '!$X$4133","v":0},{"$f":"Formula_Local(Campos_Ingreso_Datos[[#This Row],[Vinculo]])","v":"=' '!$X$4133"},"#,##0","",""]
["H6 Activos Fijos",{"$f":"' '!$Y$4133","v":0},{"$f":"Formula_Local(Campos_Ingreso_Datos[[#This Row],[Vinculo]])","v":"=' '!$Y$4133"},"#,##0","",""]
["H6 Activos Fijos",{"$f":"' '!$Z$4133","v":0},{"$f":"Formula_Local(Campos_Ingreso_Datos[[#This Row],[Vinculo]])","v":"=' '!$Z$4133"},"#,##0","",""]
["H6 Activos Fijos",{"$f":"' '!$AB$4133","v":0},{"$f":"Formula_Local(Campos_Ingreso_Datos[[#This Row],[Vinculo]])","v":"=' '!$AB$4133"},"#,##0","",""]
["H6 Activos Fijos",{"$f":"' '!$AD$4133","v":0},{"$f":"Formula_Local(Campos_Ingreso_Datos[[#This Row],[Vinculo]])","v":"=' '!$AD$4133"},"#,##0","",""]
["H6 Activos Fijos",{"$f":"' '!$AE$4133","v":0},{"$f":"Formula_Local(Campos_Ingreso_Datos[[#This Row],[Vinculo]])","v":"=' '!$AE$4133"},"#,##0","",""]
["H6 Activos Fijos",{"$f":"' '!$AF$4133","v":0},{"$f":"Formula_Local(Campos_Ingreso_Datos[[#This Row],[Vinculo]])","v":"=' '!$AF$4133"},"#,##0","",""]
["H6 Activos Fijos",{"$f":"' '!$AH$4133","v":0},{"$f":"Formula_Local(Campos_Ingreso_Datos[[#This Row],[Vinculo]])","v":"=' '!$AH$4133"},"#,##0","",""]
["H6 Activos Fijos",{"$f":"' '!$D$4134","v":0},{"$f":"Formula_Local(Campos_Ingreso_Datos[[#This Row],[Vinculo]])","v":"=' '!$D$4134"},"#,##0","",""]
["H6 Activos Fijos",{"$f":"' '!$F$4134","v":0},{"$f":"Formula_Local(Campos_Ingreso_Datos[[#This Row],[Vinculo]])","v":"=' '!$F$4134"},"#,##0","",""]
["H6 Activos Fijos",{"$f":"' '!$G$4134","v":0},{"$f":"Formula_Local(Campos_Ingreso_Datos[[#This Row],[Vinculo]])","v":"=' '!$G$4134"},"#,##0","",""]
["H6 Activos Fijos",{"$f":"' '!$H$4134","v":0},{"$f":"Formula_Local(Campos_Ingreso_Datos[[#This Row],[Vinculo]])","v":"=' '!$H$4134"},"#,##0","",""]
["H6 Activos Fijos",{"$f":"' '!$I$4134","v":0},{"$f":"Formula_Local(Campos_Ingreso_Datos[[#This Row],[Vinculo]])","v":"=' '!$I$4134"},"#,##0","",""]
["H6 Activos Fijos",{"$f":"' '!$J$4134","v":0},{"$f":"Formula_Local(Campos_Ingreso_Datos[[#This Row],[Vinculo]])","v":"=' '!$J$4134"},"#,##0","",""]
["H6 Activos Fijos",{"$f":"' '!$K$4134","v":0},{"$f":"Formula_Local(Campos_Ingreso_Datos[[#This Row],[Vinculo]])","v":"=' '!$K$4134"},"#,##0","",""]
["H6 Activos Fijos",{"$f":"' '!$M$4134","v":0},{"$f":"Formula_Local(Campos_Ingreso_Datos[[#This Row],[Vinculo]])","v":"=' '!$M$4134"},"#,##0","",""]
["H6 Activos Fijos",{"$f":"' '!$N$4134","v":0},{"$f":"Formula_Local(Campos_Ingreso_Datos[[#This Row],[Vinculo]])","v":"=' '!$N$4134"},"#,##0","",""]
["H6 Activos Fijos",{"$f":"' '!$Q$4134","v":0},{"$f":"Formula_Local(Campos_Ingreso_Datos[[#This Row],[Vinculo]])","v":"=' '!$Q$4134"},"#,##0","",""]
["H6 Activos Fijos",{"$f":"' '!$R$4134","v":0},{"$f":"Formula_Local(Campos_Ingreso_Datos[[#This Row],[Vinculo]])","v":"=' '!$R$4134"},"#,##0","",""]
["H6 Activos Fijos",{"$f":"' '!$S$4134","v":0},{"$f":"Formula_Local(Campos_Ingreso_Datos[[#This Row],[Vinculo]])","v":"=' '!$S$4134"},"#,##0","",""]
["H6 Activos Fijos",{"$f":"' '!$T$4134","v":0},{"$f":"Formula_Local(Campos_Ingreso_Datos[[#This Row],[Vinculo]])","v":"=' '!$T$4134"},"#,##0","",""]
["H6 Activos Fijos",{"$f":"' '!$U$4134","v":0},{"$f":"Formula_Local(Campos_Ingreso_Datos[[#This Row],[Vinculo]])","v":"=' '!$U$4134"},"#,##0","",""]
["H6 Activos Fijos",{"$f":"' '!$V$4134","v":0},{"$f":"Formula_Local(Campos_Ingreso_Datos[[#This Row],[Vinculo]])","v":"=' '!$V$4134"},"#,##0","",""]
["H6 Activos Fijos",{"$f":"' '!$W$4134","v":0},{"$f":"Formula_Local(Campos_Ingreso_Datos[[#This Row],[Vinculo]])","v":"=' '!$W$4134"},"#,##0","",""]
["H6 Activos Fijos",{"$f":"' '!$X$4134","v":0},{"$f":"Formula_Local(Campos_Ingreso_Datos[[#This Row],[Vinculo]])","v":"=' '!$X$4134"},"#,##0","",""]
["H6 Activos Fijos",{"$f":"' '!$Y$4134","v":0},{"$f":"Formula_Local(Campos_Ingreso_Datos[[#This Row],[Vinculo]])","v":"=' '!$Y$4134"},"#,##0","",""]
["H6 Activos Fijos",{"$f":"' '!$Z$4134","v":0},{"$f":"Formula_Local(Campos_Ingreso_Datos[[#This Row],[Vinculo]])","v":"=' '!$Z$4134"},"#,##0","",""]
["H6 Activos Fijos",{"$f":"' '!$AB$4134","v":0},{"$f":"Formula_Local(Campos_Ingreso_Datos[[#This Row],[Vinculo]])","v":"=' '!$AB$4134"},"#,##0","",""]
["H6 Activos Fijos",{"$f":"' '!$AD$4134","v":0},{"$f":"Formula_Local(Campos_Ingreso_Datos[[#This Row],[Vinculo]])","v":"=' '!$AD$4134"},"#,##0","",""]
["H6 Activos Fijos",{"$f":"' '!$AE$4134","v":0},{"$f":"Formula_Local(Campos_Ingreso_Datos[[#This Row],[Vinculo]])","v":"=' '!$AE$4134"},"#,##0","",""]
["H6 Activos Fijos",{"$f":"' '!$AF$4134","v":0},{"$f":"Formula_Local(Campos_Ingreso_Datos[[#This Row],[Vinculo]])","v":"=' '!$AF$4134"},"#,##0","",""]
["H6 Activos Fijos",{"$f":"' '!$AH$4134","v":0},{"$f":"Formula_Local(Campos_Ingreso_Datos[[#This Row],[Vinculo]])","v":"=' '!$AH$4134"},"#,##0","",""]
["H6 Activos Fijos",{"$f":"' '!$D$4135","v":0},{"$f":"Formula_Local(Campos_Ingreso_Datos[[#This Row],[Vinculo]])","v":"=' '!$D$4135"},"#,##0","",""]
["H6 Activos Fijos",{"$f":"' '!$F$4135","v":0},{"$f":"Formula_Local(Campos_Ingreso_Datos[[#This Row],[Vinculo]])","v":"=' '!$F$4135"},"#,##0","",""]
["H6 Activos Fijos",{"$f":"' '!$G$4135","v":0},{"$f":"Formula_Local(Campos_Ingreso_Datos[[#This Row],[Vinculo]])","v":"=' '!$G$4135"},"#,##0","",""]
["H6 Activos Fijos",{"$f":"' '!$H$4135","v":0},{"$f":"Formula_Local(Campos_Ingreso_Datos[[#This Row],[Vinculo]])","v":"=' '!$H$4135"},"#,##0","",""]
["H6 Activos Fijos",{"$f":"' '!$I$4135","v":0},{"$f":"Formula_Local(Campos_Ingreso_Datos[[#This Row],[Vinculo]])","v":"=' '!$I$4135"},"#,##0","",""]
["H6 Activos Fijos",{"$f":"' '!$J$4135","v":0},{"$f":"Formula_Local(Campos_Ingreso_Datos[[#This Row],[Vinculo]])","v":"=' '!$J$4135"},"#,##0","",""]
["H6 Activos Fijos",{"$f":"' '!$K$4135","v":0},{"$f":"Formula_Local(Campos_Ingreso_Datos[[#This Row],[Vinculo]])","v":"=' '!$K$4135"},"#,##0","",""]
["H6 Activos Fijos",{"$f":"' '!$M$4135","v":0},{"$f":"Formula_Local(Campos_Ingreso_Datos[[#This Row],[Vinculo]])","v":"=' '!$M$4135"},"#,##0","",""]
["H6 Activos Fijos",{"$f":"' '!$N$4135","v":0},{"$f":"Formula_Local(Campos_Ingreso_Datos[[#This Row],[Vinculo]])","v":"=' '!$N$4135"},"#,##0","",""]
["H6 Activos Fijos",{"$f":"' '!$Q$4135","v":0},{"$f":"Formula_Local(Campos_Ingreso_Datos[[#This Row],[Vinculo]])","v":"=' '!$Q$4135"},"#,##0","",""]
["H6 Activos Fijos",{"$f":"' '!$R$4135","v":0},{"$f":"Formula_Local(Campos_Ingreso_Datos[[#This Row],[Vinculo]])","v":"=' '!$R$4135"},"#,##0","",""]
["H6 Activos Fijos",{"$f":"' '!$S$4135","v":0},{"$f":"Formula_Local(Campos_Ingreso_Datos[[#This Row],[Vinculo]])","v":"=' '!$S$4135"},"#,##0","",""]
["H6 Activos Fijos",{"$f":"' '!$T$4135","v":0},{"$f":"Formula_Local(Campos_Ingreso_Datos[[#This Row],[Vinculo]])","v":"=' '!$T$4135"},"#,##0","",""]
["H6 Activos Fijos",{"$f":"' '!$U$4135","v":0},{"$f":"Formula_Local(Campos_Ingreso_Datos[[#This Row],[Vinculo]])","v":"=' '!$U$4135"},"#,##0","",""]
["H6 Activos Fijos",{"$f":"' '!$V$4135","v":0},{"$f":"Formula_Local(Campos_Ingreso_Datos[[#This Row],[Vinculo]])","v":"=' '!$V$4135"},"#,##0","",""]
["H6 Activos Fijos",{"$f":"' '!$W$4135","v":0},{"$f":"Formula_Local(Campos_Ingreso_Datos[[#This Row],[Vinculo]])","v":"=' '!$W$4135"},"#,##0","",""]
["H6 Activos Fijos",{"$f":"' '!$X$4135","v":0},{"$f":"Formula_Local(Campos_Ingreso_Datos[[#This Row],[Vinculo]])","v":"=' '!$X$4135"},"#,##0","",""]
["H6 Activos Fijos",{"$f":"' '!$Y$4135","v":0},{"$f":"Formula_Local(Campos_Ingreso_Datos[[#This Row],[Vinculo]])","v":"=' '!$Y$4135"},"#,##0","",""]
["H6 Activos Fijos",{"$f":"' '!$Z$4135","v":0},{"$f":"Formula_Local(Campos_Ingreso_Datos[[#This Row],[Vinculo]])","v":"=' '!$Z$4135"},"#,##0","",""]
["H6 Activos Fijos",{"$f":"' '!$AB$4135","v":0},{"$f":"Formula_Local(Campos_Ingreso_Datos[[#This Row],[Vinculo]])","v":"=' '!$AB$4135"},"#,##0","",""]
["H6 Activos Fijos",{"$f":"' '!$AD$4135","v":0},{"$f":"Formula_Local(Campos_Ingreso_Datos[[#This Row],[Vinculo]])","v":"=' '!$AD$4135"},"#,##0","",""]
["H6 Activos Fijos",{"$f":"' '!$AE$4135","v":0},{"$f":"Formula_Local(Campos_Ingreso_Datos[[#This Row],[Vinculo]])","v":"=' '!$AE$4135"},"#,##0","",""]
["H6 Activos Fijos",{"$f":"' '!$AF$4135","v":0},{"$f":"Formula_Local(Campos_Ingreso_Datos[[#This Row],[Vinculo]])","v":"=' '!$AF$4135"},"#,##0","",""]
["H6 Activos Fijos",{"$f":"' '!$AH$4135","v":0},{"$f":"Formula_Local(Campos_Ingreso_Datos[[#This Row],[Vinculo]])","v":"=' '!$AH$4135"},"#,##0","",""]
["H6 Activos Fijos",{"$f":"' '!$D$4136","v":0},{"$f":"Formula_Local(Campos_Ingreso_Datos[[#This Row],[Vinculo]])","v":"=' '!$D$4136"},"#,##0","",""]
["H6 Activos Fijos",{"$f":"' '!$F$4136","v":0},{"$f":"Formula_Local(Campos_Ingreso_Datos[[#This Row],[Vinculo]])","v":"=' '!$F$4136"},"#,##0","",""]
["H6 Activos Fijos",{"$f":"' '!$G$4136","v":0},{"$f":"Formula_Local(Campos_Ingreso_Datos[[#This Row],[Vinculo]])","v":"=' '!$G$4136"},"#,##0","",""]
["H6 Activos Fijos",{"$f":"' '!$H$4136","v":0},{"$f":"Formula_Local(Campos_Ingreso_Datos[[#This Row],[Vinculo]])","v":"=' '!$H$4136"},"#,##0","",""]
["H6 Activos Fijos",{"$f":"' '!$I$4136","v":0},{"$f":"Formula_Local(Campos_Ingreso_Datos[[#This Row],[Vinculo]])","v":"=' '!$I$4136"},"#,##0","",""]
["H6 Activos Fijos",{"$f":"' '!$J$4136","v":0},{"$f":"Formula_Local(Campos_Ingreso_Datos[[#This Row],[Vinculo]])","v":"=' '!$J$4136"},"#,##0","",""]
["H6 Activos Fijos",{"$f":"' '!$K$4136","v":0},{"$f":"Formula_Local(Campos_Ingreso_Datos[[#This Row],[Vinculo]])","v":"=' '!$K$4136"},"#,##0","",""]
["H6 Activos Fijos",{"$f":"' '!$M$4136","v":0},{"$f":"Formula_Local(Campos_Ingreso_Datos[[#This Row],[Vinculo]])","v":"=' '!$M$4136"},"#,##0","",""]
["H6 Activos Fijos",{"$f":"' '!$N$4136","v":0},{"$f":"Formula_Local(Campos_Ingreso_Datos[[#This Row],[Vinculo]])","v":"=' '!$N$4136"},"#,##0","",""]
["H6 Activos Fijos",{"$f":"' '!$Q$4136","v":0},{"$f":"Formula_Local(Campos_Ingreso_Datos[[#This Row],[Vinculo]])","v":"=' '!$Q$4136"},"#,##0","",""]
["H6 Activos Fijos",{"$f":"' '!$R$4136","v":0},{"$f":"Formula_Local(Campos_Ingreso_Datos[[#This Row],[Vinculo]])","v":"=' '!$R$4136"},"#,##0","",""]
["H6 Activos Fijos",{"$f":"' '!$S$4136","v":0},{"$f":"Formula_Local(Campos_Ingreso_Datos[[#This Row],[Vinculo]])","v":"=' '!$S$4136"},"#,##0","",""]
["H6 Activos Fijos",{"$f":"' '!$T$4136","v":0},{"$f":"Formula_Local(Campos_Ingreso_Datos[[#This Row],[Vinculo]])","v":"=' '!$T$4136"},"#,##0","",""]
["H6 Activos Fijos",{"$f":"' '!$U$4136","v":0},{"$f":"Formula_Local(Campos_Ingreso_Datos[[#This Row],[Vinculo]])","v":"=' '!$U$4136"},"#,##0","",""]
["H6 Activos Fijos",{"$f":"' '!$V$4136","v":0},{"$f":"Formula_Local(Campos_Ingreso_Datos[[#This Row],[Vinculo]])","v":"=' '!$V$4136"},"#,##0","",""]
["H6 Activos Fijos",{"$f":"' '!$W$4136","v":0},{"$f":"Formula_Local(Campos_Ingreso_Datos[[#This Row],[Vinculo]])","v":"=' '!$W$4136"},"#,##0","",""]
["H6 Activos Fijos",{"$f":"' '!$X$4136","v":0},{"$f":"Formula_Local(Campos_Ingreso_Datos[[#This Row],[Vinculo]])","v":"=' '!$X$4136"},"#,##0","",""]
["H6 Activos Fijos",{"$f":"' '!$Y$4136","v":0},{"$f":"Formula_Local(Campos_Ingreso_Datos[[#This Row],[Vinculo]])","v":"=' '!$Y$4136"},"#,##0","",""]
["H6 Activos Fijos",{"$f":"' '!$Z$4136","v":0},{"$f":"Formula_Local(Campos_Ingreso_Datos[[#This Row],[Vinculo]])","v":"=' '!$Z$4136"},"#,##0","",""]
["H6 Activos Fijos",{"$f":"' '!$AB$4136","v":0},{"$f":"Formula_Local(Campos_Ingreso_Datos[[#This Row],[Vinculo]])","v":"=' '!$AB$4136"},"#,##0","",""]
["H6 Activos Fijos",{"$f":"' '!$AD$4136","v":0},{"$f":"Formula_Local(Campos_Ingreso_Datos[[#This Row],[Vinculo]])","v":"=' '!$AD$4136"},"#,##0","",""]
["H6 Activos Fijos",{"$f":"' '!$AE$4136","v":0},{"$f":"Formula_Local(Campos_Ingreso_Datos[[#This Row],[Vinculo]])","v":"=' '!$AE$4136"},"#,##0","",""]
["H6 Activos Fijos",{"$f":"' '!$AF$4136","v":0},{"$f":"Formula_Local(Campos_Ingreso_Datos[[#This Row],[Vinculo]])","v":"=' '!$AF$4136"},"#,##0","",""]
["H6 Activos Fijos",{"$f":"' '!$AH$4136","v":0},{"$f":"Formula_Local(Campos_Ingreso_Datos[[#This Row],[Vinculo]])","v":"=' '!$AH$4136"},"#,##0","",""]
["H6 Activos Fijos",{"$f":"' '!$D$4137","v":0},{"$f":"Formula_Local(Campos_Ingreso_Datos[[#This Row],[Vinculo]])","v":"=' '!$D$4137"},"#,##0","",""]
["H6 Activos Fijos",{"$f":"' '!$F$4137","v":0},{"$f":"Formula_Local(Campos_Ingreso_Datos[[#This Row],[Vinculo]])","v":"=' '!$F$4137"},"#,##0","",""]
["H6 Activos Fijos",{"$f":"' '!$G$4137","v":0},{"$f":"Formula_Local(Campos_Ingreso_Datos[[#This Row],[Vinculo]])","v":"=' '!$G$4137"},"#,##0","",""]
["H6 Activos Fijos",{"$f":"' '!$H$4137","v":0},{"$f":"Formula_Local(Campos_Ingreso_Datos[[#This Row],[Vinculo]])","v":"=' '!$H$4137"},"#,##0","",""]
["H6 Activos Fijos",{"$f":"' '!$I$4137","v":0},{"$f":"Formula_Local(Campos_Ingreso_Datos[[#This Row],[Vinculo]])","v":"=' '!$I$4137"},"#,##0","",""]
["H6 Activos Fijos",{"$f":"' '!$J$4137","v":0},{"$f":"Formula_Local(Campos_Ingreso_Datos[[#This Row],[Vinculo]])","v":"=' '!$J$4137"},"#,##0","",""]
["H6 Activos Fijos",{"$f":"' '!$K$4137","v":0},{"$f":"Formula_Local(Campos_Ingreso_Datos[[#This Row],[Vinculo]])","v":"=' '!$K$4137"},"#,##0","",""]
["H6 Activos Fijos",{"$f":"' '!$M$4137","v":0},{"$f":"Formula_Local(Campos_Ingreso_Datos[[#This Row],[Vinculo]])","v":"=' '!$M$4137"},"#,##0","",""]
["H6 Activos Fijos",{"$f":"' '!$N$4137","v":0},{"$f":"Formula_Local(Campos_Ingreso_Datos[[#This Row],[Vinculo]])","v":"=' '!$N$4137"},"#,##0","",""]
["H6 Activos Fijos",{"$f":"' '!$Q$4137","v":0},{"$f":"Formula_Local(Campos_Ingreso_Datos[[#This Row],[Vinculo]])","v":"=' '!$Q$4137"},"#,##0","",""]
["H6 Activos Fijos",{"$f":"' '!$R$4137","v":0},{"$f":"Formula_Local(Campos_Ingreso_Datos[[#This Row],[Vinculo]])","v":"=' '!$R$4137"},"#,##0","",""]
["H6 Activos Fijos",{"$f":"' '!$S$4137","v":0},{"$f":"Formula_Local(Campos_Ingreso_Datos[[#This Row],[Vinculo]])","v":"=' '!$S$4137"},"#,##0","",""]
["H6 Activos Fijos",{"$f":"' '!$T$4137","v":0},{"$f":"Formula_Local(Campos_Ingreso_Datos[[#This Row],[Vinculo]])","v":"=' '!$T$4137"},"#,##0","",""]
["H6 Activos Fijos",{"$f":"' '!$U$4137","v":0},{"$f":"Formula_Local(Campos_Ingreso_Datos[[#This Row],[Vinculo]])","v":"=' '!$U$4137"},"#,##0","",""]
["H6 Activos Fijos",{"$f":"' '!$V$4137","v":0},{"$f":"Formula_Local(Campos_Ingreso_Datos[[#This Row],[Vinculo]])","v":"=' '!$V$4137"},"#,##0","",""]
["H6 Activos Fijos",{"$f":"' '!$W$4137","v":0},{"$f":"Formula_Local(Campos_Ingreso_Datos[[#This Row],[Vinculo]])","v":"=' '!$W$4137"},"#,##0","",""]
["H6 Activos Fijos",{"$f":"' '!$X$4137","v":0},{"$f":"Formula_Local(Campos_Ingreso_Datos[[#This Row],[Vinculo]])","v":"=' '!$X$4137"},"#,##0","",""]
["H6 Activos Fijos",{"$f":"' '!$Y$4137","v":0},{"$f":"Formula_Local(Campos_Ingreso_Datos[[#This Row],[Vinculo]])","v":"=' '!$Y$4137"},"#,##0","",""]
["H6 Activos Fijos",{"$f":"' '!$Z$4137","v":0},{"$f":"Formula_Local(Campos_Ingreso_Datos[[#This Row],[Vinculo]])","v":"=' '!$Z$4137"},"#,##0","",""]
["H6 Activos Fijos",{"$f":"' '!$AB$4137","v":0},{"$f":"Formula_Local(Campos_Ingreso_Datos[[#This Row],[Vinculo]])","v":"=' '!$AB$4137"},"#,##0","",""]
["H6 Activos Fijos",{"$f":"' '!$AD$4137","v":0},{"$f":"Formula_Local(Campos_Ingreso_Datos[[#This Row],[Vinculo]])","v":"=' '!$AD$4137"},"#,##0","",""]
["H6 Activos Fijos",{"$f":"' '!$AE$4137","v":0},{"$f":"Formula_Local(Campos_Ingreso_Datos[[#This Row],[Vinculo]])","v":"=' '!$AE$4137"},"#,##0","",""]
["H6 Activos Fijos",{"$f":"' '!$AF$4137","v":0},{"$f":"Formula_Local(Campos_Ingreso_Datos[[#This Row],[Vinculo]])","v":"=' '!$AF$4137"},"#,##0","",""]
["H6 Activos Fijos",{"$f":"' '!$AH$4137","v":0},{"$f":"Formula_Local(Campos_Ingreso_Datos[[#This Row],[Vinculo]])","v":"=' '!$AH$4137"},"#,##0","",""]
["H6 Activos Fijos",{"$f":"' '!$D$4138","v":0},{"$f":"Formula_Local(Campos_Ingreso_Datos[[#This Row],[Vinculo]])","v":"=' '!$D$4138"},"#,##0","",""]
["H6 Activos Fijos",{"$f":"' '!$F$4138","v":0},{"$f":"Formula_Local(Campos_Ingreso_Datos[[#This Row],[Vinculo]])","v":"=' '!$F$4138"},"#,##0","",""]
["H6 Activos Fijos",{"$f":"' '!$G$4138","v":0},{"$f":"Formula_Local(Campos_Ingreso_Datos[[#This Row],[Vinculo]])","v":"=' '!$G$4138"},"#,##0","",""]
["H6 Activos Fijos",{"$f":"' '!$H$4138","v":0},{"$f":"Formula_Local(Campos_Ingreso_Datos[[#This Row],[Vinculo]])","v":"=' '!$H$4138"},"#,##0","",""]
["H6 Activos Fijos",{"$f":"' '!$I$4138","v":0},{"$f":"Formula_Local(Campos_Ingreso_Datos[[#This Row],[Vinculo]])","v":"=' '!$I$4138"},"#,##0","",""]
["H6 Activos Fijos",{"$f":"' '!$J$4138","v":0},{"$f":"Formula_Local(Campos_Ingreso_Datos[[#This Row],[Vinculo]])","v":"=' '!$J$4138"},"#,##0","",""]
["H6 Activos Fijos",{"$f":"' '!$K$4138","v":0},{"$f":"Formula_Local(Campos_Ingreso_Datos[[#This Row],[Vinculo]])","v":"=' '!$K$4138"},"#,##0","",""]
["H6 Activos Fijos",{"$f":"' '!$M$4138","v":0},{"$f":"Formula_Local(Campos_Ingreso_Datos[[#This Row],[Vinculo]])","v":"=' '!$M$4138"},"#,##0","",""]
["H6 Activos Fijos",{"$f":"' '!$N$4138","v":0},{"$f":"Formula_Local(Campos_Ingreso_Datos[[#This Row],[Vinculo]])","v":"=' '!$N$4138"},"#,##0","",""]
["H6 Activos Fijos",{"$f":"' '!$Q$4138","v":0},{"$f":"Formula_Local(Campos_Ingreso_Datos[[#This Row],[Vinculo]])","v":"=' '!$Q$4138"},"#,##0","",""]
["H6 Activos Fijos",{"$f":"' '!$R$4138","v":0},{"$f":"Formula_Local(Campos_Ingreso_Datos[[#This Row],[Vinculo]])","v":"=' '!$R$4138"},"#,##0","",""]
["H6 Activos Fijos",{"$f":"' '!$S$4138","v":0},{"$f":"Formula_Local(Campos_Ingreso_Datos[[#This Row],[Vinculo]])","v":"=' '!$S$4138"},"#,##0","",""]
["H6 Activos Fijos",{"$f":"' '!$T$4138","v":0},{"$f":"Formula_Local(Campos_Ingreso_Datos[[#This Row],[Vinculo]])","v":"=' '!$T$4138"},"#,##0","",""]
["H6 Activos Fijos",{"$f":"' '!$U$4138","v":0},{"$f":"Formula_Local(Campos_Ingreso_Datos[[#This Row],[Vinculo]])","v":"=' '!$U$4138"},"#,##0","",""]
["H6 Activos Fijos",{"$f":"' '!$V$4138","v":0},{"$f":"Formula_Local(Campos_Ingreso_Datos[[#This Row],[Vinculo]])","v":"=' '!$V$4138"},"#,##0","",""]
["H6 Activos Fijos",{"$f":"' '!$W$4138","v":0},{"$f":"Formula_Local(Campos_Ingreso_Datos[[#This Row],[Vinculo]])","v":"=' '!$W$4138"},"#,##0","",""]
["H6 Activos Fijos",{"$f":"' '!$X$4138","v":0},{"$f":"Formula_Local(Campos_Ingreso_Datos[[#This Row],[Vinculo]])","v":"=' '!$X$4138"},"#,##0","",""]
["H6 Activos Fijos",{"$f":"' '!$Y$4138","v":0},{"$f":"Formula_Local(Campos_Ingreso_Datos[[#This Row],[Vinculo]])","v":"=' '!$Y$4138"},"#,##0","",""]
["H6 Activos Fijos",{"$f":"' '!$Z$4138","v":0},{"$f":"Formula_Local(Campos_Ingreso_Datos[[#This Row],[Vinculo]])","v":"=' '!$Z$4138"},"#,##0","",""]
["H6 Activos Fijos",{"$f":"' '!$AB$4138","v":0},{"$f":"Formula_Local(Campos_Ingreso_Datos[[#This Row],[Vinculo]])","v":"=' '!$AB$4138"},"#,##0","",""]
["H6 Activos Fijos",{"$f":"' '!$AD$4138","v":0},{"$f":"Formula_Local(Campos_Ingreso_Datos[[#This Row],[Vinculo]])","v":"=' '!$AD$4138"},"#,##0","",""]
["H6 Activos Fijos",{"$f":"' '!$AE$4138","v":0},{"$f":"Formula_Local(Campos_Ingreso_Datos[[#This Row],[Vinculo]])","v":"=' '!$AE$4138"},"#,##0","",""]
["H6 Activos Fijos",{"$f":"' '!$AF$4138","v":0},{"$f":"Formula_Local(Campos_Ingreso_Datos[[#This Row],[Vinculo]])","v":"=' '!$AF$4138"},"#,##0","",""]
["H6 Activos Fijos",{"$f":"' '!$AH$4138","v":0},{"$f":"Formula_Local(Campos_Ingreso_Datos[[#This Row],[Vinculo]])","v":"=' '!$AH$4138"},"#,##0","",""]
["H6 Activos Fijos",{"$f":"' '!$D$4139","v":0},{"$f":"Formula_Local(Campos_Ingreso_Datos[[#This Row],[Vinculo]])","v":"=' '!$D$4139"},"#,##0","",""]
["H6 Activos Fijos",{"$f":"' '!$F$4139","v":0},{"$f":"Formula_Local(Campos_Ingreso_Datos[[#This Row],[Vinculo]])","v":"=' '!$F$4139"},"#,##0","",""]
["H6 Activos Fijos",{"$f":"' '!$G$4139","v":0},{"$f":"Formula_Local(Campos_Ingreso_Datos[[#This Row],[Vinculo]])","v":"=' '!$G$4139"},"#,##0","",""]
["H6 Activos Fijos",{"$f":"' '!$H$4139","v":0},{"$f":"Formula_Local(Campos_Ingreso_Datos[[#This Row],[Vinculo]])","v":"=' '!$H$4139"},"#,##0","",""]
["H6 Activos Fijos",{"$f":"' '!$I$4139","v":0},{"$f":"Formula_Local(Campos_Ingreso_Datos[[#This Row],[Vinculo]])","v":"=' '!$I$4139"},"#,##0","",""]
["H6 Activos Fijos",{"$f":"' '!$J$4139","v":0},{"$f":"Formula_Local(Campos_Ingreso_Datos[[#This Row],[Vinculo]])","v":"=' '!$J$4139"},"#,##0","",""]
["H6 Activos Fijos",{"$f":"' '!$K$4139","v":0},{"$f":"Formula_Local(Campos_Ingreso_Datos[[#This Row],[Vinculo]])","v":"=' '!$K$4139"},"#,##0","",""]
["H6 Activos Fijos",{"$f":"' '!$M$4139","v":0},{"$f":"Formula_Local(Campos_Ingreso_Datos[[#This Row],[Vinculo]])","v":"=' '!$M$4139"},"#,##0","",""]
["H6 Activos Fijos",{"$f":"' '!$N$4139","v":0},{"$f":"Formula_Local(Campos_Ingreso_Datos[[#This Row],[Vinculo]])","v":"=' '!$N$4139"},"#,##0","",""]
["H6 Activos Fijos",{"$f":"' '!$Q$4139","v":0},{"$f":"Formula_Local(Campos_Ingreso_Datos[[#This Row],[Vinculo]])","v":"=' '!$Q$4139"},"#,##0","",""]
["H6 Activos Fijos",{"$f":"' '!$R$4139","v":0},{"$f":"Formula_Local(Campos_Ingreso_Datos[[#This Row],[Vinculo]])","v":"=' '!$R$4139"},"#,##0","",""]
["H6 Activos Fijos",{"$f":"' '!$S$4139","v":0},{"$f":"Formula_Local(Campos_Ingreso_Datos[[#This Row],[Vinculo]])","v":"=' '!$S$4139"},"#,##0","",""]
["H6 Activos Fijos",{"$f":"' '!$T$4139","v":0},{"$f":"Formula_Local(Campos_Ingreso_Datos[[#This Row],[Vinculo]])","v":"=' '!$T$4139"},"#,##0","",""]
["H6 Activos Fijos",{"$f":"' '!$U$4139","v":0},{"$f":"Formula_Local(Campos_Ingreso_Datos[[#This Row],[Vinculo]])","v":"=' '!$U$4139"},"#,##0","",""]
["H6 Activos Fijos",{"$f":"' '!$V$4139","v":0},{"$f":"Formula_Local(Campos_Ingreso_Datos[[#This Row],[Vinculo]])","v":"=' '!$V$4139"},"#,##0","",""]
["H6 Activos Fijos",{"$f":"' '!$W$4139","v":0},{"$f":"Formula_Local(Campos_Ingreso_Datos[[#This Row],[Vinculo]])","v":"=' '!$W$4139"},"#,##0","",""]
["H6 Activos Fijos",{"$f":"' '!$X$4139","v":0},{"$f":"Formula_Local(Campos_Ingreso_Datos[[#This Row],[Vinculo]])","v":"=' '!$X$4139"},"#,##0","",""]
["H6 Activos Fijos",{"$f":"' '!$Y$4139","v":0},{"$f":"Formula_Local(Campos_Ingreso_Datos[[#This Row],[Vinculo]])","v":"=' '!$Y$4139"},"#,##0","",""]
["H6 Activos Fijos",{"$f":"' '!$Z$4139","v":0},{"$f":"Formula_Local(Campos_Ingreso_Datos[[#This Row],[Vinculo]])","v":"=' '!$Z$4139"},"#,##0","",""]
["H6 Activos Fijos",{"$f":"' '!$AB$4139","v":0},{"$f":"Formula_Local(Campos_Ingreso_Datos[[#This Row],[Vinculo]])","v":"=' '!$AB$4139"},"#,##0","",""]
["H6 Activos Fijos",{"$f":"' '!$AD$4139","v":0},{"$f":"Formula_Local(Campos_Ingreso_Datos[[#This Row],[Vinculo]])","v":"=' '!$AD$4139"},"#,##0","",""]
["H6 Activos Fijos",{"$f":"' '!$AE$4139","v":0},{"$f":"Formula_Local(Campos_Ingreso_Datos[[#This Row],[Vinculo]])","v":"=' '!$AE$4139"},"#,##0","",""]
["H6 Activos Fijos",{"$f":"' '!$AF$4139","v":0},{"$f":"Formula_Local(Campos_Ingreso_Datos[[#This Row],[Vinculo]])","v":"=' '!$AF$4139"},"#,##0","",""]
["H6 Activos Fijos",{"$f":"' '!$AH$4139","v":0},{"$f":"Formula_Local(Campos_Ingreso_Datos[[#This Row],[Vinculo]])","v":"=' '!$AH$4139"},"#,##0","",""]
["H6 Activos Fijos",{"$f":"' '!$D$4140","v":0},{"$f":"Formula_Local(Campos_Ingreso_Datos[[#This Row],[Vinculo]])","v":"=' '!$D$4140"},"#,##0","",""]
["H6 Activos Fijos",{"$f":"' '!$F$4140","v":0},{"$f":"Formula_Local(Campos_Ingreso_Datos[[#This Row],[Vinculo]])","v":"=' '!$F$4140"},"#,##0","",""]
["H6 Activos Fijos",{"$f":"' '!$G$4140","v":0},{"$f":"Formula_Local(Campos_Ingreso_Datos[[#This Row],[Vinculo]])","v":"=' '!$G$4140"},"#,##0","",""]
["H6 Activos Fijos",{"$f":"' '!$H$4140","v":0},{"$f":"Formula_Local(Campos_Ingreso_Datos[[#This Row],[Vinculo]])","v":"=' '!$H$4140"},"#,##0","",""]
["H6 Activos Fijos",{"$f":"' '!$I$4140","v":0},{"$f":"Formula_Local(Campos_Ingreso_Datos[[#This Row],[Vinculo]])","v":"=' '!$I$4140"},"#,##0","",""]
["H6 Activos Fijos",{"$f":"' '!$J$4140","v":0},{"$f":"Formula_Local(Campos_Ingreso_Datos[[#This Row],[Vinculo]])","v":"=' '!$J$4140"},"#,##0","",""]
["H6 Activos Fijos",{"$f":"' '!$K$4140","v":0},{"$f":"Formula_Local(Campos_Ingreso_Datos[[#This Row],[Vinculo]])","v":"=' '!$K$4140"},"#,##0","",""]
["H6 Activos Fijos",{"$f":"' '!$M$4140","v":0},{"$f":"Formula_Local(Campos_Ingreso_Datos[[#This Row],[Vinculo]])","v":"=' '!$M$4140"},"#,##0","",""]
["H6 Activos Fijos",{"$f":"' '!$N$4140","v":0},{"$f":"Formula_Local(Campos_Ingreso_Datos[[#This Row],[Vinculo]])","v":"=' '!$N$4140"},"#,##0","",""]
["H6 Activos Fijos",{"$f":"' '!$Q$4140","v":0},{"$f":"Formula_Local(Campos_Ingreso_Datos[[#This Row],[Vinculo]])","v":"=' '!$Q$4140"},"#,##0","",""]
["H6 Activos Fijos",{"$f":"' '!$R$4140","v":0},{"$f":"Formula_Local(Campos_Ingreso_Datos[[#This Row],[Vinculo]])","v":"=' '!$R$4140"},"#,##0","",""]
["H6 Activos Fijos",{"$f":"' '!$S$4140","v":0},{"$f":"Formula_Local(Campos_Ingreso_Datos[[#This Row],[Vinculo]])","v":"=' '!$S$4140"},"#,##0","",""]
["H6 Activos Fijos",{"$f":"' '!$T$4140","v":0},{"$f":"Formula_Local(Campos_Ingreso_Datos[[#This Row],[Vinculo]])","v":"=' '!$T$4140"},"#,##0","",""]
["H6 Activos Fijos",{"$f":"' '!$U$4140","v":0},{"$f":"Formula_Local(Campos_Ingreso_Datos[[#This Row],[Vinculo]])","v":"=' '!$U$4140"},"#,##0","",""]
["H6 Activos Fijos",{"$f":"' '!$V$4140","v":0},{"$f":"Formula_Local(Campos_Ingreso_Datos[[#This Row],[Vinculo]])","v":"=' '!$V$4140"},"#,##0","",""]
["H6 Activos Fijos",{"$f":"' '!$W$4140","v":0},{"$f":"Formula_Local(Campos_Ingreso_Datos[[#This Row],[Vinculo]])","v":"=' '!$W$4140"},"#,##0","",""]
["H6 Activos Fijos",{"$f":"' '!$X$4140","v":0},{"$f":"Formula_Local(Campos_Ingreso_Datos[[#This Row],[Vinculo]])","v":"=' '!$X$4140"},"#,##0","",""]
["H6 Activos Fijos",{"$f":"' '!$Y$4140","v":0},{"$f":"Formula_Local(Campos_Ingreso_Datos[[#This Row],[Vinculo]])","v":"=' '!$Y$4140"},"#,##0","",""]
["H6 Activos Fijos",{"$f":"' '!$Z$4140","v":0},{"$f":"Formula_Local(Campos_Ingreso_Datos[[#This Row],[Vinculo]])","v":"=' '!$Z$4140"},"#,##0","",""]
["H6 Activos Fijos",{"$f":"' '!$AB$4140","v":0},{"$f":"Formula_Local(Campos_Ingreso_Datos[[#This Row],[Vinculo]])","v":"=' '!$AB$4140"},"#,##0","",""]
["H6 Activos Fijos",{"$f":"' '!$AD$4140","v":0},{"$f":"Formula_Local(Campos_Ingreso_Datos[[#This Row],[Vinculo]])","v":"=' '!$AD$4140"},"#,##0","",""]
["H6 Activos Fijos",{"$f":"' '!$AE$4140","v":0},{"$f":"Formula_Local(Campos_Ingreso_Datos[[#This Row],[Vinculo]])","v":"=' '!$AE$4140"},"#,##0","",""]
["H6 Activos Fijos",{"$f":"' '!$AF$4140","v":0},{"$f":"Formula_Local(Campos_Ingreso_Datos[[#This Row],[Vinculo]])","v":"=' '!$AF$4140"},"#,##0","",""]
["H6 Activos Fijos",{"$f":"' '!$AH$4140","v":0},{"$f":"Formula_Local(Campos_Ingreso_Datos[[#This Row],[Vinculo]])","v":"=' '!$AH$4140"},"#,##0","",""]
["H6 Activos Fijos",{"$f":"' '!$D$4141","v":0},{"$f":"Formula_Local(Campos_Ingreso_Datos[[#This Row],[Vinculo]])","v":"=' '!$D$4141"},"#,##0","",""]
["H6 Activos Fijos",{"$f":"' '!$F$4141","v":0},{"$f":"Formula_Local(Campos_Ingreso_Datos[[#This Row],[Vinculo]])","v":"=' '!$F$4141"},"#,##0","",""]
["H6 Activos Fijos",{"$f":"' '!$G$4141","v":0},{"$f":"Formula_Local(Campos_Ingreso_Datos[[#This Row],[Vinculo]])","v":"=' '!$G$4141"},"#,##0","",""]
["H6 Activos Fijos",{"$f":"' '!$H$4141","v":0},{"$f":"Formula_Local(Campos_Ingreso_Datos[[#This Row],[Vinculo]])","v":"=' '!$H$4141"},"#,##0","",""]
["H6 Activos Fijos",{"$f":"' '!$I$4141","v":0},{"$f":"Formula_Local(Campos_Ingreso_Datos[[#This Row],[Vinculo]])","v":"=' '!$I$4141"},"#,##0","",""]
["H6 Activos Fijos",{"$f":"' '!$J$4141","v":0},{"$f":"Formula_Local(Campos_Ingreso_Datos[[#This Row],[Vinculo]])","v":"=' '!$J$4141"},"#,##0","",""]
["H6 Activos Fijos",{"$f":"' '!$K$4141","v":0},{"$f":"Formula_Local(Campos_Ingreso_Datos[[#This Row],[Vinculo]])","v":"=' '!$K$4141"},"#,##0","",""]
["H6 Activos Fijos",{"$f":"' '!$M$4141","v":0},{"$f":"Formula_Local(Campos_Ingreso_Datos[[#This Row],[Vinculo]])","v":"=' '!$M$4141"},"#,##0","",""]
["H6 Activos Fijos",{"$f":"' '!$N$4141","v":0},{"$f":"Formula_Local(Campos_Ingreso_Datos[[#This Row],[Vinculo]])","v":"=' '!$N$4141"},"#,##0","",""]
["H6 Activos Fijos",{"$f":"' '!$Q$4141","v":0},{"$f":"Formula_Local(Campos_Ingreso_Datos[[#This Row],[Vinculo]])","v":"=' '!$Q$4141"},"#,##0","",""]
["H6 Activos Fijos",{"$f":"' '!$R$4141","v":0},{"$f":"Formula_Local(Campos_Ingreso_Datos[[#This Row],[Vinculo]])","v":"=' '!$R$4141"},"#,##0","",""]
["H6 Activos Fijos",{"$f":"' '!$S$4141","v":0},{"$f":"Formula_Local(Campos_Ingreso_Datos[[#This Row],[Vinculo]])","v":"=' '!$S$4141"},"#,##0","",""]
["H6 Activos Fijos",{"$f":"' '!$T$4141","v":0},{"$f":"Formula_Local(Campos_Ingreso_Datos[[#This Row],[Vinculo]])","v":"=' '!$T$4141"},"#,##0","",""]
["H6 Activos Fijos",{"$f":"' '!$U$4141","v":0},{"$f":"Formula_Local(Campos_Ingreso_Datos[[#This Row],[Vinculo]])","v":"=' '!$U$4141"},"#,##0","",""]
["H6 Activos Fijos",{"$f":"' '!$V$4141","v":0},{"$f":"Formula_Local(Campos_Ingreso_Datos[[#This Row],[Vinculo]])","v":"=' '!$V$4141"},"#,##0","",""]
["H6 Activos Fijos",{"$f":"' '!$W$4141","v":0},{"$f":"Formula_Local(Campos_Ingreso_Datos[[#This Row],[Vinculo]])","v":"=' '!$W$4141"},"#,##0","",""]
["H6 Activos Fijos",{"$f":"' '!$X$4141","v":0},{"$f":"Formula_Local(Campos_Ingreso_Datos[[#This Row],[Vinculo]])","v":"=' '!$X$4141"},"#,##0","",""]
["H6 Activos Fijos",{"$f":"' '!$Y$4141","v":0},{"$f":"Formula_Local(Campos_Ingreso_Datos[[#This Row],[Vinculo]])","v":"=' '!$Y$4141"},"#,##0","",""]
["H6 Activos Fijos",{"$f":"' '!$Z$4141","v":0},{"$f":"Formula_Local(Campos_Ingreso_Datos[[#This Row],[Vinculo]])","v":"=' '!$Z$4141"},"#,##0","",""]
["H6 Activos Fijos",{"$f":"' '!$AB$4141","v":0},{"$f":"Formula_Local(Campos_Ingreso_Datos[[#This Row],[Vinculo]])","v":"=' '!$AB$4141"},"#,##0","",""]
["H6 Activos Fijos",{"$f":"' '!$AD$4141","v":0},{"$f":"Formula_Local(Campos_Ingreso_Datos[[#This Row],[Vinculo]])","v":"=' '!$AD$4141"},"#,##0","",""]
["H6 Activos Fijos",{"$f":"' '!$AE$4141","v":0},{"$f":"Formula_Local(Campos_Ingreso_Datos[[#This Row],[Vinculo]])","v":"=' '!$AE$4141"},"#,##0","",""]
["H6 Activos Fijos",{"$f":"' '!$AF$4141","v":0},{"$f":"Formula_Local(Campos_Ingreso_Datos[[#This Row],[Vinculo]])","v":"=' '!$AF$4141"},"#,##0","",""]
["H6 Activos Fijos",{"$f":"' '!$AH$4141","v":0},{"$f":"Formula_Local(Campos_Ingreso_Datos[[#This Row],[Vinculo]])","v":"=' '!$AH$4141"},"#,##0","",""]
["H6 Activos Fijos",{"$f":"' '!$D$4142","v":0},{"$f":"Formula_Local(Campos_Ingreso_Datos[[#This Row],[Vinculo]])","v":"=' '!$D$4142"},"#,##0","",""]
["H6 Activos Fijos",{"$f":"' '!$F$4142","v":0},{"$f":"Formula_Local(Campos_Ingreso_Datos[[#This Row],[Vinculo]])","v":"=' '!$F$4142"},"#,##0","",""]
["H6 Activos Fijos",{"$f":"' '!$G$4142","v":0},{"$f":"Formula_Local(Campos_Ingreso_Datos[[#This Row],[Vinculo]])","v":"=' '!$G$4142"},"#,##0","",""]
["H6 Activos Fijos",{"$f":"' '!$H$4142","v":0},{"$f":"Formula_Local(Campos_Ingreso_Datos[[#This Row],[Vinculo]])","v":"=' '!$H$4142"},"#,##0","",""]
["H6 Activos Fijos",{"$f":"' '!$I$4142","v":0},{"$f":"Formula_Local(Campos_Ingreso_Datos[[#This Row],[Vinculo]])","v":"=' '!$I$4142"},"#,##0","",""]
["H6 Activos Fijos",{"$f":"' '!$J$4142","v":0},{"$f":"Formula_Local(Campos_Ingreso_Datos[[#This Row],[Vinculo]])","v":"=' '!$J$4142"},"#,##0","",""]
["H6 Activos Fijos",{"$f":"' '!$K$4142","v":0},{"$f":"Formula_Local(Campos_Ingreso_Datos[[#This Row],[Vinculo]])","v":"=' '!$K$4142"},"#,##0","",""]
["H6 Activos Fijos",{"$f":"' '!$M$4142","v":0},{"$f":"Formula_Local(Campos_Ingreso_Datos[[#This Row],[Vinculo]])","v":"=' '!$M$4142"},"#,##0","",""]
["H6 Activos Fijos",{"$f":"' '!$N$4142","v":0},{"$f":"Formula_Local(Campos_Ingreso_Datos[[#This Row],[Vinculo]])","v":"=' '!$N$4142"},"#,##0","",""]
["H6 Activos Fijos",{"$f":"' '!$Q$4142","v":0},{"$f":"Formula_Local(Campos_Ingreso_Datos[[#This Row],[Vinculo]])","v":"=' '!$Q$4142"},"#,##0","",""]
["H6 Activos Fijos",{"$f":"' '!$R$4142","v":0},{"$f":"Formula_Local(Campos_Ingreso_Datos[[#This Row],[Vinculo]])","v":"=' '!$R$4142"},"#,##0","",""]
["H6 Activos Fijos",{"$f":"' '!$S$4142","v":0},{"$f":"Formula_Local(Campos_Ingreso_Datos[[#This Row],[Vinculo]])","v":"=' '!$S$4142"},"#,##0","",""]
["H6 Activos Fijos",{"$f":"' '!$T$4142","v":0},{"$f":"Formula_Local(Campos_Ingreso_Datos[[#This Row],[Vinculo]])","v":"=' '!$T$4142"},"#,##0","",""]
["H6 Activos Fijos",{"$f":"' '!$U$4142","v":0},{"$f":"Formula_Local(Campos_Ingreso_Datos[[#This Row],[Vinculo]])","v":"=' '!$U$4142"},"#,##0","",""]
["H6 Activos Fijos",{"$f":"' '!$V$4142","v":0},{"$f":"Formula_Local(Campos_Ingreso_Datos[[#This Row],[Vinculo]])","v":"=' '!$V$4142"},"#,##0","",""]
["H6 Activos Fijos",{"$f":"' '!$W$4142","v":0},{"$f":"Formula_Local(Campos_Ingreso_Datos[[#This Row],[Vinculo]])","v":"=' '!$W$4142"},"#,##0","",""]
["H6 Activos Fijos",{"$f":"' '!$X$4142","v":0},{"$f":"Formula_Local(Campos_Ingreso_Datos[[#This Row],[Vinculo]])","v":"=' '!$X$4142"},"#,##0","",""]
["H6 Activos Fijos",{"$f":"' '!$Y$4142","v":0},{"$f":"Formula_Local(Campos_Ingreso_Datos[[#This Row],[Vinculo]])","v":"=' '!$Y$4142"},"#,##0","",""]
["H6 Activos Fijos",{"$f":"' '!$Z$4142","v":0},{"$f":"Formula_Local(Campos_Ingreso_Datos[[#This Row],[Vinculo]])","v":"=' '!$Z$4142"},"#,##0","",""]
["H6 Activos Fijos",{"$f":"' '!$AB$4142","v":0},{"$f":"Formula_Local(Campos_Ingreso_Datos[[#This Row],[Vinculo]])","v":"=' '!$AB$4142"},"#,##0","",""]
["H6 Activos Fijos",{"$f":"' '!$AD$4142","v":0},{"$f":"Formula_Local(Campos_Ingreso_Datos[[#This Row],[Vinculo]])","v":"=' '!$AD$4142"},"#,##0","",""]
["H6 Activos Fijos",{"$f":"' '!$AE$4142","v":0},{"$f":"Formula_Local(Campos_Ingreso_Datos[[#This Row],[Vinculo]])","v":"=' '!$AE$4142"},"#,##0","",""]
["H6 Activos Fijos",{"$f":"' '!$AF$4142","v":0},{"$f":"Formula_Local(Campos_Ingreso_Datos[[#This Row],[Vinculo]])","v":"=' '!$AF$4142"},"#,##0","",""]
["H6 Activos Fijos",{"$f":"' '!$AH$4142","v":0},{"$f":"Formula_Local(Campos_Ingreso_Datos[[#This Row],[Vinculo]])","v":"=' '!$AH$4142"},"#,##0","",""]
["H6 Activos Fijos",{"$f":"' '!$D$4143","v":0},{"$f":"Formula_Local(Campos_Ingreso_Datos[[#This Row],[Vinculo]])","v":"=' '!$D$4143"},"#,##0","",""]
["H6 Activos Fijos",{"$f":"' '!$F$4143","v":0},{"$f":"Formula_Local(Campos_Ingreso_Datos[[#This Row],[Vinculo]])","v":"=' '!$F$4143"},"#,##0","",""]
["H6 Activos Fijos",{"$f":"' '!$G$4143","v":0},{"$f":"Formula_Local(Campos_Ingreso_Datos[[#This Row],[Vinculo]])","v":"=' '!$G$4143"},"#,##0","",""]
["H6 Activos Fijos",{"$f":"' '!$H$4143","v":0},{"$f":"Formula_Local(Campos_Ingreso_Datos[[#This Row],[Vinculo]])","v":"=' '!$H$4143"},"#,##0","",""]
["H6 Activos Fijos",{"$f":"' '!$I$4143","v":0},{"$f":"Formula_Local(Campos_Ingreso_Datos[[#This Row],[Vinculo]])","v":"=' '!$I$4143"},"#,##0","",""]
["H6 Activos Fijos",{"$f":"' '!$J$4143","v":0},{"$f":"Formula_Local(Campos_Ingreso_Datos[[#This Row],[Vinculo]])","v":"=' '!$J$4143"},"#,##0","",""]
["H6 Activos Fijos",{"$f":"' '!$K$4143","v":0},{"$f":"Formula_Local(Campos_Ingreso_Datos[[#This Row],[Vinculo]])","v":"=' '!$K$4143"},"#,##0","",""]
["H6 Activos Fijos",{"$f":"' '!$M$4143","v":0},{"$f":"Formula_Local(Campos_Ingreso_Datos[[#This Row],[Vinculo]])","v":"=' '!$M$4143"},"#,##0","",""]
["H6 Activos Fijos",{"$f":"' '!$N$4143","v":0},{"$f":"Formula_Local(Campos_Ingreso_Datos[[#This Row],[Vinculo]])","v":"=' '!$N$4143"},"#,##0","",""]
["H6 Activos Fijos",{"$f":"' '!$Q$4143","v":0},{"$f":"Formula_Local(Campos_Ingreso_Datos[[#This Row],[Vinculo]])","v":"=' '!$Q$4143"},"#,##0","",""]
["H6 Activos Fijos",{"$f":"' '!$R$4143","v":0},{"$f":"Formula_Local(Campos_Ingreso_Datos[[#This Row],[Vinculo]])","v":"=' '!$R$4143"},"#,##0","",""]
["H6 Activos Fijos",{"$f":"' '!$S$4143","v":0},{"$f":"Formula_Local(Campos_Ingreso_Datos[[#This Row],[Vinculo]])","v":"=' '!$S$4143"},"#,##0","",""]
["H6 Activos Fijos",{"$f":"' '!$T$4143","v":0},{"$f":"Formula_Local(Campos_Ingreso_Datos[[#This Row],[Vinculo]])","v":"=' '!$T$4143"},"#,##0","",""]
["H6 Activos Fijos",{"$f":"' '!$U$4143","v":0},{"$f":"Formula_Local(Campos_Ingreso_Datos[[#This Row],[Vinculo]])","v":"=' '!$U$4143"},"#,##0","",""]
["H6 Activos Fijos",{"$f":"' '!$V$4143","v":0},{"$f":"Formula_Local(Campos_Ingreso_Datos[[#This Row],[Vinculo]])","v":"=' '!$V$4143"},"#,##0","",""]
["H6 Activos Fijos",{"$f":"' '!$W$4143","v":0},{"$f":"Formula_Local(Campos_Ingreso_Datos[[#This Row],[Vinculo]])","v":"=' '!$W$4143"},"#,##0","",""]
["H6 Activos Fijos",{"$f":"' '!$X$4143","v":0},{"$f":"Formula_Local(Campos_Ingreso_Datos[[#This Row],[Vinculo]])","v":"=' '!$X$4143"},"#,##0","",""]
["H6 Activos Fijos",{"$f":"' '!$Y$4143","v":0},{"$f":"Formula_Local(Campos_Ingreso_Datos[[#This Row],[Vinculo]])","v":"=' '!$Y$4143"},"#,##0","",""]
["H6 Activos Fijos",{"$f":"' '!$Z$4143","v":0},{"$f":"Formula_Local(Campos_Ingreso_Datos[[#This Row],[Vinculo]])","v":"=' '!$Z$4143"},"#,##0","",""]
["H6 Activos Fijos",{"$f":"' '!$AB$4143","v":0},{"$f":"Formula_Local(Campos_Ingreso_Datos[[#This Row],[Vinculo]])","v":"=' '!$AB$4143"},"#,##0","",""]
["H6 Activos Fijos",{"$f":"' '!$AD$4143","v":0},{"$f":"Formula_Local(Campos_Ingreso_Datos[[#This Row],[Vinculo]])","v":"=' '!$AD$4143"},"#,##0","",""]
["H6 Activos Fijos",{"$f":"' '!$AE$4143","v":0},{"$f":"Formula_Local(Campos_Ingreso_Datos[[#This Row],[Vinculo]])","v":"=' '!$AE$4143"},"#,##0","",""]
["H6 Activos Fijos",{"$f":"' '!$AF$4143","v":0},{"$f":"Formula_Local(Campos_Ingreso_Datos[[#This Row],[Vinculo]])","v":"=' '!$AF$4143"},"#,##0","",""]
["H6 Activos Fijos",{"$f":"' '!$AH$4143","v":0},{"$f":"Formula_Local(Campos_Ingreso_Datos[[#This Row],[Vinculo]])","v":"=' '!$AH$4143"},"#,##0","",""]
["H6 Activos Fijos",{"$f":"' '!$D$4144","v":0},{"$f":"Formula_Local(Campos_Ingreso_Datos[[#This Row],[Vinculo]])","v":"=' '!$D$4144"},"#,##0","",""]
["H6 Activos Fijos",{"$f":"' '!$F$4144","v":0},{"$f":"Formula_Local(Campos_Ingreso_Datos[[#This Row],[Vinculo]])","v":"=' '!$F$4144"},"#,##0","",""]
["H6 Activos Fijos",{"$f":"' '!$G$4144","v":0},{"$f":"Formula_Local(Campos_Ingreso_Datos[[#This Row],[Vinculo]])","v":"=' '!$G$4144"},"#,##0","",""]
["H6 Activos Fijos",{"$f":"' '!$H$4144","v":0},{"$f":"Formula_Local(Campos_Ingreso_Datos[[#This Row],[Vinculo]])","v":"=' '!$H$4144"},"#,##0","",""]
["H6 Activos Fijos",{"$f":"' '!$I$4144","v":0},{"$f":"Formula_Local(Campos_Ingreso_Datos[[#This Row],[Vinculo]])","v":"=' '!$I$4144"},"#,##0","",""]
["H6 Activos Fijos",{"$f":"' '!$J$4144","v":0},{"$f":"Formula_Local(Campos_Ingreso_Datos[[#This Row],[Vinculo]])","v":"=' '!$J$4144"},"#,##0","",""]
["H6 Activos Fijos",{"$f":"' '!$K$4144","v":0},{"$f":"Formula_Local(Campos_Ingreso_Datos[[#This Row],[Vinculo]])","v":"=' '!$K$4144"},"#,##0","",""]
["H6 Activos Fijos",{"$f":"' '!$M$4144","v":0},{"$f":"Formula_Local(Campos_Ingreso_Datos[[#This Row],[Vinculo]])","v":"=' '!$M$4144"},"#,##0","",""]
["H6 Activos Fijos",{"$f":"' '!$N$4144","v":0},{"$f":"Formula_Local(Campos_Ingreso_Datos[[#This Row],[Vinculo]])","v":"=' '!$N$4144"},"#,##0","",""]
["H6 Activos Fijos",{"$f":"' '!$Q$4144","v":0},{"$f":"Formula_Local(Campos_Ingreso_Datos[[#This Row],[Vinculo]])","v":"=' '!$Q$4144"},"#,##0","",""]
["H6 Activos Fijos",{"$f":"' '!$R$4144","v":0},{"$f":"Formula_Local(Campos_Ingreso_Datos[[#This Row],[Vinculo]])","v":"=' '!$R$4144"},"#,##0","",""]
["H6 Activos Fijos",{"$f":"' '!$S$4144","v":0},{"$f":"Formula_Local(Campos_Ingreso_Datos[[#This Row],[Vinculo]])","v":"=' '!$S$4144"},"#,##0","",""]
["H6 Activos Fijos",{"$f":"' '!$T$4144","v":0},{"$f":"Formula_Local(Campos_Ingreso_Datos[[#This Row],[Vinculo]])","v":"=' '!$T$4144"},"#,##0","",""]
["H6 Activos Fijos",{"$f":"' '!$U$4144","v":0},{"$f":"Formula_Local(Campos_Ingreso_Datos[[#This Row],[Vinculo]])","v":"=' '!$U$4144"},"#,##0","",""]
["H6 Activos Fijos",{"$f":"' '!$V$4144","v":0},{"$f":"Formula_Local(Campos_Ingreso_Datos[[#This Row],[Vinculo]])","v":"=' '!$V$4144"},"#,##0","",""]
["H6 Activos Fijos",{"$f":"' '!$W$4144","v":0},{"$f":"Formula_Local(Campos_Ingreso_Datos[[#This Row],[Vinculo]])","v":"=' '!$W$4144"},"#,##0","",""]
["H6 Activos Fijos",{"$f":"' '!$X$4144","v":0},{"$f":"Formula_Local(Campos_Ingreso_Datos[[#This Row],[Vinculo]])","v":"=' '!$X$4144"},"#,##0","",""]
["H6 Activos Fijos",{"$f":"' '!$Y$4144","v":0},{"$f":"Formula_Local(Campos_Ingreso_Datos[[#This Row],[Vinculo]])","v":"=' '!$Y$4144"},"#,##0","",""]
["H6 Activos Fijos",{"$f":"' '!$Z$4144","v":0},{"$f":"Formula_Local(Campos_Ingreso_Datos[[#This Row],[Vinculo]])","v":"=' '!$Z$4144"},"#,##0","",""]
["H6 Activos Fijos",{"$f":"' '!$AB$4144","v":0},{"$f":"Formula_Local(Campos_Ingreso_Datos[[#This Row],[Vinculo]])","v":"=' '!$AB$4144"},"#,##0","",""]
["H6 Activos Fijos",{"$f":"' '!$AD$4144","v":0},{"$f":"Formula_Local(Campos_Ingreso_Datos[[#This Row],[Vinculo]])","v":"=' '!$AD$4144"},"#,##0","",""]
["H6 Activos Fijos",{"$f":"' '!$AE$4144","v":0},{"$f":"Formula_Local(Campos_Ingreso_Datos[[#This Row],[Vinculo]])","v":"=' '!$AE$4144"},"#,##0","",""]
["H6 Activos Fijos",{"$f":"' '!$AF$4144","v":0},{"$f":"Formula_Local(Campos_Ingreso_Datos[[#This Row],[Vinculo]])","v":"=' '!$AF$4144"},"#,##0","",""]
["H6 Activos Fijos",{"$f":"' '!$AH$4144","v":0},{"$f":"Formula_Local(Campos_Ingreso_Datos[[#This Row],[Vinculo]])","v":"=' '!$AH$4144"},"#,##0","",""]
["H6 Activos Fijos",{"$f":"' '!$D$4147","v":0},{"$f":"Formula_Local(Campos_Ingreso_Datos[[#This Row],[Vinculo]])","v":"=' '!$D$4147"},"#,##0","",""]
["H6 Activos Fijos",{"$f":"' '!$F$4147","v":0},{"$f":"Formula_Local(Campos_Ingreso_Datos[[#This Row],[Vinculo]])","v":"=' '!$F$4147"},"#,##0","",""]
["H6 Activos Fijos",{"$f":"' '!$G$4147","v":0},{"$f":"Formula_Local(Campos_Ingreso_Datos[[#This Row],[Vinculo]])","v":"=' '!$G$4147"},"#,##0","",""]
["H6 Activos Fijos",{"$f":"' '!$H$4147","v":0},{"$f":"Formula_Local(Campos_Ingreso_Datos[[#This Row],[Vinculo]])","v":"=' '!$H$4147"},"#,##0","",""]
["H6 Activos Fijos",{"$f":"' '!$I$4147","v":0},{"$f":"Formula_Local(Campos_Ingreso_Datos[[#This Row],[Vinculo]])","v":"=' '!$I$4147"},"#,##0","",""]
["H6 Activos Fijos",{"$f":"' '!$J$4147","v":0},{"$f":"Formula_Local(Campos_Ingreso_Datos[[#This Row],[Vinculo]])","v":"=' '!$J$4147"},"#,##0","",""]
["H6 Activos Fijos",{"$f":"' '!$K$4147","v":0},{"$f":"Formula_Local(Campos_Ingreso_Datos[[#This Row],[Vinculo]])","v":"=' '!$K$4147"},"#,##0","",""]
["H6 Activos Fijos",{"$f":"' '!$M$4147","v":0},{"$f":"Formula_Local(Campos_Ingreso_Datos[[#This Row],[Vinculo]])","v":"=' '!$M$4147"},"#,##0","",""]
["H6 Activos Fijos",{"$f":"' '!$N$4147","v":0},{"$f":"Formula_Local(Campos_Ingreso_Datos[[#This Row],[Vinculo]])","v":"=' '!$N$4147"},"#,##0","",""]
["H6 Activos Fijos",{"$f":"' '!$Q$4147","v":0},{"$f":"Formula_Local(Campos_Ingreso_Datos[[#This Row],[Vinculo]])","v":"=' '!$Q$4147"},"#,##0","",""]
["H6 Activos Fijos",{"$f":"' '!$R$4147","v":0},{"$f":"Formula_Local(Campos_Ingreso_Datos[[#This Row],[Vinculo]])","v":"=' '!$R$4147"},"#,##0","",""]
["H6 Activos Fijos",{"$f":"' '!$S$4147","v":0},{"$f":"Formula_Local(Campos_Ingreso_Datos[[#This Row],[Vinculo]])","v":"=' '!$S$4147"},"#,##0","",""]
["H6 Activos Fijos",{"$f":"' '!$T$4147","v":0},{"$f":"Formula_Local(Campos_Ingreso_Datos[[#This Row],[Vinculo]])","v":"=' '!$T$4147"},"#,##0","",""]
["H6 Activos Fijos",{"$f":"' '!$U$4147","v":0},{"$f":"Formula_Local(Campos_Ingreso_Datos[[#This Row],[Vinculo]])","v":"=' '!$U$4147"},"#,##0","",""]
["H6 Activos Fijos",{"$f":"' '!$V$4147","v":0},{"$f":"Formula_Local(Campos_Ingreso_Datos[[#This Row],[Vinculo]])","v":"=' '!$V$4147"},"#,##0","",""]
["H6 Activos Fijos",{"$f":"' '!$W$4147","v":0},{"$f":"Formula_Local(Campos_Ingreso_Datos[[#This Row],[Vinculo]])","v":"=' '!$W$4147"},"#,##0","",""]
["H6 Activos Fijos",{"$f":"' '!$X$4147","v":0},{"$f":"Formula_Local(Campos_Ingreso_Datos[[#This Row],[Vinculo]])","v":"=' '!$X$4147"},"#,##0","",""]
["H6 Activos Fijos",{"$f":"' '!$Y$4147","v":0},{"$f":"Formula_Local(Campos_Ingreso_Datos[[#This Row],[Vinculo]])","v":"=' '!$Y$4147"},"#,##0","",""]
["H6 Activos Fijos",{"$f":"' '!$Z$4147","v":0},{"$f":"Formula_Local(Campos_Ingreso_Datos[[#This Row],[Vinculo]])","v":"=' '!$Z$4147"},"#,##0","",""]
["H6 Activos Fijos",{"$f":"' '!$AB$4147","v":0},{"$f":"Formula_Local(Campos_Ingreso_Datos[[#This Row],[Vinculo]])","v":"=' '!$AB$4147"},"#,##0","",""]
["H6 Activos Fijos",{"$f":"' '!$AD$4147","v":0},{"$f":"Formula_Local(Campos_Ingreso_Datos[[#This Row],[Vinculo]])","v":"=' '!$AD$4147"},"#,##0","",""]
["H6 Activos Fijos",{"$f":"' '!$AE$4147","v":0},{"$f":"Formula_Local(Campos_Ingreso_Datos[[#This Row],[Vinculo]])","v":"=' '!$AE$4147"},"#,##0","",""]
["H6 Activos Fijos",{"$f":"' '!$AF$4147","v":0},{"$f":"Formula_Local(Campos_Ingreso_Datos[[#This Row],[Vinculo]])","v":"=' '!$AF$4147"},"#,##0","",""]
["H6 Activos Fijos",{"$f":"' '!$AH$4147","v":0},{"$f":"Formula_Local(Campos_Ingreso_Datos[[#This Row],[Vinculo]])","v":"=' '!$AH$4147"},"#,##0","",""]
["H6 Activos Fijos",{"$f":"' '!$D$4148","v":0},{"$f":"Formula_Local(Campos_Ingreso_Datos[[#This Row],[Vinculo]])","v":"=' '!$D$4148"},"#,##0","",""]
["H6 Activos Fijos",{"$f":"' '!$F$4148","v":0},{"$f":"Formula_Local(Campos_Ingreso_Datos[[#This Row],[Vinculo]])","v":"=' '!$F$4148"},"#,##0","",""]
["H6 Activos Fijos",{"$f":"' '!$G$4148","v":0},{"$f":"Formula_Local(Campos_Ingreso_Datos[[#This Row],[Vinculo]])","v":"=' '!$G$4148"},"#,##0","",""]
["H6 Activos Fijos",{"$f":"' '!$H$4148","v":0},{"$f":"Formula_Local(Campos_Ingreso_Datos[[#This Row],[Vinculo]])","v":"=' '!$H$4148"},"#,##0","",""]
["H6 Activos Fijos",{"$f":"' '!$I$4148","v":0},{"$f":"Formula_Local(Campos_Ingreso_Datos[[#This Row],[Vinculo]])","v":"=' '!$I$4148"},"#,##0","",""]
["H6 Activos Fijos",{"$f":"' '!$J$4148","v":0},{"$f":"Formula_Local(Campos_Ingreso_Datos[[#This Row],[Vinculo]])","v":"=' '!$J$4148"},"#,##0","",""]
["H6 Activos Fijos",{"$f":"' '!$K$4148","v":0},{"$f":"Formula_Local(Campos_Ingreso_Datos[[#This Row],[Vinculo]])","v":"=' '!$K$4148"},"#,##0","",""]
["H6 Activos Fijos",{"$f":"' '!$M$4148","v":0},{"$f":"Formula_Local(Campos_Ingreso_Datos[[#This Row],[Vinculo]])","v":"=' '!$M$4148"},"#,##0","",""]
["H6 Activos Fijos",{"$f":"' '!$N$4148","v":0},{"$f":"Formula_Local(Campos_Ingreso_Datos[[#This Row],[Vinculo]])","v":"=' '!$N$4148"},"#,##0","",""]
["H6 Activos Fijos",{"$f":"' '!$Q$4148","v":0},{"$f":"Formula_Local(Campos_Ingreso_Datos[[#This Row],[Vinculo]])","v":"=' '!$Q$4148"},"#,##0","",""]
["H6 Activos Fijos",{"$f":"' '!$R$4148","v":0},{"$f":"Formula_Local(Campos_Ingreso_Datos[[#This Row],[Vinculo]])","v":"=' '!$R$4148"},"#,##0","",""]
["H6 Activos Fijos",{"$f":"' '!$S$4148","v":0},{"$f":"Formula_Local(Campos_Ingreso_Datos[[#This Row],[Vinculo]])","v":"=' '!$S$4148"},"#,##0","",""]
["H6 Activos Fijos",{"$f":"' '!$T$4148","v":0},{"$f":"Formula_Local(Campos_Ingreso_Datos[[#This Row],[Vinculo]])","v":"=' '!$T$4148"},"#,##0","",""]
["H6 Activos Fijos",{"$f":"' '!$U$4148","v":0},{"$f":"Formula_Local(Campos_Ingreso_Datos[[#This Row],[Vinculo]])","v":"=' '!$U$4148"},"#,##0","",""]
["H6 Activos Fijos",{"$f":"' '!$V$4148","v":0},{"$f":"Formula_Local(Campos_Ingreso_Datos[[#This Row],[Vinculo]])","v":"=' '!$V$4148"},"#,##0","",""]
["H6 Activos Fijos",{"$f":"' '!$W$4148","v":0},{"$f":"Formula_Local(Campos_Ingreso_Datos[[#This Row],[Vinculo]])","v":"=' '!$W$4148"},"#,##0","",""]
["H6 Activos Fijos",{"$f":"' '!$X$4148","v":0},{"$f":"Formula_Local(Campos_Ingreso_Datos[[#This Row],[Vinculo]])","v":"=' '!$X$4148"},"#,##0","",""]
["H6 Activos Fijos",{"$f":"' '!$Y$4148","v":0},{"$f":"Formula_Local(Campos_Ingreso_Datos[[#This Row],[Vinculo]])","v":"=' '!$Y$4148"},"#,##0","",""]
["H6 Activos Fijos",{"$f":"' '!$Z$4148","v":0},{"$f":"Formula_Local(Campos_Ingreso_Datos[[#This Row],[Vinculo]])","v":"=' '!$Z$4148"},"#,##0","",""]
["H6 Activos Fijos",{"$f":"' '!$AB$4148","v":0},{"$f":"Formula_Local(Campos_Ingreso_Datos[[#This Row],[Vinculo]])","v":"=' '!$AB$4148"},"#,##0","",""]
["H6 Activos Fijos",{"$f":"' '!$AD$4148","v":0},{"$f":"Formula_Local(Campos_Ingreso_Datos[[#This Row],[Vinculo]])","v":"=' '!$AD$4148"},"#,##0","",""]
["H6 Activos Fijos",{"$f":"' '!$AE$4148","v":0},{"$f":"Formula_Local(Campos_Ingreso_Datos[[#This Row],[Vinculo]])","v":"=' '!$AE$4148"},"#,##0","",""]
["H6 Activos Fijos",{"$f":"' '!$AF$4148","v":0},{"$f":"Formula_Local(Campos_Ingreso_Datos[[#This Row],[Vinculo]])","v":"=' '!$AF$4148"},"#,##0","",""]
["H6 Activos Fijos",{"$f":"' '!$AH$4148","v":0},{"$f":"Formula_Local(Campos_Ingreso_Datos[[#This Row],[Vinculo]])","v":"=' '!$AH$4148"},"#,##0","",""]
["H6 Activos Fijos",{"$f":"' '!$D$4150","v":0},{"$f":"Formula_Local(Campos_Ingreso_Datos[[#This Row],[Vinculo]])","v":"=' '!$D$4150"},"#,##0","",""]
["H6 Activos Fijos",{"$f":"' '!$F$4150","v":0},{"$f":"Formula_Local(Campos_Ingreso_Datos[[#This Row],[Vinculo]])","v":"=' '!$F$4150"},"#,##0","",""]
["H6 Activos Fijos",{"$f":"' '!$G$4150","v":0},{"$f":"Formula_Local(Campos_Ingreso_Datos[[#This Row],[Vinculo]])","v":"=' '!$G$4150"},"#,##0","",""]
["H6 Activos Fijos",{"$f":"' '!$H$4150","v":0},{"$f":"Formula_Local(Campos_Ingreso_Datos[[#This Row],[Vinculo]])","v":"=' '!$H$4150"},"#,##0","",""]
["H6 Activos Fijos",{"$f":"' '!$I$4150","v":0},{"$f":"Formula_Local(Campos_Ingreso_Datos[[#This Row],[Vinculo]])","v":"=' '!$I$4150"},"#,##0","",""]
["H6 Activos Fijos",{"$f":"' '!$J$4150","v":0},{"$f":"Formula_Local(Campos_Ingreso_Datos[[#This Row],[Vinculo]])","v":"=' '!$J$4150"},"#,##0","",""]
["H6 Activos Fijos",{"$f":"' '!$K$4150","v":0},{"$f":"Formula_Local(Campos_Ingreso_Datos[[#This Row],[Vinculo]])","v":"=' '!$K$4150"},"#,##0","",""]
["H6 Activos Fijos",{"$f":"' '!$M$4150","v":0},{"$f":"Formula_Local(Campos_Ingreso_Datos[[#This Row],[Vinculo]])","v":"=' '!$M$4150"},"#,##0","",""]
["H6 Activos Fijos",{"$f":"' '!$N$4150","v":0},{"$f":"Formula_Local(Campos_Ingreso_Datos[[#This Row],[Vinculo]])","v":"=' '!$N$4150"},"#,##0","",""]
["H6 Activos Fijos",{"$f":"' '!$Q$4150","v":0},{"$f":"Formula_Local(Campos_Ingreso_Datos[[#This Row],[Vinculo]])","v":"=' '!$Q$4150"},"#,##0","",""]
["H6 Activos Fijos",{"$f":"' '!$R$4150","v":0},{"$f":"Formula_Local(Campos_Ingreso_Datos[[#This Row],[Vinculo]])","v":"=' '!$R$4150"},"#,##0","",""]
["H6 Activos Fijos",{"$f":"' '!$S$4150","v":0},{"$f":"Formula_Local(Campos_Ingreso_Datos[[#This Row],[Vinculo]])","v":"=' '!$S$4150"},"#,##0","",""]
["H6 Activos Fijos",{"$f":"' '!$T$4150","v":0},{"$f":"Formula_Local(Campos_Ingreso_Datos[[#This Row],[Vinculo]])","v":"=' '!$T$4150"},"#,##0","",""]
["H6 Activos Fijos",{"$f":"' '!$U$4150","v":0},{"$f":"Formula_Local(Campos_Ingreso_Datos[[#This Row],[Vinculo]])","v":"=' '!$U$4150"},"#,##0","",""]
["H6 Activos Fijos",{"$f":"' '!$V$4150","v":0},{"$f":"Formula_Local(Campos_Ingreso_Datos[[#This Row],[Vinculo]])","v":"=' '!$V$4150"},"#,##0","",""]
["H6 Activos Fijos",{"$f":"' '!$W$4150","v":0},{"$f":"Formula_Local(Campos_Ingreso_Datos[[#This Row],[Vinculo]])","v":"=' '!$W$4150"},"#,##0","",""]
["H6 Activos Fijos",{"$f":"' '!$X$4150","v":0},{"$f":"Formula_Local(Campos_Ingreso_Datos[[#This Row],[Vinculo]])","v":"=' '!$X$4150"},"#,##0","",""]
["H6 Activos Fijos",{"$f":"' '!$Y$4150","v":0},{"$f":"Formula_Local(Campos_Ingreso_Datos[[#This Row],[Vinculo]])","v":"=' '!$Y$4150"},"#,##0","",""]
["H6 Activos Fijos",{"$f":"' '!$Z$4150","v":0},{"$f":"Formula_Local(Campos_Ingreso_Datos[[#This Row],[Vinculo]])","v":"=' '!$Z$4150"},"#,##0","",""]
["H6 Activos Fijos",{"$f":"' '!$AB$4150","v":0},{"$f":"Formula_Local(Campos_Ingreso_Datos[[#This Row],[Vinculo]])","v":"=' '!$AB$4150"},"#,##0","",""]
["H6 Activos Fijos",{"$f":"' '!$AD$4150","v":0},{"$f":"Formula_Local(Campos_Ingreso_Datos[[#This Row],[Vinculo]])","v":"=' '!$AD$4150"},"#,##0","",""]
["H6 Activos Fijos",{"$f":"' '!$AE$4150","v":0},{"$f":"Formula_Local(Campos_Ingreso_Datos[[#This Row],[Vinculo]])","v":"=' '!$AE$4150"},"#,##0","",""]
["H6 Activos Fijos",{"$f":"' '!$AF$4150","v":0},{"$f":"Formula_Local(Campos_Ingreso_Datos[[#This Row],[Vinculo]])","v":"=' '!$AF$4150"},"#,##0","",""]
["H6 Activos Fijos",{"$f":"' '!$AH$4150","v":0},{"$f":"Formula_Local(Campos_Ingreso_Datos[[#This Row],[Vinculo]])","v":"=' '!$AH$4150"},"#,##0","",""]
["H6 Activos Fijos",{"$f":"' '!$D$4153","v":0},{"$f":"Formula_Local(Campos_Ingreso_Datos[[#This Row],[Vinculo]])","v":"=' '!$D$4153"},"#,##0","",""]
["H6 Activos Fijos",{"$f":"' '!$F$4153","v":0},{"$f":"Formula_Local(Campos_Ingreso_Datos[[#This Row],[Vinculo]])","v":"=' '!$F$4153"},"#,##0","",""]
["H6 Activos Fijos",{"$f":"' '!$G$4153","v":0},{"$f":"Formula_Local(Campos_Ingreso_Datos[[#This Row],[Vinculo]])","v":"=' '!$G$4153"},"#,##0","",""]
["H6 Activos Fijos",{"$f":"' '!$H$4153","v":0},{"$f":"Formula_Local(Campos_Ingreso_Datos[[#This Row],[Vinculo]])","v":"=' '!$H$4153"},"#,##0","",""]
["H6 Activos Fijos",{"$f":"' '!$I$4153","v":0},{"$f":"Formula_Local(Campos_Ingreso_Datos[[#This Row],[Vinculo]])","v":"=' '!$I$4153"},"#,##0","",""]
["H6 Activos Fijos",{"$f":"' '!$J$4153","v":0},{"$f":"Formula_Local(Campos_Ingreso_Datos[[#This Row],[Vinculo]])","v":"=' '!$J$4153"},"#,##0","",""]
["H6 Activos Fijos",{"$f":"' '!$K$4153","v":0},{"$f":"Formula_Local(Campos_Ingreso_Datos[[#This Row],[Vinculo]])","v":"=' '!$K$4153"},"#,##0","",""]
["H6 Activos Fijos",{"$f":"' '!$M$4153","v":0},{"$f":"Formula_Local(Campos_Ingreso_Datos[[#This Row],[Vinculo]])","v":"=' '!$M$4153"},"#,##0","",""]
["H6 Activos Fijos",{"$f":"' '!$N$4153","v":0},{"$f":"Formula_Local(Campos_Ingreso_Datos[[#This Row],[Vinculo]])","v":"=' '!$N$4153"},"#,##0","",""]
["H6 Activos Fijos",{"$f":"' '!$Q$4153","v":0},{"$f":"Formula_Local(Campos_Ingreso_Datos[[#This Row],[Vinculo]])","v":"=' '!$Q$4153"},"#,##0","",""]
["H6 Activos Fijos",{"$f":"' '!$R$4153","v":0},{"$f":"Formula_Local(Campos_Ingreso_Datos[[#This Row],[Vinculo]])","v":"=' '!$R$4153"},"#,##0","",""]
["H6 Activos Fijos",{"$f":"' '!$S$4153","v":0},{"$f":"Formula_Local(Campos_Ingreso_Datos[[#This Row],[Vinculo]])","v":"=' '!$S$4153"},"#,##0","",""]
["H6 Activos Fijos",{"$f":"' '!$T$4153","v":0},{"$f":"Formula_Local(Campos_Ingreso_Datos[[#This Row],[Vinculo]])","v":"=' '!$T$4153"},"#,##0","",""]
["H6 Activos Fijos",{"$f":"' '!$U$4153","v":0},{"$f":"Formula_Local(Campos_Ingreso_Datos[[#This Row],[Vinculo]])","v":"=' '!$U$4153"},"#,##0","",""]
["H6 Activos Fijos",{"$f":"' '!$V$4153","v":0},{"$f":"Formula_Local(Campos_Ingreso_Datos[[#This Row],[Vinculo]])","v":"=' '!$V$4153"},"#,##0","",""]
["H6 Activos Fijos",{"$f":"' '!$W$4153","v":0},{"$f":"Formula_Local(Campos_Ingreso_Datos[[#This Row],[Vinculo]])","v":"=' '!$W$4153"},"#,##0","",""]
["H6 Activos Fijos",{"$f":"' '!$X$4153","v":0},{"$f":"Formula_Local(Campos_Ingreso_Datos[[#This Row],[Vinculo]])","v":"=' '!$X$4153"},"#,##0","",""]
["H6 Activos Fijos",{"$f":"' '!$Y$4153","v":0},{"$f":"Formula_Local(Campos_Ingreso_Datos[[#This Row],[Vinculo]])","v":"=' '!$Y$4153"},"#,##0","",""]
["H6 Activos Fijos",{"$f":"' '!$Z$4153","v":0},{"$f":"Formula_Local(Campos_Ingreso_Datos[[#This Row],[Vinculo]])","v":"=' '!$Z$4153"},"#,##0","",""]
["H6 Activos Fijos",{"$f":"' '!$AB$4153","v":0},{"$f":"Formula_Local(Campos_Ingreso_Datos[[#This Row],[Vinculo]])","v":"=' '!$AB$4153"},"#,##0","",""]
["H6 Activos Fijos",{"$f":"' '!$AD$4153","v":0},{"$f":"Formula_Local(Campos_Ingreso_Datos[[#This Row],[Vinculo]])","v":"=' '!$AD$4153"},"#,##0","",""]
["H6 Activos Fijos",{"$f":"' '!$AE$4153","v":0},{"$f":"Formula_Local(Campos_Ingreso_Datos[[#This Row],[Vinculo]])","v":"=' '!$AE$4153"},"#,##0","",""]
["H6 Activos Fijos",{"$f":"' '!$AF$4153","v":0},{"$f":"Formula_Local(Campos_Ingreso_Datos[[#This Row],[Vinculo]])","v":"=' '!$AF$4153"},"#,##0","",""]
["H6 Activos Fijos",{"$f":"' '!$AH$4153","v":0},{"$f":"Formula_Local(Campos_Ingreso_Datos[[#This Row],[Vinculo]])","v":"=' '!$AH$4153"},"#,##0","",""]
["H6 Activos Fijos",{"$f":"' '!$D$4154","v":0},{"$f":"Formula_Local(Campos_Ingreso_Datos[[#This Row],[Vinculo]])","v":"=' '!$D$4154"},"#,##0","",""]
["H6 Activos Fijos",{"$f":"' '!$F$4154","v":0},{"$f":"Formula_Local(Campos_Ingreso_Datos[[#This Row],[Vinculo]])","v":"=' '!$F$4154"},"#,##0","",""]
["H6 Activos Fijos",{"$f":"' '!$G$4154","v":0},{"$f":"Formula_Local(Campos_Ingreso_Datos[[#This Row],[Vinculo]])","v":"=' '!$G$4154"},"#,##0","",""]
["H6 Activos Fijos",{"$f":"' '!$H$4154","v":0},{"$f":"Formula_Local(Campos_Ingreso_Datos[[#This Row],[Vinculo]])","v":"=' '!$H$4154"},"#,##0","",""]
["H6 Activos Fijos",{"$f":"' '!$I$4154","v":0},{"$f":"Formula_Local(Campos_Ingreso_Datos[[#This Row],[Vinculo]])","v":"=' '!$I$4154"},"#,##0","",""]
["H6 Activos Fijos",{"$f":"' '!$J$4154","v":0},{"$f":"Formula_Local(Campos_Ingreso_Datos[[#This Row],[Vinculo]])","v":"=' '!$J$4154"},"#,##0","",""]
["H6 Activos Fijos",{"$f":"' '!$K$4154","v":0},{"$f":"Formula_Local(Campos_Ingreso_Datos[[#This Row],[Vinculo]])","v":"=' '!$K$4154"},"#,##0","",""]
["H6 Activos Fijos",{"$f":"' '!$M$4154","v":0},{"$f":"Formula_Local(Campos_Ingreso_Datos[[#This Row],[Vinculo]])","v":"=' '!$M$4154"},"#,##0","",""]
["H6 Activos Fijos",{"$f":"' '!$N$4154","v":0},{"$f":"Formula_Local(Campos_Ingreso_Datos[[#This Row],[Vinculo]])","v":"=' '!$N$4154"},"#,##0","",""]
["H6 Activos Fijos",{"$f":"' '!$Q$4154","v":0},{"$f":"Formula_Local(Campos_Ingreso_Datos[[#This Row],[Vinculo]])","v":"=' '!$Q$4154"},"#,##0","",""]
["H6 Activos Fijos",{"$f":"' '!$R$4154","v":0},{"$f":"Formula_Local(Campos_Ingreso_Datos[[#This Row],[Vinculo]])","v":"=' '!$R$4154"},"#,##0","",""]
["H6 Activos Fijos",{"$f":"' '!$S$4154","v":0},{"$f":"Formula_Local(Campos_Ingreso_Datos[[#This Row],[Vinculo]])","v":"=' '!$S$4154"},"#,##0","",""]
["H6 Activos Fijos",{"$f":"' '!$T$4154","v":0},{"$f":"Formula_Local(Campos_Ingreso_Datos[[#This Row],[Vinculo]])","v":"=' '!$T$4154"},"#,##0","",""]
["H6 Activos Fijos",{"$f":"' '!$U$4154","v":0},{"$f":"Formula_Local(Campos_Ingreso_Datos[[#This Row],[Vinculo]])","v":"=' '!$U$4154"},"#,##0","",""]
["H6 Activos Fijos",{"$f":"' '!$V$4154","v":0},{"$f":"Formula_Local(Campos_Ingreso_Datos[[#This Row],[Vinculo]])","v":"=' '!$V$4154"},"#,##0","",""]
["H6 Activos Fijos",{"$f":"' '!$W$4154","v":0},{"$f":"Formula_Local(Campos_Ingreso_Datos[[#This Row],[Vinculo]])","v":"=' '!$W$4154"},"#,##0","",""]
["H6 Activos Fijos",{"$f":"' '!$X$4154","v":0},{"$f":"Formula_Local(Campos_Ingreso_Datos[[#This Row],[Vinculo]])","v":"=' '!$X$4154"},"#,##0","",""]
["H6 Activos Fijos",{"$f":"' '!$Y$4154","v":0},{"$f":"Formula_Local(Campos_Ingreso_Datos[[#This Row],[Vinculo]])","v":"=' '!$Y$4154"},"#,##0","",""]
["H6 Activos Fijos",{"$f":"' '!$Z$4154","v":0},{"$f":"Formula_Local(Campos_Ingreso_Datos[[#This Row],[Vinculo]])","v":"=' '!$Z$4154"},"#,##0","",""]
["H6 Activos Fijos",{"$f":"' '!$AB$4154","v":0},{"$f":"Formula_Local(Campos_Ingreso_Datos[[#This Row],[Vinculo]])","v":"=' '!$AB$4154"},"#,##0","",""]
["H6 Activos Fijos",{"$f":"' '!$AD$4154","v":0},{"$f":"Formula_Local(Campos_Ingreso_Datos[[#This Row],[Vinculo]])","v":"=' '!$AD$4154"},"#,##0","",""]
["H6 Activos Fijos",{"$f":"' '!$AE$4154","v":0},{"$f":"Formula_Local(Campos_Ingreso_Datos[[#This Row],[Vinculo]])","v":"=' '!$AE$4154"},"#,##0","",""]
["H6 Activos Fijos",{"$f":"' '!$AF$4154","v":0},{"$f":"Formula_Local(Campos_Ingreso_Datos[[#This Row],[Vinculo]])","v":"=' '!$AF$4154"},"#,##0","",""]
["H6 Activos Fijos",{"$f":"' '!$AH$4154","v":0},{"$f":"Formula_Local(Campos_Ingreso_Datos[[#This Row],[Vinculo]])","v":"=' '!$AH$4154"},"#,##0","",""]
["H6 Activos Fijos",{"$f":"' '!$D$4155","v":0},{"$f":"Formula_Local(Campos_Ingreso_Datos[[#This Row],[Vinculo]])","v":"=' '!$D$4155"},"#,##0","",""]
["H6 Activos Fijos",{"$f":"' '!$F$4155","v":0},{"$f":"Formula_Local(Campos_Ingreso_Datos[[#This Row],[Vinculo]])","v":"=' '!$F$4155"},"#,##0","",""]
["H6 Activos Fijos",{"$f":"' '!$G$4155","v":0},{"$f":"Formula_Local(Campos_Ingreso_Datos[[#This Row],[Vinculo]])","v":"=' '!$G$4155"},"#,##0","",""]
["H6 Activos Fijos",{"$f":"' '!$H$4155","v":0},{"$f":"Formula_Local(Campos_Ingreso_Datos[[#This Row],[Vinculo]])","v":"=' '!$H$4155"},"#,##0","",""]
["H6 Activos Fijos",{"$f":"' '!$I$4155","v":0},{"$f":"Formula_Local(Campos_Ingreso_Datos[[#This Row],[Vinculo]])","v":"=' '!$I$4155"},"#,##0","",""]
["H6 Activos Fijos",{"$f":"' '!$J$4155","v":0},{"$f":"Formula_Local(Campos_Ingreso_Datos[[#This Row],[Vinculo]])","v":"=' '!$J$4155"},"#,##0","",""]
["H6 Activos Fijos",{"$f":"' '!$K$4155","v":0},{"$f":"Formula_Local(Campos_Ingreso_Datos[[#This Row],[Vinculo]])","v":"=' '!$K$4155"},"#,##0","",""]
["H6 Activos Fijos",{"$f":"' '!$M$4155","v":0},{"$f":"Formula_Local(Campos_Ingreso_Datos[[#This Row],[Vinculo]])","v":"=' '!$M$4155"},"#,##0","",""]
["H6 Activos Fijos",{"$f":"' '!$N$4155","v":0},{"$f":"Formula_Local(Campos_Ingreso_Datos[[#This Row],[Vinculo]])","v":"=' '!$N$4155"},"#,##0","",""]
["H6 Activos Fijos",{"$f":"' '!$Q$4155","v":0},{"$f":"Formula_Local(Campos_Ingreso_Datos[[#This Row],[Vinculo]])","v":"=' '!$Q$4155"},"#,##0","",""]
["H6 Activos Fijos",{"$f":"' '!$R$4155","v":0},{"$f":"Formula_Local(Campos_Ingreso_Datos[[#This Row],[Vinculo]])","v":"=' '!$R$4155"},"#,##0","",""]
["H6 Activos Fijos",{"$f":"' '!$S$4155","v":0},{"$f":"Formula_Local(Campos_Ingreso_Datos[[#This Row],[Vinculo]])","v":"=' '!$S$4155"},"#,##0","",""]
["H6 Activos Fijos",{"$f":"' '!$T$4155","v":0},{"$f":"Formula_Local(Campos_Ingreso_Datos[[#This Row],[Vinculo]])","v":"=' '!$T$4155"},"#,##0","",""]
["H6 Activos Fijos",{"$f":"' '!$U$4155","v":0},{"$f":"Formula_Local(Campos_Ingreso_Datos[[#This Row],[Vinculo]])","v":"=' '!$U$4155"},"#,##0","",""]
["H6 Activos Fijos",{"$f":"' '!$V$4155","v":0},{"$f":"Formula_Local(Campos_Ingreso_Datos[[#This Row],[Vinculo]])","v":"=' '!$V$4155"},"#,##0","",""]
["H6 Activos Fijos",{"$f":"' '!$W$4155","v":0},{"$f":"Formula_Local(Campos_Ingreso_Datos[[#This Row],[Vinculo]])","v":"=' '!$W$4155"},"#,##0","",""]
["H6 Activos Fijos",{"$f":"' '!$X$4155","v":0},{"$f":"Formula_Local(Campos_Ingreso_Datos[[#This Row],[Vinculo]])","v":"=' '!$X$4155"},"#,##0","",""]
["H6 Activos Fijos",{"$f":"' '!$Y$4155","v":0},{"$f":"Formula_Local(Campos_Ingreso_Datos[[#This Row],[Vinculo]])","v":"=' '!$Y$4155"},"#,##0","",""]
["H6 Activos Fijos",{"$f":"' '!$Z$4155","v":0},{"$f":"Formula_Local(Campos_Ingreso_Datos[[#This Row],[Vinculo]])","v":"=' '!$Z$4155"},"#,##0","",""]
["H6 Activos Fijos",{"$f":"' '!$AB$4155","v":0},{"$f":"Formula_Local(Campos_Ingreso_Datos[[#This Row],[Vinculo]])","v":"=' '!$AB$4155"},"#,##0","",""]
["H6 Activos Fijos",{"$f":"' '!$AD$4155","v":0},{"$f":"Formula_Local(Campos_Ingreso_Datos[[#This Row],[Vinculo]])","v":"=' '!$AD$4155"},"#,##0","",""]
["H6 Activos Fijos",{"$f":"' '!$AE$4155","v":0},{"$f":"Formula_Local(Campos_Ingreso_Datos[[#This Row],[Vinculo]])","v":"=' '!$AE$4155"},"#,##0","",""]
["H6 Activos Fijos",{"$f":"' '!$AF$4155","v":0},{"$f":"Formula_Local(Campos_Ingreso_Datos[[#This Row],[Vinculo]])","v":"=' '!$AF$4155"},"#,##0","",""]
["H6 Activos Fijos",{"$f":"' '!$AH$4155","v":0},{"$f":"Formula_Local(Campos_Ingreso_Datos[[#This Row],[Vinculo]])","v":"=' '!$AH$4155"},"#,##0","",""]
["H6 Activos Fijos",{"$f":"' '!$D$4156","v":0},{"$f":"Formula_Local(Campos_Ingreso_Datos[[#This Row],[Vinculo]])","v":"=' '!$D$4156"},"#,##0","",""]
["H6 Activos Fijos",{"$f":"' '!$F$4156","v":0},{"$f":"Formula_Local(Campos_Ingreso_Datos[[#This Row],[Vinculo]])","v":"=' '!$F$4156"},"#,##0","",""]
["H6 Activos Fijos",{"$f":"' '!$G$4156","v":0},{"$f":"Formula_Local(Campos_Ingreso_Datos[[#This Row],[Vinculo]])","v":"=' '!$G$4156"},"#,##0","",""]
["H6 Activos Fijos",{"$f":"' '!$H$4156","v":0},{"$f":"Formula_Local(Campos_Ingreso_Datos[[#This Row],[Vinculo]])","v":"=' '!$H$4156"},"#,##0","",""]
["H6 Activos Fijos",{"$f":"' '!$I$4156","v":0},{"$f":"Formula_Local(Campos_Ingreso_Datos[[#This Row],[Vinculo]])","v":"=' '!$I$4156"},"#,##0","",""]
["H6 Activos Fijos",{"$f":"' '!$J$4156","v":0},{"$f":"Formula_Local(Campos_Ingreso_Datos[[#This Row],[Vinculo]])","v":"=' '!$J$4156"},"#,##0","",""]
["H6 Activos Fijos",{"$f":"' '!$K$4156","v":0},{"$f":"Formula_Local(Campos_Ingreso_Datos[[#This Row],[Vinculo]])","v":"=' '!$K$4156"},"#,##0","",""]
["H6 Activos Fijos",{"$f":"' '!$M$4156","v":0},{"$f":"Formula_Local(Campos_Ingreso_Datos[[#This Row],[Vinculo]])","v":"=' '!$M$4156"},"#,##0","",""]
["H6 Activos Fijos",{"$f":"' '!$N$4156","v":0},{"$f":"Formula_Local(Campos_Ingreso_Datos[[#This Row],[Vinculo]])","v":"=' '!$N$4156"},"#,##0","",""]
["H6 Activos Fijos",{"$f":"' '!$Q$4156","v":0},{"$f":"Formula_Local(Campos_Ingreso_Datos[[#This Row],[Vinculo]])","v":"=' '!$Q$4156"},"#,##0","",""]
["H6 Activos Fijos",{"$f":"' '!$R$4156","v":0},{"$f":"Formula_Local(Campos_Ingreso_Datos[[#This Row],[Vinculo]])","v":"=' '!$R$4156"},"#,##0","",""]
["H6 Activos Fijos",{"$f":"' '!$S$4156","v":0},{"$f":"Formula_Local(Campos_Ingreso_Datos[[#This Row],[Vinculo]])","v":"=' '!$S$4156"},"#,##0","",""]
["H6 Activos Fijos",{"$f":"' '!$T$4156","v":0},{"$f":"Formula_Local(Campos_Ingreso_Datos[[#This Row],[Vinculo]])","v":"=' '!$T$4156"},"#,##0","",""]
["H6 Activos Fijos",{"$f":"' '!$U$4156","v":0},{"$f":"Formula_Local(Campos_Ingreso_Datos[[#This Row],[Vinculo]])","v":"=' '!$U$4156"},"#,##0","",""]
["H6 Activos Fijos",{"$f":"' '!$V$4156","v":0},{"$f":"Formula_Local(Campos_Ingreso_Datos[[#This Row],[Vinculo]])","v":"=' '!$V$4156"},"#,##0","",""]
["H6 Activos Fijos",{"$f":"' '!$W$4156","v":0},{"$f":"Formula_Local(Campos_Ingreso_Datos[[#This Row],[Vinculo]])","v":"=' '!$W$4156"},"#,##0","",""]
["H6 Activos Fijos",{"$f":"' '!$X$4156","v":0},{"$f":"Formula_Local(Campos_Ingreso_Datos[[#This Row],[Vinculo]])","v":"=' '!$X$4156"},"#,##0","",""]
["H6 Activos Fijos",{"$f":"' '!$Y$4156","v":0},{"$f":"Formula_Local(Campos_Ingreso_Datos[[#This Row],[Vinculo]])","v":"=' '!$Y$4156"},"#,##0","",""]
["H6 Activos Fijos",{"$f":"' '!$Z$4156","v":0},{"$f":"Formula_Local(Campos_Ingreso_Datos[[#This Row],[Vinculo]])","v":"=' '!$Z$4156"},"#,##0","",""]
["H6 Activos Fijos",{"$f":"' '!$AB$4156","v":0},{"$f":"Formula_Local(Campos_Ingreso_Datos[[#This Row],[Vinculo]])","v":"=' '!$AB$4156"},"#,##0","",""]
["H6 Activos Fijos",{"$f":"' '!$AD$4156","v":0},{"$f":"Formula_Local(Campos_Ingreso_Datos[[#This Row],[Vinculo]])","v":"=' '!$AD$4156"},"#,##0","",""]
["H6 Activos Fijos",{"$f":"' '!$AE$4156","v":0},{"$f":"Formula_Local(Campos_Ingreso_Datos[[#This Row],[Vinculo]])","v":"=' '!$AE$4156"},"#,##0","",""]
["H6 Activos Fijos",{"$f":"' '!$AF$4156","v":0},{"$f":"Formula_Local(Campos_Ingreso_Datos[[#This Row],[Vinculo]])","v":"=' '!$AF$4156"},"#,##0","",""]
["H6 Activos Fijos",{"$f":"' '!$AH$4156","v":0},{"$f":"Formula_Local(Campos_Ingreso_Datos[[#This Row],[Vinculo]])","v":"=' '!$AH$4156"},"#,##0","",""]
["H6 Activos Fijos",{"$f":"' '!$D$4157","v":0},{"$f":"Formula_Local(Campos_Ingreso_Datos[[#This Row],[Vinculo]])","v":"=' '!$D$4157"},"#,##0","",""]
["H6 Activos Fijos",{"$f":"' '!$F$4157","v":0},{"$f":"Formula_Local(Campos_Ingreso_Datos[[#This Row],[Vinculo]])","v":"=' '!$F$4157"},"#,##0","",""]
["H6 Activos Fijos",{"$f":"' '!$G$4157","v":0},{"$f":"Formula_Local(Campos_Ingreso_Datos[[#This Row],[Vinculo]])","v":"=' '!$G$4157"},"#,##0","",""]
["H6 Activos Fijos",{"$f":"' '!$H$4157","v":0},{"$f":"Formula_Local(Campos_Ingreso_Datos[[#This Row],[Vinculo]])","v":"=' '!$H$4157"},"#,##0","",""]
["H6 Activos Fijos",{"$f":"' '!$I$4157","v":0},{"$f":"Formula_Local(Campos_Ingreso_Datos[[#This Row],[Vinculo]])","v":"=' '!$I$4157"},"#,##0","",""]
["H6 Activos Fijos",{"$f":"' '!$J$4157","v":0},{"$f":"Formula_Local(Campos_Ingreso_Datos[[#This Row],[Vinculo]])","v":"=' '!$J$4157"},"#,##0","",""]
["H6 Activos Fijos",{"$f":"' '!$K$4157","v":0},{"$f":"Formula_Local(Campos_Ingreso_Datos[[#This Row],[Vinculo]])","v":"=' '!$K$4157"},"#,##0","",""]
["H6 Activos Fijos",{"$f":"' '!$M$4157","v":0},{"$f":"Formula_Local(Campos_Ingreso_Datos[[#This Row],[Vinculo]])","v":"=' '!$M$4157"},"#,##0","",""]
["H6 Activos Fijos",{"$f":"' '!$N$4157","v":0},{"$f":"Formula_Local(Campos_Ingreso_Datos[[#This Row],[Vinculo]])","v":"=' '!$N$4157"},"#,##0","",""]
["H6 Activos Fijos",{"$f":"' '!$Q$4157","v":0},{"$f":"Formula_Local(Campos_Ingreso_Datos[[#This Row],[Vinculo]])","v":"=' '!$Q$4157"},"#,##0","",""]
["H6 Activos Fijos",{"$f":"' '!$R$4157","v":0},{"$f":"Formula_Local(Campos_Ingreso_Datos[[#This Row],[Vinculo]])","v":"=' '!$R$4157"},"#,##0","",""]
["H6 Activos Fijos",{"$f":"' '!$S$4157","v":0},{"$f":"Formula_Local(Campos_Ingreso_Datos[[#This Row],[Vinculo]])","v":"=' '!$S$4157"},"#,##0","",""]
["H6 Activos Fijos",{"$f":"' '!$T$4157","v":0},{"$f":"Formula_Local(Campos_Ingreso_Datos[[#This Row],[Vinculo]])","v":"=' '!$T$4157"},"#,##0","",""]
["H6 Activos Fijos",{"$f":"' '!$U$4157","v":0},{"$f":"Formula_Local(Campos_Ingreso_Datos[[#This Row],[Vinculo]])","v":"=' '!$U$4157"},"#,##0","",""]
["H6 Activos Fijos",{"$f":"' '!$V$4157","v":0},{"$f":"Formula_Local(Campos_Ingreso_Datos[[#This Row],[Vinculo]])","v":"=' '!$V$4157"},"#,##0","",""]
["H6 Activos Fijos",{"$f":"' '!$W$4157","v":0},{"$f":"Formula_Local(Campos_Ingreso_Datos[[#This Row],[Vinculo]])","v":"=' '!$W$4157"},"#,##0","",""]
["H6 Activos Fijos",{"$f":"' '!$X$4157","v":0},{"$f":"Formula_Local(Campos_Ingreso_Datos[[#This Row],[Vinculo]])","v":"=' '!$X$4157"},"#,##0","",""]
["H6 Activos Fijos",{"$f":"' '!$Y$4157","v":0},{"$f":"Formula_Local(Campos_Ingreso_Datos[[#This Row],[Vinculo]])","v":"=' '!$Y$4157"},"#,##0","",""]
["H6 Activos Fijos",{"$f":"' '!$Z$4157","v":0},{"$f":"Formula_Local(Campos_Ingreso_Datos[[#This Row],[Vinculo]])","v":"=' '!$Z$4157"},"#,##0","",""]
["H6 Activos Fijos",{"$f":"' '!$AB$4157","v":0},{"$f":"Formula_Local(Campos_Ingreso_Datos[[#This Row],[Vinculo]])","v":"=' '!$AB$4157"},"#,##0","",""]
["H6 Activos Fijos",{"$f":"' '!$AD$4157","v":0},{"$f":"Formula_Local(Campos_Ingreso_Datos[[#This Row],[Vinculo]])","v":"=' '!$AD$4157"},"#,##0","",""]
["H6 Activos Fijos",{"$f":"' '!$AE$4157","v":0},{"$f":"Formula_Local(Campos_Ingreso_Datos[[#This Row],[Vinculo]])","v":"=' '!$AE$4157"},"#,##0","",""]
["H6 Activos Fijos",{"$f":"' '!$AF$4157","v":0},{"$f":"Formula_Local(Campos_Ingreso_Datos[[#This Row],[Vinculo]])","v":"=' '!$AF$4157"},"#,##0","",""]
["H6 Activos Fijos",{"$f":"' '!$AH$4157","v":0},{"$f":"Formula_Local(Campos_Ingreso_Datos[[#This Row],[Vinculo]])","v":"=' '!$AH$4157"},"#,##0","",""]
["H6 Activos Fijos",{"$f":"' '!$D$4158","v":0},{"$f":"Formula_Local(Campos_Ingreso_Datos[[#This Row],[Vinculo]])","v":"=' '!$D$4158"},"#,##0","",""]
["H6 Activos Fijos",{"$f":"' '!$F$4158","v":0},{"$f":"Formula_Local(Campos_Ingreso_Datos[[#This Row],[Vinculo]])","v":"=' '!$F$4158"},"#,##0","",""]
["H6 Activos Fijos",{"$f":"' '!$G$4158","v":0},{"$f":"Formula_Local(Campos_Ingreso_Datos[[#This Row],[Vinculo]])","v":"=' '!$G$4158"},"#,##0","",""]
["H6 Activos Fijos",{"$f":"' '!$H$4158","v":0},{"$f":"Formula_Local(Campos_Ingreso_Datos[[#This Row],[Vinculo]])","v":"=' '!$H$4158"},"#,##0","",""]
["H6 Activos Fijos",{"$f":"' '!$I$4158","v":0},{"$f":"Formula_Local(Campos_Ingreso_Datos[[#This Row],[Vinculo]])","v":"=' '!$I$4158"},"#,##0","",""]
["H6 Activos Fijos",{"$f":"' '!$J$4158","v":0},{"$f":"Formula_Local(Campos_Ingreso_Datos[[#This Row],[Vinculo]])","v":"=' '!$J$4158"},"#,##0","",""]
["H6 Activos Fijos",{"$f":"' '!$K$4158","v":0},{"$f":"Formula_Local(Campos_Ingreso_Datos[[#This Row],[Vinculo]])","v":"=' '!$K$4158"},"#,##0","",""]
["H6 Activos Fijos",{"$f":"' '!$M$4158","v":0},{"$f":"Formula_Local(Campos_Ingreso_Datos[[#This Row],[Vinculo]])","v":"=' '!$M$4158"},"#,##0","",""]
["H6 Activos Fijos",{"$f":"' '!$N$4158","v":0},{"$f":"Formula_Local(Campos_Ingreso_Datos[[#This Row],[Vinculo]])","v":"=' '!$N$4158"},"#,##0","",""]
["H6 Activos Fijos",{"$f":"' '!$Q$4158","v":0},{"$f":"Formula_Local(Campos_Ingreso_Datos[[#This Row],[Vinculo]])","v":"=' '!$Q$4158"},"#,##0","",""]
["H6 Activos Fijos",{"$f":"' '!$R$4158","v":0},{"$f":"Formula_Local(Campos_Ingreso_Datos[[#This Row],[Vinculo]])","v":"=' '!$R$4158"},"#,##0","",""]
["H6 Activos Fijos",{"$f":"' '!$S$4158","v":0},{"$f":"Formula_Local(Campos_Ingreso_Datos[[#This Row],[Vinculo]])","v":"=' '!$S$4158"},"#,##0","",""]
["H6 Activos Fijos",{"$f":"' '!$T$4158","v":0},{"$f":"Formula_Local(Campos_Ingreso_Datos[[#This Row],[Vinculo]])","v":"=' '!$T$4158"},"#,##0","",""]
["H6 Activos Fijos",{"$f":"' '!$U$4158","v":0},{"$f":"Formula_Local(Campos_Ingreso_Datos[[#This Row],[Vinculo]])","v":"=' '!$U$4158"},"#,##0","",""]
["H6 Activos Fijos",{"$f":"' '!$V$4158","v":0},{"$f":"Formula_Local(Campos_Ingreso_Datos[[#This Row],[Vinculo]])","v":"=' '!$V$4158"},"#,##0","",""]
["H6 Activos Fijos",{"$f":"' '!$W$4158","v":0},{"$f":"Formula_Local(Campos_Ingreso_Datos[[#This Row],[Vinculo]])","v":"=' '!$W$4158"},"#,##0","",""]
["H6 Activos Fijos",{"$f":"' '!$X$4158","v":0},{"$f":"Formula_Local(Campos_Ingreso_Datos[[#This Row],[Vinculo]])","v":"=' '!$X$4158"},"#,##0","",""]
["H6 Activos Fijos",{"$f":"' '!$Y$4158","v":0},{"$f":"Formula_Local(Campos_Ingreso_Datos[[#This Row],[Vinculo]])","v":"=' '!$Y$4158"},"#,##0","",""]
["H6 Activos Fijos",{"$f":"' '!$Z$4158","v":0},{"$f":"Formula_Local(Campos_Ingreso_Datos[[#This Row],[Vinculo]])","v":"=' '!$Z$4158"},"#,##0","",""]
["H6 Activos Fijos",{"$f":"' '!$AB$4158","v":0},{"$f":"Formula_Local(Campos_Ingreso_Datos[[#This Row],[Vinculo]])","v":"=' '!$AB$4158"},"#,##0","",""]
["H6 Activos Fijos",{"$f":"' '!$AD$4158","v":0},{"$f":"Formula_Local(Campos_Ingreso_Datos[[#This Row],[Vinculo]])","v":"=' '!$AD$4158"},"#,##0","",""]
["H6 Activos Fijos",{"$f":"' '!$AE$4158","v":0},{"$f":"Formula_Local(Campos_Ingreso_Datos[[#This Row],[Vinculo]])","v":"=' '!$AE$4158"},"#,##0","",""]
["H6 Activos Fijos",{"$f":"' '!$AF$4158","v":0},{"$f":"Formula_Local(Campos_Ingreso_Datos[[#This Row],[Vinculo]])","v":"=' '!$AF$4158"},"#,##0","",""]
["H6 Activos Fijos",{"$f":"' '!$AH$4158","v":0},{"$f":"Formula_Local(Campos_Ingreso_Datos[[#This Row],[Vinculo]])","v":"=' '!$AH$4158"},"#,##0","",""]
["H6 Activos Fijos",{"$f":"' '!$D$4159","v":0},{"$f":"Formula_Local(Campos_Ingreso_Datos[[#This Row],[Vinculo]])","v":"=' '!$D$4159"},"#,##0","",""]
["H6 Activos Fijos",{"$f":"' '!$F$4159","v":0},{"$f":"Formula_Local(Campos_Ingreso_Datos[[#This Row],[Vinculo]])","v":"=' '!$F$4159"},"#,##0","",""]
["H6 Activos Fijos",{"$f":"' '!$G$4159","v":0},{"$f":"Formula_Local(Campos_Ingreso_Datos[[#This Row],[Vinculo]])","v":"=' '!$G$4159"},"#,##0","",""]
["H6 Activos Fijos",{"$f":"' '!$H$4159","v":0},{"$f":"Formula_Local(Campos_Ingreso_Datos[[#This Row],[Vinculo]])","v":"=' '!$H$4159"},"#,##0","",""]
["H6 Activos Fijos",{"$f":"' '!$I$4159","v":0},{"$f":"Formula_Local(Campos_Ingreso_Datos[[#This Row],[Vinculo]])","v":"=' '!$I$4159"},"#,##0","",""]
["H6 Activos Fijos",{"$f":"' '!$J$4159","v":0},{"$f":"Formula_Local(Campos_Ingreso_Datos[[#This Row],[Vinculo]])","v":"=' '!$J$4159"},"#,##0","",""]
["H6 Activos Fijos",{"$f":"' '!$K$4159","v":0},{"$f":"Formula_Local(Campos_Ingreso_Datos[[#This Row],[Vinculo]])","v":"=' '!$K$4159"},"#,##0","",""]
["H6 Activos Fijos",{"$f":"' '!$M$4159","v":0},{"$f":"Formula_Local(Campos_Ingreso_Datos[[#This Row],[Vinculo]])","v":"=' '!$M$4159"},"#,##0","",""]
["H6 Activos Fijos",{"$f":"' '!$N$4159","v":0},{"$f":"Formula_Local(Campos_Ingreso_Datos[[#This Row],[Vinculo]])","v":"=' '!$N$4159"},"#,##0","",""]
["H6 Activos Fijos",{"$f":"' '!$Q$4159","v":0},{"$f":"Formula_Local(Campos_Ingreso_Datos[[#This Row],[Vinculo]])","v":"=' '!$Q$4159"},"#,##0","",""]
["H6 Activos Fijos",{"$f":"' '!$R$4159","v":0},{"$f":"Formula_Local(Campos_Ingreso_Datos[[#This Row],[Vinculo]])","v":"=' '!$R$4159"},"#,##0","",""]
["H6 Activos Fijos",{"$f":"' '!$S$4159","v":0},{"$f":"Formula_Local(Campos_Ingreso_Datos[[#This Row],[Vinculo]])","v":"=' '!$S$4159"},"#,##0","",""]
["H6 Activos Fijos",{"$f":"' '!$T$4159","v":0},{"$f":"Formula_Local(Campos_Ingreso_Datos[[#This Row],[Vinculo]])","v":"=' '!$T$4159"},"#,##0","",""]
["H6 Activos Fijos",{"$f":"' '!$U$4159","v":0},{"$f":"Formula_Local(Campos_Ingreso_Datos[[#This Row],[Vinculo]])","v":"=' '!$U$4159"},"#,##0","",""]
["H6 Activos Fijos",{"$f":"' '!$V$4159","v":0},{"$f":"Formula_Local(Campos_Ingreso_Datos[[#This Row],[Vinculo]])","v":"=' '!$V$4159"},"#,##0","",""]
["H6 Activos Fijos",{"$f":"' '!$W$4159","v":0},{"$f":"Formula_Local(Campos_Ingreso_Datos[[#This Row],[Vinculo]])","v":"=' '!$W$4159"},"#,##0","",""]
["H6 Activos Fijos",{"$f":"' '!$X$4159","v":0},{"$f":"Formula_Local(Campos_Ingreso_Datos[[#This Row],[Vinculo]])","v":"=' '!$X$4159"},"#,##0","",""]
["H6 Activos Fijos",{"$f":"' '!$Y$4159","v":0},{"$f":"Formula_Local(Campos_Ingreso_Datos[[#This Row],[Vinculo]])","v":"=' '!$Y$4159"},"#,##0","",""]
["H6 Activos Fijos",{"$f":"' '!$Z$4159","v":0},{"$f":"Formula_Local(Campos_Ingreso_Datos[[#This Row],[Vinculo]])","v":"=' '!$Z$4159"},"#,##0","",""]
["H6 Activos Fijos",{"$f":"' '!$AB$4159","v":0},{"$f":"Formula_Local(Campos_Ingreso_Datos[[#This Row],[Vinculo]])","v":"=' '!$AB$4159"},"#,##0","",""]
["H6 Activos Fijos",{"$f":"' '!$AD$4159","v":0},{"$f":"Formula_Local(Campos_Ingreso_Datos[[#This Row],[Vinculo]])","v":"=' '!$AD$4159"},"#,##0","",""]
["H6 Activos Fijos",{"$f":"' '!$AE$4159","v":0},{"$f":"Formula_Local(Campos_Ingreso_Datos[[#This Row],[Vinculo]])","v":"=' '!$AE$4159"},"#,##0","",""]
["H6 Activos Fijos",{"$f":"' '!$AF$4159","v":0},{"$f":"Formula_Local(Campos_Ingreso_Datos[[#This Row],[Vinculo]])","v":"=' '!$AF$4159"},"#,##0","",""]
["H6 Activos Fijos",{"$f":"' '!$AH$4159","v":0},{"$f":"Formula_Local(Campos_Ingreso_Datos[[#This Row],[Vinculo]])","v":"=' '!$AH$4159"},"#,##0","",""]
["H6 Activos Fijos",{"$f":"' '!$D$4160","v":0},{"$f":"Formula_Local(Campos_Ingreso_Datos[[#This Row],[Vinculo]])","v":"=' '!$D$4160"},"#,##0","",""]
["H6 Activos Fijos",{"$f":"' '!$F$4160","v":0},{"$f":"Formula_Local(Campos_Ingreso_Datos[[#This Row],[Vinculo]])","v":"=' '!$F$4160"},"#,##0","",""]
["H6 Activos Fijos",{"$f":"' '!$G$4160","v":0},{"$f":"Formula_Local(Campos_Ingreso_Datos[[#This Row],[Vinculo]])","v":"=' '!$G$4160"},"#,##0","",""]
["H6 Activos Fijos",{"$f":"' '!$H$4160","v":0},{"$f":"Formula_Local(Campos_Ingreso_Datos[[#This Row],[Vinculo]])","v":"=' '!$H$4160"},"#,##0","",""]
["H6 Activos Fijos",{"$f":"' '!$I$4160","v":0},{"$f":"Formula_Local(Campos_Ingreso_Datos[[#This Row],[Vinculo]])","v":"=' '!$I$4160"},"#,##0","",""]
["H6 Activos Fijos",{"$f":"' '!$J$4160","v":0},{"$f":"Formula_Local(Campos_Ingreso_Datos[[#This Row],[Vinculo]])","v":"=' '!$J$4160"},"#,##0","",""]
["H6 Activos Fijos",{"$f":"' '!$K$4160","v":0},{"$f":"Formula_Local(Campos_Ingreso_Datos[[#This Row],[Vinculo]])","v":"=' '!$K$4160"},"#,##0","",""]
["H6 Activos Fijos",{"$f":"' '!$M$4160","v":0},{"$f":"Formula_Local(Campos_Ingreso_Datos[[#This Row],[Vinculo]])","v":"=' '!$M$4160"},"#,##0","",""]
["H6 Activos Fijos",{"$f":"' '!$N$4160","v":0},{"$f":"Formula_Local(Campos_Ingreso_Datos[[#This Row],[Vinculo]])","v":"=' '!$N$4160"},"#,##0","",""]
["H6 Activos Fijos",{"$f":"' '!$Q$4160","v":0},{"$f":"Formula_Local(Campos_Ingreso_Datos[[#This Row],[Vinculo]])","v":"=' '!$Q$4160"},"#,##0","",""]
["H6 Activos Fijos",{"$f":"' '!$R$4160","v":0},{"$f":"Formula_Local(Campos_Ingreso_Datos[[#This Row],[Vinculo]])","v":"=' '!$R$4160"},"#,##0","",""]
["H6 Activos Fijos",{"$f":"' '!$S$4160","v":0},{"$f":"Formula_Local(Campos_Ingreso_Datos[[#This Row],[Vinculo]])","v":"=' '!$S$4160"},"#,##0","",""]
["H6 Activos Fijos",{"$f":"' '!$T$4160","v":0},{"$f":"Formula_Local(Campos_Ingreso_Datos[[#This Row],[Vinculo]])","v":"=' '!$T$4160"},"#,##0","",""]
["H6 Activos Fijos",{"$f":"' '!$U$4160","v":0},{"$f":"Formula_Local(Campos_Ingreso_Datos[[#This Row],[Vinculo]])","v":"=' '!$U$4160"},"#,##0","",""]
["H6 Activos Fijos",{"$f":"' '!$V$4160","v":0},{"$f":"Formula_Local(Campos_Ingreso_Datos[[#This Row],[Vinculo]])","v":"=' '!$V$4160"},"#,##0","",""]
["H6 Activos Fijos",{"$f":"' '!$W$4160","v":0},{"$f":"Formula_Local(Campos_Ingreso_Datos[[#This Row],[Vinculo]])","v":"=' '!$W$4160"},"#,##0","",""]
["H6 Activos Fijos",{"$f":"' '!$X$4160","v":0},{"$f":"Formula_Local(Campos_Ingreso_Datos[[#This Row],[Vinculo]])","v":"=' '!$X$4160"},"#,##0","",""]
["H6 Activos Fijos",{"$f":"' '!$Y$4160","v":0},{"$f":"Formula_Local(Campos_Ingreso_Datos[[#This Row],[Vinculo]])","v":"=' '!$Y$4160"},"#,##0","",""]
["H6 Activos Fijos",{"$f":"' '!$Z$4160","v":0},{"$f":"Formula_Local(Campos_Ingreso_Datos[[#This Row],[Vinculo]])","v":"=' '!$Z$4160"},"#,##0","",""]
["H6 Activos Fijos",{"$f":"' '!$AB$4160","v":0},{"$f":"Formula_Local(Campos_Ingreso_Datos[[#This Row],[Vinculo]])","v":"=' '!$AB$4160"},"#,##0","",""]
["H6 Activos Fijos",{"$f":"' '!$AD$4160","v":0},{"$f":"Formula_Local(Campos_Ingreso_Datos[[#This Row],[Vinculo]])","v":"=' '!$AD$4160"},"#,##0","",""]
["H6 Activos Fijos",{"$f":"' '!$AE$4160","v":0},{"$f":"Formula_Local(Campos_Ingreso_Datos[[#This Row],[Vinculo]])","v":"=' '!$AE$4160"},"#,##0","",""]
["H6 Activos Fijos",{"$f":"' '!$AF$4160","v":0},{"$f":"Formula_Local(Campos_Ingreso_Datos[[#This Row],[Vinculo]])","v":"=' '!$AF$4160"},"#,##0","",""]
["H6 Activos Fijos",{"$f":"' '!$AH$4160","v":0},{"$f":"Formula_Local(Campos_Ingreso_Datos[[#This Row],[Vinculo]])","v":"=' '!$AH$4160"},"#,##0","",""]
["H6 Activos Fijos",{"$f":"' '!$D$4161","v":0},{"$f":"Formula_Local(Campos_Ingreso_Datos[[#This Row],[Vinculo]])","v":"=' '!$D$4161"},"#,##0","",""]
["H6 Activos Fijos",{"$f":"' '!$F$4161","v":0},{"$f":"Formula_Local(Campos_Ingreso_Datos[[#This Row],[Vinculo]])","v":"=' '!$F$4161"},"#,##0","",""]
["H6 Activos Fijos",{"$f":"' '!$G$4161","v":0},{"$f":"Formula_Local(Campos_Ingreso_Datos[[#This Row],[Vinculo]])","v":"=' '!$G$4161"},"#,##0","",""]
["H6 Activos Fijos",{"$f":"' '!$H$4161","v":0},{"$f":"Formula_Local(Campos_Ingreso_Datos[[#This Row],[Vinculo]])","v":"=' '!$H$4161"},"#,##0","",""]
["H6 Activos Fijos",{"$f":"' '!$I$4161","v":0},{"$f":"Formula_Local(Campos_Ingreso_Datos[[#This Row],[Vinculo]])","v":"=' '!$I$4161"},"#,##0","",""]
["H6 Activos Fijos",{"$f":"' '!$J$4161","v":0},{"$f":"Formula_Local(Campos_Ingreso_Datos[[#This Row],[Vinculo]])","v":"=' '!$J$4161"},"#,##0","",""]
["H6 Activos Fijos",{"$f":"' '!$K$4161","v":0},{"$f":"Formula_Local(Campos_Ingreso_Datos[[#This Row],[Vinculo]])","v":"=' '!$K$4161"},"#,##0","",""]
["H6 Activos Fijos",{"$f":"' '!$M$4161","v":0},{"$f":"Formula_Local(Campos_Ingreso_Datos[[#This Row],[Vinculo]])","v":"=' '!$M$4161"},"#,##0","",""]
["H6 Activos Fijos",{"$f":"' '!$N$4161","v":0},{"$f":"Formula_Local(Campos_Ingreso_Datos[[#This Row],[Vinculo]])","v":"=' '!$N$4161"},"#,##0","",""]
["H6 Activos Fijos",{"$f":"' '!$Q$4161","v":0},{"$f":"Formula_Local(Campos_Ingreso_Datos[[#This Row],[Vinculo]])","v":"=' '!$Q$4161"},"#,##0","",""]
["H6 Activos Fijos",{"$f":"' '!$R$4161","v":0},{"$f":"Formula_Local(Campos_Ingreso_Datos[[#This Row],[Vinculo]])","v":"=' '!$R$4161"},"#,##0","",""]
["H6 Activos Fijos",{"$f":"' '!$S$4161","v":0},{"$f":"Formula_Local(Campos_Ingreso_Datos[[#This Row],[Vinculo]])","v":"=' '!$S$4161"},"#,##0","",""]
["H6 Activos Fijos",{"$f":"' '!$T$4161","v":0},{"$f":"Formula_Local(Campos_Ingreso_Datos[[#This Row],[Vinculo]])","v":"=' '!$T$4161"},"#,##0","",""]
["H6 Activos Fijos",{"$f":"' '!$U$4161","v":0},{"$f":"Formula_Local(Campos_Ingreso_Datos[[#This Row],[Vinculo]])","v":"=' '!$U$4161"},"#,##0","",""]
["H6 Activos Fijos",{"$f":"' '!$V$4161","v":0},{"$f":"Formula_Local(Campos_Ingreso_Datos[[#This Row],[Vinculo]])","v":"=' '!$V$4161"},"#,##0","",""]
["H6 Activos Fijos",{"$f":"' '!$W$4161","v":0},{"$f":"Formula_Local(Campos_Ingreso_Datos[[#This Row],[Vinculo]])","v":"=' '!$W$4161"},"#,##0","",""]
["H6 Activos Fijos",{"$f":"' '!$X$4161","v":0},{"$f":"Formula_Local(Campos_Ingreso_Datos[[#This Row],[Vinculo]])","v":"=' '!$X$4161"},"#,##0","",""]
["H6 Activos Fijos",{"$f":"' '!$Y$4161","v":0},{"$f":"Formula_Local(Campos_Ingreso_Datos[[#This Row],[Vinculo]])","v":"=' '!$Y$4161"},"#,##0","",""]
["H6 Activos Fijos",{"$f":"' '!$Z$4161","v":0},{"$f":"Formula_Local(Campos_Ingreso_Datos[[#This Row],[Vinculo]])","v":"=' '!$Z$4161"},"#,##0","",""]
["H6 Activos Fijos",{"$f":"' '!$AB$4161","v":0},{"$f":"Formula_Local(Campos_Ingreso_Datos[[#This Row],[Vinculo]])","v":"=' '!$AB$4161"},"#,##0","",""]
["H6 Activos Fijos",{"$f":"' '!$AD$4161","v":0},{"$f":"Formula_Local(Campos_Ingreso_Datos[[#This Row],[Vinculo]])","v":"=' '!$AD$4161"},"#,##0","",""]
["H6 Activos Fijos",{"$f":"' '!$AE$4161","v":0},{"$f":"Formula_Local(Campos_Ingreso_Datos[[#This Row],[Vinculo]])","v":"=' '!$AE$4161"},"#,##0","",""]
["H6 Activos Fijos",{"$f":"' '!$AF$4161","v":0},{"$f":"Formula_Local(Campos_Ingreso_Datos[[#This Row],[Vinculo]])","v":"=' '!$AF$4161"},"#,##0","",""]
["H6 Activos Fijos",{"$f":"' '!$AH$4161","v":0},{"$f":"Formula_Local(Campos_Ingreso_Datos[[#This Row],[Vinculo]])","v":"=' '!$AH$4161"},"#,##0","",""]
["H6 Activos Fijos",{"$f":"' '!$D$4162","v":0},{"$f":"Formula_Local(Campos_Ingreso_Datos[[#This Row],[Vinculo]])","v":"=' '!$D$4162"},"#,##0","",""]
["H6 Activos Fijos",{"$f":"' '!$F$4162","v":0},{"$f":"Formula_Local(Campos_Ingreso_Datos[[#This Row],[Vinculo]])","v":"=' '!$F$4162"},"#,##0","",""]
["H6 Activos Fijos",{"$f":"' '!$G$4162","v":0},{"$f":"Formula_Local(Campos_Ingreso_Datos[[#This Row],[Vinculo]])","v":"=' '!$G$4162"},"#,##0","",""]
["H6 Activos Fijos",{"$f":"' '!$H$4162","v":0},{"$f":"Formula_Local(Campos_Ingreso_Datos[[#This Row],[Vinculo]])","v":"=' '!$H$4162"},"#,##0","",""]
["H6 Activos Fijos",{"$f":"' '!$I$4162","v":0},{"$f":"Formula_Local(Campos_Ingreso_Datos[[#This Row],[Vinculo]])","v":"=' '!$I$4162"},"#,##0","",""]
["H6 Activos Fijos",{"$f":"' '!$J$4162","v":0},{"$f":"Formula_Local(Campos_Ingreso_Datos[[#This Row],[Vinculo]])","v":"=' '!$J$4162"},"#,##0","",""]
["H6 Activos Fijos",{"$f":"' '!$K$4162","v":0},{"$f":"Formula_Local(Campos_Ingreso_Datos[[#This Row],[Vinculo]])","v":"=' '!$K$4162"},"#,##0","",""]
["H6 Activos Fijos",{"$f":"' '!$M$4162","v":0},{"$f":"Formula_Local(Campos_Ingreso_Datos[[#This Row],[Vinculo]])","v":"=' '!$M$4162"},"#,##0","",""]
["H6 Activos Fijos",{"$f":"' '!$N$4162","v":0},{"$f":"Formula_Local(Campos_Ingreso_Datos[[#This Row],[Vinculo]])","v":"=' '!$N$4162"},"#,##0","",""]
["H6 Activos Fijos",{"$f":"' '!$Q$4162","v":0},{"$f":"Formula_Local(Campos_Ingreso_Datos[[#This Row],[Vinculo]])","v":"=' '!$Q$4162"},"#,##0","",""]
["H6 Activos Fijos",{"$f":"' '!$R$4162","v":0},{"$f":"Formula_Local(Campos_Ingreso_Datos[[#This Row],[Vinculo]])","v":"=' '!$R$4162"},"#,##0","",""]
["H6 Activos Fijos",{"$f":"' '!$S$4162","v":0},{"$f":"Formula_Local(Campos_Ingreso_Datos[[#This Row],[Vinculo]])","v":"=' '!$S$4162"},"#,##0","",""]
["H6 Activos Fijos",{"$f":"' '!$T$4162","v":0},{"$f":"Formula_Local(Campos_Ingreso_Datos[[#This Row],[Vinculo]])","v":"=' '!$T$4162"},"#,##0","",""]
["H6 Activos Fijos",{"$f":"' '!$U$4162","v":0},{"$f":"Formula_Local(Campos_Ingreso_Datos[[#This Row],[Vinculo]])","v":"=' '!$U$4162"},"#,##0","",""]
["H6 Activos Fijos",{"$f":"' '!$V$4162","v":0},{"$f":"Formula_Local(Campos_Ingreso_Datos[[#This Row],[Vinculo]])","v":"=' '!$V$4162"},"#,##0","",""]
["H6 Activos Fijos",{"$f":"' '!$W$4162","v":0},{"$f":"Formula_Local(Campos_Ingreso_Datos[[#This Row],[Vinculo]])","v":"=' '!$W$4162"},"#,##0","",""]
["H6 Activos Fijos",{"$f":"' '!$X$4162","v":0},{"$f":"Formula_Local(Campos_Ingreso_Datos[[#This Row],[Vinculo]])","v":"=' '!$X$4162"},"#,##0","",""]
["H6 Activos Fijos",{"$f":"' '!$Y$4162","v":0},{"$f":"Formula_Local(Campos_Ingreso_Datos[[#This Row],[Vinculo]])","v":"=' '!$Y$4162"},"#,##0","",""]
["H6 Activos Fijos",{"$f":"' '!$Z$4162","v":0},{"$f":"Formula_Local(Campos_Ingreso_Datos[[#This Row],[Vinculo]])","v":"=' '!$Z$4162"},"#,##0","",""]
["H6 Activos Fijos",{"$f":"' '!$AB$4162","v":0},{"$f":"Formula_Local(Campos_Ingreso_Datos[[#This Row],[Vinculo]])","v":"=' '!$AB$4162"},"#,##0","",""]
["H6 Activos Fijos",{"$f":"' '!$AD$4162","v":0},{"$f":"Formula_Local(Campos_Ingreso_Datos[[#This Row],[Vinculo]])","v":"=' '!$AD$4162"},"#,##0","",""]
["H6 Activos Fijos",{"$f":"' '!$AE$4162","v":0},{"$f":"Formula_Local(Campos_Ingreso_Datos[[#This Row],[Vinculo]])","v":"=' '!$AE$4162"},"#,##0","",""]
["H6 Activos Fijos",{"$f":"' '!$AF$4162","v":0},{"$f":"Formula_Local(Campos_Ingreso_Datos[[#This Row],[Vinculo]])","v":"=' '!$AF$4162"},"#,##0","",""]
["H6 Activos Fijos",{"$f":"' '!$AH$4162","v":0},{"$f":"Formula_Local(Campos_Ingreso_Datos[[#This Row],[Vinculo]])","v":"=' '!$AH$4162"},"#,##0","",""]
["H6 Activos Fijos",{"$f":"' '!$D$4163","v":0},{"$f":"Formula_Local(Campos_Ingreso_Datos[[#This Row],[Vinculo]])","v":"=' '!$D$4163"},"#,##0","",""]
["H6 Activos Fijos",{"$f":"' '!$F$4163","v":0},{"$f":"Formula_Local(Campos_Ingreso_Datos[[#This Row],[Vinculo]])","v":"=' '!$F$4163"},"#,##0","",""]
["H6 Activos Fijos",{"$f":"' '!$G$4163","v":0},{"$f":"Formula_Local(Campos_Ingreso_Datos[[#This Row],[Vinculo]])","v":"=' '!$G$4163"},"#,##0","",""]
["H6 Activos Fijos",{"$f":"' '!$H$4163","v":0},{"$f":"Formula_Local(Campos_Ingreso_Datos[[#This Row],[Vinculo]])","v":"=' '!$H$4163"},"#,##0","",""]
["H6 Activos Fijos",{"$f":"' '!$I$4163","v":0},{"$f":"Formula_Local(Campos_Ingreso_Datos[[#This Row],[Vinculo]])","v":"=' '!$I$4163"},"#,##0","",""]
["H6 Activos Fijos",{"$f":"' '!$J$4163","v":0},{"$f":"Formula_Local(Campos_Ingreso_Datos[[#This Row],[Vinculo]])","v":"=' '!$J$4163"},"#,##0","",""]
["H6 Activos Fijos",{"$f":"' '!$K$4163","v":0},{"$f":"Formula_Local(Campos_Ingreso_Datos[[#This Row],[Vinculo]])","v":"=' '!$K$4163"},"#,##0","",""]
["H6 Activos Fijos",{"$f":"' '!$M$4163","v":0},{"$f":"Formula_Local(Campos_Ingreso_Datos[[#This Row],[Vinculo]])","v":"=' '!$M$4163"},"#,##0","",""]
["H6 Activos Fijos",{"$f":"' '!$N$4163","v":0},{"$f":"Formula_Local(Campos_Ingreso_Datos[[#This Row],[Vinculo]])","v":"=' '!$N$4163"},"#,##0","",""]
["H6 Activos Fijos",{"$f":"' '!$Q$4163","v":0},{"$f":"Formula_Local(Campos_Ingreso_Datos[[#This Row],[Vinculo]])","v":"=' '!$Q$4163"},"#,##0","",""]
["H6 Activos Fijos",{"$f":"' '!$R$4163","v":0},{"$f":"Formula_Local(Campos_Ingreso_Datos[[#This Row],[Vinculo]])","v":"=' '!$R$4163"},"#,##0","",""]
["H6 Activos Fijos",{"$f":"' '!$S$4163","v":0},{"$f":"Formula_Local(Campos_Ingreso_Datos[[#This Row],[Vinculo]])","v":"=' '!$S$4163"},"#,##0","",""]
["H6 Activos Fijos",{"$f":"' '!$T$4163","v":0},{"$f":"Formula_Local(Campos_Ingreso_Datos[[#This Row],[Vinculo]])","v":"=' '!$T$4163"},"#,##0","",""]
["H6 Activos Fijos",{"$f":"' '!$U$4163","v":0},{"$f":"Formula_Local(Campos_Ingreso_Datos[[#This Row],[Vinculo]])","v":"=' '!$U$4163"},"#,##0","",""]
["H6 Activos Fijos",{"$f":"' '!$V$4163","v":0},{"$f":"Formula_Local(Campos_Ingreso_Datos[[#This Row],[Vinculo]])","v":"=' '!$V$4163"},"#,##0","",""]
["H6 Activos Fijos",{"$f":"' '!$W$4163","v":0},{"$f":"Formula_Local(Campos_Ingreso_Datos[[#This Row],[Vinculo]])","v":"=' '!$W$4163"},"#,##0","",""]
["H6 Activos Fijos",{"$f":"' '!$X$4163","v":0},{"$f":"Formula_Local(Campos_Ingreso_Datos[[#This Row],[Vinculo]])","v":"=' '!$X$4163"},"#,##0","",""]
["H6 Activos Fijos",{"$f":"' '!$Y$4163","v":0},{"$f":"Formula_Local(Campos_Ingreso_Datos[[#This Row],[Vinculo]])","v":"=' '!$Y$4163"},"#,##0","",""]
["H6 Activos Fijos",{"$f":"' '!$Z$4163","v":0},{"$f":"Formula_Local(Campos_Ingreso_Datos[[#This Row],[Vinculo]])","v":"=' '!$Z$4163"},"#,##0","",""]
["H6 Activos Fijos",{"$f":"' '!$AB$4163","v":0},{"$f":"Formula_Local(Campos_Ingreso_Datos[[#This Row],[Vinculo]])","v":"=' '!$AB$4163"},"#,##0","",""]
["H6 Activos Fijos",{"$f":"' '!$AD$4163","v":0},{"$f":"Formula_Local(Campos_Ingreso_Datos[[#This Row],[Vinculo]])","v":"=' '!$AD$4163"},"#,##0","",""]
["H6 Activos Fijos",{"$f":"' '!$AE$4163","v":0},{"$f":"Formula_Local(Campos_Ingreso_Datos[[#This Row],[Vinculo]])","v":"=' '!$AE$4163"},"#,##0","",""]
["H6 Activos Fijos",{"$f":"' '!$AF$4163","v":0},{"$f":"Formula_Local(Campos_Ingreso_Datos[[#This Row],[Vinculo]])","v":"=' '!$AF$4163"},"#,##0","",""]
["H6 Activos Fijos",{"$f":"' '!$AH$4163","v":0},{"$f":"Formula_Local(Campos_Ingreso_Datos[[#This Row],[Vinculo]])","v":"=' '!$AH$4163"},"#,##0","",""]
["H6 Activos Fijos",{"$f":"' '!$D$4164","v":0},{"$f":"Formula_Local(Campos_Ingreso_Datos[[#This Row],[Vinculo]])","v":"=' '!$D$4164"},"#,##0","",""]
["H6 Activos Fijos",{"$f":"' '!$F$4164","v":0},{"$f":"Formula_Local(Campos_Ingreso_Datos[[#This Row],[Vinculo]])","v":"=' '!$F$4164"},"#,##0","",""]
["H6 Activos Fijos",{"$f":"' '!$G$4164","v":0},{"$f":"Formula_Local(Campos_Ingreso_Datos[[#This Row],[Vinculo]])","v":"=' '!$G$4164"},"#,##0","",""]
["H6 Activos Fijos",{"$f":"' '!$H$4164","v":0},{"$f":"Formula_Local(Campos_Ingreso_Datos[[#This Row],[Vinculo]])","v":"=' '!$H$4164"},"#,##0","",""]
["H6 Activos Fijos",{"$f":"' '!$I$4164","v":0},{"$f":"Formula_Local(Campos_Ingreso_Datos[[#This Row],[Vinculo]])","v":"=' '!$I$4164"},"#,##0","",""]
["H6 Activos Fijos",{"$f":"' '!$J$4164","v":0},{"$f":"Formula_Local(Campos_Ingreso_Datos[[#This Row],[Vinculo]])","v":"=' '!$J$4164"},"#,##0","",""]
["H6 Activos Fijos",{"$f":"' '!$K$4164","v":0},{"$f":"Formula_Local(Campos_Ingreso_Datos[[#This Row],[Vinculo]])","v":"=' '!$K$4164"},"#,##0","",""]
["H6 Activos Fijos",{"$f":"' '!$M$4164","v":0},{"$f":"Formula_Local(Campos_Ingreso_Datos[[#This Row],[Vinculo]])","v":"=' '!$M$4164"},"#,##0","",""]
["H6 Activos Fijos",{"$f":"' '!$N$4164","v":0},{"$f":"Formula_Local(Campos_Ingreso_Datos[[#This Row],[Vinculo]])","v":"=' '!$N$4164"},"#,##0","",""]
["H6 Activos Fijos",{"$f":"' '!$Q$4164","v":0},{"$f":"Formula_Local(Campos_Ingreso_Datos[[#This Row],[Vinculo]])","v":"=' '!$Q$4164"},"#,##0","",""]
["H6 Activos Fijos",{"$f":"' '!$R$4164","v":0},{"$f":"Formula_Local(Campos_Ingreso_Datos[[#This Row],[Vinculo]])","v":"=' '!$R$4164"},"#,##0","",""]
["H6 Activos Fijos",{"$f":"' '!$S$4164","v":0},{"$f":"Formula_Local(Campos_Ingreso_Datos[[#This Row],[Vinculo]])","v":"=' '!$S$4164"},"#,##0","",""]
["H6 Activos Fijos",{"$f":"' '!$T$4164","v":0},{"$f":"Formula_Local(Campos_Ingreso_Datos[[#This Row],[Vinculo]])","v":"=' '!$T$4164"},"#,##0","",""]
["H6 Activos Fijos",{"$f":"' '!$U$4164","v":0},{"$f":"Formula_Local(Campos_Ingreso_Datos[[#This Row],[Vinculo]])","v":"=' '!$U$4164"},"#,##0","",""]
["H6 Activos Fijos",{"$f":"' '!$V$4164","v":0},{"$f":"Formula_Local(Campos_Ingreso_Datos[[#This Row],[Vinculo]])","v":"=' '!$V$4164"},"#,##0","",""]
["H6 Activos Fijos",{"$f":"' '!$W$4164","v":0},{"$f":"Formula_Local(Campos_Ingreso_Datos[[#This Row],[Vinculo]])","v":"=' '!$W$4164"},"#,##0","",""]
["H6 Activos Fijos",{"$f":"' '!$X$4164","v":0},{"$f":"Formula_Local(Campos_Ingreso_Datos[[#This Row],[Vinculo]])","v":"=' '!$X$4164"},"#,##0","",""]
["H6 Activos Fijos",{"$f":"' '!$Y$4164","v":0},{"$f":"Formula_Local(Campos_Ingreso_Datos[[#This Row],[Vinculo]])","v":"=' '!$Y$4164"},"#,##0","",""]
["H6 Activos Fijos",{"$f":"' '!$Z$4164","v":0},{"$f":"Formula_Local(Campos_Ingreso_Datos[[#This Row],[Vinculo]])","v":"=' '!$Z$4164"},"#,##0","",""]
["H6 Activos Fijos",{"$f":"' '!$AB$4164","v":0},{"$f":"Formula_Local(Campos_Ingreso_Datos[[#This Row],[Vinculo]])","v":"=' '!$AB$4164"},"#,##0","",""]
["H6 Activos Fijos",{"$f":"' '!$AD$4164","v":0},{"$f":"Formula_Local(Campos_Ingreso_Datos[[#This Row],[Vinculo]])","v":"=' '!$AD$4164"},"#,##0","",""]
["H6 Activos Fijos",{"$f":"' '!$AE$4164","v":0},{"$f":"Formula_Local(Campos_Ingreso_Datos[[#This Row],[Vinculo]])","v":"=' '!$AE$4164"},"#,##0","",""]
["H6 Activos Fijos",{"$f":"' '!$AF$4164","v":0},{"$f":"Formula_Local(Campos_Ingreso_Datos[[#This Row],[Vinculo]])","v":"=' '!$AF$4164"},"#,##0","",""]
["H6 Activos Fijos",{"$f":"' '!$AH$4164","v":0},{"$f":"Formula_Local(Campos_Ingreso_Datos[[#This Row],[Vinculo]])","v":"=' '!$AH$4164"},"#,##0","",""]
["H6 Activos Fijos",{"$f":"' '!$D$4165","v":0},{"$f":"Formula_Local(Campos_Ingreso_Datos[[#This Row],[Vinculo]])","v":"=' '!$D$4165"},"#,##0","",""]
["H6 Activos Fijos",{"$f":"' '!$F$4165","v":0},{"$f":"Formula_Local(Campos_Ingreso_Datos[[#This Row],[Vinculo]])","v":"=' '!$F$4165"},"#,##0","",""]
["H6 Activos Fijos",{"$f":"' '!$G$4165","v":0},{"$f":"Formula_Local(Campos_Ingreso_Datos[[#This Row],[Vinculo]])","v":"=' '!$G$4165"},"#,##0","",""]
["H6 Activos Fijos",{"$f":"' '!$H$4165","v":0},{"$f":"Formula_Local(Campos_Ingreso_Datos[[#This Row],[Vinculo]])","v":"=' '!$H$4165"},"#,##0","",""]
["H6 Activos Fijos",{"$f":"' '!$I$4165","v":0},{"$f":"Formula_Local(Campos_Ingreso_Datos[[#This Row],[Vinculo]])","v":"=' '!$I$4165"},"#,##0","",""]
["H6 Activos Fijos",{"$f":"' '!$J$4165","v":0},{"$f":"Formula_Local(Campos_Ingreso_Datos[[#This Row],[Vinculo]])","v":"=' '!$J$4165"},"#,##0","",""]
["H6 Activos Fijos",{"$f":"' '!$K$4165","v":0},{"$f":"Formula_Local(Campos_Ingreso_Datos[[#This Row],[Vinculo]])","v":"=' '!$K$4165"},"#,##0","",""]
["H6 Activos Fijos",{"$f":"' '!$M$4165","v":0},{"$f":"Formula_Local(Campos_Ingreso_Datos[[#This Row],[Vinculo]])","v":"=' '!$M$4165"},"#,##0","",""]
["H6 Activos Fijos",{"$f":"' '!$N$4165","v":0},{"$f":"Formula_Local(Campos_Ingreso_Datos[[#This Row],[Vinculo]])","v":"=' '!$N$4165"},"#,##0","",""]
["H6 Activos Fijos",{"$f":"' '!$Q$4165","v":0},{"$f":"Formula_Local(Campos_Ingreso_Datos[[#This Row],[Vinculo]])","v":"=' '!$Q$4165"},"#,##0","",""]
["H6 Activos Fijos",{"$f":"' '!$R$4165","v":0},{"$f":"Formula_Local(Campos_Ingreso_Datos[[#This Row],[Vinculo]])","v":"=' '!$R$4165"},"#,##0","",""]
["H6 Activos Fijos",{"$f":"' '!$S$4165","v":0},{"$f":"Formula_Local(Campos_Ingreso_Datos[[#This Row],[Vinculo]])","v":"=' '!$S$4165"},"#,##0","",""]
["H6 Activos Fijos",{"$f":"' '!$T$4165","v":0},{"$f":"Formula_Local(Campos_Ingreso_Datos[[#This Row],[Vinculo]])","v":"=' '!$T$4165"},"#,##0","",""]
["H6 Activos Fijos",{"$f":"' '!$U$4165","v":0},{"$f":"Formula_Local(Campos_Ingreso_Datos[[#This Row],[Vinculo]])","v":"=' '!$U$4165"},"#,##0","",""]
["H6 Activos Fijos",{"$f":"' '!$V$4165","v":0},{"$f":"Formula_Local(Campos_Ingreso_Datos[[#This Row],[Vinculo]])","v":"=' '!$V$4165"},"#,##0","",""]
["H6 Activos Fijos",{"$f":"' '!$W$4165","v":0},{"$f":"Formula_Local(Campos_Ingreso_Datos[[#This Row],[Vinculo]])","v":"=' '!$W$4165"},"#,##0","",""]
["H6 Activos Fijos",{"$f":"' '!$X$4165","v":0},{"$f":"Formula_Local(Campos_Ingreso_Datos[[#This Row],[Vinculo]])","v":"=' '!$X$4165"},"#,##0","",""]
["H6 Activos Fijos",{"$f":"' '!$Y$4165","v":0},{"$f":"Formula_Local(Campos_Ingreso_Datos[[#This Row],[Vinculo]])","v":"=' '!$Y$4165"},"#,##0","",""]
["H6 Activos Fijos",{"$f":"' '!$Z$4165","v":0},{"$f":"Formula_Local(Campos_Ingreso_Datos[[#This Row],[Vinculo]])","v":"=' '!$Z$4165"},"#,##0","",""]
["H6 Activos Fijos",{"$f":"' '!$AB$4165","v":0},{"$f":"Formula_Local(Campos_Ingreso_Datos[[#This Row],[Vinculo]])","v":"=' '!$AB$4165"},"#,##0","",""]
["H6 Activos Fijos",{"$f":"' '!$AD$4165","v":0},{"$f":"Formula_Local(Campos_Ingreso_Datos[[#This Row],[Vinculo]])","v":"=' '!$AD$4165"},"#,##0","",""]
["H6 Activos Fijos",{"$f":"' '!$AE$4165","v":0},{"$f":"Formula_Local(Campos_Ingreso_Datos[[#This Row],[Vinculo]])","v":"=' '!$AE$4165"},"#,##0","",""]
["H6 Activos Fijos",{"$f":"' '!$AF$4165","v":0},{"$f":"Formula_Local(Campos_Ingreso_Datos[[#This Row],[Vinculo]])","v":"=' '!$AF$4165"},"#,##0","",""]
["H6 Activos Fijos",{"$f":"' '!$AH$4165","v":0},{"$f":"Formula_Local(Campos_Ingreso_Datos[[#This Row],[Vinculo]])","v":"=' '!$AH$4165"},"#,##0","",""]
["H6 Activos Fijos",{"$f":"' '!$D$4166","v":0},{"$f":"Formula_Local(Campos_Ingreso_Datos[[#This Row],[Vinculo]])","v":"=' '!$D$4166"},"#,##0","",""]
["H6 Activos Fijos",{"$f":"' '!$F$4166","v":0},{"$f":"Formula_Local(Campos_Ingreso_Datos[[#This Row],[Vinculo]])","v":"=' '!$F$4166"},"#,##0","",""]
["H6 Activos Fijos",{"$f":"' '!$G$4166","v":0},{"$f":"Formula_Local(Campos_Ingreso_Datos[[#This Row],[Vinculo]])","v":"=' '!$G$4166"},"#,##0","",""]
["H6 Activos Fijos",{"$f":"' '!$H$4166","v":0},{"$f":"Formula_Local(Campos_Ingreso_Datos[[#This Row],[Vinculo]])","v":"=' '!$H$4166"},"#,##0","",""]
["H6 Activos Fijos",{"$f":"' '!$I$4166","v":0},{"$f":"Formula_Local(Campos_Ingreso_Datos[[#This Row],[Vinculo]])","v":"=' '!$I$4166"},"#,##0","",""]
["H6 Activos Fijos",{"$f":"' '!$J$4166","v":0},{"$f":"Formula_Local(Campos_Ingreso_Datos[[#This Row],[Vinculo]])","v":"=' '!$J$4166"},"#,##0","",""]
["H6 Activos Fijos",{"$f":"' '!$K$4166","v":0},{"$f":"Formula_Local(Campos_Ingreso_Datos[[#This Row],[Vinculo]])","v":"=' '!$K$4166"},"#,##0","",""]
["H6 Activos Fijos",{"$f":"' '!$M$4166","v":0},{"$f":"Formula_Local(Campos_Ingreso_Datos[[#This Row],[Vinculo]])","v":"=' '!$M$4166"},"#,##0","",""]
["H6 Activos Fijos",{"$f":"' '!$N$4166","v":0},{"$f":"Formula_Local(Campos_Ingreso_Datos[[#This Row],[Vinculo]])","v":"=' '!$N$4166"},"#,##0","",""]
["H6 Activos Fijos",{"$f":"' '!$Q$4166","v":0},{"$f":"Formula_Local(Campos_Ingreso_Datos[[#This Row],[Vinculo]])","v":"=' '!$Q$4166"},"#,##0","",""]
["H6 Activos Fijos",{"$f":"' '!$R$4166","v":0},{"$f":"Formula_Local(Campos_Ingreso_Datos[[#This Row],[Vinculo]])","v":"=' '!$R$4166"},"#,##0","",""]
["H6 Activos Fijos",{"$f":"' '!$S$4166","v":0},{"$f":"Formula_Local(Campos_Ingreso_Datos[[#This Row],[Vinculo]])","v":"=' '!$S$4166"},"#,##0","",""]
["H6 Activos Fijos",{"$f":"' '!$T$4166","v":0},{"$f":"Formula_Local(Campos_Ingreso_Datos[[#This Row],[Vinculo]])","v":"=' '!$T$4166"},"#,##0","",""]
["H6 Activos Fijos",{"$f":"' '!$U$4166","v":0},{"$f":"Formula_Local(Campos_Ingreso_Datos[[#This Row],[Vinculo]])","v":"=' '!$U$4166"},"#,##0","",""]
["H6 Activos Fijos",{"$f":"' '!$V$4166","v":0},{"$f":"Formula_Local(Campos_Ingreso_Datos[[#This Row],[Vinculo]])","v":"=' '!$V$4166"},"#,##0","",""]
["H6 Activos Fijos",{"$f":"' '!$W$4166","v":0},{"$f":"Formula_Local(Campos_Ingreso_Datos[[#This Row],[Vinculo]])","v":"=' '!$W$4166"},"#,##0","",""]
["H6 Activos Fijos",{"$f":"' '!$X$4166","v":0},{"$f":"Formula_Local(Campos_Ingreso_Datos[[#This Row],[Vinculo]])","v":"=' '!$X$4166"},"#,##0","",""]
["H6 Activos Fijos",{"$f":"' '!$Y$4166","v":0},{"$f":"Formula_Local(Campos_Ingreso_Datos[[#This Row],[Vinculo]])","v":"=' '!$Y$4166"},"#,##0","",""]
["H6 Activos Fijos",{"$f":"' '!$Z$4166","v":0},{"$f":"Formula_Local(Campos_Ingreso_Datos[[#This Row],[Vinculo]])","v":"=' '!$Z$4166"},"#,##0","",""]
["H6 Activos Fijos",{"$f":"' '!$AB$4166","v":0},{"$f":"Formula_Local(Campos_Ingreso_Datos[[#This Row],[Vinculo]])","v":"=' '!$AB$4166"},"#,##0","",""]
["H6 Activos Fijos",{"$f":"' '!$AD$4166","v":0},{"$f":"Formula_Local(Campos_Ingreso_Datos[[#This Row],[Vinculo]])","v":"=' '!$AD$4166"},"#,##0","",""]
["H6 Activos Fijos",{"$f":"' '!$AE$4166","v":0},{"$f":"Formula_Local(Campos_Ingreso_Datos[[#This Row],[Vinculo]])","v":"=' '!$AE$4166"},"#,##0","",""]
["H6 Activos Fijos",{"$f":"' '!$AF$4166","v":0},{"$f":"Formula_Local(Campos_Ingreso_Datos[[#This Row],[Vinculo]])","v":"=' '!$AF$4166"},"#,##0","",""]
["H6 Activos Fijos",{"$f":"' '!$AH$4166","v":0},{"$f":"Formula_Local(Campos_Ingreso_Datos[[#This Row],[Vinculo]])","v":"=' '!$AH$4166"},"#,##0","",""]
["Beneficios de Auditoría",{"$f":"' '!$C$4381","v":0},{"$f":"Formula_Local(Campos_Ingreso_Datos[[#This Row],[Vinculo]])","v":"=' '!$C$4381"},"General","=Listas!$B$2:$B$3",""]
["Beneficios de Auditoría",{"$f":"' '!$C$4382","v":0},{"$f":"Formula_Local(Campos_Ingreso_Datos[[#This Row],[Vinculo]])","v":"=' '!$C$4382"},"General","=Listas!$B$2:$B$3",""]
["Activos",{"$f":"IFERROR(INDIRECT(SUBSTITUTE(Campos_Ingreso_Datos[[#This Row],[Rango]],\"=\",\"\")),\"\")","v":"Total efectivo "},{"$f":"IF(ROW(' '!$B$309)-ROW(' '!$B$306)>2,direccion_celda(OFFSET(' '!$B$306,1,0)),\"\")","v":"=' '!$B$307"},"General",null,null,"Total efectivo ",null,{"$f":"IFERROR(OFFSET(Ref_Conteo,ROW(INDIRECT(SUBSTITUTE(Campos_Ingreso_Datos[[#This Row],[Rango]],\"=\",\"\")))-1,0),\"\")","v":"Efectivo "}]
["Activos",{"$f":"IFERROR(INDIRECT(SUBSTITUTE(Campos_Ingreso_Datos[[#This Row],[Rango]],\"=\",\"\")),\"\")","v":"Publicidad "},{"$f":"IF(ROW(' '!$B$636)-ROW(' '!$B$630)>2,direccion_celda(OFFSET(' '!$B$630,1,0)),\"\")","v":"=' '!$B$631"},"General",null,null,"Publicidad ",null,{"$f":"IFERROR(OFFSET(Ref_Conteo,ROW(INDIRECT(SUBSTITUTE(Campos_Ingreso_Datos[[#This Row],[Rango]],\"=\",\"\")))-1,0),\"\")","v":"Gastos pagados por anticipado"}]
["Activos",{"$f":"IFERROR(INDIRECT(SUBSTITUTE(Campos_Ingreso_Datos[[#This Row],[Rango]],\"=\",\"\")),\"\")","v":"Prima de seguros "},{"$f":"IF(ROW(' '!$B$636)-ROW(' '!$B$630)>3,direccion_celda(OFFSET(' '!$B$630,2,0)),\"\")","v":"=' '!$B$632"},"General",null,null,"Prima de seguros ",null,{"$f":"IFERROR(OFFSET(Ref_Conteo,ROW(INDIRECT(SUBSTITUTE(Campos_Ingreso_Datos[[#This Row],[Rango]],\"=\",\"\")))-1,0),\"\")","v":"Gastos pagados por anticipado"}]
["Activos",{"$f":"IFERROR(INDIRECT(SUBSTITUTE(Campos_Ingreso_Datos[[#This Row],[Rango]],\"=\",\"\")),\"\")","v":"Arrendamientos "},{"$f":"IF(ROW(' '!$B$636)-ROW(' '!$B$630)>4,direccion_celda(OFFSET(' '!$B$630,3,0)),\"\")","v":"=' '!$B$633"},"General",null,null,"Arrendamientos ",null,{"$f":"IFERROR(OFFSET(Ref_Conteo,ROW(INDIRECT(SUBSTITUTE(Campos_Ingreso_Datos[[#This Row],[Rango]],\"=\",\"\")))-1,0),\"\")","v":"Gastos pagados por anticipado"}]
["Activos",{"$f":"IFERROR(INDIRECT(SUBSTITUTE(Campos_Ingreso_Datos[[#This Row],[Rango]],\"=\",\"\")),\"\")","v":"Otros "},{"$f":"IF(ROW(' '!$B$636)-ROW(' '!$B$630)>5,direccion_celda(OFFSET(' '!$B$630,4,0)),\"\")","v":"=' '!$B$634"},"General",null,null,"Otros ",null,{"$f":"IFERROR(OFFSET(Ref_Conteo,ROW(INDIRECT(SUBSTITUTE(Campos_Ingreso_Datos[[#This Row],[Rango]],\"=\",\"\")))-1,0),\"\")","v":"Gastos pagados por anticipado"}]
["Activos",{"$f":"IFERROR(INDIRECT(SUBSTITUTE(Campos_Ingreso_Datos[[#This Row],[Rango]],\"=\",\"\")),\"\")","v":"Saldo a favor impuesto de renta "},{"$f":"IF(ROW(' '!$B$642)-ROW(' '!$B$636)>2,direccion_celda(OFFSET(' '!$B$636,1,0)),\"\")","v":"=' '!$B$637"},"General",null,null,"Saldo a favor impuesto de renta ",null,{"$f":"IFERROR(OFFSET(Ref_Conteo,ROW(INDIRECT(SUBSTITUTE(Campos_Ingreso_Datos[[#This Row],[Rango]],\"=\",\"\")))-1,0),\"\")","v":"Por impuestos corrientes "}]
["Activos",{"$f":"IFERROR(INDIRECT(SUBSTITUTE(Campos_Ingreso_Datos[[#This Row],[Rango]],\"=\",\"\")),\"\")","v":"Saldo a favor otros impuestos y gravámenes "},{"$f":"IF(ROW(' '!$B$642)-ROW(' '!$B$636)>3,direccion_celda(OFFSET(' '!$B$636,2,0)),\"\")","v":"=' '!$B$638"},"General",null,null,"Saldo a favor otros impuestos y gravámenes ",null,{"$f":"IFERROR(OFFSET(Ref_Conteo,ROW(INDIRECT(SUBSTITUTE(Campos_Ingreso_Datos[[#This Row],[Rango]],\"=\",\"\")))-1,0),\"\")","v":"Por impuestos corrientes "}]
["Activos",{"$f":"IFERROR(INDIRECT(SUBSTITUTE(Campos_Ingreso_Datos[[#This Row],[Rango]],\"=\",\"\")),\"\")","v":"Descuentos Tributarios"},{"$f":"IF(ROW(' '!$B$642)-ROW(' '!$B$636)>4,direccion_celda(OFFSET(' '!$B$636,3,0)),\"\")","v":"=' '!$B$639"},"General",null,null,"Descuentos Tributarios",null,{"$f":"IFERROR(OFFSET(Ref_Conteo,ROW(INDIRECT(SUBSTITUTE(Campos_Ingreso_Datos[[#This Row],[Rango]],\"=\",\"\")))-1,0),\"\")","v":"Por impuestos corrientes "}]
["Activos",{"$f":"IFERROR(INDIRECT(SUBSTITUTE(Campos_Ingreso_Datos[[#This Row],[Rango]],\"=\",\"\")),\"\")","v":"Anticipos y otros "},{"$f":"IF(ROW(' '!$B$642)-ROW(' '!$B$636)>5,direccion_celda(OFFSET(' '!$B$636,4,0)),\"\")","v":"=' '!$B$640"},"General",null,null,"Anticipos y otros ",null,{"$f":"IFERROR(OFFSET(Ref_Conteo,ROW(INDIRECT(SUBSTITUTE(Campos_Ingreso_Datos[[#This Row],[Rango]],\"=\",\"\")))-1,0),\"\")","v":"Por impuestos corrientes "}]
["Tasa Mínima",{"$f":"IFERROR(INDIRECT(SUBSTITUTE(Campos_Ingreso_Datos[[#This Row],[Rango]],\"=\",\"\")),\"\")","v":"Otros ingresos no constitutivos de renta "},{"$f":"IF(ROW(' '!$B$2634)-ROW(' '!$B$2627)>6,direccion_celda(OFFSET(' '!$B$2627,5,0)),\"\")","v":"=' '!$B$2632"},"General",null,null,"Otros ingresos no constitutivos de renta ",null,{"$f":"IFERROR(OFFSET(Ref_Conteo,ROW(INDIRECT(SUBSTITUTE(Campos_Ingreso_Datos[[#This Row],[Rango]],\"=\",\"\")))-1,0),\"\")","v":"Menos Ingresos no constitutivos de renta "}]
["Tasa Mínima",{"$f":"IFERROR(INDIRECT(SUBSTITUTE(Campos_Ingreso_Datos[[#This Row],[Rango]],\"=\",\"\")),\"\")","v":"Mayor gasto por depreciación contable "},{"$f":"IF(ROW(' '!$B$2662)-ROW(' '!$B$2652)>3,direccion_celda(OFFSET(' '!$B$2652,2,0)),\"\")","v":"=' '!$B$2654"},"General",null,null,"Mayor gasto por depreciación contable ",null,{"$f":"IFERROR(OFFSET(Ref_Conteo,ROW(INDIRECT(SUBSTITUTE(Campos_Ingreso_Datos[[#This Row],[Rango]],\"=\",\"\")))-1,0),\"\")","v":"Más Gastos contables no deducibles "}]
["Tasa Mínima",{"$f":"IFERROR(INDIRECT(SUBSTITUTE(Campos_Ingreso_Datos[[#This Row],[Rango]],\"=\",\"\")),\"\")","v":"Gasto por deterioro de inventarios "},{"$f":"IF(ROW(' '!$B$2662)-ROW(' '!$B$2652)>4,direccion_celda(OFFSET(' '!$B$2652,3,0)),\"\")","v":"=' '!$B$2655"},"General",null,null,"Gasto por deterioro de inventarios ",null,{"$f":"IFERROR(OFFSET(Ref_Conteo,ROW(INDIRECT(SUBSTITUTE(Campos_Ingreso_Datos[[#This Row],[Rango]],\"=\",\"\")))-1,0),\"\")","v":"Más Gastos contables no deducibles "}]
["Tasa Mínima",{"$f":"IFERROR(INDIRECT(SUBSTITUTE(Campos_Ingreso_Datos[[#This Row],[Rango]],\"=\",\"\")),\"\")","v":"Gasto por impuestos no deducibles "},{"$f":"IF(ROW(' '!$B$2662)-ROW(' '!$B$2652)>5,direccion_celda(OFFSET(' '!$B$2652,4,0)),\"\")","v":"=' '!$B$2656"},"General",null,null,"Gasto por impuestos no deducibles ",null,{"$f":"IFERROR(OFFSET(Ref_Conteo,ROW(INDIRECT(SUBSTITUTE(Campos_Ingreso_Datos[[#This Row],[Rango]],\"=\",\"\")))-1,0),\"\")","v":"Más Gastos contables no deducibles "}]
["Tasa Mínima",{"$f":"IFERROR(INDIRECT(SUBSTITUTE(Campos_Ingreso_Datos[[#This Row],[Rango]],\"=\",\"\")),\"\")","v":"Gastos extraordinarios "},{"$f":"IF(ROW(' '!$B$2662)-ROW(' '!$B$2652)>6,direccion_celda(OFFSET(' '!$B$2652,5,0)),\"\")","v":"=' '!$B$2657"},"General",null,null,"Gastos extraordinarios ",null,{"$f":"IFERROR(OFFSET(Ref_Conteo,ROW(INDIRECT(SUBSTITUTE(Campos_Ingreso_Datos[[#This Row],[Rango]],\"=\",\"\")))-1,0),\"\")","v":"Más Gastos contables no deducibles "}]
["Tasa Mínima",{"$f":"IFERROR(INDIRECT(SUBSTITUTE(Campos_Ingreso_Datos[[#This Row],[Rango]],\"=\",\"\")),\"\")","v":"Gastos por donaciones a entidades del RTE "},{"$f":"IF(ROW(' '!$B$2662)-ROW(' '!$B$2652)>7,direccion_celda(OFFSET(' '!$B$2652,6,0)),\"\")","v":"=' '!$B$2658"},"General",null,null,"Gastos por donaciones a entidades del RTE ",null,{"$f":"IFERROR(OFFSET(Ref_Conteo,ROW(INDIRECT(SUBSTITUTE(Campos_Ingreso_Datos[[#This Row],[Rango]],\"=\",\"\")))-1,0),\"\")","v":"Más Gastos contables no deducibles "}]
["Tasa Mínima",{"$f":"IFERROR(INDIRECT(SUBSTITUTE(Campos_Ingreso_Datos[[#This Row],[Rango]],\"=\",\"\")),\"\")","v":"Gastos Diversos "},{"$f":"IF(ROW(' '!$B$2662)-ROW(' '!$B$2652)>8,direccion_celda(OFFSET(' '!$B$2652,7,0)),\"\")","v":"=' '!$B$2659"},"General",null,null,"Gastos Diversos ",null,{"$f":"IFERROR(OFFSET(Ref_Conteo,ROW(INDIRECT(SUBSTITUTE(Campos_Ingreso_Datos[[#This Row],[Rango]],\"=\",\"\")))-1,0),\"\")","v":"Más Gastos contables no deducibles "}]
["Tasa Mínima",{"$f":"IFERROR(INDIRECT(SUBSTITUTE(Campos_Ingreso_Datos[[#This Row],[Rango]],\"=\",\"\")),\"\")","v":"Otros gastos no deducibles "},{"$f":"IF(ROW(' '!$B$2662)-ROW(' '!$B$2652)>9,direccion_celda(OFFSET(' '!$B$2652,8,0)),\"\")","v":"=' '!$B$2660"},"General",null,null,"Otros gastos no deducibles ",null,{"$f":"IFERROR(OFFSET(Ref_Conteo,ROW(INDIRECT(SUBSTITUTE(Campos_Ingreso_Datos[[#This Row],[Rango]],\"=\",\"\")))-1,0),\"\")","v":"Más Gastos contables no deducibles "}]

{"sheet":"Resumen","index":3,"n_rows":152,"n_cols":9,"rows_kept":152,"cut":false,"hidden":true,"merged":[[146,3,146,4],[118,3,118,4],[104,3,104,4],[130,3,130,4],[81,2,81,3]]}
[]
[null,"Resumen de información F110"]
[]
[null,"Datos informativos",null,null,null,null,"Sin conciliación / sin tasa","Con tasa","Conciliación"]
[null,null,null,"Total costos y gastos de nómina",33,null,{"$f":"ROUND(' '!H1773,-3)","v":0},{"$f":"ROUND(' '!H1773,-3)","v":0},{"$f":"ROUND(' '!H1773,-3)","v":0}]
[null,null,null,"Aportes al sistema de seguridad social",34,null,{"$f":"ROUND(' '!H1776,-3)","v":0},{"$f":"ROUND(' '!H1776,-3)","v":0},{"$f":"ROUND(' '!H1776,-3)","v":0}]
[null,null,null,"Aportes al SENA, ICBF y cajas de compensación",35,null,{"$f":"ROUND(' '!H1779,-3)","v":0},{"$f":"ROUND(' '!H1779,-3)","v":0},{"$f":"ROUND(' '!H1779,-3)","v":0}]
[null,"Patrimonio "]
[null,null,null,"Efectivo y equivalentes al efectivo",36,null,{"$f":"ROUND(' '!H315,-3)","v":0},{"$f":"ROUND(' '!H315,-3)","v":0},{"$f":"ROUND(' '!H315,-3)","v":0}]
[null,null,null,"Inversiones e instrumentos financieros derivados",37,null,{"$f":"ROUND(' '!H366,-3)","v":0},{"$f":"ROUND(' '!H366,-3)","v":0},{"$f":"ROUND(' '!H366,-3)","v":0}]
[null,null,null,"Cuentas, documentos y arrendamientos financieros por cobrar",38,null,{"$f":"ROUND(' '!H415,-3)","v":0},{"$f":"ROUND(' '!H415,-3)","v":0},{"$f":"ROUND(' '!H415,-3)","v":0}]
[null,null,null,"Inventarios ",39,null,{"$f":"ROUND(' '!H459,-3)","v":0},{"$f":"ROUND(' '!H459,-3)","v":0},{"$f":"ROUND(' '!H459,-3)","v":0}]
[null,null,null,"Activos intangibles",40,null,{"$f":"ROUND(' '!H530+' '!H553,-3)","v":0},{"$f":"ROUND(' '!H530+' '!H553,-3)","v":0},{"$f":"ROUND(' '!H530+' '!H553,-3)","v":0}]
[null,null,null,"Activos biológicos",41,null,{"$f":"ROUND(' '!H609,-3)","v":0},{"$f":"ROUND(' '!H609,-3)","v":0},{"$f":"ROUND(' '!H609,-3)","v":0}]
[null,null,null,"Propiedades, planta y equipo, propiedades de inversión y ANCMV",42,null,{"$f":"ROUND(' '!H495+' '!H574+' '!H622,-3)","v":0},{"$f":"ROUND(' '!H495+' '!H574+' '!H622,-3)","v":0},{"$f":"ROUND(' '!H495+' '!H574+' '!H622,-3)","v":0}]
[null,null,null,"Otros activos ",43,null,{"$f":"ROUND(' '!H650,-3)","v":0},{"$f":"ROUND(' '!H650,-3)","v":0},{"$f":"ROUND(' '!H650,-3)","v":0}]
[null,null,null,"Total patrimonio bruto",44,null,{"$f":"ROUND(IF(SUM(G9:G16)>0,SUM(G9:G16),0),-3)","v":0},{"$f":"ROUND(IF(SUM(G9:G16)>0,SUM(G9:G16),0),-3)","v":0},{"$f":"ROUND(IF(SUM(I9:I16)>0,SUM(I9:I16),0),-3)","v":0}]
[null,null,null,"Pasivos",45,null,{"$f":"+ROUND(' '!H694+' '!H708+' '!H724+' '!H744+' '!H761+' '!H799+' '!H816+' '!H845,-3)","v":0},{"$f":"+ROUND(' '!H694+' '!H708+' '!H724+' '!H744+' '!H761+' '!H799+' '!H816+' '!H845,-3)","v":0},{"$f":"+ROUND(' '!H694+' '!H708+' '!H724+' '!H744+' '!H761+' '!H799+' '!H816+' '!H845,-3)","v":0}]
[null,null,null,"Total patrimonio líquido ",46,null,{"$f":"ROUND(IF(G17-G18>0,G17-G18,0),-3)","v":0},{"$f":"ROUND(IF(G17-G18>0,G17-G18,0),-3)","v":0},{"$f":"ROUND(IF(I17-I18>0,I17-I18,0),-3)","v":0}]
[null,"Ingresos"]
[null,null,null,"Ingresos brutos de actividades ordinarias",47,null,{"$f":"ROUND((+' '!H998+' '!H1021+' '!H1056+' '!H1319+' '!H1205+' '!H1248+' '!H1222),-3)","v":0},{"$f":"ROUND((+' '!H998+' '!H1021+' '!H1056+' '!H1319+' '!H1205+' '!H1248+' '!H1222),-3)","v":0},{"$f":"ROUND((+' '!H998+' '!H1021+' '!H1056+' '!H1319+' '!H1205+' '!H1248+' '!H1222),-3)","v":0}]
[null,null,null,"Ingresos financieros",48,null,{"$f":"ROUND(' '!H1107,-3)","v":0},{"$f":"ROUND(' '!H1107,-3)","v":0},{"$f":"ROUND(' '!H1107,-3)","v":0}]
[null,null,null,"Dividendos y/o participaciones no constitutivos de renta ni ganancia ocasional (incluye capitalizaciones no gravadas)",49,null,{"$f":"ROUND(' '!H1123,-3)","v":0},{"$f":"ROUND(' '!H1123,-3)","v":0},{"$f":"ROUND(' '!H1123,-3)","v":0}]
[null,null,null,"Dividendos y/o participaciones distribuidos por entidades no residentes en Colombia a una CHC y prima en colocación de acciones",50,null,{"$f":"ROUND(' '!H1126,-3)","v":0},{"$f":"ROUND(' '!H1126,-3)","v":0},{"$f":"ROUND(' '!H1126,-3)","v":0}]
[null,null,null,"Dividendos y/o participaciones gravadas a la tarifa general provenientes de sociedades y entidades extranjeras o de sociedades nacionales",51,null,{"$f":"ROUND(' '!H1129,-3)","v":0},{"$f":"ROUND(' '!H1129,-3)","v":0},{"$f":"ROUND(' '!H1129,-3)","v":0}]
[null,null,null,"Dividendos y/o participaciones gravadas recibidas por personas naturales sin residencia fiscal (año 2016 y anteriores)",52,null,{"$f":"ROUND(' '!H1132,-3)","v":0},{"$f":"ROUND(' '!H1132,-3)","v":0},{"$f":"ROUND(' '!H1132,-3)","v":0}]
[null,null,null,"Dividendos y/o participaciones gravadas recibidas por personas naturales sin residencia fiscal (año 2017 y siguientes)",53,null,{"$f":"ROUND(' '!H1135,-3)","v":0},{"$f":"ROUND(' '!H1135,-3)","v":0},{"$f":"ROUND(' '!H1135,-3)","v":0}]
[null,null,null,"Dividendos y participaciones gravadas a las tarifas de los artículo 245 o 246 del ET",54,null,{"$f":"ROUND(' '!H1138,-3)","v":0},{"$f":"ROUND(' '!H1138,-3)","v":0},{"$f":"ROUND(' '!H1138,-3)","v":0}]
[null,null,null,"Dividendos y/o participaciones gravadas a la tarifa general (EP y sociedades extranjeras - utilidades generadas a partir del año 2017)",55,null,{"$f":"ROUND(' '!H1141,-3)","v":0},{"$f":"ROUND(' '!H1141,-3)","v":0},{"$f":"ROUND(' '!H1141,-3)","v":0}]
[null,null,null,"Dividendos y/o participaciones provenientes de proyectos calificados como megainversión gravadas al 27%",56,null,{"$f":"ROUND(' '!H1144,-3)","v":0},{"$f":"ROUND(' '!H1144,-3)","v":0},{"$f":"ROUND(' '!H1144,-3)","v":0}]
[null,null,null,"Otros ingresos ",57,null,{"$f":"ROUND((' '!H1299+' '!H1359),-3)","v":0},{"$f":"ROUND((' '!H1299+' '!H1359),-3)","v":0},{"$f":"ROUND((' '!H1299+' '!H1359),-3)","v":0}]
[null,null,null,"Total ingresos brutos ",58,null,{"$f":"ROUND(IF(SUM(G21:G31)>0,SUM(G21:G31),0),-3)","v":0},{"$f":"ROUND(IF(SUM(G21:G31)>0,SUM(G21:G31),0),-3)","v":0},{"$f":"ROUND(IF(SUM(I21:I31)>0,SUM(I21:I31),0),-3)","v":0}]
[null,null,null,"Devoluciones, rebajas y descuentos en ventas",59,null,{"$f":"ROUND(' '!H1070,-3)","v":0},{"$f":"ROUND(' '!H1070,-3)","v":0},{"$f":"ROUND(' '!H1070,-3)","v":0}]
[null,null,null,"Ingresos no constitutivos de renta ni ganancia ocasional",60,null,{"$f":"ROUND((' '!H1078+' '!H1115+' '!H1123+' '!H1256+' '!H1327),-3)","v":0},{"$f":"ROUND((' '!H1078+' '!H1115+' '!H1123+' '!H1256+' '!H1327),-3)","v":0},{"$f":"ROUND((' '!H1078+' '!H1115+' '!H1123+' '!H1256+' '!H1327),-3)","v":0}]
[null,null,null,"Total ingresos netos",61,null,{"$f":"ROUND(IF((G32-G33-G34)>0,(G32-G33-G34),0),-3)","v":0},{"$f":"ROUND(IF((G32-G33-G34)>0,(G32-G33-G34),0),-3)","v":0},{"$f":"ROUND(IF((I32-I33-I34)>0,(I32-I33-I34),0),-3)","v":0}]
[null,"Costos y deducciones"]
[null,null,null,"Costos ",62,null,{"$f":"ROUND((' '!H1601+' '!H1618+' '!H1695+' '!H1739+' '!H1768),-3)","v":0},{"$f":"ROUND((' '!H1601+' '!H1618+' '!H1695+' '!H1739+' '!H1768),-3)","v":0},{"$f":"ROUND((' '!H1601+' '!H1618+' '!H1695+' '!H1739+' '!H1768),-3)","v":0}]
[null,null,null,"Gasto de administración ",63,null,{"$f":"ROUND((' '!H1802+' '!H1867+' '!H1944),-3)","v":0},{"$f":"ROUND((' '!H1802+' '!H1867+' '!H1944),-3)","v":0},{"$f":"ROUND((' '!H1802+' '!H1867+' '!H1944),-3)","v":0}]
[null,null,null,"Gastos de distribución y ventas ",64,null,{"$f":"ROUND((' '!H1961+' '!H2035+' '!H2112),-3)","v":0},{"$f":"ROUND((' '!H1961+' '!H2035+' '!H2112),-3)","v":0},{"$f":"ROUND((' '!H1961+' '!H2035+' '!H2112),-3)","v":0}]
[null,null,null,"Gastos financieros ",65,null,{"$f":"ROUND(' '!H2152,-3)","v":0},{"$f":"ROUND(' '!H2152,-3)","v":0},{"$f":"ROUND(' '!H2152,-3)","v":0}]
[null,null,null,"Otros gastos y deducciones ",66,null,{"$f":"ROUND(' '!H2247,-3)","v":0},{"$f":"ROUND(' '!H2247,-3)","v":0},{"$f":"ROUND(' '!H2247,-3)","v":0}]
[null,null,null,"Total costos y gastos deducibles",67,null,{"$f":"ROUND(SUM(G37:G41),-3)","v":0},{"$f":"ROUND(SUM(G37:G41),-3)","v":0},{"$f":"ROUND(SUM(I37:I41),-3)","v":0}]
[null,"ESAL (RTE)"]
[null,null,null,"Inversiones efectuadas en el año ",68,null,{"$f":"ROUND(IF(' '!D273=\"Sí\",' '!D274,0),-3)","v":0},{"$f":"ROUND(IF(' '!D273=\"Sí\",' '!D274,0),-3)","v":0},{"$f":"ROUND(IF(' '!D273=\"Sí\",' '!D274,0),-3)","v":0}]
[null,null,null,"Inversiones liquidadas en periodos gravables anteriores",69,null,{"$f":"ROUND(IF(' '!D275=\"Sí\",' '!D276,0),-3)","v":0},{"$f":"ROUND(IF(' '!D275=\"Sí\",' '!D276,0),-3)","v":0},{"$f":"ROUND(IF(' '!D275=\"Sí\",' '!D276,0),-3)","v":0}]
[null,"Renta"]
[null,null,null,"Renta por recuperación de deducciones ",70,null,{"$f":"ROUND(' '!H2307,-3)","v":0},{"$f":"ROUND(' '!H2307,-3)","v":0},{"$f":"ROUND(' '!H2307,-3)","v":0}]
[null,null,null,"Renta pasiva - ECE sin residencia fiscal en Colombia ",71,null,{"$f":"ROUND((' '!H1388-' '!H1399),-3)","v":0},{"$f":"ROUND((' '!H1388-' '!H1399),-3)","v":0},{"$f":"ROUND((' '!H1388-' '!H1399),-3)","v":0}]
[null,null,null,"Renta líquida ordinaria del ejercicio ",72,null,{"$f":"ROUND(IF((G35+G45+G47+G48-G26-G27-G28-G29-G30-G42-G44)>0,(G35+G45+G47+G48-G26-G27-G28-G29-G30-G42-G44),0),-3)","v":0},{"$f":"ROUND(IF((G35+G45+G47+G48-G26-G27-G28-G29-G30-G42-G44)>0,(G35+G45+G47+G48-G26-G27-G28-G29-G30-G42-G44),0),-3)","v":0},{"$f":"ROUND(IF((I35+I45+I47+I48-I26-I27-I28-I29-I30-I42-I44)>0,(I35+I45+I47+I48-I26-I27-I28-I29-I30-I42-I44),0),-3)","v":0}]
[null,null,null,"Pérdida líquida del ejercicio ",73,null,{"$f":"ROUND(IF((G26+G27+G28+G29+G30+G42+G44-G35-G45-G47-G48)>0,(G26+G27+G28+G29+G30+G42+G44-G35-G45-G47-G48),0),-3)","v":0},{"$f":"ROUND(IF((G26+G27+G28+G29+G30+G42+G44-G35-G45-G47-G48)>0,(G26+G27+G28+G29+G30+G42+G44-G35-G45-G47-G48),0),-3)","v":0},{"$f":"ROUND(IF((I26+I27+I28+I29+I30+I42+I44-I35-I45-I47-I48)>0,(I26+I27+I28+I29+I30+I42+I44-I35-I45-I47-I48),0),-3)","v":0}]
[null,null,null,"Compensaciones ",74,null,{"$f":"ROUND(IF((' '!C2271+' '!C2280)>Resumen!G49,Resumen!G49,(' '!C2271+' '!C2280)),-3)","v":0},{"$f":"ROUND(IF((' '!C2271+' '!C2280)>Resumen!G49,Resumen!G49,(' '!C2271+' '!C2280)),-3)","v":0},{"$f":"ROUND(IF((' '!C2271+' '!C2280)>Resumen!I49,Resumen!I49,(' '!C2271+' '!C2280)),-3)","v":0}]
[null,null,null,"Renta líquida ",75,null,{"$f":"ROUND(IF((G49-G51)>0,(G49-G51),0),-3)","v":0},{"$f":"ROUND(IF((H49-H51)>0,(H49-H51),0),-3)","v":0},{"$f":"ROUND(IF((I49-I51)>0,(I49-I51),0),-3)","v":0}]
[null,null,null,"Renta presuntiva ",76,null,0,0,0]
[null,null,null,"Renta exenta ",77,null,{"$f":"ROUND(' '!D2260,-3)","v":0},{"$f":"ROUND(' '!D2260,-3)","v":0},{"$f":"ROUND(' '!D2260,-3)","v":0}]
[null,null,null,"Rentas gravables ",78,null,{"$f":"ROUND((' '!H2327+' '!H2347),-3)","v":0},{"$f":"ROUND((' '!H2327+' '!H2347),-3)","v":0},{"$f":"ROUND((' '!H2327+' '!H2347),-3)","v":0}]
[null,null,null,"Conciliación patrimonial ",null,null,null,null,{"$f":"+' '!D2995","v":0}]
[null,null,null,"Renta líquida gravable",79,null,{"$f":"ROUND((MAX(G52,G53)-G54+G55),-3)","v":0},{"$f":"ROUND((MAX(H52,H53)-H54+H55),-3)","v":0},{"$f":"ROUND((MAX(I52,I53)-I54+I55+I56),-3)","v":0}]
[null,"Ganancias Ocasionales"]
[null,null,null,"Ingresos por ganancias ocasionales",80,null,{"$f":"ROUND(' '!H1532,-3)","v":0},{"$f":"ROUND(' '!H1532,-3)","v":0},{"$f":"ROUND(' '!H1532,-3)","v":0}]
[null,null,null,"Costos por ganancias ocasionales ",81,null,{"$f":"ROUND(' '!H1537,-3)","v":0},{"$f":"ROUND(' '!H1537,-3)","v":0},{"$f":"ROUND(' '!H1537,-3)","v":0}]
[null,null,null,"Ganancias ocasionales no gravadas y exentas",82,null,{"$f":"ROUND(' '!H1538,-3)","v":0},{"$f":"ROUND(' '!H1538,-3)","v":0},{"$f":"ROUND(' '!H1538,-3)","v":0}]
[null,null,null,"Ganancias ocasionales gravables ",83,null,{"$f":"ROUND(' '!H1541,-3)","v":0},{"$f":"ROUND(' '!H1541,-3)","v":0},{"$f":"ROUND(' '!H1541,-3)","v":0}]
[null,"Liquidación privada"]
[null,null,"Impuesto sobre las rentas líquidas gravables"]
[null,null,null,"Sobre la renta líquida gravable ",84,null,{"$f":"ROUND(' '!D2735,-3)","v":0},{"$f":"ROUND(' '!D2735,-3)","v":0},{"$f":"ROUND(' '!E2735,-3)","v":0}]
[null,null,null,"Sobretasa (puntos adicionales a la tarifa del impuesto de renta)",85,null,{"$f":"ROUND(IF(AND(' '!D245=\"Entidades financieras\",Resumen!G57>=(120000*' '!C169)),Resumen!G57*3%,0),-3)","v":0},{"$f":"ROUND(IF(AND(' '!D245=\"Entidades financieras\",Resumen!G57>=(120000*' '!C169)),Resumen!G57*3%,0),-3)","v":0},{"$f":"ROUND(IF(AND(' '!D245=\"Entidades financieras\",Resumen!I57>=(120000*' '!C169)),Resumen!I57*3%,0),-3)","v":0}]
[null,null,null,"De dividendos y/o participaciones gravadas a la tarifa del 10% (base casilla 54)",86,null,{"$f":"ROUND(' '!C2740,-3)","v":0},{"$f":"ROUND(' '!C2740,-3)","v":0},{"$f":"ROUND(' '!C2740,-3)","v":0}]
[null,null,null,"De dividendos y/o participaciones gravadas a la tarifa del artículo 240 E.T. (base casilla 55)",87,null,{"$f":"ROUND(' '!C2745,-3)","v":0},{"$f":"ROUND(' '!C2745,-3)","v":0},{"$f":"ROUND(' '!C2745,-3)","v":0}]
[null,null,null,"De dividendos y/o participaciones gravadas a la tarifa del 27% (base casilla 56)",88,null,{"$f":"ROUND(' '!C2750,-3)","v":0},{"$f":"ROUND(' '!C2750,-3)","v":0},{"$f":"ROUND(' '!C2750,-3)","v":0}]
[null,null,null,"De dividendos y/o participaciones gravadas a la tarifa del artículo 240 ET (base casilla 53)",89,null,{"$f":"ROUND(' '!C2755,-3)","v":0},{"$f":"ROUND(' '!C2755,-3)","v":0},{"$f":"ROUND(' '!C2755,-3)","v":0}]
[null,null,null,"De dividendos y/o participaciones gravadas a la tarifa del 33% (base casilla 52)",90,null,{"$f":"ROUND(' '!C2760,-3)","v":0},{"$f":"ROUND(' '!C2760,-3)","v":0},{"$f":"ROUND(' '!C2760,-3)","v":0}]
[null,null,"Total impuesto sobre las rentas líquidas gravables ",null,91,null,{"$f":"ROUND(SUM(G65:G71),-3)","v":0},{"$f":"ROUND(SUM(G65:G71),-3)","v":0},{"$f":"ROUND(SUM(I65:I71),-3)","v":0}]
[null,null,"Valor a adicionar (VAA)",null,92,null,{"$f":"+IF(' '!D2489>0,' '!D2489,0)","v":0},{"$f":"+IF(' '!D2489>0,' '!D2489,0)","v":0},{"$f":"+IF(' '!D2489>0,' '!D2489,0)","v":0}]
[null,null,"Descuentos tributarios ",null,93,null,{"$f":"ROUND(' '!E3091,-3)","v":0},{"$f":"ROUND(' '!E3091,-3)","v":0},{"$f":"ROUND(' '!F3091,-3)","v":0}]
[null,null,"Impuesto neto de renta (sin impuesto adicionado)",null,94,null,{"$f":"ROUND(IF((G72+G73-G74)>0,(G72+G73-G74),0),-3)","v":0},{"$f":"ROUND(IF((H72+H73-H74)>0,(H72+H73-H74),0),-3)","v":0},{"$f":"ROUND(IF((I72+I73-I74)>0,(I72+I73-I74),0),-3)","v":0}]
[null,null,"Impuesto a adicionar (IA)",null,95,null,null,{"$f":"' '!C2727","v":0}]
[null,null,"Impuesto neto de renta (con impuesto adicionado)",null,96,null,{"$f":"+G75+G76","v":0},{"$f":"+H75+H76","v":0},{"$f":"+I75+I76","v":0}]
[null,null,"Impuesto de ganancias ocasionales ",null,97,null,{"$f":"ROUND((' '!H1544+' '!H1545),-3)","v":0},{"$f":"ROUND((' '!H1544+' '!H1545),-3)","v":0},{"$f":"ROUND((' '!H1544+' '!H1545),-3)","v":0}]
[null,null,"Descuento por impuestos pagados en el exterior por ganancias ocasionales ",null,98,null,{"$f":"ROUND((' '!D3009),-3)","v":0},{"$f":"ROUND((' '!D3009),-3)","v":0},{"$f":"ROUND((' '!D3009),-3)","v":0}]
[null,null,"Total impuesto a cargo ",null,99,null,{"$f":"ROUND(IF((G77+G78-G79)>0,(G77+G78-G79),0),-3)","v":0},{"$f":"ROUND(IF((H77+H78-H79)>0,(H77+H78-H79),0),-3)","v":0},{"$f":"ROUND(IF((I77+I78-I79)>0,(I77+I78-I79),0),-3)","v":0}]
[null,null,"Valor inversión obras por impuestos hasta del 50% del valor de la casilla 99 (Modalidad de pago 1)",null,100,null,{"$f":"ROUND(IF(AND(G32>=(33610*' '!C169),' '!D266=\"Sí\",' '!D268=\"Modalidad de pago 1\"),IF(' '!D267>(Resumen!G80*50%),(Resumen!G80*50%),' '!D267),0),-3)","v":0},{"$f":"ROUND(IF(AND(G32>=(33610*' '!C169),' '!D266=\"Sí\",' '!D268=\"Modalidad de pago 1\"),IF(' '!D267>(Resumen!G80*50%),(Resumen!G80*50%),' '!D267),0),-3)","v":0},{"$f":"ROUND(IF(AND(I32>=(33610*' '!C169),' '!D266=\"Sí\",' '!D268=\"Modalidad de pago 1\"),IF(' '!D267>(Resumen!I80*50%),(Resumen!I80*50%),' '!D267),0),-3)","v":0}]
[null,null,"Descuento efectivo inversión obras por impuestos (Modalidad de pago 2)",null,101,null,{"$f":"ROUND(IF(AND(G32>=(33610*' '!C169),' '!D266=\"Sí\",' '!D268=\"Modalidad de pago 2\"),IF(' '!D267>(Resumen!G80*50%),(Resumen!G80*50%),' '!D267),0),-3)","v":0},{"$f":"ROUND(IF(AND(G32>=(33610*' '!C169),' '!D266=\"Sí\",' '!D268=\"Modalidad de pago 2\"),IF(' '!D267>(Resumen!G80*50%),(Resumen!G80*50%),' '!D267),0),-3)","v":0},{"$f":"ROUND(IF(AND(I32>=(33610*' '!C169),' '!D266=\"Sí\",' '!D268=\"Modalidad de pago 2\"),IF(' '!D267>(Resumen!I80*50%),(Resumen!I80*50%),' '!D267),0),-3)","v":0}]
[null,null,"Crédito fiscal artículo 256-1 E.T.",null,102,null,{"$f":"ROUND(IF(' '!D271=\"Sí\",' '!D272*50%,0),-3)","v":0},{"$f":"ROUND(IF(' '!D271=\"Sí\",' '!D272*50%,0),-3)","v":0},{"$f":"ROUND(IF(' '!D271=\"Sí\",' '!D272*50%,0),-3)","v":0}]
[null,null,"Anticipo renta liquidado año gravable anterior",null,103,null,{"$f":"ROUND(' '!D257,-3)","v":0},{"$f":"ROUND(' '!D257,-3)","v":0},{"$f":"ROUND(' '!D257,-3)","v":0}]
[null,null,"Saldo a favor año gravable anterior sin solicitud de devolución y/o compensación",null,104,null,{"$f":"ROUND(' '!D256,-3)","v":0},{"$f":"ROUND(' '!D256,-3)","v":0},{"$f":"ROUND(' '!D256,-3)","v":0}]
[null,null,"Retenciones "]
[null,null,null,"Autorretenciones ",105,null,{"$f":"ROUND((' '!D2466),-3)","v":0},{"$f":"ROUND((' '!D2466),-3)","v":0},{"$f":"ROUND((' '!D2466),-3)","v":0}]
[null,null,null,"Otras retenciones ",106,null,{"$f":"ROUND((' '!D2407),-3)","v":0},{"$f":"ROUND((' '!D2407),-3)","v":0},{"$f":"ROUND((' '!D2407),-3)","v":0}]
[null,null,null,"Total retenciones año gravable a declarar ",107,null,{"$f":"ROUND((G87+G88),-3)","v":0},{"$f":"ROUND((G87+G88),-3)","v":0},{"$f":"ROUND((I87+I88),-3)","v":0}]
[null,null,"Anticipo renta para el año gravable siguiente ",null,108,null,null,{"$f":"ROUND(IF(MIN(' '!E2771,' '!E2772)>0,MIN(' '!E2771,' '!E2772),0),-3)","v":0},{"$f":"ROUND(IF(MIN(' '!F2771,' '!F2772)>0,MIN(' '!F2771,' '!F2772),0),-3)","v":0}]
[null,null,"Anticipo puntos adicionales año gravable anterior ",null,109,null,{"$f":"ROUND(' '!D258,-3)","v":0},{"$f":"ROUND(' '!D258,-3)","v":0},{"$f":"ROUND(' '!D258,-3)","v":0}]
[null,null,"Anticipo puntos adicionales año gravable siguiente",null,110,null,{"$f":"ROUND(IF(AND(' '!D245=\"Entidades financieras\",Resumen!G57>=(120000*' '!C169)),Resumen!G57*5%,IF(AND(' '!D245=\"Generación de energía eléctrica a través de recursos hídricos \",' '!D279=\"No\",Resumen!G57>=(30000*' '!C169)),Resumen!G57*3%,0)),-3)","v":0},{"$f":"ROUND(IF(AND(' '!D245=\"Entidades financieras\",Resumen!G57>=(120000*' '!C169)),Resumen!G57*5%,IF(AND(' '!D245=\"Generación de energía eléctrica a través de recursos hídricos \",' '!D279=\"No\",Resumen!G57>=(30000*' '!C169)),Resumen!G57*3%,0)),-3)","v":0},{"$f":"ROUND(IF(AND(' '!D245=\"Entidades financieras\",Resumen!I57>=(120000*' '!C169)),Resumen!I57*5%,IF(AND(' '!D245=\"Generación de energía eléctrica a través de recursos hídricos \",' '!D279=\"No\",Resumen!I57>=(30000*' '!C169)),Resumen!I57*3%,0)),-3)","v":0}]
[null,null,"Saldo a pagar por impuesto ",null,111,null,{"$f":"ROUND(IF((G80+G90+G92-G81-G82-G83-G84-G85-G89-G91)>0,(G80+G90+G92-G81-G82-G83-G84-G85-G89-G91),0),-3)","v":0},{"$f":"ROUND(IF((H80+H90+H92-H81-H82-H83-H84-H85-H89-H91)>0,(H80+H90+H92-H81-H82-H83-H84-H85-H89-H91),0),-3)","v":0},{"$f":"ROUND(IF((I80+I90+I92-I81-I82-I83-I84-I85-I89-I91)>0,(I80+I90+I92-I81-I82-I83-I84-I85-I89-I91),0),-3)","v":0}]
[null,null,"Sanciones ",null,112,null,{"$f":"ROUND(IF(OR(' '!E2882=\"\",' '!E2893=\"\"),' '!E2879,IF(OR(' '!E2882=\"Sí\",' '!E2893=\"Sí\"),IF(' '!E2882=\"Sí\",' '!E2891,IF(' '!E2893=\"Sí\",' '!E2902,0)))),3)","v":0},{"$f":"ROUND(IF(OR(' '!E2882=\"\",' '!E2893=\"\"),' '!E2879,IF(OR(' '!E2882=\"Sí\",' '!E2893=\"Sí\"),IF(' '!E2882=\"Sí\",' '!E2891,IF(' '!E2893=\"Sí\",' '!E2902,0)))),3)","v":0},{"$f":"ROUND(IF(OR(' '!E2882=\"\",' '!E2893=\"\"),' '!E2879,IF(OR(' '!E2882=\"Sí\",' '!E2893=\"Sí\"),IF(' '!E2882=\"Sí\",' '!E2891,IF(' '!E2893=\"Sí\",' '!E2902,0)))),3)","v":0}]
[null,null,"Total saldo a pagar ",null,113,null,{"$f":"ROUND(IF((G80+G90+G92+G94-G81-G82-G83-G84-G85-G89-G91)>0,(G80+G90+G92+G94-G81-G82-G83-G84-G85-G89-G91),0),-3)","v":0},{"$f":"ROUND(IF((H80+H90+H92+H94-H81-H82-H83-H84-H85-H89-H91)>0,(H80+H90+H92+H94-H81-H82-H83-H84-H85-H89-H91),0),-3)","v":0},{"$f":"ROUND(IF((I80+I90+I92+I94-I81-I82-I83-I84-I85-I89-I91)>0,(I80+I90+I92+I94-I81-I82-I83-I84-I85-I89-I91),0),-3)","v":0}]
[null,null,"Total saldo a favor ",null,114,null,{"$f":"ROUND(IF((G81+G82+G83+G84+G85+G89+G91-G80-G90-G92-G94)>0,(G81+G82+G83+G84+G85+G89+G91-G80-G90-G92-G94),0),-3)","v":0},{"$f":"ROUND(IF((H81+H82+H83+H84+H85+H89+H91-H80-H90-H92-H94)>0,(H81+H82+H83+H84+H85+H89+H91-H80-H90-H92-H94),0),-3)","v":0},{"$f":"ROUND(IF((I81+I82+I83+I84+I85+I89+I91-I80-I90-I92-I94)>0,(I81+I82+I83+I84+I85+I89+I91-I80-I90-I92-I94),0),-3)","v":0}]
[null,"Valor impuesto exigible por Obras por Impuestos Modalidad de pago 1 ",null,null,115,null,{"$f":"ROUND(IF(' '!D268=\"Modalidad de pago 1\",' '!D269,0),-3)","v":0},{"$f":"ROUND(IF(' '!D268=\"Modalidad de pago 1\",' '!D269,0),-3)","v":0},{"$f":"ROUND(IF(' '!D268=\"Modalidad de pago 1\",' '!D269,0),-3)","v":0}]
[null,"Valor total proyecto Obras por impuestos modalidad de pago 2 ",null,null,116,null,{"$f":"ROUND(IF(' '!D268=\"Modalidad de pago 2\",' '!D270,0),-3)","v":0},{"$f":"ROUND(IF(' '!D268=\"Modalidad de pago 2\",' '!D270,0),-3)","v":0},{"$f":"ROUND(IF(' '!D268=\"Modalidad de pago 2\",' '!D270,0),-3)","v":0}]
[null,"Aporte voluntario Artículo 244-1 del ET ",null,null,117,null,{"$f":"+IFERROR(IF(' '!D277=\"Sí\",' '!D278,0),0)","v":0},{"$f":"+IFERROR(IF(' '!D277=\"Sí\",' '!D278,0),0)","v":0},{"$f":"+IFERROR(IF(' '!D277=\"Sí\",' '!D278,0),0)","v":0}]
[]
[]
[]
[]
[]
[null,null,null,"Activos"]
[null,null,null,"Concepto","Valores fiscales"]
[null,null,null,"Efectivo y Equivalentes del Efectivo ",{"$f":"+' '!H315","v":0}]
[null,null,null,"Inversiones e Instrumentos Derivados",{"$f":"+' '!H366","v":0}]
[null,null,null,"Cuentas por Cobrar",{"$f":"+' '!H415","v":0}]
[null,null,null,"Inventarios",{"$f":"+' '!H459","v":0}]
[null,null,null,"Propiedades, Planta y Equipo",{"$f":"+' '!H495","v":0}]
[null,null,null,"Activos Intangibles - Distintos a la plusvalía",{"$f":"+' '!H530","v":0}]
[null,null,null,"Activos Intangibles - Plusvalía o Good Will",{"$f":"+' '!H553","v":0}]
[null,null,null,"Propiedades de Inversión",{"$f":"+' '!H574","v":0}]
[null,null,null,"Activos Biológicos",{"$f":"+' '!H609","v":0}]
[null,null,null,"Activos no corrientes mantenidos para la venta y/o para distribuir a propietarios ",{"$f":"+' '!H622","v":0}]
[null,null,null,"Otros Activos",{"$f":"+' '!H650","v":0}]
[null,null,null,"Total activos a 31 de diciembre de 2024",{"$f":"SUM(E107:E117)","v":0}]
[null,null,null,"Pasivos"]
[null,null,null,"Concepto","Valores fiscales"]
[null,null,null,"Pasivos Financieros y Cuentas por Pagar",{"$f":"+' '!H694","v":0}]
[null,null,null,"Arrendamientos por pagar",{"$f":"+' '!H708","v":0}]
[null,null,null,"Impuestos, Gravámenes y Tasas ",{"$f":"+' '!H724","v":0}]
[null,null,null,"Otros pasivos financieros",{"$f":"+' '!H744","v":0}]
[null,null,null,"Beneficios a empleados",{"$f":"+' '!H761","v":0}]
[null,null,null,"Provisiones",{"$f":"+' '!H799","v":0}]
[null,null,null,"Pasivos por ingresos diferidos ",{"$f":"+' '!H816","v":0}]
[null,null,null,"Otros Pasivos",{"$f":"+' '!H845","v":0}]
[null,null,null,"Total pasivos a 31 de diciembre de 2024 ",{"$f":"SUM(E121:E128)","v":0}]
[]
[null,null,null,"Ingresos "]
[null,null,null,"Concepto","Valores fiscales"]
[null,null,null,"Ingresos brutos Actividad Industrial, Comercial y Servicios - Venta de bienes",{"$f":"+' '!H998","v":0}]
[null,null,null,"Ingresos brutos Actividad Industrial, Comercial y Servicios - Prestación de servicios (diferentes a honorarios profesionales)",{"$f":"+' '!H1021","v":0}]
[null,null,null,"Ingresos Brutos Actividad Industrial, Comercial y Servicios - Otros ingresos ",{"$f":"+' '!H1056","v":0}]
[null,null,null,"Ingresos financieros",{"$f":"+' '!E4301","v":0}]
[null,null,null,"Dividendos",{"$f":"+' '!H1153","v":0}]
[null,null,null,"Venta de activos poseídos por menos de dos años",{"$f":"+' '!H1359","v":0}]
[null,null,null,"Rentas Pasivas ECE",{"$f":"+' '!H1388","v":0}]
[null,null,null,"Otros ingresos",{"$f":"+' '!H1205+' '!H1222+' '!H1248+' '!H1299+' '!H1319","v":0}]
[null,null,null,"Venta de bienes poseídos por dos o más años ",{"$f":"+' '!H1431","v":0}]
[null,null,null,"Donaciones",{"$f":"+' '!H1465","v":0}]
[null,null,null,"Premios obtenidos en juegos de suerte y azar ",{"$f":"+' '!H1485","v":0}]
[null,null,null,"Otras ganancias ocasionales ",{"$f":"+' '!H1502","v":0}]
[]
[]
[null,null,null,"INCRNGO, rentas exentas y descuentos tributarios"]
[null,null,null,"Concepto","Valores "]
[null,null,null,"Ingresos no constitutivos de renta ni ganancia ocasional ",{"$f":"+Resumen!G34+Resumen!G61","v":0}]
[null,null,null,"Rentas exentas ",{"$f":"+Resumen!G54","v":0}]
[null,null,null,"Descuentos tributarios",{"$f":"+Resumen!G74+Resumen!G79","v":0}]
[null,null,null,"Total INCRNGO",{"$f":"SUM(E149:E151)","v":0}]

{"sheet":"Comentarios","index":4,"n_rows":121,"n_cols":6,"rows_kept":121,"cut":false,"hidden":true,"merged":[]}
["RUTA","Formulada","Comentario","Largo","Segmento","Color"]
[{"$f":"SUBSTITUTE(SUBSTITUTE(_xlfn.FORMULATEXT(Comentarios[[#This Row],[Formulada]]),\"=\",\"\"),\"'\",\"\")","v":" !$C$171"},{"$f":"' '!$C$171","v":3.2099999999999997E-2},"Artículo 1.2.1.7.5 del Decreto 1625 de 2016, modificado por el artículo 1 del Decreto 728 de 2022.",98,{"$f":"OFFSET(Ref_Segmento,ROW(INDIRECT(IF(SUBSTITUTE(Comentarios[[#This Row],[RUTA]],\" \",\"\")=Comentarios[[#This Row],[RUTA]],Comentarios[[#This Row],[RUTA]],\"'\"&SUBSTITUTE(Comentarios[[#This Row],[RUTA]],\"!\",\"'!\"))))-1,0)","v":"Cifras e Indicadores"},"Azul"]
[{"$f":"SUBSTITUTE(SUBSTITUTE(_xlfn.FORMULATEXT(Comentarios[[#This Row],[Formulada]]),\"=\",\"\"),\"'\",\"\")","v":" !$D$171"},{"$f":"' '!$D$171","v":0.13700000000000001},"Artículo 1.2.1.7.5 del Decreto 1625 de 2016, modificado por el artículo 1 del Decreto 848 de 2023.",98,{"$f":"OFFSET(Ref_Segmento,ROW(INDIRECT(IF(SUBSTITUTE(Comentarios[[#This Row],[RUTA]],\" \",\"\")=Comentarios[[#This Row],[RUTA]],Comentarios[[#This Row],[RUTA]],\"'\"&SUBSTITUTE(Comentarios[[#This Row],[RUTA]],\"!\",\"'!\"))))-1,0)","v":"Cifras e Indicadores"},"Azul"]
[{"$f":"SUBSTITUTE(SUBSTITUTE(_xlfn.FORMULATEXT(Comentarios[[#This Row],[Formulada]]),\"=\",\"\"),\"'\",\"\")","v":" !$B$180"},{"$f":"' '!$B$180","v":"Impuesto de renta año gravable 2024 - Personas Jurídicas y \ndemás contribuyentes"},"Artículo 1.6.1.13.2.11 del Decreto 1625 de 2016. ",49,{"$f":"OFFSET(Ref_Segmento,ROW(INDIRECT(IF(SUBSTITUTE(Comentarios[[#This Row],[RUTA]],\" \",\"\")=Comentarios[[#This Row],[RUTA]],Comentarios[[#This Row],[RUTA]],\"'\"&SUBSTITUTE(Comentarios[[#This Row],[RUTA]],\"!\",\"'!\"))))-1,0)","v":"Vencimientos"},"Azul"]
[{"$f":"SUBSTITUTE(SUBSTITUTE(_xlfn.FORMULATEXT(Comentarios[[#This Row],[Formulada]]),\"=\",\"\"),\"'\",\"\")","v":" !$E$180"},{"$f":"' '!$E$180","v":"Impuesto de renta año gravable 2024 - Grandes Contribuyentes"},"Artículo 1.6.1.13.2.11 del Decreto 1625 de 2016. ",49,{"$f":"OFFSET(Ref_Segmento,ROW(INDIRECT(IF(SUBSTITUTE(Comentarios[[#This Row],[RUTA]],\" \",\"\")=Comentarios[[#This Row],[RUTA]],Comentarios[[#This Row],[RUTA]],\"'\"&SUBSTITUTE(Comentarios[[#This Row],[RUTA]],\"!\",\"'!\"))))-1,0)","v":"Vencimientos"},"Azul"]
[{"$f":"SUBSTITUTE(SUBSTITUTE(_xlfn.FORMULATEXT(Comentarios[[#This Row],[Formulada]]),\"=\",\"\"),\"'\",\"\")","v":" !$B$182"},{"$f":"' '!$B$182","v":"Declaración y pago primera cuota"},"Artículo 1.6.1.13.2.12 del Decreto 1625 de 2016. ",49,{"$f":"OFFSET(Ref_Segmento,ROW(INDIRECT(IF(SUBSTITUTE(Comentarios[[#This Row],[RUTA]],\" \",\"\")=Comentarios[[#This Row],[RUTA]],Comentarios[[#This Row],[RUTA]],\"'\"&SUBSTITUTE(Comentarios[[#This Row],[RUTA]],\"!\",\"'!\"))))-1,0)","v":"Vencimientos"},"Azul"]
[{"$f":"SUBSTITUTE(SUBSTITUTE(_xlfn.FORMULATEXT(Comentarios[[#This Row],[Formulada]]),\"=\",\"\"),\"'\",\"\")","v":" !$E$182"},{"$f":"' '!$E$182","v":"Pago primera cuota"},"El valor de la primera cuota no podrá ser inferior al 20% del saldo a pagar del año gravable 2021.",98,{"$f":"OFFSET(Ref_Segmento,ROW(INDIRECT(IF(SUBSTITUTE(Comentarios[[#This Row],[RUTA]],\" \",\"\")=Comentarios[[#This Row],[RUTA]],Comentarios[[#This Row],[RUTA]],\"'\"&SUBSTITUTE(Comentarios[[#This Row],[RUTA]],\"!\",\"'!\"))))-1,0)","v":"Vencimientos"},"Azul"]
[{"$f":"SUBSTITUTE(SUBSTITUTE(_xlfn.FORMULATEXT(Comentarios[[#This Row],[Formulada]]),\"=\",\"\"),\"'\",\"\")","v":" !$E$192"},{"$f":"' '!$E$192","v":"Declaración y pago segunda cuota"},"Una vez liquidado el impuesto y el anticipo del impuesto sobre la renta en la respectiva declaración, del valor a pagar, se restará lo pagado en la primera cuota y el saldo se cancelará de la siguiente manera, de acuerdo con la cuota de pago así:\n\n- Segunda cuota: 50%\n- Tercera cuota: 50%\n\n(Parágrafo 1 del artículo 1.6.1.13.2.11 del Decreto 1625 de 2016).",357,{"$f":"OFFSET(Ref_Segmento,ROW(INDIRECT(IF(SUBSTITUTE(Comentarios[[#This Row],[RUTA]],\" \",\"\")=Comentarios[[#This Row],[RUTA]],Comentarios[[#This Row],[RUTA]],\"'\"&SUBSTITUTE(Comentarios[[#This Row],[RUTA]],\"!\",\"'!\"))))-1,0)","v":"Vencimientos"},"Azul"]
[{"$f":"SUBSTITUTE(SUBSTITUTE(_xlfn.FORMULATEXT(Comentarios[[#This Row],[Formulada]]),\"=\",\"\"),\"'\",\"\")","v":" !$E$202"},{"$f":"' '!$E$202","v":"Pago tercera cuota"},"Tercera cuota: 50%\n\n(Parágrafo 1 del artículo 1.6.1.13.2.11 del Decreto 1625 de 2016).",86,{"$f":"OFFSET(Ref_Segmento,ROW(INDIRECT(IF(SUBSTITUTE(Comentarios[[#This Row],[RUTA]],\" \",\"\")=Comentarios[[#This Row],[RUTA]],Comentarios[[#This Row],[RUTA]],\"'\"&SUBSTITUTE(Comentarios[[#This Row],[RUTA]],\"!\",\"'!\"))))-1,0)","v":"Vencimientos"},"Azul"]
[{"$f":"SUBSTITUTE(SUBSTITUTE(_xlfn.FORMULATEXT(Comentarios[[#This Row],[Formulada]]),\"=\",\"\"),\"'\",\"\")","v":" !$C$230"},{"$f":"' '!$C$230","v":"Mega inversiones en actividades comerciales, industriales y/o de servicios"},"Debe tenerse en cuenta que, el último inciso del artículo 96 de la Ley 2277 de 2022 mediante el cual se derogó el artículo 235-3 del ET, establece que:\n\n“Los contribuyentes que hubieren acreditado las condiciones para acceder a las tarifas diferenciales y demás beneficios tributarios derogados o limitados mediante la presente ley, podrán disfrutar del respectivo tratamiento durante la totalidad del término otorgado en la legislación bajo la cual se consolidaron las respectivas situaciones jurídicas, en cuanto ello corresponda”.",533,{"$f":"OFFSET(Ref_Segmento,ROW(INDIRECT(IF(SUBSTITUTE(Comentarios[[#This Row],[RUTA]],\" \",\"\")=Comentarios[[#This Row],[RUTA]],Comentarios[[#This Row],[RUTA]],\"'\"&SUBSTITUTE(Comentarios[[#This Row],[RUTA]],\"!\",\"'!\"))))-1,0)","v":"Tarifas de Impuestos"},"Azul"]
[{"$f":"SUBSTITUTE(SUBSTITUTE(_xlfn.FORMULATEXT(Comentarios[[#This Row],[Formulada]]),\"=\",\"\"),\"'\",\"\")","v":" !$C$237"},{"$f":"' '!$C$237","v":"Razón social del contribuyente "},"Esta información debe coincidir con los datos consignados en la casilla 35 del RUT (actualizado)",96,{"$f":"OFFSET(Ref_Segmento,ROW(INDIRECT(IF(SUBSTITUTE(Comentarios[[#This Row],[RUTA]],\" \",\"\")=Comentarios[[#This Row],[RUTA]],Comentarios[[#This Row],[RUTA]],\"'\"&SUBSTITUTE(Comentarios[[#This Row],[RUTA]],\"!\",\"'!\"))))-1,0)","v":"Datos básicos contribuyente"},"Azul"]
[{"$f":"SUBSTITUTE(SUBSTITUTE(_xlfn.FORMULATEXT(Comentarios[[#This Row],[Formulada]]),\"=\",\"\"),\"'\",\"\")","v":" !$D$245"},{"$f":"' '!$D$245","v":0},"En caso de seleccionar la opción \"Otra tarifa del impuesto de renta\", tenga en cuenta que deberá ingresar dicha tarifa en la sección \"Tarifas de renta\", opción \"Otra tarifa del impuesto de renta\".",196,{"$f":"OFFSET(Ref_Segmento,ROW(INDIRECT(IF(SUBSTITUTE(Comentarios[[#This Row],[RUTA]],\" \",\"\")=Comentarios[[#This Row],[RUTA]],Comentarios[[#This Row],[RUTA]],\"'\"&SUBSTITUTE(Comentarios[[#This Row],[RUTA]],\"!\",\"'!\"))))-1,0)","v":"Datos básicos contribuyente"},"Azul"]
[{"$f":"SUBSTITUTE(SUBSTITUTE(_xlfn.FORMULATEXT(Comentarios[[#This Row],[Formulada]]),\"=\",\"\"),\"'\",\"\")","v":" !$D$269"},{"$f":"' '!$D$269","v":0},"Esta valor hace referencia a la inversión directa que realiza el contribuyente, una vez aprobada por la Agencia de Renovación del Territorio - ART, la vinculación del pago del impuesto al proyecto o proyectos seleccionados. \n\nEste valor será la base para constituir la obligación tributaria pendiente de cancelación, hasta la recepción de la certificación de la entrega de la obra por parte de la entidad nacional competente, de acuerdo con lo establecido en el artículo 1.6.5.4.1 del Decreto 1625 de 2016. ",507,{"$f":"OFFSET(Ref_Segmento,ROW(INDIRECT(IF(SUBSTITUTE(Comentarios[[#This Row],[RUTA]],\" \",\"\")=Comentarios[[#This Row],[RUTA]],Comentarios[[#This Row],[RUTA]],\"'\"&SUBSTITUTE(Comentarios[[#This Row],[RUTA]],\"!\",\"'!\"))))-1,0)","v":"Datos básicos contribuyente"},"Azul"]
[{"$f":"SUBSTITUTE(SUBSTITUTE(_xlfn.FORMULATEXT(Comentarios[[#This Row],[Formulada]]),\"=\",\"\"),\"'\",\"\")","v":" !$D$270"},{"$f":"' '!$D$270","v":0},"Este valor es informativo y corresponde al total del proyecto aprobado por la entidad nacional competente, según el objeto del mismo. ",134,{"$f":"OFFSET(Ref_Segmento,ROW(INDIRECT(IF(SUBSTITUTE(Comentarios[[#This Row],[RUTA]],\" \",\"\")=Comentarios[[#This Row],[RUTA]],Comentarios[[#This Row],[RUTA]],\"'\"&SUBSTITUTE(Comentarios[[#This Row],[RUTA]],\"!\",\"'!\"))))-1,0)","v":"Datos básicos contribuyente"},"Azul"]
[{"$f":"SUBSTITUTE(SUBSTITUTE(_xlfn.FORMULATEXT(Comentarios[[#This Row],[Formulada]]),\"=\",\"\"),\"'\",\"\")","v":" !$C$271"},{"$f":"' '!$C$271","v":"¿El contribuyente cuenta con un crédito fiscal otorgado en los términos del artículo 256-1 del ET?"},"De acuerdo con el artículo 256-1 del ET, las inversiones que realicen las micro, pequeñas y medianas empresas en proyectos calificados como de Investigación, Desarrollo Tecnológico e Innovación, de acuerdo con los criterios y condiciones definidas por el Consejo Nacional de Beneficios Tributarios en Ciencia, Tecnología e Innovación - CNBT, podrán acceder a un crédito fiscal por un valor del 50% de la inversión realizada y certificada por el CNBT aplicable para la compensación de impuestos nacionales. Lo anterior también será aplicable a la remuneración correspondiente a la vinculación de personal con título de doctorado en las Mipymes, siempre y cuando se cumplan con los criterios y condiciones definidos por el CNBT para tal fin y su vinculación esté asociada al desarrollo de actividades de I+D+i. El crédito fiscal corresponde al 50% de la remuneración efectivamente pagada durante la vigencia fiscal y deberá solicitarse cada año una vez demostrada la vinculación del personal con título de doctorado. Para el caso de títulos de doctorado obtenidos en el exterior, se deberán cumplir los requisitos de convalidación previstos en la normatividad vigente, de manera previa a su vinculación.\n\nDebe tenerse en cuenta que, el crédito fiscal no genera saldo a favor susceptible de devolución; sin embargo, las micro, pequeñas y medianas empresas que cuenten con créditos fiscales vigentes superiores a mil UVT (1000 UVT) por inversiones en proyectos calificados como de Investigación, Desarrollo Tecnológico e Innovación, de acuerdo con los criterios y condiciones definidas por el Consejo Nacional de Beneficios Tributarios en Ciencia, Tecnología e Innovación (CNBT), podrán solicitar TIDIS por el valor del crédito fiscal. Asimismo, la remuneración pagada por la vinculación de personal con título de doctorado en las Mipymes podrá ser solicitada como TIDIS siempre y cuando se cumplan con los criterios y condiciones definidos por el Consejo Nacional de Beneficios Tributarios y cuenten con un crédito fiscal vigente superior a los 1000 UVT.\n\nCabe señalar que, los proyectos presentados y calificados bajo la modalidad de crédito fiscal no podrán acceder a la deducción y descuento definido en el artículo 158-1 y 256 del ET, respectivamente. Igual tratamiento aplica para la remuneración derivada de la vinculación del nuevo personal con título de doctorado.\n\nLos créditos fiscales tendrán una vigencia de dos años una vez expedido el respectivo certificado.\n\nDebe tenerse en cuenta que, el parágrafo 1 del artículo 256-1 del ET fue modificado por el artículo 22 de la Ley 2277 de 2022, indicando que, los proyectos presentados y calificados bajo la modalidad de crédito fiscal no podrán acceder al descuento definido en el Artículo 256 del ET, y que, el mismo tratamiento aplica para la remuneración derivada de la vinculación del nuevo personal con título de doctorado.",2882,{"$f":"OFFSET(Ref_Segmento,ROW(INDIRECT(IF(SUBSTITUTE(Comentarios[[#This Row],[RUTA]],\" \",\"\")=Comentarios[[#This Row],[RUTA]],Comentarios[[#This Row],[RUTA]],\"'\"&SUBSTITUTE(Comentarios[[#This Row],[RUTA]],\"!\",\"'!\"))))-1,0)","v":"Datos básicos contribuyente"},"Azul"]
[{"$f":"SUBSTITUTE(SUBSTITUTE(_xlfn.FORMULATEXT(Comentarios[[#This Row],[Formulada]]),\"=\",\"\"),\"'\",\"\")","v":" !$C$272"},{"$f":"' '!$C$272","v":"Registre el valor del crédito fiscal "},"Registre el valor total de la inversión realizada en proyectos calificados como de Investigación, Desarrollo Tecnológico, e Innovación, debidamente certificada por el CNBT, o el valor de la remuneración efectivamente pagada durante la vigencia fiscal por la vinculación de personal con título de doctorado en las Mipymes, según corresponda.",340,{"$f":"OFFSET(Ref_Segmento,ROW(INDIRECT(IF(SUBSTITUTE(Comentarios[[#This Row],[RUTA]],\" \",\"\")=Comentarios[[#This Row],[RUTA]],Comentarios[[#This Row],[RUTA]],\"'\"&SUBSTITUTE(Comentarios[[#This Row],[RUTA]],\"!\",\"'!\"))))-1,0)","v":"Datos básicos contribuyente"},"Azul"]
[{"$f":"SUBSTITUTE(SUBSTITUTE(_xlfn.FORMULATEXT(Comentarios[[#This Row],[Formulada]]),\"=\",\"\"),\"'\",\"\")","v":" !$D$273"},{"$f":"' '!$D$273","v":0},"Las inversiones a que hace referencia esta pregunta, son aquellas mencionadas en el artículo 1.2.1.5.1.22 del Decreto 1625 de 2016, es decir, aquellas dirigidas al fortalecimiento del patrimonio que no sean susceptibles de amortización ni depreciación de acuerdo con las reglas señaladas en el Estatuto Tributario, y que generan rendimientos para el desarrollo de las actividades meritorias de los contribuyentes relacionadas con salud, educación, cultura, ciencia, tecnología e innovación y/o protección del medio ambiente. \n\nCabe mencionar que, el valor de estas inversiones no puede exceder el resultado del beneficio neto o excedente, determinado antes de descontar la inversión. ",684,{"$f":"OFFSET(Ref_Segmento,ROW(INDIRECT(IF(SUBSTITUTE(Comentarios[[#This Row],[RUTA]],\" \",\"\")=Comentarios[[#This Row],[RUTA]],Comentarios[[#This Row],[RUTA]],\"'\"&SUBSTITUTE(Comentarios[[#This Row],[RUTA]],\"!\",\"'!\"))))-1,0)","v":"Datos básicos contribuyente"},"Azul"]
[{"$f":"SUBSTITUTE(SUBSTITUTE(_xlfn.FORMULATEXT(Comentarios[[#This Row],[Formulada]]),\"=\",\"\"),\"'\",\"\")","v":" !$D$275"},{"$f":"' '!$D$275","v":0},"Corresponde al valor de las inversiones constituidas en periodos anteriores, liquidadas en el periodo gravable, que deben ser incluidas para la determinación de excedente neto del periodo. ",189,{"$f":"OFFSET(Ref_Segmento,ROW(INDIRECT(IF(SUBSTITUTE(Comentarios[[#This Row],[RUTA]],\" \",\"\")=Comentarios[[#This Row],[RUTA]],Comentarios[[#This Row],[RUTA]],\"'\"&SUBSTITUTE(Comentarios[[#This Row],[RUTA]],\"!\",\"'!\"))))-1,0)","v":"Datos básicos contribuyente"},"Azul"]
[{"$f":"SUBSTITUTE(SUBSTITUTE(_xlfn.FORMULATEXT(Comentarios[[#This Row],[Formulada]]),\"=\",\"\"),\"'\",\"\")","v":" !$D$277"},{"$f":"' '!$D$277","v":0},"El artículo 20 de la Ley 2277 de 2022 adicionó el artículo 244-1 del ET, en el cual quedó establecido que, los contribuyentes podrán realizar de manera libre un aporte voluntario, que se podrá liquidar como porcentaje del impuesto a pagar o como un valor en pesos, el cual se liquidará al momento de presentación de la declaración del impuesto de renta y se recaudará al momento del respectivo pago. Debe tenerse en cuenta que, independientemente que se liquide un saldo a pagar o un saldo a favor, el contribuyente podrá realizar el aporte voluntario y, si no hay valor a pagar o saldo a favor, el contribuyente podrá pagar únicamente el aporte voluntario.\n\nCabe mencionar que, el valor del aporte voluntario no podrá ser tratado como un ingreso no constitutivo de renta ni ganancia ocasional ni dará lugar a ningún beneficio tributario; tampoco se tendrá en cuenta para la causación de sanciones ni intereses, no dará lugar a saldo a favor ni podrá ser solicitado en devolución.\n\nEl recaudo de este aporte voluntario se destinará para programas sociales de reducción de la pobreza extrema al igual que a programas de atención a las personas en condición de discapacidad física a través de sus cuidadores y al mejoramiento de la calidad de vida del adulto mayor, priorizando la población socioeconómica más vulnerable y con altos grados de discapacidad visual absoluto o parálisis que afecten a tres (3) o más extremidades y personas con movilidad reducida.",1458,{"$f":"OFFSET(Ref_Segmento,ROW(INDIRECT(IF(SUBSTITUTE(Comentarios[[#This Row],[RUTA]],\" \",\"\")=Comentarios[[#This Row],[RUTA]],Comentarios[[#This Row],[RUTA]],\"'\"&SUBSTITUTE(Comentarios[[#This Row],[RUTA]],\"!\",\"'!\"))))-1,0)","v":"Datos básicos contribuyente"},"Azul"]
[{"$f":"SUBSTITUTE(SUBSTITUTE(_xlfn.FORMULATEXT(Comentarios[[#This Row],[Formulada]]),\"=\",\"\"),\"'\",\"\")","v":" !$C$279"},{"$f":"' '!$C$279","v":"¿El contribuyente es una pequeña central hidroeléctrica con capacidad instalada igual o menor a mil Kilovatios (1.000Kw)?"},"El artículo 10 de la Ley 2277 de 2022, modificó entre otros, el parágrafo 4 del artículo 240 del ET indicando que, los contribuyentes cuya actividad económica principal sea la generación de energía eléctrica a través de recursos hídricos deberán liquidar tres (3) puntos adicionales al impuesto de renta durante los periodos gravables 2023, 2024, 2025 y 2026, siendo en total la tarifa del treinta y ocho por ciento (38%).\n\nLos puntos adicionales solo son aplicables a las personas jurídicas que, en el año gravable correspondiente, tengan una renta gravable igual o superior a treinta mil (30.000) UVT. Estos puntos adicionales no deberán ser calculados por las Pequeñas Centrales Hidroeléctricas cuya capacidad instalada sea igual o menor a mil Kilovatios (1.000Kw). \n\nDebe tenerse en cuenta que, esta sobretasa está sujeta a un anticipo del 100% del valor de la misma, calculado sobre la base gravable del impuesto de renta y sobre la cual el contribuyente liquidó el mencionado impuesto para el año gravable inmediatamente anterior.",1036,{"$f":"OFFSET(Ref_Segmento,ROW(INDIRECT(IF(SUBSTITUTE(Comentarios[[#This Row],[RUTA]],\" \",\"\")=Comentarios[[#This Row],[RUTA]],Comentarios[[#This Row],[RUTA]],\"'\"&SUBSTITUTE(Comentarios[[#This Row],[RUTA]],\"!\",\"'!\"))))-1,0)","v":"Datos básicos contribuyente"},"Azul"]
[{"$f":"SUBSTITUTE(SUBSTITUTE(_xlfn.FORMULATEXT(Comentarios[[#This Row],[Formulada]]),\"=\",\"\"),\"'\",\"\")","v":" !$D$286"},{"$f":"' '!$D$286","v":""},"Debe tenerse en cuenta que en algunos casos los meses o fracción de meses de extemporaneidad no son exactos; por esto aunque es un cálculo automático, se sugiere hacer una revisión manual.",188,{"$f":"OFFSET(Ref_Segmento,ROW(INDIRECT(IF(SUBSTITUTE(Comentarios[[#This Row],[RUTA]],\" \",\"\")=Comentarios[[#This Row],[RUTA]],Comentarios[[#This Row],[RUTA]],\"'\"&SUBSTITUTE(Comentarios[[#This Row],[RUTA]],\"!\",\"'!\"))))-1,0)","v":"Datos básicos contribuyente"},"Azul"]
[{"$f":"SUBSTITUTE(SUBSTITUTE(_xlfn.FORMULATEXT(Comentarios[[#This Row],[Formulada]]),\"=\",\"\"),\"'\",\"\")","v":" !$D$296"},{"$f":"' '!$D$296","v":""},"Debe tenerse en cuenta que en algunos casos los meses o fracción de meses de extemporaneidad no son exactos; por esto aunque es un cálculo automático, se sugiere hacer una revisión manual.",188,{"$f":"OFFSET(Ref_Segmento,ROW(INDIRECT(IF(SUBSTITUTE(Comentarios[[#This Row],[RUTA]],\" \",\"\")=Comentarios[[#This Row],[RUTA]],Comentarios[[#This Row],[RUTA]],\"'\"&SUBSTITUTE(Comentarios[[#This Row],[RUTA]],\"!\",\"'!\"))))-1,0)","v":"Datos básicos contribuyente"},"Azul"]
[{"$f":"SUBSTITUTE(SUBSTITUTE(_xlfn.FORMULATEXT(Comentarios[[#This Row],[Formulada]]),\"=\",\"\"),\"'\",\"\")","v":" !$B$303"},{"$f":"' '!$B$303","v":"Efectivo y Equivalentes del Efectivo "},"El efectivo y los equivalentes del efectivo se deben reconocer y medir siguiendo los lineamientos señalados en la Sección 11 - Instrumentos Financieros Básicos.",160,{"$f":"OFFSET(Ref_Segmento,ROW(INDIRECT(IF(SUBSTITUTE(Comentarios[[#This Row],[RUTA]],\" \",\"\")=Comentarios[[#This Row],[RUTA]],Comentarios[[#This Row],[RUTA]],\"'\"&SUBSTITUTE(Comentarios[[#This Row],[RUTA]],\"!\",\"'!\"))))-1,0)","v":"Activos"},"Azul"]
[{"$f":"SUBSTITUTE(SUBSTITUTE(_xlfn.FORMULATEXT(Comentarios[[#This Row],[Formulada]]),\"=\",\"\"),\"'\",\"\")","v":" !$B$324"},{"$f":"' '!$B$324","v":"Inversiones en subsidiarias, asociadas y \nnegocios conjuntos medidas a valor \nrazonable con cambios en resultados "},"El parágrafo 6 de artículo 21-1 del ET señala que, para efectos fiscales, las mediciones que se efectúen a valor presente o valor razonable de acuerdo con los marcos técnicos normativos contables, deben reconocerse al costo, precio de adquisición o valor nominal, siempre y cuando no exista un tratamiento diferente en el estatuto. Por lo tanto, las diferencias que resulten del sistema de medición contable y fiscal no tendrán efectos en el impuesto de renta hasta que la transacción se realice mediante la transferencia económica del activo o la extinción del pasivo, según corresponda (ver también el numeral 5 del artículo 28 del ET; numeral 4 del artículo 33 del ET; literal c del numeral 1 del artículo 59 del ET; numeral 4 del artículo 93 del ET; artículo 94 del ET; literal b del numeral 1 del artículo 105 del ET). ",824,{"$f":"OFFSET(Ref_Segmento,ROW(INDIRECT(IF(SUBSTITUTE(Comentarios[[#This Row],[RUTA]],\" \",\"\")=Comentarios[[#This Row],[RUTA]],Comentarios[[#This Row],[RUTA]],\"'\"&SUBSTITUTE(Comentarios[[#This Row],[RUTA]],\"!\",\"'!\"))))-1,0)","v":"Activos"},"Azul"]
[{"$f":"SUBSTITUTE(SUBSTITUTE(_xlfn.FORMULATEXT(Comentarios[[#This Row],[Formulada]]),\"=\",\"\"),\"'\",\"\")","v":" !$B$327"},{"$f":"' '!$B$327","v":"Inversiones en subsidiarias, asociadas y \nnegocios conjuntos medidas a valor \nrazonable con cambios en el ORI"},"El parágrafo 6 de artículo 21-1 del ET señala que, para efectos fiscales, las mediciones que se efectúen a valor presente o valor razonable de acuerdo con los marcos técnicos normativos contables, deben reconocerse al costo, precio de adquisición o valor nominal, siempre y cuando no exista un tratamiento diferente en el estatuto. Por lo tanto, las diferencias que resulten del sistema de medición contable y fiscal no tendrán efectos en el impuesto de renta hasta que la transacción se realice mediante la transferencia económica del activo o la extinción del pasivo, según corresponda (ver también: numeral 5 del artículo 28 del ET; numeral 4 del artículo 33 del ET; literal c del numeral 1 del artículo 59 del ET; numeral 4 del artículo 93 del ET; artículo 94 del ET; literal b del numeral 1 del artículo 105 del ET). ",822,{"$f":"OFFSET(Ref_Segmento,ROW(INDIRECT(IF(SUBSTITUTE(Comentarios[[#This Row],[RUTA]],\" \",\"\")=Comentarios[[#This Row],[RUTA]],Comentarios[[#This Row],[RUTA]],\"'\"&SUBSTITUTE(Comentarios[[#This Row],[RUTA]],\"!\",\"'!\"))))-1,0)","v":"Activos"},"Azul"]
[{"$f":"SUBSTITUTE(SUBSTITUTE(_xlfn.FORMULATEXT(Comentarios[[#This Row],[Formulada]]),\"=\",\"\"),\"'\",\"\")","v":" !$B$330"},{"$f":"' '!$B$330","v":"Inversiones en subsidiarias, asociadas y \nnegocios conjuntos medidas con método \nde participación"},"De acuerdo con el numeral 4 del artículo 28 y el literal a del numeral 2 de artículo 105 del ET, los valores que se registran contablemente por la aplicación del método de participación patrimonial no son objeto del impuesto de renta.",234,{"$f":"OFFSET(Ref_Segmento,ROW(INDIRECT(IF(SUBSTITUTE(Comentarios[[#This Row],[RUTA]],\" \",\"\")=Comentarios[[#This Row],[RUTA]],Comentarios[[#This Row],[RUTA]],\"'\"&SUBSTITUTE(Comentarios[[#This Row],[RUTA]],\"!\",\"'!\"))))-1,0)","v":"Activos"},"Azul"]
[{"$f":"SUBSTITUTE(SUBSTITUTE(_xlfn.FORMULATEXT(Comentarios[[#This Row],[Formulada]]),\"=\",\"\"),\"'\",\"\")","v":" !$B$342"},{"$f":"' '!$B$342","v":"Instrumentos de deuda o patrimonio al \ncosto "},"De acuerdo con el artículo 271 del ET, para efectos fiscales, a los bonos, CDT, títulos y otras inversiones que sí coticen en bolsa, se les debe ajustar su valor patrimonial para que queden declarados según los índices de cotización en bolsa a diciembre 31 de 2024.",265,{"$f":"OFFSET(Ref_Segmento,ROW(INDIRECT(IF(SUBSTITUTE(Comentarios[[#This Row],[RUTA]],\" \",\"\")=Comentarios[[#This Row],[RUTA]],Comentarios[[#This Row],[RUTA]],\"'\"&SUBSTITUTE(Comentarios[[#This Row],[RUTA]],\"!\",\"'!\"))))-1,0)","v":"Activos"},"Azul"]
[{"$f":"SUBSTITUTE(SUBSTITUTE(_xlfn.FORMULATEXT(Comentarios[[#This Row],[Formulada]]),\"=\",\"\"),\"'\",\"\")","v":" !$B$346"},{"$f":"' '!$B$346","v":"Instrumentos de deuda o patrimonio al \nvalor razonable con cambios en resultados "},"El parágrafo 6 de artículo 21-1 del ET señala que, para efectos fiscales, las mediciones que se efectúen a valor presente o valor razonable de acuerdo con los marcos técnicos normativos contables, deben reconocerse al costo, precio de adquisición o valor nominal, siempre y cuando no exista un tratamiento diferente en el estatuto. Por lo tanto, las diferencias que resulten del sistema de medición contable y fiscal no tendrán efectos en el impuesto de renta hasta que la transacción se realice mediante la transferencia económica del activo o la extinción del pasivo, según corresponda (ver también: numeral 5 del artículo 28 del ET; numeral 4 del artículo 33 del ET; literal c del numeral 1 del artículo 59 del ET; numeral 4 del artículo 93 del ET; artículo 94 del ET; literal b del numeral 1 del artículo 105 del ET). ",822,{"$f":"OFFSET(Ref_Segmento,ROW(INDIRECT(IF(SUBSTITUTE(Comentarios[[#This Row],[RUTA]],\" \",\"\")=Comentarios[[#This Row],[RUTA]],Comentarios[[#This Row],[RUTA]],\"'\"&SUBSTITUTE(Comentarios[[#This Row],[RUTA]],\"!\",\"'!\"))))-1,0)","v":"Activos"},"Azul"]
[{"$f":"SUBSTITUTE(SUBSTITUTE(_xlfn.FORMULATEXT(Comentarios[[#This Row],[Formulada]]),\"=\",\"\"),\"'\",\"\")","v":" !$B$349"},{"$f":"' '!$B$349","v":"Instrumentos de deuda o patrimonio al \nvalor razonable con cambios en el ORI"},"El parágrafo 6 de artículo 21-1 del ET señala que, para efectos fiscales, las mediciones que se efectúen a valor presente o valor razonable de acuerdo con los marcos técnicos normativos contables, deben reconocerse al costo, precio de adquisición o valor nominal, siempre y cuando no exista un tratamiento diferente en el estatuto. Por lo tanto, las diferencias que resulten del sistema de medición contable y fiscal no tendrán efectos en el impuesto de renta hasta que la transacción se realice mediante la transferencia económica del activo o la extinción del pasivo, según corresponda (ver también: numeral 5 del artículo 28 del ET; numeral 4 del artículo 33 del ET; literal c del numeral 1 del artículo 59 del ET; numeral 4 del artículo 93 del ET; artículo 94 del ET; literal b del numeral 1 del artículo 105 del ET). ",822,{"$f":"OFFSET(Ref_Segmento,ROW(INDIRECT(IF(SUBSTITUTE(Comentarios[[#This Row],[RUTA]],\" \",\"\")=Comentarios[[#This Row],[RUTA]],Comentarios[[#This Row],[RUTA]],\"'\"&SUBSTITUTE(Comentarios[[#This Row],[RUTA]],\"!\",\"'!\"))))-1,0)","v":"Activos"},"Azul"]
[{"$f":"SUBSTITUTE(SUBSTITUTE(_xlfn.FORMULATEXT(Comentarios[[#This Row],[Formulada]]),\"=\",\"\"),\"'\",\"\")","v":" !$B$352"},{"$f":"' '!$B$352","v":"Instrumentos financieros derivados con \nfines de negociación "},"De acuerdo con el artículo 271 del ET, para efectos fiscales, a los bonos, CDT, títulos y otras inversiones que sí coticen en bolsa, se les debe ajustar su valor patrimonial para que queden declarados según los índices de cotización en bolsa a diciembre 31 de 2024.",265,{"$f":"OFFSET(Ref_Segmento,ROW(INDIRECT(IF(SUBSTITUTE(Comentarios[[#This Row],[RUTA]],\" \",\"\")=Comentarios[[#This Row],[RUTA]],Comentarios[[#This Row],[RUTA]],\"'\"&SUBSTITUTE(Comentarios[[#This Row],[RUTA]],\"!\",\"'!\"))))-1,0)","v":"Activos"},"Azul"]
[{"$f":"SUBSTITUTE(SUBSTITUTE(_xlfn.FORMULATEXT(Comentarios[[#This Row],[Formulada]]),\"=\",\"\"),\"'\",\"\")","v":" !$B$355"},{"$f":"' '!$B$355","v":"Instrumentos financieros derivados con \nfines de cobertura"},"De acuerdo con el artículo 271 del ET, para efectos fiscales, a los bonos, CDT, títulos y otras inversiones que sí coticen en bolsa, se les debe ajustar su valor patrimonial para que queden declarados según los índices de cotización en bolsa a diciembre 31 de 2024.",265,{"$f":"OFFSET(Ref_Segmento,ROW(INDIRECT(IF(SUBSTITUTE(Comentarios[[#This Row],[RUTA]],\" \",\"\")=Comentarios[[#This Row],[RUTA]],Comentarios[[#This Row],[RUTA]],\"'\"&SUBSTITUTE(Comentarios[[#This Row],[RUTA]],\"!\",\"'!\"))))-1,0)","v":"Activos"},"Azul"]
[{"$f":"SUBSTITUTE(SUBSTITUTE(_xlfn.FORMULATEXT(Comentarios[[#This Row],[Formulada]]),\"=\",\"\"),\"'\",\"\")","v":" !$B$584"},{"$f":"' '!$B$584","v":"Animales productores medidos al valor  \nrazonable menos costos de venta"},"El parágrafo 6 de artículo 21-1 del ET señala que, para efectos fiscales, las mediciones que se efectúen a valor presente o valor razonable de acuerdo con los marcos técnicos normativos contables, deben reconocerse al costo, precio de adquisición o valor nominal, siempre y cuando no exista un tratamiento diferente en el estatuto. Por lo tanto, las diferencias que resulten del sistema de medición contable y fiscal no tendrán efectos en el impuesto sobre la renta hasta que la transacción se realice mediante la transferencia económica del activo o la extinción del pasivo, según corresponda (ver también: numeral 5 del artículo 28 del ET; numeral 4 del artículo 33 del ET; literal c del numeral artículo 59 del ET; numeral 4 del artículo 93 del ET; artículo 94 del ET; literal b del numeral 1 del artículo 105 del ET). ",822,{"$f":"OFFSET(Ref_Segmento,ROW(INDIRECT(IF(SUBSTITUTE(Comentarios[[#This Row],[RUTA]],\" \",\"\")=Comentarios[[#This Row],[RUTA]],Comentarios[[#This Row],[RUTA]],\"'\"&SUBSTITUTE(Comentarios[[#This Row],[RUTA]],\"!\",\"'!\"))))-1,0)","v":"Activos"},"Azul"]
[{"$f":"SUBSTITUTE(SUBSTITUTE(_xlfn.FORMULATEXT(Comentarios[[#This Row],[Formulada]]),\"=\",\"\"),\"'\",\"\")","v":" !$B$591"},{"$f":"' '!$B$591","v":"Animales consumibles medidos al valor \nrazonable menos costos de venta"},"El parágrafo 6 de artículo 21-1 del ET señala que, para efectos fiscales, las mediciones que se efectúen a valor presente o valor razonable de acuerdo con los marcos técnicos normativos contables, deben reconocerse al costo, precio de adquisición o valor nominal, siempre y cuando no exista un tratamiento diferente en el estatuto. Por lo tanto, las diferencias que resulten del sistema de medición contable y fiscal no tendrán efectos en el impuesto sobre la renta hasta que la transacción se realice mediante la transferencia económica del activo o la extinción del pasivo, según corresponda (ver también: numeral 5 del artículo 28 del ET; numeral 4 del artículo 33 del ET; literal c del numeral artículo 59 del ET; numeral 4 del artículo 93 del ET; artículo 94 del ET; literal b del numeral 1 del artículo 105 del ET). ",822,{"$f":"OFFSET(Ref_Segmento,ROW(INDIRECT(IF(SUBSTITUTE(Comentarios[[#This Row],[RUTA]],\" \",\"\")=Comentarios[[#This Row],[RUTA]],Comentarios[[#This Row],[RUTA]],\"'\"&SUBSTITUTE(Comentarios[[#This Row],[RUTA]],\"!\",\"'!\"))))-1,0)","v":"Activos"},"Azul"]
[{"$f":"SUBSTITUTE(SUBSTITUTE(_xlfn.FORMULATEXT(Comentarios[[#This Row],[Formulada]]),\"=\",\"\"),\"'\",\"\")","v":" !$B$599"},{"$f":"' '!$B$599","v":"Plantas productoras medidas al valor \nrazonable"},"El parágrafo 6 de artículo 21-1 del ET señala que, para efectos fiscales, las mediciones que se efectúen a valor presente o valor razonable de acuerdo con los marcos técnicos normativos contables, deben reconocerse al costo, precio de adquisición o valor nominal, siempre y cuando no exista un tratamiento diferente en el estatuto. Por lo tanto, las diferencias que resulten del sistema de medición contable y fiscal no tendrán efectos en el impuesto sobre la renta hasta que la transacción se realice mediante la transferencia económica del activo o la extinción del pasivo, según corresponda (ver también: numeral 5 del artículo 28 del ET; numeral 4 del artículo 33 del ET; literal c del numeral artículo 59 del ET; numeral 4 del artículo 93 del ET; artículo 94 del ET; literal b del numeral 1 del artículo 105 del ET). ",822,{"$f":"OFFSET(Ref_Segmento,ROW(INDIRECT(IF(SUBSTITUTE(Comentarios[[#This Row],[RUTA]],\" \",\"\")=Comentarios[[#This Row],[RUTA]],Comentarios[[#This Row],[RUTA]],\"'\"&SUBSTITUTE(Comentarios[[#This Row],[RUTA]],\"!\",\"'!\"))))-1,0)","v":"Activos"},"Azul"]
[{"$f":"SUBSTITUTE(SUBSTITUTE(_xlfn.FORMULATEXT(Comentarios[[#This Row],[Formulada]]),\"=\",\"\"),\"'\",\"\")","v":" !$B$606"},{"$f":"' '!$B$606","v":"Cultivos consumibles medidos al valor \nrazonable menos costos de venta"},"El parágrafo 6 de artículo 21-1 del ET señala que, para efectos fiscales, las mediciones que se efectúen a valor presente o valor razonable de acuerdo con los marcos técnicos normativos contables, deben reconocerse al costo, precio de adquisición o valor nominal, siempre y cuando no exista un tratamiento diferente en el estatuto. Por lo tanto, las diferencias que resulten del sistema de medición contable y fiscal no tendrán efectos en el impuesto sobre la renta hasta que la transacción se realice mediante la transferencia económica del activo o la extinción del pasivo, según corresponda (ver también: numeral 5 del artículo 28 del ET; numeral 4 del artículo 33 del ET; literal c del numeral artículo 59 del ET; numeral 4 del artículo 93 del ET; artículo 94 del ET; literal b del numeral 1 del artículo 105 del ET). ",822,{"$f":"OFFSET(Ref_Segmento,ROW(INDIRECT(IF(SUBSTITUTE(Comentarios[[#This Row],[RUTA]],\" \",\"\")=Comentarios[[#This Row],[RUTA]],Comentarios[[#This Row],[RUTA]],\"'\"&SUBSTITUTE(Comentarios[[#This Row],[RUTA]],\"!\",\"'!\"))))-1,0)","v":"Activos"},"Azul"]
[{"$f":"SUBSTITUTE(SUBSTITUTE(_xlfn.FORMULATEXT(Comentarios[[#This Row],[Formulada]]),\"=\",\"\"),\"'\",\"\")","v":" !$B$763"},{"$f":"' '!$B$763","v":"Provisiones"},"De acuerdo con el numeral literal d del numeral 1 del artículo 105 del ET y el artículo 286 del ET, los pasivos por provisiones, por ser simplemente estimados o no tener un beneficiario externo real, son pasivos que no son aceptados fiscalmente.",245,{"$f":"OFFSET(Ref_Segmento,ROW(INDIRECT(IF(SUBSTITUTE(Comentarios[[#This Row],[RUTA]],\" \",\"\")=Comentarios[[#This Row],[RUTA]],Comentarios[[#This Row],[RUTA]],\"'\"&SUBSTITUTE(Comentarios[[#This Row],[RUTA]],\"!\",\"'!\"))))-1,0)","v":"Pasivos"},"Azul"]
[{"$f":"SUBSTITUTE(SUBSTITUTE(_xlfn.FORMULATEXT(Comentarios[[#This Row],[Formulada]]),\"=\",\"\"),\"'\",\"\")","v":" !$B$2268"},{"$f":"' '!$B$2268","v":"Límite para compensación de pérdidas fiscales "},"El artículo 147 del ET indica que las sociedades pueden compensar las pérdidas fiscales, con las rentas líquidas ordinarias que obtuvieron en los 12 periodos gravables siguientes, sin perjuicio de la renta presuntiva del ejercicio. Los socios no podrán deducir ni compensar las pérdidas de las sociedades contra sus propias rentas líquidas. Debe tenerse en cuenta que, las pérdidas fiscales originadas en ingresos no constitutivos de renta ni de ganancia ocasional, y en costos y deducciones que no tengan relación de causalidad con la generación de la renta gravable, en ningún caso podrán ser compensadas con las rentas líquidas del contribuyente, salvo las generadas en la deducción por inversión en activos fijos a que se refiere el artículo 158-3 del ET. \n\nEl término de firmeza de las declaraciones de renta y sus correcciones en las que se determinen o compensen pérdidas fiscales será de 6 años contados a partir de la fecha de su presentación.",952,{"$f":"OFFSET(Ref_Segmento,ROW(INDIRECT(IF(SUBSTITUTE(Comentarios[[#This Row],[RUTA]],\" \",\"\")=Comentarios[[#This Row],[RUTA]],Comentarios[[#This Row],[RUTA]],\"'\"&SUBSTITUTE(Comentarios[[#This Row],[RUTA]],\"!\",\"'!\"))))-1,0)","v":"Compensaciones"},"Azul"]
[{"$f":"SUBSTITUTE(SUBSTITUTE(_xlfn.FORMULATEXT(Comentarios[[#This Row],[Formulada]]),\"=\",\"\"),\"'\",\"\")","v":" !$B$2277"},{"$f":"' '!$B$2277","v":"Límite para compensación por exceso de renta presuntiva"},"Debe tenerse en cuenta que, el exceso de renta presuntiva se puede compensar con la renta líquida ordinaria del ejercicio; sin embargo, a este valor debe restarse, si es el caso, el valor correspondiente a la compensación por pérdidas fiscales de años anteriores, siendo la diferencia el valor límite para compensar el exceso de renta presuntiva.",346,{"$f":"OFFSET(Ref_Segmento,ROW(INDIRECT(IF(SUBSTITUTE(Comentarios[[#This Row],[RUTA]],\" \",\"\")=Comentarios[[#This Row],[RUTA]],Comentarios[[#This Row],[RUTA]],\"'\"&SUBSTITUTE(Comentarios[[#This Row],[RUTA]],\"!\",\"'!\"))))-1,0)","v":"Compensaciones"},"Azul"]
[{"$f":"SUBSTITUTE(SUBSTITUTE(_xlfn.FORMULATEXT(Comentarios[[#This Row],[Formulada]]),\"=\",\"\"),\"'\",\"\")","v":" !$B$2312"},{"$f":"' '!$B$2312","v":"Otras rentas líquidas gravables"},"De acuerdo con el artículo 239-1 del ET, los contribuyentes pueden incluir como renta líquida gravable en la declaración de renta, el valor de los activos omitidos y los pasivos inexistentes originados en periodos no revisables, adicionando el correspondiente valor como renta líquida gravable y liquidando el respectivo impuesto, sin que se genere renta por diferencia patrimonial.\n\nDebe tenerse en cuenta que, cuando en desarrollo de las acciones de fiscalización, la DIAN detecte pasivos inexistentes o activos omitidos por el contribuyente, el valor de los mismos constituirá renta líquida gravable en el periodo gravable objeto de revisión. El mayor valor del impuesto a cargo determinado por este concepto generará la sanción por inexactitud. De igual manera, cuando el contribuyente incluya activos omitidos o excluya pasivos inexistentes sin declararlos como renta líquida gravable, la DIAN procederá a adicionar la renta líquida gravable por tales valores y aplicará la sanción por inexactitud.",1003,{"$f":"OFFSET(Ref_Segmento,ROW(INDIRECT(IF(SUBSTITUTE(Comentarios[[#This Row],[RUTA]],\" \",\"\")=Comentarios[[#This Row],[RUTA]],Comentarios[[#This Row],[RUTA]],\"'\"&SUBSTITUTE(Comentarios[[#This Row],[RUTA]],\"!\",\"'!\"))))-1,0)","v":"Otras rentas líq. gravab."},"Azul"]
[{"$f":"SUBSTITUTE(SUBSTITUTE(_xlfn.FORMULATEXT(Comentarios[[#This Row],[Formulada]]),\"=\",\"\"),\"'\",\"\")","v":" !$B$2315"},{"$f":"' '!$B$2315","v":"Activos omitidos "},"Registre en esta sección los activos omitidos en declaraciones de periodos anteriores. Tenga en cuenta que, los valores que registre en esta sección debe igualmente estar incluidos en la sección del patrimonio. \n\nLos valor que se incluyan en esta sección tendrán el tratamiento de renta líquida gravable, sobre la cual se determinará el impuesto de renta que corresponda. ",372,{"$f":"OFFSET(Ref_Segmento,ROW(INDIRECT(IF(SUBSTITUTE(Comentarios[[#This Row],[RUTA]],\" \",\"\")=Comentarios[[#This Row],[RUTA]],Comentarios[[#This Row],[RUTA]],\"'\"&SUBSTITUTE(Comentarios[[#This Row],[RUTA]],\"!\",\"'!\"))))-1,0)","v":"Otras rentas líq. gravab."},"Azul"]
[{"$f":"SUBSTITUTE(SUBSTITUTE(_xlfn.FORMULATEXT(Comentarios[[#This Row],[Formulada]]),\"=\",\"\"),\"'\",\"\")","v":" !$B$2318"},{"$f":"' '!$B$2318","v":"Pasivos inexistentes"},"Registre en esta sección los pasivos inexistentes en declaraciones de periodos anteriores. Tenga en cuenta que, los valores que registre en esta sección debe igualmente estar incluidos en la sección del patrimonio. \n\nLos valor que se incluyan en esta sección tendrán el tratamiento de renta líquida gravable, sobre la cual se determinará el impuesto de renta que corresponda. ",376,{"$f":"OFFSET(Ref_Segmento,ROW(INDIRECT(IF(SUBSTITUTE(Comentarios[[#This Row],[RUTA]],\" \",\"\")=Comentarios[[#This Row],[RUTA]],Comentarios[[#This Row],[RUTA]],\"'\"&SUBSTITUTE(Comentarios[[#This Row],[RUTA]],\"!\",\"'!\"))))-1,0)","v":"Otras rentas líq. gravab."},"Azul"]
[{"$f":"SUBSTITUTE(SUBSTITUTE(_xlfn.FORMULATEXT(Comentarios[[#This Row],[Formulada]]),\"=\",\"\"),\"'\",\"\")","v":" !$B$2332"},{"$f":"' '!$B$2332","v":"Otras rentas líquidas gravables ESAL"},"De acuerdo con el artículo 239-1 del ET, los contribuyentes pueden incluir como renta líquida gravable en la declaración de renta, el valor de los activos omitidos y los pasivos inexistentes originados en periodos no revisables, adicionando el correspondiente valor como renta líquida gravable y liquidando el respectivo impuesto, sin que se genere renta por diferencia patrimonial.\n\nDebe tenerse en cuenta que, cuando en desarrollo de las acciones de fiscalización, la DIAN detecte pasivos inexistentes o activos omitidos por el contribuyente, el valor de los mismos constituirá renta líquida gravable en el periodo gravable objeto de revisión. El mayor valor del impuesto a cargo determinado por este concepto generará la sanción por inexactitud. De igual manera, cuando el contribuyente incluya activos omitidos o excluya pasivos inexistentes sin declararlos como renta líquida gravable, la DIAN procederá a adicionar la renta líquida gravable por tales valores y aplicará la sanción por inexactitud.",1003,{"$f":"OFFSET(Ref_Segmento,ROW(INDIRECT(IF(SUBSTITUTE(Comentarios[[#This Row],[RUTA]],\" \",\"\")=Comentarios[[#This Row],[RUTA]],Comentarios[[#This Row],[RUTA]],\"'\"&SUBSTITUTE(Comentarios[[#This Row],[RUTA]],\"!\",\"'!\"))))-1,0)","v":"OtrasRentasLiqGravaESAL"},"Azul"]
[{"$f":"SUBSTITUTE(SUBSTITUTE(_xlfn.FORMULATEXT(Comentarios[[#This Row],[Formulada]]),\"=\",\"\"),\"'\",\"\")","v":" !$B$2471"},{"$f":"' '!$B$2471","v":"INCRNGO, Deduciones especiales, Rentas Exentas y Descuentos Tributarios que se someten al límite "},"El artículo 259-1 del ET indica que, para las sociedades nacionales y sus asimiladas, los establecimientos permanentes de entidades del exterior y las personas jurídicas extranjeras con o sin residencia en el país contribuyentes del impuesto sobre la renta y complementarios, el valor de los ingresos no constitutivos de renta ni ganancia ocasional, deducciones especiales, rentas exentas y descuentos tributarios establecidos en los artículos 107-2, 255 257-1 del ET; 124 de la Ley 30 de 1992, 56 de la Ley 397 de 1997, 44 de la Ley 789 de 2002, 23 de la Ley 1257  de 2008 y 4o de la Ley 1493 de 2011; no podrá exceder el tres por ciento (3%) anual de su renta líquida ordinaria antes de detraer las deducciones especiales antes mencionadas. Para efectos del cálculo del impuesto a pagar, se debe adicionar al impuesto a cargo del respectivo año gravable, siempre que sea positivo, el valor resultante de la siguiente fórmula:\n\nVAA = (DE+ RE+ INCRNGO) * TRPJ + DT - 3%RLO*\n\nDonde:\n\n- VAA: corresponde al valor a adicionar.\n\n- DE: corresponde a las deducciones especiales sujetas al límite previsto.\n\n- RE: corresponde a las rentas exentas sujetas al límite previsto.\n\n- INCRNGO: corresponde a los ingresos no constitucionales de renta ni ganancia ocasional sujetos al límite previsto.\n\n- TRRJ: corresponde a la tarifa del impuesto sobre la renta aplicable\n\n- DT: corresponde a los descuentos tributarios sujetos al límite previsto.\n\n- RLO*: corresponde a la renta líquida ordinaria anual del contribuyente, calculada antes de detraer las deducciones especiales sujetas al límite.\n\nLos Ingresos no constitutivos de renta ni ganancia ocasional, deducciones especiales rentas exentas y descuentos tributarios que no se encuentren señalados en el presente artículo, no estarán sujetos al límite.",1792,{"$f":"OFFSET(Ref_Segmento,ROW(INDIRECT(IF(SUBSTITUTE(Comentarios[[#This Row],[RUTA]],\" \",\"\")=Comentarios[[#This Row],[RUTA]],Comentarios[[#This Row],[RUTA]],\"'\"&SUBSTITUTE(Comentarios[[#This Row],[RUTA]],\"!\",\"'!\"))))-1,0)","v":"Valor a Adicionar"},"Azul"]
[{"$f":"SUBSTITUTE(SUBSTITUTE(_xlfn.FORMULATEXT(Comentarios[[#This Row],[Formulada]]),\"=\",\"\"),\"'\",\"\")","v":" !$D$2489"},{"$f":"' '!$D$2489","v":0},"En caso de que el Valor a Adicionar (VAA) sea menor o igual a cero (VAA<=0), el valor a adicionar no se sumará al impuesto a cargo calculado para el contribuyente. En caso contrario, el VAA será sumado al impuesto a cargo.",222,{"$f":"OFFSET(Ref_Segmento,ROW(INDIRECT(IF(SUBSTITUTE(Comentarios[[#This Row],[RUTA]],\" \",\"\")=Comentarios[[#This Row],[RUTA]],Comentarios[[#This Row],[RUTA]],\"'\"&SUBSTITUTE(Comentarios[[#This Row],[RUTA]],\"!\",\"'!\"))))-1,0)","v":"Valor a Adicionar"},"Azul"]
[{"$f":"SUBSTITUTE(SUBSTITUTE(_xlfn.FORMULATEXT(Comentarios[[#This Row],[Formulada]]),\"=\",\"\"),\"'\",\"\")","v":" !$E$2489"},{"$f":"' '!$E$2489","v":0},"En caso de que el Valor a Adicionar (VAA) sea menor o igual a cero (VAA<=0), el valor a adicionar no se sumará al impuesto a cargo calculado para el contribuyente. En caso contrario, el VAA será sumado al impuesto a cargo.",222,{"$f":"OFFSET(Ref_Segmento,ROW(INDIRECT(IF(SUBSTITUTE(Comentarios[[#This Row],[RUTA]],\" \",\"\")=Comentarios[[#This Row],[RUTA]],Comentarios[[#This Row],[RUTA]],\"'\"&SUBSTITUTE(Comentarios[[#This Row],[RUTA]],\"!\",\"'!\"))))-1,0)","v":"Valor a Adicionar"},"Azul"]
[{"$f":"SUBSTITUTE(SUBSTITUTE(_xlfn.FORMULATEXT(Comentarios[[#This Row],[Formulada]]),\"=\",\"\"),\"'\",\"\")","v":" !$B$2732"},{"$f":"' '!$B$2732","v":"Sobre la renta líquida gravable"},"El contribuyente deberá tomar el valor de la casilla 79 - \"Renta Líquida Gravable\", y multiplicarlo por la tarifa que corresponda.",130,{"$f":"OFFSET(Ref_Segmento,ROW(INDIRECT(IF(SUBSTITUTE(Comentarios[[#This Row],[RUTA]],\" \",\"\")=Comentarios[[#This Row],[RUTA]],Comentarios[[#This Row],[RUTA]],\"'\"&SUBSTITUTE(Comentarios[[#This Row],[RUTA]],\"!\",\"'!\"))))-1,0)","v":"Cálculo impto"},"Azul"]
[{"$f":"SUBSTITUTE(SUBSTITUTE(_xlfn.FORMULATEXT(Comentarios[[#This Row],[Formulada]]),\"=\",\"\"),\"'\",\"\")","v":" !$B$2737"},{"$f":"' '!$B$2737","v":"De dividendos y/o participaciones gravadas a la tarifa del 10% "},"El contribuyente deberá tomar el valor de la casilla 79 - \"Renta Líquida Gravable\", y multiplicarlo por la tarifa que corresponda.",130,{"$f":"OFFSET(Ref_Segmento,ROW(INDIRECT(IF(SUBSTITUTE(Comentarios[[#This Row],[RUTA]],\" \",\"\")=Comentarios[[#This Row],[RUTA]],Comentarios[[#This Row],[RUTA]],\"'\"&SUBSTITUTE(Comentarios[[#This Row],[RUTA]],\"!\",\"'!\"))))-1,0)","v":"Cálculo impto"},"Azul"]
[{"$f":"SUBSTITUTE(SUBSTITUTE(_xlfn.FORMULATEXT(Comentarios[[#This Row],[Formulada]]),\"=\",\"\"),\"'\",\"\")","v":" !$B$2742"},{"$f":"' '!$B$2742","v":"De dividendos y/o participaciones gravadas a la tarifa del artículo 240 ET (base casilla 55)"},"El contribuyente deberá tomar el valor de la casilla 79 - \"Renta Líquida Gravable\", y multiplicarlo por la tarifa que corresponda.",130,{"$f":"OFFSET(Ref_Segmento,ROW(INDIRECT(IF(SUBSTITUTE(Comentarios[[#This Row],[RUTA]],\" \",\"\")=Comentarios[[#This Row],[RUTA]],Comentarios[[#This Row],[RUTA]],\"'\"&SUBSTITUTE(Comentarios[[#This Row],[RUTA]],\"!\",\"'!\"))))-1,0)","v":"Cálculo impto"},"Azul"]
[{"$f":"SUBSTITUTE(SUBSTITUTE(_xlfn.FORMULATEXT(Comentarios[[#This Row],[Formulada]]),\"=\",\"\"),\"'\",\"\")","v":" !$B$2747"},{"$f":"' '!$B$2747","v":"De dividendos y/o participaciones gravadas a la tarifa del 27% "},"El contribuyente deberá tomar el valor de la casilla 79 - \"Renta Líquida Gravable\", y multiplicarlo por la tarifa que corresponda.",130,{"$f":"OFFSET(Ref_Segmento,ROW(INDIRECT(IF(SUBSTITUTE(Comentarios[[#This Row],[RUTA]],\" \",\"\")=Comentarios[[#This Row],[RUTA]],Comentarios[[#This Row],[RUTA]],\"'\"&SUBSTITUTE(Comentarios[[#This Row],[RUTA]],\"!\",\"'!\"))))-1,0)","v":"Cálculo impto"},"Azul"]
[{"$f":"SUBSTITUTE(SUBSTITUTE(_xlfn.FORMULATEXT(Comentarios[[#This Row],[Formulada]]),\"=\",\"\"),\"'\",\"\")","v":" !$B$2752"},{"$f":"' '!$B$2752","v":"De dividendos y/o participaciones gravadas a la tarifa del artículo 240 ET (base casilla 53)"},"El contribuyente deberá tomar el valor de la casilla 79 - \"Renta Líquida Gravable\", y multiplicarlo por la tarifa que corresponda.",130,{"$f":"OFFSET(Ref_Segmento,ROW(INDIRECT(IF(SUBSTITUTE(Comentarios[[#This Row],[RUTA]],\" \",\"\")=Comentarios[[#This Row],[RUTA]],Comentarios[[#This Row],[RUTA]],\"'\"&SUBSTITUTE(Comentarios[[#This Row],[RUTA]],\"!\",\"'!\"))))-1,0)","v":"Cálculo impto"},"Azul"]
[{"$f":"SUBSTITUTE(SUBSTITUTE(_xlfn.FORMULATEXT(Comentarios[[#This Row],[Formulada]]),\"=\",\"\"),\"'\",\"\")","v":" !$B$2757"},{"$f":"' '!$B$2757","v":"De dividendos y/o participaciones gravadas a la tarifa del 33% (base casilla 52)"},"El contribuyente deberá tomar el valor de la casilla 79 - \"Renta Líquida Gravable\", y multiplicarlo por la tarifa que corresponda.",130,{"$f":"OFFSET(Ref_Segmento,ROW(INDIRECT(IF(SUBSTITUTE(Comentarios[[#This Row],[RUTA]],\" \",\"\")=Comentarios[[#This Row],[RUTA]],Comentarios[[#This Row],[RUTA]],\"'\"&SUBSTITUTE(Comentarios[[#This Row],[RUTA]],\"!\",\"'!\"))))-1,0)","v":"Cálculo impto"},"Azul"]
[{"$f":"SUBSTITUTE(SUBSTITUTE(_xlfn.FORMULATEXT(Comentarios[[#This Row],[Formulada]]),\"=\",\"\"),\"'\",\"\")","v":" !$C$2883"},{"$f":"' '!$C$2883","v":"¿En los dos años anteriores a la generación de esta sanción por extemporaneidad, el contribuyente \nincurrió en la misma conducta sancionable?"},"Mediante el numeral 1.1 del Concepto 14116 de 2017 (Concepto Unificado sobre Procedimiento Tributario), la DIAN precisa que en lo correspondiente a las sanciones por extemporaneidad (artículos 641, 642 y 645 del ET), por no declarar (artículo 643 del ET) y por corrección (artículos 644, 645 y 647-1 del ET), para efectos de la aplicación del artículo 640 del ET, es necesario verificar si la misma conducta sancionable se cometió en el pasado, independientemente del impuesto sobre el cual versa la declaración tributaria. ",524,{"$f":"OFFSET(Ref_Segmento,ROW(INDIRECT(IF(SUBSTITUTE(Comentarios[[#This Row],[RUTA]],\" \",\"\")=Comentarios[[#This Row],[RUTA]],Comentarios[[#This Row],[RUTA]],\"'\"&SUBSTITUTE(Comentarios[[#This Row],[RUTA]],\"!\",\"'!\"))))-1,0)","v":"Sanciones"},"Azul"]
[{"$f":"SUBSTITUTE(SUBSTITUTE(_xlfn.FORMULATEXT(Comentarios[[#This Row],[Formulada]]),\"=\",\"\"),\"'\",\"\")","v":" !$B$2888"},{"$f":"' '!$B$2888","v":"¿Aplica reducción de la sanción al 50%? "},"De acuerdo con el numeral 1 del artículo 640 del ET, cuando la sanción deba ser liquidada por el contribuyente, podrá ser reducida al 50%, siempre y cuando se cumplan las siguientes condiciones: \n- Que dentro de los dos (2) años anteriores a la fecha de la comisión de la conducta sancionable no se hubiere cometido la misma; y\n- Que la Administración Tributaria no haya proferido pliego de cargos, requerimiento especial o emplazamiento previo por no declarar, según el caso.\nEn caso de que no se cumplan las dos condiciones, el contribuyente no podrá acogerse al beneficio de la reducción de la sanción al 50%. ",613,{"$f":"OFFSET(Ref_Segmento,ROW(INDIRECT(IF(SUBSTITUTE(Comentarios[[#This Row],[RUTA]],\" \",\"\")=Comentarios[[#This Row],[RUTA]],Comentarios[[#This Row],[RUTA]],\"'\"&SUBSTITUTE(Comentarios[[#This Row],[RUTA]],\"!\",\"'!\"))))-1,0)","v":"Sanciones"},"Azul"]
[{"$f":"SUBSTITUTE(SUBSTITUTE(_xlfn.FORMULATEXT(Comentarios[[#This Row],[Formulada]]),\"=\",\"\"),\"'\",\"\")","v":" !$B$2889"},{"$f":"' '!$B$2889","v":"¿Aplica reducción de la sanción al 75%? "},"El numeral 2 del artículo 640 del ET establece que, cuando la sanción deba ser liquidada por el contribuyente, podrá ser reducida al 75%, siempre y cuando se cumplan las siguientes condiciones: \n- Que dentro del año (1) año anterior a la fecha de la comisión de la conducta sancionable no se hubiere cometido la misma; y\n- Que la Administración Tributaria no haya proferido pliego de cargos, requerimiento especial o emplazamiento previo por no declarar, según el caso.\nEn caso de que no se cumplan las dos condiciones, el contribuyente no podrá acogerse al beneficio de la reducción de la sanción al 75%. ",606,{"$f":"OFFSET(Ref_Segmento,ROW(INDIRECT(IF(SUBSTITUTE(Comentarios[[#This Row],[RUTA]],\" \",\"\")=Comentarios[[#This Row],[RUTA]],Comentarios[[#This Row],[RUTA]],\"'\"&SUBSTITUTE(Comentarios[[#This Row],[RUTA]],\"!\",\"'!\"))))-1,0)","v":"Sanciones"},"Azul"]
[{"$f":"SUBSTITUTE(SUBSTITUTE(_xlfn.FORMULATEXT(Comentarios[[#This Row],[Formulada]]),\"=\",\"\"),\"'\",\"\")","v":" !$B$2899"},{"$f":"' '!$B$2899","v":"¿Aplica reducción de la sanción al 50%? "},"De acuerdo con el numeral 3 del artículo 640 del ET, cuando la sanción sea propuesta o determinada por la DIAN, podrá ser reducida al 50%, siempre y cuando se cumplan las siguientes condiciones: \n- Que dentro de los cuatro (4) años anteriores a la fecha de la comisión de la conducta sancionable no se hubiere cometido la misma, y esta se hubiere sancionado mediante acto administrativo en firme; y\n- Que la sanción sea aceptada y la infracción subsanada de conformidad con lo establecido en el tipo sancionatorio correspondiente.\nEn caso de que no se cumplan las dos condiciones, el contribuyente no podrá acogerse al beneficio de la reducción de la sanción al 50%. ",667,{"$f":"OFFSET(Ref_Segmento,ROW(INDIRECT(IF(SUBSTITUTE(Comentarios[[#This Row],[RUTA]],\" \",\"\")=Comentarios[[#This Row],[RUTA]],Comentarios[[#This Row],[RUTA]],\"'\"&SUBSTITUTE(Comentarios[[#This Row],[RUTA]],\"!\",\"'!\"))))-1,0)","v":"Sanciones"},"Azul"]
[{"$f":"SUBSTITUTE(SUBSTITUTE(_xlfn.FORMULATEXT(Comentarios[[#This Row],[Formulada]]),\"=\",\"\"),\"'\",\"\")","v":" !$B$2900"},{"$f":"' '!$B$2900","v":"¿Aplica reducción de la sanción al 75%? "},"El numeral 4 del artículo 640 del ET establece que, cuando la sanción sea propuesta o liquidada por la DIAN, podrá ser reducida al 75%, siempre y cuando se cumplan las siguientes condiciones: \n- Que dentro de los dos (2) años anteriores a la fecha de la comisión de la conducta sancionable no se hubiere cometido la misma, y esta se hubiere sancionado mediante acto administrativo en firme; y\n- Que la sanción sea aceptada y la infracción subsanada de conformidad con lo establecido en el tipo sancionatorio correspondiente.\nEn caso de que no se cumplan las dos condiciones, el contribuyente no podrá acogerse al beneficio de la reducción de la sanción al 75%. ",661,{"$f":"OFFSET(Ref_Segmento,ROW(INDIRECT(IF(SUBSTITUTE(Comentarios[[#This Row],[RUTA]],\" \",\"\")=Comentarios[[#This Row],[RUTA]],Comentarios[[#This Row],[RUTA]],\"'\"&SUBSTITUTE(Comentarios[[#This Row],[RUTA]],\"!\",\"'!\"))))-1,0)","v":"Sanciones"},"Azul"]
[{"$f":"SUBSTITUTE(SUBSTITUTE(_xlfn.FORMULATEXT(Comentarios[[#This Row],[Formulada]]),\"=\",\"\"),\"'\",\"\")","v":" !$C$2975"},{"$f":"' '!$C$2975","v":0},"De acuerdo con el artículo 236 del ET, cuando la suma de la renta gravable, las rentas exentas y la ganancia ocasional neta, sea inferior a la diferencia entre el patrimonio líquido del último periodo gravable y el patrimonio líquido del periodo inmediatamente anterior, dicha diferencia se considera renta gravable, a menos que el contribuyente demuestre que el aumento patrimonial obedece a causas justificadas.",413,{"$f":"OFFSET(Ref_Segmento,ROW(INDIRECT(IF(SUBSTITUTE(Comentarios[[#This Row],[RUTA]],\" \",\"\")=Comentarios[[#This Row],[RUTA]],Comentarios[[#This Row],[RUTA]],\"'\"&SUBSTITUTE(Comentarios[[#This Row],[RUTA]],\"!\",\"'!\"))))-1,0)","v":"Conciliación Patrimonial"},"Azul"]
[{"$f":"SUBSTITUTE(SUBSTITUTE(_xlfn.FORMULATEXT(Comentarios[[#This Row],[Formulada]]),\"=\",\"\"),\"'\",\"\")","v":" !$D$2992"},{"$f":"' '!$D$2992","v":0},"Tenga en cuenta que este valor corresponde al impuesto a pagar determinado de la siguiente manera: \nAl impuesto a cargo, se le suma el anticipo de renta para el año gravable siguiente y el anticipo de las sobretasas determinado para el año gravable siguiente (si corresponde); al valor obtenido se le resta el \"Valor inversión obras por impuestos \", el \"descuento efectivo inversión obras por impuestos\", el \"crédito fiscal\", el \"anticipo de renta liquidado el año gravable anterior\", el \"saldo a favor obtenido en el año gravable anterior sin devolución y/o compensación\", las retenciones en la fuente que le fueron practicadas durante el año\" y el \"anticipo de las sobretasas liquidado el año gravable anterior\". ",715,{"$f":"OFFSET(Ref_Segmento,ROW(INDIRECT(IF(SUBSTITUTE(Comentarios[[#This Row],[RUTA]],\" \",\"\")=Comentarios[[#This Row],[RUTA]],Comentarios[[#This Row],[RUTA]],\"'\"&SUBSTITUTE(Comentarios[[#This Row],[RUTA]],\"!\",\"'!\"))))-1,0)","v":"Conciliación Patrimonial"},"Azul"]
[{"$f":"SUBSTITUTE(SUBSTITUTE(_xlfn.FORMULATEXT(Comentarios[[#This Row],[Formulada]]),\"=\",\"\"),\"'\",\"\")","v":" !$D$2993"},{"$f":"' '!$D$2993","v":0},"Este valor se incluye de forma discriminada en el cálculo de la renta por comparación patrimonial, debido a que se excluye en la operación para determinar el total del impuesto a pagar.",185,{"$f":"OFFSET(Ref_Segmento,ROW(INDIRECT(IF(SUBSTITUTE(Comentarios[[#This Row],[RUTA]],\" \",\"\")=Comentarios[[#This Row],[RUTA]],Comentarios[[#This Row],[RUTA]],\"'\"&SUBSTITUTE(Comentarios[[#This Row],[RUTA]],\"!\",\"'!\"))))-1,0)","v":"Conciliación Patrimonial"},"Azul"]
[{"$f":"SUBSTITUTE(SUBSTITUTE(_xlfn.FORMULATEXT(Comentarios[[#This Row],[Formulada]]),\"=\",\"\"),\"'\",\"\")","v":" !$D$2995"},{"$f":"' '!$D$2995","v":0},"Si el resultado de esta casilla es cero ($0) o menor a cero ($0), NO existe renta por comparación patrimonial, pues la variación presentada en el patrimonio líquido del año gravable 2024 con respecto al patrimonio líquido del año anterior, se encuentra justificada con las rentas percibidas en el año. \nEn caso de que esta casilla sea mayor a cero ($0), SÍ existe renta por comparación patrimonial, es decir que, la variación presentada en el patrimonio líquido del año gravable 2024 con respecto al patrimonio líquido del año anterior, no se encuentra justificada con las rentas percibidas en el año, y por lo tanto, la variación no justificada debe ser reporta como renta líquida gravable en la casilla 78 del formulario, sin que sea posible disminuirla con deducciones y renta exenta (se sugiere hacer una revisión de los activos, deudas e ingresos registrados para validar que no hay omisión de algún dato o información).",925,{"$f":"OFFSET(Ref_Segmento,ROW(INDIRECT(IF(SUBSTITUTE(Comentarios[[#This Row],[RUTA]],\" \",\"\")=Comentarios[[#This Row],[RUTA]],Comentarios[[#This Row],[RUTA]],\"'\"&SUBSTITUTE(Comentarios[[#This Row],[RUTA]],\"!\",\"'!\"))))-1,0)","v":"Conciliación Patrimonial"},"Azul"]
[{"$f":"SUBSTITUTE(SUBSTITUTE(_xlfn.FORMULATEXT(Comentarios[[#This Row],[Formulada]]),\"=\",\"\"),\"'\",\"\")","v":" !$B$3000"},{"$f":"' '!$B$3000","v":"Impuestos pagados en el exterior "},"De acuerdo con el artículo 254 del ET “las personas naturales residentes en el país, que sean contribuyentes del impuesto de renta y que perciban rentas de fuente extranjera sujetas al impuesto de renta en el país de origen, tienen derecho a descontar del monto del impuesto colombiano de renta, el impuesto sobre la renta pagado en el extranjero, cualquiera que sea la denominación, liquidado sobre esas mismas rentas, siempre que el descuento no exceda del monto del impuesto que deba pagar el contribuyente en Colombia por esas mismas rentas\". \nEn consecuencia, en aquellos casos en que el impuesto pagado en el exterior sea superior a aquel que se generaría en Colombia por esas mismas rentas, el excedente no podrás ser aprovechado como descuento tributario; por lo anterior, es necesario hacer el cálculo correspondiente del impuesto de renta que se generaría en Colombia sobre las rentas que dieron origen al impuesto pagado en el exterior, y de esta manera, determinar el valor por descuento tributario que procede.",1023,{"$f":"OFFSET(Ref_Segmento,ROW(INDIRECT(IF(SUBSTITUTE(Comentarios[[#This Row],[RUTA]],\" \",\"\")=Comentarios[[#This Row],[RUTA]],Comentarios[[#This Row],[RUTA]],\"'\"&SUBSTITUTE(Comentarios[[#This Row],[RUTA]],\"!\",\"'!\"))))-1,0)","v":"Descuentos Tributarios"},"Azul"]
[{"$f":"SUBSTITUTE(SUBSTITUTE(_xlfn.FORMULATEXT(Comentarios[[#This Row],[Formulada]]),\"=\",\"\"),\"'\",\"\")","v":" !$B$3014"},{"$f":"' '!$B$3014","v":"Inversiones en empresas de acueducto y alcantarillado por parte de empresas prestadoras de servicios domiciliarios"},"De acuerdo con el artículo 104 de la Ley 788 de 2002: \"Las empresas de servicios públicos domiciliarios que presten los servicios de acueducto y alcantarillado, podrán solicitar un descuento equivalente al 40% del valor de la inversión que realicen en el respectivo año gravable, en empresas de acueducto y alcantarillado del orden regional diferentes a la empresa beneficiaria del descuento. En todos los casos la inversión debe garantizar una ampliación de la cobertura del servicio, en los términos que establezca el reglamento. Este descuento no podrá exceder del 50% del impuesto neto de renta del respectivo período\".\nAl respecto, debe tenerse en cuenta que, el artículo 1.2.1.24.5 del Decreto 1625 de 2016 indica que, a este descuento no le es aplicable la limitación señalada en el inciso segundo del artículo 259 del ET (Ver Oficio DIAN 001187 de enero 16 de 2019). ",875,{"$f":"OFFSET(Ref_Segmento,ROW(INDIRECT(IF(SUBSTITUTE(Comentarios[[#This Row],[RUTA]],\" \",\"\")=Comentarios[[#This Row],[RUTA]],Comentarios[[#This Row],[RUTA]],\"'\"&SUBSTITUTE(Comentarios[[#This Row],[RUTA]],\"!\",\"'!\"))))-1,0)","v":"Descuentos Tributarios"},"Azul"]
[{"$f":"SUBSTITUTE(SUBSTITUTE(_xlfn.FORMULATEXT(Comentarios[[#This Row],[Formulada]]),\"=\",\"\"),\"'\",\"\")","v":" !$B$3015"},{"$f":"' '!$B$3015","v":"Concepto "},"El artículo 256 del ET señala que, las personas que realicen inversiones en proyectos calificados por el Consejo Nacional de Beneficios Tributarios en Ciencia y Tecnología en Innovación como de investigación, desarrollo tecnológico o innovación, de acuerdo con los criterios y condiciones definidas por dicho Consejo, pueden tomar como descuento tributario en el impuesto de renta el 25% del valor invertido en dichos proyectos en el periodo gravable en que se realizó la donación o inversión. \nDebe tenerse que en cuenta que, el valor de este descuento en conjunto con los otros descuentos señalados en el artículo 256 del ET y aquellos mencionados en el artículo 257 del ET, no pueden exceder el 25% del impuesto de renta a cargo del respectivo año gravable (artículo 258 del ET). El exceso de descuento que se presente podrá ser tomado dentro de los cuatro años gravables siguientes a aquel en el que se realizó la donación o inversión en investigación, desarrollo e innovación. \nAdicionalmente, se deberá considerar el límite general de los descuentos tributarios señalados en el artículo 259 del ET. ",1105,{"$f":"OFFSET(Ref_Segmento,ROW(INDIRECT(IF(SUBSTITUTE(Comentarios[[#This Row],[RUTA]],\" \",\"\")=Comentarios[[#This Row],[RUTA]],Comentarios[[#This Row],[RUTA]],\"'\"&SUBSTITUTE(Comentarios[[#This Row],[RUTA]],\"!\",\"'!\"))))-1,0)","v":"Descuentos Tributarios"},"Azul"]
[{"$f":"SUBSTITUTE(SUBSTITUTE(_xlfn.FORMULATEXT(Comentarios[[#This Row],[Formulada]]),\"=\",\"\"),\"'\",\"\")","v":" !$B$3022"},{"$f":"' '!$B$3022","v":"IVA pagado en la importación, formación, construcción o adquisición de activos fijos reales productivos"},"El artículo 258-1 del ET señala que los responsable del IVA podrán descontar del impuesto sobre la renta a cargo, el IVA pagado por la adquisición, construcción o formación e importación de activos fijos reales productivos, incluyendo el asociado a los servicios necesarios para ponerlos en condiciones de utilización, en año gravable en que se realice el pago o en cualquiera de los periodos gravables siguientes. En el caso de los activos fijos reales productivos formados o construidos, el impuesto sobre las ventas podrá descontarse en el año gravable en que dicho activo se active y comience a depreciarse o amortizarse, o en cualquiera de los periodos gravables siguientes.\n\nDebe tenerse en cuenta que, mediante la Sentencia C-379 de 2020, la Corte Constitucional declaró exequible la expresión \"Los responsables del Impuesto sobre las Ventas (IVA)” contenida en el artículo 258-1 del ET, en el entendido de que al beneficio tributario contemplado dicha norma también pueden acceder aquellos sujetos que no son responsables del IVA. En consecuencia, este beneficio también podrá ser tomado por las personas naturales no obligadas a llevar contabilidad. ",1159,{"$f":"OFFSET(Ref_Segmento,ROW(INDIRECT(IF(SUBSTITUTE(Comentarios[[#This Row],[RUTA]],\" \",\"\")=Comentarios[[#This Row],[RUTA]],Comentarios[[#This Row],[RUTA]],\"'\"&SUBSTITUTE(Comentarios[[#This Row],[RUTA]],\"!\",\"'!\"))))-1,0)","v":"Descuentos Tributarios"},"Azul"]
[{"$f":"SUBSTITUTE(SUBSTITUTE(_xlfn.FORMULATEXT(Comentarios[[#This Row],[Formulada]]),\"=\",\"\"),\"'\",\"\")","v":" !$B$3028"},{"$f":"' '!$B$3028","v":"Donaciones y/o inversiones "},"El artículo 257-1 del ET indica que, los valores a tomar por los descuentos tributarios señalados en los artículo 255, 256, 257 y 257-1 del ET, no pueden exceder el 30% del impuesto sobre la renta a cargo del contribuyente en el respectivo año gravable. De acuerdo con el artículo 258 del ET, el exceso no descontado en el año podrá ser tratado de la siguiente manera:\n\n1. El exceso originado en los descuentos señalados en el artículo 255 del ET, podrá tomarse dentro de los 4 periodos gravables siguientes a aquel en que se efectuó la inversión en control y mejoramiento del medio ambiente.\n\n2. El exceso originado en el descuento señalado en el artículo 256 del ET, podrá tomarse dentro de los 4 periodos gravables siguientes a aquel en que se efectuó la inversión en investigación, desarrollo e innovación.\n\n3. El exceso originado en el descuento señalado en el artículo 257 del ET, podrá tomarse dentro del periodo gravable siguiente a aquel en que se efectuó la donación.\n\nAdicionalmente, se deberá tener en cuenta el límite general aplicable a los descuentos, señalado en el artículo 259 del ET. ",1103,{"$f":"OFFSET(Ref_Segmento,ROW(INDIRECT(IF(SUBSTITUTE(Comentarios[[#This Row],[RUTA]],\" \",\"\")=Comentarios[[#This Row],[RUTA]],Comentarios[[#This Row],[RUTA]],\"'\"&SUBSTITUTE(Comentarios[[#This Row],[RUTA]],\"!\",\"'!\"))))-1,0)","v":"Descuentos Tributarios"},"Azul"]
[{"$f":"SUBSTITUTE(SUBSTITUTE(_xlfn.FORMULATEXT(Comentarios[[#This Row],[Formulada]]),\"=\",\"\"),\"'\",\"\")","v":" !$B$3030"},{"$f":"' '!$B$3030","v":"Inversiones realizadas en control, conservación y mejoramiento del medio ambiente"},"El inciso 1 del artículo 255 del ET señala que, las personas jurídicas que realicen directamente inversiones en control, conservación y mejoramiento del medio ambiente, tendrán derecho a descontar de su impuesto de renta a cargo el 25% de las inversiones que hayan realizado en el respectivo año gravable, previa acreditación que efectúe la autoridad ambiental respectiva, en la cual deberá tenerse en cuenta los beneficios ambientales directos asociados a dichas inversiones. El tratamiento de descuento tributario no es aplicable a las inversiones realizadas por mandato de una autoridad ambiental para mitigar el impacto ambiental producido por la obra o actividad objeto de una licencia ambiental.",701,{"$f":"OFFSET(Ref_Segmento,ROW(INDIRECT(IF(SUBSTITUTE(Comentarios[[#This Row],[RUTA]],\" \",\"\")=Comentarios[[#This Row],[RUTA]],Comentarios[[#This Row],[RUTA]],\"'\"&SUBSTITUTE(Comentarios[[#This Row],[RUTA]],\"!\",\"'!\"))))-1,0)","v":"Descuentos Tributarios"},"Azul"]
[{"$f":"SUBSTITUTE(SUBSTITUTE(_xlfn.FORMULATEXT(Comentarios[[#This Row],[Formulada]]),\"=\",\"\"),\"'\",\"\")","v":" !$B$3034"},{"$f":"' '!$B$3034","v":"Inversiones realizadas en control, conservación y mejoramiento del medio ambiente en actividades turísticas"},"El parágrafo 2 del artículo 255 del ET señala que, para efectos de acceder al descuento para Inversiones realizadas en control, conservación y mejoramiento del medio ambiente se considerará inversión en mejoramiento ambiental la adquisición de predios destinados a la ejecución de actividades de conservación y restauración de recursos naturales renovables, aun cuando en estos se desarrollen actividades turísticas. Esto siempre y cuando la actividad turística sea compatible con la conservación y restauración de la diversidad biológica, los recursos naturales renovables y el medio ambiente.",594,{"$f":"OFFSET(Ref_Segmento,ROW(INDIRECT(IF(SUBSTITUTE(Comentarios[[#This Row],[RUTA]],\" \",\"\")=Comentarios[[#This Row],[RUTA]],Comentarios[[#This Row],[RUTA]],\"'\"&SUBSTITUTE(Comentarios[[#This Row],[RUTA]],\"!\",\"'!\"))))-1,0)","v":"Descuentos Tributarios"},"Azul"]
[{"$f":"SUBSTITUTE(SUBSTITUTE(_xlfn.FORMULATEXT(Comentarios[[#This Row],[Formulada]]),\"=\",\"\"),\"'\",\"\")","v":" !$B$3038"},{"$f":"' '!$B$3038","v":"Inversiones realizadas en investigación, desarrollo tecnológico o innovación"},"El artículo 256 del ET señala que, los contribuyentes que realicen inversiones en proyectos calificados por el Consejo Nacional de Beneficios Tributarios en Ciencia y Tecnología en Innovación como de investigación, desarrollo tecnológico o innovación, de acuerdo con los criterios y condiciones definidas por dicho Consejo, pueden tomar como descuento tributario en el impuesto de renta el 25% del valor invertido en dichos proyectos en el periodo gravable en que se realizó la donación o inversión. ",500,{"$f":"OFFSET(Ref_Segmento,ROW(INDIRECT(IF(SUBSTITUTE(Comentarios[[#This Row],[RUTA]],\" \",\"\")=Comentarios[[#This Row],[RUTA]],Comentarios[[#This Row],[RUTA]],\"'\"&SUBSTITUTE(Comentarios[[#This Row],[RUTA]],\"!\",\"'!\"))))-1,0)","v":"Descuentos Tributarios"},"Azul"]
[{"$f":"SUBSTITUTE(SUBSTITUTE(_xlfn.FORMULATEXT(Comentarios[[#This Row],[Formulada]]),\"=\",\"\"),\"'\",\"\")","v":" !$B$3042"},{"$f":"' '!$B$3042","v":"Donaciones hechas a programas creados por las instituciones de educación superior o por el ICETEX "},"El numeral 1 del parágrafo 2 del artículo 256 del ET indica que, los contribuyentes que realicen donaciones a programas creados por las instituciones de educación superior o por el Icetex, dirigidas a programas de becas o créditos condonables aprobados por el Ministerio de Educación Nacional y que beneficien a estudiantes de estratos 1, 2 y 3 a través de becas de estudio total o parcial o créditos condonables que incluyan manutención, hospedaje, transporte, matrícula, útiles y/o libros; pueden tomar el 25% del valor donado en el respectivo año gravable.",559,{"$f":"OFFSET(Ref_Segmento,ROW(INDIRECT(IF(SUBSTITUTE(Comentarios[[#This Row],[RUTA]],\" \",\"\")=Comentarios[[#This Row],[RUTA]],Comentarios[[#This Row],[RUTA]],\"'\"&SUBSTITUTE(Comentarios[[#This Row],[RUTA]],\"!\",\"'!\"))))-1,0)","v":"Descuentos Tributarios"},"Azul"]
[{"$f":"SUBSTITUTE(SUBSTITUTE(_xlfn.FORMULATEXT(Comentarios[[#This Row],[Formulada]]),\"=\",\"\"),\"'\",\"\")","v":" !$B$3046"},{"$f":"' '!$B$3046","v":"Donaciones al Fondo Nacional de Financiamiento para la Ciencia, la Tecnología y la Innovación, Fondo Francisco José de Caldas"},"El numeral 2 del parágrafo 2 del artículo 256 del ET indica que, los contribuyentes que realicen donaciones al Fondo Nacional de Financiamiento para la Ciencia, la Tecnología y la Innovación, Fondo Francisco José de Caldas, y que sean destinadas al financiamiento de Programas y/o Proyectos de Ciencia, Tecnología e Innovación, de acuerdo con los criterios y las condiciones señaladas por el Consejo Nacional de Beneficios Tributarios en Ciencia, Tecnología e Innovación (CNBT); pueden tomar el 25% del valor donado en el respectivo año gravable.",546,{"$f":"OFFSET(Ref_Segmento,ROW(INDIRECT(IF(SUBSTITUTE(Comentarios[[#This Row],[RUTA]],\" \",\"\")=Comentarios[[#This Row],[RUTA]],Comentarios[[#This Row],[RUTA]],\"'\"&SUBSTITUTE(Comentarios[[#This Row],[RUTA]],\"!\",\"'!\"))))-1,0)","v":"Descuentos Tributarios"},"Azul"]
[{"$f":"SUBSTITUTE(SUBSTITUTE(_xlfn.FORMULATEXT(Comentarios[[#This Row],[Formulada]]),\"=\",\"\"),\"'\",\"\")","v":" !$B$3050"},{"$f":"' '!$B$3050","v":"Remuneración por vinculación de personal con título de doctorado"},"El numeral 3 del parágrafo 2 del artículo 256 del ET indica que, la remuneración correspondiente a la vinculación de personal con título de doctorado en las empresas contribuyentes de renta, que se realice con posterioridad a la expedición de la Ley 2130 de 2021, siempre y cuando se cumplan con los criterios y condiciones definidos por el CNBT para tal fin y su vinculación esté asociada al desarrollo de actividades de I+D+i; pueden tomar el 25% del valor donado en el respectivo año gravable.\nPara el caso de la vinculación de persona con títulos de Doctorado obtenidos en el exterior, se deberán cumplir los requisitos de convalidación previstos en la normatividad vigente, de manera previa a su vinculación.",713,{"$f":"OFFSET(Ref_Segmento,ROW(INDIRECT(IF(SUBSTITUTE(Comentarios[[#This Row],[RUTA]],\" \",\"\")=Comentarios[[#This Row],[RUTA]],Comentarios[[#This Row],[RUTA]],\"'\"&SUBSTITUTE(Comentarios[[#This Row],[RUTA]],\"!\",\"'!\"))))-1,0)","v":"Descuentos Tributarios"},"Azul"]
[{"$f":"SUBSTITUTE(SUBSTITUTE(_xlfn.FORMULATEXT(Comentarios[[#This Row],[Formulada]]),\"=\",\"\"),\"'\",\"\")","v":" !$B$3054"},{"$f":"' '!$B$3054","v":"Donaciones realizadas a través del ICETEX para el financiamiento de educación de quienes ingresen a la Fuerza Publica"},"El numeral 4 del parágrafo 2 del artículo 256 del ET indica que,  las donaciones realizadas por intermedio del Icetex, dirigidas a programas de becas que financien la formación y educación de quienes ingresen a la Fuerza Pública que pertenezcan a los estratos 1, 2 y 3 y a los alumnos que, una vez ya vinculados a los programas, apliquen al programa de becas y cumplan con las exigencias académicas; pueden tomar el 25% del valor donado en el respectivo año gravable.",467,{"$f":"OFFSET(Ref_Segmento,ROW(INDIRECT(IF(SUBSTITUTE(Comentarios[[#This Row],[RUTA]],\" \",\"\")=Comentarios[[#This Row],[RUTA]],Comentarios[[#This Row],[RUTA]],\"'\"&SUBSTITUTE(Comentarios[[#This Row],[RUTA]],\"!\",\"'!\"))))-1,0)","v":"Descuentos Tributarios"},"Azul"]
[{"$f":"SUBSTITUTE(SUBSTITUTE(_xlfn.FORMULATEXT(Comentarios[[#This Row],[Formulada]]),\"=\",\"\"),\"'\",\"\")","v":" !$B$3058"},{"$f":"' '!$B$3058","v":"Donaciones a entidades sin ánimo de lucro pertenecientes al régimen especial "},"El inciso 1 del artículo 257 del ET indica que, los contribuyentes que realicen donaciones a entidades calificadas en el del régimen tributario especial, pueden tomar el 25% del valor donado como descuento tributario en el periodo gravable. El artículo 1.2.4.1.3 del Decreto 1625 de 2016, indica que, para que el descuento tributario proceda, las entidades que reciban las donaciones deben cumplir los requisitos señalados en el artículo 125-1 del ET.",451,{"$f":"OFFSET(Ref_Segmento,ROW(INDIRECT(IF(SUBSTITUTE(Comentarios[[#This Row],[RUTA]],\" \",\"\")=Comentarios[[#This Row],[RUTA]],Comentarios[[#This Row],[RUTA]],\"'\"&SUBSTITUTE(Comentarios[[#This Row],[RUTA]],\"!\",\"'!\"))))-1,0)","v":"Descuentos Tributarios"},"Azul"]
[{"$f":"SUBSTITUTE(SUBSTITUTE(_xlfn.FORMULATEXT(Comentarios[[#This Row],[Formulada]]),\"=\",\"\"),\"'\",\"\")","v":" !$B$3062"},{"$f":"' '!$B$3062","v":"Donaciones a entidades sin ánimo de lucro no contribuyente del impuesto de renta (artículos 22 y 23 del ET)"},"El inciso 1 del artículo 257 del ET indica que, los contribuyentes que realicen donaciones a entidades calificadas en el del régimen tributario especial, pueden tomar el 25% del valor donado como descuento tributario en el periodo gravable. El artículo 1.2.4.1.3 del Decreto 1625 de 2016, indica que, para que el descuento tributario proceda, las entidades que reciban las donaciones deben cumplir los requisitos señalados en el artículo 125-1 del ET.",451,{"$f":"OFFSET(Ref_Segmento,ROW(INDIRECT(IF(SUBSTITUTE(Comentarios[[#This Row],[RUTA]],\" \",\"\")=Comentarios[[#This Row],[RUTA]],Comentarios[[#This Row],[RUTA]],\"'\"&SUBSTITUTE(Comentarios[[#This Row],[RUTA]],\"!\",\"'!\"))))-1,0)","v":"Descuentos Tributarios"},"Azul"]
[{"$f":"SUBSTITUTE(SUBSTITUTE(_xlfn.FORMULATEXT(Comentarios[[#This Row],[Formulada]]),\"=\",\"\"),\"'\",\"\")","v":" !$B$3066"},{"$f":"' '!$B$3066","v":"Donaciones de alimentos aptos para el consumo humano así como bienes de higiene y aseo"},"El artículo 2 de la Ley 2380 de 2024, adicionó un parágrafo al artículo 257 del ET que indica que, las donaciones de alimentos aptos para el consumo humano así como bienes de higiene y aseo, a los bancos de alimentos que se encuentren constituidos como entidades sin ánimo de lucro del Régimen Tributario Especial, los bancos de alimentos que bajo la misma personería jurídica posea lo iglesia a confesión religiosa reconocida por el Ministerio del Inferior o por la ley y las asociaciones de bancos de alimentos podrán aplicar un descuento de máximo un 37% del valor donado en el año o período gravable. El valor del descuento incluye los costes y gastos de transporte incurridos para poner los alimentos en disposición del donatario, los cuales serón incluidos y desagregados por el donatario en el certificado de donación. \n\nSi el beneficio no se aplica durante el año o período gravable en el que se generó, el contribuyente podrá imputarlo dentro de su liquidación privada del mismo impuesto en periodos gravables siguientes, hasta un máximo cíe de cuatro (4) periodos.",1074,{"$f":"OFFSET(Ref_Segmento,ROW(INDIRECT(IF(SUBSTITUTE(Comentarios[[#This Row],[RUTA]],\" \",\"\")=Comentarios[[#This Row],[RUTA]],Comentarios[[#This Row],[RUTA]],\"'\"&SUBSTITUTE(Comentarios[[#This Row],[RUTA]],\"!\",\"'!\"))))-1,0)","v":"Descuentos Tributarios"},"Azul"]
[{"$f":"SUBSTITUTE(SUBSTITUTE(_xlfn.FORMULATEXT(Comentarios[[#This Row],[Formulada]]),\"=\",\"\"),\"'\",\"\")","v":" !$B$3070"},{"$f":"' '!$B$3070","v":"Donaciones para el financiamiento y sostenimiento de las Instituciones Públicas de Educación Superior"},"El parágrafo 2 del artículo 257 del ET señala que los contribuyentes que realicen donaciones para el financiamiento y sostenimiento de las instituciones públicas de educación superior a través de los cajeros automáticos, páginas web y plataformas digitales de entidades financieras vigiladas por la Superintendencia Financiera, pueden tomar el 25% del valor donado como descuento tributario en el periodo gravable. ",415,{"$f":"OFFSET(Ref_Segmento,ROW(INDIRECT(IF(SUBSTITUTE(Comentarios[[#This Row],[RUTA]],\" \",\"\")=Comentarios[[#This Row],[RUTA]],Comentarios[[#This Row],[RUTA]],\"'\"&SUBSTITUTE(Comentarios[[#This Row],[RUTA]],\"!\",\"'!\"))))-1,0)","v":"Descuentos Tributarios"},"Azul"]
[{"$f":"SUBSTITUTE(SUBSTITUTE(_xlfn.FORMULATEXT(Comentarios[[#This Row],[Formulada]]),\"=\",\"\"),\"'\",\"\")","v":" !$B$3074"},{"$f":"' '!$B$3074","v":"Convenios con Coldeportes para asignar becas de estudio y manutención a deportistas talento o reserva deportiva"},"El artículo 257-1 del ET señala que, los contribuyentes del impuesto de renta pueden celebrar convenios con Coldeportes para asignar becas de estudio y manutención a deportistas talento o reserva deportiva, por las que recibirán a cambio títulos negociables para el pago del impuesto sobre la renta. \nAdicionalmente indica que, este descuento y en conjunto los que tratan los artículos 255, 256 y 257 del ET no podrán exceder en un 30% del impuesto de renta a cargo del contribuyente en el respectivo año gravable.",514,{"$f":"OFFSET(Ref_Segmento,ROW(INDIRECT(IF(SUBSTITUTE(Comentarios[[#This Row],[RUTA]],\" \",\"\")=Comentarios[[#This Row],[RUTA]],Comentarios[[#This Row],[RUTA]],\"'\"&SUBSTITUTE(Comentarios[[#This Row],[RUTA]],\"!\",\"'!\"))))-1,0)","v":"Descuentos Tributarios"},"Azul"]
[{"$f":"SUBSTITUTE(SUBSTITUTE(_xlfn.FORMULATEXT(Comentarios[[#This Row],[Formulada]]),\"=\",\"\"),\"'\",\"\")","v":" !$B$3107"},{"$f":"' '!$B$3107","v":"29. Tarifas"},"Corresponde a la tarifa del impuesto sobre la renta y complementario a la que debe liquidar el impuesto; coloque equis (X) en la casilla o casillas correspondiente a la tasa o tasas que le apliquen según el caso. Si selecciona varias tarifas, entonces el prevalidador de la Dian (pero no este archivo simple de Excel) habilitará la sección \"RENTA LÍQUIDA POR TARIFA\" en la parte derecha de la sección 3 ERI - Renta Líquida",422,{"$f":"OFFSET(Ref_Segmento,ROW(INDIRECT(IF(SUBSTITUTE(Comentarios[[#This Row],[RUTA]],\" \",\"\")=Comentarios[[#This Row],[RUTA]],Comentarios[[#This Row],[RUTA]],\"'\"&SUBSTITUTE(Comentarios[[#This Row],[RUTA]],\"!\",\"'!\"))))-1,0)","v":"H1 Carátula"},"Azul"]
[{"$f":"SUBSTITUTE(SUBSTITUTE(_xlfn.FORMULATEXT(Comentarios[[#This Row],[Formulada]]),\"=\",\"\"),\"'\",\"\")","v":" !$F$3183"},{"$f":"' '!$F$3183","v":"Cuentas por cobrar en acuerdos de concesión (modelo del activo financiero)"},"Ver artículo 32 del ET y el Decreto 2235 de diciembre de 2017\n",62,{"$f":"OFFSET(Ref_Segmento,ROW(INDIRECT(IF(SUBSTITUTE(Comentarios[[#This Row],[RUTA]],\" \",\"\")=Comentarios[[#This Row],[RUTA]],Comentarios[[#This Row],[RUTA]],\"'\"&SUBSTITUTE(Comentarios[[#This Row],[RUTA]],\"!\",\"'!\"))))-1,0)","v":"H2 ESF Patrimonio"},"Azul"]
[{"$f":"SUBSTITUTE(SUBSTITUTE(_xlfn.FORMULATEXT(Comentarios[[#This Row],[Formulada]]),\"=\",\"\"),\"'\",\"\")","v":" !$M$3443"},{"$f":"' '!$M$3443","v":0},"En el prevalidador diseñado por la Dian no se anularon las celdas de la columna \"Valor fiscal\" para este renglón y para el siguiente. Pero lo cierto es que fiscalmente no se toman en cuenta (ver artículo 28 del ET)\n",215,{"$f":"OFFSET(Ref_Segmento,ROW(INDIRECT(IF(SUBSTITUTE(Comentarios[[#This Row],[RUTA]],\" \",\"\")=Comentarios[[#This Row],[RUTA]],Comentarios[[#This Row],[RUTA]],\"'\"&SUBSTITUTE(Comentarios[[#This Row],[RUTA]],\"!\",\"'!\"))))-1,0)","v":"H3 ERI Renta líquida"},"Azul"]
[{"$f":"SUBSTITUTE(SUBSTITUTE(_xlfn.FORMULATEXT(Comentarios[[#This Row],[Formulada]]),\"=\",\"\"),\"'\",\"\")","v":" !$M$3473"},{"$f":"' '!$M$3473","v":0},"Estas operaciones deben quedar reflejadas solamente en la zona de \"ganancias ocasionales\", filas 507 a 515\n",107,{"$f":"OFFSET(Ref_Segmento,ROW(INDIRECT(IF(SUBSTITUTE(Comentarios[[#This Row],[RUTA]],\" \",\"\")=Comentarios[[#This Row],[RUTA]],Comentarios[[#This Row],[RUTA]],\"'\"&SUBSTITUTE(Comentarios[[#This Row],[RUTA]],\"!\",\"'!\"))))-1,0)","v":"H3 ERI Renta líquida"},"Azul"]
[{"$f":"SUBSTITUTE(SUBSTITUTE(_xlfn.FORMULATEXT(Comentarios[[#This Row],[Formulada]]),\"=\",\"\"),\"'\",\"\")","v":" !$M$3482"},{"$f":"' '!$M$3482","v":0},"En el prevalidador diseñado por la Dian no se anularon las celdas de la columna \"Valor fiscal\" para este tipo de ingresos contables. Pero lo cierto es que fiscalmente no se toman en cuenta (ver artículo 28 del ET)",213,{"$f":"OFFSET(Ref_Segmento,ROW(INDIRECT(IF(SUBSTITUTE(Comentarios[[#This Row],[RUTA]],\" \",\"\")=Comentarios[[#This Row],[RUTA]],Comentarios[[#This Row],[RUTA]],\"'\"&SUBSTITUTE(Comentarios[[#This Row],[RUTA]],\"!\",\"'!\"))))-1,0)","v":"H3 ERI Renta líquida"},"Azul"]
[{"$f":"SUBSTITUTE(SUBSTITUTE(_xlfn.FORMULATEXT(Comentarios[[#This Row],[Formulada]]),\"=\",\"\"),\"'\",\"\")","v":" !$M$3496"},{"$f":"' '!$M$3496","v":0},"En el prevalidador diseñado por la Dian no se anularon las celdas de la columna \"Valor fiscal\" para este renglón y para los  siguiente. Pero lo cierto es que fiscalmente no se toman en cuenta (ver artículo 28 del ET)\n",217,{"$f":"OFFSET(Ref_Segmento,ROW(INDIRECT(IF(SUBSTITUTE(Comentarios[[#This Row],[RUTA]],\" \",\"\")=Comentarios[[#This Row],[RUTA]],Comentarios[[#This Row],[RUTA]],\"'\"&SUBSTITUTE(Comentarios[[#This Row],[RUTA]],\"!\",\"'!\"))))-1,0)","v":"H3 ERI Renta líquida"},"Azul"]
[{"$f":"SUBSTITUTE(SUBSTITUTE(_xlfn.FORMULATEXT(Comentarios[[#This Row],[Formulada]]),\"=\",\"\"),\"'\",\"\")","v":" !$L$3518"},{"$f":"' '!$L$3518","v":0},"Este valor se refiere a la recuperación de deducciones efectuadas en el periodo, que deben ser reconocidas en la declaración de renta, pero que no tienen incidencia contable, bien sea porque su registro contable se realiza en un periodo distinto o porque la deducción solamente había tenido incidencia fiscal; siempre y cuando no hayan sido incluidas en los ajustes de otras partidas. Estos valores no se suman en la columna fiscal, porque se deben trasladar  a la fila “Renta Líquida por recuperación de deducciones”.",518,{"$f":"OFFSET(Ref_Segmento,ROW(INDIRECT(IF(SUBSTITUTE(Comentarios[[#This Row],[RUTA]],\" \",\"\")=Comentarios[[#This Row],[RUTA]],Comentarios[[#This Row],[RUTA]],\"'\"&SUBSTITUTE(Comentarios[[#This Row],[RUTA]],\"!\",\"'!\"))))-1,0)","v":"H3 ERI Renta líquida"},"Azul"]
[{"$f":"SUBSTITUTE(SUBSTITUTE(_xlfn.FORMULATEXT(Comentarios[[#This Row],[Formulada]]),\"=\",\"\"),\"'\",\"\")","v":" !$M$3522"},{"$f":"' '!$M$3522","v":0},"Este renglón NO lo deben utilizar las entidades del régimen especial (ver parágrafo del artículo 1.2.1.5.1.20 del DUT 1625 de 2016 luego de ser modificado con el  decreto 2150 de diciembre 20 de 2017; ver también la página 18 de la \"guía para diligenciamiento del formato 2516\n",277,{"$f":"OFFSET(Ref_Segmento,ROW(INDIRECT(IF(SUBSTITUTE(Comentarios[[#This Row],[RUTA]],\" \",\"\")=Comentarios[[#This Row],[RUTA]],Comentarios[[#This Row],[RUTA]],\"'\"&SUBSTITUTE(Comentarios[[#This Row],[RUTA]],\"!\",\"'!\"))))-1,0)","v":"H3 ERI Renta líquida"},"Azul"]
[{"$f":"SUBSTITUTE(SUBSTITUTE(_xlfn.FORMULATEXT(Comentarios[[#This Row],[Formulada]]),\"=\",\"\"),\"'\",\"\")","v":" !$M$3549"},{"$f":"' '!$M$3549","v":0},"En el prevalidador diseñado por la Dian no se anularon las celdas de la columna \"Valor fiscal\" para este tipo costos contables. Pero lo cierto es que fiscalmente no se toman en cuenta (ver artículo 59 del ET)\n",209,{"$f":"OFFSET(Ref_Segmento,ROW(INDIRECT(IF(SUBSTITUTE(Comentarios[[#This Row],[RUTA]],\" \",\"\")=Comentarios[[#This Row],[RUTA]],Comentarios[[#This Row],[RUTA]],\"'\"&SUBSTITUTE(Comentarios[[#This Row],[RUTA]],\"!\",\"'!\"))))-1,0)","v":"H3 ERI Renta líquida"},"Azul"]
[{"$f":"SUBSTITUTE(SUBSTITUTE(_xlfn.FORMULATEXT(Comentarios[[#This Row],[Formulada]]),\"=\",\"\"),\"'\",\"\")","v":" !$M$3617"},{"$f":"' '!$M$3617","v":0},"En el prevalidador diseñado por la Dian no se anularon las celdas de la columna \"Valor fiscal\" para este tipo costos contables. Pero lo cierto es que fiscalmente no se toman en cuenta (ver artículo 59 del ET)\n",209,{"$f":"OFFSET(Ref_Segmento,ROW(INDIRECT(IF(SUBSTITUTE(Comentarios[[#This Row],[RUTA]],\" \",\"\")=Comentarios[[#This Row],[RUTA]],Comentarios[[#This Row],[RUTA]],\"'\"&SUBSTITUTE(Comentarios[[#This Row],[RUTA]],\"!\",\"'!\"))))-1,0)","v":"H3 ERI Renta líquida"},"Azul"]
[{"$f":"SUBSTITUTE(SUBSTITUTE(_xlfn.FORMULATEXT(Comentarios[[#This Row],[Formulada]]),\"=\",\"\"),\"'\",\"\")","v":" !$M$3627"},{"$f":"' '!$M$3627","v":0},"En el prevalidador diseñado por la Dian no se anularon las celdas de la columna \"Valor fiscal\" para este tipo costos contables por deterioros. Pero lo cierto es que fiscalmente no se toman en cuenta (ver artículo 59 del ET)\n",224,{"$f":"OFFSET(Ref_Segmento,ROW(INDIRECT(IF(SUBSTITUTE(Comentarios[[#This Row],[RUTA]],\" \",\"\")=Comentarios[[#This Row],[RUTA]],Comentarios[[#This Row],[RUTA]],\"'\"&SUBSTITUTE(Comentarios[[#This Row],[RUTA]],\"!\",\"'!\"))))-1,0)","v":"H3 ERI Renta líquida"},"Azul"]
[{"$f":"SUBSTITUTE(SUBSTITUTE(_xlfn.FORMULATEXT(Comentarios[[#This Row],[Formulada]]),\"=\",\"\"),\"'\",\"\")","v":" !$M$3672"},{"$f":"' '!$M$3672","v":0},"En el prevalidador diseñado por la Dian no se anularon las celdas de la columna \"Valor fiscal\" para este tipo gastos contables por este tipo de depreciaciones. Pero lo cierto es que fiscalmente no se toman en cuenta (ver artículo 105 del ET)\n",242,{"$f":"OFFSET(Ref_Segmento,ROW(INDIRECT(IF(SUBSTITUTE(Comentarios[[#This Row],[RUTA]],\" \",\"\")=Comentarios[[#This Row],[RUTA]],Comentarios[[#This Row],[RUTA]],\"'\"&SUBSTITUTE(Comentarios[[#This Row],[RUTA]],\"!\",\"'!\"))))-1,0)","v":"H3 ERI Renta líquida"},"Azul"]
[{"$f":"SUBSTITUTE(SUBSTITUTE(_xlfn.FORMULATEXT(Comentarios[[#This Row],[Formulada]]),\"=\",\"\"),\"'\",\"\")","v":" !$M$3711"},{"$f":"' '!$M$3711","v":0},"En el prevalidador diseñado por la Dian no se anularon las celdas de la columna \"Valor fiscal\" para este tipo gasto contable y el de los 4 renglones siguientes  Pero lo cierto es que fiscalmente no se toman en cuenta (ver artículo 105 del ET)\n",243,{"$f":"OFFSET(Ref_Segmento,ROW(INDIRECT(IF(SUBSTITUTE(Comentarios[[#This Row],[RUTA]],\" \",\"\")=Comentarios[[#This Row],[RUTA]],Comentarios[[#This Row],[RUTA]],\"'\"&SUBSTITUTE(Comentarios[[#This Row],[RUTA]],\"!\",\"'!\"))))-1,0)","v":"H3 ERI Renta líquida"},"Azul"]
[{"$f":"SUBSTITUTE(SUBSTITUTE(_xlfn.FORMULATEXT(Comentarios[[#This Row],[Formulada]]),\"=\",\"\"),\"'\",\"\")","v":" !$D$3716"},{"$f":"' '!$D$3716","v":"Pérdida en la venta o enajenación de activos fijos"},"Acá se terminarán relacionando las \"pérdidas en venta de activo fijo\" sin importar la cantidad de años que se hubiera poseído el activo",135,{"$f":"OFFSET(Ref_Segmento,ROW(INDIRECT(IF(SUBSTITUTE(Comentarios[[#This Row],[RUTA]],\" \",\"\")=Comentarios[[#This Row],[RUTA]],Comentarios[[#This Row],[RUTA]],\"'\"&SUBSTITUTE(Comentarios[[#This Row],[RUTA]],\"!\",\"'!\"))))-1,0)","v":"H3 ERI Renta líquida"},"Azul"]
[{"$f":"SUBSTITUTE(SUBSTITUTE(_xlfn.FORMULATEXT(Comentarios[[#This Row],[Formulada]]),\"=\",\"\"),\"'\",\"\")","v":" !$M$3727"},{"$f":"' '!$M$3727","v":0},"En el prevalidador diseñado por la DIAN no se anularon las celdas de la columna \"Valor fiscal\" para este tipo gasto contable y el de los  renglones siguientes  Pero lo cierto es que fiscalmente no se toman en cuenta (ver artículo 105 del ET)\n",242,{"$f":"OFFSET(Ref_Segmento,ROW(INDIRECT(IF(SUBSTITUTE(Comentarios[[#This Row],[RUTA]],\" \",\"\")=Comentarios[[#This Row],[RUTA]],Comentarios[[#This Row],[RUTA]],\"'\"&SUBSTITUTE(Comentarios[[#This Row],[RUTA]],\"!\",\"'!\"))))-1,0)","v":"H3 ERI Renta líquida"},"Azul"]
[{"$f":"SUBSTITUTE(SUBSTITUTE(_xlfn.FORMULATEXT(Comentarios[[#This Row],[Formulada]]),\"=\",\"\"),\"'\",\"\")","v":" !$M$3743"},{"$f":"' '!$M$3743","v":0},"En esta casilla el formato 2516 termina reflejando TODAS las rentas líquidas incluyendo los valores de los renglones 51 a 56. Pero  en el renglón 72 del formulario 110 solo se se refleja la renta líquida gravable SIN INCLUIR los valores de los renglones 51 a 56\n",262,{"$f":"OFFSET(Ref_Segmento,ROW(INDIRECT(IF(SUBSTITUTE(Comentarios[[#This Row],[RUTA]],\" \",\"\")=Comentarios[[#This Row],[RUTA]],Comentarios[[#This Row],[RUTA]],\"'\"&SUBSTITUTE(Comentarios[[#This Row],[RUTA]],\"!\",\"'!\"))))-1,0)","v":"H3 ERI Renta líquida"},"Azul"]
[{"$f":"SUBSTITUTE(SUBSTITUTE(_xlfn.FORMULATEXT(Comentarios[[#This Row],[Formulada]]),\"=\",\"\"),\"'\",\"\")","v":" !$F$4015"},{"$f":"' '!$F$4015","v":"Tipo de \ndiferencia"},"Seleccione el tipo de diferencia que corresponda para cada una de las partidas. Tenga en cuenta que, las diferencias temporarias son las que dan lugar al cálculo del impuesto diferido, en tanto que, las diferencias permanentes son aquellas sobre las que no se calcula impuesto diferido, bien sea porque no procede o porque la contribuyente estima que por sus condiciones específicas no puede revertir la diferencia temporaria.",426,{"$f":"OFFSET(Ref_Segmento,ROW(INDIRECT(IF(SUBSTITUTE(Comentarios[[#This Row],[RUTA]],\" \",\"\")=Comentarios[[#This Row],[RUTA]],Comentarios[[#This Row],[RUTA]],\"'\"&SUBSTITUTE(Comentarios[[#This Row],[RUTA]],\"!\",\"'!\"))))-1,0)","v":"H4 Impuesto diferido"},"Azul"]
[{"$f":"SUBSTITUTE(SUBSTITUTE(_xlfn.FORMULATEXT(Comentarios[[#This Row],[Formulada]]),\"=\",\"\"),\"'\",\"\")","v":" !$G$4015"},{"$f":"' '!$G$4015","v":"Diferencia \nTemporaria"},"Las diferencias que presenten las bases contables y las bases fiscales y que sean catalogadas como \"temporarias\", son las que dan lugar al cálculo del impuesto diferido.",169,{"$f":"OFFSET(Ref_Segmento,ROW(INDIRECT(IF(SUBSTITUTE(Comentarios[[#This Row],[RUTA]],\" \",\"\")=Comentarios[[#This Row],[RUTA]],Comentarios[[#This Row],[RUTA]],\"'\"&SUBSTITUTE(Comentarios[[#This Row],[RUTA]],\"!\",\"'!\"))))-1,0)","v":"H4 Impuesto diferido"},"Azul"]
[{"$f":"SUBSTITUTE(SUBSTITUTE(_xlfn.FORMULATEXT(Comentarios[[#This Row],[Formulada]]),\"=\",\"\"),\"'\",\"\")","v":" !$I$4015"},{"$f":"' '!$I$4015","v":"Saldo \nimpuesto \ndiferido a 31 -DIC vigencia actual"},"Los datos reportados en estas columnas deben corresponder a los saldos contables durante esta vigencia, para el caso, año gravable 2024.",136,{"$f":"OFFSET(Ref_Segmento,ROW(INDIRECT(IF(SUBSTITUTE(Comentarios[[#This Row],[RUTA]],\" \",\"\")=Comentarios[[#This Row],[RUTA]],Comentarios[[#This Row],[RUTA]],\"'\"&SUBSTITUTE(Comentarios[[#This Row],[RUTA]],\"!\",\"'!\"))))-1,0)","v":"H4 Impuesto diferido"},"Azul"]
[{"$f":"SUBSTITUTE(SUBSTITUTE(_xlfn.FORMULATEXT(Comentarios[[#This Row],[Formulada]]),\"=\",\"\"),\"'\",\"\")","v":" !$J$4015"},{"$f":"' '!$J$4015","v":"Saldo \nimpuesto \ndiferido a 31 -DIC vigencia  anterior"},"Los datos reportados en estas columnas deben corresponder a los saldos contables durante la vigencia anterior, para el caso, año gravable 2023.",143,{"$f":"OFFSET(Ref_Segmento,ROW(INDIRECT(IF(SUBSTITUTE(Comentarios[[#This Row],[RUTA]],\" \",\"\")=Comentarios[[#This Row],[RUTA]],Comentarios[[#This Row],[RUTA]],\"'\"&SUBSTITUTE(Comentarios[[#This Row],[RUTA]],\"!\",\"'!\"))))-1,0)","v":"H4 Impuesto diferido"},"Azul"]
[{"$f":"SUBSTITUTE(SUBSTITUTE(_xlfn.FORMULATEXT(Comentarios[[#This Row],[Formulada]]),\"=\",\"\"),\"'\",\"\")","v":" !$K$4015"},{"$f":"' '!$K$4015","v":"Variación"},"El valor registrado en esta columna corresponde a la diferencia entre los datos reportados en las columnas “Saldo impuesto diferido a 31-DIC vigencia actual” y “Saldo impuesto diferido a 31-DIC vigencia anterior”.  ",215,{"$f":"OFFSET(Ref_Segmento,ROW(INDIRECT(IF(SUBSTITUTE(Comentarios[[#This Row],[RUTA]],\" \",\"\")=Comentarios[[#This Row],[RUTA]],Comentarios[[#This Row],[RUTA]],\"'\"&SUBSTITUTE(Comentarios[[#This Row],[RUTA]],\"!\",\"'!\"))))-1,0)","v":"H4 Impuesto diferido"},"Azul"]
[{"$f":"SUBSTITUTE(SUBSTITUTE(_xlfn.FORMULATEXT(Comentarios[[#This Row],[Formulada]]),\"=\",\"\"),\"'\",\"\")","v":" !$L$4015"},{"$f":"' '!$L$4015","v":"Tasa fiscal aplicada"},"La tasa fiscal aplicada corresponde a la tasa fiscal con la que se espera revertir la diferencia y debe coincidir con el resultado de dividir el valor reportado en la columna “Saldo impuesto diferido a 31-DIC vigencia actual” por el valor de la columna “Diferencia Temporaria”.\n\nRegistre en cada una de las celdas de esta columna la tarifa del impuesto de renta con la cual se espera revertir la diferencia. ",408,{"$f":"OFFSET(Ref_Segmento,ROW(INDIRECT(IF(SUBSTITUTE(Comentarios[[#This Row],[RUTA]],\" \",\"\")=Comentarios[[#This Row],[RUTA]],Comentarios[[#This Row],[RUTA]],\"'\"&SUBSTITUTE(Comentarios[[#This Row],[RUTA]],\"!\",\"'!\"))))-1,0)","v":"H4 Impuesto diferido"},"Azul"]
[{"$f":"SUBSTITUTE(SUBSTITUTE(_xlfn.FORMULATEXT(Comentarios[[#This Row],[Formulada]]),\"=\",\"\"),\"'\",\"\")","v":" !$J$4068"},{"$f":"' '!$J$4068","v":"Pérdida \nfiscal \nacumulada por compensar al final del periodo "},"El valor registrado en esta columna se determina automáticamente y corresponde al resultado de sumar el saldo por compensar al inicio del periodo, la pérdida fiscal generada en el periodo y el mayor valor por correcciones de las declaraciones y restar la pérdida fiscal compensada en el periodo, el valor no compensado por caducidad del término para compensar y el menor valor producto de correcciones a las declaraciones.",422,{"$f":"OFFSET(Ref_Segmento,ROW(INDIRECT(IF(SUBSTITUTE(Comentarios[[#This Row],[RUTA]],\" \",\"\")=Comentarios[[#This Row],[RUTA]],Comentarios[[#This Row],[RUTA]],\"'\"&SUBSTITUTE(Comentarios[[#This Row],[RUTA]],\"!\",\"'!\"))))-1,0)","v":"H4 Impuesto diferido"},"Azul"]
[{"$f":"SUBSTITUTE(SUBSTITUTE(_xlfn.FORMULATEXT(Comentarios[[#This Row],[Formulada]]),\"=\",\"\"),\"'\",\"\")","v":" !$K$4068"},{"$f":"' '!$K$4068","v":"Saldo \nactivo \npor impuesto diferido al final del periodo"},"La columna “Saldo activo por impuesto diferido al final del periodo” corresponde al valor calculado y contabilizado de conformidad con el tratamiento previsto para el impuesto a las ganancias contemplados en la NIC 12 y en la Sección 29 de la NIIF para Pymes.",259,{"$f":"OFFSET(Ref_Segmento,ROW(INDIRECT(IF(SUBSTITUTE(Comentarios[[#This Row],[RUTA]],\" \",\"\")=Comentarios[[#This Row],[RUTA]],Comentarios[[#This Row],[RUTA]],\"'\"&SUBSTITUTE(Comentarios[[#This Row],[RUTA]],\"!\",\"'!\"))))-1,0)","v":"H4 Impuesto diferido"},"Azul"]
[{"$f":"SUBSTITUTE(SUBSTITUTE(_xlfn.FORMULATEXT(Comentarios[[#This Row],[Formulada]]),\"=\",\"\"),\"'\",\"\")","v":" !$B$4070"},{"$f":"' '!$B$4070","v":2017},"El saldo acumulado a 31 de diciembre de 2016, resultante de la aplicación del procedimiento de cálculo previsto en el numeral 5 del artículo 290 del ET, debe ser incluido en la celda “Pérdida fiscal acumulada por compensar al inicio del periodo” del año 2017. ",260,{"$f":"OFFSET(Ref_Segmento,ROW(INDIRECT(IF(SUBSTITUTE(Comentarios[[#This Row],[RUTA]],\" \",\"\")=Comentarios[[#This Row],[RUTA]],Comentarios[[#This Row],[RUTA]],\"'\"&SUBSTITUTE(Comentarios[[#This Row],[RUTA]],\"!\",\"'!\"))))-1,0)","v":"H4 Impuesto diferido"},"Azul"]
[{"$f":"SUBSTITUTE(SUBSTITUTE(_xlfn.FORMULATEXT(Comentarios[[#This Row],[Formulada]]),\"=\",\"\"),\"'\",\"\")","v":" !$J$4086"},{"$f":"' '!$J$4086","v":"Pérdida \nfiscal \nacumulada por compensar al final del periodo "},"El valor registrado en esta columna se determina automáticamente y corresponde al resultado de sumar el saldo por compensar al inicio del periodo, la pérdida fiscal generada en el periodo y el mayor valor por correcciones de las declaraciones y restar la pérdida fiscal compensada en el periodo, el valor no compensado por caducidad del término para compensar y el menor valor producto de correcciones a las declaraciones.",422,{"$f":"OFFSET(Ref_Segmento,ROW(INDIRECT(IF(SUBSTITUTE(Comentarios[[#This Row],[RUTA]],\" \",\"\")=Comentarios[[#This Row],[RUTA]],Comentarios[[#This Row],[RUTA]],\"'\"&SUBSTITUTE(Comentarios[[#This Row],[RUTA]],\"!\",\"'!\"))))-1,0)","v":"H4 Impuesto diferido"},"Azul"]
[{"$f":"SUBSTITUTE(SUBSTITUTE(_xlfn.FORMULATEXT(Comentarios[[#This Row],[Formulada]]),\"=\",\"\"),\"'\",\"\")","v":" !$K$4086"},{"$f":"' '!$K$4086","v":"Saldo \nactivo \npor impuesto diferido al final del periodo"},"La columna “Saldo activo por impuesto diferido al final del periodo” corresponde al valor calculado y contabilizado de conformidad con el tratamiento previsto para el impuesto a las ganancias contemplados en la NIC 12 y en la Sección 29 de la NIIF para Pymes.",259,{"$f":"OFFSET(Ref_Segmento,ROW(INDIRECT(IF(SUBSTITUTE(Comentarios[[#This Row],[RUTA]],\" \",\"\")=Comentarios[[#This Row],[RUTA]],Comentarios[[#This Row],[RUTA]],\"'\"&SUBSTITUTE(Comentarios[[#This Row],[RUTA]],\"!\",\"'!\"))))-1,0)","v":"H4 Impuesto diferido"},"Azul"]
[{"$f":"SUBSTITUTE(SUBSTITUTE(_xlfn.FORMULATEXT(Comentarios[[#This Row],[Formulada]]),\"=\",\"\"),\"'\",\"\")","v":" !$B$4088"},{"$f":"' '!$B$4088","v":2017},"El saldo acumulado a 31 de diciembre de 2016, resultante de la aplicación del procedimiento de cálculo previsto en el numeral 5 del artículo 290 del ET, debe ser incluido en la celda “Pérdida fiscal acumulada por compensar al inicio del periodo” del año 2017. ",260,{"$f":"OFFSET(Ref_Segmento,ROW(INDIRECT(IF(SUBSTITUTE(Comentarios[[#This Row],[RUTA]],\" \",\"\")=Comentarios[[#This Row],[RUTA]],Comentarios[[#This Row],[RUTA]],\"'\"&SUBSTITUTE(Comentarios[[#This Row],[RUTA]],\"!\",\"'!\"))))-1,0)","v":"H4 Impuesto diferido"},"Azul"]
[{"$f":"SUBSTITUTE(SUBSTITUTE(_xlfn.FORMULATEXT(Comentarios[[#This Row],[Formulada]]),\"=\",\"\"),\"'\",\"\")","v":" !$D$4105"},{"$f":"' '!$D$4105","v":"Pasivo por ingreso diferido"},"En esta sección se deben diligenciar los pagos recibidos por anticipado; se deberá registrar: el saldo inicial, su disminución por su reconocimiento como devengo en el ingreso del periodo y su incremento con el valor generado en el periodo, con lo cual se obtiene el saldo al final del mismo.  Esta información corresponde a las cifras registradas en la contabilidad.",367,{"$f":"OFFSET(Ref_Segmento,ROW(INDIRECT(IF(SUBSTITUTE(Comentarios[[#This Row],[RUTA]],\" \",\"\")=Comentarios[[#This Row],[RUTA]],Comentarios[[#This Row],[RUTA]],\"'\"&SUBSTITUTE(Comentarios[[#This Row],[RUTA]],\"!\",\"'!\"))))-1,0)","v":"H5 Ingresos y fact."},"Azul"]
[{"$f":"SUBSTITUTE(SUBSTITUTE(_xlfn.FORMULATEXT(Comentarios[[#This Row],[Formulada]]),\"=\",\"\"),\"'\",\"\")","v":" !$H$4106"},{"$f":"' '!$H$4106","v":"Devengada \ncomo ingreso en periodos anteriores"},"En esta columna se debe registrar el valor facturado en el periodo que corresponda a  ingresos devengados en periodos anteriores.",129,{"$f":"OFFSET(Ref_Segmento,ROW(INDIRECT(IF(SUBSTITUTE(Comentarios[[#This Row],[RUTA]],\" \",\"\")=Comentarios[[#This Row],[RUTA]],Comentarios[[#This Row],[RUTA]],\"'\"&SUBSTITUTE(Comentarios[[#This Row],[RUTA]],\"!\",\"'!\"))))-1,0)","v":"H5 Ingresos y fact."},"Azul"]
[{"$f":"SUBSTITUTE(SUBSTITUTE(_xlfn.FORMULATEXT(Comentarios[[#This Row],[Formulada]]),\"=\",\"\"),\"'\",\"\")","v":" !$I$4106"},{"$f":"' '!$I$4106","v":"Devengada \ncomo ingresos del periodo "},"En esta columna se debe registrar el valor facturado y devengado como ingreso en el periodo.",92,{"$f":"OFFSET(Ref_Segmento,ROW(INDIRECT(IF(SUBSTITUTE(Comentarios[[#This Row],[RUTA]],\" \",\"\")=Comentarios[[#This Row],[RUTA]],Comentarios[[#This Row],[RUTA]],\"'\"&SUBSTITUTE(Comentarios[[#This Row],[RUTA]],\"!\",\"'!\"))))-1,0)","v":"H5 Ingresos y fact."},"Azul"]
[{"$f":"SUBSTITUTE(SUBSTITUTE(_xlfn.FORMULATEXT(Comentarios[[#This Row],[Formulada]]),\"=\",\"\"),\"'\",\"\")","v":" !$J$4106"},{"$f":"' '!$J$4106","v":"Registrada \ncomo pasivo por ingreso diferido "},"En esta columna se debe registrar el valor facturado en el periodo y que dio origen a pasivo por ingreso diferido, porque no cumplen requisitos para su registro como ingreso devengado en el periodo.",198,{"$f":"OFFSET(Ref_Segmento,ROW(INDIRECT(IF(SUBSTITUTE(Comentarios[[#This Row],[RUTA]],\" \",\"\")=Comentarios[[#This Row],[RUTA]],Comentarios[[#This Row],[RUTA]],\"'\"&SUBSTITUTE(Comentarios[[#This Row],[RUTA]],\"!\",\"'!\"))))-1,0)","v":"H5 Ingresos y fact."},"Azul"]
[{"$f":"SUBSTITUTE(SUBSTITUTE(_xlfn.FORMULATEXT(Comentarios[[#This Row],[Formulada]]),\"=\",\"\"),\"'\",\"\")","v":" !$L$4106"},{"$f":"' '!$L$4106","v":"Valor total "},"En esta columna se debe registrar el valor facturado en el periodo pero que no dio lugar a ingreso diferido (por cuanto no hubo pago o anticipo) ni a ingreso devengado por no cumplir los requisitos para ello.",208,{"$f":"OFFSET(Ref_Segmento,ROW(INDIRECT(IF(SUBSTITUTE(Comentarios[[#This Row],[RUTA]],\" \",\"\")=Comentarios[[#This Row],[RUTA]],Comentarios[[#This Row],[RUTA]],\"'\"&SUBSTITUTE(Comentarios[[#This Row],[RUTA]],\"!\",\"'!\"))))-1,0)","v":"H5 Ingresos y fact."},"Azul"]
[{"$f":"SUBSTITUTE(SUBSTITUTE(_xlfn.FORMULATEXT(Comentarios[[#This Row],[Formulada]]),\"=\",\"\"),\"'\",\"\")","v":" !$M$4106"},{"$f":"' '!$M$4106","v":"Sin facturar"},"En esta columna se debe registrar el valor del ingreso contable devengado en el periodo, pero que no ha sido facturado.",119,{"$f":"OFFSET(Ref_Segmento,ROW(INDIRECT(IF(SUBSTITUTE(Comentarios[[#This Row],[RUTA]],\" \",\"\")=Comentarios[[#This Row],[RUTA]],Comentarios[[#This Row],[RUTA]],\"'\"&SUBSTITUTE(Comentarios[[#This Row],[RUTA]],\"!\",\"'!\"))))-1,0)","v":"H5 Ingresos y fact."},"Azul"]
[{"$f":"SUBSTITUTE(SUBSTITUTE(_xlfn.FORMULATEXT(Comentarios[[#This Row],[Formulada]]),\"=\",\"\"),\"'\",\"\")","v":" !$N$4106"},{"$f":"' '!$N$4106","v":"Facturado \nperiodos \nanteriores"},"En esta columna se debe registrar el valor del ingreso contable devengado en el periodo, que había sido facturado en periodos anteriores.",137,{"$f":"OFFSET(Ref_Segmento,ROW(INDIRECT(IF(SUBSTITUTE(Comentarios[[#This Row],[RUTA]],\" \",\"\")=Comentarios[[#This Row],[RUTA]],Comentarios[[#This Row],[RUTA]],\"'\"&SUBSTITUTE(Comentarios[[#This Row],[RUTA]],\"!\",\"'!\"))))-1,0)","v":"H5 Ingresos y fact."},"Azul"]
[{"$f":"SUBSTITUTE(SUBSTITUTE(_xlfn.FORMULATEXT(Comentarios[[#This Row],[Formulada]]),\"=\",\"\"),\"'\",\"\")","v":" !$I$4109"},{"$f":"' '!$I$4109","v":0},"Esta celda se encuentra prediligenciada, edítela si lo considera necesario.",75,{"$f":"OFFSET(Ref_Segmento,ROW(INDIRECT(IF(SUBSTITUTE(Comentarios[[#This Row],[RUTA]],\" \",\"\")=Comentarios[[#This Row],[RUTA]],Comentarios[[#This Row],[RUTA]],\"'\"&SUBSTITUTE(Comentarios[[#This Row],[RUTA]],\"!\",\"'!\"))))-1,0)","v":"H5 Ingresos y fact."},"Azul"]
[{"$f":"SUBSTITUTE(SUBSTITUTE(_xlfn.FORMULATEXT(Comentarios[[#This Row],[Formulada]]),\"=\",\"\"),\"'\",\"\")","v":" !$I$4110"},{"$f":"' '!$I$4110","v":0},"Esta celda se encuentra prediligenciada, edítela si lo considera necesario.",75,{"$f":"OFFSET(Ref_Segmento,ROW(INDIRECT(IF(SUBSTITUTE(Comentarios[[#This Row],[RUTA]],\" \",\"\")=Comentarios[[#This Row],[RUTA]],Comentarios[[#This Row],[RUTA]],\"'\"&SUBSTITUTE(Comentarios[[#This Row],[RUTA]],\"!\",\"'!\"))))-1,0)","v":"H5 Ingresos y fact."},"Azul"]
[{"$f":"SUBSTITUTE(SUBSTITUTE(_xlfn.FORMULATEXT(Comentarios[[#This Row],[Formulada]]),\"=\",\"\"),\"'\",\"\")","v":" !$I$4113"},{"$f":"' '!$I$4113","v":0},"Esta celda se encuentra prediligenciada, edítela si lo considera necesario.",75,{"$f":"OFFSET(Ref_Segmento,ROW(INDIRECT(IF(SUBSTITUTE(Comentarios[[#This Row],[RUTA]],\" \",\"\")=Comentarios[[#This Row],[RUTA]],Comentarios[[#This Row],[RUTA]],\"'\"&SUBSTITUTE(Comentarios[[#This Row],[RUTA]],\"!\",\"'!\"))))-1,0)","v":"H5 Ingresos y fact."},"Azul"]
[{"$f":"SUBSTITUTE(SUBSTITUTE(_xlfn.FORMULATEXT(Comentarios[[#This Row],[Formulada]]),\"=\",\"\"),\"'\",\"\")","v":" !$D$4121"},{"$f":"' '!$D$4121","v":"DATOS CONTABLES"},"Para diligenciar esta sección, tenga en cuenta, el importe al comienzo del periodo de cada uno de los elementos que componen la propiedad planta y equipo incluidos los activos adquiridos mediante arrendamiento financiero o leasing, separando el componente del costo de los ajustes por revaluación, así como los incrementos y las disminuciones por transferencias y/o adquisiciones y/o por cambios en el valor razonable que hayan presentado en el periodo.\n   \nAdemás, registre según corresponda, el saldo al final del periodo por concepto de depreciación acumulada, así como las estimaciones por deterioro acumuladas, para determinar de esta forma el importe neto al final del periodo, igualmente desagregado en el costo y los ajustes por revaluaciones o re-expresiones. Este resultado debe coincidir con el valor reportado en la sección ESF – Patrimonio.\n \nAsimismo, registre el gasto por depreciación del periodo separando el componente del costo de los ajustes por revaluación o reexpresión, así como el gasto por deterioro y los ingresos por recuperación de deterioro, lo cual debe corresponder a la sumatoria de los valores contables registrados por estos mismos conceptos en la sección ERI- Renta Líquida, y que se encuentran desagregados en costos, gastos de administración y gastos de distribución y ventas.",1313,{"$f":"OFFSET(Ref_Segmento,ROW(INDIRECT(IF(SUBSTITUTE(Comentarios[[#This Row],[RUTA]],\" \",\"\")=Comentarios[[#This Row],[RUTA]],Comentarios[[#This Row],[RUTA]],\"'\"&SUBSTITUTE(Comentarios[[#This Row],[RUTA]],\"!\",\"'!\"))))-1,0)","v":"H6 Activos Fijos"},"Azul"]
[{"$f":"SUBSTITUTE(SUBSTITUTE(_xlfn.FORMULATEXT(Comentarios[[#This Row],[Formulada]]),\"=\",\"\"),\"'\",\"\")","v":" !$X$4121"},{"$f":"' '!$X$4121","v":"DATOS FISCALES"},"En esta sección se deben reportar los datos fiscales de acuerdo con los conceptos solicitados, considerando las reglas fiscales aplicables para la medición y reconocimiento, tanto de los activos como de su depreciación y amortización.\n\nEs importante tener en cuenta el régimen de transición previsto en el artículo 290 del ET, los efectos del estado de situación financiera de apertura (artículo 289 ET) así como las reglas para la medición de los activos y pasivos en moneda extranjera (artículo 288 ET).",505,{"$f":"OFFSET(Ref_Segmento,ROW(INDIRECT(IF(SUBSTITUTE(Comentarios[[#This Row],[RUTA]],\" \",\"\")=Comentarios[[#This Row],[RUTA]],Comentarios[[#This Row],[RUTA]],\"'\"&SUBSTITUTE(Comentarios[[#This Row],[RUTA]],\"!\",\"'!\"))))-1,0)","v":"H6 Activos Fijos"},"Azul"]
[{"$f":"SUBSTITUTE(SUBSTITUTE(_xlfn.FORMULATEXT(Comentarios[[#This Row],[Formulada]]),\"=\",\"\"),\"'\",\"\")","v":" !$U$4122"},{"$f":"' '!$U$4122","v":"Datos informativos "},"En las columnas que conforman este segmento,  se deberá registrar el valor bruto de los activos que posee la empresa adquiridos mediante arrendamiento financiero o leasing. Igualmente se debe reportar el valor del saldo acumulado por desmantelamiento, así como el valor acumulado del mayor valor de los activos por revaluación, al final del periodo.",349,{"$f":"OFFSET(Ref_Segmento,ROW(INDIRECT(IF(SUBSTITUTE(Comentarios[[#This Row],[RUTA]],\" \",\"\")=Comentarios[[#This Row],[RUTA]],Comentarios[[#This Row],[RUTA]],\"'\"&SUBSTITUTE(Comentarios[[#This Row],[RUTA]],\"!\",\"'!\"))))-1,0)","v":"H6 Activos Fijos"},"Azul"]
[{"$f":"SUBSTITUTE(SUBSTITUTE(_xlfn.FORMULATEXT(Comentarios[[#This Row],[Formulada]]),\"=\",\"\"),\"'\",\"\")","v":" !$AE$4122"},{"$f":"' '!$AE$4122","v":"Datos Informativos:     Valor activos adquiridos mediante arrendamiento financiero            "},"En las columnas de esta sección se debe registrar el valor fiscal de los activos que posee la empresa y que fueron adquiridos mediante arrendamiento financiero, así como el valor de la depreciación y /o amortización acumulada al final del periodo, y el valor del gasto solicitado fiscalmente por concepto de depreciación para esta clase de activos.",348,{"$f":"OFFSET(Ref_Segmento,ROW(INDIRECT(IF(SUBSTITUTE(Comentarios[[#This Row],[RUTA]],\" \",\"\")=Comentarios[[#This Row],[RUTA]],Comentarios[[#This Row],[RUTA]],\"'\"&SUBSTITUTE(Comentarios[[#This Row],[RUTA]],\"!\",\"'!\"))))-1,0)","v":"H6 Activos Fijos"},"Azul"]
[{"$f":"SUBSTITUTE(SUBSTITUTE(_xlfn.FORMULATEXT(Comentarios[[#This Row],[Formulada]]),\"=\",\"\"),\"'\",\"\")","v":" !$B$4384"},{"$f":"' '!$B$4384","v":"¿La declaración de renta del año gravable del 2024 puede quedar en firme dentro de los 6 meses siguientes a su presentación?"},"Mediante el artículo 69 de la Ley 2294 de 2023, se prorrogó el beneficio de auditoría establecido en el artículo 689-3 del ET, el cual indica que, los contribuyentes del impuesto de renta que incrementen su impuesto neto de renta en por lo menos un porcentaje mínimo del 35%, en relación con el impuesto neto de renta del año inmediatamente anterior, quedará en firme si dentro de los seis (6) meses siguientes a la fecha de su presentación no se hubiere notificado emplazamiento para corregir o requerimiento especial o emplazamiento especial o liquidación provisional, siempre que la declaración sea debidamente presentada en forma oportuna y el pago se realice en los plazos que para tal efecto fije el Gobierno nacional.\nPara que este beneficio proceda, también es necesario que el impuesto neto de renta del año gravable 2023 haya sido igual o superior al equivalente de 71 UVT. ",884,{"$f":"OFFSET(Ref_Segmento,ROW(INDIRECT(IF(SUBSTITUTE(Comentarios[[#This Row],[RUTA]],\" \",\"\")=Comentarios[[#This Row],[RUTA]],Comentarios[[#This Row],[RUTA]],\"'\"&SUBSTITUTE(Comentarios[[#This Row],[RUTA]],\"!\",\"'!\"))))-1,0)","v":"Beneficios de Auditoría"},"Azul"]
[{"$f":"SUBSTITUTE(SUBSTITUTE(_xlfn.FORMULATEXT(Comentarios[[#This Row],[Formulada]]),\"=\",\"\"),\"'\",\"\")","v":" !$B$4385"},{"$f":"' '!$B$4385","v":"¿La declaración de renta del año gravable del 2024 puede quedar en firme dentro de los 12 meses siguientes a su presentación?"},"Mediante el artículo 69 de la Ley 2294 de 2023, se prorrogó el beneficio de auditoría establecido en el artículo 689-3 del ET, el cual indica que, los contribuyentes del impuesto de renta que incrementen su impuesto neto de renta en por lo menos un porcentaje mínimo del 25%, en relación con el impuesto neto de renta del año inmediatamente anterior, quedará en firme si dentro de los doce (12) meses siguientes a la fecha de su presentación no se hubiere notificado emplazamiento para corregir o requerimiento especial o emplazamiento especial o liquidación provisional, siempre que la declaración sea debidamente presentada en forma oportuna y el pago se realice en los plazos que para tal efecto fije el Gobierno nacional.\nPara que este beneficio proceda, también es necesario que el impuesto neto de renta del año gravable 2023 haya sido igual o superior al equivalente de 71 UVT. ",885,{"$f":"OFFSET(Ref_Segmento,ROW(INDIRECT(IF(SUBSTITUTE(Comentarios[[#This Row],[RUTA]],\" \",\"\")=Comentarios[[#This Row],[RUTA]],Comentarios[[#This Row],[RUTA]],\"'\"&SUBSTITUTE(Comentarios[[#This Row],[RUTA]],\"!\",\"'!\"))))-1,0)","v":"Beneficios de Auditoría"},"Azul"]

{"sheet":" ","index":5,"n_rows":4386,"n_cols":59,"rows_kept":1125,"cut":true,"hidden":false,"merged":[[1287,2,1288,2],[1287,1,1288,1],[3534,4,3535,6],[3536,4,3537,6],[3539,4,3539,7],[3540,4,3540,7],[3541,3,3541,7],[3520,5,3520,7],[3521,3,3521,7],[3522,3,3522,7],[3523,2,3523,12],[3555,4,3555,7],[4207,3,4207,4],[4212,3,4212,4],[4213,3,4213,4],[4214,3,4214,4],[3614,4,3614,7],[3615,5,3616,6],[3617,5,3618,6],[3585,3,3585,7],[3588,4,3588,7],[3593,4,3593,7],[3586,2,3586,12],[3524,2,3585,2],[3524,3,3524,7],[3525,3,3540,3],[3525,4,3525,7],[3526,4,3529,6],[3530,4,3533,6],[3542,3,3545,3],[3542,4,3545,6],[3546,3,3546,7],[3584,3,3584,7],[3576,4,3578,5],[3576,6,3576,7],[3577,6,3577,7],[3578,6,3578,7],[3579,4,3581,5],[3579,6,3579,7],[3580,6,3580,7],[3581,6,3581,7],[3538,4,3538,7],[3778,6,3778,7],[3779,6,3779,7],[3780,6,3780,7],[3739,3,3739,7],[3740,3,3740,7],[3741,3,3741,7],[3733,3,3733,7],[3734,3,3738,3],[3734,4,3734,7],[3735,4,3735,7],[3736,4,3736,7],[3737,4,3737,7],[3738,4,3738,7],[3725,3,3725,7],[3726,3,3732,3],[3726,4,3726,7],[3727,4,3727,7],[3728,4,3728,7],[3729,4,3729,7],[3730,4,3730,7],[3731,4,3731,7],[3732,4,3732,7],[3781,6,3781,7],[3782,6,3782,7],[3777,6,3777,7],[3766,6,3766,7],[3767,6,3767,7],[3768,6,3768,7],[3769,6,3769,7],[3770,6,3770,7],[3771,6,3771,7],[3793,6,3793,7],[3749,4,3749,7],[3718,4,3718,7],[3697,4,3697,7],[3681,6,3681,7],[3682,6,3682,7],[3683,6,3683,7],[3684,6,3684,7],[3685,6,3685,7],[3742,2,3742,7],[3743,2,3743,12],[3744,3,3744,12],[3753,6,3753,7],[3754,6,3754,7],[3755,6,3755,7],[3756,6,3756,7],[3757,6,3757,7],[3758,3,3758,7],[3759,3,3789,3],[3759,4,3782,5],[3759,6,3759,7],[3760,6,3760,7],[3761,6,3761,7],[3820,4,3820,7],[3821,4,3821,7],[3822,4,3822,7],[3823,4,3823,7],[3824,4,3824,7],[3825,4,3825,7],[3826,4,3826,7],[3827,4,3827,7],[3828,4,3828,7],[3810,4,3810,7],[3811,4,3813,6],[3794,6,3794,7],[3795,6,3795,7],[3796,6,3796,7],[3797,6,3797,7],[3785,6,3785,7],[3786,6,3786,7],[3787,6,3787,7],[3788,6,3788,7],[3783,4,3789,5],[3783,6,3783,7],[3784,6,3784,7],[3802,6,3802,7],[3803,6,3803,7],[3804,6,3804,7],[3805,4,3809,6],[3789,6,3789,7],[3289,4,3289,6],[3281,3,3283,3],[3281,4,3281,6],[3282,4,3282,6],[3283,4,3283,6],[3286,3,3286,6],[3973,5,3973,7],[3971,5,3971,7],[3972,5,3972,7],[3974,5,3974,7],[3975,5,3975,7],[3903,6,3903,7],[3976,5,3976,7],[4051,11,4051,12],[4050,11,4050,12],[3885,6,3885,7],[3886,6,3886,7],[3887,6,3887,7],[3901,6,3901,7],[3893,3,3893,7],[3894,3,3894,7],[3902,6,3902,7],[3888,6,3888,7],[3889,6,3889,7],[3842,4,3842,7],[3793,3,3829,3],[3793,4,3804,5],[3814,4,3814,7],[3815,4,3815,7],[3816,4,3816,7],[3817,4,3817,7],[3818,4,3818,7],[3308,4,3308,6],[3310,4,3310,6],[3311,4,3311,6],[3312,4,3312,6],[3315,4,3315,6],[3316,4,3316,6],[3317,4,3317,6],[3313,3,3313,6],[3314,3,3314,6],[3309,3,3309,6],[3310,3,3312,3],[3303,3,3303,6],[3304,3,3308,3],[3304,4,3304,6],[3305,4,3305,6],[3306,4,3306,6],[3299,3,3299,6],[3300,3,3302,3],[3300,4,3300,6],[3301,4,3301,6],[3302,4,3302,6],[2469,1,2469,3],[2470,1,2470,3],[2492,1,2492,2],[2756,1,2756,2],[2729,1,2729,3],[2736,1,2736,2],[2741,1,2741,2],[2746,1,2746,2],[2751,1,2751,2],[3457,3,3457,7],[3393,3,3394,4],[3393,5,3393,6],[3394,5,3394,6],[3395,3,3399,4],[3395,5,3395,6],[3396,5,3396,6],[3397,5,3397,6],[3398,5,3398,6],[3399,5,3399,6],[3388,3,3392,4],[3388,5,3388,6],[3361,4,3361,6],[3362,4,3362,6],[3364,4,3364,6],[3366,4,3366,6],[3334,4,3334,6],[3337,4,3337,6],[3338,4,3338,6],[3315,3,3318,3],[3318,4,3318,6],[3297,4,3297,6],[3307,4,3307,6],[1109,2,1109,3],[1109,6,1109,7],[1109,4,1109,5],[1109,1,1110,1],[1120,2,1120,3],[1120,4,1120,5],[1120,6,1120,7],[1247,1,1247,2],[1250,4,1250,5],[1250,1,1251,1],[1250,2,1250,3],[1250,6,1250,7],[1741,2,1741,3],[1741,6,1741,7],[1741,4,1741,5],[1741,1,1742,1],[1770,1,1771,1],[1770,2,1770,3],[1770,4,1770,5],[1390,4,1390,5],[1390,6,1390,7],[1390,1,1391,1],[1364,2,1364,3],[1364,4,1364,5],[1364,6,1364,7],[1364,1,1365,1],[1120,1,1121,1],[1155,2,1155,3],[1155,6,1155,7],[1155,4,1155,5],[1155,1,1156,1],[1221,1,1221,2],[43,2,43,10],[53,2,53,9],[76,2,76,9],[74,2,74,9],[81,2,81,9],[55,2,55,9],[96,2,96,9],[555,1,556,1],[555,2,555,3],[555,4,555,5],[555,6,555,7],[920,4,920,5],[920,6,920,7],[957,2,957,3],[957,4,957,5],[957,6,957,7],[166,1,166,5],[179,1,179,3],[179,4,179,6],[178,1,178,6],[213,1,213,3],[417,2,417,3],[417,4,417,5],[611,2,611,3],[611,4,611,5],[497,2,497,3],[497,4,497,5],[624,2,624,3],[624,4,624,5],[532,1,533,1],[611,6,611,7],[576,2,576,3],[576,4,576,5],[576,6,576,7],[576,1,577,1],[611,1,612,1],[624,6,624,7],[624,1,625,1],[532,2,532,3],[532,4,532,5],[532,6,532,7],[303,2,303,3],[303,4,303,5],[303,6,303,7],[303,1,304,1],[417,6,417,7],[417,1,418,1],[368,2,368,3],[368,4,368,5],[368,1,369,1],[368,6,368,7],[317,2,317,3],[317,4,317,5],[317,1,318,1],[317,6,317,7],[414,1,414,2],[365,1,365,2],[497,6,497,7],[497,1,498,1],[461,2,461,3],[461,4,461,5],[461,6,461,7],[461,1,462,1],[818,2,818,3],[818,4,818,5],[818,6,818,7],[655,4,655,5],[655,6,655,7],[655,1,656,1],[696,2,696,3],[696,4,696,5],[696,6,696,7],[696,1,697,1],[746,1,747,1],[763,1,764,1],[801,1,802,1],[818,1,819,1],[655,2,655,3],[710,2,710,3],[801,2,801,3],[746,2,746,3],[746,4,746,5],[746,6,746,7],[801,4,801,5],[801,6,801,7],[763,2,763,3],[763,4,763,5],[763,6,763,7],[710,4,710,5],[710,6,710,7],[710,1,711,1],[726,2,726,3],[726,4,726,5],[726,6,726,7],[726,1,727,1],[946,2,946,3],[946,4,946,5],[946,6,946,7],[850,4,850,5],[850,6,850,7],[850,1,851,1],[903,2,903,3],[903,4,903,5],[903,6,903,7],[903,1,904,1],[920,1,921,1],[946,1,947,1],[957,1,958,1],[850,2,850,3],[920,2,920,3],[977,2,977,3],[977,4,977,5],[977,6,977,7],[977,1,978,1],[1020,1,1020,2],[1000,2,1000,3],[1000,4,1000,5],[1000,6,1000,7],[997,1,997,2],[1000,1,1001,1],[1058,4,1058,5],[1058,6,1058,7],[1023,4,1023,5],[1023,6,1023,7],[1023,1,1024,1],[1055,1,1055,2],[1058,1,1059,1],[1023,2,1023,3],[1058,2,1058,3],[1083,2,1083,3],[1083,4,1083,5],[1083,6,1083,7],[1083,1,1084,1],[1072,1,1073,1],[1072,2,1072,3],[1072,4,1072,5],[1072,6,1072,7],[1207,2,1207,3],[1224,1,1225,1],[1207,1,1208,1],[1224,2,1224,3],[1224,4,1224,5],[1224,6,1224,7],[1166,2,1166,3],[1166,4,1166,5],[1166,6,1166,7],[1166,1,1167,1],[1207,4,1207,5],[1207,6,1207,7],[1504,4,1504,5],[1504,6,1504,7],[1504,1,1505,1],[1518,2,1518,3],[1518,4,1518,5],[1518,6,1518,7],[1518,1,1519,1],[1470,2,1470,3],[1470,4,1470,5],[1470,6,1470,7],[1470,1,1471,1],[1487,6,1487,7],[1487,1,1488,1],[1487,4,1487,5],[1487,2,1487,3],[1261,2,1261,3],[1261,4,1261,5],[1261,6,1261,7],[1261,1,1262,1],[1301,1,1302,1],[1321,2,1321,3],[1321,6,1321,7],[1321,1,1322,1],[1301,2,1301,3],[1301,4,1301,5],[1301,6,1301,7],[1321,4,1321,5],[1332,2,1332,3],[1332,4,1332,5],[1332,6,1332,7],[1332,1,1333,1],[1390,2,1390,3],[1404,2,1404,3],[1404,4,1404,5],[1404,6,1404,7],[1404,1,1405,1],[1462,2,1462,3],[1462,4,1462,5],[1462,6,1462,7],[1462,1,1463,1],[1433,2,1433,3],[1433,4,1433,5],[1433,6,1433,7],[1433,1,1434,1],[1620,2,1620,3],[1620,4,1620,5],[1620,6,1620,7],[1620,1,1621,1],[1697,6,1697,7],[1697,1,1698,1],[1697,2,1697,3],[1697,4,1697,5],[1550,2,1550,3],[1550,4,1550,5],[1550,6,1550,7],[1550,1,1551,1],[1603,2,1603,3],[1603,4,1603,5],[1603,6,1603,7],[1603,1,1604,1],[1542,2,1542,4],[1529,2,1529,7],[1530,2,1530,5],[1504,2,1504,3],[1770,6,1770,7],[2154,1,2155,1],[1787,2,1787,3],[1787,4,1787,5],[1787,6,1787,7],[1787,1,1788,1],[1804,1,1805,1],[1869,1,1870,1],[1946,2,1946,3],[1946,4,1946,5],[1946,6,1946,7],[1946,1,1947,1],[1963,1,1964,1],[2037,2,2037,3],[2037,4,2037,5],[2037,6,2037,7],[2037,1,2038,1],[1963,6,1963,7],[1963,2,1963,3],[1963,4,1963,5],[2111,1,2111,2],[2114,1,2115,1],[1804,2,1804,3],[1804,4,1804,5],[1804,6,1804,7],[1869,2,1869,3],[1869,4,1869,5],[1869,6,1869,7],[2154,2,2154,3],[2154,4,2154,5],[2154,6,2154,7],[2114,2,2114,3],[2286,1,2287,1],[2286,2,2286,3],[2286,4,2286,5],[2286,6,2286,7],[2312,2,2312,3],[2312,4,2312,5],[2312,6,2312,7],[2312,1,2313,1],[2332,2,2332,3],[2332,4,2332,5],[2332,6,2332,7],[2332,1,2333,1],[2449,1,2449,3],[2349,1,2349,3],[2350,1,2350,3],[2390,1,2390,3],[2408,1,2408,3],[2409,1,2409,3],[2114,4,2114,5],[2114,6,2114,7],[2262,1,2262,2],[2249,1,2249,3],[2306,1,2306,2],[2283,1,2283,7],[2285,1,2285,7],[2146,2,2147,2],[2146,1,2147,1],[2962,29,2962,37],[2962,40,2962,49],[2969,13,2969,17],[2959,3,2959,19],[2959,22,2959,25],[2959,44,2959,45],[2959,46,2959,50],[2961,22,2962,28],[2947,3,2947,20],[2947,22,2947,25],[2947,44,2947,45],[2947,46,2947,50],[2957,22,2957,25],[2957,26,2957,43],[2957,44,2957,45],[2959,26,2959,43],[2958,26,2958,43],[2958,3,2958,19],[2951,44,2951,45],[2951,46,2951,50],[2952,22,2952,25],[2958,22,2958,25],[2958,44,2958,45],[2958,46,2958,50],[2895,2,2895,3],[2833,1,2833,3],[2843,1,2843,3],[2864,1,2864,3],[2874,1,2874,3],[2882,2,2882,3],[2893,2,2893,3],[2943,3,2943,20],[2943,22,2943,25],[2943,44,2943,45],[2943,46,2943,50],[2944,22,2944,25],[2944,44,2944,45],[2947,28,2947,43],[2950,46,2950,50],[2950,27,2950,42],[2949,28,2949,43],[2941,3,2941,20],[2941,22,2941,25],[2950,22,2950,25],[2950,44,2950,45],[2930,1,2944,2],[2930,3,2930,20],[2930,22,2930,25],[2930,28,2930,43],[2930,44,2930,45],[2930,46,2930,50],[2931,22,2931,25],[2931,44,2931,45],[2931,46,2931,50],[2932,3,2932,20],[2932,22,2932,25],[2953,1,2959,2],[2953,22,2953,25],[2953,27,2953,42],[2953,44,2953,45],[2953,46,2953,50],[2954,3,2954,20],[2954,22,2954,25],[2954,27,2954,42],[2954,44,2954,45],[2954,46,2954,50],[2955,3,2955,20],[2955,22,2955,25],[2955,27,2955,42],[2955,44,2955,45],[2955,46,2955,50],[2956,3,2956,20],[2956,22,2956,25],[2956,27,2956,43],[2956,44,2956,45],[2956,46,2956,50],[2957,3,2957,18],[2957,46,2957,50],[2951,1,2952,2],[2951,22,2951,25],[2936,3,2936,20],[2936,22,2936,25],[2936,27,2936,43],[2936,44,2936,45],[2936,46,2936,50],[2937,3,2937,20],[2937,22,2937,25],[2937,27,2937,42],[2937,44,2937,45],[2937,46,2937,50],[2952,44,2952,45],[2952,46,2952,50],[2951,27,2951,43],[2952,27,2952,43],[2945,1,2950,2],[2945,3,2945,20],[2945,22,2945,25],[2945,44,2945,45],[2945,46,2945,50],[2946,3,2946,20],[2946,22,2946,25],[2948,22,2948,25],[2948,44,2948,45],[2948,46,2948,50],[2949,22,2949,25],[2949,44,2949,45],[2949,46,2949,50],[2946,44,2946,45],[2947,27,2949,27],[2948,28,2948,43],[2933,3,2933,20],[2933,22,2933,25],[2933,44,2933,45],[2933,46,2933,50],[2934,3,2934,20],[2934,22,2934,25],[2940,22,2940,25],[2940,44,2940,45],[2940,46,2940,50],[2935,3,2935,20],[2931,28,2931,43],[2938,3,2938,20],[2938,22,2938,25],[2938,44,2938,45],[2938,46,2938,50],[2939,3,2939,20],[2939,22,2939,25],[2939,27,2939,42],[2939,44,2939,45],[2929,22,2929,25],[2929,44,2929,45],[2929,46,2929,50],[2935,22,2935,25],[2935,27,2935,43],[2935,44,2935,45],[2935,46,2935,50],[2946,46,2946,50],[2932,28,2932,43],[2934,44,2934,45],[2934,46,2934,50],[2941,44,2941,45],[2941,46,2941,50],[2942,22,2942,25],[2942,27,2942,43],[2942,44,2942,45],[2942,46,2942,50],[2944,46,2944,50],[2933,27,2933,43],[2934,27,2934,43],[2938,27,2938,43],[2940,27,2940,43],[2941,27,2941,43],[2943,27,2943,43],[2944,27,2944,43],[2945,27,2945,43],[2946,27,2946,43],[2939,46,2939,50],[2932,44,2932,45],[2932,46,2932,50],[2927,22,2927,25],[2927,44,2927,45],[2927,46,2927,50],[2928,22,2928,25],[2928,44,2928,45],[2928,46,2928,50],[2925,27,2925,42],[2925,44,2925,45],[2925,46,2925,50],[2926,22,2926,25],[2926,44,2926,45],[2926,46,2926,50],[2925,22,2925,25],[2923,3,2923,20],[2923,22,2923,25],[2923,27,2923,42],[2923,44,2923,45],[2923,46,2923,50],[2924,22,2924,25],[2924,27,2924,43],[2924,44,2924,45],[2924,46,2924,50],[2921,22,2921,25],[2921,27,2921,42],[2921,44,2921,45],[2921,46,2921,50],[2922,22,2922,25],[2922,27,2922,43],[2922,44,2922,45],[2922,46,2922,50],[2918,1,2918,4],[2918,5,2918,9],[2918,40,2918,44],[2918,45,2918,50],[2918,22,2918,25],[2918,10,2918,21],[2918,26,2918,38],[2919,1,2929,2],[2919,22,2919,25],[2919,27,2919,43],[2919,44,2919,45],[2919,46,2919,50],[2920,22,2920,25],[2920,27,2920,43],[2920,44,2920,45],[2920,46,2920,50],[2919,26,2921,26],[2922,26,2925,26],[2927,28,2927,43],[2926,28,2926,43],[2928,28,2928,43],[2929,28,2929,43],[2926,27,2932,27],[2926,26,2956,26],[2904,41,2905,44],[2904,45,2905,50],[2905,2,2905,13],[2907,29,2907,30],[2907,31,2907,32],[2907,33,2907,34],[2904,16,2905,40],[2912,1,2917,2],[2914,47,2914,50],[2915,3,2915,41],[2915,42,2915,46],[2915,47,2915,50],[2916,11,2916,13],[2913,3,2913,16],[2916,7,2916,9],[2916,26,2917,35],[2916,40,2917,42],[3029,1,3029,3],[3033,1,3033,3],[3037,1,3037,3],[3061,1,3061,3],[3065,1,3065,3],[3041,1,3041,3],[2999,1,2999,3],[3013,1,3013,3],[3027,1,3027,3],[3021,1,3021,3],[3028,1,3028,2],[3022,1,3022,2],[3014,1,3014,2],[3045,1,3045,3],[3049,1,3049,3],[3053,1,3053,3],[3057,1,3057,3],[3081,1,3081,3],[3069,1,3069,3],[3073,1,3073,3],[3103,16,3103,18],[3103,22,3103,24],[3105,17,3105,18],[3104,7,3104,24],[3105,19,3105,24],[3105,6,3105,16],[3132,12,3142,17],[3132,18,3142,24],[3093,1,3095,10],[3112,1,3112,22],[3116,1,3116,22],[3114,1,3114,22],[3118,1,3118,22],[3120,1,3120,22],[3122,1,3122,22],[3115,1,3115,22],[3117,1,3117,22],[3119,1,3119,22],[3121,1,3121,22],[3127,1,3127,22],[3129,1,3129,22],[3128,1,3128,22],[3131,15,3131,24],[3131,1,3131,11],[3106,21,3106,22],[3103,19,3103,21],[3103,2,3103,13],[3106,1,3107,12],[3107,20,3107,22],[3108,1,3108,24],[3109,1,3109,22],[3111,1,3111,22],[3113,1,3113,22],[3110,1,3110,22],[3123,1,3123,22],[3105,2,3105,5],[3102,1,3105,1],[3124,1,3124,22],[3125,1,3125,22],[3126,1,3126,22],[3130,1,3130,22],[3093,19,3095,21],[3093,22,3095,24],[3093,11,3095,18],[3096,1,3096,2],[3387,9,3387,10],[3347,2,3347,6],[3346,2,3346,6],[3285,2,3285,11],[3284,2,3284,6],[3386,3,3386,6],[3345,3,3345,6],[3348,3,3348,6],[3349,3,3364,3],[3349,4,3349,6],[3350,4,3350,6],[3352,4,3352,6],[3353,4,3353,6],[3354,4,3354,6],[3355,4,3355,6],[3356,4,3356,6],[3389,5,3389,6],[3390,5,3390,6],[3391,5,3391,6],[3392,5,3392,6],[3387,2,3387,6],[3382,3,3385,3],[3382,4,3382,6],[3365,3,3365,6],[3366,3,3369,3],[3368,4,3368,6],[3383,4,3383,6],[3384,4,3384,6],[3385,4,3385,6],[3378,3,3378,6],[3379,3,3380,3],[3379,4,3379,6],[3380,4,3380,6],[3381,3,3381,6],[3370,3,3370,6],[3371,3,3377,3],[3371,4,3371,6],[3372,4,3372,6],[3373,4,3373,6],[3374,4,3374,6],[3375,4,3375,6],[3376,4,3376,6],[3367,4,3367,6],[3369,4,3369,6],[3377,4,3377,6],[3363,4,3363,6],[3336,3,3336,6],[3337,3,3344,3],[3339,4,3339,6],[3341,4,3341,6],[3342,4,3342,6],[3343,4,3343,6],[3344,4,3344,6],[3331,3,3331,6],[3332,3,3335,3],[3332,4,3332,6],[3333,4,3333,6],[3335,4,3335,6],[3319,3,3319,6],[3320,3,3330,3],[3323,4,3323,6],[3328,4,3328,6],[3329,4,3329,6],[3359,4,3359,6],[3360,4,3360,6],[3340,4,3340,6],[3351,4,3351,6],[3357,4,3357,6],[3358,4,3358,6],[3320,4,3320,6],[3321,4,3321,6],[3322,4,3322,6],[3324,4,3324,6],[3325,4,3325,6],[3326,4,3326,6],[3327,4,3327,6],[3330,4,3330,6],[3290,4,3290,6],[3291,4,3291,6],[3292,4,3292,6],[3293,4,3293,6],[3294,4,3294,6],[3295,4,3295,6],[3296,4,3296,6],[3298,4,3298,6],[3277,5,3277,6],[3278,5,3278,6],[3280,3,3280,6],[3263,3,3263,6],[3264,3,3279,3],[3264,4,3264,6],[3265,4,3271,4],[3265,5,3265,6],[3266,5,3266,6],[3267,5,3267,6],[3268,5,3268,6],[3269,5,3269,6],[3270,5,3270,6],[3271,5,3271,6],[3272,4,3272,6],[3273,4,3279,4],[3273,5,3273,6],[3274,5,3274,6],[3275,5,3275,6],[3276,5,3276,6],[3279,5,3279,6],[3287,3,3298,3],[3287,4,3287,6],[3288,4,3288,6],[3258,3,3258,6],[3259,3,3262,3],[3259,4,3259,6],[3260,4,3260,6],[3261,4,3261,6],[3262,4,3262,6],[3253,3,3253,6],[3254,3,3257,3],[3254,4,3255,5],[3256,4,3256,6],[3257,4,3257,6],[3234,3,3234,6],[3235,3,3252,3],[3235,4,3235,6],[3236,4,3245,4],[3236,5,3236,6],[3237,5,3237,6],[3238,5,3239,5],[3240,5,3241,5],[3242,5,3243,5],[3244,5,3244,6],[3245,5,3245,6],[3246,4,3246,6],[3247,4,3252,4],[3247,5,3250,5],[3251,5,3251,6],[3252,5,3252,6],[3223,3,3223,6],[3224,3,3224,6],[3225,3,3233,3],[3225,4,3225,6],[3226,4,3226,6],[3227,4,3228,5],[3229,4,3229,6],[3230,4,3231,5],[3232,4,3232,6],[3233,4,3233,6],[3218,3,3218,6],[3219,3,3222,3],[3219,4,3219,6],[3220,4,3220,6],[3221,4,3221,6],[3222,4,3222,6],[3213,3,3213,6],[3214,3,3217,3],[3214,4,3214,6],[3215,4,3215,6],[3216,4,3216,6],[3217,4,3217,6],[3201,3,3201,6],[3202,3,3212,3],[3202,4,3202,6],[3203,4,3203,6],[3204,4,3204,6],[3205,4,3205,6],[3206,4,3206,6],[3207,4,3207,6],[3208,4,3208,6],[3209,4,3209,6],[3210,4,3210,6],[3211,4,3211,6],[3212,4,3212,6],[3192,4,3192,6],[3193,4,3200,4],[3193,5,3193,6],[3194,5,3194,6],[3195,5,3195,6],[3196,5,3196,6],[3197,5,3197,6],[3198,5,3198,6],[3199,5,3199,6],[3200,5,3200,6],[3179,4,3179,6],[3180,4,3191,4],[3180,5,3180,6],[3181,5,3181,6],[3182,5,3182,6],[3183,5,3183,6],[3184,5,3184,6],[3185,5,3185,6],[3186,5,3186,6],[3187,5,3187,6],[3188,5,3188,6],[3189,5,3189,6]],"bounds":{"rows_first":500,"rows_last":125,"rows_between":500,"halvings":2},"merged_total":1684,"flags":["merged_cut"]}
[null,null,null,null,null,null,null,null,null,null,null,null,null,null,null,null,null,null,null,null,null,null,null,null,null,null,null,null,null,null,null,null,null,null,null,null,null,null,null,null,null,null,null,null,null,null,null,null,null,null,null,null,null,null,"Conteo","Segmento","Visible","Alto_Celdas","Celda_Filtro"]
[null,null,null,null,null,null,null,null,null,null,null,null,null,null,null,null,null,null,null,null,null,null,null,null,null,null,null,null,null,null,null,null,null,null,null,null,null,null,null,null,null,null,null,null,null,null,null,null,null,null,null,null,null,null,null,null,1,15,1]
[null,null,null,null,null,null,null,null,null,null,null,null,null,null,null,null,null,null,null,null,null,null,null,null,null,null,null,null,null,null,null,null,null,null,null,null,null,null,null,null,null,null,null,null,null,null,null,null,null,null,null,null,null,null,null,null,1,15,1]
[null,null,null,null,null,null,null,null,null,null,null,null,null,null,null,null,null,null,null,null,null,null,null,null,null,null,null,null,null,null,null,null,null,null,null,null,null,null,null,null,null,null,null,null,null,null,null,null,null,null,null,null,null,null,null,null,1,15,1]
[null,null,null,null,null,null,null,null,null,null,null,null,null,null,null,null,null,null,null,null,null,null,null,null,null,null,null,null,null,null,null,null,null,null,null,null,null,null,null,null,null,null,null,null,null,null,null,null,null,null,null,null,null,null,null,null,1,12,1]
[1,3,35,11,4,10,5,11,11,11,12,10,13,13,20,11,3,11,null,null,null,null,null,null,null,null,null,null,null,null,null,null,null,null,null,null,null,null,null,null,null,null,null,null,null,null,null,null,null,null,null,null,null,null,null,"Fondo_Menu",0,null,{"$f":"(BD6=Parametros[Segmento])*(BE6>0)*(BF6>0)","v":0}]
[null,null,null,null,null,null,null,null,null,null,null,null,null,null,null,null,null,null,null,null,null,null,null,null,null,null,null,null,null,null,null,null,null,null,null,null,null,null,null,null,null,null,null,null,null,null,null,null,null,null,null,null,null,null,null,"Fondo_Menu",0,20,{"$f":"(BD7=Parametros[Segmento])*(BE7>0)*(BF7>0)","v":0}]
[null,null,null,null,null,null,null,null,null,null,null,null,null,null,null,null,null,null,null,null,null,null,null,null,null,null,null,null,null,null,null,null,null,null,null,null,null,null,null,null,null,null,null,null,null,null,null,null,null,null,null,null,null,null,null,"Fondo_Menu",1,10,{"$f":"(BD8=Parametros[Segmento])*(BE8>0)*(BF8>0)","v":1}]
[null,null,null,null,null,null,null,null,null,null,null,null,null,null,null,null,null,null,null,null,null,null,null,null,null,null,null,null,null,null,null,null,null,null,null,null,null,null,null,null,null,null,null,null,null,null,null,null,null,null,null,null,null,null,null,"Fondo_Menu",1,20,{"$f":"(BD9=Parametros[Segmento])*(BE9>0)*(BF9>0)","v":1}]
[null,null,null,null,null,null,null,null,null,null,null,null,null,null,null,null,null,null,null,null,null,null,null,null,null,null,null,null,null,null,null,null,null,null,null,null,null,null,null,null,null,null,null,null,null,null,null,null,null,null,null,null,null,null,null,"Fondo_Menu",1,20,{"$f":"(BD10=Parametros[Segmento])*(BE10>0)*(BF10>0)","v":1}]
[null,null,null,null,null,null,null,null,null,null,null,null,null,null,null,null,null,null,null,null,null,null,null,null,null,null,null,null,null,null,null,null,null,null,null,null,null,null,null,null,null,null,null,null,null,null,null,null,null,null,null,null,null,null,null,"Fondo_Menu",1,20,{"$f":"(BD11=Parametros[Segmento])*(BE11>0)*(BF11>0)","v":1}]
[null,null,null,null,null,null,null,null,null,null,null,null,null,null,null,null,null,null,null,null,null,null,null,null,null,null,null,null,null,null,null,null,null,null,null,null,null,null,null,null,null,null,null,null,null,null,null,null,null,null,null,null,null,null,null,"Fondo_Menu",1,20,{"$f":"(BD12=Parametros[Segmento])*(BE12>0)*(BF12>0)","v":1}]
[null,null,null,null,null,null,null,null,null,null,null,null,null,null,null,null,null,null,null,null,null,null,null,null,null,null,null,null,null,null,null,null,null,null,null,null,null,null,null,null,null,null,null,null,null,null,null,null,null,null,null,null,null,null,null,"Fondo_Menu",1,20,{"$f":"(BD13=Parametros[Segmento])*(BE13>0)*(BF13>0)","v":1}]
[null,null,null,null,null,null,null,null,null,null,null,null,null,null,null,null,null,null,null,null,null,null,null,null,null,null,null,null,null,null,null,null,null,null,null,null,null,null,null,null,null,null,null,null,null,null,null,null,null,null,null,null,null,null,null,"Fondo_Menu",1,20,{"$f":"(BD14=Parametros[Segmento])*(BE14>0)*(BF14>0)","v":1}]
[null,null,null,null,null,null,null,null,null,null,null,null,null,null,null,null,null,null,null,null,null,null,null,null,null,null,null,null,null,null,null,null,null,null,null,null,null,null,null,null,null,null,null,null,null,null,null,null,null,null,null,null,null,null,null,"Fondo_Menu",1,20,{"$f":"(BD15=Parametros[Segmento])*(BE15>0)*(BF15>0)","v":1}]
[null,null,null,null,null,null,null,null,null,null,null,null,null,null,null,null,null,null,null,null,null,null,null,null,null,null,null,null,null,null,null,null,null,null,null,null,null,null,null,null,null,null,null,null,null,null,null,null,null,null,null,null,null,null,null,"Fondo_Menu",1,20,{"$f":"(BD16=Parametros[Segmento])*(BE16>0)*(BF16>0)","v":1}]
[null,null,null,null,null,null,null,null,null,null,null,null,null,null,null,null,null,null,null,null,null,null,null,null,null,null,null,null,null,null,null,null,null,null,null,null,null,null,null,null,null,null,null,null,null,null,null,null,null,null,null,null,null,null,null,"Fondo_Menu",1,20,{"$f":"(BD17=Parametros[Segmento])*(BE17>0)*(BF17>0)","v":1}]
[null,null,null,null,null,null,null,null,null,null,null,null,null,null,null,null,null,null,null,null,null,null,null,null,null,null,null,null,null,null,null,null,null,null,null,null,null,null,null,null,null,null,null,null,null,null,null,null,null,null,null,null,null,null,null,"Fondo_Menu",1,20,{"$f":"(BD18=Parametros[Segmento])*(BE18>0)*(BF18>0)","v":1}]
[null,null,null,null,null,null,null,null,null,null,null,null,null,null,null,null,null,null,null,null,null,null,null,null,null,null,null,null,null,null,null,null,null,null,null,null,null,null,null,null,null,null,null,null,null,null,null,null,null,null,null,null,null,null,null,"Fondo_Menu",1,20,{"$f":"(BD19=Parametros[Segmento])*(BE19>0)*(BF19>0)","v":1}]
[null,null,null,null,null,null,null,null,null,null,null,null,null,null,null,null,null,null,null,null,null,null,null,null,null,null,null,null,null,null,null,null,null,null,null,null,null,null,null,null,null,null,null,null,null,null,null,null,null,null,null,null,null,null,null,"Fondo_Menu",1,20,{"$f":"(BD20=Parametros[Segmento])*(BE20>0)*(BF20>0)","v":1}]
[null,null,null,null,null,null,null,null,null,null,null,null,null,null,null,null,null,null,null,null,null,null,null,null,null,null,null,null,null,null,null,null,null,null,null,null,null,null,null,null,null,null,null,null,null,null,null,null,null,null,null,null,null,null,null,"Fondo_Menu",1,20,{"$f":"(BD21=Parametros[Segmento])*(BE21>0)*(BF21>0)","v":1}]
[null,null,null,null,null,null,null,null,null,null,null,null,null,null,null,null,null,null,null,null,null,null,null,null,null,null,null,null,null,null,null,null,null,null,null,null,null,null,null,null,null,null,null,null,null,null,null,null,null,null,null,null,null,null,null,"Fondo_Menu",1,20,{"$f":"(BD22=Parametros[Segmento])*(BE22>0)*(BF22>0)","v":1}]
[null,null,null,null,null,null,null,null,null,null,null,null,null,null,null,null,null,null,null,null,null,null,null,null,null,null,null,null,null,null,null,null,null,null,null,null,null,null,null,null,null,null,null,null,null,null,null,null,null,null,null,null,null,null,null,"Fondo_Menu",1,20,{"$f":"(BD23=Parametros[Segmento])*(BE23>0)*(BF23>0)","v":1}]
[null,null,null,null,null,null,null,null,null,null,null,null,null,null,null,null,null,null,null,null,null,null,null,null,null,null,null,null,null,null,null,null,null,null,null,null,null,null,null,null,null,null,null,null,null,null,null,null,null,null,null,null,null,null,null,"Fondo_Menu",1,20,{"$f":"(BD24=Parametros[Segmento])*(BE24>0)*(BF24>0)","v":1}]
[null,null,null,null,null,null,null,null,null,null,null,null,null,null,null,null,null,null,null,null,null,null,null,null,null,null,null,null,null,null,null,null,null,null,null,null,null,null,null,null,null,null,null,null,null,null,null,null,null,null,null,null,null,null,null,"Fondo_Menu",1,20,{"$f":"(BD25=Parametros[Segmento])*(BE25>0)*(BF25>0)","v":1}]
[null,null,null,null,null,null,null,null,null,null,null,null,null,null,null,null,null,null,null,null,null,null,null,null,null,null,null,null,null,null,null,null,null,null,null,null,null,null,null,null,null,null,null,null,null,null,null,null,null,null,null,null,null,null,null,"Fondo_Menu",1,20,{"$f":"(BD26=Parametros[Segmento])*(BE26>0)*(BF26>0)","v":1}]
[null,null,null,null,null,null,null,null,null,null,null,null,null,null,null,null,null,null,null,null,null,null,null,null,null,null,null,null,null,null,null,null,null,null,null,null,null,null,null,null,null,null,null,null,null,null,null,null,null,null,null,null,null,null,null,"Fondo_Menu",1,20,{"$f":"(BD27=Parametros[Segmento])*(BE27>0)*(BF27>0)","v":1}]
[null,null,null,null,null,null,null,null,null,null,null,null,null,null,null,null,null,null,null,null,null,null,null,null,null,null,null,null,null,null,null,null,null,null,null,null,null,null,null,null,null,null,null,null,null,null,null,null,null,null,null,null,null,null,null,"Fondo_Menu",1,20,{"$f":"(BD28=Parametros[Segmento])*(BE28>0)*(BF28>0)","v":1}]
[null,null,null,null,null,null,null,null,null,null,null,null,null,null,null,null,null,null,null,null,null,null,null,null,null,null,null,null,null,null,null,null,null,null,null,null,null,null,null,null,null,null,null,null,null,null,null,null,null,null,null,null,null,null,null,"Fondo_Menu",1,20,{"$f":"(BD29=Parametros[Segmento])*(BE29>0)*(BF29>0)","v":1}]
[null,null,null,null,null,null,null,null,null,null,null,null,null,null,null,null,null,null,null,null,null,null,null,null,null,null,null,null,null,null,null,null,null,null,null,null,null,null,null,null,null,null,null,null,null,null,null,null,null,null,null,null,null,null,null,"Fondo_Menu",1,20,{"$f":"(BD30=Parametros[Segmento])*(BE30>0)*(BF30>0)","v":1}]
[null,null,null,null,null,null,null,null,null,null,null,null,null,null,null,null,null,null,null,null,null,null,null,null,null,null,null,null,null,null,null,null,null,null,null,null,null,null,null,null,null,null,null,null,null,null,null,null,null,null,null,null,null,null,null,"Fondo_Menu",1,20,{"$f":"(BD31=Parametros[Segmento])*(BE31>0)*(BF31>0)","v":1}]
[null,null,null,null,null,null,null,null,null,null,null,null,null,null,null,null,null,null,null,null,null,null,null,null,null,null,null,null,null,null,null,null,null,null,null,null,null,null,null,null,null,null,null,null,null,null,null,null,null,null,null,null,null,null,null,"Fondo_Menu",1,20,{"$f":"(BD32=Parametros[Segmento])*(BE32>0)*(BF32>0)","v":1}]
[null,null,null,null,null,null,null,null,null,null,null,null,null,null,null,null,null,null,null,null,null,null,null,null,null,null,null,null,null,null,null,null,null,null,null,null,null,null,null,null,null,null,null,null,null,null,null,null,null,null,null,null,null,null,null,"Fondo_Menu",1,20,{"$f":"(BD33=Parametros[Segmento])*(BE33>0)*(BF33>0)","v":1}]
[null,null,null,null,null,null,null,null,null,null,null,null,null,null,null,null,null,null,null,null,null,null,null,null,null,null,null,null,null,null,null,null,null,null,null,null,null,null,null,null,null,null,null,null,null,null,null,null,null,null,null,null,null,null,null,"Fondo_Menu",1,20,{"$f":"(BD34=Parametros[Segmento])*(BE34>0)*(BF34>0)","v":1}]
[null,null,null,null,null,null,null,null,null,null,null,null,null,null,null,null,null,null,null,null,null,null,null,null,null,null,null,null,null,null,null,null,null,null,null,null,null,null,null,null,null,null,null,null,null,null,null,null,null,null,null,null,null,null,null,"Fondo_Menu",1,20,{"$f":"(BD35=Parametros[Segmento])*(BE35>0)*(BF35>0)","v":1}]
[null,null,null,null,null,null,null,null,null,null,null,null,null,null,null,null,null,null,null,null,null,null,null,null,null,null,null,null,null,null,null,null,null,null,null,null,null,null,null,null,null,null,null,null,null,null,null,null,null,null,null,null,null,null,null,"Fondo_Menu",1,20,{"$f":"(BD36=Parametros[Segmento])*(BE36>0)*(BF36>0)","v":1}]
[null,null,null,null,null,null,null,null,null,null,null,null,null,null,null,null,null,null,null,null,null,null,null,null,null,null,null,null,null,null,null,null,null,null,null,null,null,null,null,null,null,null,null,null,null,null,null,null,null,null,null,null,null,null,null,"Fondo_Menu",1,20,{"$f":"(BD37=Parametros[Segmento])*(BE37>0)*(BF37>0)","v":1}]
[null,null,null,null,null,null,null,null,null,null,null,null,null,null,null,null,null,null,null,null,null,null,null,null,null,null,null,null,null,null,null,null,null,null,null,null,null,null,null,null,null,null,null,null,null,null,null,null,null,null,null,null,null,null,null,"Fondo_Menu",1,20,{"$f":"(BD38=Parametros[Segmento])*(BE38>0)*(BF38>0)","v":1}]
[null,null,null,null,null,null,null,null,null,null,null,null,null,null,null,null,null,null,null,null,null,null,null,null,null,null,null,null,null,null,null,null,null,null,null,null,null,null,null,null,null,null,null,null,null,null,null,null,null,null,null,null,null,null,null,"Fondo_Menu",1,20,{"$f":"(BD39=Parametros[Segmento])*(BE39>0)*(BF39>0)","v":1}]
[null,null,null,null,null,null,null,null,null,null,null,null,null,null,null,null,null,null,null,null,null,null,null,null,null,null,null,null,null,null,null,null,null,null,null,null,null,null,null,null,null,null,null,null,null,null,null,null,null,null,null,null,null,null,null,"Fondo_Menu",1,20,{"$f":"(BD40=Parametros[Segmento])*(BE40>0)*(BF40>0)","v":1}]
[null,2.33,34.78,21.78,21.78,21.78,21.78,21.78,21.78,21.78,21.78,null,0,0,0,0,0,0,0,0,0,0,0,0,0,0,0,0,0,0,0,0,0,null,null,null,null,null,null,null,null,null,null,null,null,null,null,null,null,null,null,null,null,null,null,"Intereses presuntivos",0,20,{"$f":"(BD41=Parametros[Segmento])*(BE41>0)*(BF41>0)","v":0}]
[null,null,null,null,null,null,null,null,null,null,null,null,null,null,null,null,null,null,null,null,null,null,null,null,null,null,null,null,null,null,null,null,null,null,null,null,null,null,null,null,null,null,null,null,null,null,null,null,null,null,null,null,null,null,null,"Intereses presuntivos",1,10,{"$f":"(BD42=Parametros[Segmento])*(BE42>0)*(BF42>0)","v":0}]
[null,null,null,null,null,null,null,null,null,null,null,null,null,null,null,null,null,null,null,null,null,null,null,null,null,null,null,null,null,null,null,null,null,null,null,null,null,null,null,null,null,null,null,null,null,null,null,null,null,null,null,null,null,null,null,"Intereses presuntivos",1,30,{"$f":"(BD43=Parametros[Segmento])*(BE43>0)*(BF43>0)","v":0}]
[null,null,"Intereses Presuntivos",null,null,null,null,null,null,null,null,null,null,null,null,null,null,null,null,null,null,null,null,null,null,null,null,null,null,null,null,null,null,null,null,null,null,null,null,null,null,null,null,null,null,null,null,null,null,null,null,null,null,null,null,"Intereses presuntivos",1,30,{"$f":"(BD44=Parametros[Segmento])*(BE44>0)*(BF44>0)","v":0}]
[null,null,null,null,null,null,null,null,null,null,null,null,null,null,null,null,null,null,null,null,null,null,null,null,null,null,null,null,null,null,null,null,null,null,null,null,null,null,null,null,null,null,null,null,null,null,null,null,null,null,null,null,null,null,null,"Intereses presuntivos",1,9.6,{"$f":"(BD45=Parametros[Segmento])*(BE45>0)*(BF45>0)","v":0}]
[null,null,"Tasa de interés presuntivo anual para el año gravable 2024",null,null,null,null,null,null,null,0.12690000000000001,null,null,null,null,null,null,null,null,null,null,null,null,null,null,null,null,null,null,null,null,null,null,null,null,null,null,null,null,null,null,null,null,null,null,null,null,null,null,null,null,null,null,null,null,"Intereses presuntivos",1,30,{"$f":"(BD46=Parametros[Segmento])*(BE46>0)*(BF46>0)","v":0}]
[null,null,"Tasa de interés presuntivo mensual para el año gravable 2024",null,null,null,null,null,null,null,{"$f":"+(1+K46)^(1/12)-1","v":1.0005599601816684E-2},null,null,null,null,null,null,null,null,null,null,null,null,null,null,null,null,null,null,null,null,null,null,null,null,null,null,null,null,null,null,null,null,null,null,null,null,null,null,null,null,null,null,null,null,"Intereses presuntivos",1,30,{"$f":"(BD47=Parametros[Segmento])*(BE47>0)*(BF47>0)","v":0}]
[null,null,"Tasa de interés presuntivo diario para el año gravable 2024",null,null,null,null,null,null,null,{"$f":"+(1+K47)^(1/30)-1","v":3.319175723852652E-4},null,null,null,null,null,null,null,null,null,null,null,null,null,null,null,null,null,null,null,null,null,null,null,null,null,null,null,null,null,null,null,null,null,null,null,null,null,null,null,null,null,null,null,null,"Intereses presuntivos",1,30,{"$f":"(BD48=Parametros[Segmento])*(BE48>0)*(BF48>0)","v":0}]
[null,null,null,null,null,null,null,null,null,null,null,null,null,null,null,null,null,null,null,null,null,null,null,null,null,null,null,null,null,null,null,null,null,null,null,null,null,null,null,null,null,null,null,null,null,null,null,null,null,null,null,null,null,null,null,"Intereses presuntivos",1,30,{"$f":"(BD49=Parametros[Segmento])*(BE49>0)*(BF49>0)","v":0}]
[null,null,"Información sobre préstamos a socios o accionistas",null,null,null,null,null,null,null,null,null,null,null,null,null,null,null,null,null,null,null,null,null,null,null,null,null,null,null,null,null,null,null,null,null,null,null,null,null,null,null,null,null,null,null,null,null,null,null,null,null,null,null,null,"Intereses presuntivos",1,30,{"$f":"(BD50=Parametros[Segmento])*(BE50>0)*(BF50>0)","v":0}]
[null,null,"Préstamos vigentes en el 2024","Fecha de \ninicio del préstamo\n(dd/mm/aaaa) ","Fecha de finalización del préstamo\n(dd/mm/aaaa)","Monto del \npréstamo pendiente de cobro a 1 de enero de 2024","Tasa de interés anual","Interés recibido durante el año ","Interés presuntivo ","Valor a reportar en la declaración de renta ","Saldo pendiente de cobro a 31 de diciembre de 2024",null,null,null,null,null,null,null,null,null,null,null,null,null,null,null,null,null,null,null,null,null,null,null,null,null,null,null,null,null,null,null,null,null,null,null,null,null,null,null,null,null,null,null,null,"Intereses presuntivos",1,90,{"$f":"(BD51=Parametros[Segmento])*(BE51>0)*(BF51>0)","v":0}]
[null,null,null,null,null,null,null,null,{"$f":"Y52","v":0},{"$f":"+IF(G52>=$K$46,0,IF(G52>0,(I52-H52),I52))","v":0},{"$f":"Z52","v":0},null,null,null,null,null,null,null,null,null,null,null,null,null,null,null,null,null,null,null,null,null,null,null,null,null,null,null,null,null,null,null,null,null,null,null,null,null,null,null,null,null,null,{"$f":"$C$44","v":"Intereses Presuntivos"},{"$f":"$C$50","v":"Información sobre préstamos a socios o accionistas"},"Intereses presuntivos",{"$f":"(BC52=OFFSET(BC52,1,0))*1","v":1},30,{"$f":"(BD52=Parametros[Segmento])*(BE52>0)*(BF52>0)","v":0}]
[null,null,null,null,null,null,null,null,{"$f":"Y53","v":0},{"$f":"+IF(G53>=$K$46,0,IF(G53>0,(I53-H53),I53))","v":0},{"$f":"Z53","v":0},null,null,null,null,null,null,null,null,null,null,null,null,null,null,null,null,null,null,null,null,null,null,null,null,null,null,null,null,null,null,null,null,null,null,null,null,null,null,null,null,null,null,{"$f":"$C$44","v":"Intereses Presuntivos"},{"$f":"$C$50","v":"Información sobre préstamos a socios o accionistas"},"Intereses presuntivos",{"$f":"(BC53=OFFSET(BC53,1,0))*1","v":0},30,{"$f":"(BD53=Parametros[Segmento])*(BE53>0)*(BF53>0)","v":0}]
[null,null,"Total intereses presuntivos a reportar",null,null,null,null,null,null,null,{"$f":"SUM(J52:J53)","v":0},null,null,null,null,null,null,null,null,null,null,null,null,null,null,null,null,null,null,null,null,null,null,null,null,null,null,null,null,null,null,null,null,null,null,null,null,null,null,null,null,null,null,null,null,"Intereses presuntivos",1,30,{"$f":"(BD54=Parametros[Segmento])*(BE54>0)*(BF54>0)","v":0}]
[null,null,null,null,null,null,null,null,null,null,null,null,null,null,null,null,null,null,null,null,null,null,null,null,null,null,null,null,null,null,null,null,null,null,null,null,null,null,null,null,null,null,null,null,null,null,null,null,null,null,null,null,null,null,null,"Intereses presuntivos",1,30,{"$f":"(BD55=Parametros[Segmento])*(BE55>0)*(BF55>0)","v":0}]
[null,null,null,null,null,null,null,null,null,null,null,null,null,null,null,null,null,null,null,null,null,null,null,null,null,null,null,null,null,null,null,null,null,null,null,null,null,null,null,null,null,null,null,null,null,null,null,null,null,null,null,null,null,null,null,"Intereses presuntivos",{"$f":"IFERROR(IF($C$56=\"\",0,1),0)","v":0},30,{"$f":"(BD56=Parametros[Segmento])*(BE56>0)*(BF56>0)","v":0}]
[null,null,"Fecha inicial\n(dd/mm/aaaa)","Fecha final\n(dd/mm/aaaa)","Permanencia en días ","Saldo de capital inicial","Abono a capital ","Intereses Presuntivos","Total pago recibido en el periodo ","Saldo de capital final",null,null,null,null,null,null,null,null,null,null,null,null,null,null,null,null,null,null,null,null,null,null,null,null,null,null,null,null,null,null,null,null,null,null,null,null,null,null,null,null,null,null,null,null,null,"Intereses presuntivos",{"$f":"BE56","v":0},39.9,{"$f":"(BD57=Parametros[Segmento])*(BE57>0)*(BF57>0)","v":0}]
[null,null,{"$f":"IFERROR(IF(OFFSET($D$51,MATCH($C$56,Lista_IntPre_Prestamos,0),0)=\"\",\"\",OFFSET($D$51,MATCH($C$56,Lista_IntPre_Prestamos,0),0)),\"\")","v":""},{"$f":"IF(C58=\"\",\"\",IF(C59=\"\",OFFSET($E$51,MATCH($C$56,Lista_IntPre_Prestamos,0),0),C59-1))","v":""},{"$f":"IFERROR(D58-C58+1,0)","v":0},{"$f":"IF(AND(IFERROR(OFFSET($F$51,MATCH($C$56,Lista_IntPre_Prestamos,0),0),0)>0,E58>0),IFERROR(OFFSET($F$51,MATCH($C$56,Lista_IntPre_Prestamos,0),0),0),0)","v":0},null,{"$f":"+(F58*E58*$K$48)","v":0},{"$f":"+G58+H58","v":0},{"$f":"+F58-G58","v":0},null,null,null,null,null,null,null,null,null,null,null,null,null,null,null,null,null,null,null,null,null,null,null,null,null,null,null,null,null,null,null,null,null,null,null,null,null,null,null,null,null,null,null,null,null,"Intereses presuntivos",{"$f":"IF(E58=0,0,1)","v":0},30,{"$f":"(BD58=Parametros[Segmento])*(BE58>0)*(BF58>0)","v":0}]
[null,null,{"$f":"IF(C58=\"\",\"\",IF(MONTH(C58)<MONTH(OFFSET($E$51,MATCH($C$56,Lista_IntPre_Prestamos,0),0)),DATE(YEAR(C58),MONTH(C58)+1,1),\"\"))","v":""},"",0,{"$f":"+J58","v":0},null,0,0,0,null,null,null,null,null,null,null,null,null,null,null,null,null,null,null,null,null,null,null,null,null,null,null,null,null,null,null,null,null,null,null,null,null,null,null,null,null,null,null,null,null,null,null,null,null,"Intereses presuntivos",{"$f":"IF(E59=0,0,1)","v":0},30,{"$f":"(BD59=Parametros[Segmento])*(BE59>0)*(BF59>0)","v":0}]
[null,null,"","",0,0,null,0,0,0,null,null,null,null,null,null,null,null,null,null,null,null,null,null,null,null,null,null,null,null,null,null,null,null,null,null,null,null,null,null,null,null,null,null,null,null,null,null,null,null,null,null,null,null,null,"Intereses presuntivos",0,30,{"$f":"(BD60=Parametros[Segmento])*(BE60>0)*(BF60>0)","v":0}]
[null,null,"","",0,0,null,0,0,0,null,null,null,null,null,null,null,null,null,null,null,null,null,null,null,null,null,null,null,null,null,null,null,null,null,null,null,null,null,null,null,null,null,null,null,null,null,null,null,null,null,null,null,null,null,"Intereses presuntivos",0,30,{"$f":"(BD61=Parametros[Segmento])*(BE61>0)*(BF61>0)","v":0}]
[null,null,"","",0,0,null,0,0,0,null,null,null,null,null,null,null,null,null,null,null,null,null,null,null,null,null,null,null,null,null,null,null,null,null,null,null,null,null,null,null,null,null,null,null,null,null,null,null,null,null,null,null,null,null,"Intereses presuntivos",0,30,{"$f":"(BD62=Parametros[Segmento])*(BE62>0)*(BF62>0)","v":0}]
[null,null,"","",0,0,null,0,0,0,null,null,null,null,null,null,null,null,null,null,null,null,null,null,null,null,null,null,null,null,null,null,null,null,null,null,null,null,null,null,null,null,null,null,null,null,null,null,null,null,null,null,null,null,null,"Intereses presuntivos",0,30,{"$f":"(BD63=Parametros[Segmento])*(BE63>0)*(BF63>0)","v":0}]
[null,null,"","",0,0,null,0,0,0,null,null,null,null,null,null,null,null,null,null,null,null,null,null,null,null,null,null,null,null,null,null,null,null,null,null,null,null,null,null,null,null,null,null,null,null,null,null,null,null,null,null,null,null,null,"Intereses presuntivos",0,30,{"$f":"(BD64=Parametros[Segmento])*(BE64>0)*(BF64>0)","v":0}]
[null,null,"","",0,0,null,0,0,0,null,null,null,null,null,null,null,null,null,null,null,null,null,null,null,null,null,null,null,null,null,null,null,null,null,null,null,null,null,null,null,null,null,null,null,null,null,null,null,null,null,null,null,null,null,"Intereses presuntivos",0,30,{"$f":"(BD65=Parametros[Segmento])*(BE65>0)*(BF65>0)","v":0}]
[null,null,"","",0,0,null,0,0,0,null,null,null,null,null,null,null,null,null,null,null,null,null,null,null,null,null,null,null,null,null,null,null,null,null,null,null,null,null,null,null,null,null,null,null,null,null,null,null,null,null,null,null,null,null,"Intereses presuntivos",0,30,{"$f":"(BD66=Parametros[Segmento])*(BE66>0)*(BF66>0)","v":0}]
[null,null,"","",0,0,null,0,0,0,null,null,null,null,null,null,null,null,null,null,null,null,null,null,null,null,null,null,null,null,null,null,null,null,null,null,null,null,null,null,null,null,null,null,null,null,null,null,null,null,null,null,null,null,null,"Intereses presuntivos",0,30,{"$f":"(BD67=Parametros[Segmento])*(BE67>0)*(BF67>0)","v":0}]
[null,null,"","",0,0,null,0,0,0,null,null,null,null,null,null,null,null,null,null,null,null,null,null,null,null,null,null,null,null,null,null,null,null,null,null,null,null,null,null,null,null,null,null,null,null,null,null,null,null,null,null,null,null,null,"Intereses presuntivos",0,30,{"$f":"(BD68=Parametros[Segmento])*(BE68>0)*(BF68>0)","v":0}]
[null,null,"","",0,0,null,0,0,0,null,null,null,null,null,null,null,null,null,null,null,null,null,null,null,null,null,null,null,null,null,null,null,null,null,null,null,null,null,null,null,null,null,null,null,null,null,null,null,null,null,null,null,null,null,"Intereses presuntivos",0,30,{"$f":"(BD69=Parametros[Segmento])*(BE69>0)*(BF69>0)","v":0}]
[null,null,null,null,null,null,null,null,"Total intereses presuntivos por el préstamo en el año ",{"$f":"SUM(H58:H69)","v":0},null,null,null,null,null,null,null,null,null,null,null,null,null,null,null,null,null,null,null,null,null,null,null,null,null,null,null,null,null,null,null,null,null,null,null,null,null,null,null,null,null,null,null,null,null,"Intereses presuntivos",1,30,{"$f":"(BD70=Parametros[Segmento])*(BE70>0)*(BF70>0)","v":0}]
[null,null,null,null,null,null,null,null,"Total saldo pendiente de cobro a 31 de diciembre de 2024",{"$f":"+J69","v":0},null,null,null,null,null,null,null,null,null,null,null,null,null,null,null,null,null,null,null,null,null,null,null,null,null,null,null,null,null,null,null,null,null,null,null,null,null,null,null,null,null,null,null,null,null,"Intereses presuntivos",1,30,{"$f":"(BD71=Parametros[Segmento])*(BE71>0)*(BF71>0)","v":0}]
[null,2.33,19.78,19.78,19.78,19.78,19.78,19.78,19.78,19.78,0,0,0,0,0,0,0,0,0,0,0,0,0,0,0,0,0,0,0,0,0,0,0,0,null,null,null,null,null,null,null,null,null,null,null,null,null,null,null,null,null,null,null,null,null,"Subcapitalización",0,20,{"$f":"(BD72=Parametros[Segmento])*(BE72>0)*(BF72>0)","v":0}]
[null,null,null,null,null,null,null,null,null,null,null,null,null,null,null,null,null,null,null,null,null,null,null,null,null,null,null,null,null,null,null,null,null,null,null,null,null,null,null,null,null,null,null,null,null,null,null,null,null,null,null,null,null,null,null,"Subcapitalización",1,10,{"$f":"(BD73=Parametros[Segmento])*(BE73>0)*(BF73>0)","v":0}]
[null,null,null,null,null,null,null,null,null,null,null,null,null,null,null,null,null,null,null,null,null,null,null,null,null,null,null,null,null,null,null,null,null,null,null,null,null,null,null,null,null,null,null,null,null,null,null,null,null,null,null,null,null,null,null,"Subcapitalización",1,30,{"$f":"(BD74=Parametros[Segmento])*(BE74>0)*(BF74>0)","v":0}]
[null,null,"Subcapitalización ",null,null,null,null,null,null,null,null,null,null,null,null,null,null,null,null,null,null,null,null,null,null,null,null,null,null,null,null,null,null,null,null,null,null,null,null,null,null,null,null,null,null,null,null,null,null,null,null,null,null,null,null,"Subcapitalización",1,30,{"$f":"(BD75=Parametros[Segmento])*(BE75>0)*(BF75>0)","v":0}]
[null,null,null,null,null,null,null,null,null,null,null,null,null,null,null,null,null,null,null,null,null,null,null,null,null,null,null,null,null,null,null,null,null,null,null,null,null,null,null,null,null,null,null,null,null,null,null,null,null,null,null,null,null,null,null,"Subcapitalización",1,30,{"$f":"(BD76=Parametros[Segmento])*(BE76>0)*(BF76>0)","v":0}]
[null,null,"Información general de los préstamos con vinculados económicos ",null,null,null,null,null,null,null,null,null,null,null,null,null,null,null,null,null,null,null,null,null,null,null,null,null,null,null,null,null,null,null,null,null,null,null,null,null,null,null,null,null,null,null,null,null,null,null,null,null,null,null,null,"Subcapitalización",1,30,{"$f":"(BD77=Parametros[Segmento])*(BE77>0)*(BF77>0)","v":0}]
[null,null,"Préstamos vigentes en el 2024","Ubicación vinculado económico","Fecha de \ninicio del préstamo\n(dd/mm/aaaa) ","Fecha de         \nfinalización del préstamo\n(dd/mm/aaaa)","Tasa de interés anual","Monto del préstamo","Intereses pagados en el año","Saldo pendiente de pago a 31 de dic. de 2024",null,null,null,null,null,null,null,null,null,null,null,null,null,null,null,null,null,null,null,null,null,null,null,null,null,null,null,null,null,null,null,null,null,null,null,null,null,null,null,null,null,null,null,null,null,"Subcapitalización",1,90,{"$f":"(BD78=Parametros[Segmento])*(BE78>0)*(BF78>0)","v":0}]
[null,null,null,null,null,null,null,null,{"$f":"Z79","v":0},{"$f":"AB79","v":0},null,null,null,null,null,null,null,null,null,null,null,null,null,null,0,0,0,0,null,null,null,null,null,null,null,null,null,null,null,null,null,null,null,null,null,null,null,null,null,null,null,null,null,{"$f":"$C$75","v":"Subcapitalización "},{"$f":"$C$77","v":"Información general de los préstamos con vinculados económicos "},"Subcapitalización",{"$f":"(BC79=OFFSET(BC79,1,0))*1","v":1},30,{"$f":"(BD79=Parametros[Segmento])*(BE79>0)*(BF79>0)","v":0}]
[null,null,null,null,null,null,null,null,{"$f":"Z80","v":0},{"$f":"AB80","v":0},null,null,null,null,null,null,null,null,null,null,null,null,null,null,null,null,null,null,null,null,null,null,null,null,null,null,null,null,null,null,null,null,null,null,null,null,null,null,null,null,null,null,null,{"$f":"$C$75","v":"Subcapitalización "},{"$f":"$C$77","v":"Información general de los préstamos con vinculados económicos "},"Subcapitalización",{"$f":"(BC80=OFFSET(BC80,1,0))*1","v":0},30,{"$f":"(BD80=Parametros[Segmento])*(BE80>0)*(BF80>0)","v":0}]
[null,null,null,null,null,null,null,null,null,null,null,null,null,null,null,null,null,null,null,null,null,null,null,null,null,null,null,null,null,null,null,null,null,null,null,null,null,null,null,null,null,null,null,null,null,null,null,null,null,null,null,null,null,null,null,"Subcapitalización",1,30,{"$f":"(BD81=Parametros[Segmento])*(BE81>0)*(BF81>0)","v":0}]
[null,null,"Cálculos ",null,null,null,null,null,null,null,null,null,null,null,null,null,null,null,null,null,null,null,null,null,null,null,null,null,null,null,null,null,null,null,null,null,null,null,null,null,null,null,null,null,null,null,null,null,null,null,null,null,null,null,null,"Subcapitalización",1,30,{"$f":"(BD82=Parametros[Segmento])*(BE82>0)*(BF82>0)","v":0}]
[null,null,"Patrimonio líquido año gravable anterior (AG 2023)",null,null,null,null,null,null,{"$f":"+' '!D253","v":0},null,null,null,null,null,null,null,null,null,null,null,null,null,null,null,null,null,null,null,null,null,null,null,null,null,null,null,null,null,null,null,null,null,null,null,null,null,null,null,null,null,null,null,null,null,"Subcapitalización",1,30,{"$f":"(BD83=Parametros[Segmento])*(BE83>0)*(BF83>0)","v":0}]
[null,null,"Total deuda ponderada ",null,null,null,null,null,null,{"$f":"SUM(AA79:AA80)","v":0},null,null,null,null,null,null,null,null,null,null,null,null,null,null,null,null,null,null,null,null,null,null,null,null,null,null,null,null,null,null,null,null,null,null,null,null,null,null,null,null,null,null,null,null,null,"Subcapitalización",1,30,{"$f":"(BD84=Parametros[Segmento])*(BE84>0)*(BF84>0)","v":0}]
[null,null,"Total días de permanencia de la deuda en el año ",null,null,null,null,null,null,{"$f":"MIN(SUM(Y79:Y80),365)","v":0},null,null,null,null,null,null,null,null,null,null,null,null,null,null,null,null,null,null,null,null,null,null,null,null,null,null,null,null,null,null,null,null,null,null,null,null,null,null,null,null,null,null,null,null,null,"Subcapitalización",1,30,{"$f":"(BD85=Parametros[Segmento])*(BE85>0)*(BF85>0)","v":0}]
[null,null,"Total intereses pagado en el año ",null,null,null,null,null,null,{"$f":"+SUM(I79:I80)","v":0},null,null,null,null,null,null,null,null,null,null,null,null,null,null,null,null,null,null,null,null,null,null,null,null,null,null,null,null,null,null,null,null,null,null,null,null,null,null,null,null,null,null,null,null,null,"Subcapitalización",1,30,{"$f":"(BD86=Parametros[Segmento])*(BE86>0)*(BF86>0)","v":0}]
[null,null,"Monto promedio de las deudas ",null,null,null,null,null,null,{"$f":"IF(J84>0,J84/J85,0)","v":0},null,null,null,null,null,null,null,null,null,null,null,null,null,null,null,null,null,null,null,null,null,null,null,null,null,null,null,null,null,null,null,null,null,null,null,null,null,null,null,null,null,null,null,null,null,"Subcapitalización",1,30,{"$f":"(BD87=Parametros[Segmento])*(BE87>0)*(BF87>0)","v":0}]
[null,null,"Límite de endeudamiento permitido (Artícul 118-1 del ET)",null,null,null,null,null,null,{"$f":"+J83*2","v":0},null,null,null,null,null,null,null,null,null,null,null,null,null,null,null,null,null,null,null,null,null,null,null,null,null,null,null,null,null,null,null,null,null,null,null,null,null,null,null,null,null,null,null,null,null,"Subcapitalización",1,30,{"$f":"(BD88=Parametros[Segmento])*(BE88>0)*(BF88>0)","v":0}]
[null,null,"Exceso de endeudamiento ",null,null,null,null,null,null,{"$f":"+IF(J87>J88,(J87-J88),0)","v":0},null,null,null,null,null,null,null,null,null,null,null,null,null,null,null,null,null,null,null,null,null,null,null,null,null,null,null,null,null,null,null,null,null,null,null,null,null,null,null,null,null,null,null,null,null,"Subcapitalización",1,30,{"$f":"(BD89=Parametros[Segmento])*(BE89>0)*(BF89>0)","v":0}]
[null,null,"Porcentaje de intereses no deducible ",null,null,null,null,null,null,{"$f":"+IF(J89>0,J89/J87,0)","v":0},null,null,null,null,null,null,null,null,null,null,null,null,null,null,null,null,null,null,null,null,null,null,null,null,null,null,null,null,null,null,null,null,null,null,null,null,null,null,null,null,null,null,null,null,null,"Subcapitalización",1,30,{"$f":"(BD90=Parametros[Segmento])*(BE90>0)*(BF90>0)","v":0}]
[null,null,"Intereses no deducibles por exceso de endeudamiento",null,null,null,null,null,null,{"$f":"+J86*J90","v":0},null,null,null,null,null,null,null,null,null,null,null,null,null,null,null,null,null,null,null,null,null,null,null,null,null,null,null,null,null,null,null,null,null,null,null,null,null,null,null,null,null,null,null,null,null,"Subcapitalización",1,30,{"$f":"(BD91=Parametros[Segmento])*(BE91>0)*(BF91>0)","v":0}]
[null,null,"Intereses deducibles - Subcapitalización ",null,null,null,null,null,null,{"$f":"+J86-J91","v":0},null,null,null,null,null,null,null,null,null,null,null,null,null,null,null,null,null,null,null,null,null,null,null,null,null,null,null,null,null,null,null,null,null,null,null,null,null,null,null,null,null,null,null,null,null,"Subcapitalización",1,30,{"$f":"(BD92=Parametros[Segmento])*(BE92>0)*(BF92>0)","v":0}]
[null,null,"Porcentaje de intereses deducibles por componente inflacionario",null,null,null,null,null,null,0.62430000000000008,null,null,null,null,null,null,null,null,null,null,null,null,null,null,null,null,null,null,null,null,null,null,null,null,null,null,null,null,null,null,null,null,null,null,null,null,null,null,null,null,null,null,null,null,null,"Subcapitalización",0,30,{"$f":"(BD93=Parametros[Segmento])*(BE93>0)*(BF93>0)","v":0}]
[null,null,"Porcentaje de intereses deducibles por componente inflacionario - Deudas del exterior ",null,null,null,null,null,null,0.59889999999999999,null,null,null,null,null,null,null,null,null,null,null,null,null,null,null,null,null,null,null,null,null,null,null,null,null,null,null,null,null,null,null,null,null,null,null,null,null,null,null,null,null,null,null,null,null,"Subcapitalización",0,30,{"$f":"(BD94=Parametros[Segmento])*(BE94>0)*(BF94>0)","v":0}]
[null,null,"Intereses a tomar como costo deducible - Componente inflacionario",null,null,null,null,null,null,null,null,null,null,null,null,null,null,null,null,null,null,null,null,null,null,null,null,null,null,null,null,null,null,null,null,null,null,null,null,null,null,null,null,null,null,null,null,null,null,null,null,null,null,null,null,"Subcapitalización",0,30,{"$f":"(BD95=Parametros[Segmento])*(BE95>0)*(BF95>0)","v":0}]
[null,null,null,null,null,null,null,null,null,null,null,null,null,null,null,null,null,null,null,null,null,null,null,null,null,null,null,null,null,null,null,null,null,null,null,null,null,null,null,null,null,null,null,null,null,null,null,null,null,null,null,null,null,null,null,"Subcapitalización",1,30,{"$f":"(BD96=Parametros[Segmento])*(BE96>0)*(BF96>0)","v":0}]
[null,null,null,null,null,null,null,null,null,null,null,null,null,null,null,null,null,null,null,null,null,null,null,null,null,null,null,null,null,null,null,null,null,null,null,null,null,null,null,null,null,null,null,null,null,null,null,null,null,null,null,null,null,null,null,"Subcapitalización",{"$f":"IFERROR(IF($C$97=\"\",0,1),0)","v":0},30,{"$f":"(BD97=Parametros[Segmento])*(BE97>0)*(BF97>0)","v":0}]
[null,null,"Fecha inicial\n(dd/mm/aaaa)","Fecha final\n(dd/mm/aaaa)","Permanencia en días ","Saldo de capital inicial","Abono a capital ","Intereses ","Saldo de capital final","Deuda Ponderada",null,null,null,null,null,null,null,null,null,null,null,null,null,null,null,null,null,null,null,null,null,null,null,null,null,null,null,null,null,null,null,null,null,null,null,null,null,null,null,null,null,null,null,null,null,"Subcapitalización",{"$f":"BE97","v":0},39.9,{"$f":"(BD98=Parametros[Segmento])*(BE98>0)*(BF98>0)","v":0}]
[null,null,{"$f":"IFERROR(IF(OFFSET($E$78,MATCH($C$97,Lista_SubCap_Prestamos,0),0)=\"\",\"\",OFFSET($E$78,MATCH($C$97,Lista_SubCap_Prestamos,0),0)),\"\")","v":""},{"$f":"IF(C99=\"\",\"\",IF(C100=\"\",OFFSET($F$78,MATCH($C$97,Lista_SubCap_Prestamos,0),0),C100-1))","v":""},{"$f":"IFERROR(D99-C99+1,0)","v":0},{"$f":"IF(AND(IFERROR(OFFSET($H$78,MATCH($C$97,Lista_SubCap_Prestamos,0),0),0)>0,E99>0),IFERROR(OFFSET($H$78,MATCH($C$97,Lista_SubCap_Prestamos,0),0),0),0)","v":0},null,{"$f":"(((1+IFERROR(OFFSET($G$78,MATCH($C$97,Lista_SubCap_Prestamos,0),0),0))^(1/365))-1)*E99*F99","v":0},{"$f":"+F99-G99","v":0},{"$f":"+E99*F99","v":0},null,null,null,null,null,null,null,null,null,null,null,null,null,null,null,null,null,null,null,null,null,null,null,null,null,null,null,null,null,null,null,null,null,null,null,null,null,null,null,null,null,null,null,null,null,"Subcapitalización",{"$f":"IF(E99=0,0,1)","v":0},30,{"$f":"(BD99=Parametros[Segmento])*(BE99>0)*(BF99>0)","v":0}]
[null,null,{"$f":"IF(C99=\"\",\"\",IF(MONTH(C99)<MONTH(OFFSET($F$78,MATCH($C$97,Lista_SubCap_Prestamos,0),0)),DATE(YEAR(C99),MONTH(C99)+1,1),\"\"))","v":""},"",0,{"$f":"+I99","v":0},null,0,0,0,null,null,null,null,null,null,null,null,null,null,null,null,null,null,null,null,null,null,null,null,null,null,null,null,null,null,null,null,null,null,null,null,null,null,null,null,null,null,null,null,null,null,null,null,null,"Subcapitalización",0,30,{"$f":"(BD100=Parametros[Segmento])*(BE100>0)*(BF100>0)","v":0}]
[null,null,"","",0,0,null,0,0,0,null,null,null,null,null,null,null,null,null,null,null,null,null,null,null,null,null,null,null,null,null,null,null,null,null,null,null,null,null,null,null,null,null,null,null,null,null,null,null,null,null,null,null,null,null,"Subcapitalización",0,30,{"$f":"(BD101=Parametros[Segmento])*(BE101>0)*(BF101>0)","v":0}]
[null,null,"","",0,0,null,0,0,0,null,null,null,null,null,null,null,null,null,null,null,null,null,null,null,null,null,null,null,null,null,null,null,null,null,null,null,null,null,null,null,null,null,null,null,null,null,null,null,null,null,null,null,null,null,"Subcapitalización",0,30,{"$f":"(BD102=Parametros[Segmento])*(BE102>0)*(BF102>0)","v":0}]
[null,null,"","",0,0,null,0,0,0,null,null,null,null,null,null,null,null,null,null,null,null,null,null,null,null,null,null,null,null,null,null,null,null,null,null,null,null,null,null,null,null,null,null,null,null,null,null,null,null,null,null,null,null,null,"Subcapitalización",0,30,{"$f":"(BD103=Parametros[Segmento])*(BE103>0)*(BF103>0)","v":0}]
[null,null,"","",0,0,null,0,0,0,null,null,null,null,null,null,null,null,null,null,null,null,null,null,null,null,null,null,null,null,null,null,null,null,null,null,null,null,null,null,null,null,null,null,null,null,null,null,null,null,null,null,null,null,null,"Subcapitalización",0,30,{"$f":"(BD104=Parametros[Segmento])*(BE104>0)*(BF104>0)","v":0}]
[null,null,"","",0,0,null,0,0,0,null,null,null,null,null,null,null,null,null,null,null,null,null,null,null,null,null,null,null,null,null,null,null,null,null,null,null,null,null,null,null,null,null,null,null,null,null,null,null,null,null,null,null,null,null,"Subcapitalización",0,30,{"$f":"(BD105=Parametros[Segmento])*(BE105>0)*(BF105>0)","v":0}]
[null,null,"","",0,0,null,0,0,0,null,null,null,null,null,null,null,null,null,null,null,null,null,null,null,null,null,null,null,null,null,null,null,null,null,null,null,null,null,null,null,null,null,null,null,null,null,null,null,null,null,null,null,null,null,"Subcapitalización",0,30,{"$f":"(BD106=Parametros[Segmento])*(BE106>0)*(BF106>0)","v":0}]
[null,null,"","",0,0,null,0,0,0,null,null,null,null,null,null,null,null,null,null,null,null,null,null,null,null,null,null,null,null,null,null,null,null,null,null,null,null,null,null,null,null,null,null,null,null,null,null,null,null,null,null,null,null,null,"Subcapitalización",0,30,{"$f":"(BD107=Parametros[Segmento])*(BE107>0)*(BF107>0)","v":0}]
[null,null,"","",0,0,null,0,0,0,null,null,null,null,null,null,null,null,null,null,null,null,null,null,null,null,null,null,null,null,null,null,null,null,null,null,null,null,null,null,null,null,null,null,null,null,null,null,null,null,null,null,null,null,null,"Subcapitalización",0,30,{"$f":"(BD108=Parametros[Segmento])*(BE108>0)*(BF108>0)","v":0}]
[null,null,"","",0,0,null,0,0,0,null,null,null,null,null,null,null,null,null,null,null,null,null,null,null,null,null,null,null,null,null,null,null,null,null,null,null,null,null,null,null,null,null,null,null,null,null,null,null,null,null,null,null,null,null,"Subcapitalización",0,30,{"$f":"(BD109=Parametros[Segmento])*(BE109>0)*(BF109>0)","v":0}]
[null,null,"","",0,0,null,0,0,0,null,null,null,null,null,null,null,null,null,null,null,null,null,null,null,null,null,null,null,null,null,null,null,null,null,null,null,null,null,null,null,null,null,null,null,null,null,null,null,null,null,null,null,null,null,"Subcapitalización",0,30,{"$f":"(BD110=Parametros[Segmento])*(BE110>0)*(BF110>0)","v":0}]
[null,null,null,null,null,null,null,null,"Total permanencia de la deuda en días ",{"$f":"IF(F99>0,SUM(E99:E110),0)","v":0},null,null,null,null,null,null,null,null,null,null,null,null,null,null,null,null,null,null,null,null,null,null,null,null,null,null,null,null,null,null,null,null,null,null,null,null,null,null,null,null,null,null,null,null,null,"Subcapitalización",1,30,{"$f":"(BD111=Parametros[Segmento])*(BE111>0)*(BF111>0)","v":0}]
[null,null,null,null,null,null,null,null,"Total intereses pagados por el préstamo ",{"$f":"+SUM(H99:H110)","v":0},null,null,null,null,null,null,null,null,null,null,null,null,null,null,null,null,null,null,null,null,null,null,null,null,null,null,null,null,null,null,null,null,null,null,null,null,null,null,null,null,null,null,null,null,null,"Subcapitalización",1,30,{"$f":"(BD112=Parametros[Segmento])*(BE112>0)*(BF112>0)","v":0}]
[null,null,null,null,null,null,null,null,"Total deuda ponderada ",{"$f":"+SUM(J99:J110)","v":0},null,null,null,null,null,null,null,null,null,null,null,null,null,null,null,null,null,null,null,null,null,null,null,null,null,null,null,null,null,null,null,null,null,null,null,null,null,null,null,null,null,null,null,null,null,"Subcapitalización",1,30,{"$f":"(BD113=Parametros[Segmento])*(BE113>0)*(BF113>0)","v":0}]
[null,2.2200000000000002,0,0,0,0,20,20,20,20,20,20,20,20,20,20,20,27,null,null,null,null,null,null,null,null,null,null,null,null,null,null,null,null,null,null,null,null,null,null,null,null,null,null,null,null,null,null,null,null,null,null,null,null,null,"Gráficos",0,20,{"$f":"(BD114=Parametros[Segmento])*(BE114>0)*(BF114>0)","v":0}]
[null,null,null,null,null,null,null,null,null,null,null,null,null,null,null,null,null,null,null,null,null,null,null,null,null,null,null,null,null,null,null,null,null,null,null,null,null,null,null,null,null,null,null,null,null,null,null,null,null,null,null,null,null,null,null,"Gráficos",1,10,{"$f":"(BD115=Parametros[Segmento])*(BE115>0)*(BF115>0)","v":0}]
[null,null,null,null,null,null,null,null,null,null,null,null,null,null,null,null,null,null,null,null,null,null,null,null,null,null,null,null,null,null,null,null,null,null,null,null,null,null,null,null,null,null,null,null,null,null,null,null,null,null,null,null,null,null,null,"Gráficos",1,30,{"$f":"(BD116=Parametros[Segmento])*(BE116>0)*(BF116>0)","v":0}]
[null,null,null,null,null,null,null,null,null,null,null,null,null,null,null,null,null,null,null,null,null,null,null,null,null,null,null,null,null,null,null,null,null,null,null,null,null,null,null,null,null,null,null,null,null,null,null,null,null,null,null,null,null,null,null,"Gráficos",1,30,{"$f":"(BD117=Parametros[Segmento])*(BE117>0)*(BF117>0)","v":0}]
[null,null,null,null,null,null,null,null,null,null,null,null,null,null,null,null,null,null,null,null,null,null,null,null,null,null,null,null,null,null,null,null,null,null,null,null,null,null,null,null,null,null,null,null,null,null,null,null,null,null,null,null,null,null,null,"Gráficos",1,30,{"$f":"(BD118=Parametros[Segmento])*(BE118>0)*(BF118>0)","v":0}]
[null,null,null,null,null,null,null,null,null,null,null,null,null,null,null,null,null,null,null,null,null,null,null,null,null,null,null,null,null,null,null,null,null,null,null,null,null,null,null,null,null,null,null,null,null,null,null,null,null,null,null,null,null,null,null,"Gráficos",1,30,{"$f":"(BD119=Parametros[Segmento])*(BE119>0)*(BF119>0)","v":0}]
[null,null,null,null,null,null,null,null,null,null,null,null,null,null,null,null,null,null,null,null,null,null,null,null,null,null,null,null,null,null,null,null,null,null,null,null,null,null,null,null,null,null,null,null,null,null,null,null,null,null,null,null,null,null,null,"Gráficos",1,30,{"$f":"(BD120=Parametros[Segmento])*(BE120>0)*(BF120>0)","v":0}]
[null,null,null,null,null,null,null,null,null,null,null,null,null,null,null,null,null,null,null,null,null,null,null,null,null,null,null,null,null,null,null,null,null,null,null,null,null,null,null,null,null,null,null,null,null,null,null,null,null,null,null,null,null,null,null,"Gráficos",1,30,{"$f":"(BD121=Parametros[Segmento])*(BE121>0)*(BF121>0)","v":0}]
[null,null,null,null,null,null,null,null,null,null,null,null,null,null,null,null,null,null,null,null,null,null,null,null,null,null,null,null,null,null,null,null,null,null,null,null,null,null,null,null,null,null,null,null,null,null,null,null,null,null,null,null,null,null,null,"Gráficos",1,30,{"$f":"(BD122=Parametros[Segmento])*(BE122>0)*(BF122>0)","v":0}]
[null,null,null,null,null,null,null,null,null,null,null,null,null,null,null,null,null,null,null,null,null,null,null,null,null,null,null,null,null,null,null,null,null,null,null,null,null,null,null,null,null,null,null,null,null,null,null,null,null,null,null,null,null,null,null,"Gráficos",1,30,{"$f":"(BD123=Parametros[Segmento])*(BE123>0)*(BF123>0)","v":0}]
[null,null,null,null,null,null,null,null,null,null,null,null,null,null,null,null,null,null,null,null,null,null,null,null,null,null,null,null,null,null,null,null,null,null,null,null,null,null,null,null,null,null,null,null,null,null,null,null,null,null,null,null,null,null,null,"Gráficos",1,30,{"$f":"(BD124=Parametros[Segmento])*(BE124>0)*(BF124>0)","v":0}]
[null,null,null,null,null,null,null,null,null,null,null,null,null,null,null,null,null,null,null,null,null,null,null,null,null,null,null,null,null,null,null,null,null,null,null,null,null,null,null,null,null,null,null,null,null,null,null,null,null,null,null,null,null,null,null,"Gráficos",1,30,{"$f":"(BD125=Parametros[Segmento])*(BE125>0)*(BF125>0)","v":0}]
[null,null,null,null,null,null,null,null,null,null,null,null,null,null,null,null,null,null,null,null,null,null,null,null,null,null,null,null,null,null,null,null,null,null,null,null,null,null,null,null,null,null,null,null,null,null,null,null,null,null,null,null,null,null,null,"Gráficos",1,30,{"$f":"(BD126=Parametros[Segmento])*(BE126>0)*(BF126>0)","v":0}]
[null,null,null,null,null,null,null,null,null,null,null,null,null,null,null,null,null,null,null,null,null,null,null,null,null,null,null,null,null,null,null,null,null,null,null,null,null,null,null,null,null,null,null,null,null,null,null,null,null,null,null,null,null,null,null,"Gráficos",1,30,{"$f":"(BD127=Parametros[Segmento])*(BE127>0)*(BF127>0)","v":0}]
[null,null,null,null,null,null,null,null,null,null,null,null,null,null,null,null,null,null,null,null,null,null,null,null,null,null,null,null,null,null,null,null,null,null,null,null,null,null,null,null,null,null,null,null,null,null,null,null,null,null,null,null,null,null,null,"Gráficos",1,30,{"$f":"(BD128=Parametros[Segmento])*(BE128>0)*(BF128>0)","v":0}]
[null,null,null,null,null,null,null,null,null,null,null,null,null,null,null,null,null,null,null,null,null,null,null,null,null,null,null,null,null,null,null,null,null,null,null,null,null,null,null,null,null,null,null,null,null,null,null,null,null,null,null,null,null,null,null,"Gráficos",1,30,{"$f":"(BD129=Parametros[Segmento])*(BE129>0)*(BF129>0)","v":0}]
[null,null,null,null,null,null,null,null,null,null,null,null,null,null,null,null,null,null,null,null,null,null,null,null,null,null,null,null,null,null,null,null,null,null,null,null,null,null,null,null,null,null,null,null,null,null,null,null,null,null,null,null,null,null,null,"Gráficos",1,30,{"$f":"(BD130=Parametros[Segmento])*(BE130>0)*(BF130>0)","v":0}]
[null,null,null,null,null,null,null,null,null,null,null,null,null,null,null,null,null,null,null,null,null,null,null,null,null,null,null,null,null,null,null,null,null,null,null,null,null,null,null,null,null,null,null,null,null,null,null,null,null,null,null,null,null,null,null,"Gráficos",1,30,{"$f":"(BD131=Parametros[Segmento])*(BE131>0)*(BF131>0)","v":0}]
[null,null,null,null,null,null,null,null,null,null,null,null,null,null,null,null,null,null,null,null,null,null,null,null,null,null,null,null,null,null,null,null,null,null,null,null,null,null,null,null,null,null,null,null,null,null,null,null,null,null,null,null,null,null,null,"Gráficos",1,30,{"$f":"(BD132=Parametros[Segmento])*(BE132>0)*(BF132>0)","v":0}]
[null,null,null,null,null,null,null,null,null,null,null,null,null,null,null,null,null,null,null,null,null,null,null,null,null,null,null,null,null,null,null,null,null,null,null,null,null,null,null,null,null,null,null,null,null,null,null,null,null,null,null,null,null,null,null,"Gráficos",1,30,{"$f":"(BD133=Parametros[Segmento])*(BE133>0)*(BF133>0)","v":0}]
[null,null,null,null,null,null,null,null,null,null,null,null,null,null,null,null,null,null,null,null,null,null,null,null,null,null,null,null,null,null,null,null,null,null,null,null,null,null,null,null,null,null,null,null,null,null,null,null,null,null,null,null,null,null,null,"Gráficos",1,30,{"$f":"(BD134=Parametros[Segmento])*(BE134>0)*(BF134>0)","v":0}]
[null,null,null,null,null,null,null,null,null,null,null,null,null,null,null,null,null,null,null,null,null,null,null,null,null,null,null,null,null,null,null,null,null,null,null,null,null,null,null,null,null,null,null,null,null,null,null,null,null,null,null,null,null,null,null,"Gráficos",1,30,{"$f":"(BD135=Parametros[Segmento])*(BE135>0)*(BF135>0)","v":0}]
[null,null,null,null,null,null,null,null,null,null,null,null,null,null,null,null,null,null,null,null,null,null,null,null,null,null,null,null,null,null,null,null,null,null,null,null,null,null,null,null,null,null,null,null,null,null,null,null,null,null,null,null,null,null,null,"Gráficos",1,30,{"$f":"(BD136=Parametros[Segmento])*(BE136>0)*(BF136>0)","v":0}]
[null,null,null,null,null,null,null,null,null,null,null,null,null,null,null,null,null,null,null,null,null,null,null,null,null,null,null,null,null,null,null,null,null,null,null,null,null,null,null,null,null,null,null,null,null,null,null,null,null,null,null,null,null,null,null,"Gráficos",1,30,{"$f":"(BD137=Parametros[Segmento])*(BE137>0)*(BF137>0)","v":0}]
[null,null,null,null,null,null,null,null,null,null,null,null,null,null,null,null,null,null,null,null,null,null,null,null,null,null,null,null,null,null,null,null,null,null,null,null,null,null,null,null,null,null,null,null,null,null,null,null,null,null,null,null,null,null,null,"Gráficos",1,30,{"$f":"(BD138=Parametros[Segmento])*(BE138>0)*(BF138>0)","v":0}]
[null,null,null,null,null,null,null,null,null,null,null,null,null,null,null,null,null,null,null,null,null,null,null,null,null,null,null,null,null,null,null,null,null,null,null,null,null,null,null,null,null,null,null,null,null,null,null,null,null,null,null,null,null,null,null,"Gráficos",1,30,{"$f":"(BD139=Parametros[Segmento])*(BE139>0)*(BF139>0)","v":0}]
[null,null,null,null,null,null,null,null,null,null,null,null,null,null,null,null,null,null,null,null,null,null,null,null,null,null,null,null,null,null,null,null,null,null,null,null,null,null,null,null,null,null,null,null,null,null,null,null,null,null,null,null,null,null,null,"Gráficos",1,30,{"$f":"(BD140=Parametros[Segmento])*(BE140>0)*(BF140>0)","v":0}]
[null,null,null,null,null,null,null,null,null,null,null,null,null,null,null,null,null,null,null,null,null,null,null,null,null,null,null,null,null,null,null,null,null,null,null,null,null,null,null,null,null,null,null,null,null,null,null,null,null,null,null,null,null,null,null,"Gráficos",1,30,{"$f":"(BD141=Parametros[Segmento])*(BE141>0)*(BF141>0)","v":0}]
[null,null,null,null,null,null,null,null,null,null,null,null,null,null,null,null,null,null,null,null,null,null,null,null,null,null,null,null,null,null,null,null,null,null,null,null,null,null,null,null,null,null,null,null,null,null,null,null,null,null,null,null,null,null,null,"Gráficos",1,30,{"$f":"(BD142=Parametros[Segmento])*(BE142>0)*(BF142>0)","v":0}]
[null,null,null,null,null,null,null,null,null,null,null,null,null,null,null,null,null,null,null,null,null,null,null,null,null,null,null,null,null,null,null,null,null,null,null,null,null,null,null,null,null,null,null,null,null,null,null,null,null,null,null,null,null,null,null,"Gráficos",1,30,{"$f":"(BD143=Parametros[Segmento])*(BE143>0)*(BF143>0)","v":0}]
[null,null,null,null,null,null,null,null,null,null,null,null,null,null,null,null,null,null,null,null,null,null,null,null,null,null,null,null,null,null,null,null,null,null,null,null,null,null,null,null,null,null,null,null,null,null,null,null,null,null,null,null,null,null,null,"Gráficos",1,30,{"$f":"(BD144=Parametros[Segmento])*(BE144>0)*(BF144>0)","v":0}]
[null,null,null,null,null,null,null,null,null,null,null,null,null,null,null,null,null,null,null,null,null,null,null,null,null,null,null,null,null,null,null,null,null,null,null,null,null,null,null,null,null,null,null,null,null,null,null,null,null,null,null,null,null,null,null,"Gráficos",1,30,{"$f":"(BD145=Parametros[Segmento])*(BE145>0)*(BF145>0)","v":0}]
[null,null,null,null,null,null,null,null,null,null,null,null,null,null,null,null,null,null,null,null,null,null,null,null,null,null,null,null,null,null,null,null,null,null,null,null,null,null,null,null,null,null,null,null,null,null,null,null,null,null,null,null,null,null,null,"Gráficos",1,39.9,{"$f":"(BD146=Parametros[Segmento])*(BE146>0)*(BF146>0)","v":0}]
[null,null,null,null,null,null,null,null,null,null,null,null,null,null,null,null,null,null,null,null,null,null,null,null,null,null,null,null,null,null,null,null,null,null,null,null,null,null,null,null,null,null,null,null,null,null,null,null,null,null,null,null,null,null,null,"Gráficos",1,30,{"$f":"(BD147=Parametros[Segmento])*(BE147>0)*(BF147>0)","v":0}]
[null,null,null,null,null,null,null,null,null,null,null,null,null,null,null,null,null,null,null,null,null,null,null,null,null,null,null,null,null,null,null,null,null,null,null,null,null,null,null,null,null,null,null,null,null,null,null,null,null,null,null,null,null,null,null,"Gráficos",1,30,{"$f":"(BD148=Parametros[Segmento])*(BE148>0)*(BF148>0)","v":0}]
[null,null,null,null,null,null,null,null,null,null,null,null,null,null,null,null,null,null,null,null,null,null,null,null,null,null,null,null,null,null,null,null,null,null,null,null,null,null,null,null,null,null,null,null,null,null,null,null,null,null,null,null,null,null,null,"Gráficos",1,30,{"$f":"(BD149=Parametros[Segmento])*(BE149>0)*(BF149>0)","v":0}]
[null,null,null,null,null,null,null,null,null,null,null,null,null,null,null,null,null,null,null,null,null,null,null,null,null,null,null,null,null,null,null,null,null,null,null,null,null,null,null,null,null,null,null,null,null,null,null,null,null,null,null,null,null,null,null,"Gráficos",1,30,{"$f":"(BD150=Parametros[Segmento])*(BE150>0)*(BF150>0)","v":0}]
[null,null,null,null,null,null,null,null,null,null,null,null,null,null,null,null,null,null,null,null,null,null,null,null,null,null,null,null,null,null,null,null,null,null,null,null,null,null,null,null,null,null,null,null,null,null,null,null,null,null,null,null,null,null,null,"Gráficos",1,30,{"$f":"(BD151=Parametros[Segmento])*(BE151>0)*(BF151>0)","v":0}]
[null,null,null,null,null,null,null,null,null,null,null,null,null,null,null,null,null,null,null,null,null,null,null,null,null,null,null,null,null,null,null,null,null,null,null,null,null,null,null,null,null,null,null,null,null,null,null,null,null,null,null,null,null,null,null,"Gráficos",1,30,{"$f":"(BD152=Parametros[Segmento])*(BE152>0)*(BF152>0)","v":0}]
[null,null,null,null,null,null,null,null,null,null,null,null,null,null,null,null,null,null,null,null,null,null,null,null,null,null,null,null,null,null,null,null,null,null,null,null,null,null,null,null,null,null,null,null,null,null,null,null,null,null,null,null,null,null,null,"Gráficos",1,30,{"$f":"(BD153=Parametros[Segmento])*(BE153>0)*(BF153>0)","v":0}]
[null,null,null,null,null,null,null,null,null,null,null,null,null,null,null,null,null,null,null,null,null,null,null,null,null,null,null,null,null,null,null,null,null,null,null,null,null,null,null,null,null,null,null,null,null,null,null,null,null,null,null,null,null,null,null,"Gráficos",1,30,{"$f":"(BD154=Parametros[Segmento])*(BE154>0)*(BF154>0)","v":0}]
[null,null,null,null,null,null,null,null,null,null,null,null,null,null,null,null,null,null,null,null,null,null,null,null,null,null,null,null,null,null,null,null,null,null,null,null,null,null,null,null,null,null,null,null,null,null,null,null,null,null,null,null,null,null,null,"Gráficos",1,30,{"$f":"(BD155=Parametros[Segmento])*(BE155>0)*(BF155>0)","v":0}]
[null,null,null,null,null,null,null,null,null,null,null,null,null,null,null,null,null,null,null,null,null,null,null,null,null,null,null,null,null,null,null,null,null,null,null,null,null,null,null,null,null,null,null,null,null,null,null,null,null,null,null,null,null,null,null,"Gráficos",1,30,{"$f":"(BD156=Parametros[Segmento])*(BE156>0)*(BF156>0)","v":0}]
[null,null,null,null,null,null,null,null,null,null,null,null,null,null,null,null,null,null,null,null,null,null,null,null,null,null,null,null,null,null,null,null,null,null,null,null,null,null,null,null,null,null,null,null,null,null,null,null,null,null,null,null,null,null,null,"Gráficos",1,30,{"$f":"(BD157=Parametros[Segmento])*(BE157>0)*(BF157>0)","v":0}]
[null,null,null,null,null,null,null,null,null,null,null,null,null,null,null,null,null,null,null,null,null,null,null,null,null,null,null,null,null,null,null,null,null,null,null,null,null,null,null,null,null,null,null,null,null,null,null,null,null,null,null,null,null,null,null,"Gráficos",1,30,{"$f":"(BD158=Parametros[Segmento])*(BE158>0)*(BF158>0)","v":0}]
[null,null,null,null,null,null,null,null,null,null,null,null,null,null,null,null,null,null,null,null,null,null,null,null,null,null,null,null,null,null,null,null,null,null,null,null,null,null,null,null,null,null,null,null,null,null,null,null,null,null,null,null,null,null,null,"Gráficos",1,30,{"$f":"(BD159=Parametros[Segmento])*(BE159>0)*(BF159>0)","v":0}]
[null,null,null,null,null,null,null,null,null,null,null,null,null,null,null,null,null,null,null,null,null,null,null,null,null,null,null,null,null,null,null,null,null,null,null,null,null,null,null,null,null,null,null,null,null,null,null,null,null,null,null,null,null,null,null,"Gráficos",1,30,{"$f":"(BD160=Parametros[Segmento])*(BE160>0)*(BF160>0)","v":0}]
[null,null,null,null,null,null,null,null,null,null,null,null,null,null,null,null,null,null,null,null,null,null,null,null,null,null,null,null,null,null,null,null,null,null,null,null,null,null,null,null,null,null,null,null,null,null,null,null,null,null,null,null,null,null,null,"Gráficos",1,30,{"$f":"(BD161=Parametros[Segmento])*(BE161>0)*(BF161>0)","v":0}]
[null,null,null,null,null,null,null,null,null,null,null,null,null,null,null,null,null,null,null,null,null,null,null,null,null,null,null,null,null,null,null,null,null,null,null,null,null,null,null,null,null,null,null,null,null,null,null,null,null,null,null,null,null,null,null,"Gráficos",1,30,{"$f":"(BD162=Parametros[Segmento])*(BE162>0)*(BF162>0)","v":0}]
[null,null,null,null,null,null,null,null,null,null,null,null,null,null,null,null,null,null,null,null,null,null,null,null,null,null,null,null,null,null,null,null,null,null,null,null,null,null,null,null,null,null,null,null,null,null,null,null,null,null,null,null,null,null,null,"Gráficos",1,30,{"$f":"(BD163=Parametros[Segmento])*(BE163>0)*(BF163>0)","v":0}]
[null,null,null,null,null,null,null,null,null,null,null,null,null,null,null,null,null,null,null,null,null,null,null,null,null,null,null,null,null,null,null,null,null,null,null,null,null,null,null,null,null,null,null,null,null,null,null,null,null,null,null,null,null,null,null,"Gráficos",1,30,{"$f":"(BD164=Parametros[Segmento])*(BE164>0)*(BF164>0)","v":0}]
[3.78,69.56,24.78,24.78,24.78,24.78,4,null,null,null,null,null,null,null,null,null,null,null,null,null,null,null,null,null,null,null,null,null,null,null,null,null,null,null,null,null,null,null,null,null,null,null,null,null,null,null,null,null,null,null,null,null,null,null,null,"Cifras e Indicadores",0,15,{"$f":"(BD165=Parametros[Segmento])*(BE165>0)*(BF165>0)","v":0}]
[null,null,null,null,null,null,null,null,null,null,null,null,null,null,null,null,null,null,null,null,null,null,null,null,null,null,null,null,null,null,null,null,null,null,null,null,null,null,null,null,null,null,null,null,null,null,null,null,null,null,null,null,null,null,null,"Cifras e Indicadores",1,14.4,{"$f":"(BD166=Parametros[Segmento])*(BE166>0)*(BF166>0)","v":0}]
[null,"Cifras, tablas e indicadores",null,null,null,null,null,null,null,null,null,null,null,null,null,null,null,null,null,null,null,null,null,null,null,null,null,null,null,null,null,null,null,null,null,null,null,null,null,null,null,null,null,null,null,null,null,null,null,null,null,null,null,null,null,"Cifras e Indicadores",1,30,{"$f":"(BD167=Parametros[Segmento])*(BE167>0)*(BF167>0)","v":0}]
[null,"Concepto ",2022,2023,2024,2025,null,null,null,null,null,null,null,null,null,null,null,null,null,null,null,null,null,null,null,null,null,null,null,null,null,null,null,null,null,null,null,null,null,null,null,null,null,null,null,null,null,null,null,null,null,null,null,null,null,"Cifras e Indicadores",1,30,{"$f":"(BD168=Parametros[Segmento])*(BE168>0)*(BF168>0)","v":0}]
[null,"UVT ",38004,42412,47065,49799,null,null,null,null,null,null,null,null,null,null,null,null,null,null,null,null,null,null,null,null,null,null,null,null,null,null,null,null,null,null,null,null,null,null,null,null,null,null,null,null,null,null,null,null,null,null,null,null,null,"Cifras e Indicadores",1,30,{"$f":"(BD169=Parametros[Segmento])*(BE169>0)*(BF169>0)","v":0}]
[null,"Renta presuntiva ",0,0,0,0,null,null,null,null,null,null,null,null,null,null,null,null,null,null,null,null,null,null,null,null,null,null,null,null,null,null,null,null,null,null,null,null,null,null,null,null,null,null,null,null,null,null,null,null,null,null,null,null,null,"Cifras e Indicadores",1,30,{"$f":"(BD170=Parametros[Segmento])*(BE170>0)*(BF170>0)","v":0}]
[null,"Intereses presuntivos ",3.2099999999999997E-2,0.13700000000000001,0.12690000000000001,null,null,null,null,null,null,null,null,null,null,null,null,null,null,null,null,null,null,null,null,null,null,null,null,null,null,null,null,null,null,null,null,null,null,null,null,null,null,null,null,null,null,null,null,null,null,null,null,null,null,"Cifras e Indicadores",1,30,{"$f":"(BD171=Parametros[Segmento])*(BE171>0)*(BF171>0)","v":0}]
[null,"Salario Mínimo ",1000000,1160000,1300000,1423500,null,null,null,null,null,null,null,null,null,null,null,null,null,null,null,null,null,null,null,null,null,null,null,null,null,null,null,null,null,null,null,null,null,null,null,null,null,null,null,null,null,null,null,null,null,null,null,null,null,"Cifras e Indicadores",1,30,{"$f":"(BD172=Parametros[Segmento])*(BE172>0)*(BF172>0)","v":0}]
[null,"Auxilio de Transporte ",117172,140606,162000,200000,null,null,null,null,null,null,null,null,null,null,null,null,null,null,null,null,null,null,null,null,null,null,null,null,null,null,null,null,null,null,null,null,null,null,null,null,null,null,null,null,null,null,null,null,null,null,null,null,null,"Cifras e Indicadores",1,30,{"$f":"(BD173=Parametros[Segmento])*(BE173>0)*(BF173>0)","v":0}]
[null,"Sanción mínima ",380000,424000,471000,498000,null,null,null,null,null,null,null,null,null,null,null,null,null,null,null,null,null,null,null,null,null,null,null,null,null,null,null,null,null,null,null,null,null,null,null,null,null,null,null,null,null,null,null,null,null,null,null,null,null,"Cifras e Indicadores",1,30,{"$f":"(BD174=Parametros[Segmento])*(BE174>0)*(BF174>0)","v":0}]
[null,"Obligados a presentar el formato 2516 (artículos 1.7.1 y 1.7.2 del Decreto 1625 de 2016) ",1710180000,1908540000,2117925000,{"$f":"+F169*45000","v":2240955000},null,null,null,null,null,null,null,null,null,null,null,null,null,null,null,null,null,null,null,null,null,null,null,null,null,null,null,null,null,null,null,null,null,null,null,null,null,null,null,null,null,null,null,null,null,null,null,null,null,"Cifras e Indicadores",1,40.200000000000003,{"$f":"(BD175=Parametros[Segmento])*(BE175>0)*(BF175>0)","v":0}]
[null,"Monto de ingresos para que la declaración de renta deba ser firmada por un contador ",3800400000,4241200000,4706500000,{"$f":"+F169*100000","v":4979900000},null,null,null,null,null,null,null,null,null,null,null,null,null,null,null,null,null,null,null,null,null,null,null,null,null,null,null,null,null,null,null,null,null,null,null,null,null,null,null,null,null,null,null,null,null,null,null,null,null,"Cifras e Indicadores",1,40.200000000000003,{"$f":"(BD176=Parametros[Segmento])*(BE176>0)*(BF176>0)","v":0}]
[4.5599999999999996,40.67,25.22,25.22,40.67,25.22,25.22,4,null,null,null,null,null,null,null,null,null,null,null,null,null,null,null,null,null,null,null,null,null,null,null,null,null,null,null,null,null,null,null,null,null,null,null,null,null,null,null,null,null,null,null,null,null,null,null,"Vencimientos",0,15,{"$f":"(BD177=Parametros[Segmento])*(BE177>0)*(BF177>0)","v":0}]
[null,null,null,null,null,null,null,null,null,null,null,null,null,null,null,null,null,null,null,null,null,null,null,null,null,null,null,null,null,null,null,null,null,null,null,null,null,null,null,null,null,null,null,null,null,null,null,null,null,null,null,null,null,null,null,"Vencimientos",1,30,{"$f":"(BD178=Parametros[Segmento])*(BE178>0)*(BF178>0)","v":0}]
[null,"Vencimientos presentación declaración de renta año gravable 2024",null,null,null,null,null,null,null,null,null,null,null,null,null,null,null,null,null,null,null,null,null,null,null,null,null,null,null,null,null,null,null,null,null,null,null,null,null,null,null,null,null,null,null,null,null,null,null,null,null,null,null,null,null,"Vencimientos",1,40.200000000000003,{"$f":"(BD179=Parametros[Segmento])*(BE179>0)*(BF179>0)","v":0}]
[null,"Impuesto de renta año gravable 2024 - Personas Jurídicas y \ndemás contribuyentes",null,null,"Impuesto de renta año gravable 2024 - Grandes Contribuyentes",null,null,null,null,null,null,null,null,null,null,null,null,null,null,null,null,null,null,null,null,null,null,null,null,null,null,null,null,null,null,null,null,null,null,null,null,null,null,null,null,null,null,null,null,null,null,null,null,null,null,"Vencimientos",1,50.1,{"$f":"(BD180=Parametros[Segmento])*(BE180>0)*(BF180>0)","v":0}]
[null,"Concepto ","Último(s) dígito(s) del NIT ","Fecha límite ","Concepto ","Último dígito del NIT ","Fecha límite ",null,null,null,null,null,null,null,null,null,null,null,null,null,null,null,null,null,null,null,null,null,null,null,null,null,null,null,null,null,null,null,null,null,null,null,null,null,null,null,null,null,null,null,null,null,null,null,null,"Vencimientos",1,50.1,{"$f":"(BD181=Parametros[Segmento])*(BE181>0)*(BF181>0)","v":0}]
[null,"Declaración y pago primera cuota","1","2025-05-12","Pago primera cuota","1","2025-02-11",null,null,null,null,null,null,null,null,null,null,null,null,null,null,null,null,null,null,null,null,null,null,null,null,null,null,null,null,null,null,null,null,null,null,null,null,null,null,null,null,null,null,null,null,null,null,null,null,"Vencimientos",1,30,{"$f":"(BD182=Parametros[Segmento])*(BE182>0)*(BF182>0)","v":0}]
[null,"Declaración y pago primera cuota","2","2025-05-13","Pago primera cuota","2","2025-02-12",null,null,null,null,null,null,null,null,null,null,null,null,null,null,null,null,null,null,null,null,null,null,null,null,null,null,null,null,null,null,null,null,null,null,null,null,null,null,null,null,null,null,null,null,null,null,null,null,"Vencimientos",1,30,{"$f":"(BD183=Parametros[Segmento])*(BE183>0)*(BF183>0)","v":0}]
[null,"Declaración y pago primera cuota","3","2025-05-14","Pago primera cuota","3","2025-02-13",null,null,null,null,null,null,null,null,null,null,null,null,null,null,null,null,null,null,null,null,null,null,null,null,null,null,null,null,null,null,null,null,null,null,null,null,null,null,null,null,null,null,null,null,null,null,null,null,"Vencimientos",1,30,{"$f":"(BD184=Parametros[Segmento])*(BE184>0)*(BF184>0)","v":0}]
[null,"Declaración y pago primera cuota","4","2025-05-15","Pago primera cuota","4","2025-02-14",null,null,null,null,null,null,null,null,null,null,null,null,null,null,null,null,null,null,null,null,null,null,null,null,null,null,null,null,null,null,null,null,null,null,null,null,null,null,null,null,null,null,null,null,null,null,null,null,"Vencimientos",1,30,{"$f":"(BD185=Parametros[Segmento])*(BE185>0)*(BF185>0)","v":0}]
[null,"Declaración y pago primera cuota","5","2025-05-16","Pago primera cuota","5","2025-02-17",null,null,null,null,null,null,null,null,null,null,null,null,null,null,null,null,null,null,null,null,null,null,null,null,null,null,null,null,null,null,null,null,null,null,null,null,null,null,null,null,null,null,null,null,null,null,null,null,"Vencimientos",1,30,{"$f":"(BD186=Parametros[Segmento])*(BE186>0)*(BF186>0)","v":0}]
[null,"Declaración y pago primera cuota","6","2025-05-19","Pago primera cuota","6","2025-02-18",null,null,null,null,null,null,null,null,null,null,null,null,null,null,null,null,null,null,null,null,null,null,null,null,null,null,null,null,null,null,null,null,null,null,null,null,null,null,null,null,null,null,null,null,null,null,null,null,"Vencimientos",1,30,{"$f":"(BD187=Parametros[Segmento])*(BE187>0)*(BF187>0)","v":0}]
[null,"Declaración y pago primera cuota","7","2025-05-20","Pago primera cuota","7","2025-02-19",null,null,null,null,null,null,null,null,null,null,null,null,null,null,null,null,null,null,null,null,null,null,null,null,null,null,null,null,null,null,null,null,null,null,null,null,null,null,null,null,null,null,null,null,null,null,null,null,"Vencimientos",1,30,{"$f":"(BD188=Parametros[Segmento])*(BE188>0)*(BF188>0)","v":0}]
[null,"Declaración y pago primera cuota","8","2025-05-21","Pago primera cuota","8","2025-02-20",null,null,null,null,null,null,null,null,null,null,null,null,null,null,null,null,null,null,null,null,null,null,null,null,null,null,null,null,null,null,null,null,null,null,null,null,null,null,null,null,null,null,null,null,null,null,null,null,"Vencimientos",1,30,{"$f":"(BD189=Parametros[Segmento])*(BE189>0)*(BF189>0)","v":0}]
[null,"Declaración y pago primera cuota","9","2025-05-22","Pago primera cuota","9","2025-02-21",null,null,null,null,null,null,null,null,null,null,null,null,null,null,null,null,null,null,null,null,null,null,null,null,null,null,null,null,null,null,null,null,null,null,null,null,null,null,null,null,null,null,null,null,null,null,null,null,"Vencimientos",1,30,{"$f":"(BD190=Parametros[Segmento])*(BE190>0)*(BF190>0)","v":0}]
[null,"Declaración y pago primera cuota","0","2025-05-23","Pago primera cuota","0","2025-02-24",null,null,null,null,null,null,null,null,null,null,null,null,null,null,null,null,null,null,null,null,null,null,null,null,null,null,null,null,null,null,null,null,null,null,null,null,null,null,null,null,null,null,null,null,null,null,null,null,"Vencimientos",1,30,{"$f":"(BD191=Parametros[Segmento])*(BE191>0)*(BF191>0)","v":0}]
[null,"Pago segunda cuota","1","2025-07-09","Declaración y pago segunda cuota","1","2025-04-09",null,null,null,null,null,null,null,null,null,null,null,null,null,null,null,null,null,null,null,null,null,null,null,null,null,null,null,null,null,null,null,null,null,null,null,null,null,null,null,null,null,null,null,null,null,null,null,null,"Vencimientos",1,30,{"$f":"(BD192=Parametros[Segmento])*(BE192>0)*(BF192>0)","v":0}]
[null,"Pago segunda cuota","2","2025-07-10","Declaración y pago segunda cuota","2","2025-04-10",null,null,null,null,null,null,null,null,null,null,null,null,null,null,null,null,null,null,null,null,null,null,null,null,null,null,null,null,null,null,null,null,null,null,null,null,null,null,null,null,null,null,null,null,null,null,null,null,"Vencimientos",1,30,{"$f":"(BD193=Parametros[Segmento])*(BE193>0)*(BF193>0)","v":0}]
[null,"Pago segunda cuota","3","2025-07-11","Declaración y pago segunda cuota","3","2025-04-11",null,null,null,null,null,null,null,null,null,null,null,null,null,null,null,null,null,null,null,null,null,null,null,null,null,null,null,null,null,null,null,null,null,null,null,null,null,null,null,null,null,null,null,null,null,null,null,null,"Vencimientos",1,30,{"$f":"(BD194=Parametros[Segmento])*(BE194>0)*(BF194>0)","v":0}]
[null,"Pago segunda cuota","4","2025-07-14","Declaración y pago segunda cuota","4","2025-04-14",null,null,null,null,null,null,null,null,null,null,null,null,null,null,null,null,null,null,null,null,null,null,null,null,null,null,null,null,null,null,null,null,null,null,null,null,null,null,null,null,null,null,null,null,null,null,null,null,"Vencimientos",1,30,{"$f":"(BD195=Parametros[Segmento])*(BE195>0)*(BF195>0)","v":0}]
[null,"Pago segunda cuota","5","2025-07-15","Declaración y pago segunda cuota","5","2025-04-15",null,null,null,null,null,null,null,null,null,null,null,null,null,null,null,null,null,null,null,null,null,null,null,null,null,null,null,null,null,null,null,null,null,null,null,null,null,null,null,null,null,null,null,null,null,null,null,null,"Vencimientos",1,30,{"$f":"(BD196=Parametros[Segmento])*(BE196>0)*(BF196>0)","v":0}]
[null,"Pago segunda cuota","6","2025-07-16","Declaración y pago segunda cuota","6","2025-04-16",null,null,null,null,null,null,null,null,null,null,null,null,null,null,null,null,null,null,null,null,null,null,null,null,null,null,null,null,null,null,null,null,null,null,null,null,null,null,null,null,null,null,null,null,null,null,null,null,"Vencimientos",1,30,{"$f":"(BD197=Parametros[Segmento])*(BE197>0)*(BF197>0)","v":0}]
[null,"Pago segunda cuota","7","2025-07-17","Declaración y pago segunda cuota","7","2025-04-21",null,null,null,null,null,null,null,null,null,null,null,null,null,null,null,null,null,null,null,null,null,null,null,null,null,null,null,null,null,null,null,null,null,null,null,null,null,null,null,null,null,null,null,null,null,null,null,null,"Vencimientos",1,30,{"$f":"(BD198=Parametros[Segmento])*(BE198>0)*(BF198>0)","v":0}]
[null,"Pago segunda cuota","8","2025-07-18","Declaración y pago segunda cuota","8","2025-04-22",null,null,null,null,null,null,null,null,null,null,null,null,null,null,null,null,null,null,null,null,null,null,null,null,null,null,null,null,null,null,null,null,null,null,null,null,null,null,null,null,null,null,null,null,null,null,null,null,"Vencimientos",1,30,{"$f":"(BD199=Parametros[Segmento])*(BE199>0)*(BF199>0)","v":0}]
[null,"Pago segunda cuota","9","2025-07-21","Declaración y pago segunda cuota","9","2025-04-23",null,null,null,null,null,null,null,null,null,null,null,null,null,null,null,null,null,null,null,null,null,null,null,null,null,null,null,null,null,null,null,null,null,null,null,null,null,null,null,null,null,null,null,null,null,null,null,null,"Vencimientos",1,30,{"$f":"(BD200=Parametros[Segmento])*(BE200>0)*(BF200>0)","v":0}]
[null,"Pago segunda cuota","0","2025-07-22","Declaración y pago segunda cuota","0","2025-04-24",null,null,null,null,null,null,null,null,null,null,null,null,null,null,null,null,null,null,null,null,null,null,null,null,null,null,null,null,null,null,null,null,null,null,null,null,null,null,null,null,null,null,null,null,null,null,null,null,"Vencimientos",1,30,{"$f":"(BD201=Parametros[Segmento])*(BE201>0)*(BF201>0)","v":0}]
[null,null,null,null,"Pago tercera cuota","1","2025-06-11",null,null,null,null,null,null,null,null,null,null,null,null,null,null,null,null,null,null,null,null,null,null,null,null,null,null,null,null,null,null,null,null,null,null,null,null,null,null,null,null,null,null,null,null,null,null,null,null,"Vencimientos",1,30,{"$f":"(BD202=Parametros[Segmento])*(BE202>0)*(BF202>0)","v":0}]
[null,null,null,null,"Pago tercera cuota","2","2025-06-12",null,null,null,null,null,null,null,null,null,null,null,null,null,null,null,null,null,null,null,null,null,null,null,null,null,null,null,null,null,null,null,null,null,null,null,null,null,null,null,null,null,null,null,null,null,null,null,null,"Vencimientos",1,30,{"$f":"(BD203=Parametros[Segmento])*(BE203>0)*(BF203>0)","v":0}]
[null,null,null,null,"Pago tercera cuota","3","2025-06-13",null,null,null,null,null,null,null,null,null,null,null,null,null,null,null,null,null,null,null,null,null,null,null,null,null,null,null,null,null,null,null,null,null,null,null,null,null,null,null,null,null,null,null,null,null,null,null,null,"Vencimientos",1,30,{"$f":"(BD204=Parametros[Segmento])*(BE204>0)*(BF204>0)","v":0}]
[null,null,null,null,"Pago tercera cuota","4","2025-06-16",null,null,null,null,null,null,null,null,null,null,null,null,null,null,null,null,null,null,null,null,null,null,null,null,null,null,null,null,null,null,null,null,null,null,null,null,null,null,null,null,null,null,null,null,null,null,null,null,"Vencimientos",1,30,{"$f":"(BD205=Parametros[Segmento])*(BE205>0)*(BF205>0)","v":0}]
[null,null,null,null,"Pago tercera cuota","5","2025-06-17",null,null,null,null,null,null,null,null,null,null,null,null,null,null,null,null,null,null,null,null,null,null,null,null,null,null,null,null,null,null,null,null,null,null,null,null,null,null,null,null,null,null,null,null,null,null,null,null,"Vencimientos",1,30,{"$f":"(BD206=Parametros[Segmento])*(BE206>0)*(BF206>0)","v":0}]
[null,null,null,null,"Pago tercera cuota","6","2025-06-18",null,null,null,null,null,null,null,null,null,null,null,null,null,null,null,null,null,null,null,null,null,null,null,null,null,null,null,null,null,null,null,null,null,null,null,null,null,null,null,null,null,null,null,null,null,null,null,null,"Vencimientos",1,30,{"$f":"(BD207=Parametros[Segmento])*(BE207>0)*(BF207>0)","v":0}]
[null,null,null,null,"Pago tercera cuota","7","2025-06-19",null,null,null,null,null,null,null,null,null,null,null,null,null,null,null,null,null,null,null,null,null,null,null,null,null,null,null,null,null,null,null,null,null,null,null,null,null,null,null,null,null,null,null,null,null,null,null,null,"Vencimientos",1,30,{"$f":"(BD208=Parametros[Segmento])*(BE208>0)*(BF208>0)","v":0}]
[null,null,null,null,"Pago tercera cuota","8","2025-06-20",null,null,null,null,null,null,null,null,null,null,null,null,null,null,null,null,null,null,null,null,null,null,null,null,null,null,null,null,null,null,null,null,null,null,null,null,null,null,null,null,null,null,null,null,null,null,null,null,"Vencimientos",1,30,{"$f":"(BD209=Parametros[Segmento])*(BE209>0)*(BF209>0)","v":0}]
[null,null,null,null,"Pago tercera cuota","9","2025-06-24",null,null,null,null,null,null,null,null,null,null,null,null,null,null,null,null,null,null,null,null,null,null,null,null,null,null,null,null,null,null,null,null,null,null,null,null,null,null,null,null,null,null,null,null,null,null,null,null,"Vencimientos",1,30,{"$f":"(BD210=Parametros[Segmento])*(BE210>0)*(BF210>0)","v":0}]
[null,null,null,null,"Pago tercera cuota","0","2025-06-25",null,null,null,null,null,null,null,null,null,null,null,null,null,null,null,null,null,null,null,null,null,null,null,null,null,null,null,null,null,null,null,null,null,null,null,null,null,null,null,null,null,null,null,null,null,null,null,null,"Vencimientos",1,30,{"$f":"(BD211=Parametros[Segmento])*(BE211>0)*(BF211>0)","v":0}]
[9.7799999999999994,29.78,119.78,14.78,4,null,null,null,null,null,null,null,null,null,null,null,null,null,null,null,null,null,null,null,null,null,null,null,null,null,null,null,null,null,null,null,null,null,null,null,null,null,null,null,null,null,null,null,null,null,null,null,null,null,null,"Tarifas de Impuestos",0,15,{"$f":"(BD212=Parametros[Segmento])*(BE212>0)*(BF212>0)","v":0}]
[null,null,null,null,null,null,null,null,null,null,null,null,null,null,null,null,null,null,null,null,null,null,null,null,null,null,null,null,null,null,null,null,null,null,null,null,null,null,null,null,null,null,null,null,null,null,null,null,null,null,null,null,null,null,null,"Tarifas de Impuestos",1,30,{"$f":"(BD213=Parametros[Segmento])*(BE213>0)*(BF213>0)","v":0}]
[null,"Tarifa del impuesto de renta para personas jurídicas",null,null,null,null,null,null,null,null,null,null,null,null,null,null,null,null,null,null,null,null,null,null,null,null,null,null,null,null,null,null,null,null,null,null,null,null,null,null,null,null,null,null,null,null,null,null,null,null,null,null,null,null,null,"Tarifas de Impuestos",1,30,{"$f":"(BD214=Parametros[Segmento])*(BE214>0)*(BF214>0)","v":0}]
[null,"Norma ","Concepto","Tarifa ",null,null,null,null,null,null,null,null,null,null,null,null,null,null,null,null,null,null,null,null,null,null,null,null,null,null,null,null,null,null,null,null,null,null,null,null,null,null,null,null,null,null,null,null,null,null,null,null,null,null,null,"Tarifas de Impuestos",1,30,{"$f":"(BD215=Parametros[Segmento])*(BE215>0)*(BF215>0)","v":0}]
[null,"Artículo 240 del ET ","General",0.35,null,null,null,null,null,null,null,null,null,null,null,null,null,null,null,null,null,null,null,null,null,null,null,null,null,null,null,null,null,null,null,null,null,null,null,null,null,null,null,null,null,null,null,null,null,null,null,null,null,null,null,"Tarifas de Impuestos",1,30,{"$f":"(BD216=Parametros[Segmento])*(BE216>0)*(BF216>0)","v":0}]
[null,"Artículo 19-4 del ET ","Cooperativas",0.2,null,null,null,null,null,null,null,null,null,null,null,null,null,null,null,null,null,null,null,null,null,null,null,null,null,null,null,null,null,null,null,null,null,null,null,null,null,null,null,null,null,null,null,null,null,null,null,null,null,null,null,"Tarifas de Impuestos",1,30,{"$f":"(BD217=Parametros[Segmento])*(BE217>0)*(BF217>0)","v":0}]
[null,"Artículo 268 de la Ley 1955 de 2019","Sociedad constituida en la ZESE - Dentro de los primeros 5 años de operaciones",0,null,null,null,null,null,null,null,null,null,null,null,null,null,null,null,null,null,null,null,null,null,null,null,null,null,null,null,null,null,null,null,null,null,null,null,null,null,null,null,null,null,null,null,null,null,null,null,null,null,null,null,"Tarifas de Impuestos",1,40.200000000000003,{"$f":"(BD218=Parametros[Segmento])*(BE218>0)*(BF218>0)","v":0}]
[null,"Artículo 268 de la Ley 1955 de 2019","Sociedad constituida en la ZESE - Dentro del 6 y 10 años de operaciones",{"$f":"35%*50%","v":0.17499999999999999},null,null,null,null,null,null,null,null,null,null,null,null,null,null,null,null,null,null,null,null,null,null,null,null,null,null,null,null,null,null,null,null,null,null,null,null,null,null,null,null,null,null,null,null,null,null,null,null,null,null,null,"Tarifas de Impuestos",1,40.200000000000003,{"$f":"(BD219=Parametros[Segmento])*(BE219>0)*(BF219>0)","v":0}]
[null,"Par. 1 Artículo 240-1 del ET ","Usuario de Zonas Francas comerciales",0.35,null,null,null,null,null,null,null,null,null,null,null,null,null,null,null,null,null,null,null,null,null,null,null,null,null,null,null,null,null,null,null,null,null,null,null,null,null,null,null,null,null,null,null,null,null,null,null,null,null,null,null,"Tarifas de Impuestos",1,30,{"$f":"(BD220=Parametros[Segmento])*(BE220>0)*(BF220>0)","v":0}]
[null,"Inciso 1 Artículo 240-1 del ET","Usuario de Zonas Francas no comerciales",0.2,null,null,null,null,null,null,null,null,null,null,null,null,null,null,null,null,null,null,null,null,null,null,null,null,null,null,null,null,null,null,null,null,null,null,null,null,null,null,null,null,null,null,null,null,null,null,null,null,null,null,null,"Tarifas de Impuestos",1,30,{"$f":"(BD221=Parametros[Segmento])*(BE221>0)*(BF221>0)","v":0}]
[null,"Par. 4 Artículo 240-1 del ET ","Usuario de nuevas zonas francas de Cúcuta creadas entre enero de 2017 y diciembre de 2019",0.15,null,null,null,null,null,null,null,null,null,null,null,null,null,null,null,null,null,null,null,null,null,null,null,null,null,null,null,null,null,null,null,null,null,null,null,null,null,null,null,null,null,null,null,null,null,null,null,null,null,null,null,"Tarifas de Impuestos",1,30,{"$f":"(BD222=Parametros[Segmento])*(BE222>0)*(BF222>0)","v":0}]
[null,"Artículos 19 y 356 del ET","Régimen Tributario Especial",0.2,null,null,null,null,null,null,null,null,null,null,null,null,null,null,null,null,null,null,null,null,null,null,null,null,null,null,null,null,null,null,null,null,null,null,null,null,null,null,null,null,null,null,null,null,null,null,null,null,null,null,null,"Tarifas de Impuestos",1,30,{"$f":"(BD223=Parametros[Segmento])*(BE223>0)*(BF223>0)","v":0}]
[null,"Parágrafo 5 del artículo 240 del ET","Servicios prestados en parques temáticos de ecoturismo y/o de agroturismo, cumpliendo las condiciones señaladas en el parágrafo 5 del artículo 240 del ET",0.15,null,null,null,null,null,null,null,null,null,null,null,null,null,null,null,null,null,null,null,null,null,null,null,null,null,null,null,null,null,null,null,null,null,null,null,null,null,null,null,null,null,null,null,null,null,null,null,null,null,null,null,"Tarifas de Impuestos",1,41,{"$f":"(BD224=Parametros[Segmento])*(BE224>0)*(BF224>0)","v":0}]
[null,"Parágrafo 2 artículo 240 del ET ","Empresa industrial y comercial el Estado ",0.09,null,null,null,null,null,null,null,null,null,null,null,null,null,null,null,null,null,null,null,null,null,null,null,null,null,null,null,null,null,null,null,null,null,null,null,null,null,null,null,null,null,null,null,null,null,null,null,null,null,null,null,"Tarifas de Impuestos",1,30,{"$f":"(BD225=Parametros[Segmento])*(BE225>0)*(BF225>0)","v":0}]
[null,"Parágrafo 2 artículo 240 del ET ","Sociedad de economía mixta del orden nacional, departamental, municipal y distrital, en las cuales la participación del Estado sea superior del 90% que ejerzan los monopolios de suerte y azar y de licores y alcoholes.",0.09,null,null,null,null,null,null,null,null,null,null,null,null,null,null,null,null,null,null,null,null,null,null,null,null,null,null,null,null,null,null,null,null,null,null,null,null,null,null,null,null,null,null,null,null,null,null,null,null,null,null,null,"Tarifas de Impuestos",1,40.200000000000003,{"$f":"(BD226=Parametros[Segmento])*(BE226>0)*(BF226>0)","v":0}]
[null,"Artículo 237 de la Ley 1819 de 2016","Micro y pequeñas empresas que inicien actividades en las ZOMAC por el año 2024 (25% de la tarifa general)",{"$f":"35%*25%","v":8.7499999999999994E-2},null,null,null,null,null,null,null,null,null,null,null,null,null,null,null,null,null,null,null,null,null,null,null,null,null,null,null,null,null,null,null,null,null,null,null,null,null,null,null,null,null,null,null,null,null,null,null,null,null,null,null,"Tarifas de Impuestos",1,40.200000000000003,{"$f":"(BD227=Parametros[Segmento])*(BE227>0)*(BF227>0)","v":0}]
[null,"Artículo 237 de la Ley 1819 de 2016","Medianas y grandes empresas que inicien actividades en las ZOMAC por el año 2024 (75% de la tarifa general)",{"$f":"35%*75%","v":0.26249999999999996},null,null,null,null,null,null,null,null,null,null,null,null,null,null,null,null,null,null,null,null,null,null,null,null,null,null,null,null,null,null,null,null,null,null,null,null,null,null,null,null,null,null,null,null,null,null,null,null,null,null,null,"Tarifas de Impuestos",1,40.200000000000003,{"$f":"(BD228=Parametros[Segmento])*(BE228>0)*(BF228>0)","v":0}]
[null,"Parágrafo 7 artículo 240 del ET ","Empresa editorial cuya actividad económica y objeto social sea exclusivamente la edición de libros en los términos de la Ley 98 de 1993",0.15,null,null,null,null,null,null,null,null,null,null,null,null,null,null,null,null,null,null,null,null,null,null,null,null,null,null,null,null,null,null,null,null,null,null,null,null,null,null,null,null,null,null,null,null,null,null,null,null,null,null,null,"Tarifas de Impuestos",1,38.4,{"$f":"(BD229=Parametros[Segmento])*(BE229>0)*(BF229>0)","v":0}]
[null,"Artículo 235-3 del ET ","Mega inversiones en actividades comerciales, industriales y/o de servicios",0.27,null,null,null,null,null,null,null,null,null,null,null,null,null,null,null,null,null,null,null,null,null,null,null,null,null,null,null,null,null,null,null,null,null,null,null,null,null,null,null,null,null,null,null,null,null,null,null,null,null,null,null,"Tarifas de Impuestos",1,40.200000000000003,{"$f":"(BD230=Parametros[Segmento])*(BE230>0)*(BF230>0)","v":0}]
[null,"Artículo 235-3 del ET ","Mega inversiones en servicios hoteleros ",0.09,null,null,null,null,null,null,null,null,null,null,null,null,null,null,null,null,null,null,null,null,null,null,null,null,null,null,null,null,null,null,null,null,null,null,null,null,null,null,null,null,null,null,null,null,null,null,null,null,null,null,null,"Tarifas de Impuestos",1,40.200000000000003,{"$f":"(BD231=Parametros[Segmento])*(BE231>0)*(BF231>0)","v":0}]
[null,null,"Otra tarifa del impuesto de renta ",null,null,null,null,null,null,null,null,null,null,null,null,null,null,null,null,null,null,null,null,null,null,null,null,null,null,null,null,null,null,null,null,null,null,null,null,null,null,null,null,null,null,null,null,null,null,null,null,null,null,null,null,"Tarifas de Impuestos",1,40.200000000000003,{"$f":"(BD232=Parametros[Segmento])*(BE232>0)*(BF232>0)","v":0}]
[1.89,1.89,123.89,31.56,4,null,null,null,null,null,null,null,null,null,null,null,null,null,null,null,null,null,null,null,null,null,null,null,null,null,null,null,null,null,null,null,null,null,null,null,null,null,null,null,null,null,null,null,null,null,null,null,null,null,null,"Datos básicos contribuyente",0,15,{"$f":"(BD233=Parametros[Segmento])*(BE233>0)*(BF233>0)","v":0}]
[null,null,null,null,null,null,null,null,null,null,null,null,null,null,null,null,null,null,null,null,null,null,null,null,null,null,null,null,null,null,null,null,null,null,null,null,null,null,null,null,null,null,null,null,null,null,null,null,null,null,null,null,null,null,null,"Datos básicos contribuyente",1,30,{"$f":"(BD234=Parametros[Segmento])*(BE234>0)*(BF234>0)","v":0}]
[null,null,"Datos básicos del contribuyente",null,null,null,null,null,null,null,null,null,null,null,null,null,null,null,null,null,null,null,null,null,null,null,null,null,null,null,null,null,null,null,null,null,null,null,null,null,null,null,null,null,null,null,null,null,null,null,null,null,null,null,null,"Datos básicos contribuyente",1,30,{"$f":"(BD235=Parametros[Segmento])*(BE235>0)*(BF235>0)","v":0}]
[null,null,"Concepto ","Datos",null,null,null,null,null,null,null,null,null,null,null,null,null,null,null,null,null,null,null,null,null,null,null,null,null,null,null,null,null,null,null,null,null,null,null,null,null,null,null,null,null,null,null,null,null,null,null,null,null,null,null,"Datos básicos contribuyente",1,30,{"$f":"(BD236=Parametros[Segmento])*(BE236>0)*(BF236>0)","v":0}]
[null,null,"Razón social del contribuyente ",null,null,null,null,null,null,null,null,null,null,null,null,null,null,null,null,null,null,null,null,null,null,null,null,null,null,null,null,null,null,null,null,null,null,null,null,null,null,null,null,null,null,null,null,null,null,null,null,null,null,null,null,"Datos básicos contribuyente",1,30,{"$f":"(BD237=Parametros[Segmento])*(BE237>0)*(BF237>0)","v":0}]
[null,null,"NIT del contribuyente ",null,null,null,null,null,null,null,null,null,null,null,null,null,null,null,null,null,null,null,null,null,null,null,null,null,null,null,null,null,null,null,null,null,null,null,null,null,null,null,null,null,null,null,null,null,null,null,null,null,null,null,null,"Datos básicos contribuyente",1,30,{"$f":"(BD238=Parametros[Segmento])*(BE238>0)*(BF238>0)","v":0}]
[null,null,"Dígito de verificación",{"$f":"IF(MOD((VALUE(MID(TEXT(' '!D238,\"000000000000000\"),15,1))*3+VALUE(MID(TEXT(' '!D238,\"000000000000000\"),14,1))*7+VALUE(MID(TEXT(' '!D238,\"000000000000000\"),13,1))*13+VALUE(MID(TEXT(' '!D238,\"000000000000000\"),12,1))*17+VALUE(MID(TEXT(' '!D238,\"000000000000000\"),11,1))*19+VALUE(MID(TEXT(' '!D238,\"000000000000000\"),10,1))*23+VALUE(MID(TEXT(' '!D238,\"000000000000000\"),9,1))*29+VALUE(MID(TEXT(' '!D238,\"000000000000000\"),8,1))*37+VALUE(MID(TEXT(' '!D238,\"000000000000000\"),7,1))*41+VALUE(MID(TEXT(' '!D238,\"000000000000000\"),6,1))*43+VALUE(MID(TEXT(' '!D238,\"000000000000000\"),5,1))*47+VALUE(MID(TEXT(' '!D238,\"000000000000000\"),4,1))*53+VALUE(MID(TEXT(' '!D238,\"000000000000000\"),3,1))*59+VALUE(MID(TEXT(' '!D238,\"000000000000000\"),2,1))*67+VALUE(MID(TEXT(' '!D238,\"000000000000000\"),1,1))*71),11)=0,0,IF(MOD((VALUE(MID(TEXT(' '!D238,\"000000000000000\"),15,1))*3+VALUE(MID(TEXT(' '!D238,\"000000000000000\"),14,1))*7+VALUE(MID(TEXT(' '!D238,\"000000000000000\"),13,1))*13+VALUE(MID(TEXT(' '!D238,\"000000000000000\"),12,1))*17+VALUE(MID(TEXT(' '!D238,\"000000000000000\"),11,1))*19+VALUE(MID(TEXT(' '!D238,\"000000000000000\"),10,1))*23+VALUE(MID(TEXT(' '!D238,\"000000000000000\"),9,1))*29+VALUE(MID(TEXT(' '!D238,\"000000000000000\"),8,1))*37+VALUE(MID(TEXT(' '!D238,\"000000000000000\"),7,1))*41+VALUE(MID(TEXT(' '!D238,\"000000000000000\"),6,1))*43+VALUE(MID(TEXT(' '!D238,\"000000000000000\"),5,1))*47+VALUE(MID(TEXT(' '!D238,\"000000000000000\"),4,1))*53+VALUE(MID(TEXT(' '!D238,\"000000000000000\"),3,1))*59+VALUE(MID(TEXT(' '!D238,\"000000000000000\"),2,1))*67+VALUE(MID(TEXT(' '!D238,\"000000000000000\"),1,1))*71),11)=1,1,11-(MOD((VALUE(MID(TEXT(' '!D238,\"000000000000000\"),15,1))*3+VALUE(MID(TEXT(' '!D238,\"000000000000000\"),14,1))*7+VALUE(MID(TEXT(' '!D238,\"000000000000000\"),13,1))*13+VALUE(MID(TEXT(' '!D238,\"000000000000000\"),12,1))*17+VALUE(MID(TEXT(' '!D238,\"000000000000000\"),11,1))*19+VALUE(MID(TEXT(' '!D238,\"000000000000000\"),10,1))*23+VALUE(MID(TEXT(' '!D238,\"000000000000000\"),9,1))*29+VALUE(MID(TEXT(' '!D238,\"000000000000000\"),8,1))*37+VALUE(MID(TEXT(' '!D238,\"000000000000000\"),7,1))*41+VALUE(MID(TEXT(' '!D238,\"000000000000000\"),6,1))*43+VALUE(MID(TEXT(' '!D238,\"000000000000000\"),5,1))*47+VALUE(MID(TEXT(' '!D238,\"000000000000000\"),4,1))*53+VALUE(MID(TEXT(' '!D238,\"000000000000000\"),3,1))*59+VALUE(MID(TEXT(' '!D238,\"000000000000000\"),2,1))*67+VALUE(MID(TEXT(' '!D238,\"000000000000000\"),1,1))*71),11))))","v":0},null,null,null,null,null,null,null,null,null,null,null,null,null,null,null,null,null,null,null,null,null,null,null,null,null,null,null,null,null,null,null,null,null,null,null,null,null,null,null,null,null,null,null,null,null,null,null,null,null,null,null,"Datos básicos contribuyente",1,30,{"$f":"(BD239=Parametros[Segmento])*(BE239>0)*(BF239>0)","v":0}]
[null,null,"Último dígito del NIT",{"$f":"+RIGHT(D238,1)","v":""},null,null,null,null,null,null,null,null,null,null,null,null,null,null,null,null,null,null,null,null,null,null,null,null,null,null,null,null,null,null,null,null,null,null,null,null,null,null,null,null,null,null,null,null,null,null,null,null,null,null,null,"Datos básicos contribuyente",0,30,{"$f":"(BD240=Parametros[Segmento])*(BE240>0)*(BF240>0)","v":0}]
[null,null,"Últimos dos dígitos del NIT ",{"$f":"+RIGHT(D238,2)","v":""},null,null,null,null,null,null,null,null,null,null,null,null,null,null,null,null,null,null,null,null,null,null,null,null,null,null,null,null,null,null,null,null,null,null,null,null,null,null,null,null,null,null,null,null,null,null,null,null,null,null,null,"Datos básicos contribuyente",0,30,{"$f":"(BD241=Parametros[Segmento])*(BE241>0)*(BF241>0)","v":0}]
[null,null,"Actividad principal del contribuyente ",null,null,null,null,null,null,null,null,null,null,null,null,null,null,null,null,null,null,null,null,null,null,null,null,null,null,null,null,null,null,null,null,null,null,null,null,null,null,null,null,null,null,null,null,null,null,null,null,null,null,null,null,"Datos básicos contribuyente",1,{"$f":"30+(INT(LEN($D$242)/30))*12","v":30},{"$f":"(BD242=Parametros[Segmento])*(BE242>0)*(BF242>0)","v":0}]
[null,null,"Código dirección seccional DIAN",null,null,null,null,null,null,null,null,null,null,null,null,null,null,null,null,null,null,null,null,null,null,null,null,null,null,null,null,null,null,null,null,null,null,null,null,null,null,null,null,null,null,null,null,null,null,null,null,null,null,null,null,"Datos básicos contribuyente",1,{"$f":"30+(INT(LEN($D$243)/30))*12","v":30},{"$f":"(BD243=Parametros[Segmento])*(BE243>0)*(BF243>0)","v":0}]
[null,null,"Al contribuyente le aplica alguna condición especial ",null,null,null,null,null,null,null,null,null,null,null,null,null,null,null,null,null,null,null,null,null,null,null,null,null,null,null,null,null,null,null,null,null,null,null,null,null,null,null,null,null,null,null,null,null,null,null,null,null,null,null,null,"Datos básicos contribuyente",1,30,{"$f":"(BD244=Parametros[Segmento])*(BE244>0)*(BF244>0)","v":0}]
[null,null,"Seleccione la condición que le aplica al contribuyente ",null,null,null,null,null,null,null,null,null,null,null,null,null,null,null,null,null,null,null,null,null,null,null,null,null,null,null,null,null,null,null,null,null,null,null,null,null,null,null,null,null,null,null,null,null,null,null,null,null,null,null,null,"Datos básicos contribuyente",{"$f":"IF(Obligatorio_Condicion_Especial_SN=Listas!$B$2,1,0)","v":0},30,{"$f":"(BD245=Parametros[Segmento])*(BE245>0)*(BF245>0)","v":0}]
[null,null,"Tarifa del impuesto de renta que le aplica al contribuyente",{"$f":"IFERROR(IF(D244=\"No\",' '!D216,VLOOKUP(' '!D245,' '!C216:D232,2,0)),\"\")","v":""},null,null,null,null,null,null,null,null,null,null,null,null,null,null,null,null,null,null,null,null,null,null,null,null,null,null,null,null,null,null,null,null,null,null,null,null,null,null,null,null,null,null,null,null,null,null,null,null,null,null,null,"Datos básicos contribuyente",1,30,{"$f":"(BD246=Parametros[Segmento])*(BE246>0)*(BF246>0)","v":0}]
[null,null,"El contribuyente es Gran Contribuyente",null,null,null,null,null,null,null,null,null,null,null,null,null,null,null,null,null,null,null,null,null,null,null,null,null,null,null,null,null,null,null,null,null,null,null,null,null,null,null,null,null,null,null,null,null,null,null,null,null,null,null,null,"Datos básicos contribuyente",1,30,{"$f":"(BD247=Parametros[Segmento])*(BE247>0)*(BF247>0)","v":0}]
[null,null,"Cuántas veces a presentado la declaración de renta el contribuyente",null,null,null,null,null,null,null,null,null,null,null,null,null,null,null,null,null,null,null,null,null,null,null,null,null,null,null,null,null,null,null,null,null,null,null,null,null,null,null,null,null,null,null,null,null,null,null,null,null,null,null,null,"Datos básicos contribuyente",1,30,{"$f":"(BD248=Parametros[Segmento])*(BE248>0)*(BF248>0)","v":0}]
[null,null,null,null,null,null,null,null,null,null,null,null,null,null,null,null,null,null,null,null,null,null,null,null,null,null,null,null,null,null,null,null,null,null,null,null,null,null,null,null,null,null,null,null,null,null,null,null,null,null,null,null,null,null,null,"Datos básicos contribuyente",1,30,{"$f":"(BD249=Parametros[Segmento])*(BE249>0)*(BF249>0)","v":0}]
[null,null,"Información declaración de renta del año anterior ",null,null,null,null,null,null,null,null,null,null,null,null,null,null,null,null,null,null,null,null,null,null,null,null,null,null,null,null,null,null,null,null,null,null,null,null,null,null,null,null,null,null,null,null,null,null,null,null,null,null,null,null,"Datos básicos contribuyente",1,30,{"$f":"(BD250=Parametros[Segmento])*(BE250>0)*(BF250>0)","v":0}]
[null,null,"Concepto ","Datos",null,null,null,null,null,null,null,null,null,null,null,null,null,null,null,null,null,null,null,null,null,null,null,null,null,null,null,null,null,null,null,null,null,null,null,null,null,null,null,null,null,null,null,null,null,null,null,null,null,null,null,"Datos básicos contribuyente",1,30,{"$f":"(BD251=Parametros[Segmento])*(BE251>0)*(BF251>0)","v":0}]
[null,null,"Patrimonio bruto del año gravable anterior (a 31 de diciembre de 2023)",null,null,null,null,null,null,null,null,null,null,null,null,null,null,null,null,null,null,null,null,null,null,null,null,null,null,null,null,null,null,null,null,null,null,null,null,null,null,null,null,null,null,null,null,null,null,null,null,null,null,null,null,"Datos básicos contribuyente",1,30,{"$f":"(BD252=Parametros[Segmento])*(BE252>0)*(BF252>0)","v":0}]
[null,null,"Patrimonio líquido del año gravable anterior (a 31 de diciembre de 2023)",null,null,null,null,null,null,null,null,null,null,null,null,null,null,null,null,null,null,null,null,null,null,null,null,null,null,null,null,null,null,null,null,null,null,null,null,null,null,null,null,null,null,null,null,null,null,null,null,null,null,null,null,"Datos básicos contribuyente",1,30,{"$f":"(BD253=Parametros[Segmento])*(BE253>0)*(BF253>0)","v":0}]
[null,null,"Impuesto neto de renta del año gravable anterior (casilla 94 F110 AG 2023)",null,null,null,null,null,null,null,null,null,null,null,null,null,null,null,null,null,null,null,null,null,null,null,null,null,null,null,null,null,null,null,null,null,null,null,null,null,null,null,null,null,null,null,null,null,null,null,null,null,null,null,null,"Datos básicos contribuyente",1,30,{"$f":"(BD254=Parametros[Segmento])*(BE254>0)*(BF254>0)","v":0}]
[null,null,"Saldo a pagar año gravable anterior (casilla 113 F110 AG 2023)",null,null,null,null,null,null,null,null,null,null,null,null,null,null,null,null,null,null,null,null,null,null,null,null,null,null,null,null,null,null,null,null,null,null,null,null,null,null,null,null,null,null,null,null,null,null,null,null,null,null,null,null,"Datos básicos contribuyente",1,30,{"$f":"(BD255=Parametros[Segmento])*(BE255>0)*(BF255>0)","v":0}]
[null,null,"Saldo a favor año gravable anterior, sin solicitud de devolución y/o compensación (casilla 114 F110 AG 2023)",null,null,null,null,null,null,null,null,null,null,null,null,null,null,null,null,null,null,null,null,null,null,null,null,null,null,null,null,null,null,null,null,null,null,null,null,null,null,null,null,null,null,null,null,null,null,null,null,null,null,null,null,"Datos básicos contribuyente",1,30,{"$f":"(BD256=Parametros[Segmento])*(BE256>0)*(BF256>0)","v":0}]
[null,null,"Anticipo de renta calculado en la declaración de renta año gravable anterior (casilla 108 F110 AG 2023)",null,null,null,null,null,null,null,null,null,null,null,null,null,null,null,null,null,null,null,null,null,null,null,null,null,null,null,null,null,null,null,null,null,null,null,null,null,null,null,null,null,null,null,null,null,null,null,null,null,null,null,null,"Datos básicos contribuyente",1,30,{"$f":"(BD257=Parametros[Segmento])*(BE257>0)*(BF257>0)","v":0}]
[null,null,"Anticipo sobretasas instituciones financieras calculado en la declaración de renta año gravable anterior (casilla F110 AG 2023)",null,null,null,null,null,null,null,null,null,null,null,null,null,null,null,null,null,null,null,null,null,null,null,null,null,null,null,null,null,null,null,null,null,null,null,null,null,null,null,null,null,null,null,null,null,null,null,null,null,null,null,null,"Datos básicos contribuyente",{"$f":"IFERROR((AND(Obligatorio_Condicion_Especial_SN=\"Sí\",Obligatorio_Condicion_Especial=\"Entidades Financieras\"))*1,0)","v":0},30,{"$f":"(BD258=Parametros[Segmento])*(BE258>0)*(BF258>0)","v":0}]
[null,null,"¿El contribuyente tiene pérdidas fiscales por compensar?",null,null,null,null,null,null,null,null,null,null,null,null,null,null,null,null,null,null,null,null,null,null,null,null,null,null,null,null,null,null,null,null,null,null,null,null,null,null,null,null,null,null,null,null,null,null,null,null,null,null,null,null,"Datos básicos contribuyente",1,30,{"$f":"(BD259=Parametros[Segmento])*(BE259>0)*(BF259>0)","v":0}]
[null,null,"Pérdidas fiscales acumuladas, sin compensar",null,null,null,null,null,null,null,null,null,null,null,null,null,null,null,null,null,null,null,null,null,null,null,null,null,null,null,null,null,null,null,null,null,null,null,null,null,null,null,null,null,null,null,null,null,null,null,null,null,null,null,null,"Datos básicos contribuyente",1,30,{"$f":"(BD260=Parametros[Segmento])*(BE260>0)*(BF260>0)","v":0}]
[null,null,"¿El contribuyente tiene excesos de renta presuntiva por compensar?",null,null,null,null,null,null,null,null,null,null,null,null,null,null,null,null,null,null,null,null,null,null,null,null,null,null,null,null,null,null,null,null,null,null,null,null,null,null,null,null,null,null,null,null,null,null,null,null,null,null,null,null,"Datos básicos contribuyente",1,30,{"$f":"(BD261=Parametros[Segmento])*(BE261>0)*(BF261>0)","v":0}]
[null,null,"Excesos de renta presuntiva, sin compensar",null,null,null,null,null,null,null,null,null,null,null,null,null,null,null,null,null,null,null,null,null,null,null,null,null,null,null,null,null,null,null,null,null,null,null,null,null,null,null,null,null,null,null,null,null,null,null,null,null,null,null,null,"Datos básicos contribuyente",1,30,{"$f":"(BD262=Parametros[Segmento])*(BE262>0)*(BF262>0)","v":0}]
[null,null,null,null,null,null,null,null,null,null,null,null,null,null,null,null,null,null,null,null,null,null,null,null,null,null,null,null,null,null,null,null,null,null,null,null,null,null,null,null,null,null,null,null,null,null,null,null,null,null,null,null,null,null,null,"Datos básicos contribuyente",1,30,{"$f":"(BD263=Parametros[Segmento])*(BE263>0)*(BF263>0)","v":0}]
[null,null,"Información adicional para diligenciar la declaración de renta",null,null,null,null,null,null,null,null,null,null,null,null,null,null,null,null,null,null,null,null,null,null,null,null,null,null,null,null,null,null,null,null,null,null,null,null,null,null,null,null,null,null,null,null,null,null,null,null,null,null,null,null,"Datos básicos contribuyente",1,30,{"$f":"(BD264=Parametros[Segmento])*(BE264>0)*(BF264>0)","v":0}]
[null,null,"Concepto ","Datos",null,null,null,null,null,null,null,null,null,null,null,null,null,null,null,null,null,null,null,null,null,null,null,null,null,null,null,null,null,null,null,null,null,null,null,null,null,null,null,null,null,null,null,null,null,null,null,null,null,null,null,"Datos básicos contribuyente",1,30,{"$f":"(BD265=Parametros[Segmento])*(BE265>0)*(BF265>0)","v":0}]
[null,null,"¿El contribuyente realizó inversión directa en la ejecución de proyectos viabilizados y prioritarios de trascendencia social en los diferentes municipios ubicados en las ZOMAC?",null,null,null,null,null,null,null,null,null,null,null,null,null,null,null,null,null,null,null,null,null,null,null,null,null,null,null,null,null,null,null,null,null,null,null,null,null,null,null,null,null,null,null,null,null,null,null,null,null,null,null,null,"Datos básicos contribuyente",1,30,{"$f":"(BD266=Parametros[Segmento])*(BE266>0)*(BF266>0)","v":0}]
[null,null,"Registre el valor de la inversión ",null,null,null,null,null,null,null,null,null,null,null,null,null,null,null,null,null,null,null,null,null,null,null,null,null,null,null,null,null,null,null,null,null,null,null,null,null,null,null,null,null,null,null,null,null,null,null,null,null,null,null,null,"Datos básicos contribuyente",{"$f":"IF($D$266=Listas!$B$2,1,0)","v":0},30,{"$f":"(BD267=Parametros[Segmento])*(BE267>0)*(BF267>0)","v":0}]
[null,null,"Seleccione la modalidad de pago ",null,null,null,null,null,null,null,null,null,null,null,null,null,null,null,null,null,null,null,null,null,null,null,null,null,null,null,null,null,null,null,null,null,null,null,null,null,null,null,null,null,null,null,null,null,null,null,null,null,null,null,null,"Datos básicos contribuyente",{"$f":"IF($D$266=Listas!$B$2,1,0)","v":0},30,{"$f":"(BD268=Parametros[Segmento])*(BE268>0)*(BF268>0)","v":0}]
[null,null,"Registre el valor del impuesto exigible por Obras por Impuestos (Modalidad de pago 1)",null,null,null,null,null,null,null,null,null,null,null,null,null,null,null,null,null,null,null,null,null,null,null,null,null,null,null,null,null,null,null,null,null,null,null,null,null,null,null,null,null,null,null,null,null,null,null,null,null,null,null,null,"Datos básicos contribuyente",{"$f":"IF($D$268=Listas!$C$2,1,0)*BE268","v":0},30,{"$f":"(BD269=Parametros[Segmento])*(BE269>0)*(BF269>0)","v":0}]
[null,null,"Registre el valor total del proyecto  Obras por Impuestos (Modalidad de pago 2)",null,null,null,null,null,null,null,null,null,null,null,null,null,null,null,null,null,null,null,null,null,null,null,null,null,null,null,null,null,null,null,null,null,null,null,null,null,null,null,null,null,null,null,null,null,null,null,null,null,null,null,null,"Datos básicos contribuyente",{"$f":"IF($D$268=Listas!$C$3,1,0)*BE268","v":0},30,{"$f":"(BD270=Parametros[Segmento])*(BE270>0)*(BF270>0)","v":0}]
[null,null,"¿El contribuyente cuenta con un crédito fiscal otorgado en los términos del artículo 256-1 del ET?",null,null,null,null,null,null,null,null,null,null,null,null,null,null,null,null,null,null,null,null,null,null,null,null,null,null,null,null,null,null,null,null,null,null,null,null,null,null,null,null,null,null,null,null,null,null,null,null,null,null,null,null,"Datos básicos contribuyente",1,30,{"$f":"(BD271=Parametros[Segmento])*(BE271>0)*(BF271>0)","v":0}]
[null,null,"Registre el valor del crédito fiscal ",null,null,null,null,null,null,null,null,null,null,null,null,null,null,null,null,null,null,null,null,null,null,null,null,null,null,null,null,null,null,null,null,null,null,null,null,null,null,null,null,null,null,null,null,null,null,null,null,null,null,null,null,"Datos básicos contribuyente",{"$f":"IF(D271=Listas!$B$2,BE271,0)","v":0},30,{"$f":"(BD272=Parametros[Segmento])*(BE272>0)*(BF272>0)","v":0}]
[null,null,"¿El contribuyente (ESAL) realizó inversiones durante el año?",null,null,null,null,null,null,null,null,null,null,null,null,null,null,null,null,null,null,null,null,null,null,null,null,null,null,null,null,null,null,null,null,null,null,null,null,null,null,null,null,null,null,null,null,null,null,null,null,null,null,null,null,"Datos básicos contribuyente",{"$f":"IF(AND(Obligatorio_Condicion_Especial_SN=\"Sí\",Obligatorio_Condicion_Especial=$C$223),1,0)","v":0},30,{"$f":"(BD273=Parametros[Segmento])*(BE273>0)*(BF273>0)","v":0}]
[null,null,"Registre el valor de las inversiones realizadas durante el año",null,null,null,null,null,null,null,null,null,null,null,null,null,null,null,null,null,null,null,null,null,null,null,null,null,null,null,null,null,null,null,null,null,null,null,null,null,null,null,null,null,null,null,null,null,null,null,null,null,null,null,null,"Datos básicos contribuyente",{"$f":"IF(D273=Listas!$B$2,BE273,0)","v":0},30,{"$f":"(BD274=Parametros[Segmento])*(BE274>0)*(BF274>0)","v":0}]
[null,null,"¿El contribuyente (ESAL) liquidó inversiones constituidas en periodos gravables anteriores?",null,null,null,null,null,null,null,null,null,null,null,null,null,null,null,null,null,null,null,null,null,null,null,null,null,null,null,null,null,null,null,null,null,null,null,null,null,null,null,null,null,null,null,null,null,null,null,null,null,null,null,null,"Datos básicos contribuyente",{"$f":"IF(AND(Obligatorio_Condicion_Especial_SN=\"Sí\",Obligatorio_Condicion_Especial=$C$223),1,0)","v":0},30,{"$f":"(BD275=Parametros[Segmento])*(BE275>0)*(BF275>0)","v":0}]
[null,null,"Registre el valor de las inversiones constituidas en periodos gravables anteriores, liquidadas durante el año ",null,null,null,null,null,null,null,null,null,null,null,null,null,null,null,null,null,null,null,null,null,null,null,null,null,null,null,null,null,null,null,null,null,null,null,null,null,null,null,null,null,null,null,null,null,null,null,null,null,null,null,null,"Datos básicos contribuyente",{"$f":"IF(D275=Listas!$B$2,BE275,0)","v":0},30,{"$f":"(BD276=Parametros[Segmento])*(BE276>0)*(BF276>0)","v":0}]
[null,null,"¿El contribuyente desea realizar el aporte voluntario de que trata el artículo 244-1 del ET?",null,null,null,null,null,null,null,null,null,null,null,null,null,null,null,null,null,null,null,null,null,null,null,null,null,null,null,null,null,null,null,null,null,null,null,null,null,null,null,null,null,null,null,null,null,null,null,null,null,null,null,null,"Datos básicos contribuyente",1,30,{"$f":"(BD277=Parametros[Segmento])*(BE277>0)*(BF277>0)","v":0}]
[null,null,"Registre el valor de aporte voluntario que el contribuyente desea realizar",null,null,null,null,null,null,null,null,null,null,null,null,null,null,null,null,null,null,null,null,null,null,null,null,null,null,null,null,null,null,null,null,null,null,null,null,null,null,null,null,null,null,null,null,null,null,null,null,null,null,null,null,"Datos básicos contribuyente",{"$f":"IF(D277=Listas!$B$2,BE277,0)","v":0},30,{"$f":"(BD278=Parametros[Segmento])*(BE278>0)*(BF278>0)","v":0}]
[null,null,"¿El contribuyente es una pequeña central hidroeléctrica con capacidad instalada igual o menor a mil Kilovatios (1.000Kw)?",null,null,null,null,null,null,null,null,null,null,null,null,null,null,null,null,null,null,null,null,null,null,null,null,null,null,null,null,null,null,null,null,null,null,null,null,null,null,null,null,null,null,null,null,null,null,null,null,null,null,null,null,"Datos básicos contribuyente",1,30,{"$f":"(BD279=Parametros[Segmento])*(BE279>0)*(BF279>0)","v":0}]
[null,null,null,null,null,null,null,null,null,null,null,null,null,null,null,null,null,null,null,null,null,null,null,null,null,null,null,null,null,null,null,null,null,null,null,null,null,null,null,null,null,null,null,null,null,null,null,null,null,null,null,null,null,null,null,"Datos básicos contribuyente",1,30,{"$f":"(BD280=Parametros[Segmento])*(BE280>0)*(BF280>0)","v":0}]
[null,null,"Plazo para presentar la declaración y pagar el impuesto de renta",null,null,null,null,null,null,null,null,null,null,null,null,null,null,null,null,null,null,null,null,null,null,null,null,null,null,null,null,null,null,null,null,null,null,null,null,null,null,null,null,null,null,null,null,null,null,null,null,null,null,null,null,"Datos básicos contribuyente",{"$f":"IF(Obligatorio_Gran_Contribuyente=\"Sí\",0,1)","v":1},30,{"$f":"(BD281=Parametros[Segmento])*(BE281>0)*(BF281>0)","v":0}]
[null,null,"Concepto ","Datos",null,null,null,null,null,null,null,null,null,null,null,null,null,null,null,null,null,null,null,null,null,null,null,null,null,null,null,null,null,null,null,null,null,null,null,null,null,null,null,null,null,null,null,null,null,null,null,null,null,null,null,"Datos básicos contribuyente",1,30,{"$f":"(BD282=Parametros[Segmento])*(BE282>0)*(BF282>0)","v":0}]
[null,null,"Fecha de vencimiento del plazo para presentar la declaración de renta y pagar la primera cuota",{"$f":"+VLOOKUP(D240,' '!C182:D191,2,0)","v":{"$error":"#N/A"}},null,null,null,null,null,null,null,null,null,null,null,null,null,null,null,null,null,null,null,null,null,null,null,null,null,null,null,null,null,null,null,null,null,null,null,null,null,null,null,null,null,null,null,null,null,null,null,null,null,null,null,"Datos básicos contribuyente",1,30,{"$f":"(BD283=Parametros[Segmento])*(BE283>0)*(BF283>0)","v":0}]
[null,null,"Fecha de vencimiento para pagar la segunda cuota del impuesto de renta",{"$f":"IF(D247=\"No\",IF(D238>0,VLOOKUP(D240,' '!C192:D201,2,0),\"\"),\"\")","v":""},null,null,null,null,null,null,null,null,null,null,null,null,null,null,null,null,null,null,null,null,null,null,null,null,null,null,null,null,null,null,null,null,null,null,null,null,null,null,null,null,null,null,null,null,null,null,null,null,null,null,null,"Datos básicos contribuyente",1,30,{"$f":"(BD284=Parametros[Segmento])*(BE284>0)*(BF284>0)","v":0}]
[null,null,"Fecha en la cual el contribuyente presentará la declaración de renta",null,null,null,null,null,null,null,null,null,null,null,null,null,null,null,null,null,null,null,null,null,null,null,null,null,null,null,null,null,null,null,null,null,null,null,null,null,null,null,null,null,null,null,null,null,null,null,null,null,null,null,null,"Datos básicos contribuyente",1,30,{"$f":"(BD285=Parametros[Segmento])*(BE285>0)*(BF285>0)","v":0}]
[null,null,"Mes o fracción de extemporaneidad",{"$f":"IFERROR(IF(D283>0,IF(ROUNDUP((DAYS360(D283,D285)/30),0)>0,ROUNDUP((DAYS360(D283,D285)/30),0),0),\"\"),\"\")","v":""},null,null,null,null,null,null,null,null,null,null,null,null,null,null,null,null,null,null,null,null,null,null,null,null,null,null,null,null,null,null,null,null,null,null,null,null,null,null,null,null,null,null,null,null,null,null,null,null,null,null,null,"Datos básicos contribuyente",1,30,{"$f":"(BD286=Parametros[Segmento])*(BE286>0)*(BF286>0)","v":0}]
[null,null,"La declaración se presentará de forma extemporánea ",{"$f":"+IF(D286=\"\",\"\",IF(D286<=0,\"No\",\"Sí\"))","v":""},null,null,null,null,null,null,null,null,null,null,null,null,null,null,null,null,null,null,null,null,null,null,null,null,null,null,null,null,null,null,null,null,null,null,null,null,null,null,null,null,null,null,null,null,null,null,null,null,null,null,null,"Datos básicos contribuyente",1,30,{"$f":"(BD287=Parametros[Segmento])*(BE287>0)*(BF287>0)","v":0}]
[null,null,"¿El contribuyente recibió un emplazamiento por no declarar?",null,null,null,null,null,null,null,null,null,null,null,null,null,null,null,null,null,null,null,null,null,null,null,null,null,null,null,null,null,null,null,null,null,null,null,null,null,null,null,null,null,null,null,null,null,null,null,null,null,null,null,null,"Datos básicos contribuyente",{"$f":"($D$287=\"Sí\")*BE287","v":0},30,{"$f":"(BD288=Parametros[Segmento])*(BE288>0)*(BF288>0)","v":0}]
[null,null,null,null,null,null,null,null,null,null,null,null,null,null,null,null,null,null,null,null,null,null,null,null,null,null,null,null,null,null,null,null,null,null,null,null,null,null,null,null,null,null,null,null,null,null,null,null,null,null,null,null,null,null,null,"Datos básicos contribuyente",{"$f":"IF(Obligatorio_Gran_Contribuyente=\"Sí\",0,1)","v":1},30,{"$f":"(BD289=Parametros[Segmento])*(BE289>0)*(BF289>0)","v":0}]
[null,null,"Plazo para presentar la declaración y pagar el impuesto de renta",null,null,null,null,null,null,null,null,null,null,null,null,null,null,null,null,null,null,null,null,null,null,null,null,null,null,null,null,null,null,null,null,null,null,null,null,null,null,null,null,null,null,null,null,null,null,null,null,null,null,null,null,"Datos básicos contribuyente",{"$f":"IF(Obligatorio_Gran_Contribuyente=Listas!$B$2,1,0)","v":0},30,{"$f":"(BD290=Parametros[Segmento])*(BE290>0)*(BF290>0)","v":0}]
[null,null,"Concepto ","Datos",null,null,null,null,null,null,null,null,null,null,null,null,null,null,null,null,null,null,null,null,null,null,null,null,null,null,null,null,null,null,null,null,null,null,null,null,null,null,null,null,null,null,null,null,null,null,null,null,null,null,null,"Datos básicos contribuyente",{"$f":"IF(Obligatorio_Gran_Contribuyente=Listas!$B$2,1,0)","v":0},30,{"$f":"(BD291=Parametros[Segmento])*(BE291>0)*(BF291>0)","v":0}]
[null,null,"Fecha de vencimiento para pagar la primera cuota del impuesto de renta",{"$f":"+IF(D247=\"Sí\",VLOOKUP(D240,' '!F182:G191,2,0),\"\")","v":""},null,null,null,null,null,null,null,null,null,null,null,null,null,null,null,null,null,null,null,null,null,null,null,null,null,null,null,null,null,null,null,null,null,null,null,null,null,null,null,null,null,null,null,null,null,null,null,null,null,null,null,"Datos básicos contribuyente",{"$f":"IF(Obligatorio_Gran_Contribuyente=Listas!$B$2,1,0)","v":0},30,{"$f":"(BD292=Parametros[Segmento])*(BE292>0)*(BF292>0)","v":0}]
[null,null,"Fecha de vencimiento del plazo para presentar la declaración de renta y pagar la segunda cuota",{"$f":"+IF(D247=\"Sí\",VLOOKUP(D240,' '!F192:G201,2,0),\"\")","v":""},null,null,null,null,null,null,null,null,null,null,null,null,null,null,null,null,null,null,null,null,null,null,null,null,null,null,null,null,null,null,null,null,null,null,null,null,null,null,null,null,null,null,null,null,null,null,null,null,null,null,null,"Datos básicos contribuyente",{"$f":"IF(Obligatorio_Gran_Contribuyente=Listas!$B$2,1,0)","v":0},30,{"$f":"(BD293=Parametros[Segmento])*(BE293>0)*(BF293>0)","v":0}]
[null,null,"Fecha de vencimiento para pagar la tercera cuota del impuesto de renta",{"$f":"+IF(D247=\"Sí\",VLOOKUP(D240,' '!F202:G211,2,0),\"\")","v":""},null,null,null,null,null,null,null,null,null,null,null,null,null,null,null,null,null,null,null,null,null,null,null,null,null,null,null,null,null,null,null,null,null,null,null,null,null,null,null,null,null,null,null,null,null,null,null,null,null,null,null,"Datos básicos contribuyente",{"$f":"IF(Obligatorio_Gran_Contribuyente=Listas!$B$2,1,0)","v":0},30,{"$f":"(BD294=Parametros[Segmento])*(BE294>0)*(BF294>0)","v":0}]
[null,null,"Fecha en la cual el contribuyente presentará la declaración de renta",null,null,null,null,null,null,null,null,null,null,null,null,null,null,null,null,null,null,null,null,null,null,null,null,null,null,null,null,null,null,null,null,null,null,null,null,null,null,null,null,null,null,null,null,null,null,null,null,null,null,null,null,"Datos básicos contribuyente",{"$f":"IF(Obligatorio_Gran_Contribuyente=Listas!$B$2,1,0)","v":0},30,{"$f":"(BD295=Parametros[Segmento])*(BE295>0)*(BF295>0)","v":0}]
[null,null,"Mes o fracción de extemporaneidad",{"$f":"IFERROR(IF(D293>0,IF(ROUNDUP((DAYS360(D293,D295)/30),0)>0,ROUNDUP((DAYS360(D293,D295)/30),0),0),\"\"),\"\")","v":""},null,null,null,null,null,null,null,null,null,null,null,null,null,null,null,null,null,null,null,null,null,null,null,null,null,null,null,null,null,null,null,null,null,null,null,null,null,null,null,null,null,null,null,null,null,null,null,null,null,null,null,"Datos básicos contribuyente",{"$f":"IF(Obligatorio_Gran_Contribuyente=Listas!$B$2,1,0)","v":0},30,{"$f":"(BD296=Parametros[Segmento])*(BE296>0)*(BF296>0)","v":0}]
[null,null,"La declaración se presentará de forma extemporánea ",{"$f":"+IF(D296=\"\",\"\",IF(D296<=0,\"No\",\"Sí\"))","v":""},null,null,null,null,null,null,null,null,null,null,null,null,null,null,null,null,null,null,null,null,null,null,null,null,null,null,null,null,null,null,null,null,null,null,null,null,null,null,null,null,null,null,null,null,null,null,null,null,null,null,null,"Datos básicos contribuyente",{"$f":"IF(Obligatorio_Gran_Contribuyente=Listas!$B$2,1,0)","v":0},30,{"$f":"(BD297=Parametros[Segmento])*(BE297>0)*(BF297>0)","v":0}]
[null,null,"¿El contribuyente recibió un emplazamiento por no declarar?",null,null,null,null,null,null,null,null,null,null,null,null,null,null,null,null,null,null,null,null,null,null,null,null,null,null,null,null,null,null,null,null,null,null,null,null,null,null,null,null,null,null,null,null,null,null,null,null,null,null,null,null,"Datos básicos contribuyente",{"$f":"($D$297=\"Sí\")*BE297","v":0},30,{"$f":"(BD298=Parametros[Segmento])*(BE298>0)*(BF298>0)","v":0}]
[1.67,53.78,24.78,24.78,24.78,24.78,24.78,24.78,4,null,null,null,null,null,null,null,null,null,null,null,null,null,null,null,null,null,null,null,null,null,null,null,null,null,null,null,null,null,null,null,null,null,null,null,null,null,null,null,null,null,null,null,null,null,null,"Activos",0,15,{"$f":"(BD299=Parametros[Segmento])*(BE299>0)*(BF299>0)","v":0}]
[null,null,null,null,null,null,null,null,null,null,null,null,null,null,null,null,null,null,null,null,null,null,null,null,null,null,null,null,null,null,null,null,null,null,null,null,null,null,null,null,null,null,null,null,null,null,null,null,null,null,null,null,null,null,null,"Activos",1,30,{"$f":"(BD300=Parametros[Segmento])*(BE300>0)*(BF300>0)","v":0}]
[null,null,null,"Activos",null,null,null,null,null,null,null,null,null,null,null,null,null,null,null,null,null,null,null,null,null,null,null,null,null,null,null,null,null,null,null,null,null,null,null,null,null,null,null,null,null,null,null,null,null,null,null,null,null,null,null,"Activos",1,30,{"$f":"(BD301=Parametros[Segmento])*(BE301>0)*(BF301>0)","v":0}]
[null,null,null,null,null,null,null,null,null,null,null,null,null,null,null,null,null,null,null,null,null,null,null,null,null,null,null,null,null,null,null,null,null,null,null,null,null,null,null,null,null,null,null,null,null,null,null,null,null,null,null,null,null,null,null,"Activos",1,30,{"$f":"(BD302=Parametros[Segmento])*(BE302>0)*(BF302>0)","v":0}]
[null,"Efectivo y Equivalentes del Efectivo ",null,null,null,null,null,null,null,null,null,null,null,null,null,null,null,null,null,null,null,null,null,null,null,null,null,null,null,null,null,null,null,null,null,null,null,null,null,null,null,null,null,null,null,null,null,null,null,null,null,null,null,null,null,"Activos",1,30,{"$f":"(BD303=Parametros[Segmento])*(BE303>0)*(BF303>0)","v":0}]
[null,"Concepto/Descripción","Valores Contables",null,"Ajuste",null,"Valores Fiscales",null,null,null,null,null,null,null,null,null,null,null,null,null,null,null,null,null,null,null,null,null,null,null,null,null,null,null,null,null,null,null,null,null,null,null,null,null,null,null,null,null,null,null,null,null,null,null,null,"Activos",1,30,{"$f":"(BD304=Parametros[Segmento])*(BE304>0)*(BF304>0)","v":0}]
[null,null,"Saldos Parciales ","Saldos Totales ","Mayor Valor Fiscal","Menor Valor Fiscal","Saldos Parciales","Saldos Totales ",null,null,null,null,null,null,null,null,null,null,null,null,null,null,null,null,null,null,null,null,null,null,null,null,null,null,null,null,null,null,null,null,null,null,null,null,null,null,null,null,null,null,null,null,null,null,null,"Activos",1,30,{"$f":"(BD305=Parametros[Segmento])*(BE305>0)*(BF305>0)","v":0}]
[null,"Efectivo ",null,{"$f":"SUM(C307:C308)","v":0},{"$f":"SUM(E307:E308)","v":0},{"$f":"SUM(F307:F308)","v":0},null,{"$f":"SUM(G307:G308)","v":0},null,null,null,null,null,null,null,null,null,null,null,null,null,null,null,null,null,null,null,null,null,null,null,null,null,null,null,null,null,null,null,null,null,null,null,null,null,null,null,null,null,null,null,null,null,null,null,"Activos",1,30,{"$f":"(BD306=Parametros[Segmento])*(BE306>0)*(BF306>0)","v":0}]
[null,"Total efectivo ",null,null,null,null,{"$f":"+C307+E307-F307","v":0},null,null,null,null,null,null,null,null,null,null,null,null,null,null,null,null,null,null,null,null,null,null,null,null,null,null,null,null,null,null,null,null,null,null,null,null,null,null,null,null,null,null,null,null,null,null,{"$f":"SUBSTITUTE($B$303,CHAR(10),\"\")","v":"Efectivo y Equivalentes del Efectivo "},{"$f":"SUBSTITUTE($B$306,CHAR(10),\"\")","v":"Efectivo "},"Activos",{"$f":"(BC307=OFFSET(BC307,1,0))*1","v":1},30,{"$f":"(BD307=Parametros[Segmento])*(BE307>0)*(BF307>0)","v":0}]
[null,null,null,null,null,null,{"$f":"+C308+E308-F308","v":0},null,null,null,null,null,null,null,null,null,null,null,null,null,null,null,null,null,null,null,null,null,null,null,null,null,null,null,null,null,null,null,null,null,null,null,null,null,null,null,null,null,null,null,null,null,null,{"$f":"SUBSTITUTE($B$303,CHAR(10),\"\")","v":"Efectivo y Equivalentes del Efectivo "},{"$f":"SUBSTITUTE($B$306,CHAR(10),\"\")","v":"Efectivo "},"Activos",{"$f":"(BC308=OFFSET(BC308,1,0))*1","v":0},30,{"$f":"(BD308=Parametros[Segmento])*(BE308>0)*(BF308>0)","v":0}]
[null,"Equivalentes al efectivo ",null,{"$f":"+SUM(C310:C311)","v":0},{"$f":"+SUM(E310:E311)","v":0},{"$f":"+SUM(F310:F311)","v":0},null,{"$f":"+SUM(G310:G311)","v":0},null,null,null,null,null,null,null,null,null,null,null,null,null,null,null,null,null,null,null,null,null,null,null,null,null,null,null,null,null,null,null,null,null,null,null,null,null,null,null,null,null,null,null,null,null,null,null,"Activos",1,30,{"$f":"(BD309=Parametros[Segmento])*(BE309>0)*(BF309>0)","v":0}]
[null,null,null,null,null,null,{"$f":"+C310+E310-F310","v":0},null,null,null,null,null,null,null,null,null,null,null,null,null,null,null,null,null,null,null,null,null,null,null,null,null,null,null,null,null,null,null,null,null,null,null,null,null,null,null,null,null,null,null,null,null,null,{"$f":"SUBSTITUTE($B$303,CHAR(10),\"\")","v":"Efectivo y Equivalentes del Efectivo "},{"$f":"SUBSTITUTE($B$309,CHAR(10),\"\")","v":"Equivalentes al efectivo "},"Activos",{"$f":"(BC310=OFFSET(BC310,1,0))*1","v":1},30,{"$f":"(BD310=Parametros[Segmento])*(BE310>0)*(BF310>0)","v":0}]
[null,null,null,null,null,null,{"$f":"+C311+E311-F311","v":0},null,null,null,null,null,null,null,null,null,null,null,null,null,null,null,null,null,null,null,null,null,null,null,null,null,null,null,null,null,null,null,null,null,null,null,null,null,null,null,null,null,null,null,null,null,null,{"$f":"SUBSTITUTE($B$303,CHAR(10),\"\")","v":"Efectivo y Equivalentes del Efectivo "},{"$f":"SUBSTITUTE($B$309,CHAR(10),\"\")","v":"Equivalentes al efectivo "},"Activos",{"$f":"(BC311=OFFSET(BC311,1,0))*1","v":0},30,{"$f":"(BD311=Parametros[Segmento])*(BE311>0)*(BF311>0)","v":0}]
[null,"Efectivo restringido",null,{"$f":"+SUM(C313:C314)","v":0},{"$f":"+SUM(E313:E314)","v":0},{"$f":"+SUM(F313:F314)","v":0},null,{"$f":"+SUM(G313:G314)","v":0},null,null,null,null,null,null,null,null,null,null,null,null,null,null,null,null,null,null,null,null,null,null,null,null,null,null,null,null,null,null,null,null,null,null,null,null,null,null,null,null,null,null,null,null,null,null,null,"Activos",1,30,{"$f":"(BD312=Parametros[Segmento])*(BE312>0)*(BF312>0)","v":0}]
[null,null,null,null,null,null,{"$f":"+C313+E313-F313","v":0},null,null,null,null,null,null,null,null,null,null,null,null,null,null,null,null,null,null,null,null,null,null,null,null,null,null,null,null,null,null,null,null,null,null,null,null,null,null,null,null,null,null,null,null,null,null,{"$f":"SUBSTITUTE($B$303,CHAR(10),\"\")","v":"Efectivo y Equivalentes del Efectivo "},{"$f":"SUBSTITUTE($B$312,CHAR(10),\"\")","v":"Efectivo restringido"},"Activos",{"$f":"(BC313=OFFSET(BC313,1,0))*1","v":1},30,{"$f":"(BD313=Parametros[Segmento])*(BE313>0)*(BF313>0)","v":0}]
[null,null,null,null,null,null,{"$f":"+C314+E314-F314","v":0},null,null,null,null,null,null,null,null,null,null,null,null,null,null,null,null,null,null,null,null,null,null,null,null,null,null,null,null,null,null,null,null,null,null,null,null,null,null,null,null,null,null,null,null,null,null,{"$f":"SUBSTITUTE($B$303,CHAR(10),\"\")","v":"Efectivo y Equivalentes del Efectivo "},{"$f":"SUBSTITUTE($B$312,CHAR(10),\"\")","v":"Efectivo restringido"},"Activos",{"$f":"(BC314=OFFSET(BC314,1,0))*1","v":0},30,{"$f":"(BD314=Parametros[Segmento])*(BE314>0)*(BF314>0)","v":0}]
[null,null,"Totales ",{"$f":"SUM(D306:D314)","v":0},null,null,null,{"$f":"SUM(H306:H314)","v":0},null,null,null,null,null,null,null,null,null,null,null,null,null,null,null,null,null,null,null,null,null,null,null,null,null,null,null,null,null,null,null,null,null,null,null,null,null,null,null,null,null,null,null,null,null,null,null,"Activos",1,30,{"$f":"(BD315=Parametros[Segmento])*(BE315>0)*(BF315>0)","v":0}]
[null,null,null,null,null,null,null,null,null,null,null,null,null,null,null,null,null,null,null,null,null,null,null,null,null,null,null,null,null,null,null,null,null,null,null,null,null,null,null,null,null,null,null,null,null,null,null,null,null,null,null,null,null,null,null,"Activos",1,30,{"$f":"(BD316=Parametros[Segmento])*(BE316>0)*(BF316>0)","v":0}]
[null,"Inversiones e Instrumentos Derivados",null,null,null,null,null,null,null,null,null,null,null,null,null,null,null,null,null,null,null,null,null,null,null,null,null,null,null,null,null,null,null,null,null,null,null,null,null,null,null,null,null,null,null,null,null,null,null,null,null,null,null,null,null,"Activos",1,30,{"$f":"(BD317=Parametros[Segmento])*(BE317>0)*(BF317>0)","v":0}]
[null,"Concepto/Descripción","Valores Contables",null,"Ajuste",null,"Valores Fiscales",null,null,null,null,null,null,null,null,null,null,null,null,null,null,null,null,null,null,null,null,null,null,null,null,null,null,null,null,null,null,null,null,null,null,null,null,null,null,null,null,null,null,null,null,null,null,null,null,"Activos",1,30,{"$f":"(BD318=Parametros[Segmento])*(BE318>0)*(BF318>0)","v":0}]
[null,null,"Saldos Parciales ","Saldos Totales ","Mayor Valor Fiscal","Menor Valor Fiscal","Saldos Parciales","Saldos Totales ",null,null,null,null,null,null,null,null,null,null,null,null,null,null,null,null,null,null,null,null,null,null,null,null,null,null,null,null,null,null,null,null,null,null,null,null,null,null,null,null,null,null,null,null,null,null,null,"Activos",1,30,{"$f":"(BD319=Parametros[Segmento])*(BE319>0)*(BF319>0)","v":0}]
[null,"Derechos de recompras de inversiones ",null,{"$f":"SUM(C321:C322)-C323","v":0},{"$f":"SUM(E321:E322)-E323","v":0},{"$f":"SUM(F321:F322)-F323","v":0},null,{"$f":"SUM(G321:G322)-G323","v":0},null,null,null,null,null,null,null,null,null,null,null,null,null,null,null,null,null,null,null,null,null,null,null,null,null,null,null,null,null,null,null,null,null,null,null,null,null,null,null,null,null,null,null,null,null,null,null,"Activos",1,30,{"$f":"(BD320=Parametros[Segmento])*(BE320>0)*(BF320>0)","v":0}]
[null,null,null,null,null,null,{"$f":"+C321+E321-F321","v":0},null,null,null,null,null,null,null,null,null,null,null,null,null,null,null,null,null,null,null,null,null,null,null,null,null,null,null,null,null,null,null,null,null,null,null,null,null,null,null,null,null,null,null,null,null,null,{"$f":"SUBSTITUTE($B$317,CHAR(10),\"\")","v":"Inversiones e Instrumentos Derivados"},{"$f":"SUBSTITUTE($B$320,CHAR(10),\"\")","v":"Derechos de recompras de inversiones "},"Activos",{"$f":"(BC321=OFFSET(BC321,1,0))*1","v":1},30,{"$f":"(BD321=Parametros[Segmento])*(BE321>0)*(BF321>0)","v":0}]
[null,null,null,null,null,null,{"$f":"+C322+E322-F322","v":0},null,null,null,null,null,null,null,null,null,null,null,null,null,null,null,null,null,null,null,null,null,null,null,null,null,null,null,null,null,null,null,null,null,null,null,null,null,null,null,null,null,null,null,null,null,null,{"$f":"SUBSTITUTE($B$317,CHAR(10),\"\")","v":"Inversiones e Instrumentos Derivados"},{"$f":"SUBSTITUTE($B$320,CHAR(10),\"\")","v":"Derechos de recompras de inversiones "},"Activos",{"$f":"(BC322=OFFSET(BC322,1,0))*1","v":0},30,{"$f":"(BD322=Parametros[Segmento])*(BE322>0)*(BF322>0)","v":0}]
[null,"Deterioro",null,null,null,null,{"$f":"+C323+E323-F323","v":0},null,null,null,null,null,null,null,null,null,null,null,null,null,null,null,null,null,null,null,null,null,null,null,null,null,null,null,null,null,null,null,null,null,null,null,null,null,null,null,null,null,null,null,null,null,null,null,null,"Activos",1,30,{"$f":"(BD323=Parametros[Segmento])*(BE323>0)*(BF323>0)","v":0}]
[null,"Inversiones en subsidiarias, asociadas y \nnegocios conjuntos medidas a valor \nrazonable con cambios en resultados ",null,{"$f":"SUM(C325:C326)","v":0},{"$f":"SUM(E325:E326)","v":0},{"$f":"SUM(F325:F326)","v":0},null,{"$f":"SUM(G325:G326)","v":0},null,null,null,null,null,null,null,null,null,null,null,null,null,null,null,null,null,null,null,null,null,null,null,null,null,null,null,null,null,null,null,null,null,null,null,null,null,null,null,null,null,null,null,null,null,null,null,"Activos",1,60,{"$f":"(BD324=Parametros[Segmento])*(BE324>0)*(BF324>0)","v":0}]
[null,null,null,null,null,null,{"$f":"+C325+E325-F325","v":0},null,null,null,null,null,null,null,null,null,null,null,null,null,null,null,null,null,null,null,null,null,null,null,null,null,null,null,null,null,null,null,null,null,null,null,null,null,null,null,null,null,null,null,null,null,null,{"$f":"SUBSTITUTE($B$317,CHAR(10),\"\")","v":"Inversiones e Instrumentos Derivados"},{"$f":"SUBSTITUTE($B$324,CHAR(10),\"\")","v":"Inversiones en subsidiarias, asociadas y negocios conjuntos medidas a valor razonable con cambios en resultados "},"Activos",{"$f":"(BC325=OFFSET(BC325,1,0))*1","v":1},30,{"$f":"(BD325=Parametros[Segmento])*(BE325>0)*(BF325>0)","v":0}]
[null,null,null,null,null,null,{"$f":"+C326+E326-F326","v":0},null,null,null,null,null,null,null,null,null,null,null,null,null,null,null,null,null,null,null,null,null,null,null,null,null,null,null,null,null,null,null,null,null,null,null,null,null,null,null,null,null,null,null,null,null,null,{"$f":"SUBSTITUTE($B$317,CHAR(10),\"\")","v":"Inversiones e Instrumentos Derivados"},{"$f":"SUBSTITUTE($B$324,CHAR(10),\"\")","v":"Inversiones en subsidiarias, asociadas y negocios conjuntos medidas a valor razonable con cambios en resultados "},"Activos",{"$f":"(BC326=OFFSET(BC326,1,0))*1","v":0},30,{"$f":"(BD326=Parametros[Segmento])*(BE326>0)*(BF326>0)","v":0}]
[null,"Inversiones en subsidiarias, asociadas y \nnegocios conjuntos medidas a valor \nrazonable con cambios en el ORI",null,{"$f":"SUM(C328:C329)","v":0},{"$f":"SUM(E328:E329)","v":0},{"$f":"SUM(F328:F329)","v":0},null,{"$f":"SUM(G328:G329)","v":0},null,null,null,null,null,null,null,null,null,null,null,null,null,null,null,null,null,null,null,null,null,null,null,null,null,null,null,null,null,null,null,null,null,null,null,null,null,null,null,null,null,null,null,null,null,null,null,"Activos",1,60,{"$f":"(BD327=Parametros[Segmento])*(BE327>0)*(BF327>0)","v":0}]
[null,null,null,null,null,null,{"$f":"+C328+E328-F328","v":0},null,null,null,null,null,null,null,null,null,null,null,null,null,null,null,null,null,null,null,null,null,null,null,null,null,null,null,null,null,null,null,null,null,null,null,null,null,null,null,null,null,null,null,null,null,null,{"$f":"SUBSTITUTE($B$317,CHAR(10),\"\")","v":"Inversiones e Instrumentos Derivados"},{"$f":"SUBSTITUTE($B$327,CHAR(10),\"\")","v":"Inversiones en subsidiarias, asociadas y negocios conjuntos medidas a valor razonable con cambios en el ORI"},"Activos",{"$f":"(BC328=OFFSET(BC328,1,0))*1","v":1},30,{"$f":"(BD328=Parametros[Segmento])*(BE328>0)*(BF328>0)","v":0}]
[null,null,null,null,null,null,{"$f":"+C329+E329-F329","v":0},null,null,null,null,null,null,null,null,null,null,null,null,null,null,null,null,null,null,null,null,null,null,null,null,null,null,null,null,null,null,null,null,null,null,null,null,null,null,null,null,null,null,null,null,null,null,{"$f":"SUBSTITUTE($B$317,CHAR(10),\"\")","v":"Inversiones e Instrumentos Derivados"},{"$f":"SUBSTITUTE($B$327,CHAR(10),\"\")","v":"Inversiones en subsidiarias, asociadas y negocios conjuntos medidas a valor razonable con cambios en el ORI"},"Activos",{"$f":"(BC329=OFFSET(BC329,1,0))*1","v":0},30,{"$f":"(BD329=Parametros[Segmento])*(BE329>0)*(BF329>0)","v":0}]
[null,"Inversiones en subsidiarias, asociadas y \nnegocios conjuntos medidas con método \nde participación",null,{"$f":"SUM(C331:C332)-C333","v":0},{"$f":"SUM(E331:E332)-E333","v":0},{"$f":"SUM(F331:F332)-F333","v":0},null,{"$f":"SUM(G331:G332)-G333","v":0},null,null,null,null,null,null,null,null,null,null,null,null,null,null,null,null,null,null,null,null,null,null,null,null,null,null,null,null,null,null,null,null,null,null,null,null,null,null,null,null,null,null,null,null,null,null,null,"Activos",1,60,{"$f":"(BD330=Parametros[Segmento])*(BE330>0)*(BF330>0)","v":0}]
[null,null,null,null,null,null,{"$f":"+C331+E331-F331","v":0},null,null,null,null,null,null,null,null,null,null,null,null,null,null,null,null,null,null,null,null,null,null,null,null,null,null,null,null,null,null,null,null,null,null,null,null,null,null,null,null,null,null,null,null,null,null,{"$f":"SUBSTITUTE($B$317,CHAR(10),\"\")","v":"Inversiones e Instrumentos Derivados"},{"$f":"SUBSTITUTE($B$330,CHAR(10),\"\")","v":"Inversiones en subsidiarias, asociadas y negocios conjuntos medidas con método de participación"},"Activos",{"$f":"(BC331=OFFSET(BC331,1,0))*1","v":1},30,{"$f":"(BD331=Parametros[Segmento])*(BE331>0)*(BF331>0)","v":0}]
[null,null,null,null,null,null,{"$f":"+C332+E332-F332","v":0},null,null,null,null,null,null,null,null,null,null,null,null,null,null,null,null,null,null,null,null,null,null,null,null,null,null,null,null,null,null,null,null,null,null,null,null,null,null,null,null,null,null,null,null,null,null,{"$f":"SUBSTITUTE($B$317,CHAR(10),\"\")","v":"Inversiones e Instrumentos Derivados"},{"$f":"SUBSTITUTE($B$330,CHAR(10),\"\")","v":"Inversiones en subsidiarias, asociadas y negocios conjuntos medidas con método de participación"},"Activos",{"$f":"(BC332=OFFSET(BC332,1,0))*1","v":0},30,{"$f":"(BD332=Parametros[Segmento])*(BE332>0)*(BF332>0)","v":0}]
[null,"Deterioro",null,null,null,null,{"$f":"+C333+E333-F333","v":0},null,null,null,null,null,null,null,null,null,null,null,null,null,null,null,null,null,null,null,null,null,null,null,null,null,null,null,null,null,null,null,null,null,null,null,null,null,null,null,null,null,null,null,null,null,null,null,null,"Activos",1,30,{"$f":"(BD333=Parametros[Segmento])*(BE333>0)*(BF333>0)","v":0}]
[null,"Inversiones en subsidiarias, asociadas y negocios conjuntos medidas al costo",null,{"$f":"SUM(C335:C336)-C337","v":0},{"$f":"SUM(E335:E336)-E337","v":0},{"$f":"SUM(F335:F336)-F337","v":0},null,{"$f":"SUM(G335:G336)-G337","v":0},null,null,null,null,null,null,null,null,null,null,null,null,null,null,null,null,null,null,null,null,null,null,null,null,null,null,null,null,null,null,null,null,null,null,null,null,null,null,null,null,null,null,null,null,null,null,null,"Activos",1,40.200000000000003,{"$f":"(BD334=Parametros[Segmento])*(BE334>0)*(BF334>0)","v":0}]
[null,null,null,null,null,null,{"$f":"+C335+E335-F335","v":0},null,null,null,null,null,null,null,null,null,null,null,null,null,null,null,null,null,null,null,null,null,null,null,null,null,null,null,null,null,null,null,null,null,null,null,null,null,null,null,null,null,null,null,null,null,null,{"$f":"SUBSTITUTE($B$317,CHAR(10),\"\")","v":"Inversiones e Instrumentos Derivados"},{"$f":"SUBSTITUTE($B$334,CHAR(10),\"\")","v":"Inversiones en subsidiarias, asociadas y negocios conjuntos medidas al costo"},"Activos",{"$f":"(BC335=OFFSET(BC335,1,0))*1","v":1},30,{"$f":"(BD335=Parametros[Segmento])*(BE335>0)*(BF335>0)","v":0}]
[null,null,null,null,null,null,{"$f":"+C336+E336-F336","v":0},null,null,null,null,null,null,null,null,null,null,null,null,null,null,null,null,null,null,null,null,null,null,null,null,null,null,null,null,null,null,null,null,null,null,null,null,null,null,null,null,null,null,null,null,null,null,{"$f":"SUBSTITUTE($B$317,CHAR(10),\"\")","v":"Inversiones e Instrumentos Derivados"},{"$f":"SUBSTITUTE($B$334,CHAR(10),\"\")","v":"Inversiones en subsidiarias, asociadas y negocios conjuntos medidas al costo"},"Activos",{"$f":"(BC336=OFFSET(BC336,1,0))*1","v":0},30,{"$f":"(BD336=Parametros[Segmento])*(BE336>0)*(BF336>0)","v":0}]
[null,"Deterioro",null,null,null,null,{"$f":"+C337+E337-F337","v":0},null,null,null,null,null,null,null,null,null,null,null,null,null,null,null,null,null,null,null,null,null,null,null,null,null,null,null,null,null,null,null,null,null,null,null,null,null,null,null,null,null,null,null,null,null,null,null,null,"Activos",1,30,{"$f":"(BD337=Parametros[Segmento])*(BE337>0)*(BF337>0)","v":0}]
[null,"Instrumentos de deuda a costo amortizado ",null,{"$f":"SUM(C339:C340)-C341","v":0},{"$f":"SUM(E339:E340)-E341","v":0},{"$f":"SUM(F339:F340)-F341","v":0},null,{"$f":"SUM(G339:G340)-G341","v":0},null,null,null,null,null,null,null,null,null,null,null,null,null,null,null,null,null,null,null,null,null,null,null,null,null,null,null,null,null,null,null,null,null,null,null,null,null,null,null,null,null,null,null,null,null,null,null,"Activos",1,30,{"$f":"(BD338=Parametros[Segmento])*(BE338>0)*(BF338>0)","v":0}]
[null,null,null,null,null,null,{"$f":"+C339+E339-F339","v":0},null,null,null,null,null,null,null,null,null,null,null,null,null,null,null,null,null,null,null,null,null,null,null,null,null,null,null,null,null,null,null,null,null,null,null,null,null,null,null,null,null,null,null,null,null,null,{"$f":"SUBSTITUTE($B$317,CHAR(10),\"\")","v":"Inversiones e Instrumentos Derivados"},{"$f":"SUBSTITUTE($B$338,CHAR(10),\"\")","v":"Instrumentos de deuda a costo amortizado "},"Activos",{"$f":"(BC339=OFFSET(BC339,1,0))*1","v":1},30,{"$f":"(BD339=Parametros[Segmento])*(BE339>0)*(BF339>0)","v":0}]
[null,null,null,null,null,null,{"$f":"+C340+E340-F340","v":0},null,null,null,null,null,null,null,null,null,null,null,null,null,null,null,null,null,null,null,null,null,null,null,null,null,null,null,null,null,null,null,null,null,null,null,null,null,null,null,null,null,null,null,null,null,null,{"$f":"SUBSTITUTE($B$317,CHAR(10),\"\")","v":"Inversiones e Instrumentos Derivados"},{"$f":"SUBSTITUTE($B$338,CHAR(10),\"\")","v":"Instrumentos de deuda a costo amortizado "},"Activos",{"$f":"(BC340=OFFSET(BC340,1,0))*1","v":0},30,{"$f":"(BD340=Parametros[Segmento])*(BE340>0)*(BF340>0)","v":0}]
[null,"Deterioro",null,null,null,null,{"$f":"+C341+E341-F341","v":0},null,null,null,null,null,null,null,null,null,null,null,null,null,null,null,null,null,null,null,null,null,null,null,null,null,null,null,null,null,null,null,null,null,null,null,null,null,null,null,null,null,null,null,null,null,null,null,null,"Activos",1,30,{"$f":"(BD341=Parametros[Segmento])*(BE341>0)*(BF341>0)","v":0}]
[null,"Instrumentos de deuda o patrimonio al \ncosto ",null,{"$f":"SUM(C343:C344)-C345","v":0},{"$f":"SUM(E343:E344)-E345","v":0},{"$f":"SUM(F343:F344)-F345","v":0},null,{"$f":"SUM(G343:G344)-G345","v":0},null,null,null,null,null,null,null,null,null,null,null,null,null,null,null,null,null,null,null,null,null,null,null,null,null,null,null,null,null,null,null,null,null,null,null,null,null,null,null,null,null,null,null,null,null,null,null,"Activos",1,40.1,{"$f":"(BD342=Parametros[Segmento])*(BE342>0)*(BF342>0)","v":0}]
[null,null,null,null,null,null,{"$f":"+C343+E343-F343","v":0},null,null,null,null,null,null,null,null,null,null,null,null,null,null,null,null,null,null,null,null,null,null,null,null,null,null,null,null,null,null,null,null,null,null,null,null,null,null,null,null,null,null,null,null,null,null,{"$f":"SUBSTITUTE($B$317,CHAR(10),\"\")","v":"Inversiones e Instrumentos Derivados"},{"$f":"SUBSTITUTE($B$342,CHAR(10),\"\")","v":"Instrumentos de deuda o patrimonio al costo "},"Activos",{"$f":"(BC343=OFFSET(BC343,1,0))*1","v":1},30,{"$f":"(BD343=Parametros[Segmento])*(BE343>0)*(BF343>0)","v":0}]
[null,null,null,null,null,null,{"$f":"+C344+E344-F344","v":0},null,null,null,null,null,null,null,null,null,null,null,null,null,null,null,null,null,null,null,null,null,null,null,null,null,null,null,null,null,null,null,null,null,null,null,null,null,null,null,null,null,null,null,null,null,null,{"$f":"SUBSTITUTE($B$317,CHAR(10),\"\")","v":"Inversiones e Instrumentos Derivados"},{"$f":"SUBSTITUTE($B$342,CHAR(10),\"\")","v":"Instrumentos de deuda o patrimonio al costo "},"Activos",{"$f":"(BC344=OFFSET(BC344,1,0))*1","v":0},30,{"$f":"(BD344=Parametros[Segmento])*(BE344>0)*(BF344>0)","v":0}]
[null,"Deterioro",null,null,null,null,{"$f":"+C345+E345-F345","v":0},null,null,null,null,null,null,null,null,null,null,null,null,null,null,null,null,null,null,null,null,null,null,null,null,null,null,null,null,null,null,null,null,null,null,null,null,null,null,null,null,null,null,null,null,null,null,null,null,"Activos",1,30,{"$f":"(BD345=Parametros[Segmento])*(BE345>0)*(BF345>0)","v":0}]
[null,"Instrumentos de deuda o patrimonio al \nvalor razonable con cambios en resultados ",null,{"$f":"+SUM(C347:C348)","v":0},{"$f":"+SUM(E347:E348)","v":0},{"$f":"+SUM(F347:F348)","v":0},null,{"$f":"+SUM(G347:G348)","v":0},null,null,null,null,null,null,null,null,null,null,null,null,null,null,null,null,null,null,null,null,null,null,null,null,null,null,null,null,null,null,null,null,null,null,null,null,null,null,null,null,null,null,null,null,null,null,null,"Activos",1,40.200000000000003,{"$f":"(BD346=Parametros[Segmento])*(BE346>0)*(BF346>0)","v":0}]
[null,null,null,null,null,null,{"$f":"+C347+E347-F347","v":0},null,null,null,null,null,null,null,null,null,null,null,null,null,null,null,null,null,null,null,null,null,null,null,null,null,null,null,null,null,null,null,null,null,null,null,null,null,null,null,null,null,null,null,null,null,null,{"$f":"SUBSTITUTE($B$317,CHAR(10),\"\")","v":"Inversiones e Instrumentos Derivados"},{"$f":"SUBSTITUTE($B$346,CHAR(10),\"\")","v":"Instrumentos de deuda o patrimonio al valor razonable con cambios en resultados "},"Activos",{"$f":"(BC347=OFFSET(BC347,1,0))*1","v":1},30,{"$f":"(BD347=Parametros[Segmento])*(BE347>0)*(BF347>0)","v":0}]
[null,null,null,null,null,null,{"$f":"+C348+E348-F348","v":0},null,null,null,null,null,null,null,null,null,null,null,null,null,null,null,null,null,null,null,null,null,null,null,null,null,null,null,null,null,null,null,null,null,null,null,null,null,null,null,null,null,null,null,null,null,null,{"$f":"SUBSTITUTE($B$317,CHAR(10),\"\")","v":"Inversiones e Instrumentos Derivados"},{"$f":"SUBSTITUTE($B$346,CHAR(10),\"\")","v":"Instrumentos de deuda o patrimonio al valor razonable con cambios en resultados "},"Activos",{"$f":"(BC348=OFFSET(BC348,1,0))*1","v":0},30,{"$f":"(BD348=Parametros[Segmento])*(BE348>0)*(BF348>0)","v":0}]
[null,"Instrumentos de deuda o patrimonio al \nvalor razonable con cambios en el ORI",null,{"$f":"SUM(C350:C351)","v":0},{"$f":"SUM(E350:E351)","v":0},{"$f":"SUM(F350:F351)","v":0},null,{"$f":"SUM(G350:G351)","v":0},null,null,null,null,null,null,null,null,null,null,null,null,null,null,null,null,null,null,null,null,null,null,null,null,null,null,null,null,null,null,null,null,null,null,null,null,null,null,null,null,null,null,null,null,null,null,null,"Activos",1,40.200000000000003,{"$f":"(BD349=Parametros[Segmento])*(BE349>0)*(BF349>0)","v":0}]
[null,null,null,null,null,null,{"$f":"+C350+E350-F350","v":0},null,null,null,null,null,null,null,null,null,null,null,null,null,null,null,null,null,null,null,null,null,null,null,null,null,null,null,null,null,null,null,null,null,null,null,null,null,null,null,null,null,null,null,null,null,null,{"$f":"SUBSTITUTE($B$317,CHAR(10),\"\")","v":"Inversiones e Instrumentos Derivados"},{"$f":"SUBSTITUTE($B$349,CHAR(10),\"\")","v":"Instrumentos de deuda o patrimonio al valor razonable con cambios en el ORI"},"Activos",{"$f":"(BC350=OFFSET(BC350,1,0))*1","v":1},30,{"$f":"(BD350=Parametros[Segmento])*(BE350>0)*(BF350>0)","v":0}]
[null,null,null,null,null,null,{"$f":"+C351+E351-F351","v":0},null,null,null,null,null,null,null,null,null,null,null,null,null,null,null,null,null,null,null,null,null,null,null,null,null,null,null,null,null,null,null,null,null,null,null,null,null,null,null,null,null,null,null,null,null,null,{"$f":"SUBSTITUTE($B$317,CHAR(10),\"\")","v":"Inversiones e Instrumentos Derivados"},{"$f":"SUBSTITUTE($B$349,CHAR(10),\"\")","v":"Instrumentos de deuda o patrimonio al valor razonable con cambios en el ORI"},"Activos",{"$f":"(BC351=OFFSET(BC351,1,0))*1","v":0},30,{"$f":"(BD351=Parametros[Segmento])*(BE351>0)*(BF351>0)","v":0}]
[null,"Instrumentos financieros derivados con \nfines de negociación ",null,{"$f":"SUM(C353:C354)","v":0},{"$f":"SUM(E353:E354)","v":0},{"$f":"SUM(F353:F354)","v":0},null,{"$f":"SUM(G353:G354)","v":0},null,null,null,null,null,null,null,null,null,null,null,null,null,null,null,null,null,null,null,null,null,null,null,null,null,null,null,null,null,null,null,null,null,null,null,null,null,null,null,null,null,null,null,null,null,null,null,"Activos",1,40.200000000000003,{"$f":"(BD352=Parametros[Segmento])*(BE352>0)*(BF352>0)","v":0}]
[null,null,null,null,null,null,{"$f":"+C353+E353-F353","v":0},null,null,null,null,null,null,null,null,null,null,null,null,null,null,null,null,null,null,null,null,null,null,null,null,null,null,null,null,null,null,null,null,null,null,null,null,null,null,null,null,null,null,null,null,null,null,{"$f":"SUBSTITUTE($B$317,CHAR(10),\"\")","v":"Inversiones e Instrumentos Derivados"},{"$f":"SUBSTITUTE($B$352,CHAR(10),\"\")","v":"Instrumentos financieros derivados con fines de negociación "},"Activos",{"$f":"(BC353=OFFSET(BC353,1,0))*1","v":1},30,{"$f":"(BD353=Parametros[Segmento])*(BE353>0)*(BF353>0)","v":0}]
[null,null,null,null,null,null,{"$f":"+C354+E354-F354","v":0},null,null,null,null,null,null,null,null,null,null,null,null,null,null,null,null,null,null,null,null,null,null,null,null,null,null,null,null,null,null,null,null,null,null,null,null,null,null,null,null,null,null,null,null,null,null,{"$f":"SUBSTITUTE($B$317,CHAR(10),\"\")","v":"Inversiones e Instrumentos Derivados"},{"$f":"SUBSTITUTE($B$352,CHAR(10),\"\")","v":"Instrumentos financieros derivados con fines de negociación "},"Activos",{"$f":"(BC354=OFFSET(BC354,1,0))*1","v":0},30,{"$f":"(BD354=Parametros[Segmento])*(BE354>0)*(BF354>0)","v":0}]
[null,"Instrumentos financieros derivados con \nfines de cobertura",null,{"$f":"SUM(C356:C357)","v":0},{"$f":"SUM(E356:E357)","v":0},{"$f":"SUM(F356:F357)","v":0},null,{"$f":"SUM(G356:G357)","v":0},null,null,null,null,null,null,null,null,null,null,null,null,null,null,null,null,null,null,null,null,null,null,null,null,null,null,null,null,null,null,null,null,null,null,null,null,null,null,null,null,null,null,null,null,null,null,null,"Activos",1,40.200000000000003,{"$f":"(BD355=Parametros[Segmento])*(BE355>0)*(BF355>0)","v":0}]
[null,null,null,null,null,null,{"$f":"+C356+E356-F356","v":0},null,null,null,null,null,null,null,null,null,null,null,null,null,null,null,null,null,null,null,null,null,null,null,null,null,null,null,null,null,null,null,null,null,null,null,null,null,null,null,null,null,null,null,null,null,null,{"$f":"SUBSTITUTE($B$317,CHAR(10),\"\")","v":"Inversiones e Instrumentos Derivados"},{"$f":"SUBSTITUTE($B$355,CHAR(10),\"\")","v":"Instrumentos financieros derivados con fines de cobertura"},"Activos",{"$f":"(BC356=OFFSET(BC356,1,0))*1","v":1},30,{"$f":"(BD356=Parametros[Segmento])*(BE356>0)*(BF356>0)","v":0}]
[null,null,null,null,null,null,{"$f":"+C357+E357-F357","v":0},null,null,null,null,null,null,null,null,null,null,null,null,null,null,null,null,null,null,null,null,null,null,null,null,null,null,null,null,null,null,null,null,null,null,null,null,null,null,null,null,null,null,null,null,null,null,{"$f":"SUBSTITUTE($B$317,CHAR(10),\"\")","v":"Inversiones e Instrumentos Derivados"},{"$f":"SUBSTITUTE($B$355,CHAR(10),\"\")","v":"Instrumentos financieros derivados con fines de cobertura"},"Activos",{"$f":"(BC357=OFFSET(BC357,1,0))*1","v":0},30,{"$f":"(BD357=Parametros[Segmento])*(BE357>0)*(BF357>0)","v":0}]
[null,"Derechos fiduciarios ",null,{"$f":"SUM(C359:C360)-C361","v":0},{"$f":"SUM(E359:E360)-E361","v":0},{"$f":"SUM(F359:F360)-F361","v":0},null,{"$f":"SUM(G359:G360)-G361","v":0},null,null,null,null,null,null,null,null,null,null,null,null,null,null,null,null,null,null,null,null,null,null,null,null,null,null,null,null,null,null,null,null,null,null,null,null,null,null,null,null,null,null,null,null,null,null,null,"Activos",1,30,{"$f":"(BD358=Parametros[Segmento])*(BE358>0)*(BF358>0)","v":0}]
[null,null,null,null,null,null,{"$f":"+C359+E359-F359","v":0},null,null,null,null,null,null,null,null,null,null,null,null,null,null,null,null,null,null,null,null,null,null,null,null,null,null,null,null,null,null,null,null,null,null,null,null,null,null,null,null,null,null,null,null,null,null,{"$f":"SUBSTITUTE($B$317,CHAR(10),\"\")","v":"Inversiones e Instrumentos Derivados"},{"$f":"SUBSTITUTE($B$358,CHAR(10),\"\")","v":"Derechos fiduciarios "},"Activos",{"$f":"(BC359=OFFSET(BC359,1,0))*1","v":1},30,{"$f":"(BD359=Parametros[Segmento])*(BE359>0)*(BF359>0)","v":0}]
[null,null,null,null,null,null,{"$f":"+C360+E360-F360","v":0},null,null,null,null,null,null,null,null,null,null,null,null,null,null,null,null,null,null,null,null,null,null,null,null,null,null,null,null,null,null,null,null,null,null,null,null,null,null,null,null,null,null,null,null,null,null,{"$f":"SUBSTITUTE($B$317,CHAR(10),\"\")","v":"Inversiones e Instrumentos Derivados"},{"$f":"SUBSTITUTE($B$358,CHAR(10),\"\")","v":"Derechos fiduciarios "},"Activos",{"$f":"(BC360=OFFSET(BC360,1,0))*1","v":0},30,{"$f":"(BD360=Parametros[Segmento])*(BE360>0)*(BF360>0)","v":0}]
[null,"Deterioro",null,null,null,null,{"$f":"+C361+E361-F361","v":0},null,null,null,null,null,null,null,null,null,null,null,null,null,null,null,null,null,null,null,null,null,null,null,null,null,null,null,null,null,null,null,null,null,null,null,null,null,null,null,null,null,null,null,null,null,null,null,null,"Activos",1,30,{"$f":"(BD361=Parametros[Segmento])*(BE361>0)*(BF361>0)","v":0}]
[null,"Otros ",null,{"$f":"SUM(C363:C364)-C365","v":0},{"$f":"SUM(E363:E364)-E365","v":0},{"$f":"SUM(F363:F364)-F365","v":0},null,{"$f":"SUM(G363:G364)-G365","v":0},null,null,null,null,null,null,null,null,null,null,null,null,null,null,null,null,null,null,null,null,null,null,null,null,null,null,null,null,null,null,null,null,null,null,null,null,null,null,null,null,null,null,null,null,null,null,null,"Activos",1,30,{"$f":"(BD362=Parametros[Segmento])*(BE362>0)*(BF362>0)","v":0}]
[null,null,null,null,null,null,{"$f":"+C363+E363-F363","v":0},null,null,null,null,null,null,null,null,null,null,null,null,null,null,null,null,null,null,null,null,null,null,null,null,null,null,null,null,null,null,null,null,null,null,null,null,null,null,null,null,null,null,null,null,null,null,{"$f":"SUBSTITUTE($B$317,CHAR(10),\"\")","v":"Inversiones e Instrumentos Derivados"},{"$f":"SUBSTITUTE($B$362,CHAR(10),\"\")","v":"Otros "},"Activos",{"$f":"(BC363=OFFSET(BC363,1,0))*1","v":1},30,{"$f":"(BD363=Parametros[Segmento])*(BE363>0)*(BF363>0)","v":0}]
[null,null,null,null,null,null,{"$f":"+C364+E364-F364","v":0},null,null,null,null,null,null,null,null,null,null,null,null,null,null,null,null,null,null,null,null,null,null,null,null,null,null,null,null,null,null,null,null,null,null,null,null,null,null,null,null,null,null,null,null,null,null,{"$f":"SUBSTITUTE($B$317,CHAR(10),\"\")","v":"Inversiones e Instrumentos Derivados"},{"$f":"SUBSTITUTE($B$362,CHAR(10),\"\")","v":"Otros "},"Activos",{"$f":"(BC364=OFFSET(BC364,1,0))*1","v":0},30,{"$f":"(BD364=Parametros[Segmento])*(BE364>0)*(BF364>0)","v":0}]
[null,"Deterioro",null,null,null,null,{"$f":"+C365+E365-F365","v":0},null,null,null,null,null,null,null,null,null,null,null,null,null,null,null,null,null,null,null,null,null,null,null,null,null,null,null,null,null,null,null,null,null,null,null,null,null,null,null,null,null,null,null,null,null,null,null,null,"Activos",1,30,{"$f":"(BD365=Parametros[Segmento])*(BE365>0)*(BF365>0)","v":0}]
[null,"Totales ",null,{"$f":"SUM(D320:D365)","v":0},null,null,null,{"$f":"SUM(H320:H365)","v":0},null,null,null,null,null,null,null,null,null,null,null,null,null,null,null,null,null,null,null,null,null,null,null,null,null,null,null,null,null,null,null,null,null,null,null,null,null,null,null,null,null,null,null,null,null,null,null,"Activos",1,30,{"$f":"(BD366=Parametros[Segmento])*(BE366>0)*(BF366>0)","v":0}]
[null,null,null,null,null,null,null,null,null,null,null,null,null,null,null,null,null,null,null,null,null,null,null,null,null,null,null,null,null,null,null,null,null,null,null,null,null,null,null,null,null,null,null,null,null,null,null,null,null,null,null,null,null,null,null,"Activos",1,30,{"$f":"(BD367=Parametros[Segmento])*(BE367>0)*(BF367>0)","v":0}]
[null,"Cuentas por Cobrar",null,null,null,null,null,null,null,null,null,null,null,null,null,null,null,null,null,null,null,null,null,null,null,null,null,null,null,null,null,null,null,null,null,null,null,null,null,null,null,null,null,null,null,null,null,null,null,null,null,null,null,null,null,"Activos",1,30,{"$f":"(BD368=Parametros[Segmento])*(BE368>0)*(BF368>0)","v":0}]
[null,"Concepto/Descripción","Valores Contables",null,"Ajuste",null,"Valores Fiscales",null,null,null,null,null,null,null,null,null,null,null,null,null,null,null,null,null,null,null,null,null,null,null,null,null,null,null,null,null,null,null,null,null,null,null,null,null,null,null,null,null,null,null,null,null,null,null,null,"Activos",1,30,{"$f":"(BD369=Parametros[Segmento])*(BE369>0)*(BF369>0)","v":0}]
[null,null,"Saldos Parciales ","Saldos Totales ","Mayor Valor Fiscal","Menor Valor Fiscal","Saldos Parciales","Saldos Totales ",null,null,null,null,null,null,null,null,null,null,null,null,null,null,null,null,null,null,null,null,null,null,null,null,null,null,null,null,null,null,null,null,null,null,null,null,null,null,null,null,null,null,null,null,null,null,null,"Activos",1,30,{"$f":"(BD370=Parametros[Segmento])*(BE370>0)*(BF370>0)","v":0}]
[null,"Cartera de crédito (préstamos bancarios)",null,{"$f":"SUM(C372:C373)-C374","v":0},{"$f":"SUM(E372:E373)-E374","v":0},{"$f":"SUM(F372:F373)-F374","v":0},null,{"$f":"SUM(G372:G373)-G374","v":0},null,null,null,null,null,null,null,null,null,null,null,null,null,null,null,null,null,null,null,null,null,null,null,null,null,null,null,null,null,null,null,null,null,null,null,null,null,null,null,null,null,null,null,null,null,null,null,"Activos",1,30,{"$f":"(BD371=Parametros[Segmento])*(BE371>0)*(BF371>0)","v":0}]
[null,null,null,null,null,null,{"$f":"+C372+E372-F372","v":0},null,null,null,null,null,null,null,null,null,null,null,null,null,null,null,null,null,null,null,null,null,null,null,null,null,null,null,null,null,null,null,null,null,null,null,null,null,null,null,null,null,null,null,null,null,null,{"$f":"SUBSTITUTE($B$368,CHAR(10),\"\")","v":"Cuentas por Cobrar"},{"$f":"SUBSTITUTE($B$371,CHAR(10),\"\")","v":"Cartera de crédito (préstamos bancarios)"},"Activos",{"$f":"(BC372=OFFSET(BC372,1,0))*1","v":1},30,{"$f":"(BD372=Parametros[Segmento])*(BE372>0)*(BF372>0)","v":0}]
[null,null,null,null,null,null,{"$f":"+C373+E373-F373","v":0},null,null,null,null,null,null,null,null,null,null,null,null,null,null,null,null,null,null,null,null,null,null,null,null,null,null,null,null,null,null,null,null,null,null,null,null,null,null,null,null,null,null,null,null,null,null,{"$f":"SUBSTITUTE($B$368,CHAR(10),\"\")","v":"Cuentas por Cobrar"},{"$f":"SUBSTITUTE($B$371,CHAR(10),\"\")","v":"Cartera de crédito (préstamos bancarios)"},"Activos",{"$f":"(BC373=OFFSET(BC373,1,0))*1","v":0},30,{"$f":"(BD373=Parametros[Segmento])*(BE373>0)*(BF373>0)","v":0}]
[null,"Deterioro",null,null,null,null,{"$f":"+C374+E374-F374","v":0},null,null,null,null,null,null,null,null,null,null,null,null,null,null,null,null,null,null,null,null,null,null,null,null,null,null,null,null,null,null,null,null,null,null,null,null,null,null,null,null,null,null,null,null,null,null,null,null,"Activos",1,30,{"$f":"(BD374=Parametros[Segmento])*(BE374>0)*(BF374>0)","v":0}]
[null,"Cuentas comerciales por cobrar ",null,{"$f":"SUM(C376:C377)-C378","v":0},{"$f":"SUM(E376:E377)-E378","v":0},{"$f":"SUM(F376:F377)-F378","v":0},null,{"$f":"SUM(G376:G377)-G378","v":0},null,null,null,null,null,null,null,null,null,null,null,null,null,null,null,null,null,null,null,null,null,null,null,null,null,null,null,null,null,null,null,null,null,null,null,null,null,null,null,null,null,null,null,null,null,null,null,"Activos",1,30,{"$f":"(BD375=Parametros[Segmento])*(BE375>0)*(BF375>0)","v":0}]
[null,null,null,null,null,null,{"$f":"+C376+E376-F376","v":0},null,null,null,null,null,null,null,null,null,null,null,null,null,null,null,null,null,null,null,null,null,null,null,null,null,null,null,null,null,null,null,null,null,null,null,null,null,null,null,null,null,null,null,null,null,null,{"$f":"SUBSTITUTE($B$368,CHAR(10),\"\")","v":"Cuentas por Cobrar"},{"$f":"SUBSTITUTE($B$375,CHAR(10),\"\")","v":"Cuentas comerciales por cobrar "},"Activos",{"$f":"(BC376=OFFSET(BC376,1,0))*1","v":1},30,{"$f":"(BD376=Parametros[Segmento])*(BE376>0)*(BF376>0)","v":0}]
[null,null,null,null,null,null,{"$f":"+C377+E377-F377","v":0},null,null,null,null,null,null,null,null,null,null,null,null,null,null,null,null,null,null,null,null,null,null,null,null,null,null,null,null,null,null,null,null,null,null,null,null,null,null,null,null,null,null,null,null,null,null,{"$f":"SUBSTITUTE($B$368,CHAR(10),\"\")","v":"Cuentas por Cobrar"},{"$f":"SUBSTITUTE($B$375,CHAR(10),\"\")","v":"Cuentas comerciales por cobrar "},"Activos",{"$f":"(BC377=OFFSET(BC377,1,0))*1","v":0},30,{"$f":"(BD377=Parametros[Segmento])*(BE377>0)*(BF377>0)","v":0}]
[null,"Deterioro",null,null,null,null,{"$f":"+C378+E378-F378","v":0},null,null,null,null,null,null,null,null,null,null,null,null,null,null,null,null,null,null,null,null,null,null,null,null,null,null,null,null,null,null,null,null,null,null,null,null,null,null,null,null,null,null,null,null,null,null,null,null,"Activos",1,30,{"$f":"(BD378=Parametros[Segmento])*(BE378>0)*(BF378>0)","v":0}]
[null,"Cuentas por cobrar en acuerdos de concesión (modelos del activo financiero) ",null,{"$f":"SUM(C380:C381)-C382","v":0},{"$f":"SUM(E380:E381)-E382","v":0},{"$f":"SUM(F380:F381)-F382","v":0},null,{"$f":"SUM(G380:G381)-G382","v":0},null,null,null,null,null,null,null,null,null,null,null,null,null,null,null,null,null,null,null,null,null,null,null,null,null,null,null,null,null,null,null,null,null,null,null,null,null,null,null,null,null,null,null,null,null,null,null,"Activos",1,40.200000000000003,{"$f":"(BD379=Parametros[Segmento])*(BE379>0)*(BF379>0)","v":0}]
[null,null,null,null,null,null,{"$f":"+C380+E380-F380","v":0},null,null,null,null,null,null,null,null,null,null,null,null,null,null,null,null,null,null,null,null,null,null,null,null,null,null,null,null,null,null,null,null,null,null,null,null,null,null,null,null,null,null,null,null,null,null,{"$f":"SUBSTITUTE($B$368,CHAR(10),\"\")","v":"Cuentas por Cobrar"},{"$f":"SUBSTITUTE($B$379,CHAR(10),\"\")","v":"Cuentas por cobrar en acuerdos de concesión (modelos del activo financiero) "},"Activos",{"$f":"(BC380=OFFSET(BC380,1,0))*1","v":1},30,{"$f":"(BD380=Parametros[Segmento])*(BE380>0)*(BF380>0)","v":0}]
[null,null,null,null,null,null,{"$f":"+C381+E381-F381","v":0},null,null,null,null,null,null,null,null,null,null,null,null,null,null,null,null,null,null,null,null,null,null,null,null,null,null,null,null,null,null,null,null,null,null,null,null,null,null,null,null,null,null,null,null,null,null,{"$f":"SUBSTITUTE($B$368,CHAR(10),\"\")","v":"Cuentas por Cobrar"},{"$f":"SUBSTITUTE($B$379,CHAR(10),\"\")","v":"Cuentas por cobrar en acuerdos de concesión (modelos del activo financiero) "},"Activos",{"$f":"(BC381=OFFSET(BC381,1,0))*1","v":0},30,{"$f":"(BD381=Parametros[Segmento])*(BE381>0)*(BF381>0)","v":0}]
[null,"Deterioro",null,null,null,null,{"$f":"+C382+E382-F382","v":0},null,null,null,null,null,null,null,null,null,null,null,null,null,null,null,null,null,null,null,null,null,null,null,null,null,null,null,null,null,null,null,null,null,null,null,null,null,null,null,null,null,null,null,null,null,null,null,null,"Activos",1,30,{"$f":"(BD382=Parametros[Segmento])*(BE382>0)*(BF382>0)","v":0}]
[null,"Arrendamiento financiero o leasing financiero ",null,{"$f":"SUM(C384:C385)-C386","v":0},{"$f":"SUM(E384:E385)-E386","v":0},{"$f":"SUM(F384:F385)-F386","v":0},null,{"$f":"SUM(G384:G385)-G386","v":0},null,null,null,null,null,null,null,null,null,null,null,null,null,null,null,null,null,null,null,null,null,null,null,null,null,null,null,null,null,null,null,null,null,null,null,null,null,null,null,null,null,null,null,null,null,null,null,"Activos",1,30,{"$f":"(BD383=Parametros[Segmento])*(BE383>0)*(BF383>0)","v":0}]
[null,null,null,null,null,null,{"$f":"+C384+E384-F384","v":0},null,null,null,null,null,null,null,null,null,null,null,null,null,null,null,null,null,null,null,null,null,null,null,null,null,null,null,null,null,null,null,null,null,null,null,null,null,null,null,null,null,null,null,null,null,null,{"$f":"SUBSTITUTE($B$368,CHAR(10),\"\")","v":"Cuentas por Cobrar"},{"$f":"SUBSTITUTE($B$383,CHAR(10),\"\")","v":"Arrendamiento financiero o leasing financiero "},"Activos",{"$f":"(BC384=OFFSET(BC384,1,0))*1","v":1},30,{"$f":"(BD384=Parametros[Segmento])*(BE384>0)*(BF384>0)","v":0}]
[null,null,null,null,null,null,{"$f":"+C385+E385-F385","v":0},null,null,null,null,null,null,null,null,null,null,null,null,null,null,null,null,null,null,null,null,null,null,null,null,null,null,null,null,null,null,null,null,null,null,null,null,null,null,null,null,null,null,null,null,null,null,{"$f":"SUBSTITUTE($B$368,CHAR(10),\"\")","v":"Cuentas por Cobrar"},{"$f":"SUBSTITUTE($B$383,CHAR(10),\"\")","v":"Arrendamiento financiero o leasing financiero "},"Activos",{"$f":"(BC385=OFFSET(BC385,1,0))*1","v":0},30,{"$f":"(BD385=Parametros[Segmento])*(BE385>0)*(BF385>0)","v":0}]
[null,"Deterioro",null,null,null,null,{"$f":"+C386+E386-F386","v":0},null,null,null,null,null,null,null,null,null,null,null,null,null,null,null,null,null,null,null,null,null,null,null,null,null,null,null,null,null,null,null,null,null,null,null,null,null,null,null,null,null,null,null,null,null,null,null,null,"Activos",1,30,{"$f":"(BD386=Parametros[Segmento])*(BE386>0)*(BF386>0)","v":0}]
[null,"Dividendos y participaciones ",null,{"$f":"SUM(C388:C389)-C390","v":0},{"$f":"SUM(E388:E389)-E390","v":0},{"$f":"SUM(F388:F389)-F390","v":0},null,{"$f":"SUM(G388:G389)-G390","v":0},null,null,null,null,null,null,null,null,null,null,null,null,null,null,null,null,null,null,null,null,null,null,null,null,null,null,null,null,null,null,null,null,null,null,null,null,null,null,null,null,null,null,null,null,null,null,null,"Activos",1,30,{"$f":"(BD387=Parametros[Segmento])*(BE387>0)*(BF387>0)","v":0}]
[null,null,null,null,null,null,{"$f":"+C388+E388-F388","v":0},null,null,null,null,null,null,null,null,null,null,null,null,null,null,null,null,null,null,null,null,null,null,null,null,null,null,null,null,null,null,null,null,null,null,null,null,null,null,null,null,null,null,null,null,null,null,{"$f":"SUBSTITUTE($B$368,CHAR(10),\"\")","v":"Cuentas por Cobrar"},{"$f":"SUBSTITUTE($B$387,CHAR(10),\"\")","v":"Dividendos y participaciones "},"Activos",{"$f":"(BC388=OFFSET(BC388,1,0))*1","v":1},30,{"$f":"(BD388=Parametros[Segmento])*(BE388>0)*(BF388>0)","v":0}]
[null,null,null,null,null,null,{"$f":"+C389+E389-F389","v":0},null,null,null,null,null,null,null,null,null,null,null,null,null,null,null,null,null,null,null,null,null,null,null,null,null,null,null,null,null,null,null,null,null,null,null,null,null,null,null,null,null,null,null,null,null,null,{"$f":"SUBSTITUTE($B$368,CHAR(10),\"\")","v":"Cuentas por Cobrar"},{"$f":"SUBSTITUTE($B$387,CHAR(10),\"\")","v":"Dividendos y participaciones "},"Activos",{"$f":"(BC389=OFFSET(BC389,1,0))*1","v":0},30,{"$f":"(BD389=Parametros[Segmento])*(BE389>0)*(BF389>0)","v":0}]
[null,"Deterioro",null,null,null,null,{"$f":"+C390+E390-F390","v":0},null,null,null,null,null,null,null,null,null,null,null,null,null,null,null,null,null,null,null,null,null,null,null,null,null,null,null,null,null,null,null,null,null,null,null,null,null,null,null,null,null,null,null,null,null,null,null,null,"Activos",1,30,{"$f":"(BD390=Parametros[Segmento])*(BE390>0)*(BF390>0)","v":0}]
[null,"Cuentas por cobrar a socios, accionistas o partícipes ",null,{"$f":"SUM(C392:C393)-C394","v":0},{"$f":"SUM(E392:E393)-E394","v":0},{"$f":"SUM(F392:F393)-F394","v":0},null,{"$f":"SUM(G392:G393)-G394","v":0},null,null,null,null,null,null,null,null,null,null,null,null,null,null,null,null,null,null,null,null,null,null,null,null,null,null,null,null,null,null,null,null,null,null,null,null,null,null,null,null,null,null,null,null,null,null,null,"Activos",1,40.200000000000003,{"$f":"(BD391=Parametros[Segmento])*(BE391>0)*(BF391>0)","v":0}]
[null,null,null,null,null,null,{"$f":"+C392+E392-F392","v":0},null,null,null,null,null,null,null,null,null,null,null,null,null,null,null,null,null,null,null,null,null,null,null,null,null,null,null,null,null,null,null,null,null,null,null,null,null,null,null,null,null,null,null,null,null,null,{"$f":"SUBSTITUTE($B$368,CHAR(10),\"\")","v":"Cuentas por Cobrar"},{"$f":"SUBSTITUTE($B$391,CHAR(10),\"\")","v":"Cuentas por cobrar a socios, accionistas o partícipes "},"Activos",{"$f":"(BC392=OFFSET(BC392,1,0))*1","v":1},30,{"$f":"(BD392=Parametros[Segmento])*(BE392>0)*(BF392>0)","v":0}]
[null,null,null,null,null,null,{"$f":"+C393+E393-F393","v":0},null,null,null,null,null,null,null,null,null,null,null,null,null,null,null,null,null,null,null,null,null,null,null,null,null,null,null,null,null,null,null,null,null,null,null,null,null,null,null,null,null,null,null,null,null,null,{"$f":"SUBSTITUTE($B$368,CHAR(10),\"\")","v":"Cuentas por Cobrar"},{"$f":"SUBSTITUTE($B$391,CHAR(10),\"\")","v":"Cuentas por cobrar a socios, accionistas o partícipes "},"Activos",{"$f":"(BC393=OFFSET(BC393,1,0))*1","v":0},30,{"$f":"(BD393=Parametros[Segmento])*(BE393>0)*(BF393>0)","v":0}]
[null,"Deterioro",null,null,null,null,{"$f":"+C394+E394-F394","v":0},null,null,null,null,null,null,null,null,null,null,null,null,null,null,null,null,null,null,null,null,null,null,null,null,null,null,null,null,null,null,null,null,null,null,null,null,null,null,null,null,null,null,null,null,null,null,null,null,"Activos",1,30,{"$f":"(BD394=Parametros[Segmento])*(BE394>0)*(BF394>0)","v":0}]
[null,"Cuentas y documentos por cobrar a otras partes relacionadas y asociadas ",null,{"$f":"SUM(C396:C397)-C398","v":0},{"$f":"SUM(E396:E397)-E398","v":0},{"$f":"SUM(F396:F397)-F398","v":0},null,{"$f":"SUM(G396:G397)-G398","v":0},null,null,null,null,null,null,null,null,null,null,null,null,null,null,null,null,null,null,null,null,null,null,null,null,null,null,null,null,null,null,null,null,null,null,null,null,null,null,null,null,null,null,null,null,null,null,null,"Activos",1,40.200000000000003,{"$f":"(BD395=Parametros[Segmento])*(BE395>0)*(BF395>0)","v":0}]
[null,null,null,null,null,null,{"$f":"+C396+E396-F396","v":0},null,null,null,null,null,null,null,null,null,null,null,null,null,null,null,null,null,null,null,null,null,null,null,null,null,null,null,null,null,null,null,null,null,null,null,null,null,null,null,null,null,null,null,null,null,null,{"$f":"SUBSTITUTE($B$368,CHAR(10),\"\")","v":"Cuentas por Cobrar"},{"$f":"SUBSTITUTE($B$395,CHAR(10),\"\")","v":"Cuentas y documentos por cobrar a otras partes relacionadas y asociadas "},"Activos",{"$f":"(BC396=OFFSET(BC396,1,0))*1","v":1},30,{"$f":"(BD396=Parametros[Segmento])*(BE396>0)*(BF396>0)","v":0}]
[null,null,null,null,null,null,{"$f":"+C397+E397-F397","v":0},null,null,null,null,null,null,null,null,null,null,null,null,null,null,null,null,null,null,null,null,null,null,null,null,null,null,null,null,null,null,null,null,null,null,null,null,null,null,null,null,null,null,null,null,null,null,{"$f":"SUBSTITUTE($B$368,CHAR(10),\"\")","v":"Cuentas por Cobrar"},{"$f":"SUBSTITUTE($B$395,CHAR(10),\"\")","v":"Cuentas y documentos por cobrar a otras partes relacionadas y asociadas "},"Activos",{"$f":"(BC397=OFFSET(BC397,1,0))*1","v":0},30,{"$f":"(BD397=Parametros[Segmento])*(BE397>0)*(BF397>0)","v":0}]
[null,"Deterioro",null,null,null,null,{"$f":"+C398+E398-F398","v":0},null,null,null,null,null,null,null,null,null,null,null,null,null,null,null,null,null,null,null,null,null,null,null,null,null,null,null,null,null,null,null,null,null,null,null,null,null,null,null,null,null,null,null,null,null,null,null,null,"Activos",1,30,{"$f":"(BD398=Parametros[Segmento])*(BE398>0)*(BF398>0)","v":0}]
[null,"Primas de seguros por recaudar ",null,{"$f":"+SUM(C400:C401)","v":0},{"$f":"+SUM(E400:E401)","v":0},{"$f":"+SUM(F400:F401)","v":0},null,{"$f":"+SUM(G400:G401)","v":0},null,null,null,null,null,null,null,null,null,null,null,null,null,null,null,null,null,null,null,null,null,null,null,null,null,null,null,null,null,null,null,null,null,null,null,null,null,null,null,null,null,null,null,null,null,null,null,"Activos",1,30,{"$f":"(BD399=Parametros[Segmento])*(BE399>0)*(BF399>0)","v":0}]
[null,null,null,null,null,null,{"$f":"+C400+E400-F400","v":0},null,null,null,null,null,null,null,null,null,null,null,null,null,null,null,null,null,null,null,null,null,null,null,null,null,null,null,null,null,null,null,null,null,null,null,null,null,null,null,null,null,null,null,null,null,null,{"$f":"SUBSTITUTE($B$368,CHAR(10),\"\")","v":"Cuentas por Cobrar"},{"$f":"SUBSTITUTE($B$399,CHAR(10),\"\")","v":"Primas de seguros por recaudar "},"Activos",{"$f":"(BC400=OFFSET(BC400,1,0))*1","v":1},30,{"$f":"(BD400=Parametros[Segmento])*(BE400>0)*(BF400>0)","v":0}]
[null,null,null,null,null,null,{"$f":"+C401+E401-F401","v":0},null,null,null,null,null,null,null,null,null,null,null,null,null,null,null,null,null,null,null,null,null,null,null,null,null,null,null,null,null,null,null,null,null,null,null,null,null,null,null,null,null,null,null,null,null,null,{"$f":"SUBSTITUTE($B$368,CHAR(10),\"\")","v":"Cuentas por Cobrar"},{"$f":"SUBSTITUTE($B$399,CHAR(10),\"\")","v":"Primas de seguros por recaudar "},"Activos",{"$f":"(BC401=OFFSET(BC401,1,0))*1","v":0},30,{"$f":"(BD401=Parametros[Segmento])*(BE401>0)*(BF401>0)","v":0}]
[null,"Cartera de difícil cobro ",null,{"$f":"SUM(C403:C404)","v":0},{"$f":"SUM(E403:E404)","v":0},{"$f":"SUM(F403:F404)","v":0},null,{"$f":"SUM(G403:G404)","v":0},null,null,null,null,null,null,null,null,null,null,null,null,null,null,null,null,null,null,null,null,null,null,null,null,null,null,null,null,null,null,null,null,null,null,null,null,null,null,null,null,null,null,null,null,null,null,null,"Activos",1,30,{"$f":"(BD402=Parametros[Segmento])*(BE402>0)*(BF402>0)","v":0}]
[null,null,null,null,null,null,{"$f":"+C403+E403-F403","v":0},null,null,null,null,null,null,null,null,null,null,null,null,null,null,null,null,null,null,null,null,null,null,null,null,null,null,null,null,null,null,null,null,null,null,null,null,null,null,null,null,null,null,null,null,null,null,{"$f":"SUBSTITUTE($B$368,CHAR(10),\"\")","v":"Cuentas por Cobrar"},{"$f":"SUBSTITUTE($B$402,CHAR(10),\"\")","v":"Cartera de difícil cobro "},"Activos",{"$f":"(BC403=OFFSET(BC403,1,0))*1","v":1},30,{"$f":"(BD403=Parametros[Segmento])*(BE403>0)*(BF403>0)","v":0}]
[null,null,null,null,null,null,{"$f":"+C404+E404-F404","v":0},null,null,null,null,null,null,null,null,null,null,null,null,null,null,null,null,null,null,null,null,null,null,null,null,null,null,null,null,null,null,null,null,null,null,null,null,null,null,null,null,null,null,null,null,null,null,{"$f":"SUBSTITUTE($B$368,CHAR(10),\"\")","v":"Cuentas por Cobrar"},{"$f":"SUBSTITUTE($B$402,CHAR(10),\"\")","v":"Cartera de difícil cobro "},"Activos",{"$f":"(BC404=OFFSET(BC404,1,0))*1","v":0},30,{"$f":"(BD404=Parametros[Segmento])*(BE404>0)*(BF404>0)","v":0}]
[null,"Reclamaciones por cobrar ",null,{"$f":"SUM(C406:C407)","v":0},{"$f":"SUM(E406:E407)","v":0},{"$f":"SUM(F406:F407)","v":0},null,{"$f":"SUM(G406:G407)","v":0},null,null,null,null,null,null,null,null,null,null,null,null,null,null,null,null,null,null,null,null,null,null,null,null,null,null,null,null,null,null,null,null,null,null,null,null,null,null,null,null,null,null,null,null,null,null,null,"Activos",1,30,{"$f":"(BD405=Parametros[Segmento])*(BE405>0)*(BF405>0)","v":0}]
[null,null,null,null,null,null,{"$f":"+C406+E406-F406","v":0},null,null,null,null,null,null,null,null,null,null,null,null,null,null,null,null,null,null,null,null,null,null,null,null,null,null,null,null,null,null,null,null,null,null,null,null,null,null,null,null,null,null,null,null,null,null,{"$f":"SUBSTITUTE($B$368,CHAR(10),\"\")","v":"Cuentas por Cobrar"},{"$f":"SUBSTITUTE($B$405,CHAR(10),\"\")","v":"Reclamaciones por cobrar "},"Activos",{"$f":"(BC406=OFFSET(BC406,1,0))*1","v":1},30,{"$f":"(BD406=Parametros[Segmento])*(BE406>0)*(BF406>0)","v":0}]
[null,null,null,null,null,null,{"$f":"+C407+E407-F407","v":0},null,null,null,null,null,null,null,null,null,null,null,null,null,null,null,null,null,null,null,null,null,null,null,null,null,null,null,null,null,null,null,null,null,null,null,null,null,null,null,null,null,null,null,null,null,null,{"$f":"SUBSTITUTE($B$368,CHAR(10),\"\")","v":"Cuentas por Cobrar"},{"$f":"SUBSTITUTE($B$405,CHAR(10),\"\")","v":"Reclamaciones por cobrar "},"Activos",{"$f":"(BC407=OFFSET(BC407,1,0))*1","v":0},30,{"$f":"(BD407=Parametros[Segmento])*(BE407>0)*(BF407>0)","v":0}]
[null,"Anticipos de pagos ",null,{"$f":"SUM(C409:C410)","v":0},{"$f":"SUM(E409:E410)","v":0},{"$f":"SUM(F409:F410)","v":0},null,{"$f":"SUM(G409:G410)","v":0},null,null,null,null,null,null,null,null,null,null,null,null,null,null,null,null,null,null,null,null,null,null,null,null,null,null,null,null,null,null,null,null,null,null,null,null,null,null,null,null,null,null,null,null,null,null,null,"Activos",1,30,{"$f":"(BD408=Parametros[Segmento])*(BE408>0)*(BF408>0)","v":0}]
[null,null,null,null,null,null,{"$f":"+C409+E409-F409","v":0},null,null,null,null,null,null,null,null,null,null,null,null,null,null,null,null,null,null,null,null,null,null,null,null,null,null,null,null,null,null,null,null,null,null,null,null,null,null,null,null,null,null,null,null,null,null,{"$f":"SUBSTITUTE($B$368,CHAR(10),\"\")","v":"Cuentas por Cobrar"},{"$f":"SUBSTITUTE($B$408,CHAR(10),\"\")","v":"Anticipos de pagos "},"Activos",{"$f":"(BC409=OFFSET(BC409,1,0))*1","v":1},30,{"$f":"(BD409=Parametros[Segmento])*(BE409>0)*(BF409>0)","v":0}]
[null,null,null,null,null,null,{"$f":"+C410+E410-F410","v":0},null,null,null,null,null,null,null,null,null,null,null,null,null,null,null,null,null,null,null,null,null,null,null,null,null,null,null,null,null,null,null,null,null,null,null,null,null,null,null,null,null,null,null,null,null,null,{"$f":"SUBSTITUTE($B$368,CHAR(10),\"\")","v":"Cuentas por Cobrar"},{"$f":"SUBSTITUTE($B$408,CHAR(10),\"\")","v":"Anticipos de pagos "},"Activos",{"$f":"(BC410=OFFSET(BC410,1,0))*1","v":0},30,{"$f":"(BD410=Parametros[Segmento])*(BE410>0)*(BF410>0)","v":0}]
[null,"Otras cuentas y documentos por cobrar ",null,{"$f":"SUM(C412:C413)-C414","v":0},{"$f":"SUM(E412:E413)-E414","v":0},{"$f":"SUM(F412:F413)-F414","v":0},null,{"$f":"SUM(G412:G413)-G414","v":0},null,null,null,null,null,null,null,null,null,null,null,null,null,null,null,null,null,null,null,null,null,null,null,null,null,null,null,null,null,null,null,null,null,null,null,null,null,null,null,null,null,null,null,null,null,null,null,"Activos",1,30,{"$f":"(BD411=Parametros[Segmento])*(BE411>0)*(BF411>0)","v":0}]
[null,null,null,null,null,null,{"$f":"+C412+E412-F412","v":0},null,null,null,null,null,null,null,null,null,null,null,null,null,null,null,null,null,null,null,null,null,null,null,null,null,null,null,null,null,null,null,null,null,null,null,null,null,null,null,null,null,null,null,null,null,null,{"$f":"SUBSTITUTE($B$368,CHAR(10),\"\")","v":"Cuentas por Cobrar"},{"$f":"SUBSTITUTE($B$411,CHAR(10),\"\")","v":"Otras cuentas y documentos por cobrar "},"Activos",{"$f":"(BC412=OFFSET(BC412,1,0))*1","v":1},30,{"$f":"(BD412=Parametros[Segmento])*(BE412>0)*(BF412>0)","v":0}]
[null,null,null,null,null,null,{"$f":"+C413+E413-F413","v":0},null,null,null,null,null,null,null,null,null,null,null,null,null,null,null,null,null,null,null,null,null,null,null,null,null,null,null,null,null,null,null,null,null,null,null,null,null,null,null,null,null,null,null,null,null,null,{"$f":"SUBSTITUTE($B$368,CHAR(10),\"\")","v":"Cuentas por Cobrar"},{"$f":"SUBSTITUTE($B$411,CHAR(10),\"\")","v":"Otras cuentas y documentos por cobrar "},"Activos",{"$f":"(BC413=OFFSET(BC413,1,0))*1","v":0},30,{"$f":"(BD413=Parametros[Segmento])*(BE413>0)*(BF413>0)","v":0}]
[null,"Deterioro",null,null,null,null,{"$f":"+C414+E414-F414","v":0},null,null,null,null,null,null,null,null,null,null,null,null,null,null,null,null,null,null,null,null,null,null,null,null,null,null,null,null,null,null,null,null,null,null,null,null,null,null,null,null,null,null,null,null,null,null,null,null,"Activos",1,30,{"$f":"(BD414=Parametros[Segmento])*(BE414>0)*(BF414>0)","v":0}]
[null,"Totales ",null,{"$f":"SUM(D371:D414)","v":0},null,null,null,{"$f":"SUM(H371:H414)","v":0},null,null,null,null,null,null,null,null,null,null,null,null,null,null,null,null,null,null,null,null,null,null,null,null,null,null,null,null,null,null,null,null,null,null,null,null,null,null,null,null,null,null,null,null,null,null,null,"Activos",1,30,{"$f":"(BD415=Parametros[Segmento])*(BE415>0)*(BF415>0)","v":0}]
[null,null,null,null,null,null,null,null,null,null,null,null,null,null,null,null,null,null,null,null,null,null,null,null,null,null,null,null,null,null,null,null,null,null,null,null,null,null,null,null,null,null,null,null,null,null,null,null,null,null,null,null,null,null,null,"Activos",1,30,{"$f":"(BD416=Parametros[Segmento])*(BE416>0)*(BF416>0)","v":0}]
[null,"Inventarios",null,null,null,null,null,null,null,null,null,null,null,null,null,null,null,null,null,null,null,null,null,null,null,null,null,null,null,null,null,null,null,null,null,null,null,null,null,null,null,null,null,null,null,null,null,null,null,null,null,null,null,null,null,"Activos",1,30,{"$f":"(BD417=Parametros[Segmento])*(BE417>0)*(BF417>0)","v":0}]
[null,"Concepto/Descripción","Valores Contables",null,"Ajuste",null,"Valores Fiscales",null,null,null,null,null,null,null,null,null,null,null,null,null,null,null,null,null,null,null,null,null,null,null,null,null,null,null,null,null,null,null,null,null,null,null,null,null,null,null,null,null,null,null,null,null,null,null,null,"Activos",1,30,{"$f":"(BD418=Parametros[Segmento])*(BE418>0)*(BF418>0)","v":0}]
[null,null,"Saldos Parciales ","Saldos Totales ","Mayor Valor Fiscal","Menor Valor Fiscal","Saldos Parciales","Saldos Totales ",null,null,null,null,null,null,null,null,null,null,null,null,null,null,null,null,null,null,null,null,null,null,null,null,null,null,null,null,null,null,null,null,null,null,null,null,null,null,null,null,null,null,null,null,null,null,null,"Activos",1,30,{"$f":"(BD419=Parametros[Segmento])*(BE419>0)*(BF419>0)","v":0}]
[null,"Inventarios para la venta no producidos por la empresa ",null,{"$f":"SUM(C421:C422)-C423","v":0},{"$f":"SUM(E421:E422)-E423","v":0},{"$f":"SUM(F421:F422)-F423","v":0},null,{"$f":"SUM(G421:G422)-G423","v":0},null,null,null,null,null,null,null,null,null,null,null,null,null,null,null,null,null,null,null,null,null,null,null,null,null,null,null,null,null,null,null,null,null,null,null,null,null,null,null,null,null,null,null,null,null,null,null,"Activos",1,40.200000000000003,{"$f":"(BD420=Parametros[Segmento])*(BE420>0)*(BF420>0)","v":0}]
[null,null,null,null,null,null,{"$f":"+C421+E421-F421","v":0},null,null,null,null,null,null,null,null,null,null,null,null,null,null,null,null,null,null,null,null,null,null,null,null,null,null,null,null,null,null,null,null,null,null,null,null,null,null,null,null,null,null,null,null,null,null,{"$f":"SUBSTITUTE($B$417,CHAR(10),\"\")","v":"Inventarios"},{"$f":"SUBSTITUTE($B$420,CHAR(10),\"\")","v":"Inventarios para la venta no producidos por la empresa "},"Activos",{"$f":"(BC421=OFFSET(BC421,1,0))*1","v":1},30,{"$f":"(BD421=Parametros[Segmento])*(BE421>0)*(BF421>0)","v":0}]
[null,null,null,null,null,null,{"$f":"+C422+E422-F422","v":0},null,null,null,null,null,null,null,null,null,null,null,null,null,null,null,null,null,null,null,null,null,null,null,null,null,null,null,null,null,null,null,null,null,null,null,null,null,null,null,null,null,null,null,null,null,null,{"$f":"SUBSTITUTE($B$417,CHAR(10),\"\")","v":"Inventarios"},{"$f":"SUBSTITUTE($B$420,CHAR(10),\"\")","v":"Inventarios para la venta no producidos por la empresa "},"Activos",{"$f":"(BC422=OFFSET(BC422,1,0))*1","v":0},30,{"$f":"(BD422=Parametros[Segmento])*(BE422>0)*(BF422>0)","v":0}]
[null,"Deterioro",null,null,null,null,{"$f":"+C423+E423-F423","v":0},null,null,null,null,null,null,null,null,null,null,null,null,null,null,null,null,null,null,null,null,null,null,null,null,null,null,null,null,null,null,null,null,null,null,null,null,null,null,null,null,null,null,null,null,null,null,null,null,"Activos",1,30,{"$f":"(BD423=Parametros[Segmento])*(BE423>0)*(BF423>0)","v":0}]
[null,"Inventarios en proceso (diferentes de obras o inmuebles en construcción para la venta)",null,{"$f":"SUM(C425:C426)-C427","v":0},{"$f":"SUM(E425:E426)-E427","v":0},{"$f":"SUM(F425:F426)-F427","v":0},null,{"$f":"SUM(G425:G426)-G427","v":0},null,null,null,null,null,null,null,null,null,null,null,null,null,null,null,null,null,null,null,null,null,null,null,null,null,null,null,null,null,null,null,null,null,null,null,null,null,null,null,null,null,null,null,null,null,null,null,"Activos",1,40.200000000000003,{"$f":"(BD424=Parametros[Segmento])*(BE424>0)*(BF424>0)","v":0}]
[null,null,null,null,null,null,{"$f":"+C425+E425-F425","v":0},null,null,null,null,null,null,null,null,null,null,null,null,null,null,null,null,null,null,null,null,null,null,null,null,null,null,null,null,null,null,null,null,null,null,null,null,null,null,null,null,null,null,null,null,null,null,{"$f":"SUBSTITUTE($B$417,CHAR(10),\"\")","v":"Inventarios"},{"$f":"SUBSTITUTE($B$424,CHAR(10),\"\")","v":"Inventarios en proceso (diferentes de obras o inmuebles en construcción para la venta)"},"Activos",{"$f":"(BC425=OFFSET(BC425,1,0))*1","v":1},30,{"$f":"(BD425=Parametros[Segmento])*(BE425>0)*(BF425>0)","v":0}]
[null,null,null,null,null,null,{"$f":"+C426+E426-F426","v":0},null,null,null,null,null,null,null,null,null,null,null,null,null,null,null,null,null,null,null,null,null,null,null,null,null,null,null,null,null,null,null,null,null,null,null,null,null,null,null,null,null,null,null,null,null,null,{"$f":"SUBSTITUTE($B$417,CHAR(10),\"\")","v":"Inventarios"},{"$f":"SUBSTITUTE($B$424,CHAR(10),\"\")","v":"Inventarios en proceso (diferentes de obras o inmuebles en construcción para la venta)"},"Activos",{"$f":"(BC426=OFFSET(BC426,1,0))*1","v":0},30,{"$f":"(BD426=Parametros[Segmento])*(BE426>0)*(BF426>0)","v":0}]
[null,"Deterioro",null,null,null,null,{"$f":"+C427+E427-F427","v":0},null,null,null,null,null,null,null,null,null,null,null,null,null,null,null,null,null,null,null,null,null,null,null,null,null,null,null,null,null,null,null,null,null,null,null,null,null,null,null,null,null,null,null,null,null,null,null,null,"Activos",1,30,{"$f":"(BD427=Parametros[Segmento])*(BE427>0)*(BF427>0)","v":0}]
[null,"Materias primas, suministros y materiales",null,{"$f":"SUM(C429:C430)-C431","v":0},{"$f":"SUM(E429:E430)-E431","v":0},{"$f":"SUM(F429:F430)-F431","v":0},null,{"$f":"SUM(G429:G430)-G431","v":0},null,null,null,null,null,null,null,null,null,null,null,null,null,null,null,null,null,null,null,null,null,null,null,null,null,null,null,null,null,null,null,null,null,null,null,null,null,null,null,null,null,null,null,null,null,null,null,"Activos",1,30,{"$f":"(BD428=Parametros[Segmento])*(BE428>0)*(BF428>0)","v":0}]
[null,null,null,null,null,null,{"$f":"+C429+E429-F429","v":0},null,null,null,null,null,null,null,null,null,null,null,null,null,null,null,null,null,null,null,null,null,null,null,null,null,null,null,null,null,null,null,null,null,null,null,null,null,null,null,null,null,null,null,null,null,null,{"$f":"SUBSTITUTE($B$417,CHAR(10),\"\")","v":"Inventarios"},{"$f":"SUBSTITUTE($B$428,CHAR(10),\"\")","v":"Materias primas, suministros y materiales"},"Activos",{"$f":"(BC429=OFFSET(BC429,1,0))*1","v":1},30,{"$f":"(BD429=Parametros[Segmento])*(BE429>0)*(BF429>0)","v":0}]
[null,null,null,null,null,null,{"$f":"+C430+E430-F430","v":0},null,null,null,null,null,null,null,null,null,null,null,null,null,null,null,null,null,null,null,null,null,null,null,null,null,null,null,null,null,null,null,null,null,null,null,null,null,null,null,null,null,null,null,null,null,null,{"$f":"SUBSTITUTE($B$417,CHAR(10),\"\")","v":"Inventarios"},{"$f":"SUBSTITUTE($B$428,CHAR(10),\"\")","v":"Materias primas, suministros y materiales"},"Activos",{"$f":"(BC430=OFFSET(BC430,1,0))*1","v":0},30,{"$f":"(BD430=Parametros[Segmento])*(BE430>0)*(BF430>0)","v":0}]
[null,"Deterioro",null,null,null,null,{"$f":"+C431+E431-F431","v":0},null,null,null,null,null,null,null,null,null,null,null,null,null,null,null,null,null,null,null,null,null,null,null,null,null,null,null,null,null,null,null,null,null,null,null,null,null,null,null,null,null,null,null,null,null,null,null,null,"Activos",1,30,{"$f":"(BD431=Parametros[Segmento])*(BE431>0)*(BF431>0)","v":0}]
[null,"Inventarios en tránsito ",null,{"$f":"SUM(C433:C434)-C435","v":0},{"$f":"SUM(E433:E434)-E435","v":0},{"$f":"SUM(F433:F434)-F435","v":0},null,{"$f":"SUM(G433:G434)-G435","v":0},null,null,null,null,null,null,null,null,null,null,null,null,null,null,null,null,null,null,null,null,null,null,null,null,null,null,null,null,null,null,null,null,null,null,null,null,null,null,null,null,null,null,null,null,null,null,null,"Activos",1,30,{"$f":"(BD432=Parametros[Segmento])*(BE432>0)*(BF432>0)","v":0}]
[null,null,null,null,null,null,{"$f":"+C433+E433-F433","v":0},null,null,null,null,null,null,null,null,null,null,null,null,null,null,null,null,null,null,null,null,null,null,null,null,null,null,null,null,null,null,null,null,null,null,null,null,null,null,null,null,null,null,null,null,null,null,{"$f":"SUBSTITUTE($B$417,CHAR(10),\"\")","v":"Inventarios"},{"$f":"SUBSTITUTE($B$432,CHAR(10),\"\")","v":"Inventarios en tránsito "},"Activos",{"$f":"(BC433=OFFSET(BC433,1,0))*1","v":1},30,{"$f":"(BD433=Parametros[Segmento])*(BE433>0)*(BF433>0)","v":0}]
[null,null,null,null,null,null,{"$f":"+C434+E434-F434","v":0},null,null,null,null,null,null,null,null,null,null,null,null,null,null,null,null,null,null,null,null,null,null,null,null,null,null,null,null,null,null,null,null,null,null,null,null,null,null,null,null,null,null,null,null,null,null,{"$f":"SUBSTITUTE($B$417,CHAR(10),\"\")","v":"Inventarios"},{"$f":"SUBSTITUTE($B$432,CHAR(10),\"\")","v":"Inventarios en tránsito "},"Activos",{"$f":"(BC434=OFFSET(BC434,1,0))*1","v":0},30,{"$f":"(BD434=Parametros[Segmento])*(BE434>0)*(BF434>0)","v":0}]
[null,"Deterioro",null,null,null,null,{"$f":"+C435+E435-F435","v":0},null,null,null,null,null,null,null,null,null,null,null,null,null,null,null,null,null,null,null,null,null,null,null,null,null,null,null,null,null,null,null,null,null,null,null,null,null,null,null,null,null,null,null,null,null,null,null,null,"Activos",1,30,{"$f":"(BD435=Parametros[Segmento])*(BE435>0)*(BF435>0)","v":0}]
[null,"Obras o inmuebles en construcción para la venta",null,{"$f":"SUM(C437:C438)-C439","v":0},{"$f":"SUM(E437:E438)-E439","v":0},{"$f":"SUM(F437:F438)-F439","v":0},null,{"$f":"SUM(G437:G438)-G439","v":0},null,null,null,null,null,null,null,null,null,null,null,null,null,null,null,null,null,null,null,null,null,null,null,null,null,null,null,null,null,null,null,null,null,null,null,null,null,null,null,null,null,null,null,null,null,null,null,"Activos",1,30,{"$f":"(BD436=Parametros[Segmento])*(BE436>0)*(BF436>0)","v":0}]
[null,null,null,null,null,null,{"$f":"+C437+E437-F437","v":0},null,null,null,null,null,null,null,null,null,null,null,null,null,null,null,null,null,null,null,null,null,null,null,null,null,null,null,null,null,null,null,null,null,null,null,null,null,null,null,null,null,null,null,null,null,null,{"$f":"SUBSTITUTE($B$417,CHAR(10),\"\")","v":"Inventarios"},{"$f":"SUBSTITUTE($B$436,CHAR(10),\"\")","v":"Obras o inmuebles en construcción para la venta"},"Activos",{"$f":"(BC437=OFFSET(BC437,1,0))*1","v":1},30,{"$f":"(BD437=Parametros[Segmento])*(BE437>0)*(BF437>0)","v":0}]
[null,null,null,null,null,null,{"$f":"+C438+E438-F438","v":0},null,null,null,null,null,null,null,null,null,null,null,null,null,null,null,null,null,null,null,null,null,null,null,null,null,null,null,null,null,null,null,null,null,null,null,null,null,null,null,null,null,null,null,null,null,null,{"$f":"SUBSTITUTE($B$417,CHAR(10),\"\")","v":"Inventarios"},{"$f":"SUBSTITUTE($B$436,CHAR(10),\"\")","v":"Obras o inmuebles en construcción para la venta"},"Activos",{"$f":"(BC438=OFFSET(BC438,1,0))*1","v":0},30,{"$f":"(BD438=Parametros[Segmento])*(BE438>0)*(BF438>0)","v":0}]
[null,"Deterioro",null,null,null,null,{"$f":"+C439+E439-F439","v":0},null,null,null,null,null,null,null,null,null,null,null,null,null,null,null,null,null,null,null,null,null,null,null,null,null,null,null,null,null,null,null,null,null,null,null,null,null,null,null,null,null,null,null,null,null,null,null,null,"Activos",1,30,{"$f":"(BD439=Parametros[Segmento])*(BE439>0)*(BF439>0)","v":0}]
[null,"Obras o inmuebles terminados para la venta",null,{"$f":"SUM(C441:C442)-C443","v":0},{"$f":"SUM(E441:E442)-E443","v":0},{"$f":"SUM(F441:F442)-F443","v":0},null,{"$f":"SUM(G441:G442)-G443","v":0},null,null,null,null,null,null,null,null,null,null,null,null,null,null,null,null,null,null,null,null,null,null,null,null,null,null,null,null,null,null,null,null,null,null,null,null,null,null,null,null,null,null,null,null,null,null,null,"Activos",1,30,{"$f":"(BD440=Parametros[Segmento])*(BE440>0)*(BF440>0)","v":0}]
[null,null,null,null,null,null,{"$f":"+C441+E441-F441","v":0},null,null,null,null,null,null,null,null,null,null,null,null,null,null,null,null,null,null,null,null,null,null,null,null,null,null,null,null,null,null,null,null,null,null,null,null,null,null,null,null,null,null,null,null,null,null,{"$f":"SUBSTITUTE($B$417,CHAR(10),\"\")","v":"Inventarios"},{"$f":"SUBSTITUTE($B$440,CHAR(10),\"\")","v":"Obras o inmuebles terminados para la venta"},"Activos",{"$f":"(BC441=OFFSET(BC441,1,0))*1","v":1},30,{"$f":"(BD441=Parametros[Segmento])*(BE441>0)*(BF441>0)","v":0}]
[null,null,null,null,null,null,{"$f":"+C442+E442-F442","v":0},null,null,null,null,null,null,null,null,null,null,null,null,null,null,null,null,null,null,null,null,null,null,null,null,null,null,null,null,null,null,null,null,null,null,null,null,null,null,null,null,null,null,null,null,null,null,{"$f":"SUBSTITUTE($B$417,CHAR(10),\"\")","v":"Inventarios"},{"$f":"SUBSTITUTE($B$440,CHAR(10),\"\")","v":"Obras o inmuebles terminados para la venta"},"Activos",{"$f":"(BC442=OFFSET(BC442,1,0))*1","v":0},30,{"$f":"(BD442=Parametros[Segmento])*(BE442>0)*(BF442>0)","v":0}]
[null,"Deterioro",null,null,null,null,{"$f":"+C443+E443-F443","v":0},null,null,null,null,null,null,null,null,null,null,null,null,null,null,null,null,null,null,null,null,null,null,null,null,null,null,null,null,null,null,null,null,null,null,null,null,null,null,null,null,null,null,null,null,null,null,null,null,"Activos",1,30,{"$f":"(BD443=Parametros[Segmento])*(BE443>0)*(BF443>0)","v":0}]
[null,"Producto terminado (diferentes de obras o inmuebles terminados para la venta)",null,{"$f":"SUM(C445:C446)-C447","v":0},{"$f":"SUM(E445:E446)-E447","v":0},{"$f":"SUM(F445:F446)-F447","v":0},null,{"$f":"SUM(G445:G446)-G447","v":0},null,null,null,null,null,null,null,null,null,null,null,null,null,null,null,null,null,null,null,null,null,null,null,null,null,null,null,null,null,null,null,null,null,null,null,null,null,null,null,null,null,null,null,null,null,null,null,"Activos",1,40.200000000000003,{"$f":"(BD444=Parametros[Segmento])*(BE444>0)*(BF444>0)","v":0}]
[null,null,null,null,null,null,{"$f":"+C445+E445-F445","v":0},null,null,null,null,null,null,null,null,null,null,null,null,null,null,null,null,null,null,null,null,null,null,null,null,null,null,null,null,null,null,null,null,null,null,null,null,null,null,null,null,null,null,null,null,null,null,{"$f":"SUBSTITUTE($B$417,CHAR(10),\"\")","v":"Inventarios"},{"$f":"SUBSTITUTE($B$444,CHAR(10),\"\")","v":"Producto terminado (diferentes de obras o inmuebles terminados para la venta)"},"Activos",{"$f":"(BC445=OFFSET(BC445,1,0))*1","v":1},30,{"$f":"(BD445=Parametros[Segmento])*(BE445>0)*(BF445>0)","v":0}]
[null,null,null,null,null,null,{"$f":"+C446+E446-F446","v":0},null,null,null,null,null,null,null,null,null,null,null,null,null,null,null,null,null,null,null,null,null,null,null,null,null,null,null,null,null,null,null,null,null,null,null,null,null,null,null,null,null,null,null,null,null,null,{"$f":"SUBSTITUTE($B$417,CHAR(10),\"\")","v":"Inventarios"},{"$f":"SUBSTITUTE($B$444,CHAR(10),\"\")","v":"Producto terminado (diferentes de obras o inmuebles terminados para la venta)"},"Activos",{"$f":"(BC446=OFFSET(BC446,1,0))*1","v":0},30,{"$f":"(BD446=Parametros[Segmento])*(BE446>0)*(BF446>0)","v":0}]
[null,"Deterioro",null,null,null,null,{"$f":"+C447+E447-F447","v":0},null,null,null,null,null,null,null,null,null,null,null,null,null,null,null,null,null,null,null,null,null,null,null,null,null,null,null,null,null,null,null,null,null,null,null,null,null,null,null,null,null,null,null,null,null,null,null,null,"Activos",1,30,{"$f":"(BD447=Parametros[Segmento])*(BE447>0)*(BF447>0)","v":0}]
[null,"Piezas de repuesto y equipo auxiliar clasificados como inventarios",null,{"$f":"+SUM(C449:C450)-C451","v":0},{"$f":"+SUM(E449:E450)-E451","v":0},{"$f":"+SUM(F449:F450)-F451","v":0},null,{"$f":"+SUM(G449:G450)-G451","v":0},null,null,null,null,null,null,null,null,null,null,null,null,null,null,null,null,null,null,null,null,null,null,null,null,null,null,null,null,null,null,null,null,null,null,null,null,null,null,null,null,null,null,null,null,null,null,null,"Activos",1,40.200000000000003,{"$f":"(BD448=Parametros[Segmento])*(BE448>0)*(BF448>0)","v":0}]
[null,null,null,null,null,null,{"$f":"+C449+E449-F449","v":0},null,null,null,null,null,null,null,null,null,null,null,null,null,null,null,null,null,null,null,null,null,null,null,null,null,null,null,null,null,null,null,null,null,null,null,null,null,null,null,null,null,null,null,null,null,null,{"$f":"SUBSTITUTE($B$417,CHAR(10),\"\")","v":"Inventarios"},{"$f":"SUBSTITUTE($B$448,CHAR(10),\"\")","v":"Piezas de repuesto y equipo auxiliar clasificados como inventarios"},"Activos",{"$f":"(BC449=OFFSET(BC449,1,0))*1","v":1},30,{"$f":"(BD449=Parametros[Segmento])*(BE449>0)*(BF449>0)","v":0}]
[null,null,null,null,null,null,{"$f":"+C450+E450-F450","v":0},null,null,null,null,null,null,null,null,null,null,null,null,null,null,null,null,null,null,null,null,null,null,null,null,null,null,null,null,null,null,null,null,null,null,null,null,null,null,null,null,null,null,null,null,null,null,{"$f":"SUBSTITUTE($B$417,CHAR(10),\"\")","v":"Inventarios"},{"$f":"SUBSTITUTE($B$448,CHAR(10),\"\")","v":"Piezas de repuesto y equipo auxiliar clasificados como inventarios"},"Activos",{"$f":"(BC450=OFFSET(BC450,1,0))*1","v":0},30,{"$f":"(BD450=Parametros[Segmento])*(BE450>0)*(BF450>0)","v":0}]
[null,"Deterioro",null,null,null,null,{"$f":"+C451+E451-F451","v":0},null,null,null,null,null,null,null,null,null,null,null,null,null,null,null,null,null,null,null,null,null,null,null,null,null,null,null,null,null,null,null,null,null,null,null,null,null,null,null,null,null,null,null,null,null,null,null,null,"Activos",1,30,{"$f":"(BD451=Parametros[Segmento])*(BE451>0)*(BF451>0)","v":0}]
[null,"Inventario que surge de la actividad de extracción",null,{"$f":"SUM(C453:C454)-C455","v":0},{"$f":"SUM(E453:E454)-E455","v":0},{"$f":"SUM(F453:F454)-F455","v":0},null,{"$f":"SUM(G453:G454)-G455","v":0},null,null,null,null,null,null,null,null,null,null,null,null,null,null,null,null,null,null,null,null,null,null,null,null,null,null,null,null,null,null,null,null,null,null,null,null,null,null,null,null,null,null,null,null,null,null,null,"Activos",1,30,{"$f":"(BD452=Parametros[Segmento])*(BE452>0)*(BF452>0)","v":0}]
[null,null,null,null,null,null,{"$f":"+C453+E453-F453","v":0},null,null,null,null,null,null,null,null,null,null,null,null,null,null,null,null,null,null,null,null,null,null,null,null,null,null,null,null,null,null,null,null,null,null,null,null,null,null,null,null,null,null,null,null,null,null,{"$f":"SUBSTITUTE($B$417,CHAR(10),\"\")","v":"Inventarios"},{"$f":"SUBSTITUTE($B$452,CHAR(10),\"\")","v":"Inventario que surge de la actividad de extracción"},"Activos",{"$f":"(BC453=OFFSET(BC453,1,0))*1","v":1},30,{"$f":"(BD453=Parametros[Segmento])*(BE453>0)*(BF453>0)","v":0}]
[null,null,null,null,null,null,{"$f":"+C454+E454-F454","v":0},null,null,null,null,null,null,null,null,null,null,null,null,null,null,null,null,null,null,null,null,null,null,null,null,null,null,null,null,null,null,null,null,null,null,null,null,null,null,null,null,null,null,null,null,null,null,{"$f":"SUBSTITUTE($B$417,CHAR(10),\"\")","v":"Inventarios"},{"$f":"SUBSTITUTE($B$452,CHAR(10),\"\")","v":"Inventario que surge de la actividad de extracción"},"Activos",{"$f":"(BC454=OFFSET(BC454,1,0))*1","v":0},30,{"$f":"(BD454=Parametros[Segmento])*(BE454>0)*(BF454>0)","v":0}]
[null,"Deterioro",null,null,null,null,{"$f":"+C455+E455-F455","v":0},null,null,null,null,null,null,null,null,null,null,null,null,null,null,null,null,null,null,null,null,null,null,null,null,null,null,null,null,null,null,null,null,null,null,null,null,null,null,null,null,null,null,null,null,null,null,null,null,"Activos",1,30,{"$f":"(BD455=Parametros[Segmento])*(BE455>0)*(BF455>0)","v":0}]
[null,"Costos prestadores de servicios",null,{"$f":"SUM(C457:C458)","v":0},{"$f":"SUM(E457:E458)","v":0},{"$f":"SUM(F457:F458)","v":0},null,{"$f":"SUM(G457:G458)","v":0},null,null,null,null,null,null,null,null,null,null,null,null,null,null,null,null,null,null,null,null,null,null,null,null,null,null,null,null,null,null,null,null,null,null,null,null,null,null,null,null,null,null,null,null,null,null,null,"Activos",1,30,{"$f":"(BD456=Parametros[Segmento])*(BE456>0)*(BF456>0)","v":0}]
[null,null,null,null,null,null,{"$f":"+C457+E457-F457","v":0},null,null,null,null,null,null,null,null,null,null,null,null,null,null,null,null,null,null,null,null,null,null,null,null,null,null,null,null,null,null,null,null,null,null,null,null,null,null,null,null,null,null,null,null,null,null,{"$f":"SUBSTITUTE($B$417,CHAR(10),\"\")","v":"Inventarios"},{"$f":"SUBSTITUTE($B$456,CHAR(10),\"\")","v":"Costos prestadores de servicios"},"Activos",{"$f":"(BC457=OFFSET(BC457,1,0))*1","v":1},30,{"$f":"(BD457=Parametros[Segmento])*(BE457>0)*(BF457>0)","v":0}]
[null,null,null,null,null,null,{"$f":"+C458+E458-F458","v":0},null,null,null,null,null,null,null,null,null,null,null,null,null,null,null,null,null,null,null,null,null,null,null,null,null,null,null,null,null,null,null,null,null,null,null,null,null,null,null,null,null,null,null,null,null,null,{"$f":"SUBSTITUTE($B$417,CHAR(10),\"\")","v":"Inventarios"},{"$f":"SUBSTITUTE($B$456,CHAR(10),\"\")","v":"Costos prestadores de servicios"},"Activos",{"$f":"(BC458=OFFSET(BC458,1,0))*1","v":0},30,{"$f":"(BD458=Parametros[Segmento])*(BE458>0)*(BF458>0)","v":0}]
[null,null,"Totales ",{"$f":"SUM(D420:D458)","v":0},null,null,null,{"$f":"SUM(H420:H458)","v":0},null,null,null,null,null,null,null,null,null,null,null,null,null,null,null,null,null,null,null,null,null,null,null,null,null,null,null,null,null,null,null,null,null,null,null,null,null,null,null,null,null,null,null,null,null,null,null,"Activos",1,30,{"$f":"(BD459=Parametros[Segmento])*(BE459>0)*(BF459>0)","v":0}]
[null,null,null,null,null,null,null,null,null,null,null,null,null,null,null,null,null,null,null,null,null,null,null,null,null,null,null,null,null,null,null,null,null,null,null,null,null,null,null,null,null,null,null,null,null,null,null,null,null,null,null,null,null,null,null,"Activos",1,30,{"$f":"(BD460=Parametros[Segmento])*(BE460>0)*(BF460>0)","v":0}]
[null,"Propiedades, Planta y Equipo",null,null,null,null,null,null,null,null,null,null,null,null,null,null,null,null,null,null,null,null,null,null,null,null,null,null,null,null,null,null,null,null,null,null,null,null,null,null,null,null,null,null,null,null,null,null,null,null,null,null,null,null,null,"Activos",1,30,{"$f":"(BD461=Parametros[Segmento])*(BE461>0)*(BF461>0)","v":0}]
[null,"Concepto/Descripción","Valores Contables",null,"Ajuste",null,"Valores Fiscales",null,null,null,null,null,null,null,null,null,null,null,null,null,null,null,null,null,null,null,null,null,null,null,null,null,null,null,null,null,null,null,null,null,null,null,null,null,null,null,null,null,null,null,null,null,null,null,null,"Activos",1,30,{"$f":"(BD462=Parametros[Segmento])*(BE462>0)*(BF462>0)","v":0}]
[null,null,"Saldos Parciales ","Saldos Totales ","Mayor Valor Fiscal","Menor Valor Fiscal","Saldos Parciales","Saldos Totales ",null,null,null,null,null,null,null,null,null,null,null,null,null,null,null,null,null,null,null,null,null,null,null,null,null,null,null,null,null,null,null,null,null,null,null,null,null,null,null,null,null,null,null,null,null,null,null,"Activos",1,30,{"$f":"(BD463=Parametros[Segmento])*(BE463>0)*(BF463>0)","v":0}]
[null,"Terrenos ",null,{"$f":"SUM(C465:C466)-C467-C468","v":0},{"$f":"SUM(E465:E466)-E467-E468","v":0},{"$f":"SUM(F465:F466)-F467-F468","v":0},null,{"$f":"SUM(G465:G466)-G467-G468","v":0},null,null,null,null,null,null,null,null,null,null,null,null,null,null,null,null,null,null,null,null,null,null,null,null,null,null,null,null,null,null,null,null,null,null,null,null,null,null,null,null,null,null,null,null,null,null,null,"Activos",1,30,{"$f":"(BD464=Parametros[Segmento])*(BE464>0)*(BF464>0)","v":0}]
[null,null,null,null,null,null,{"$f":"+C465+E465-F465","v":0},null,null,null,null,null,null,null,null,null,null,null,null,null,null,null,null,null,null,null,null,null,null,null,null,null,null,null,null,null,null,null,null,null,null,null,null,null,null,null,null,null,null,null,null,null,null,{"$f":"SUBSTITUTE($B$461,CHAR(10),\"\")","v":"Propiedades, Planta y Equipo"},{"$f":"SUBSTITUTE($B$464,CHAR(10),\"\")","v":"Terrenos "},"Activos",{"$f":"(BC465=OFFSET(BC465,1,0))*1","v":1},30,{"$f":"(BD465=Parametros[Segmento])*(BE465>0)*(BF465>0)","v":0}]
[null,null,null,null,null,null,{"$f":"+C466+E466-F466","v":0},null,null,null,null,null,null,null,null,null,null,null,null,null,null,null,null,null,null,null,null,null,null,null,null,null,null,null,null,null,null,null,null,null,null,null,null,null,null,null,null,null,null,null,null,null,null,{"$f":"SUBSTITUTE($B$461,CHAR(10),\"\")","v":"Propiedades, Planta y Equipo"},{"$f":"SUBSTITUTE($B$464,CHAR(10),\"\")","v":"Terrenos "},"Activos",{"$f":"(BC466=OFFSET(BC466,1,0))*1","v":0},30,{"$f":"(BD466=Parametros[Segmento])*(BE466>0)*(BF466>0)","v":0}]
[null,"Depreciación ",null,null,null,null,{"$f":"+C467+E467-F467","v":0},null,null,null,null,null,null,null,null,null,null,null,null,null,null,null,null,null,null,null,null,null,null,null,null,null,null,null,null,null,null,null,null,null,null,null,null,null,null,null,null,null,null,null,null,null,null,null,null,"Activos",1,30,{"$f":"(BD467=Parametros[Segmento])*(BE467>0)*(BF467>0)","v":0}]
[null,"Deterioro",null,null,null,null,{"$f":"+C468+E468-F468","v":0},null,null,null,null,null,null,null,null,null,null,null,null,null,null,null,null,null,null,null,null,null,null,null,null,null,null,null,null,null,null,null,null,null,null,null,null,null,null,null,null,null,null,null,null,null,null,null,null,"Activos",1,30,{"$f":"(BD468=Parametros[Segmento])*(BE468>0)*(BF468>0)","v":0}]
[null,"Construcciones en proceso",null,{"$f":"SUM(C470:C471)-C472-C473","v":0},{"$f":"SUM(E470:E471)-E472-E473","v":0},{"$f":"SUM(F470:F471)-F472-F473","v":0},null,{"$f":"SUM(G470:G471)-G472-G473","v":0},null,null,null,null,null,null,null,null,null,null,null,null,null,null,null,null,null,null,null,null,null,null,null,null,null,null,null,null,null,null,null,null,null,null,null,null,null,null,null,null,null,null,null,null,null,null,null,"Activos",1,30,{"$f":"(BD469=Parametros[Segmento])*(BE469>0)*(BF469>0)","v":0}]
[null,null,null,null,null,null,{"$f":"+C470+E470-F470","v":0},null,null,null,null,null,null,null,null,null,null,null,null,null,null,null,null,null,null,null,null,null,null,null,null,null,null,null,null,null,null,null,null,null,null,null,null,null,null,null,null,null,null,null,null,null,null,{"$f":"SUBSTITUTE($B$461,CHAR(10),\"\")","v":"Propiedades, Planta y Equipo"},{"$f":"SUBSTITUTE($B$469,CHAR(10),\"\")","v":"Construcciones en proceso"},"Activos",{"$f":"(BC470=OFFSET(BC470,1,0))*1","v":1},30,{"$f":"(BD470=Parametros[Segmento])*(BE470>0)*(BF470>0)","v":0}]
[null,null,null,null,null,null,{"$f":"+C471+E471-F471","v":0},null,null,null,null,null,null,null,null,null,null,null,null,null,null,null,null,null,null,null,null,null,null,null,null,null,null,null,null,null,null,null,null,null,null,null,null,null,null,null,null,null,null,null,null,null,null,{"$f":"SUBSTITUTE($B$461,CHAR(10),\"\")","v":"Propiedades, Planta y Equipo"},{"$f":"SUBSTITUTE($B$469,CHAR(10),\"\")","v":"Construcciones en proceso"},"Activos",{"$f":"(BC471=OFFSET(BC471,1,0))*1","v":0},30,{"$f":"(BD471=Parametros[Segmento])*(BE471>0)*(BF471>0)","v":0}]
[null,"Depreciación ",null,null,null,null,{"$f":"+C472+E472-F472","v":0},null,null,null,null,null,null,null,null,null,null,null,null,null,null,null,null,null,null,null,null,null,null,null,null,null,null,null,null,null,null,null,null,null,null,null,null,null,null,null,null,null,null,null,null,null,null,null,null,"Activos",1,30,{"$f":"(BD472=Parametros[Segmento])*(BE472>0)*(BF472>0)","v":0}]
[null,"Deterioro",null,null,null,null,{"$f":"+C473+E473-F473","v":0},null,null,null,null,null,null,null,null,null,null,null,null,null,null,null,null,null,null,null,null,null,null,null,null,null,null,null,null,null,null,null,null,null,null,null,null,null,null,null,null,null,null,null,null,null,null,null,null,"Activos",1,30,{"$f":"(BD473=Parametros[Segmento])*(BE473>0)*(BF473>0)","v":0}]
[null,"Edificios - Al costo ",null,{"$f":"SUM(C475:C476)-C477-C478","v":0},{"$f":"SUM(E475:E476)-E477-E478","v":0},{"$f":"SUM(F475:F476)-F477-F478","v":0},null,{"$f":"SUM(G475:G476)-G477-G478","v":0},null,null,null,null,null,null,null,null,null,null,null,null,null,null,null,null,null,null,null,null,null,null,null,null,null,null,null,null,null,null,null,null,null,null,null,null,null,null,null,null,null,null,null,null,null,null,null,"Activos",1,30,{"$f":"(BD474=Parametros[Segmento])*(BE474>0)*(BF474>0)","v":0}]
[null,null,null,null,null,null,{"$f":"+C475+E475-F475","v":0},null,null,null,null,null,null,null,null,null,null,null,null,null,null,null,null,null,null,null,null,null,null,null,null,null,null,null,null,null,null,null,null,null,null,null,null,null,null,null,null,null,null,null,null,null,null,{"$f":"SUBSTITUTE($B$461,CHAR(10),\"\")","v":"Propiedades, Planta y Equipo"},{"$f":"SUBSTITUTE($B$474,CHAR(10),\"\")","v":"Edificios - Al costo "},"Activos",{"$f":"(BC475=OFFSET(BC475,1,0))*1","v":1},30,{"$f":"(BD475=Parametros[Segmento])*(BE475>0)*(BF475>0)","v":0}]
[null,null,null,null,null,null,{"$f":"+C476+E476-F476","v":0},null,null,null,null,null,null,null,null,null,null,null,null,null,null,null,null,null,null,null,null,null,null,null,null,null,null,null,null,null,null,null,null,null,null,null,null,null,null,null,null,null,null,null,null,null,null,{"$f":"SUBSTITUTE($B$461,CHAR(10),\"\")","v":"Propiedades, Planta y Equipo"},{"$f":"SUBSTITUTE($B$474,CHAR(10),\"\")","v":"Edificios - Al costo "},"Activos",{"$f":"(BC476=OFFSET(BC476,1,0))*1","v":0},30,{"$f":"(BD476=Parametros[Segmento])*(BE476>0)*(BF476>0)","v":0}]
[null,"Depreciación ",null,null,null,null,{"$f":"+C477+E477-F477","v":0},null,null,null,null,null,null,null,null,null,null,null,null,null,null,null,null,null,null,null,null,null,null,null,null,null,null,null,null,null,null,null,null,null,null,null,null,null,null,null,null,null,null,null,null,null,null,null,null,"Activos",1,30,{"$f":"(BD477=Parametros[Segmento])*(BE477>0)*(BF477>0)","v":0}]
[null,"Deterioro",null,null,null,null,{"$f":"+C478+E478-F478","v":0},null,null,null,null,null,null,null,null,null,null,null,null,null,null,null,null,null,null,null,null,null,null,null,null,null,null,null,null,null,null,null,null,null,null,null,null,null,null,null,null,null,null,null,null,null,null,null,null,"Activos",1,30,{"$f":"(BD478=Parametros[Segmento])*(BE478>0)*(BF478>0)","v":0}]
[null,"Edificios - Ajuste acumulado por revaluaciones o reexpresiones",null,{"$f":"SUM(C480:C481)","v":0},{"$f":"SUM(E480:E481)","v":0},{"$f":"SUM(F480:F481)","v":0},null,{"$f":"SUM(G480:G481)","v":0},null,null,null,null,null,null,null,null,null,null,null,null,null,null,null,null,null,null,null,null,null,null,null,null,null,null,null,null,null,null,null,null,null,null,null,null,null,null,null,null,null,null,null,null,null,null,null,"Activos",1,40.200000000000003,{"$f":"(BD479=Parametros[Segmento])*(BE479>0)*(BF479>0)","v":0}]
[null,null,null,null,null,null,{"$f":"+C480+E480-F480","v":0},null,null,null,null,null,null,null,null,null,null,null,null,null,null,null,null,null,null,null,null,null,null,null,null,null,null,null,null,null,null,null,null,null,null,null,null,null,null,null,null,null,null,null,null,null,null,{"$f":"SUBSTITUTE($B$461,CHAR(10),\"\")","v":"Propiedades, Planta y Equipo"},{"$f":"SUBSTITUTE($B$479,CHAR(10),\"\")","v":"Edificios - Ajuste acumulado por revaluaciones o reexpresiones"},"Activos",{"$f":"(BC480=OFFSET(BC480,1,0))*1","v":1},30,{"$f":"(BD480=Parametros[Segmento])*(BE480>0)*(BF480>0)","v":0}]
[null,null,null,null,null,null,{"$f":"+C481+E481-F481","v":0},null,null,null,null,null,null,null,null,null,null,null,null,null,null,null,null,null,null,null,null,null,null,null,null,null,null,null,null,null,null,null,null,null,null,null,null,null,null,null,null,null,null,null,null,null,null,{"$f":"SUBSTITUTE($B$461,CHAR(10),\"\")","v":"Propiedades, Planta y Equipo"},{"$f":"SUBSTITUTE($B$479,CHAR(10),\"\")","v":"Edificios - Ajuste acumulado por revaluaciones o reexpresiones"},"Activos",{"$f":"(BC481=OFFSET(BC481,1,0))*1","v":0},30,{"$f":"(BD481=Parametros[Segmento])*(BE481>0)*(BF481>0)","v":0}]
[null,"Otras propiedades, plantas y equipo - Al costo",null,{"$f":"SUM(C483:C484)-C485-C486","v":0},{"$f":"SUM(E483:E484)-E485-E486","v":0},{"$f":"SUM(F483:F484)-F485-F486","v":0},null,{"$f":"SUM(G483:G484)-G485-G486","v":0},null,null,null,null,null,null,null,null,null,null,null,null,null,null,null,null,null,null,null,null,null,null,null,null,null,null,null,null,null,null,null,null,null,null,null,null,null,null,null,null,null,null,null,null,null,null,null,"Activos",1,30,{"$f":"(BD482=Parametros[Segmento])*(BE482>0)*(BF482>0)","v":0}]
[null,null,null,null,null,null,{"$f":"+C483+E483-F483","v":0},null,null,null,null,null,null,null,null,null,null,null,null,null,null,null,null,null,null,null,null,null,null,null,null,null,null,null,null,null,null,null,null,null,null,null,null,null,null,null,null,null,null,null,null,null,null,{"$f":"SUBSTITUTE($B$461,CHAR(10),\"\")","v":"Propiedades, Planta y Equipo"},{"$f":"SUBSTITUTE($B$482,CHAR(10),\"\")","v":"Otras propiedades, plantas y equipo - Al costo"},"Activos",{"$f":"(BC483=OFFSET(BC483,1,0))*1","v":1},30,{"$f":"(BD483=Parametros[Segmento])*(BE483>0)*(BF483>0)","v":0}]
[null,null,null,null,null,null,{"$f":"+C484+E484-F484","v":0},null,null,null,null,null,null,null,null,null,null,null,null,null,null,null,null,null,null,null,null,null,null,null,null,null,null,null,null,null,null,null,null,null,null,null,null,null,null,null,null,null,null,null,null,null,null,{"$f":"SUBSTITUTE($B$461,CHAR(10),\"\")","v":"Propiedades, Planta y Equipo"},{"$f":"SUBSTITUTE($B$482,CHAR(10),\"\")","v":"Otras propiedades, plantas y equipo - Al costo"},"Activos",{"$f":"(BC484=OFFSET(BC484,1,0))*1","v":0},30,{"$f":"(BD484=Parametros[Segmento])*(BE484>0)*(BF484>0)","v":0}]
[null,"Depreciación ",null,null,null,null,{"$f":"+C485+E485-F485","v":0},null,null,null,null,null,null,null,null,null,null,null,null,null,null,null,null,null,null,null,null,null,null,null,null,null,null,null,null,null,null,null,null,null,null,null,null,null,null,null,null,null,null,null,null,null,null,null,null,"Activos",1,30,{"$f":"(BD485=Parametros[Segmento])*(BE485>0)*(BF485>0)","v":0}]
[null,"Deterioro",null,null,null,null,{"$f":"+C486+E486-F486","v":0},null,null,null,null,null,null,null,null,null,null,null,null,null,null,null,null,null,null,null,null,null,null,null,null,null,null,null,null,null,null,null,null,null,null,null,null,null,null,null,null,null,null,null,null,null,null,null,null,"Activos",1,30,{"$f":"(BD486=Parametros[Segmento])*(BE486>0)*(BF486>0)","v":0}]
[null,"Otras propiedades, plantas y equipo - Ajuste acumulado por revaluaciones o reexpresiones",null,{"$f":"SUM(C488:C489)","v":0},{"$f":"SUM(E488:E489)","v":0},{"$f":"SUM(F488:F489)","v":0},null,{"$f":"SUM(G488:G489)","v":0},null,null,null,null,null,null,null,null,null,null,null,null,null,null,null,null,null,null,null,null,null,null,null,null,null,null,null,null,null,null,null,null,null,null,null,null,null,null,null,null,null,null,null,null,null,null,null,"Activos",1,40.200000000000003,{"$f":"(BD487=Parametros[Segmento])*(BE487>0)*(BF487>0)","v":0}]
[null,null,null,null,null,null,{"$f":"+C488+E488-F488","v":0},null,null,null,null,null,null,null,null,null,null,null,null,null,null,null,null,null,null,null,null,null,null,null,null,null,null,null,null,null,null,null,null,null,null,null,null,null,null,null,null,null,null,null,null,null,null,{"$f":"SUBSTITUTE($B$461,CHAR(10),\"\")","v":"Propiedades, Planta y Equipo"},{"$f":"SUBSTITUTE($B$487,CHAR(10),\"\")","v":"Otras propiedades, plantas y equipo - Ajuste acumulado por revaluaciones o reexpresiones"},"Activos",{"$f":"(BC488=OFFSET(BC488,1,0))*1","v":1},30,{"$f":"(BD488=Parametros[Segmento])*(BE488>0)*(BF488>0)","v":0}]
[null,null,null,null,null,null,{"$f":"+C489+E489-F489","v":0},null,null,null,null,null,null,null,null,null,null,null,null,null,null,null,null,null,null,null,null,null,null,null,null,null,null,null,null,null,null,null,null,null,null,null,null,null,null,null,null,null,null,null,null,null,null,{"$f":"SUBSTITUTE($B$461,CHAR(10),\"\")","v":"Propiedades, Planta y Equipo"},{"$f":"SUBSTITUTE($B$487,CHAR(10),\"\")","v":"Otras propiedades, plantas y equipo - Ajuste acumulado por revaluaciones o reexpresiones"},"Activos",{"$f":"(BC489=OFFSET(BC489,1,0))*1","v":0},30,{"$f":"(BD489=Parametros[Segmento])*(BE489>0)*(BF489>0)","v":0}]
[null,"Activos tangibles para exploración y evaluación de recursos minerales",null,{"$f":"SUM(C491:C492)-C493-C494","v":0},{"$f":"SUM(E491:E492)-E493-E494","v":0},{"$f":"SUM(F491:F492)-F493-F494","v":0},null,{"$f":"SUM(G491:G492)-G493-G494","v":0},null,null,null,null,null,null,null,null,null,null,null,null,null,null,null,null,null,null,null,null,null,null,null,null,null,null,null,null,null,null,null,null,null,null,null,null,null,null,null,null,null,null,null,null,null,null,null,"Activos",1,40.200000000000003,{"$f":"(BD490=Parametros[Segmento])*(BE490>0)*(BF490>0)","v":0}]
[null,null,null,null,null,null,{"$f":"+C491+E491-F491","v":0},null,null,null,null,null,null,null,null,null,null,null,null,null,null,null,null,null,null,null,null,null,null,null,null,null,null,null,null,null,null,null,null,null,null,null,null,null,null,null,null,null,null,null,null,null,null,{"$f":"SUBSTITUTE($B$461,CHAR(10),\"\")","v":"Propiedades, Planta y Equipo"},{"$f":"SUBSTITUTE($B$490,CHAR(10),\"\")","v":"Activos tangibles para exploración y evaluación de recursos minerales"},"Activos",{"$f":"(BC491=OFFSET(BC491,1,0))*1","v":1},30,{"$f":"(BD491=Parametros[Segmento])*(BE491>0)*(BF491>0)","v":0}]
[null,null,null,null,null,null,{"$f":"+C492+E492-F492","v":0},null,null,null,null,null,null,null,null,null,null,null,null,null,null,null,null,null,null,null,null,null,null,null,null,null,null,null,null,null,null,null,null,null,null,null,null,null,null,null,null,null,null,null,null,null,null,{"$f":"SUBSTITUTE($B$461,CHAR(10),\"\")","v":"Propiedades, Planta y Equipo"},{"$f":"SUBSTITUTE($B$490,CHAR(10),\"\")","v":"Activos tangibles para exploración y evaluación de recursos minerales"},"Activos",{"$f":"(BC492=OFFSET(BC492,1,0))*1","v":0},30,{"$f":"(BD492=Parametros[Segmento])*(BE492>0)*(BF492>0)","v":0}]
[null,"Depreciación ",null,null,null,null,{"$f":"+C493+E493-F493","v":0},null,null,null,null,null,null,null,null,null,null,null,null,null,null,null,null,null,null,null,null,null,null,null,null,null,null,null,null,null,null,null,null,null,null,null,null,null,null,null,null,null,null,null,null,null,null,null,null,"Activos",1,30,{"$f":"(BD493=Parametros[Segmento])*(BE493>0)*(BF493>0)","v":0}]
[null,"Deterioro",null,null,null,null,{"$f":"+C494+E494-F494","v":0},null,null,null,null,null,null,null,null,null,null,null,null,null,null,null,null,null,null,null,null,null,null,null,null,null,null,null,null,null,null,null,null,null,null,null,null,null,null,null,null,null,null,null,null,null,null,null,null,"Activos",1,30,{"$f":"(BD494=Parametros[Segmento])*(BE494>0)*(BF494>0)","v":0}]
[null,null,"Totales ",{"$f":"SUM(D464:D494)","v":0},null,null,null,{"$f":"SUM(H464:H494)","v":0},null,null,null,null,null,null,null,null,null,null,null,null,null,null,null,null,null,null,null,null,null,null,null,null,null,null,null,null,null,null,null,null,null,null,null,null,null,null,null,null,null,null,null,null,null,null,null,"Activos",1,30,{"$f":"(BD495=Parametros[Segmento])*(BE495>0)*(BF495>0)","v":0}]
[null,null,null,null,null,null,null,null,null,null,null,null,null,null,null,null,null,null,null,null,null,null,null,null,null,null,null,null,null,null,null,null,null,null,null,null,null,null,null,null,null,null,null,null,null,null,null,null,null,null,null,null,null,null,null,"Activos",1,30,{"$f":"(BD496=Parametros[Segmento])*(BE496>0)*(BF496>0)","v":0}]
[null,"Activos Intangibles - Distintos a la plusvalía",null,null,null,null,null,null,null,null,null,null,null,null,null,null,null,null,null,null,null,null,null,null,null,null,null,null,null,null,null,null,null,null,null,null,null,null,null,null,null,null,null,null,null,null,null,null,null,null,null,null,null,null,null,"Activos",1,30,{"$f":"(BD497=Parametros[Segmento])*(BE497>0)*(BF497>0)","v":0}]
[null,"Concepto/Descripción","Valores Contables",null,"Ajuste",null,"Valores Fiscales",null,null,null,null,null,null,null,null,null,null,null,null,null,null,null,null,null,null,null,null,null,null,null,null,null,null,null,null,null,null,null,null,null,null,null,null,null,null,null,null,null,null,null,null,null,null,null,null,"Activos",1,30,{"$f":"(BD498=Parametros[Segmento])*(BE498>0)*(BF498>0)","v":0}]
[null,null,"Saldos Parciales ","Saldos Totales ","Mayor Valor Fiscal","Menor Valor Fiscal","Saldos Parciales","Saldos Totales ",null,null,null,null,null,null,null,null,null,null,null,null,null,null,null,null,null,null,null,null,null,null,null,null,null,null,null,null,null,null,null,null,null,null,null,null,null,null,null,null,null,null,null,null,null,null,null,"Activos",1,30,{"$f":"(BD499=Parametros[Segmento])*(BE499>0)*(BF499>0)","v":0}]
[null,"Acuerdos de concesión (modelo del activo intangible)",null,{"$f":"SUM(C501:C502)","v":0},{"$f":"SUM(E501:E502)","v":0},{"$f":"SUM(F501:F502)","v":0},null,{"$f":"SUM(G501:G502)","v":0},null,null,null,null,null,null,null,null,null,null,null,null,null,null,null,null,null,null,null,null,null,null,null,null,null,null,null,null,null,null,null,null,null,null,null,null,null,null,null,null,null,null,null,null,null,null,null,"Activos",1,40.200000000000003,{"$f":"(BD500=Parametros[Segmento])*(BE500>0)*(BF500>0)","v":0}]
[null,null,null,null,null,null,{"$f":"+C505+E505-F505","v":0},null,null,null,null,null,null,null,null,null,null,null,null,null,null,null,null,null,null,null,null,null,null,null,null,null,null,null,null,null,null,null,null,null,null,null,null,null,null,null,null,null,null,null,null,null,null,{"$f":"SUBSTITUTE($B$497,CHAR(10),\"\")","v":"Activos Intangibles - Distintos a la plusvalía"},{"$f":"SUBSTITUTE($B$503,CHAR(10),\"\")","v":"Activos intangibles exploración y evaluación de recursos minerales"},"Activos",{"$f":"(BC505=OFFSET(BC505,1,0))*1","v":0},30,{"$f":"(BD505=Parametros[Segmento])*(BE505>0)*(BF505>0)","v":0}]
[null,null,null,null,null,null,{"$f":"+C510+E510-F510","v":0},null,null,null,null,null,null,null,null,null,null,null,null,null,null,null,null,null,null,null,null,null,null,null,null,null,null,null,null,null,null,null,null,null,null,null,null,null,null,null,null,null,null,null,null,null,null,{"$f":"SUBSTITUTE($B$497,CHAR(10),\"\")","v":"Activos Intangibles - Distintos a la plusvalía"},{"$f":"SUBSTITUTE($B$509,CHAR(10),\"\")","v":"Marcas, patentes, licencias y otros derechos - Ajuste acumulado por revaluaciones o reexpresiones"},"Activos",{"$f":"(BC510=OFFSET(BC510,1,0))*1","v":1},30,{"$f":"(BD510=Parametros[Segmento])*(BE510>0)*(BF510>0)","v":0}]
[null,null,null,null,null,null,{"$f":"+C519+E519-F519","v":0},null,null,null,null,null,null,null,null,null,null,null,null,null,null,null,null,null,null,null,null,null,null,null,null,null,null,null,null,null,null,null,null,null,null,null,null,null,null,null,null,null,null,null,null,null,null,{"$f":"SUBSTITUTE($B$497,CHAR(10),\"\")","v":"Activos Intangibles - Distintos a la plusvalía"},{"$f":"SUBSTITUTE($B$518,CHAR(10),\"\")","v":"Otros activos intangibles - Al costo"},"Activos",{"$f":"(BC519=OFFSET(BC519,1,0))*1","v":1},30,{"$f":"(BD519=Parametros[Segmento])*(BE519>0)*(BF519>0)","v":0}]
[null,"Deterioro acumulado de activos intangibles distintos de la plusvalía",null,{"$f":"+SUM(C528:C529)","v":0},{"$f":"+SUM(E528:E529)","v":0},{"$f":"+SUM(F528:F529)","v":0},null,{"$f":"+SUM(G528:G529)","v":0},null,null,null,null,null,null,null,null,null,null,null,null,null,null,null,null,null,null,null,null,null,null,null,null,null,null,null,null,null,null,null,null,null,null,null,null,null,null,null,null,null,null,null,null,null,null,null,"Activos",1,40.200000000000003,{"$f":"(BD527=Parametros[Segmento])*(BE527>0)*(BF527>0)","v":0}]
[null,"Concepto/Descripción","Valores Contables",null,"Ajuste",null,"Valores Fiscales",null,null,null,null,null,null,null,null,null,null,null,null,null,null,null,null,null,null,null,null,null,null,null,null,null,null,null,null,null,null,null,null,null,null,null,null,null,null,null,null,null,null,null,null,null,null,null,null,"Activos",1,30,{"$f":"(BD533=Parametros[Segmento])*(BE533>0)*(BF533>0)","v":0}]
[null,"Plusvalía o Good Will - Compras de Acciones ",null,{"$f":"+SUM(C545:C546)","v":0},{"$f":"+SUM(E545:E546)","v":0},{"$f":"+SUM(F545:F546)","v":0},null,{"$f":"SUM(G545:G546)","v":0},null,null,null,null,null,null,null,null,null,null,null,null,null,null,null,null,null,null,null,null,null,null,null,null,null,null,null,null,null,null,null,null,null,null,null,null,null,null,null,null,null,null,null,null,null,null,null,"Activos",1,30,{"$f":"(BD544=Parametros[Segmento])*(BE544>0)*(BF544>0)","v":0}]
[null,"Amortización acumulada de la plusvalía o Good Will",null,{"$f":"+SUM(C548:C549)","v":0},{"$f":"+SUM(E548:E549)","v":0},{"$f":"+SUM(F548:F549)","v":0},null,{"$f":"+SUM(G548:G549)","v":0},null,null,null,null,null,null,null,null,null,null,null,null,null,null,null,null,null,null,null,null,null,null,null,null,null,null,null,null,null,null,null,null,null,null,null,null,null,null,null,null,null,null,null,null,null,null,null,"Activos",1,30,{"$f":"(BD547=Parametros[Segmento])*(BE547>0)*(BF547>0)","v":0}]
[null,null,"Totales ",{"$f":"SUM(D535:D546)-D547-D550","v":0},null,null,null,{"$f":"SUM(H535:H546)-H547-H550","v":0},null,null,null,null,null,null,null,null,null,null,null,null,null,null,null,null,null,null,null,null,null,null,null,null,null,null,null,null,null,null,null,null,null,null,null,null,null,null,null,null,null,null,null,null,null,null,null,"Activos",1,30,{"$f":"(BD553=Parametros[Segmento])*(BE553>0)*(BF553>0)","v":0}]
[null,"Depreciación",null,null,null,null,{"$f":"+C561+E561-F561","v":0},null,null,null,null,null,null,null,null,null,null,null,null,null,null,null,null,null,null,null,null,null,null,null,null,null,null,null,null,null,null,null,null,null,null,null,null,null,null,null,null,null,null,null,null,null,null,null,null,"Activos",1,30,{"$f":"(BD561=Parametros[Segmento])*(BE561>0)*(BF561>0)","v":0}]
[null,"Deterioro",null,null,null,null,{"$f":"+C570+E570-F570","v":0},null,null,null,null,null,null,null,null,null,null,null,null,null,null,null,null,null,null,null,null,null,null,null,null,null,null,null,null,null,null,null,null,null,null,null,null,null,null,null,null,null,null,null,null,null,null,null,null,"Activos",1,30,{"$f":"(BD570=Parametros[Segmento])*(BE570>0)*(BF570>0)","v":0}]
[null,null,"Saldos Parciales ","Saldos Totales ","Mayor Valor Fiscal","Menor Valor Fiscal","Saldos Parciales","Saldos Totales ",null,null,null,null,null,null,null,null,null,null,null,null,null,null,null,null,null,null,null,null,null,null,null,null,null,null,null,null,null,null,null,null,null,null,null,null,null,null,null,null,null,null,null,null,null,null,null,"Activos",1,30,{"$f":"(BD578=Parametros[Segmento])*(BE578>0)*(BF578>0)","v":0}]
[null,"Animales consumibles medidos al costo",null,{"$f":"SUM(C588:C589)-C590","v":0},{"$f":"SUM(E588:E589)-E590","v":0},{"$f":"SUM(F588:F589)-F590","v":0},null,{"$f":"SUM(G588:G589)-G590","v":0},null,null,null,null,null,null,null,null,null,null,null,null,null,null,null,null,null,null,null,null,null,null,null,null,null,null,null,null,null,null,null,null,null,null,null,null,null,null,null,null,null,null,null,null,null,null,null,"Activos",1,30,{"$f":"(BD587=Parametros[Segmento])*(BE587>0)*(BF587>0)","v":0}]
[null,null,null,null,null,null,{"$f":"+C592+E592-F592","v":0},null,null,null,null,null,null,null,null,null,null,null,null,null,null,null,null,null,null,null,null,null,null,null,null,null,null,null,null,null,null,null,null,null,null,null,null,null,null,null,null,null,null,null,null,null,null,{"$f":"SUBSTITUTE($B$576,CHAR(10),\"\")","v":"Activos Biológicos"},{"$f":"SUBSTITUTE($B$591,CHAR(10),\"\")","v":"Animales consumibles medidos al valor razonable menos costos de venta"},"Activos",{"$f":"(BC592=OFFSET(BC592,1,0))*1","v":1},30,{"$f":"(BD592=Parametros[Segmento])*(BE592>0)*(BF592>0)","v":0}]
[null,null,null,null,null,null,{"$f":"+C604+E604-F604","v":0},null,null,null,null,null,null,null,null,null,null,null,null,null,null,null,null,null,null,null,null,null,null,null,null,null,null,null,null,null,null,null,null,null,null,null,null,null,null,null,null,null,null,null,null,null,null,{"$f":"SUBSTITUTE($B$576,CHAR(10),\"\")","v":"Activos Biológicos"},{"$f":"SUBSTITUTE($B$602,CHAR(10),\"\")","v":"Cultivos consumibles medidos al costo"},"Activos",{"$f":"(BC604=OFFSET(BC604,1,0))*1","v":0},30,{"$f":"(BD604=Parametros[Segmento])*(BE604>0)*(BF604>0)","v":0}]
[null,"Cultivos consumibles medidos al valor \nrazonable menos costos de venta",null,{"$f":"+SUM(C607:C608)","v":0},{"$f":"+SUM(E607:E608)","v":0},{"$f":"+SUM(F607:F608)","v":0},null,{"$f":"+SUM(G607:G608)","v":0},null,null,null,null,null,null,null,null,null,null,null,null,null,null,null,null,null,null,null,null,null,null,null,null,null,null,null,null,null,null,null,null,null,null,null,null,null,null,null,null,null,null,null,null,null,null,null,"Activos",1,40.200000000000003,{"$f":"(BD606=Parametros[Segmento])*(BE606>0)*(BF606>0)","v":0}]
[null,null,"Saldos Parciales ","Saldos Totales ","Mayor Valor Fiscal","Menor Valor Fiscal","Saldos Parciales","Saldos Totales ",null,null,null,null,null,null,null,null,null,null,null,null,null,null,null,null,null,null,null,null,null,null,null,null,null,null,null,null,null,null,null,null,null,null,null,null,null,null,null,null,null,null,null,null,null,null,null,"Activos",1,30,{"$f":"(BD613=Parametros[Segmento])*(BE613>0)*(BF613>0)","v":0}]
[null,"Por plan de beneficios a empleados ",null,{"$f":"SUM(C628:C629)","v":0},{"$f":"SUM(E628:E629)","v":0},{"$f":"SUM(F628:F629)","v":0},null,{"$f":"SUM(G628:G629)","v":0},null,null,null,null,null,null,null,null,null,null,null,null,null,null,null,null,null,null,null,null,null,null,null,null,null,null,null,null,null,null,null,null,null,null,null,null,null,null,null,null,null,null,null,null,null,null,null,"Activos",1,30,{"$f":"(BD627=Parametros[Segmento])*(BE627>0)*(BF627>0)","v":0}]
[null,"Gastos pagados por anticipado",null,{"$f":"SUM(C631:C635)","v":0},{"$f":"SUM(E631:E635)","v":0},{"$f":"SUM(F631:F635)","v":0},null,{"$f":"SUM(G631:G635)","v":0},null,null,null,null,null,null,null,null,null,null,null,null,null,null,null,null,null,null,null,null,null,null,null,null,null,null,null,null,null,null,null,null,null,null,null,null,null,null,null,null,null,null,null,null,null,null,null,"Activos",1,30,{"$f":"(BD630=Parametros[Segmento])*(BE630>0)*(BF630>0)","v":0}]
[null,"Saldo a favor impuesto de renta ",null,null,null,null,{"$f":"+C637+E637-F637","v":0},null,null,null,null,null,null,null,null,null,null,null,null,null,null,null,null,null,null,null,null,null,null,null,null,null,null,null,null,null,null,null,null,null,null,null,null,null,null,null,null,null,null,null,null,null,null,{"$f":"SUBSTITUTE($B$624,CHAR(10),\"\")","v":"Otros Activos"},{"$f":"SUBSTITUTE($B$636,CHAR(10),\"\")","v":"Por impuestos corrientes "},"Activos",{"$f":"(BC637=OFFSET(BC637,1,0))*1","v":1},30,{"$f":"(BD637=Parametros[Segmento])*(BE637>0)*(BF637>0)","v":0}]
[null,"Activos reconocidos solo para fines fiscales",null,{"$f":"SUM(C648:C649)","v":0},{"$f":"SUM(E648:E649)","v":0},null,null,{"$f":"SUM(G648:G649)","v":0},null,null,null,null,null,null,null,null,null,null,null,null,null,null,null,null,null,null,null,null,null,null,null,null,null,null,null,null,null,null,null,null,null,null,null,null,null,null,null,null,null,null,null,null,null,null,null,"Activos",1,30,{"$f":"(BD647=Parametros[Segmento])*(BE647>0)*(BF647>0)","v":0}]
[1.67,55.22,24.78,24.78,24.78,24.78,24.78,24.78,4,null,null,null,null,null,null,null,null,null,null,null,null,null,null,null,null,null,null,null,null,null,null,null,null,null,null,null,null,null,null,null,null,null,null,null,null,null,null,null,null,null,null,null,null,null,null,"Pasivos",0,15,{"$f":"(BD651=Parametros[Segmento])*(BE651>0)*(BF651>0)","v":0}]
[null,"Depósitos y exigibilidades",null,{"$f":"SUM(C665:C666)","v":0},{"$f":"SUM(E665:E666)","v":0},{"$f":"SUM(F665:F666)","v":0},null,{"$f":"SUM(G665:G666)","v":0},null,null,null,null,null,null,null,null,null,null,null,null,null,null,null,null,null,null,null,null,null,null,null,null,null,null,null,null,null,null,null,null,null,null,null,null,null,null,null,null,null,null,null,null,null,null,null,"Pasivos",1,30,{"$f":"(BD664=Parametros[Segmento])*(BE664>0)*(BF664>0)","v":0}]
[null,"Dividendos y participaciones por pagar",null,{"$f":"SUM(C674:C675)","v":0},{"$f":"SUM(E674:E675)","v":0},{"$f":"SUM(F674:F675)","v":0},null,{"$f":"SUM(G674:G675)","v":0},null,null,null,null,null,null,null,null,null,null,null,null,null,null,null,null,null,null,null,null,null,null,null,null,null,null,null,null,null,null,null,null,null,null,null,null,null,null,null,null,null,null,null,null,null,null,null,"Pasivos",1,30,{"$f":"(BD673=Parametros[Segmento])*(BE673>0)*(BF673>0)","v":0}]
[null,null,null,null,null,null,{"$f":"+C674+E674-F674","v":0},null,null,null,null,null,null,null,null,null,null,null,null,null,null,null,null,null,null,null,null,null,null,null,null,null,null,null,null,null,null,null,null,null,null,null,null,null,null,null,null,null,null,null,null,null,null,{"$f":"SUBSTITUTE($B$655,CHAR(10),\"\")","v":"Pasivos Financieros y Cuentas por Pagar"},{"$f":"SUBSTITUTE($B$673,CHAR(10),\"\")","v":"Dividendos y participaciones por pagar"},"Pasivos",{"$f":"(BC674=OFFSET(BC674,1,0))*1","v":1},30,{"$f":"(BD674=Parametros[Segmento])*(BE674>0)*(BF674>0)","v":0}]
[null,"Reserva matemática y/o técnica y otros pasivos exclusivos en compañías de seguros",null,{"$f":"SUM(C683:C684)","v":0},{"$f":"SUM(E683:E684)","v":0},{"$f":"SUM(F683:F684)","v":0},null,{"$f":"SUM(G683:G684)","v":0},null,null,null,null,null,null,null,null,null,null,null,null,null,null,null,null,null,null,null,null,null,null,null,null,null,null,null,null,null,null,null,null,null,null,null,null,null,null,null,null,null,null,null,null,null,null,null,"Pasivos",1,40.200000000000003,{"$f":"(BD682=Parametros[Segmento])*(BE682>0)*(BF682>0)","v":0}]
[null,null,null,null,null,null,null,null,null,null,null,null,null,null,null,null,null,null,null,null,null,null,null,null,null,null,null,null,null,null,null,null,null,null,null,null,null,null,null,null,null,null,null,null,null,null,null,null,null,null,null,null,null,null,null,"Pasivos",1,30,{"$f":"(BD695=Parametros[Segmento])*(BE695>0)*(BF695>0)","v":0}]
[null,"Financiero o leasing - partes no relacionadas ",null,{"$f":"SUM(C700:C701)","v":0},{"$f":"SUM(E700:E701)","v":0},{"$f":"SUM(F700:F701)","v":0},null,{"$f":"SUM(G700:G701)","v":0},null,null,null,null,null,null,null,null,null,null,null,null,null,null,null,null,null,null,null,null,null,null,null,null,null,null,null,null,null,null,null,null,null,null,null,null,null,null,null,null,null,null,null,null,null,null,null,"Pasivos",1,30,{"$f":"(BD699=Parametros[Segmento])*(BE699>0)*(BF699>0)","v":0}]
[null,null,null,null,null,null,null,null,null,null,null,null,null,null,null,null,null,null,null,null,null,null,null,null,null,null,null,null,null,null,null,null,null,null,null,null,null,null,null,null,null,null,null,null,null,null,null,null,null,null,null,null,null,null,null,"Pasivos",1,30,{"$f":"(BD709=Parametros[Segmento])*(BE709>0)*(BF709>0)","v":0}]
[null,"Impuesto a las ventas - IVA ",null,{"$f":"SUM(C717:C718)","v":0},{"$f":"SUM(E717:E718)","v":0},{"$f":"SUM(F717:F718)","v":0},null,{"$f":"SUM(G717:G718)","v":0},null,null,null,null,null,null,null,null,null,null,null,null,null,null,null,null,null,null,null,null,null,null,null,null,null,null,null,null,null,null,null,null,null,null,null,null,null,null,null,null,null,null,null,null,null,null,null,"Pasivos",1,30,{"$f":"(BD716=Parametros[Segmento])*(BE716>0)*(BF716>0)","v":0}]
[null,"Pasivo por impuesto diferido",{"$f":"+' '!I4056","v":0},null,null,{"$f":"+C723","v":0},{"$f":"+C723+E723-F723","v":0},null,null,null,null,null,null,null,null,null,null,null,null,null,null,null,null,null,null,null,null,null,null,null,null,null,null,null,null,null,null,null,null,null,null,null,null,null,null,null,null,null,null,null,null,null,null,null,null,"Pasivos",1,30,{"$f":"(BD723=Parametros[Segmento])*(BE723>0)*(BF723>0)","v":0}]
[null,null,null,null,null,null,{"$f":"+C733+E733-F733","v":0},null,null,null,null,null,null,null,null,null,null,null,null,null,null,null,null,null,null,null,null,null,null,null,null,null,null,null,null,null,null,null,null,null,null,null,null,null,null,null,null,null,null,null,null,null,null,{"$f":"SUBSTITUTE($B$726,CHAR(10),\"\")","v":"Otros pasivos financieros"},{"$f":"SUBSTITUTE($B$732,CHAR(10),\"\")","v":"Instrumentos financieros derivados "},"Pasivos",{"$f":"(BC733=OFFSET(BC733,1,0))*1","v":1},30,{"$f":"(BD733=Parametros[Segmento])*(BE733>0)*(BF733>0)","v":0}]
[null,null,null,null,null,null,{"$f":"+C740+E740-F740","v":0},null,null,null,null,null,null,null,null,null,null,null,null,null,null,null,null,null,null,null,null,null,null,null,null,null,null,null,null,null,null,null,null,null,null,null,null,null,null,null,null,null,null,null,null,null,null,{"$f":"SUBSTITUTE($B$726,CHAR(10),\"\")","v":"Otros pasivos financieros"},{"$f":"SUBSTITUTE($B$738,CHAR(10),\"\")","v":"Derechos fiduciarios "},"Pasivos",{"$f":"(BC740=OFFSET(BC740,1,0))*1","v":0},30,{"$f":"(BD740=Parametros[Segmento])*(BE740>0)*(BF740>0)","v":0}]
[null,null,null,null,null,null,{"$f":"+C742+E742-F742","v":0},null,null,null,null,null,null,null,null,null,null,null,null,null,null,null,null,null,null,null,null,null,null,null,null,null,null,null,null,null,null,null,null,null,null,null,null,null,null,null,null,null,null,null,null,null,null,{"$f":"SUBSTITUTE($B$726,CHAR(10),\"\")","v":"Otros pasivos financieros"},{"$f":"SUBSTITUTE($B$741,CHAR(10),\"\")","v":"Otros pasivos financieros "},"Pasivos",{"$f":"(BC742=OFFSET(BC742,1,0))*1","v":1},30,{"$f":"(BD742=Parametros[Segmento])*(BE742>0)*(BF742>0)","v":0}]
[null,null,null,null,null,null,{"$f":"+C754+E754-F754","v":0},null,null,null,null,null,null,null,null,null,null,null,null,null,null,null,null,null,null,null,null,null,null,null,null,null,null,null,null,null,null,null,null,null,null,null,null,null,null,null,null,null,null,null,null,null,null,{"$f":"SUBSTITUTE($B$746,CHAR(10),\"\")","v":"Beneficios a empleados"},{"$f":"SUBSTITUTE($B$752,CHAR(10),\"\")","v":"De largo plazo "},"Pasivos",{"$f":"(BC754=OFFSET(BC754,1,0))*1","v":0},30,{"$f":"(BD754=Parametros[Segmento])*(BE754>0)*(BF754>0)","v":0}]
[null,null,null,null,null,null,{"$f":"+C759+E759-F759","v":0},null,null,null,null,null,null,null,null,null,null,null,null,null,null,null,null,null,null,null,null,null,null,null,null,null,null,null,null,null,null,null,null,null,null,null,null,null,null,null,null,null,null,null,null,null,null,{"$f":"SUBSTITUTE($B$746,CHAR(10),\"\")","v":"Beneficios a empleados"},{"$f":"SUBSTITUTE($B$758,CHAR(10),\"\")","v":"Post empleo"},"Pasivos",{"$f":"(BC759=OFFSET(BC759,1,0))*1","v":1},30,{"$f":"(BD759=Parametros[Segmento])*(BE759>0)*(BF759>0)","v":0}]
[null,null,null,null,null,null,{"$f":"+C768+E768-F768","v":0},null,null,null,null,null,null,null,null,null,null,null,null,null,null,null,null,null,null,null,null,null,null,null,null,null,null,null,null,null,null,null,null,null,null,null,null,null,null,null,null,null,null,null,null,null,null,{"$f":"SUBSTITUTE($B$763,CHAR(10),\"\")","v":"Provisiones"},{"$f":"SUBSTITUTE($B$766,CHAR(10),\"\")","v":"Procesos legales (litigios y demandas)"},"Pasivos",{"$f":"(BC768=OFFSET(BC768,1,0))*1","v":0},30,{"$f":"(BD768=Parametros[Segmento])*(BE768>0)*(BF768>0)","v":0}]
[null,null,null,null,null,null,{"$f":"+C776+E776-F776","v":0},null,null,null,null,null,null,null,null,null,null,null,null,null,null,null,null,null,null,null,null,null,null,null,null,null,null,null,null,null,null,null,null,null,null,null,null,null,null,null,null,null,null,null,null,null,null,{"$f":"SUBSTITUTE($B$763,CHAR(10),\"\")","v":"Provisiones"},{"$f":"SUBSTITUTE($B$775,CHAR(10),\"\")","v":"Desmantelamientos, restauración y rehabilitación "},"Pasivos",{"$f":"(BC776=OFFSET(BC776,1,0))*1","v":1},30,{"$f":"(BD776=Parametros[Segmento])*(BE776>0)*(BF776>0)","v":0}]
[null,null,null,null,null,null,{"$f":"+C782+E782-F782","v":0},null,null,null,null,null,null,null,null,null,null,null,null,null,null,null,null,null,null,null,null,null,null,null,null,null,null,null,null,null,null,null,null,null,null,null,null,null,null,null,null,null,null,null,null,null,null,{"$f":"SUBSTITUTE($B$763,CHAR(10),\"\")","v":"Provisiones"},{"$f":"SUBSTITUTE($B$781,CHAR(10),\"\")","v":"Contratos onerosos"},"Pasivos",{"$f":"(BC782=OFFSET(BC782,1,0))*1","v":1},30,{"$f":"(BD782=Parametros[Segmento])*(BE782>0)*(BF782>0)","v":0}]
[null,"Relacionadas con el medio ambiente ",null,{"$f":"SUM(C794:C795)","v":0},{"$f":"SUM(E794:E795)","v":0},{"$f":"SUM(F794:F795)","v":0},null,{"$f":"SUM(G794:G795)","v":0},null,null,null,null,null,null,null,null,null,null,null,null,null,null,null,null,null,null,null,null,null,null,null,null,null,null,null,null,null,null,null,null,null,null,null,null,null,null,null,null,null,null,null,null,null,null,null,"Pasivos",1,30,{"$f":"(BD793=Parametros[Segmento])*(BE793>0)*(BF793>0)","v":0}]
[null,"Totales",null,{"$f":"SUM(D766:D798)","v":0},null,null,null,{"$f":"SUM(H766:H798)","v":0},null,null,null,null,null,null,null,null,null,null,null,null,null,null,null,null,null,null,null,null,null,null,null,null,null,null,null,null,null,null,null,null,null,null,null,null,null,null,null,null,null,null,null,null,null,null,null,"Pasivos",1,30,{"$f":"(BD799=Parametros[Segmento])*(BE799>0)*(BF799>0)","v":0}]
[null,"Concepto/Descripción","Valores Contables",null,"Ajuste",null,"Valores Fiscales",null,null,null,null,null,null,null,null,null,null,null,null,null,null,null,null,null,null,null,null,null,null,null,null,null,null,null,null,null,null,null,null,null,null,null,null,null,null,null,null,null,null,null,null,null,null,null,null,"Pasivos",1,30,{"$f":"(BD802=Parametros[Segmento])*(BE802>0)*(BF802>0)","v":0}]
[null,"Otros pasivos por ingresos diferidos ",null,{"$f":"SUM(C814:C815)","v":0},{"$f":"SUM(E814:E815)","v":0},{"$f":"SUM(F814:F815)","v":0},null,{"$f":"SUM(G814:G815)","v":0},null,null,null,null,null,null,null,null,null,null,null,null,null,null,null,null,null,null,null,null,null,null,null,null,null,null,null,null,null,null,null,null,null,null,null,null,null,null,null,null,null,null,null,null,null,null,null,"Pasivos",1,30,{"$f":"(BD813=Parametros[Segmento])*(BE813>0)*(BF813>0)","v":0}]
[null,"Concepto/Descripción","Valores Contables",null,"Ajuste",null,"Valores Fiscales",null,null,null,null,null,null,null,null,null,null,null,null,null,null,null,null,null,null,null,null,null,null,null,null,null,null,null,null,null,null,null,null,null,null,null,null,null,null,null,null,null,null,null,null,null,null,null,null,"Pasivos",1,30,{"$f":"(BD819=Parametros[Segmento])*(BE819>0)*(BF819>0)","v":0}]
[null,"Embargos judiciales ",null,{"$f":"+SUM(C828:C829)","v":0},{"$f":"+SUM(E828:E829)","v":0},{"$f":"+SUM(F828:F829)","v":0},null,{"$f":"+SUM(G828:G829)","v":0},null,null,null,null,null,null,null,null,null,null,null,null,null,null,null,null,null,null,null,null,null,null,null,null,null,null,null,null,null,null,null,null,null,null,null,null,null,null,null,null,null,null,null,null,null,null,null,"Pasivos",1,30,{"$f":"(BD827=Parametros[Segmento])*(BE827>0)*(BF827>0)","v":0}]
[null,"Fondos sociales, mutuales y otros ",null,{"$f":"SUM(C837:C838)","v":0},{"$f":"SUM(E837:E838)","v":0},{"$f":"SUM(F837:F838)","v":0},null,{"$f":"SUM(G837:G838)","v":0},null,null,null,null,null,null,null,null,null,null,null,null,null,null,null,null,null,null,null,null,null,null,null,null,null,null,null,null,null,null,null,null,null,null,null,null,null,null,null,null,null,null,null,null,null,null,null,"Pasivos",1,30,{"$f":"(BD836=Parametros[Segmento])*(BE836>0)*(BF836>0)","v":0}]
[null,"Totales",null,{"$f":"SUM(D821:D844)","v":0},null,null,null,{"$f":"SUM(H821:H844)","v":0},null,null,null,null,null,null,null,null,null,null,null,null,null,null,null,null,null,null,null,null,null,null,null,null,null,null,null,null,null,null,null,null,null,null,null,null,null,null,null,null,null,null,null,null,null,null,null,"Pasivos",1,30,{"$f":"(BD845=Parametros[Segmento])*(BE845>0)*(BF845>0)","v":0}]
[null,"Capital social y reservas",null,null,null,null,null,null,null,null,null,null,null,null,null,null,null,null,null,null,null,null,null,null,null,null,null,null,null,null,null,null,null,null,null,null,null,null,null,null,null,null,null,null,null,null,null,null,null,null,null,null,null,null,null,"Patrimonio",1,30,{"$f":"(BD850=Parametros[Segmento])*(BE850>0)*(BF850>0)","v":0}]
[null,null,null,null,null,null,{"$f":"+C854+E854-F854","v":0},null,null,null,null,null,null,null,null,null,null,null,null,null,null,null,null,null,null,null,null,null,null,null,null,null,null,null,null,null,null,null,null,null,null,null,null,null,null,null,null,null,null,null,null,null,null,{"$f":"SUBSTITUTE($B$850,CHAR(10),\"\")","v":"Capital social y reservas"},{"$f":"SUBSTITUTE($B$853,CHAR(10),\"\")","v":"Capital pagado "},"Patrimonio",{"$f":"(BC854=OFFSET(BC854,1,0))*1","v":1},30,{"$f":"(BD854=Parametros[Segmento])*(BE854>0)*(BF854>0)","v":0}]
[null,null,null,null,null,null,{"$f":"+C864+E864-F864","v":0},null,null,null,null,null,null,null,null,null,null,null,null,null,null,null,null,null,null,null,null,null,null,null,null,null,null,null,null,null,null,null,null,null,null,null,null,null,null,null,null,null,null,null,null,null,null,{"$f":"SUBSTITUTE($B$850,CHAR(10),\"\")","v":"Capital social y reservas"},{"$f":"SUBSTITUTE($B$862,CHAR(10),\"\")","v":"Capital asignado"},"Patrimonio",{"$f":"(BC864=OFFSET(BC864,1,0))*1","v":0},30,{"$f":"(BD864=Parametros[Segmento])*(BE864>0)*(BF864>0)","v":0}]
[null,"Donaciones",null,{"$f":"SUM(C872:C873)","v":0},{"$f":"SUM(E872:E873)","v":0},{"$f":"SUM(F872:F873)","v":0},null,{"$f":"SUM(G872:G873)","v":0},null,null,null,null,null,null,null,null,null,null,null,null,null,null,null,null,null,null,null,null,null,null,null,null,null,null,null,null,null,null,null,null,null,null,null,null,null,null,null,null,null,null,null,null,null,null,null,"Patrimonio",1,30,{"$f":"(BD871=Parametros[Segmento])*(BE871>0)*(BF871>0)","v":0}]
[null,null,null,null,null,null,{"$f":"+C878+E878-F878","v":0},null,null,null,null,null,null,null,null,null,null,null,null,null,null,null,null,null,null,null,null,null,null,null,null,null,null,null,null,null,null,null,null,null,null,null,null,null,null,null,null,null,null,null,null,null,null,{"$f":"SUBSTITUTE($B$850,CHAR(10),\"\")","v":"Capital social y reservas"},{"$f":"SUBSTITUTE($B$877,CHAR(10),\"\")","v":"Reservas ocasionales"},"Patrimonio",{"$f":"(BC878=OFFSET(BC878,1,0))*1","v":1},30,{"$f":"(BD878=Parametros[Segmento])*(BE878>0)*(BF878>0)","v":0}]
[null,null,null,null,null,null,null,null,null,null,null,null,null,null,null,null,null,null,null,null,null,null,null,null,null,null,null,null,null,null,null,null,null,null,null,null,null,null,null,null,null,null,null,null,null,null,null,null,null,null,null,null,null,{"$f":"SUBSTITUTE($B$850,CHAR(10),\"\")","v":"Capital social y reservas"},{"$f":"SUBSTITUTE($B$886,CHAR(10),\"\")","v":"Superávit por revaluaciones"},"Patrimonio",{"$f":"(BC888=OFFSET(BC888,1,0))*1","v":0},30,{"$f":"(BD888=Parametros[Segmento])*(BE888>0)*(BF888>0)","v":0}]
[null,"Saldo crédito inversión suplementaria",null,{"$f":"SUM(C896:C897)","v":0},{"$f":"SUM(E896:E897)","v":0},{"$f":"SUM(F896:F897)","v":0},null,{"$f":"SUM(G896:G897)","v":0},null,null,null,null,null,null,null,null,null,null,null,null,null,null,null,null,null,null,null,null,null,null,null,null,null,null,null,null,null,null,null,null,null,null,null,null,null,null,null,null,null,null,null,null,null,null,null,"Patrimonio",1,30,{"$f":"(BD895=Parametros[Segmento])*(BE895>0)*(BF895>0)","v":0}]
[null,null,"Saldos Parciales ","Saldos Totales ","Mayor Valor Fiscal","Menor Valor Fiscal","Saldos Parciales","Saldos Totales ",null,null,null,null,null,null,null,null,null,null,null,null,null,null,null,null,null,null,null,null,null,null,null,null,null,null,null,null,null,null,null,null,null,null,null,null,null,null,null,null,null,null,null,null,null,null,null,"Patrimonio",1,30,{"$f":"(BD905=Parametros[Segmento])*(BE905>0)*(BF905>0)","v":0}]
[null,"Utilidad o excedente del ejercicio en operaciones discontinuadas",null,{"$f":"SUM(C910:C911)","v":0},{"$f":"SUM(E910:E911)","v":0},{"$f":"SUM(F910:F911)","v":0},null,{"$f":"SUM(G910:G911)","v":0},null,null,null,null,null,null,null,null,null,null,null,null,null,null,null,null,null,null,null,null,null,null,null,null,null,null,null,null,null,null,null,null,null,null,null,null,null,null,null,null,null,null,null,null,null,null,null,"Patrimonio",1,40.200000000000003,{"$f":"(BD909=Parametros[Segmento])*(BE909>0)*(BF909>0)","v":0}]
[null,null,null,null,null,null,{"$f":"+C914+E914-F914","v":0},null,null,null,null,null,null,null,null,null,null,null,null,null,null,null,null,null,null,null,null,null,null,null,null,null,null,null,null,null,null,null,null,null,null,null,null,null,null,null,null,null,null,null,null,null,null,{"$f":"SUBSTITUTE($B$903,CHAR(10),\"\")","v":"Resultados del ejercicio"},{"$f":"SUBSTITUTE($B$912,CHAR(10),\"\")","v":"Pérdida o déficit del ejercicio en operaciones continuadas"},"Patrimonio",{"$f":"(BC914=OFFSET(BC914,1,0))*1","v":0},30,{"$f":"(BD914=Parametros[Segmento])*(BE914>0)*(BF914>0)","v":0}]
[null,"Utilidades o excedentes acumulados susceptibles de distribución a titulo de no constitutivo de renta ni ganancia ocasional",null,{"$f":"SUM(C924:C925)","v":0},{"$f":"SUM(E924:E925)","v":0},{"$f":"SUM(F924:F925)","v":0},null,{"$f":"SUM(G924:G925)","v":0},null,null,null,null,null,null,null,null,null,null,null,null,null,null,null,null,null,null,null,null,null,null,null,null,null,null,null,null,null,null,null,null,null,null,null,null,null,null,null,null,null,null,null,null,null,null,null,"Patrimonio",1,60,{"$f":"(BD923=Parametros[Segmento])*(BE923>0)*(BF923>0)","v":0}]
[null,null,null,null,null,null,{"$f":"+C931+E931-F931","v":0},null,null,null,null,null,null,null,null,null,null,null,null,null,null,null,null,null,null,null,null,null,null,null,null,null,null,null,null,null,null,null,null,null,null,null,null,null,null,null,null,null,null,null,null,null,null,{"$f":"SUBSTITUTE($B$920,CHAR(10),\"\")","v":"Resultados acumulados"},{"$f":"SUBSTITUTE($B$929,CHAR(10),\"\")","v":"Utilidades acumuladas por ajustes por corrección de errores"},"Patrimonio",{"$f":"(BC931=OFFSET(BC931,1,0))*1","v":0},30,{"$f":"(BD931=Parametros[Segmento])*(BE931>0)*(BF931>0)","v":0}]
[null,null,null,null,null,null,{"$f":"+C937+E937-F937","v":0},null,null,null,null,null,null,null,null,null,null,null,null,null,null,null,null,null,null,null,null,null,null,null,null,null,null,null,null,null,null,null,null,null,null,null,null,null,null,null,null,null,null,null,null,null,null,{"$f":"SUBSTITUTE($B$920,CHAR(10),\"\")","v":"Resultados acumulados"},{"$f":"SUBSTITUTE($B$935,CHAR(10),\"\")","v":"Pérdidas o déficit acumulados"},"Patrimonio",{"$f":"(BC937=OFFSET(BC937,1,0))*1","v":0},30,{"$f":"(BD937=Parametros[Segmento])*(BE937>0)*(BF937>0)","v":0}]
[null,null,"Saldos Parciales ","Saldos Totales ","Mayor Valor Fiscal","Menor Valor Fiscal","Saldos Parciales","Saldos Totales ",null,null,null,null,null,null,null,null,null,null,null,null,null,null,null,null,null,null,null,null,null,null,null,null,null,null,null,null,null,null,null,null,null,null,null,null,null,null,null,null,null,null,null,null,null,null,null,"Patrimonio",1,30,{"$f":"(BD948=Parametros[Segmento])*(BE948>0)*(BF948>0)","v":0}]
[null,null,null,null,null,null,{"$f":"+C954+E954-F954","v":0},null,null,null,null,null,null,null,null,null,null,null,null,null,null,null,null,null,null,null,null,null,null,null,null,null,null,null,null,null,null,null,null,null,null,null,null,null,null,null,null,null,null,null,null,null,null,{"$f":"SUBSTITUTE($B$946,CHAR(10),\"\")","v":"Ganancias (pérdidas) acumuladas o retenidas por la adopción por primera vez"},{"$f":"SUBSTITUTE($B$952,CHAR(10),\"\")","v":"Pérdidas acumuladas netas - adopción por primera vez"},"Patrimonio",{"$f":"(BC954=OFFSET(BC954,1,0))*1","v":0},30,{"$f":"(BD954=Parametros[Segmento])*(BE954>0)*(BF954>0)","v":0}]
[null,null,null,null,null,null,{"$f":"+C965+E965-F965","v":0},null,null,null,null,null,null,null,null,null,null,null,null,null,null,null,null,null,null,null,null,null,null,null,null,null,null,null,null,null,null,null,null,null,null,null,null,null,null,null,null,null,null,null,null,null,null,{"$f":"SUBSTITUTE($B$957,CHAR(10),\"\")","v":"Otro resultado integral acumulado"},{"$f":"SUBSTITUTE($B$963,CHAR(10),\"\")","v":"Ajuste negativo por efecto de conversión"},"Patrimonio",{"$f":"(BC965=OFFSET(BC965,1,0))*1","v":0},30,{"$f":"(BD965=Parametros[Segmento])*(BE965>0)*(BF965>0)","v":0}]
[null,null,null,null,null,null,{"$f":"+C968+E968-F968","v":0},null,null,null,null,null,null,null,null,null,null,null,null,null,null,null,null,null,null,null,null,null,null,null,null,null,null,null,null,null,null,null,null,null,null,null,null,null,null,null,null,null,null,null,null,null,null,{"$f":"SUBSTITUTE($B$957,CHAR(10),\"\")","v":"Otro resultado integral acumulado"},{"$f":"SUBSTITUTE($B$966,CHAR(10),\"\")","v":"Ganancias acumuladas - ORI"},"Patrimonio",{"$f":"(BC968=OFFSET(BC968,1,0))*1","v":0},30,{"$f":"(BD968=Parametros[Segmento])*(BE968>0)*(BF968>0)","v":0}]
[null,null,null,null,null,null,null,null,null,null,null,null,null,null,null,null,null,null,null,null,null,null,null,null,null,null,null,null,null,null,null,null,null,null,null,null,null,null,null,null,null,null,null,null,null,null,null,null,null,null,null,null,null,null,null,"Ing. Ordinarios",1,30,{"$f":"(BD974=Parametros[Segmento])*(BE974>0)*(BF974>0)","v":0}]
[null,null,null,null,null,null,{"$f":"+C982+E982-F982","v":0},null,null,null,null,null,null,null,null,null,null,null,null,null,null,null,null,null,null,null,null,null,null,null,null,null,null,null,null,null,null,null,null,null,null,null,null,null,null,null,null,null,null,null,null,null,null,{"$f":"SUBSTITUTE($B$977,CHAR(10),\"\")","v":"Ingresos brutos Actividad Industrial, Comercial y Servicios - Venta de bienes"},{"$f":"SUBSTITUTE($B$980,CHAR(10),\"\")","v":"Venta de bienes - Al territorio nacional"},"Ing. Ordinarios",{"$f":"(BC982=OFFSET(BC982,1,0))*1","v":0},30,{"$f":"(BD982=Parametros[Segmento])*(BE982>0)*(BF982>0)","v":0}]
[null,null,null,null,null,null,{"$f":"+C991+E991-F991","v":0},null,null,null,null,null,null,null,null,null,null,null,null,null,null,null,null,null,null,null,null,null,null,null,null,null,null,null,null,null,null,null,null,null,null,null,null,null,null,null,null,null,null,null,null,null,null,{"$f":"SUBSTITUTE($B$977,CHAR(10),\"\")","v":"Ingresos brutos Actividad Industrial, Comercial y Servicios - Venta de bienes"},{"$f":"SUBSTITUTE($B$989,CHAR(10),\"\")","v":"Venta de bienes - Comercializadoras Internacionales "},"Ing. Ordinarios",{"$f":"(BC991=OFFSET(BC991,1,0))*1","v":0},30,{"$f":"(BD991=Parametros[Segmento])*(BE991>0)*(BF991>0)","v":0}]
[null,"Prestación de servicios - Al territorio Nacional ",null,{"$f":"SUM(C1004:C1005)","v":0},{"$f":"SUM(E1004:E1005)","v":0},{"$f":"SUM(F1004:F1005)","v":0},null,{"$f":"SUM(G1004:G1005)","v":0},null,null,null,null,null,null,null,null,null,null,null,null,null,null,null,null,null,null,null,null,null,null,null,null,null,null,null,null,null,null,null,null,null,null,null,null,null,null,null,null,null,null,null,null,null,null,null,"Ing. Ordinarios",1,30,{"$f":"(BD1003=Parametros[Segmento])*(BE1003>0)*(BF1003>0)","v":0}]
[null,null,null,null,null,null,{"$f":"+C1008+E1008-F1008","v":0},null,null,null,null,null,null,null,null,null,null,null,null,null,null,null,null,null,null,null,null,null,null,null,null,null,null,null,null,null,null,null,null,null,null,null,null,null,null,null,null,null,null,null,null,null,null,{"$f":"SUBSTITUTE($B$1000,CHAR(10),\"\")","v":"Ingresos brutos Actividad Industrial, Comercial y Servicios - Prestación de servicios (diferentes a honorarios profesionales)"},{"$f":"SUBSTITUTE($B$1006,CHAR(10),\"\")","v":"Prestación de servicios - Exportación a otros países "},"Ing. Ordinarios",{"$f":"(BC1008=OFFSET(BC1008,1,0))*1","v":0},30,{"$f":"(BD1008=Parametros[Segmento])*(BE1008>0)*(BF1008>0)","v":0}]
[null,null,null,null,null,null,{"$f":"+C1017+E1017-F1017","v":0},null,null,null,null,null,null,null,null,null,null,null,null,null,null,null,null,null,null,null,null,null,null,null,null,null,null,null,null,null,null,null,null,null,null,null,null,null,null,null,null,null,null,null,null,null,null,{"$f":"SUBSTITUTE($B$1000,CHAR(10),\"\")","v":"Ingresos brutos Actividad Industrial, Comercial y Servicios - Prestación de servicios (diferentes a honorarios profesionales)"},{"$f":"SUBSTITUTE($B$1015,CHAR(10),\"\")","v":"Prestación de servicios - Jurisdicciones no cooperantes, de baja o nula imposición y regímenes preferenciales"},"Ing. Ordinarios",{"$f":"(BC1017=OFFSET(BC1017,1,0))*1","v":0},30,{"$f":"(BD1017=Parametros[Segmento])*(BE1017>0)*(BF1017>0)","v":0}]
[null,"Servicios de construcción ",null,{"$f":"SUM(C1027:C1028)","v":0},{"$f":"SUM(E1027:E1028)","v":0},{"$f":"SUM(F1027:F1028)","v":0},null,{"$f":"SUM(G1027:G1028)","v":0},null,null,null,null,null,null,null,null,null,null,null,null,null,null,null,null,null,null,null,null,null,null,null,null,null,null,null,null,null,null,null,null,null,null,null,null,null,null,null,null,null,null,null,null,null,null,null,"Ing. Ordinarios",1,30,{"$f":"(BD1026=Parametros[Segmento])*(BE1026>0)*(BF1026>0)","v":0}]
[null,null,null,null,null,null,{"$f":"+C1034+E1034-F1034","v":0},null,null,null,null,null,null,null,null,null,null,null,null,null,null,null,null,null,null,null,null,null,null,null,null,null,null,null,null,null,null,null,null,null,null,null,null,null,null,null,null,null,null,null,null,null,null,{"$f":"SUBSTITUTE($B$1023,CHAR(10),\"\")","v":"Ingresos Brutos Actividad Industrial, Comercial y Servicios - Otros ingresos "},{"$f":"SUBSTITUTE($B$1032,CHAR(10),\"\")","v":"Arrendamientos operativos "},"Ing. Ordinarios",{"$f":"(BC1034=OFFSET(BC1034,1,0))*1","v":0},30,{"$f":"(BD1034=Parametros[Segmento])*(BE1034>0)*(BF1034>0)","v":0}]
[null,null,null,null,null,null,{"$f":"+C1040+E1040-F1040","v":0},null,null,null,null,null,null,null,null,null,null,null,null,null,null,null,null,null,null,null,null,null,null,null,null,null,null,null,null,null,null,null,null,null,null,null,null,null,null,null,null,null,null,null,null,null,null,{"$f":"SUBSTITUTE($B$1023,CHAR(10),\"\")","v":"Ingresos Brutos Actividad Industrial, Comercial y Servicios - Otros ingresos "},{"$f":"SUBSTITUTE($B$1038,CHAR(10),\"\")","v":"Comisiones (relaciones de agencia)"},"Ing. Ordinarios",{"$f":"(BC1040=OFFSET(BC1040,1,0))*1","v":0},30,{"$f":"(BD1040=Parametros[Segmento])*(BE1040>0)*(BF1040>0)","v":0}]
[null,null,null,null,null,null,{"$f":"+C1043+E1043-F1043","v":0},null,null,null,null,null,null,null,null,null,null,null,null,null,null,null,null,null,null,null,null,null,null,null,null,null,null,null,null,null,null,null,null,null,null,null,null,null,null,null,null,null,null,null,null,null,null,{"$f":"SUBSTITUTE($B$1023,CHAR(10),\"\")","v":"Ingresos Brutos Actividad Industrial, Comercial y Servicios - Otros ingresos "},{"$f":"SUBSTITUTE($B$1041,CHAR(10),\"\")","v":"Honorarios Profesionales "},"Ing. Ordinarios",{"$f":"(BC1043=OFFSET(BC1043,1,0))*1","v":0},30,{"$f":"(BD1043=Parametros[Segmento])*(BE1043>0)*(BF1043>0)","v":0}]
[null,"Comisiones bancarias, costos de transacción, entre otros ",null,{"$f":"SUM(C1051:C1052)","v":0},{"$f":"SUM(E1051:E1052)","v":0},{"$f":"SUM(F1051:F1052)","v":0},null,{"$f":"SUM(G1051:G1052)","v":0},null,null,null,null,null,null,null,null,null,null,null,null,null,null,null,null,null,null,null,null,null,null,null,null,null,null,null,null,null,null,null,null,null,null,null,null,null,null,null,null,null,null,null,null,null,null,null,"Ing. Ordinarios",1,40.200000000000003,{"$f":"(BD1050=Parametros[Segmento])*(BE1050>0)*(BF1050>0)","v":0}]
[null,null,"Saldos Parciales ","Saldos Totales ","Mayor Valor Fiscal","Menor Valor Fiscal","Saldos Parciales","Saldos Totales ",null,null,null,null,null,null,null,null,null,null,null,null,null,null,null,null,null,null,null,null,null,null,null,null,null,null,null,null,null,null,null,null,null,null,null,null,null,null,null,null,null,null,null,null,null,null,null,"Ing. Ordinarios",1,30,{"$f":"(BD1060=Parametros[Segmento])*(BE1060>0)*(BF1060>0)","v":0}]
[null,null,null,null,null,null,null,null,null,null,null,null,null,null,null,null,null,null,null,null,null,null,null,null,null,null,null,null,null,null,null,null,null,null,null,null,null,null,null,null,null,null,null,null,null,null,null,null,null,null,null,null,null,null,null,"Ing. Ordinarios",1,30,{"$f":"(BD1071=Parametros[Segmento])*(BE1071>0)*(BF1071>0)","v":0}]
[null,null,null,null,null,null,{"$f":"+C1077+E1077-F1077","v":0},null,null,null,null,null,null,null,null,null,null,null,null,null,null,null,null,null,null,null,null,null,null,null,null,null,null,null,null,null,null,null,null,null,null,null,null,null,null,null,null,null,null,null,null,null,null,{"$f":"SUBSTITUTE($B$1072,CHAR(10),\"\")","v":"Ingresos no constitutivos de renta ni ganancia ocasional "},{"$f":"SUBSTITUTE($B$1075,CHAR(10),\"\")","v":"Ingresos no constitutivos de renta "},"Ing. Ordinarios",{"$f":"(BC1077=OFFSET(BC1077,1,0))*1","v":0},30,{"$f":"(BD1077=Parametros[Segmento])*(BE1077>0)*(BF1077>0)","v":0}]
[null,null,"Saldos Parciales ","Saldos Totales ","Mayor Valor Fiscal","Menor Valor Fiscal","Saldos Parciales","Saldos Totales ",null,null,null,null,null,null,null,null,null,null,null,null,null,null,null,null,null,null,null,null,null,null,null,null,null,null,null,null,null,null,null,null,null,null,null,null,null,null,null,null,null,null,null,null,null,null,null,"Ing. Financieros",1,30,{"$f":"(BD1085=Parametros[Segmento])*(BE1085>0)*(BF1085>0)","v":0}]
[null,null,null,null,null,null,{"$f":"+C1094+E1094-F1094","v":0},null,null,null,null,null,null,null,null,null,null,null,null,null,null,null,null,null,null,null,null,null,null,null,null,null,null,null,null,null,null,null,null,null,null,null,null,null,null,null,null,null,null,null,null,null,null,{"$f":"SUBSTITUTE($B$1083,CHAR(10),\"\")","v":"Ingresos financieros"},{"$f":"SUBSTITUTE($B$1092,CHAR(10),\"\")","v":"Intereses por préstamos a terceros (diferentes al sector financiero)"},"Ing. Financieros",{"$f":"(BC1094=OFFSET(BC1094,1,0))*1","v":0},30,{"$f":"(BD1094=Parametros[Segmento])*(BE1094>0)*(BF1094>0)","v":0}]
[null,null,null,null,null,null,{"$f":"+C1099+E1099-F1099","v":0},null,null,null,null,null,null,null,null,null,null,null,null,null,null,null,null,null,null,null,null,null,null,null,null,null,null,null,null,null,null,null,null,null,null,null,null,null,null,null,null,null,null,null,null,null,null,{"$f":"SUBSTITUTE($B$1083,CHAR(10),\"\")","v":"Ingresos financieros"},{"$f":"SUBSTITUTE($B$1098,CHAR(10),\"\")","v":"Intereses implícitos (transacciones de financiación)"},"Ing. Financieros",{"$f":"(BC1099=OFFSET(BC1099,1,0))*1","v":1},30,{"$f":"(BD1099=Parametros[Segmento])*(BE1099>0)*(BF1099>0)","v":0}]
[null,null,null,null,null,null,{"$f":"+C1103+E1103-F1103","v":0},null,null,null,null,null,null,null,null,null,null,null,null,null,null,null,null,null,null,null,null,null,null,null,null,null,null,null,null,null,null,null,null,null,null,null,null,null,null,null,null,null,null,null,null,null,null,{"$f":"SUBSTITUTE($B$1083,CHAR(10),\"\")","v":"Ingresos financieros"},{"$f":"SUBSTITUTE($B$1101,CHAR(10),\"\")","v":"Diferencia en cambio"},"Ing. Financieros",{"$f":"(BC1103=OFFSET(BC1103,1,0))*1","v":0},30,{"$f":"(BD1103=Parametros[Segmento])*(BE1103>0)*(BF1103>0)","v":0}]
[1.67,55.22,24.78,24.78,24.78,24.78,24.78,24.78,4,null,null,null,null,null,null,null,null,null,null,null,null,null,null,null,null,null,null,null,null,null,null,null,null,null,null,null,null,null,null,null,null,null,null,null,null,null,null,null,null,null,null,null,null,null,null,"Dividendos",0,15,{"$f":"(BD1116=Parametros[Segmento])*(BE1116>0)*(BF1116>0)","v":0}]
[null,"Dividendos",null,null,null,null,null,null,null,null,null,null,null,null,null,null,null,null,null,null,null,null,null,null,null,null,null,null,null,null,null,null,null,null,null,null,null,null,null,null,null,null,null,null,null,null,null,null,null,null,null,null,null,null,null,"Dividendos",1,30,{"$f":"(BD1120=Parametros[Segmento])*(BE1120>0)*(BF1120>0)","v":0}]
[null,null,null,null,null,null,{"$f":"+C1130+E1130-F1130","v":0},null,null,null,null,null,null,null,null,null,null,null,null,null,null,null,null,null,null,null,null,null,null,null,null,null,null,null,null,null,null,null,null,null,null,null,null,null,null,null,null,null,null,null,null,null,null,{"$f":"SUBSTITUTE($B$1120,CHAR(10),\"\")","v":"Dividendos"},{"$f":"SUBSTITUTE($B$1129,CHAR(10),\"\")","v":"Dividendos y/o participaciones gravadas a la tarifa general provenientes de sociedades y entidades extranjeras o de sociedades nacionales "},"Dividendos",{"$f":"(BC1130=OFFSET(BC1130,1,0))*1","v":1},30,{"$f":"(BD1130=Parametros[Segmento])*(BE1130>0)*(BF1130>0)","v":0}]
[null,null,null,null,null,null,{"$f":"+C1137+E1137-F1137","v":0},null,null,null,null,null,null,null,null,null,null,null,null,null,null,null,null,null,null,null,null,null,null,null,null,null,null,null,null,null,null,null,null,null,null,null,null,null,null,null,null,null,null,null,null,null,null,{"$f":"SUBSTITUTE($B$1120,CHAR(10),\"\")","v":"Dividendos"},{"$f":"SUBSTITUTE($B$1135,CHAR(10),\"\")","v":"Dividendos y/o participaciones gravadas recibidas por personas naturales sin residencia fiscal (año 2017 y siguientes)"},"Dividendos",{"$f":"(BC1137=OFFSET(BC1137,1,0))*1","v":0},30,{"$f":"(BD1137=Parametros[Segmento])*(BE1137>0)*(BF1137>0)","v":0}]
[null,"Dividendos y participaciones provenientes de proyectos calificados como megainversión gravadas al 27%",null,{"$f":"SUM(C1145:C1146)","v":0},{"$f":"SUM(E1145:E1146)","v":0},{"$f":"SUM(F1145:F1146)","v":0},null,{"$f":"SUM(G1145:G1146)","v":0},null,null,null,null,null,null,null,null,null,null,null,null,null,null,null,null,null,null,null,null,null,null,null,null,null,null,null,null,null,null,null,null,null,null,null,null,null,null,null,null,null,null,null,null,null,null,null,"Dividendos",1,60,{"$f":"(BD1144=Parametros[Segmento])*(BE1144>0)*(BF1144>0)","v":0}]
[null,null,null,null,null,null,null,null,null,null,null,null,null,null,null,null,null,null,null,null,null,null,null,null,null,null,null,null,null,null,null,null,null,null,null,null,null,null,null,null,null,null,null,null,null,null,null,null,null,null,null,null,null,null,null,"Dividendos",1,30,{"$f":"(BD1154=Parametros[Segmento])*(BE1154>0)*(BF1154>0)","v":0}]
[null,"Ingresos no constitutivos de renta ",null,{"$f":"SUM(C1159:C1160)","v":0},{"$f":"SUM(E1159:E1160)","v":0},{"$f":"SUM(F1159:F1160)","v":0},null,{"$f":"SUM(G1159:G1160)","v":0},null,null,null,null,null,null,null,null,null,null,null,null,null,null,null,null,null,null,null,null,null,null,null,null,null,null,null,null,null,null,null,null,null,null,null,null,null,null,null,null,null,null,null,null,null,null,null,"Dividendos",1,30,{"$f":"(BD1158=Parametros[Segmento])*(BE1158>0)*(BF1158>0)","v":0}]
[null,null,null,null,null,null,null,null,null,null,null,null,null,null,null,null,null,null,null,null,null,null,null,null,null,null,null,null,null,null,null,null,null,null,null,null,null,null,null,null,null,null,null,null,null,null,null,null,null,null,null,null,null,null,null,"Ing. Reversiones",1,30,{"$f":"(BD1163=Parametros[Segmento])*(BE1163>0)*(BF1163>0)","v":0}]
[null,"Activos intangibles ",null,{"$f":"SUM(C1176:C1177)","v":0},{"$f":"SUM(E1176:E1177)","v":0},{"$f":"SUM(F1176:F1177)","v":0},null,{"$f":"SUM(G1176:G1177)","v":0},null,null,null,null,null,null,null,null,null,null,null,null,null,null,null,null,null,null,null,null,null,null,null,null,null,null,null,null,null,null,null,null,null,null,null,null,null,null,null,null,null,null,null,null,null,null,null,"Ing. Reversiones",1,30,{"$f":"(BD1175=Parametros[Segmento])*(BE1175>0)*(BF1175>0)","v":0}]
[null,null,null,null,null,null,{"$f":"+C1180+E1180-F1180","v":0},null,null,null,null,null,null,null,null,null,null,null,null,null,null,null,null,null,null,null,null,null,null,null,null,null,null,null,null,null,null,null,null,null,null,null,null,null,null,null,null,null,null,null,null,null,null,{"$f":"SUBSTITUTE($B$1166,CHAR(10),\"\")","v":"Ingresos por reversión de deterioro del valor "},{"$f":"SUBSTITUTE($B$1178,CHAR(10),\"\")","v":"Activos de exploración y evaluación de recursos minerales "},"Ing. Reversiones",{"$f":"(BC1180=OFFSET(BC1180,1,0))*1","v":0},30,{"$f":"(BD1180=Parametros[Segmento])*(BE1180>0)*(BF1180>0)","v":0}]
[null,null,null,null,null,null,{"$f":"+C1189+E1189-F1189","v":0},null,null,null,null,null,null,null,null,null,null,null,null,null,null,null,null,null,null,null,null,null,null,null,null,null,null,null,null,null,null,null,null,null,null,null,null,null,null,null,null,null,null,null,null,null,null,{"$f":"SUBSTITUTE($B$1166,CHAR(10),\"\")","v":"Ingresos por reversión de deterioro del valor "},{"$f":"SUBSTITUTE($B$1187,CHAR(10),\"\")","v":"Activos biológicos medidos al costo"},"Ing. Reversiones",{"$f":"(BC1189=OFFSET(BC1189,1,0))*1","v":0},30,{"$f":"(BD1189=Parametros[Segmento])*(BE1189>0)*(BF1189>0)","v":0}]
[null,null,null,null,null,null,{"$f":"+C1195+E1195-F1195","v":0},null,null,null,null,null,null,null,null,null,null,null,null,null,null,null,null,null,null,null,null,null,null,null,null,null,null,null,null,null,null,null,null,null,null,null,null,null,null,null,null,null,null,null,null,null,null,{"$f":"SUBSTITUTE($B$1166,CHAR(10),\"\")","v":"Ingresos por reversión de deterioro del valor "},{"$f":"SUBSTITUTE($B$1193,CHAR(10),\"\")","v":"Activos financieros (diferentes a cartera de crédito y operaciones de leasing)"},"Ing. Reversiones",{"$f":"(BC1195=OFFSET(BC1195,1,0))*1","v":0},30,{"$f":"(BD1195=Parametros[Segmento])*(BE1195>0)*(BF1195>0)","v":0}]
[null,null,null,null,null,null,null,null,null,null,null,null,null,null,null,null,null,null,null,null,null,null,null,null,null,null,null,null,null,null,null,null,null,null,null,null,null,null,null,null,null,null,null,null,null,null,null,null,null,null,null,null,null,null,null,"Ing. Reversiones",1,30,{"$f":"(BD1206=Parametros[Segmento])*(BE1206>0)*(BF1206>0)","v":0}]
[null,null,null,null,null,null,{"$f":"+C1212+E1212-F1212","v":0},null,null,null,null,null,null,null,null,null,null,null,null,null,null,null,null,null,null,null,null,null,null,null,null,null,null,null,null,null,null,null,null,null,null,null,null,null,null,null,null,null,null,null,null,null,null,{"$f":"SUBSTITUTE($B$1207,CHAR(10),\"\")","v":"Ingresos por reversión de pasivos por beneficios a los empleados "},{"$f":"SUBSTITUTE($B$1210,CHAR(10),\"\")","v":"Beneficios de corto plazo"},"Ing. Reversiones",{"$f":"(BC1212=OFFSET(BC1212,1,0))*1","v":0},30,{"$f":"(BD1212=Parametros[Segmento])*(BE1212>0)*(BF1212>0)","v":0}]
[null,null,null,null,null,null,{"$f":"+C1215+E1215-F1215","v":0},null,null,null,null,null,null,null,null,null,null,null,null,null,null,null,null,null,null,null,null,null,null,null,null,null,null,null,null,null,null,null,null,null,null,null,null,null,null,null,null,null,null,null,null,null,null,{"$f":"SUBSTITUTE($B$1207,CHAR(10),\"\")","v":"Ingresos por reversión de pasivos por beneficios a los empleados "},{"$f":"SUBSTITUTE($B$1213,CHAR(10),\"\")","v":"Beneficios de largo plazo "},"Ing. Reversiones",{"$f":"(BC1215=OFFSET(BC1215,1,0))*1","v":0},30,{"$f":"(BD1215=Parametros[Segmento])*(BE1215>0)*(BF1215>0)","v":0}]
[null,null,"Saldos Parciales ","Saldos Totales ","Mayor Valor Fiscal","Menor Valor Fiscal","Saldos Parciales","Saldos Totales ",null,null,null,null,null,null,null,null,null,null,null,null,null,null,null,null,null,null,null,null,null,null,null,null,null,null,null,null,null,null,null,null,null,null,null,null,null,null,null,null,null,null,null,null,null,null,null,"Ing. Reversiones",1,30,{"$f":"(BD1226=Parametros[Segmento])*(BE1226>0)*(BF1226>0)","v":0}]
[null,null,null,null,null,null,{"$f":"+C1232+E1232-F1232","v":0},null,null,null,null,null,null,null,null,null,null,null,null,null,null,null,null,null,null,null,null,null,null,null,null,null,null,null,null,null,null,null,null,null,null,null,null,null,null,null,null,null,null,null,null,null,null,{"$f":"SUBSTITUTE($B$1224,CHAR(10),\"\")","v":"Ingresos por reversión de provisiones (pasivos de monto o fecha inciertos)"},{"$f":"SUBSTITUTE($B$1230,CHAR(10),\"\")","v":"Contratos onerosos "},"Ing. Reversiones",{"$f":"(BC1232=OFFSET(BC1232,1,0))*1","v":0},30,{"$f":"(BD1232=Parametros[Segmento])*(BE1232>0)*(BF1232>0)","v":0}]
[null,null,null,null,null,null,{"$f":"+C1240+E1240-F1240","v":0},null,null,null,null,null,null,null,null,null,null,null,null,null,null,null,null,null,null,null,null,null,null,null,null,null,null,null,null,null,null,null,null,null,null,null,null,null,null,null,null,null,null,null,null,null,null,{"$f":"SUBSTITUTE($B$1224,CHAR(10),\"\")","v":"Ingresos por reversión de provisiones (pasivos de monto o fecha inciertos)"},{"$f":"SUBSTITUTE($B$1239,CHAR(10),\"\")","v":"Reestructuraciones de negocios "},"Ing. Reversiones",{"$f":"(BC1240=OFFSET(BC1240,1,0))*1","v":1},30,{"$f":"(BD1240=Parametros[Segmento])*(BE1240>0)*(BF1240>0)","v":0}]
[null,null,null,null,null,null,null,null,null,null,null,null,null,null,null,null,null,null,null,null,null,null,null,null,null,null,null,null,null,null,null,null,null,null,null,null,null,null,null,null,null,null,null,null,null,null,null,null,null,null,null,null,null,null,null,"Ing. Reversiones",1,30,{"$f":"(BD1249=Parametros[Segmento])*(BE1249>0)*(BF1249>0)","v":0}]
[null,null,null,null,null,null,{"$f":"+C1254+E1254-F1254","v":0},null,null,null,null,null,null,null,null,null,null,null,null,null,null,null,null,null,null,null,null,null,null,null,null,null,null,null,null,null,null,null,null,null,null,null,null,null,null,null,null,null,null,null,null,null,null,{"$f":"SUBSTITUTE($B$1250,CHAR(10),\"\")","v":"Ingresos no constitutivos de renta ni ganancia ocasional "},{"$f":"SUBSTITUTE($B$1253,CHAR(10),\"\")","v":"Ingresos no constitutivos de renta "},"Ing. Reversiones",{"$f":"(BC1254=OFFSET(BC1254,1,0))*1","v":1},30,{"$f":"(BD1254=Parametros[Segmento])*(BE1254>0)*(BF1254>0)","v":0}]
[null,null,null,null,null,null,{"$f":"+C1266+E1266-F1266","v":0},null,null,null,null,null,null,null,null,null,null,null,null,null,null,null,null,null,null,null,null,null,null,null,null,null,null,null,null,null,null,null,null,null,null,null,null,null,null,null,null,null,null,null,null,null,null,{"$f":"SUBSTITUTE($B$1261,CHAR(10),\"\")","v":"Otros Ingresos"},{"$f":"SUBSTITUTE($B$1264,CHAR(10),\"\")","v":"Transferencias, subvenciones y ayudas gubernamentales"},"Otros ingresos",{"$f":"(BC1266=OFFSET(BC1266,1,0))*1","v":0},30,{"$f":"(BD1266=Parametros[Segmento])*(BE1266>0)*(BF1266>0)","v":0}]
[null,null,null,null,null,null,{"$f":"+C1271+E1271-F1271","v":0},null,null,null,null,null,null,null,null,null,null,null,null,null,null,null,null,null,null,null,null,null,null,null,null,null,null,null,null,null,null,null,null,null,null,null,null,null,null,null,null,null,null,null,null,null,null,{"$f":"SUBSTITUTE($B$1261,CHAR(10),\"\")","v":"Otros Ingresos"},{"$f":"SUBSTITUTE($B$1270,CHAR(10),\"\")","v":"Reembolsos de compañías de seguros "},"Otros ingresos",{"$f":"(BC1271=OFFSET(BC1271,1,0))*1","v":1},30,{"$f":"(BD1271=Parametros[Segmento])*(BE1271>0)*(BF1271>0)","v":0}]
[null,null,null,null,null,null,{"$f":"+C1275+E1275-F1275","v":0},null,null,null,null,null,null,null,null,null,null,null,null,null,null,null,null,null,null,null,null,null,null,null,null,null,null,null,null,null,null,null,null,null,null,null,null,null,null,null,null,null,null,null,null,null,null,{"$f":"SUBSTITUTE($B$1261,CHAR(10),\"\")","v":"Otros Ingresos"},{"$f":"SUBSTITUTE($B$1273,CHAR(10),\"\")","v":"Otras indemnizaciones "},"Otros ingresos",{"$f":"(BC1275=OFFSET(BC1275,1,0))*1","v":0},30,{"$f":"(BD1275=Parametros[Segmento])*(BE1275>0)*(BF1275>0)","v":0}]
[null,"Recuperación de deducciones sin incidencia contable (Ajustes fiscales)",null,{"$f":"SUM(C1286:C1287)","v":0},{"$f":"SUM(E1286:E1287)","v":0},{"$f":"SUM(F1286:F1287)","v":0},null,{"$f":"SUM(G1286:G1287)","v":0},null,null,null,null,null,null,null,null,null,null,null,null,null,null,null,null,null,null,null,null,null,null,null,null,null,null,null,null,null,null,null,null,null,null,null,null,null,null,null,null,null,null,null,null,null,null,null,"Otros ingresos",1,40.200000000000003,{"$f":"(BD1285=Parametros[Segmento])*(BE1285>0)*(BF1285>0)","v":0}]
[null,null,null,null,null,null,{"$f":"+C1292+E1292-F1292","v":0},null,null,null,null,null,null,null,null,null,null,null,null,null,null,null,null,null,null,null,null,null,null,null,null,null,null,null,null,null,null,null,null,null,null,null,null,null,null,null,null,null,null,null,null,null,null,{"$f":"SUBSTITUTE($B$1261,CHAR(10),\"\")","v":"Otros Ingresos"},{"$f":"SUBSTITUTE($B$1290,CHAR(10),\"\")","v":"Mayor ingreso - Precios de Transferencia (Ajustes fiscales)"},"Otros ingresos",{"$f":"(BC1292=OFFSET(BC1292,1,0))*1","v":0},30,{"$f":"(BD1292=Parametros[Segmento])*(BE1292>0)*(BF1292>0)","v":0}]
[null,null,"Total Otros Ingresos",{"$f":"SUM(D1264:D1298)","v":0},null,null,null,{"$f":"SUM(H1264:H1298)","v":0},null,null,null,null,null,null,null,null,null,null,null,null,null,null,null,null,null,null,null,null,null,null,null,null,null,null,null,null,null,null,null,null,null,null,null,null,null,null,null,null,null,null,null,null,null,null,null,"Otros ingresos",1,30,{"$f":"(BD1299=Parametros[Segmento])*(BE1299>0)*(BF1299>0)","v":0}]
[null,null,null,null,null,null,{"$f":"+C1309+E1309-F1309","v":0},null,null,null,null,null,null,null,null,null,null,null,null,null,null,null,null,null,null,null,null,null,null,null,null,null,null,null,null,null,null,null,null,null,null,null,null,null,null,null,null,null,null,null,null,null,null,{"$f":"SUBSTITUTE($B$1301,CHAR(10),\"\")","v":"Ingresos por mediciones a valor razonable"},{"$f":"SUBSTITUTE($B$1307,CHAR(10),\"\")","v":"Propiedades de inversión "},"Otros ingresos",{"$f":"(BC1309=OFFSET(BC1309,1,0))*1","v":0},30,{"$f":"(BD1309=Parametros[Segmento])*(BE1309>0)*(BF1309>0)","v":0}]
[null,"Instrumentos derivados ",null,{"$f":"SUM(C1314:C1315)","v":0},{"$f":"SUM(E1314:E1315)","v":0},{"$f":"SUM(F1314:F1315)","v":0},null,{"$f":"SUM(G1314:G1315)","v":0},null,null,null,null,null,null,null,null,null,null,null,null,null,null,null,null,null,null,null,null,null,null,null,null,null,null,null,null,null,null,null,null,null,null,null,null,null,null,null,null,null,null,null,null,null,null,null,"Otros ingresos",1,30,{"$f":"(BD1313=Parametros[Segmento])*(BE1313>0)*(BF1313>0)","v":0}]
[null,null,null,null,null,null,{"$f":"+C1326+E1326-F1326","v":0},null,null,null,null,null,null,null,null,null,null,null,null,null,null,null,null,null,null,null,null,null,null,null,null,null,null,null,null,null,null,null,null,null,null,null,null,null,null,null,null,null,null,null,null,null,null,{"$f":"SUBSTITUTE($B$1321,CHAR(10),\"\")","v":"Ingresos no constitutivos de renta ni ganancia ocasional "},{"$f":"SUBSTITUTE($B$1324,CHAR(10),\"\")","v":"Ingresos no constitutivos de renta "},"Otros ingresos",{"$f":"(BC1326=OFFSET(BC1326,1,0))*1","v":0},30,{"$f":"(BD1326=Parametros[Segmento])*(BE1326>0)*(BF1326>0)","v":0}]
[null,null,"Saldos Parciales ","Saldos Totales ","Mayor Valor Fiscal","Menor Valor Fiscal","Saldos Parciales","Saldos Totales ",null,null,null,null,null,null,null,null,null,null,null,null,null,null,null,null,null,null,null,null,null,null,null,null,null,null,null,null,null,null,null,null,null,null,null,null,null,null,null,null,null,null,null,null,null,null,null,"Venta de Activos",1,30,{"$f":"(BD1334=Parametros[Segmento])*(BE1334>0)*(BF1334>0)","v":0}]
[null,"Venta de activos considerados como propiedad, planta y equipo",null,{"$f":"SUM(C1336:C1337)","v":0},{"$f":"SUM(E1336:E1337)","v":0},{"$f":"SUM(F1336:F1337)","v":0},null,{"$f":"SUM(G1336:G1337)","v":0},null,null,null,null,null,null,null,null,null,null,null,null,null,null,null,null,null,null,null,null,null,null,null,null,null,null,null,null,null,null,null,null,null,null,null,null,null,null,null,null,null,null,null,null,null,null,null,"Venta de Activos",1,40.200000000000003,{"$f":"(BD1335=Parametros[Segmento])*(BE1335>0)*(BF1335>0)","v":0}]
[null,"Venta de activos no corrientes mantenidos para la venta",null,{"$f":"SUM(C1345:C1346)","v":0},{"$f":"SUM(E1345:E1346)","v":0},{"$f":"SUM(F1345:F1346)","v":0},null,{"$f":"SUM(G1345:G1346)","v":0},null,null,null,null,null,null,null,null,null,null,null,null,null,null,null,null,null,null,null,null,null,null,null,null,null,null,null,null,null,null,null,null,null,null,null,null,null,null,null,null,null,null,null,null,null,null,null,"Venta de Activos",1,40.200000000000003,{"$f":"(BD1344=Parametros[Segmento])*(BE1344>0)*(BF1344>0)","v":0}]
[null,null,null,null,null,null,{"$f":"+C1352+E1352-F1352","v":0},null,null,null,null,null,null,null,null,null,null,null,null,null,null,null,null,null,null,null,null,null,null,null,null,null,null,null,null,null,null,null,null,null,null,null,null,null,null,null,null,null,null,null,null,null,null,{"$f":"SUBSTITUTE($B$1332,CHAR(10),\"\")","v":"Venta de activos poseídos por menos de dos años"},{"$f":"SUBSTITUTE($B$1350,CHAR(10),\"\")","v":"Venta de inversiones en acciones y otras participaciones"},"Venta de Activos",{"$f":"(BC1352=OFFSET(BC1352,1,0))*1","v":0},30,{"$f":"(BD1352=Parametros[Segmento])*(BE1352>0)*(BF1352>0)","v":0}]
[null,null,null,null,null,null,null,null,null,null,null,null,null,null,null,null,null,null,null,null,null,null,null,null,null,null,null,null,null,null,null,null,null,null,null,null,null,null,null,null,null,null,null,null,null,null,null,null,null,null,null,null,null,null,null,"Rentas pasivas ECE",1,30,{"$f":"(BD1361=Parametros[Segmento])*(BE1361>0)*(BF1361>0)","v":0}]
[null,"Dividendos, retiros y repartos",null,{"$f":"SUM(C1368:C1369)","v":0},{"$f":"SUM(E1368:E1369)","v":0},{"$f":"SUM(F1368:F1369)","v":0},null,{"$f":"SUM(G1368:G1369)","v":0},null,null,null,null,null,null,null,null,null,null,null,null,null,null,null,null,null,null,null,null,null,null,null,null,null,null,null,null,null,null,null,null,null,null,null,null,null,null,null,null,null,null,null,null,null,null,null,"Rentas pasivas ECE",1,30,{"$f":"(BD1367=Parametros[Segmento])*(BE1367>0)*(BF1367>0)","v":0}]
[null,null,null,null,null,null,{"$f":"+C1378+E1378-F1378","v":0},null,null,null,null,null,null,null,null,null,null,null,null,null,null,null,null,null,null,null,null,null,null,null,null,null,null,null,null,null,null,null,null,null,null,null,null,null,null,null,null,null,null,null,null,null,null,{"$f":"SUBSTITUTE($B$1364,CHAR(10),\"\")","v":"Ingresos"},{"$f":"SUBSTITUTE($B$1376,CHAR(10),\"\")","v":"Enajenación o cesión de derechos "},"Rentas pasivas ECE",{"$f":"(BC1378=OFFSET(BC1378,1,0))*1","v":0},30,{"$f":"(BD1378=Parametros[Segmento])*(BE1378>0)*(BF1378>0)","v":0}]
[null,null,null,null,null,null,{"$f":"+C1381+E1381-F1381","v":0},null,null,null,null,null,null,null,null,null,null,null,null,null,null,null,null,null,null,null,null,null,null,null,null,null,null,null,null,null,null,null,null,null,null,null,null,null,null,null,null,null,null,null,null,null,null,{"$f":"SUBSTITUTE($B$1364,CHAR(10),\"\")","v":"Ingresos"},{"$f":"SUBSTITUTE($B$1379,CHAR(10),\"\")","v":"Enajenación o arrendamiento de bienes inmuebles"},"Rentas pasivas ECE",{"$f":"(BC1381=OFFSET(BC1381,1,0))*1","v":0},30,{"$f":"(BD1381=Parametros[Segmento])*(BE1381>0)*(BF1381>0)","v":0}]
[null,null,null,null,null,null,{"$f":"+C1395+E1395-F1395","v":0},null,null,null,null,null,null,null,null,null,null,null,null,null,null,null,null,null,null,null,null,null,null,null,null,null,null,null,null,null,null,null,null,null,null,null,null,null,null,null,null,null,null,null,null,null,null,{"$f":"SUBSTITUTE($B$1390,CHAR(10),\"\")","v":"Costos y deducciones"},{"$f":"SUBSTITUTE($B$1393,CHAR(10),\"\")","v":"Costos "},"Rentas pasivas ECE",{"$f":"(BC1395=OFFSET(BC1395,1,0))*1","v":0},30,{"$f":"(BD1395=Parametros[Segmento])*(BE1395>0)*(BF1395>0)","v":0}]
[null,null,null,"Ganancias Ocasionales",null,null,null,null,null,null,null,null,null,null,null,null,null,null,null,null,null,null,null,null,null,null,null,null,null,null,null,null,null,null,null,null,null,null,null,null,null,null,null,null,null,null,null,null,null,null,null,null,null,null,null,"G. Ocasionales",1,30,{"$f":"(BD1402=Parametros[Segmento])*(BE1402>0)*(BF1402>0)","v":0}]
[null,"Venta de bienes poseídos por dos o más años ",null,null,null,null,null,null,null,null,null,null,null,null,null,null,null,null,null,null,null,null,null,null,null,null,null,null,null,null,null,null,null,null,null,null,null,null,null,null,null,null,null,null,null,null,null,null,null,null,null,null,null,null,null,"G. Ocasionales",1,30,{"$f":"(BD1404=Parametros[Segmento])*(BE1404>0)*(BF1404>0)","v":0}]
[null,"Venta de activos no corrientes mantenidos para la venta",null,{"$f":"SUM(C1417:C1418)","v":0},{"$f":"SUM(E1417:E1418)","v":0},{"$f":"SUM(F1417:F1418)","v":0},null,{"$f":"SUM(G1417:G1418)","v":0},null,null,null,null,null,null,null,null,null,null,null,null,null,null,null,null,null,null,null,null,null,null,null,null,null,null,null,null,null,null,null,null,null,null,null,null,null,null,null,null,null,null,null,null,null,null,null,"G. Ocasionales",1,40.200000000000003,{"$f":"(BD1416=Parametros[Segmento])*(BE1416>0)*(BF1416>0)","v":0}]
[null,null,null,null,null,null,{"$f":"+C1421+E1421-F1421","v":0},null,null,null,null,null,null,null,null,null,null,null,null,null,null,null,null,null,null,null,null,null,null,null,null,null,null,null,null,null,null,null,null,null,null,null,null,null,null,null,null,null,null,null,null,null,null,{"$f":"SUBSTITUTE($B$1404,CHAR(10),\"\")","v":"Venta de bienes poseídos por dos o más años "},{"$f":"SUBSTITUTE($B$1419,CHAR(10),\"\")","v":"Venta de activos intangibles"},"G. Ocasionales",{"$f":"(BC1421=OFFSET(BC1421,1,0))*1","v":0},30,{"$f":"(BD1421=Parametros[Segmento])*(BE1421>0)*(BF1421>0)","v":0}]
[null,null,null,null,null,null,{"$f":"+C1426+E1426-F1426","v":0},null,null,null,null,null,null,null,null,null,null,null,null,null,null,null,null,null,null,null,null,null,null,null,null,null,null,null,null,null,null,null,null,null,null,null,null,null,null,null,null,null,null,null,null,null,null,{"$f":"SUBSTITUTE($B$1404,CHAR(10),\"\")","v":"Venta de bienes poseídos por dos o más años "},{"$f":"SUBSTITUTE($B$1425,CHAR(10),\"\")","v":"Venta de otros instrumentos financieros"},"G. Ocasionales",{"$f":"(BC1426=OFFSET(BC1426,1,0))*1","v":1},30,{"$f":"(BD1426=Parametros[Segmento])*(BE1426>0)*(BF1426>0)","v":0}]
[null,null,null,null,null,null,{"$f":"+C1438+E1438-F1438","v":0},null,null,null,null,null,null,null,null,null,null,null,null,null,null,null,null,null,null,null,null,null,null,null,null,null,null,null,null,null,null,null,null,null,null,null,null,null,null,null,null,null,null,null,null,null,null,{"$f":"SUBSTITUTE($B$1433,CHAR(10),\"\")","v":"Costos por Ganancias Ocasionales "},{"$f":"SUBSTITUTE($B$1436,CHAR(10),\"\")","v":"Costo de venta de activos considerados como propiedad, planta y equipo"},"G. Ocasionales",{"$f":"(BC1438=OFFSET(BC1438,1,0))*1","v":0},30,{"$f":"(BD1438=Parametros[Segmento])*(BE1438>0)*(BF1438>0)","v":0}]
[null,null,null,null,null,null,{"$f":"+C1447+E1447-F1447","v":0},null,null,null,null,null,null,null,null,null,null,null,null,null,null,null,null,null,null,null,null,null,null,null,null,null,null,null,null,null,null,null,null,null,null,null,null,null,null,null,null,null,null,null,null,null,null,{"$f":"SUBSTITUTE($B$1433,CHAR(10),\"\")","v":"Costos por Ganancias Ocasionales "},{"$f":"SUBSTITUTE($B$1445,CHAR(10),\"\")","v":"Costo de venta de activos no corrientes mantenidos para la venta"},"G. Ocasionales",{"$f":"(BC1447=OFFSET(BC1447,1,0))*1","v":0},30,{"$f":"(BD1447=Parametros[Segmento])*(BE1447>0)*(BF1447>0)","v":0}]
[null,null,null,null,null,null,{"$f":"+C1455+E1455-F1455","v":0},null,null,null,null,null,null,null,null,null,null,null,null,null,null,null,null,null,null,null,null,null,null,null,null,null,null,null,null,null,null,null,null,null,null,null,null,null,null,null,null,null,null,null,null,null,null,{"$f":"SUBSTITUTE($B$1433,CHAR(10),\"\")","v":"Costos por Ganancias Ocasionales "},{"$f":"SUBSTITUTE($B$1454,CHAR(10),\"\")","v":"Costo de venta de otros instrumentos financieros"},"G. Ocasionales",{"$f":"(BC1455=OFFSET(BC1455,1,0))*1","v":1},30,{"$f":"(BD1455=Parametros[Segmento])*(BE1455>0)*(BF1455>0)","v":0}]
[null,null,null,null,null,null,null,null,null,null,null,null,null,null,null,null,null,null,null,null,null,null,null,null,null,null,null,null,null,null,null,null,null,null,null,null,null,null,null,null,null,null,null,null,null,null,null,null,null,null,null,null,null,null,null,"G. Ocasionales",1,30,{"$f":"(BD1461=Parametros[Segmento])*(BE1461>0)*(BF1461>0)","v":0}]
[null,null,"Saldos Parciales ","Saldos Totales ","Mayor Valor Fiscal","Menor Valor Fiscal","Saldos Parciales","Saldos Totales ",null,null,null,null,null,null,null,null,null,null,null,null,null,null,null,null,null,null,null,null,null,null,null,null,null,null,null,null,null,null,null,null,null,null,null,null,null,null,null,null,null,null,null,null,null,null,null,"G. Ocasionales",1,30,{"$f":"(BD1464=Parametros[Segmento])*(BE1464>0)*(BF1464>0)","v":0}]
[null,null,null,null,null,null,{"$f":"+C1475+E1475-F1475","v":0},null,null,null,null,null,null,null,null,null,null,null,null,null,null,null,null,null,null,null,null,null,null,null,null,null,null,null,null,null,null,null,null,null,null,null,null,null,null,null,null,null,null,null,null,null,null,{"$f":"SUBSTITUTE($B$1470,CHAR(10),\"\")","v":"Premios obtenidos en juegos de suerte y azar "},{"$f":"SUBSTITUTE($B$1473,CHAR(10),\"\")","v":"Loterías "},"G. Ocasionales",{"$f":"(BC1475=OFFSET(BC1475,1,0))*1","v":0},30,{"$f":"(BD1475=Parametros[Segmento])*(BE1475>0)*(BF1475>0)","v":0}]
[null,null,null,null,null,null,{"$f":"+C1481+E1481-F1481","v":0},null,null,null,null,null,null,null,null,null,null,null,null,null,null,null,null,null,null,null,null,null,null,null,null,null,null,null,null,null,null,null,null,null,null,null,null,null,null,null,null,null,null,null,null,null,null,{"$f":"SUBSTITUTE($B$1470,CHAR(10),\"\")","v":"Premios obtenidos en juegos de suerte y azar "},{"$f":"SUBSTITUTE($B$1479,CHAR(10),\"\")","v":"Apuestas "},"G. Ocasionales",{"$f":"(BC1481=OFFSET(BC1481,1,0))*1","v":0},30,{"$f":"(BD1481=Parametros[Segmento])*(BE1481>0)*(BF1481>0)","v":0}]
[null,null,"Saldos Parciales ","Saldos Totales ","Mayor Valor Fiscal","Menor Valor Fiscal","Saldos Parciales","Saldos Totales ",null,null,null,null,null,null,null,null,null,null,null,null,null,null,null,null,null,null,null,null,null,null,null,null,null,null,null,null,null,null,null,null,null,null,null,null,null,null,null,null,null,null,null,null,null,null,null,"G. Ocasionales",1,30,{"$f":"(BD1489=Parametros[Segmento])*(BE1489>0)*(BF1489>0)","v":0}]
[null,null,null,null,null,null,{"$f":"+C1498+E1498-F1498","v":0},null,null,null,null,null,null,null,null,null,null,null,null,null,null,null,null,null,null,null,null,null,null,null,null,null,null,null,null,null,null,null,null,null,null,null,null,null,null,null,null,null,null,null,null,null,null,{"$f":"SUBSTITUTE($B$1487,CHAR(10),\"\")","v":"Otras ganancias ocasionales "},{"$f":"SUBSTITUTE($B$1496,CHAR(10),\"\")","v":"Premios en títulos de capitalización"},"G. Ocasionales",{"$f":"(BC1498=OFFSET(BC1498,1,0))*1","v":0},30,{"$f":"(BD1498=Parametros[Segmento])*(BE1498>0)*(BF1498>0)","v":0}]
[null,null,"Saldos Parciales ","Saldos Totales ","Mayor Valor Fiscal","Menor Valor Fiscal","Saldos Parciales","Saldos Totales ",null,null,null,null,null,null,null,null,null,null,null,null,null,null,null,null,null,null,null,null,null,null,null,null,null,null,null,null,null,null,null,null,null,null,null,null,null,null,null,null,null,null,null,null,null,null,null,"G. Ocasionales",1,30,{"$f":"(BD1506=Parametros[Segmento])*(BE1506>0)*(BF1506>0)","v":0}]
[null,null,null,null,null,null,{"$f":"+C1515+E1515-F1515","v":0},null,null,null,null,null,null,null,null,null,null,null,null,null,null,null,null,null,null,null,null,null,null,null,null,null,null,null,null,null,null,null,null,null,null,null,null,null,null,null,null,null,null,null,null,null,null,{"$f":"SUBSTITUTE($B$1504,CHAR(10),\"\")","v":"Ingresos no constitutivos de ganancia ocasional"},{"$f":"SUBSTITUTE($B$1513,CHAR(10),\"\")","v":"Otros ingresos no constitutivos de ganancia ocasional"},"G. Ocasionales",{"$f":"(BC1515=OFFSET(BC1515,1,0))*1","v":0},30,{"$f":"(BD1515=Parametros[Segmento])*(BE1515>0)*(BF1515>0)","v":0}]
[null,null,"Saldos Parciales ","Saldos Totales ","Mayor Valor Fiscal","Menor Valor Fiscal","Saldos Parciales","Saldos Totales ",null,null,null,null,null,null,null,null,null,null,null,null,null,null,null,null,null,null,null,null,null,null,null,null,null,null,null,null,null,null,null,null,null,null,null,null,null,null,null,null,null,null,null,null,null,null,null,"G. Ocasionales",1,30,{"$f":"(BD1520=Parametros[Segmento])*(BE1520>0)*(BF1520>0)","v":0}]
[null,"Otras ganancias ocasionales exentas ",null,{"$f":"SUM(C1525:C1526)","v":0},{"$f":"SUM(E1525:E1526)","v":0},{"$f":"SUM(F1525:F1526)","v":0},null,{"$f":"SUM(G1525:G1526)","v":0},null,null,null,null,null,null,null,null,null,null,null,null,null,null,null,null,null,null,null,null,null,null,null,null,null,null,null,null,null,null,null,null,null,null,null,null,null,null,null,null,null,null,null,null,null,null,null,"G. Ocasionales",1,30,{"$f":"(BD1524=Parametros[Segmento])*(BE1524>0)*(BF1524>0)","v":0}]
[null,null,"Venta de bienes poseídos por dos años o más ",null,null,null,{"$f":"+H1431","v":0},null,null,null,null,null,null,null,null,null,null,null,null,null,null,null,null,null,null,null,null,null,null,null,null,null,null,null,null,null,null,null,null,null,null,null,null,null,null,null,null,null,null,null,null,null,null,null,null,"G. Ocasionales",1,30,{"$f":"(BD1533=Parametros[Segmento])*(BE1533>0)*(BF1533>0)","v":0}]
[null,null,"Concepto ",null,null,"Base ","Tarifa ","Impuesto",null,null,null,null,null,null,null,null,null,null,null,null,null,null,null,null,null,null,null,null,null,null,null,null,null,null,null,null,null,null,null,null,null,null,null,null,null,null,null,null,null,null,null,null,null,null,null,"G. Ocasionales",1,30,{"$f":"(BD1543=Parametros[Segmento])*(BE1543>0)*(BF1543>0)","v":0}]
[null,"Materias primas, reventa de bienes terminados y servicios ",null,null,null,null,null,null,null,null,null,null,null,null,null,null,null,null,null,null,null,null,null,null,null,null,null,null,null,null,null,null,null,null,null,null,null,null,null,null,null,null,null,null,null,null,null,null,null,null,null,null,null,null,null,"Costos",1,30,{"$f":"(BD1550=Parametros[Segmento])*(BE1550>0)*(BF1550>0)","v":0}]
[null,null,null,null,null,null,{"$f":"+C1557+E1557-F1557","v":0},null,null,null,null,null,null,null,null,null,null,null,null,null,null,null,null,null,null,null,null,null,null,null,null,null,null,null,null,null,null,null,null,null,null,null,null,null,null,null,null,null,null,null,null,null,null,{"$f":"SUBSTITUTE($B$1550,CHAR(10),\"\")","v":"Materias primas, reventa de bienes terminados y servicios "},{"$f":"SUBSTITUTE($B$1556,CHAR(10),\"\")","v":"Materias primas (para procesos de producción) - Inventario Inicial"},"Costos",{"$f":"(BC1557=OFFSET(BC1557,1,0))*1","v":1},30,{"$f":"(BD1557=Parametros[Segmento])*(BE1557>0)*(BF1557>0)","v":0}]
[null,null,null,null,null,null,{"$f":"+C1567+E1567-F1567","v":0},null,null,null,null,null,null,null,null,null,null,null,null,null,null,null,null,null,null,null,null,null,null,null,null,null,null,null,null,null,null,null,null,null,null,null,null,null,null,null,null,null,null,null,null,null,null,{"$f":"SUBSTITUTE($B$1550,CHAR(10),\"\")","v":"Materias primas, reventa de bienes terminados y servicios "},{"$f":"SUBSTITUTE($B$1565,CHAR(10),\"\")","v":"Materias primas (para procesos de producción) - Inventario final"},"Costos",{"$f":"(BC1567=OFFSET(BC1567,1,0))*1","v":0},30,{"$f":"(BD1567=Parametros[Segmento])*(BE1567>0)*(BF1567>0)","v":0}]
[null,"Costo de los bienes vendidos (para comerciantes por reventa de bienes terminados) - Compras locales",null,{"$f":"SUM(C1572:C1573)","v":0},{"$f":"SUM(E1572:E1573)","v":0},{"$f":"SUM(F1572:F1573)","v":0},null,{"$f":"SUM(G1572:G1573)","v":0},null,null,null,null,null,null,null,null,null,null,null,null,null,null,null,null,null,null,null,null,null,null,null,null,null,null,null,null,null,null,null,null,null,null,null,null,null,null,null,null,null,null,null,null,null,null,null,"Costos",1,60,{"$f":"(BD1571=Parametros[Segmento])*(BE1571>0)*(BF1571>0)","v":0}]
[null,null,null,null,null,null,{"$f":"+C1576+E1576-F1576","v":0},null,null,null,null,null,null,null,null,null,null,null,null,null,null,null,null,null,null,null,null,null,null,null,null,null,null,null,null,null,null,null,null,null,null,null,null,null,null,null,null,null,null,null,null,null,null,{"$f":"SUBSTITUTE($B$1550,CHAR(10),\"\")","v":"Materias primas, reventa de bienes terminados y servicios "},{"$f":"SUBSTITUTE($B$1574,CHAR(10),\"\")","v":"Costo de los bienes vendidos (para comerciantes por reventa de bienes terminados) -  Importaciones"},"Costos",{"$f":"(BC1576=OFFSET(BC1576,1,0))*1","v":0},30,{"$f":"(BD1576=Parametros[Segmento])*(BE1576>0)*(BF1576>0)","v":0}]
[null,null,null,null,null,null,{"$f":"+C1585+E1585-F1585","v":0},null,null,null,null,null,null,null,null,null,null,null,null,null,null,null,null,null,null,null,null,null,null,null,null,null,null,null,null,null,null,null,null,null,null,null,null,null,null,null,null,null,null,null,null,null,null,{"$f":"SUBSTITUTE($B$1550,CHAR(10),\"\")","v":"Materias primas, reventa de bienes terminados y servicios "},{"$f":"SUBSTITUTE($B$1583,CHAR(10),\"\")","v":"Productos en proceso - Inventario final "},"Costos",{"$f":"(BC1585=OFFSET(BC1585,1,0))*1","v":0},30,{"$f":"(BD1585=Parametros[Segmento])*(BE1585>0)*(BF1585>0)","v":0}]
[null,null,null,null,null,null,{"$f":"+C1593+E1593-F1593","v":0},null,null,null,null,null,null,null,null,null,null,null,null,null,null,null,null,null,null,null,null,null,null,null,null,null,null,null,null,null,null,null,null,null,null,null,null,null,null,null,null,null,null,null,null,null,null,{"$f":"SUBSTITUTE($B$1550,CHAR(10),\"\")","v":"Materias primas, reventa de bienes terminados y servicios "},{"$f":"SUBSTITUTE($B$1592,CHAR(10),\"\")","v":"Costos en la prestación de servicios (para prestadores de servicios)"},"Costos",{"$f":"(BC1593=OFFSET(BC1593,1,0))*1","v":1},30,{"$f":"(BD1593=Parametros[Segmento])*(BE1593>0)*(BF1593>0)","v":0}]
[null,null,null,null,null,null,null,null,null,null,null,null,null,null,null,null,null,null,null,null,null,null,null,null,null,null,null,null,null,null,null,null,null,null,null,null,null,null,null,null,null,null,null,null,null,null,null,null,null,null,null,null,null,null,null,"Costos",1,30,{"$f":"(BD1602=Parametros[Segmento])*(BE1602>0)*(BF1602>0)","v":0}]
[null,null,null,null,null,null,{"$f":"+C1610+E1610-F1610","v":0},null,null,null,null,null,null,null,null,null,null,null,null,null,null,null,null,null,null,null,null,null,null,null,null,null,null,null,null,null,null,null,null,null,null,null,null,null,null,null,null,null,null,null,null,null,null,{"$f":"SUBSTITUTE($B$1603,CHAR(10),\"\")","v":"Mano de Obra"},{"$f":"SUBSTITUTE($B$1609,CHAR(10),\"\")","v":"Beneficios a empleados - De largo plazo "},"Costos",{"$f":"(BC1610=OFFSET(BC1610,1,0))*1","v":1},30,{"$f":"(BD1610=Parametros[Segmento])*(BE1610>0)*(BF1610>0)","v":0}]
[null,null,null,null,null,null,{"$f":"+C1616+E1616-F1616","v":0},null,null,null,null,null,null,null,null,null,null,null,null,null,null,null,null,null,null,null,null,null,null,null,null,null,null,null,null,null,null,null,null,null,null,null,null,null,null,null,null,null,null,null,null,null,null,{"$f":"SUBSTITUTE($B$1603,CHAR(10),\"\")","v":"Mano de Obra"},{"$f":"SUBSTITUTE($B$1615,CHAR(10),\"\")","v":"Beneficios a empleados - Post empleo "},"Costos",{"$f":"(BC1616=OFFSET(BC1616,1,0))*1","v":1},30,{"$f":"(BD1616=Parametros[Segmento])*(BE1616>0)*(BF1616>0)","v":0}]
[null,null,null,null,null,null,{"$f":"+C1627+E1627-F1627","v":0},null,null,null,null,null,null,null,null,null,null,null,null,null,null,null,null,null,null,null,null,null,null,null,null,null,null,null,null,null,null,null,null,null,null,null,null,null,null,null,null,null,null,null,null,null,null,{"$f":"SUBSTITUTE($B$1620,CHAR(10),\"\")","v":"Depreciaciones, amortizaciones y deterioros"},{"$f":"SUBSTITUTE($B$1626,CHAR(10),\"\")","v":"Depreciación propiedades, planta y equipo - Del  ajuste acumulado por revaluaciones o reexpresiones "},"Costos",{"$f":"(BC1627=OFFSET(BC1627,1,0))*1","v":1},30,{"$f":"(BD1627=Parametros[Segmento])*(BE1627>0)*(BF1627>0)","v":0}]
[null,null,null,null,null,null,{"$f":"+C1630+E1630-F1630","v":0},null,null,null,null,null,null,null,null,null,null,null,null,null,null,null,null,null,null,null,null,null,null,null,null,null,null,null,null,null,null,null,null,null,null,null,null,null,null,null,null,null,null,null,null,null,null,{"$f":"SUBSTITUTE($B$1620,CHAR(10),\"\")","v":"Depreciaciones, amortizaciones y deterioros"},{"$f":"SUBSTITUTE($B$1629,CHAR(10),\"\")","v":"Depreciación propiedades de inversión - Del costo"},"Costos",{"$f":"(BC1630=OFFSET(BC1630,1,0))*1","v":1},30,{"$f":"(BD1630=Parametros[Segmento])*(BE1630>0)*(BF1630>0)","v":0}]
[null,null,null,null,null,null,{"$f":"+C1636+E1636-F1636","v":0},null,null,null,null,null,null,null,null,null,null,null,null,null,null,null,null,null,null,null,null,null,null,null,null,null,null,null,null,null,null,null,null,null,null,null,null,null,null,null,null,null,null,null,null,null,null,{"$f":"SUBSTITUTE($B$1620,CHAR(10),\"\")","v":"Depreciaciones, amortizaciones y deterioros"},{"$f":"SUBSTITUTE($B$1635,CHAR(10),\"\")","v":"Depreciación activos biológicos - Del  costo"},"Costos",{"$f":"(BC1636=OFFSET(BC1636,1,0))*1","v":1},30,{"$f":"(BD1636=Parametros[Segmento])*(BE1636>0)*(BF1636>0)","v":0}]
[null,"Amortización activos intangibles - Del ajuste acumulado por revaluaciones o reexpresiones ",null,{"$f":"SUM(C1645:C1646)","v":0},{"$f":"SUM(E1645:E1646)","v":0},{"$f":"SUM(F1645:F1646)","v":0},null,{"$f":"SUM(G1645:G1646)","v":0},null,null,null,null,null,null,null,null,null,null,null,null,null,null,null,null,null,null,null,null,null,null,null,null,null,null,null,null,null,null,null,null,null,null,null,null,null,null,null,null,null,null,null,null,null,null,null,"Costos",1,40.200000000000003,{"$f":"(BD1644=Parametros[Segmento])*(BE1644>0)*(BF1644>0)","v":0}]
[null,"Otras depreciaciones y amortizaciones - Del ajuste acumulado por revaluaciones o reexpresiones ",null,{"$f":"SUM(C1654:C1655)","v":0},{"$f":"SUM(E1654:E1655)","v":0},{"$f":"SUM(F1654:F1655)","v":0},null,{"$f":"SUM(G1654:G1655)","v":0},null,null,null,null,null,null,null,null,null,null,null,null,null,null,null,null,null,null,null,null,null,null,null,null,null,null,null,null,null,null,null,null,null,null,null,null,null,null,null,null,null,null,null,null,null,null,null,"Costos",1,40.200000000000003,{"$f":"(BD1653=Parametros[Segmento])*(BE1653>0)*(BF1653>0)","v":0}]
[null,null,null,null,null,null,{"$f":"+C1661+E1661-F1661","v":0},null,null,null,null,null,null,null,null,null,null,null,null,null,null,null,null,null,null,null,null,null,null,null,null,null,null,null,null,null,null,null,null,null,null,null,null,null,null,null,null,null,null,null,null,null,null,{"$f":"SUBSTITUTE($B$1620,CHAR(10),\"\")","v":"Depreciaciones, amortizaciones y deterioros"},{"$f":"SUBSTITUTE($B$1659,CHAR(10),\"\")","v":"Deterioro del valor de los activos - Propiedades, planta y equipo "},"Costos",{"$f":"(BC1661=OFFSET(BC1661,1,0))*1","v":0},30,{"$f":"(BD1661=Parametros[Segmento])*(BE1661>0)*(BF1661>0)","v":0}]
[null,null,null,null,null,null,{"$f":"+C1670+E1670-F1670","v":0},null,null,null,null,null,null,null,null,null,null,null,null,null,null,null,null,null,null,null,null,null,null,null,null,null,null,null,null,null,null,null,null,null,null,null,null,null,null,null,null,null,null,null,null,null,null,{"$f":"SUBSTITUTE($B$1620,CHAR(10),\"\")","v":"Depreciaciones, amortizaciones y deterioros"},{"$f":"SUBSTITUTE($B$1668,CHAR(10),\"\")","v":"Deterioro del valor de los activos - Propiedades de inversión medidas al modelo de costo "},"Costos",{"$f":"(BC1670=OFFSET(BC1670,1,0))*1","v":0},30,{"$f":"(BD1670=Parametros[Segmento])*(BE1670>0)*(BF1670>0)","v":0}]
[null,null,null,null,null,null,{"$f":"+C1675+E1675-F1675","v":0},null,null,null,null,null,null,null,null,null,null,null,null,null,null,null,null,null,null,null,null,null,null,null,null,null,null,null,null,null,null,null,null,null,null,null,null,null,null,null,null,null,null,null,null,null,null,{"$f":"SUBSTITUTE($B$1620,CHAR(10),\"\")","v":"Depreciaciones, amortizaciones y deterioros"},{"$f":"SUBSTITUTE($B$1674,CHAR(10),\"\")","v":"Deterioro del valor de los activos -  Activos biológicos medidos al modelo del costo "},"Costos",{"$f":"(BC1675=OFFSET(BC1675,1,0))*1","v":1},30,{"$f":"(BD1675=Parametros[Segmento])*(BE1675>0)*(BF1675>0)","v":0}]
[null,null,null,null,null,null,{"$f":"+C1687+E1687-F1687","v":0},null,null,null,null,null,null,null,null,null,null,null,null,null,null,null,null,null,null,null,null,null,null,null,null,null,null,null,null,null,null,null,null,null,null,null,null,null,null,null,null,null,null,null,null,null,null,{"$f":"SUBSTITUTE($B$1620,CHAR(10),\"\")","v":"Depreciaciones, amortizaciones y deterioros"},{"$f":"SUBSTITUTE($B$1686,CHAR(10),\"\")","v":"Deterioro del valor de los activos -  Otras inversiones medidas al costo o por el métido de la participación "},"Costos",{"$f":"(BC1687=OFFSET(BC1687,1,0))*1","v":1},30,{"$f":"(BD1687=Parametros[Segmento])*(BE1687>0)*(BF1687>0)","v":0}]
[null,"Deterioro del valor de los activos -  Derechos de uso en arrendamientos operativos (NIIF 16)",null,{"$f":"SUM(C1690:C1691)","v":0},{"$f":"SUM(E1690:E1691)","v":0},{"$f":"SUM(F1690:F1691)","v":0},null,{"$f":"SUM(G1690:G1691)","v":0},null,null,null,null,null,null,null,null,null,null,null,null,null,null,null,null,null,null,null,null,null,null,null,null,null,null,null,null,null,null,null,null,null,null,null,null,null,null,null,null,null,null,null,null,null,null,null,"Costos",1,40.200000000000003,{"$f":"(BD1689=Parametros[Segmento])*(BE1689>0)*(BF1689>0)","v":0}]
[null,null,null,null,null,null,null,null,null,null,null,null,null,null,null,null,null,null,null,null,null,null,null,null,null,null,null,null,null,null,null,null,null,null,null,null,null,null,null,null,null,null,null,null,null,null,null,null,null,null,null,null,null,null,null,"Costos",1,30,{"$f":"(BD1696=Parametros[Segmento])*(BE1696>0)*(BF1696>0)","v":0}]
[null,null,null,null,null,null,{"$f":"+C1705+E1705-F1705","v":0},null,null,null,null,null,null,null,null,null,null,null,null,null,null,null,null,null,null,null,null,null,null,null,null,null,null,null,null,null,null,null,null,null,null,null,null,null,null,null,null,null,null,null,null,null,null,{"$f":"SUBSTITUTE($B$1697,CHAR(10),\"\")","v":"Otros costos "},{"$f":"SUBSTITUTE($B$1703,CHAR(10),\"\")","v":"Seguros "},"Costos",{"$f":"(BC1705=OFFSET(BC1705,1,0))*1","v":0},30,{"$f":"(BD1705=Parametros[Segmento])*(BE1705>0)*(BF1705>0)","v":0}]
[null,"Servicios técnicos - Vinculados económicos ",null,{"$f":"SUM(C1713:C1714)","v":0},{"$f":"SUM(E1713:E1714)","v":0},{"$f":"SUM(F1713:F1714)","v":0},null,{"$f":"SUM(G1713:G1714)","v":0},null,null,null,null,null,null,null,null,null,null,null,null,null,null,null,null,null,null,null,null,null,null,null,null,null,null,null,null,null,null,null,null,null,null,null,null,null,null,null,null,null,null,null,null,null,null,null,"Costos",1,30,{"$f":"(BD1712=Parametros[Segmento])*(BE1712>0)*(BF1712>0)","v":0}]
[null,null,null,null,null,null,{"$f":"+C1722+E1722-F1722","v":0},null,null,null,null,null,null,null,null,null,null,null,null,null,null,null,null,null,null,null,null,null,null,null,null,null,null,null,null,null,null,null,null,null,null,null,null,null,null,null,null,null,null,null,null,null,null,{"$f":"SUBSTITUTE($B$1697,CHAR(10),\"\")","v":"Otros costos "},{"$f":"SUBSTITUTE($B$1721,CHAR(10),\"\")","v":"Asistencia técnica - Vinculados económicos "},"Costos",{"$f":"(BC1722=OFFSET(BC1722,1,0))*1","v":1},30,{"$f":"(BD1722=Parametros[Segmento])*(BE1722>0)*(BF1722>0)","v":0}]
[null,"Otros costos fiscales no reconocidos contablemente ",null,{"$f":"SUM(C1734:C1735)","v":0},{"$f":"SUM(E1734:E1735)","v":0},{"$f":"SUM(F1734:F1735)","v":0},null,{"$f":"SUM(G1734:G1735)","v":0},null,null,null,null,null,null,null,null,null,null,null,null,null,null,null,null,null,null,null,null,null,null,null,null,null,null,null,null,null,null,null,null,null,null,null,null,null,null,null,null,null,null,null,null,null,null,null,"Costos",1,40.200000000000003,{"$f":"(BD1733=Parametros[Segmento])*(BE1733>0)*(BF1733>0)","v":0}]
[null,null,"Total Otros Costos ",{"$f":"SUM(D1700:D1735)-D1736","v":0},null,null,null,{"$f":"SUM(H1700:H1735)-H1736","v":0},null,null,null,null,null,null,null,null,null,null,null,null,null,null,null,null,null,null,null,null,null,null,null,null,null,null,null,null,null,null,null,null,null,null,null,null,null,null,null,null,null,null,null,null,null,null,null,"Costos",1,30,{"$f":"(BD1739=Parametros[Segmento])*(BE1739>0)*(BF1739>0)","v":0}]
[null,"Costo de venta de propiedades de inversión",null,{"$f":"SUM(C1748:C1749)","v":0},{"$f":"SUM(E1748:E1749)","v":0},{"$f":"SUM(F1748:F1749)","v":0},null,{"$f":"SUM(G1748:G1749)","v":0},null,null,null,null,null,null,null,null,null,null,null,null,null,null,null,null,null,null,null,null,null,null,null,null,null,null,null,null,null,null,null,null,null,null,null,null,null,null,null,null,null,null,null,null,null,null,null,"Costos",1,30,{"$f":"(BD1747=Parametros[Segmento])*(BE1747>0)*(BF1747>0)","v":0}]
[null,"Costo de venta de activos intangibles",null,{"$f":"SUM(C1757:C1758)","v":0},{"$f":"SUM(E1757:E1758)","v":0},{"$f":"SUM(F1757:F1758)","v":0},null,{"$f":"SUM(G1757:G1758)","v":0},null,null,null,null,null,null,null,null,null,null,null,null,null,null,null,null,null,null,null,null,null,null,null,null,null,null,null,null,null,null,null,null,null,null,null,null,null,null,null,null,null,null,null,null,null,null,null,"Costos",1,30,{"$f":"(BD1756=Parametros[Segmento])*(BE1756>0)*(BF1756>0)","v":0}]
[null,null,null,null,null,null,{"$f":"+C1757+E1757-F1757","v":0},null,null,null,null,null,null,null,null,null,null,null,null,null,null,null,null,null,null,null,null,null,null,null,null,null,null,null,null,null,null,null,null,null,null,null,null,null,null,null,null,null,null,null,null,null,null,{"$f":"SUBSTITUTE($B$1741,CHAR(10),\"\")","v":"Costos por venta de activos poseídos por menos de dos años "},{"$f":"SUBSTITUTE($B$1756,CHAR(10),\"\")","v":"Costo de venta de activos intangibles"},"Costos",{"$f":"(BC1757=OFFSET(BC1757,1,0))*1","v":1},30,{"$f":"(BD1757=Parametros[Segmento])*(BE1757>0)*(BF1757>0)","v":0}]
[null,"Costo de venta de otros activos",null,{"$f":"SUM(C1766:C1767)","v":0},{"$f":"SUM(E1766:E1767)","v":0},{"$f":"SUM(F1766:F1767)","v":0},null,{"$f":"SUM(G1766:G1767)","v":0},null,null,null,null,null,null,null,null,null,null,null,null,null,null,null,null,null,null,null,null,null,null,null,null,null,null,null,null,null,null,null,null,null,null,null,null,null,null,null,null,null,null,null,null,null,null,null,"Costos",1,30,{"$f":"(BD1765=Parametros[Segmento])*(BE1765>0)*(BF1765>0)","v":0}]
[null,null,null,null,null,null,{"$f":"+C1778+E1778-F1778","v":0},null,null,null,null,null,null,null,null,null,null,null,null,null,null,null,null,null,null,null,null,null,null,null,null,null,null,null,null,null,null,null,null,null,null,null,null,null,null,null,null,null,null,null,null,null,null,{"$f":"SUBSTITUTE($B$1770,CHAR(10),\"\")","v":"Costos y gastos informativos "},{"$f":"SUBSTITUTE($B$1776,CHAR(10),\"\")","v":"Aportes al sistema de seguridad social "},"Costos",{"$f":"(BC1778=OFFSET(BC1778,1,0))*1","v":0},30,{"$f":"(BD1778=Parametros[Segmento])*(BE1778>0)*(BF1778>0)","v":0}]
[null,null,"Totales Costos y gastos informativos ",{"$f":"SUM(D1773:D1781)","v":0},null,null,null,{"$f":"SUM(H1773:H1781)","v":0},null,null,null,null,null,null,null,null,null,null,null,null,null,null,null,null,null,null,null,null,null,null,null,null,null,null,null,null,null,null,null,null,null,null,null,null,null,null,null,null,null,null,null,null,null,null,null,"Costos",1,30,{"$f":"(BD1782=Parametros[Segmento])*(BE1782>0)*(BF1782>0)","v":0}]
[null,null,null,null,null,null,{"$f":"+C1792+E1792-F1792","v":0},null,null,null,null,null,null,null,null,null,null,null,null,null,null,null,null,null,null,null,null,null,null,null,null,null,null,null,null,null,null,null,null,null,null,null,null,null,null,null,null,null,null,null,null,null,null,{"$f":"SUBSTITUTE($B$1787,CHAR(10),\"\")","v":"De Administración - Mano de Obra"},{"$f":"SUBSTITUTE($B$1790,CHAR(10),\"\")","v":"Beneficios a empleados - De corto plazo "},"Gastos",{"$f":"(BC1792=OFFSET(BC1792,1,0))*1","v":0},30,{"$f":"(BD1792=Parametros[Segmento])*(BE1792>0)*(BF1792>0)","v":0}]
[null,"Beneficios a empleados - Post empleo ",null,{"$f":"SUM(C1800:C1801)","v":0},{"$f":"SUM(E1800:E1801)","v":0},{"$f":"SUM(F1800:F1801)","v":0},null,{"$f":"SUM(G1800:G1801)","v":0},null,null,null,null,null,null,null,null,null,null,null,null,null,null,null,null,null,null,null,null,null,null,null,null,null,null,null,null,null,null,null,null,null,null,null,null,null,null,null,null,null,null,null,null,null,null,null,"Gastos",1,30,{"$f":"(BD1799=Parametros[Segmento])*(BE1799>0)*(BF1799>0)","v":0}]
[null,null,"Saldos Parciales ","Saldos Totales ","Mayor Valor Fiscal","Menor Valor Fiscal","Saldos Parciales","Saldos Totales ",null,null,null,null,null,null,null,null,null,null,null,null,null,null,null,null,null,null,null,null,null,null,null,null,null,null,null,null,null,null,null,null,null,null,null,null,null,null,null,null,null,null,null,null,null,null,null,"Gastos",1,30,{"$f":"(BD1806=Parametros[Segmento])*(BE1806>0)*(BF1806>0)","v":0}]
[null,"Honorarios ",null,{"$f":"SUM(C1817:C1818)","v":0},{"$f":"SUM(E1817:E1818)","v":0},{"$f":"SUM(F1817:F1818)","v":0},null,{"$f":"SUM(G1817:G1818)","v":0},null,null,null,null,null,null,null,null,null,null,null,null,null,null,null,null,null,null,null,null,null,null,null,null,null,null,null,null,null,null,null,null,null,null,null,null,null,null,null,null,null,null,null,null,null,null,null,"Gastos",1,30,{"$f":"(BD1816=Parametros[Segmento])*(BE1816>0)*(BF1816>0)","v":0}]
[null,null,null,null,null,null,{"$f":"+C1823+E1823-F1823","v":0},null,null,null,null,null,null,null,null,null,null,null,null,null,null,null,null,null,null,null,null,null,null,null,null,null,null,null,null,null,null,null,null,null,null,null,null,null,null,null,null,null,null,null,null,null,null,{"$f":"SUBSTITUTE($B$1804,CHAR(10),\"\")","v":"Otros gastos de administración"},{"$f":"SUBSTITUTE($B$1822,CHAR(10),\"\")","v":"Servicios administrativos - Vinculados económicos "},"Gastos",{"$f":"(BC1823=OFFSET(BC1823,1,0))*1","v":1},30,{"$f":"(BD1823=Parametros[Segmento])*(BE1823>0)*(BF1823>0)","v":0}]
[null,"Servicios administrativos - Jurisdicciones no cooperantes, de baja o nula imposición y regímenes tributarios preferenciales ",null,{"$f":"SUM(C1826:C1827)","v":0},{"$f":"SUM(E1826:E1827)","v":0},{"$f":"SUM(F1826:F1827)","v":0},null,{"$f":"SUM(G1826:G1827)","v":0},null,null,null,null,null,null,null,null,null,null,null,null,null,null,null,null,null,null,null,null,null,null,null,null,null,null,null,null,null,null,null,null,null,null,null,null,null,null,null,null,null,null,null,null,null,null,null,"Gastos",1,60,{"$f":"(BD1825=Parametros[Segmento])*(BE1825>0)*(BF1825>0)","v":0}]
[null,"Regalías - No vinculados",null,{"$f":"SUM(C1838:C1839)","v":0},{"$f":"SUM(E1838:E1839)","v":0},{"$f":"SUM(F1838:F1839)","v":0},null,{"$f":"SUM(G1838:G1839)","v":0},null,null,null,null,null,null,null,null,null,null,null,null,null,null,null,null,null,null,null,null,null,null,null,null,null,null,null,null,null,null,null,null,null,null,null,null,null,null,null,null,null,null,null,null,null,null,null,"Gastos",1,30,{"$f":"(BD1837=Parametros[Segmento])*(BE1837>0)*(BF1837>0)","v":0}]
[null,null,null,null,null,null,{"$f":"+C1842+E1842-F1842","v":0},null,null,null,null,null,null,null,null,null,null,null,null,null,null,null,null,null,null,null,null,null,null,null,null,null,null,null,null,null,null,null,null,null,null,null,null,null,null,null,null,null,null,null,null,null,null,{"$f":"SUBSTITUTE($B$1804,CHAR(10),\"\")","v":"Otros gastos de administración"},{"$f":"SUBSTITUTE($B$1840,CHAR(10),\"\")","v":"Asistencia técnica - Vinculados económicos "},"Gastos",{"$f":"(BC1842=OFFSET(BC1842,1,0))*1","v":0},30,{"$f":"(BD1842=Parametros[Segmento])*(BE1842>0)*(BF1842>0)","v":0}]
[null,null,null,null,null,null,{"$f":"+C1851+E1851-F1851","v":0},null,null,null,null,null,null,null,null,null,null,null,null,null,null,null,null,null,null,null,null,null,null,null,null,null,null,null,null,null,null,null,null,null,null,null,null,null,null,null,null,null,null,null,null,null,null,{"$f":"SUBSTITUTE($B$1804,CHAR(10),\"\")","v":"Otros gastos de administración"},{"$f":"SUBSTITUTE($B$1849,CHAR(10),\"\")","v":"Otros servicios "},"Gastos",{"$f":"(BC1851=OFFSET(BC1851,1,0))*1","v":0},30,{"$f":"(BD1851=Parametros[Segmento])*(BE1851>0)*(BF1851>0)","v":0}]
[null,null,null,null,null,null,{"$f":"+C1859+E1859-F1859","v":0},null,null,null,null,null,null,null,null,null,null,null,null,null,null,null,null,null,null,null,null,null,null,null,null,null,null,null,null,null,null,null,null,null,null,null,null,null,null,null,null,null,null,null,null,null,null,{"$f":"SUBSTITUTE($B$1804,CHAR(10),\"\")","v":"Otros gastos de administración"},{"$f":"SUBSTITUTE($B$1858,CHAR(10),\"\")","v":"Reparación, mantenimiento, adecuación e instalaciones"},"Gastos",{"$f":"(BC1859=OFFSET(BC1859,1,0))*1","v":1},30,{"$f":"(BD1859=Parametros[Segmento])*(BE1859>0)*(BF1859>0)","v":0}]
[null,null,null,null,null,null,null,null,null,null,null,null,null,null,null,null,null,null,null,null,null,null,null,null,null,null,null,null,null,null,null,null,null,null,null,null,null,null,null,null,null,null,null,null,null,null,null,null,null,null,null,null,null,null,null,"Gastos",1,30,{"$f":"(BD1868=Parametros[Segmento])*(BE1868>0)*(BF1868>0)","v":0}]
[null,null,null,null,null,null,{"$f":"+C1874+E1874-F1874","v":0},null,null,null,null,null,null,null,null,null,null,null,null,null,null,null,null,null,null,null,null,null,null,null,null,null,null,null,null,null,null,null,null,null,null,null,null,null,null,null,null,null,null,null,null,null,null,{"$f":"SUBSTITUTE($B$1869,CHAR(10),\"\")","v":"De Administración - Depreciaciones, amortizaciones y deterioros"},{"$f":"SUBSTITUTE($B$1872,CHAR(10),\"\")","v":"Depreciación propiedades, planta y equipo - Del costo"},"Gastos",{"$f":"(BC1874=OFFSET(BC1874,1,0))*1","v":0},30,{"$f":"(BD1874=Parametros[Segmento])*(BE1874>0)*(BF1874>0)","v":0}]
[null,null,null,null,null,null,{"$f":"+C1877+E1877-F1877","v":0},null,null,null,null,null,null,null,null,null,null,null,null,null,null,null,null,null,null,null,null,null,null,null,null,null,null,null,null,null,null,null,null,null,null,null,null,null,null,null,null,null,null,null,null,null,null,{"$f":"SUBSTITUTE($B$1869,CHAR(10),\"\")","v":"De Administración - Depreciaciones, amortizaciones y deterioros"},{"$f":"SUBSTITUTE($B$1875,CHAR(10),\"\")","v":"Depreciación propiedades, planta y equipo - Del  ajuste acumulado por revaluaciones o reexpresiones "},"Gastos",{"$f":"(BC1877=OFFSET(BC1877,1,0))*1","v":0},30,{"$f":"(BD1877=Parametros[Segmento])*(BE1877>0)*(BF1877>0)","v":0}]
[null,null,null,null,null,null,{"$f":"+C1888+E1888-F1888","v":0},null,null,null,null,null,null,null,null,null,null,null,null,null,null,null,null,null,null,null,null,null,null,null,null,null,null,null,null,null,null,null,null,null,null,null,null,null,null,null,null,null,null,null,null,null,null,{"$f":"SUBSTITUTE($B$1869,CHAR(10),\"\")","v":"De Administración - Depreciaciones, amortizaciones y deterioros"},{"$f":"SUBSTITUTE($B$1887,CHAR(10),\"\")","v":"Otras depreciaciones - Del costo"},"Gastos",{"$f":"(BC1888=OFFSET(BC1888,1,0))*1","v":1},30,{"$f":"(BD1888=Parametros[Segmento])*(BE1888>0)*(BF1888>0)","v":0}]
[null,null,null,null,null,null,{"$f":"+C1894+E1894-F1894","v":0},null,null,null,null,null,null,null,null,null,null,null,null,null,null,null,null,null,null,null,null,null,null,null,null,null,null,null,null,null,null,null,null,null,null,null,null,null,null,null,null,null,null,null,null,null,null,{"$f":"SUBSTITUTE($B$1869,CHAR(10),\"\")","v":"De Administración - Depreciaciones, amortizaciones y deterioros"},{"$f":"SUBSTITUTE($B$1893,CHAR(10),\"\")","v":"Amortización activos intangibles - Del costo"},"Gastos",{"$f":"(BC1894=OFFSET(BC1894,1,0))*1","v":1},30,{"$f":"(BD1894=Parametros[Segmento])*(BE1894>0)*(BF1894>0)","v":0}]
[null,"Otras amortizaciones - Del ajuste acumulado por revaluaciones o reexpresiones ",null,{"$f":"SUM(C1903:C1904)","v":0},{"$f":"SUM(E1903:E1904)","v":0},{"$f":"SUM(F1903:F1904)","v":0},null,{"$f":"SUM(G1903:G1904)","v":0},null,null,null,null,null,null,null,null,null,null,null,null,null,null,null,null,null,null,null,null,null,null,null,null,null,null,null,null,null,null,null,null,null,null,null,null,null,null,null,null,null,null,null,null,null,null,null,"Gastos",1,40.200000000000003,{"$f":"(BD1902=Parametros[Segmento])*(BE1902>0)*(BF1902>0)","v":0}]
[null,"Deterioro del valor de los activos - Activos intangibles",null,{"$f":"SUM(C1912:C1913)","v":0},{"$f":"SUM(E1912:E1913)","v":0},{"$f":"SUM(F1912:F1913)","v":0},null,{"$f":"SUM(G1912:G1913)","v":0},null,null,null,null,null,null,null,null,null,null,null,null,null,null,null,null,null,null,null,null,null,null,null,null,null,null,null,null,null,null,null,null,null,null,null,null,null,null,null,null,null,null,null,null,null,null,null,"Gastos",1,40.200000000000003,{"$f":"(BD1911=Parametros[Segmento])*(BE1911>0)*(BF1911>0)","v":0}]
[null,null,null,null,null,null,{"$f":"+C1919+E1919-F1919","v":0},null,null,null,null,null,null,null,null,null,null,null,null,null,null,null,null,null,null,null,null,null,null,null,null,null,null,null,null,null,null,null,null,null,null,null,null,null,null,null,null,null,null,null,null,null,null,{"$f":"SUBSTITUTE($B$1869,CHAR(10),\"\")","v":"De Administración - Depreciaciones, amortizaciones y deterioros"},{"$f":"SUBSTITUTE($B$1917,CHAR(10),\"\")","v":"Deterioro del valor de los activos - Propiedades de inversión medidas al modelo de costo "},"Gastos",{"$f":"(BC1919=OFFSET(BC1919,1,0))*1","v":0},30,{"$f":"(BD1919=Parametros[Segmento])*(BE1919>0)*(BF1919>0)","v":0}]
[null,null,null,null,null,null,{"$f":"+C1928+E1928-F1928","v":0},null,null,null,null,null,null,null,null,null,null,null,null,null,null,null,null,null,null,null,null,null,null,null,null,null,null,null,null,null,null,null,null,null,null,null,null,null,null,null,null,null,null,null,null,null,null,{"$f":"SUBSTITUTE($B$1869,CHAR(10),\"\")","v":"De Administración - Depreciaciones, amortizaciones y deterioros"},{"$f":"SUBSTITUTE($B$1926,CHAR(10),\"\")","v":"Deterioro del valor de los activos -  Activos biológicos medidos al modelo del costo "},"Gastos",{"$f":"(BC1928=OFFSET(BC1928,1,0))*1","v":0},30,{"$f":"(BD1928=Parametros[Segmento])*(BE1928>0)*(BF1928>0)","v":0}]
[null,null,null,null,null,null,{"$f":"+C1933+E1933-F1933","v":0},null,null,null,null,null,null,null,null,null,null,null,null,null,null,null,null,null,null,null,null,null,null,null,null,null,null,null,null,null,null,null,null,null,null,null,null,null,null,null,null,null,null,null,null,null,null,{"$f":"SUBSTITUTE($B$1869,CHAR(10),\"\")","v":"De Administración - Depreciaciones, amortizaciones y deterioros"},{"$f":"SUBSTITUTE($B$1932,CHAR(10),\"\")","v":"Deterioro del valor de los activos -  Cartera de crédito y operaciones de leasing "},"Gastos",{"$f":"(BC1933=OFFSET(BC1933,1,0))*1","v":1},30,{"$f":"(BD1933=Parametros[Segmento])*(BE1933>0)*(BF1933>0)","v":0}]
[null,null,null,null,null,null,{"$f":"+C1937+E1937-F1937","v":0},null,null,null,null,null,null,null,null,null,null,null,null,null,null,null,null,null,null,null,null,null,null,null,null,null,null,null,null,null,null,null,null,null,null,null,null,null,null,null,null,null,null,null,null,null,null,{"$f":"SUBSTITUTE($B$1869,CHAR(10),\"\")","v":"De Administración - Depreciaciones, amortizaciones y deterioros"},{"$f":"SUBSTITUTE($B$1935,CHAR(10),\"\")","v":"Deterioro del valor de los activos -  Otras inversiones medidas al costo o por el método de la participación "},"Gastos",{"$f":"(BC1937=OFFSET(BC1937,1,0))*1","v":0},30,{"$f":"(BD1937=Parametros[Segmento])*(BE1937>0)*(BF1937>0)","v":0}]
[null,"Concepto/Descripción","Valores Contables",null,"Ajuste",null,"Valores Fiscales",null,null,null,null,null,null,null,null,null,null,null,null,null,null,null,null,null,null,null,null,null,null,null,null,null,null,null,null,null,null,null,null,null,null,null,null,null,null,null,null,null,null,null,null,null,null,null,null,"Gastos",1,30,{"$f":"(BD1947=Parametros[Segmento])*(BE1947>0)*(BF1947>0)","v":0}]
[null,null,null,null,null,null,{"$f":"+C1954+E1954-F1954","v":0},null,null,null,null,null,null,null,null,null,null,null,null,null,null,null,null,null,null,null,null,null,null,null,null,null,null,null,null,null,null,null,null,null,null,null,null,null,null,null,null,null,null,null,null,null,null,{"$f":"SUBSTITUTE($B$1946,CHAR(10),\"\")","v":"De distribución y venta - Mano de Obra"},{"$f":"SUBSTITUTE($B$1952,CHAR(10),\"\")","v":"Beneficios a empleados - De largo plazo "},"Gastos",{"$f":"(BC1954=OFFSET(BC1954,1,0))*1","v":0},30,{"$f":"(BD1954=Parametros[Segmento])*(BE1954>0)*(BF1954>0)","v":0}]
[null,null,"Total Gastos De distribución y venta - Mano de Obra",{"$f":"SUM(D1949:D1960)","v":0},null,null,null,{"$f":"SUM(H1949:H1960)","v":0},null,null,null,null,null,null,null,null,null,null,null,null,null,null,null,null,null,null,null,null,null,null,null,null,null,null,null,null,null,null,null,null,null,null,null,null,null,null,null,null,null,null,null,null,null,null,null,"Gastos",1,30,{"$f":"(BD1961=Parametros[Segmento])*(BE1961>0)*(BF1961>0)","v":0}]
[null,null,null,null,null,null,{"$f":"+C1971+E1971-F1971","v":0},null,null,null,null,null,null,null,null,null,null,null,null,null,null,null,null,null,null,null,null,null,null,null,null,null,null,null,null,null,null,null,null,null,null,null,null,null,null,null,null,null,null,null,null,null,null,{"$f":"SUBSTITUTE($B$1963,CHAR(10),\"\")","v":"Otros gastos de distribución y ventas"},{"$f":"SUBSTITUTE($B$1969,CHAR(10),\"\")","v":"Arrendamientos Operativos "},"Gastos",{"$f":"(BC1971=OFFSET(BC1971,1,0))*1","v":0},30,{"$f":"(BD1971=Parametros[Segmento])*(BE1971>0)*(BF1971>0)","v":0}]
[null,"Seguros ",null,{"$f":"SUM(C1979:C1980)","v":0},{"$f":"SUM(E1979:E1980)","v":0},{"$f":"SUM(F1979:F1980)","v":0},null,{"$f":"SUM(G1979:G1980)","v":0},null,null,null,null,null,null,null,null,null,null,null,null,null,null,null,null,null,null,null,null,null,null,null,null,null,null,null,null,null,null,null,null,null,null,null,null,null,null,null,null,null,null,null,null,null,null,null,"Gastos",1,30,{"$f":"(BD1978=Parametros[Segmento])*(BE1978>0)*(BF1978>0)","v":0}]
[null,null,null,null,null,null,{"$f":"+C1988+E1988-F1988","v":0},null,null,null,null,null,null,null,null,null,null,null,null,null,null,null,null,null,null,null,null,null,null,null,null,null,null,null,null,null,null,null,null,null,null,null,null,null,null,null,null,null,null,null,null,null,null,{"$f":"SUBSTITUTE($B$1963,CHAR(10),\"\")","v":"Otros gastos de distribución y ventas"},{"$f":"SUBSTITUTE($B$1987,CHAR(10),\"\")","v":"Servicios administrativos - No vinculados "},"Gastos",{"$f":"(BC1988=OFFSET(BC1988,1,0))*1","v":1},30,{"$f":"(BD1988=Parametros[Segmento])*(BE1988>0)*(BF1988>0)","v":0}]
[null,null,null,null,null,null,{"$f":"+C1992+E1992-F1992","v":0},null,null,null,null,null,null,null,null,null,null,null,null,null,null,null,null,null,null,null,null,null,null,null,null,null,null,null,null,null,null,null,null,null,null,null,null,null,null,null,null,null,null,null,null,null,null,{"$f":"SUBSTITUTE($B$1963,CHAR(10),\"\")","v":"Otros gastos de distribución y ventas"},{"$f":"SUBSTITUTE($B$1990,CHAR(10),\"\")","v":"Regalías - Vinculados económicos "},"Gastos",{"$f":"(BC1992=OFFSET(BC1992,1,0))*1","v":0},30,{"$f":"(BD1992=Parametros[Segmento])*(BE1992>0)*(BF1992>0)","v":0}]
[null,null,null,null,null,null,{"$f":"+C1997+E1997-F1997","v":0},null,null,null,null,null,null,null,null,null,null,null,null,null,null,null,null,null,null,null,null,null,null,null,null,null,null,null,null,null,null,null,null,null,null,null,null,null,null,null,null,null,null,null,null,null,null,{"$f":"SUBSTITUTE($B$1963,CHAR(10),\"\")","v":"Otros gastos de distribución y ventas"},{"$f":"SUBSTITUTE($B$1996,CHAR(10),\"\")","v":"Regalías - No vinculados"},"Gastos",{"$f":"(BC1997=OFFSET(BC1997,1,0))*1","v":1},30,{"$f":"(BD1997=Parametros[Segmento])*(BE1997>0)*(BF1997>0)","v":0}]
[null,null,null,null,null,null,{"$f":"+C2006+E2006-F2006","v":0},null,null,null,null,null,null,null,null,null,null,null,null,null,null,null,null,null,null,null,null,null,null,null,null,null,null,null,null,null,null,null,null,null,null,null,null,null,null,null,null,null,null,null,null,null,null,{"$f":"SUBSTITUTE($B$1963,CHAR(10),\"\")","v":"Otros gastos de distribución y ventas"},{"$f":"SUBSTITUTE($B$2005,CHAR(10),\"\")","v":"Asistencia técnica - No vinculados"},"Gastos",{"$f":"(BC2006=OFFSET(BC2006,1,0))*1","v":1},30,{"$f":"(BD2006=Parametros[Segmento])*(BE2006>0)*(BF2006>0)","v":0}]
[null,"Gastos legales",null,{"$f":"SUM(C2015:C2016)","v":0},{"$f":"SUM(E2015:E2016)","v":0},{"$f":"SUM(F2015:F2016)","v":0},null,{"$f":"SUM(G2015:G2016)","v":0},null,null,null,null,null,null,null,null,null,null,null,null,null,null,null,null,null,null,null,null,null,null,null,null,null,null,null,null,null,null,null,null,null,null,null,null,null,null,null,null,null,null,null,null,null,null,null,"Gastos",1,30,{"$f":"(BD2014=Parametros[Segmento])*(BE2014>0)*(BF2014>0)","v":0}]
[null,"Transporte ",null,{"$f":"SUM(C2021:C2022)","v":0},{"$f":"SUM(E2021:E2022)","v":0},{"$f":"SUM(F2021:F2022)","v":0},null,{"$f":"SUM(G2021:G2022)","v":0},null,null,null,null,null,null,null,null,null,null,null,null,null,null,null,null,null,null,null,null,null,null,null,null,null,null,null,null,null,null,null,null,null,null,null,null,null,null,null,null,null,null,null,null,null,null,null,"Gastos",1,30,{"$f":"(BD2020=Parametros[Segmento])*(BE2020>0)*(BF2020>0)","v":0}]
[null,null,null,null,null,null,{"$f":"+C2031+E2031-F2031","v":0},null,null,null,null,null,null,null,null,null,null,null,null,null,null,null,null,null,null,null,null,null,null,null,null,null,null,null,null,null,null,null,null,null,null,null,null,null,null,null,null,null,null,null,null,null,null,{"$f":"SUBSTITUTE($B$1963,CHAR(10),\"\")","v":"Otros gastos de distribución y ventas"},{"$f":"SUBSTITUTE($B$2029,CHAR(10),\"\")","v":"Prima de reaseguros"},"Gastos",{"$f":"(BC2031=OFFSET(BC2031,1,0))*1","v":0},30,{"$f":"(BD2031=Parametros[Segmento])*(BE2031>0)*(BF2031>0)","v":0}]
[null,"Depreciación propiedades, planta y equipo - Del costo",null,{"$f":"SUM(C2041:C2042)","v":0},{"$f":"SUM(E2041:E2042)","v":0},{"$f":"SUM(F2041:F2042)","v":0},null,{"$f":"SUM(G2041:G2042)","v":0},null,null,null,null,null,null,null,null,null,null,null,null,null,null,null,null,null,null,null,null,null,null,null,null,null,null,null,null,null,null,null,null,null,null,null,null,null,null,null,null,null,null,null,null,null,null,null,"Gastos",1,40.200000000000003,{"$f":"(BD2040=Parametros[Segmento])*(BE2040>0)*(BF2040>0)","v":0}]
[null,"Depreciación propiedades, planta y equipo - Del  ajuste acumulado por revaluaciones o reexpresiones ",null,{"$f":"SUM(C2044:C2045)","v":0},{"$f":"SUM(E2044:E2045)","v":0},{"$f":"SUM(F2044:F2045)","v":0},null,{"$f":"SUM(G2044:G2045)","v":0},null,null,null,null,null,null,null,null,null,null,null,null,null,null,null,null,null,null,null,null,null,null,null,null,null,null,null,null,null,null,null,null,null,null,null,null,null,null,null,null,null,null,null,null,null,null,null,"Gastos",1,60,{"$f":"(BD2043=Parametros[Segmento])*(BE2043>0)*(BF2043>0)","v":0}]
[null,null,null,null,null,null,{"$f":"+C2057+E2057-F2057","v":0},null,null,null,null,null,null,null,null,null,null,null,null,null,null,null,null,null,null,null,null,null,null,null,null,null,null,null,null,null,null,null,null,null,null,null,null,null,null,null,null,null,null,null,null,null,null,{"$f":"SUBSTITUTE($B$2037,CHAR(10),\"\")","v":"De Distribución y Ventas - Depreciaciones, amortizaciones y deterioros"},{"$f":"SUBSTITUTE($B$2055,CHAR(10),\"\")","v":"Depreciación activos biológicos - Del  ajuste acumulado por revaluaciones o reexpresiones "},"Gastos",{"$f":"(BC2057=OFFSET(BC2057,1,0))*1","v":0},30,{"$f":"(BD2057=Parametros[Segmento])*(BE2057>0)*(BF2057>0)","v":0}]
[null,"Depreciación Arrendamientos Operativos (NIIF 16)",null,{"$f":"SUM(C2065:C2066)","v":0},{"$f":"SUM(E2065:E2066)","v":0},{"$f":"SUM(F2065:F2066)","v":0},null,{"$f":"SUM(G2065:G2066)","v":0},null,null,null,null,null,null,null,null,null,null,null,null,null,null,null,null,null,null,null,null,null,null,null,null,null,null,null,null,null,null,null,null,null,null,null,null,null,null,null,null,null,null,null,null,null,null,null,"Gastos",1,30,{"$f":"(BD2064=Parametros[Segmento])*(BE2064>0)*(BF2064>0)","v":0}]
[null,null,null,null,null,null,{"$f":"+C2066+E2066-F2066","v":0},null,null,null,null,null,null,null,null,null,null,null,null,null,null,null,null,null,null,null,null,null,null,null,null,null,null,null,null,null,null,null,null,null,null,null,null,null,null,null,null,null,null,null,null,null,null,{"$f":"SUBSTITUTE($B$2037,CHAR(10),\"\")","v":"De Distribución y Ventas - Depreciaciones, amortizaciones y deterioros"},{"$f":"SUBSTITUTE($B$2064,CHAR(10),\"\")","v":"Depreciación Arrendamientos Operativos (NIIF 16)"},"Gastos",{"$f":"(BC2066=OFFSET(BC2066,1,0))*1","v":0},30,{"$f":"(BD2066=Parametros[Segmento])*(BE2066>0)*(BF2066>0)","v":0}]
[null,null,null,null,null,null,{"$f":"+C2074+E2074-F2074","v":0},null,null,null,null,null,null,null,null,null,null,null,null,null,null,null,null,null,null,null,null,null,null,null,null,null,null,null,null,null,null,null,null,null,null,null,null,null,null,null,null,null,null,null,null,null,null,{"$f":"SUBSTITUTE($B$2037,CHAR(10),\"\")","v":"De Distribución y Ventas - Depreciaciones, amortizaciones y deterioros"},{"$f":"SUBSTITUTE($B$2073,CHAR(10),\"\")","v":"Deterioro del valor de los activos - Inventarios "},"Gastos",{"$f":"(BC2074=OFFSET(BC2074,1,0))*1","v":1},30,{"$f":"(BD2074=Parametros[Segmento])*(BE2074>0)*(BF2074>0)","v":0}]
[null,null,null,null,null,null,{"$f":"+C2083+E2083-F2083","v":0},null,null,null,null,null,null,null,null,null,null,null,null,null,null,null,null,null,null,null,null,null,null,null,null,null,null,null,null,null,null,null,null,null,null,null,null,null,null,null,null,null,null,null,null,null,null,{"$f":"SUBSTITUTE($B$2037,CHAR(10),\"\")","v":"De Distribución y Ventas - Depreciaciones, amortizaciones y deterioros"},{"$f":"SUBSTITUTE($B$2082,CHAR(10),\"\")","v":"Deterioro del valor de los activos - Activos de exploración y evaluación de recursos minerales "},"Gastos",{"$f":"(BC2083=OFFSET(BC2083,1,0))*1","v":1},30,{"$f":"(BD2083=Parametros[Segmento])*(BE2083>0)*(BF2083>0)","v":0}]
[null,"Deterioro del valor de los activos -  Activos no corrientes mantenidos para la venta / Distribuir a los propietarios ",null,{"$f":"SUM(C2089:C2090)","v":0},{"$f":"SUM(E2089:E2090)","v":0},{"$f":"SUM(F2089:F2090)","v":0},null,{"$f":"SUM(G2089:G2090)","v":0},null,null,null,null,null,null,null,null,null,null,null,null,null,null,null,null,null,null,null,null,null,null,null,null,null,null,null,null,null,null,null,null,null,null,null,null,null,null,null,null,null,null,null,null,null,null,null,"Gastos",1,60,{"$f":"(BD2088=Parametros[Segmento])*(BE2088>0)*(BF2088>0)","v":0}]
[null,"Deterioro del valor de los activos -  Cartera de crédito y operaciones de leasing ",null,{"$f":"SUM(C2101:C2102)","v":0},{"$f":"SUM(E2101:E2102)","v":0},{"$f":"SUM(F2101:F2102)","v":0},null,{"$f":"SUM(G2101:G2102)","v":0},null,null,null,null,null,null,null,null,null,null,null,null,null,null,null,null,null,null,null,null,null,null,null,null,null,null,null,null,null,null,null,null,null,null,null,null,null,null,null,null,null,null,null,null,null,null,null,"Gastos",1,40.200000000000003,{"$f":"(BD2100=Parametros[Segmento])*(BE2100>0)*(BF2100>0)","v":0}]
[null,"Otros deterioros",null,{"$f":"SUM(C2110:C2111)","v":0},{"$f":"SUM(E2110:E2111)","v":0},{"$f":"SUM(F2110:F2111)","v":0},null,{"$f":"SUM(G2110:G2111)","v":0},null,null,null,null,null,null,null,null,null,null,null,null,null,null,null,null,null,null,null,null,null,null,null,null,null,null,null,null,null,null,null,null,null,null,null,null,null,null,null,null,null,null,null,null,null,null,null,"Gastos",1,30,{"$f":"(BD2109=Parametros[Segmento])*(BE2109>0)*(BF2109>0)","v":0}]
[null,"Arrendamiento Financiero o mercantil (leasing)",null,{"$f":"SUM(C2118:C2119)","v":0},{"$f":"SUM(E2118:E2119)","v":0},{"$f":"SUM(F2118:F2119)","v":0},null,{"$f":"SUM(G2118:G2119)","v":0},null,null,null,null,null,null,null,null,null,null,null,null,null,null,null,null,null,null,null,null,null,null,null,null,null,null,null,null,null,null,null,null,null,null,null,null,null,null,null,null,null,null,null,null,null,null,null,"Gastos",1,30,{"$f":"(BD2117=Parametros[Segmento])*(BE2117>0)*(BF2117>0)","v":0}]
[null,"Intereses devengados - sector financiero",null,{"$f":"SUM(C2124:C2125)","v":0},{"$f":"SUM(E2124:E2125)","v":0},{"$f":"SUM(F2124:F2125)","v":0},null,{"$f":"SUM(G2124:G2125)","v":0},null,null,null,null,null,null,null,null,null,null,null,null,null,null,null,null,null,null,null,null,null,null,null,null,null,null,null,null,null,null,null,null,null,null,null,null,null,null,null,null,null,null,null,null,null,null,null,"Gastos",1,30,{"$f":"(BD2123=Parametros[Segmento])*(BE2123>0)*(BF2123>0)","v":0}]
[null,"Intereses devengados por préstamos de terceros (distintos al sector financiero)",null,{"$f":"SUM(C2127:C2128)","v":0},{"$f":"SUM(E2127:E2128)","v":0},{"$f":"SUM(F2127:F2128)","v":0},null,{"$f":"SUM(G2127:G2128)","v":0},null,null,null,null,null,null,null,null,null,null,null,null,null,null,null,null,null,null,null,null,null,null,null,null,null,null,null,null,null,null,null,null,null,null,null,null,null,null,null,null,null,null,null,null,null,null,null,"Gastos",1,40.200000000000003,{"$f":"(BD2126=Parametros[Segmento])*(BE2126>0)*(BF2126>0)","v":0}]
[null,null,null,null,null,null,{"$f":"+C2133+E2133-F2133","v":0},null,null,null,null,null,null,null,null,null,null,null,null,null,null,null,null,null,null,null,null,null,null,null,null,null,null,null,null,null,null,null,null,null,null,null,null,null,null,null,null,null,null,null,null,null,null,{"$f":"SUBSTITUTE($B$2114,CHAR(10),\"\")","v":"Financieros"},{"$f":"SUBSTITUTE($B$2132,CHAR(10),\"\")","v":"Costos de transacción "},"Gastos",{"$f":"(BC2133=OFFSET(BC2133,1,0))*1","v":1},30,{"$f":"(BD2133=Parametros[Segmento])*(BE2133>0)*(BF2133>0)","v":0}]
[null,null,null,null,null,null,{"$f":"+C2143+E2143-F2143","v":0},null,null,null,null,null,null,null,null,null,null,null,null,null,null,null,null,null,null,null,null,null,null,null,null,null,null,null,null,null,null,null,null,null,null,null,null,null,null,null,null,null,null,null,null,null,null,{"$f":"SUBSTITUTE($B$2114,CHAR(10),\"\")","v":"Financieros"},{"$f":"SUBSTITUTE($B$2141,CHAR(10),\"\")","v":"Actualización de provisiones reconocidas a valor presente "},"Gastos",{"$f":"(BC2143=OFFSET(BC2143,1,0))*1","v":0},30,{"$f":"(BD2143=Parametros[Segmento])*(BE2143>0)*(BF2143>0)","v":0}]
[null,"Provisiones, otros gastos y pérdidas ",null,null,null,null,null,null,null,null,null,null,null,null,null,null,null,null,null,null,null,null,null,null,null,null,null,null,null,null,null,null,null,null,null,null,null,null,null,null,null,null,null,null,null,null,null,null,null,null,null,null,null,null,null,"Gastos",1,30,{"$f":"(BD2154=Parametros[Segmento])*(BE2154>0)*(BF2154>0)","v":0}]
[null,"Gastos por provisiones - Contratos onerosos",null,{"$f":"SUM(C2161:C2162)","v":0},{"$f":"SUM(E2161:E2162)","v":0},{"$f":"SUM(F2161:F2162)","v":0},null,{"$f":"SUM(G2161:G2162)","v":0},null,null,null,null,null,null,null,null,null,null,null,null,null,null,null,null,null,null,null,null,null,null,null,null,null,null,null,null,null,null,null,null,null,null,null,null,null,null,null,null,null,null,null,null,null,null,null,"Gastos",1,30,{"$f":"(BD2160=Parametros[Segmento])*(BE2160>0)*(BF2160>0)","v":0}]
[null,null,null,null,null,null,{"$f":"+C2168+E2168-F2168","v":0},null,null,null,null,null,null,null,null,null,null,null,null,null,null,null,null,null,null,null,null,null,null,null,null,null,null,null,null,null,null,null,null,null,null,null,null,null,null,null,null,null,null,null,null,null,null,{"$f":"SUBSTITUTE($B$2154,CHAR(10),\"\")","v":"Provisiones, otros gastos y pérdidas "},{"$f":"SUBSTITUTE($B$2166,CHAR(10),\"\")","v":"Gastos por provisiones - Reembolsos a clientes"},"Gastos",{"$f":"(BC2168=OFFSET(BC2168,1,0))*1","v":0},30,{"$f":"(BD2168=Parametros[Segmento])*(BE2168>0)*(BF2168>0)","v":0}]
[null,null,null,null,null,null,{"$f":"+C2177+E2177-F2177","v":0},null,null,null,null,null,null,null,null,null,null,null,null,null,null,null,null,null,null,null,null,null,null,null,null,null,null,null,null,null,null,null,null,null,null,null,null,null,null,null,null,null,null,null,null,null,null,{"$f":"SUBSTITUTE($B$2154,CHAR(10),\"\")","v":"Provisiones, otros gastos y pérdidas "},{"$f":"SUBSTITUTE($B$2175,CHAR(10),\"\")","v":"Gastos por provisiones - Otros "},"Gastos",{"$f":"(BC2177=OFFSET(BC2177,1,0))*1","v":0},30,{"$f":"(BD2177=Parametros[Segmento])*(BE2177>0)*(BF2177>0)","v":0}]
[null,null,null,null,null,null,{"$f":"+C2182+E2182-F2182","v":0},null,null,null,null,null,null,null,null,null,null,null,null,null,null,null,null,null,null,null,null,null,null,null,null,null,null,null,null,null,null,null,null,null,null,null,null,null,null,null,null,null,null,null,null,null,null,{"$f":"SUBSTITUTE($B$2154,CHAR(10),\"\")","v":"Provisiones, otros gastos y pérdidas "},{"$f":"SUBSTITUTE($B$2181,CHAR(10),\"\")","v":"Otros gastos - Donaciones, aportaciones y similares"},"Gastos",{"$f":"(BC2182=OFFSET(BC2182,1,0))*1","v":1},30,{"$f":"(BD2182=Parametros[Segmento])*(BE2182>0)*(BF2182>0)","v":0}]
[null,null,null,null,null,null,{"$f":"+C2186+E2186-F2186","v":0},null,null,null,null,null,null,null,null,null,null,null,null,null,null,null,null,null,null,null,null,null,null,null,null,null,null,null,null,null,null,null,null,null,null,null,null,null,null,null,null,null,null,null,null,null,null,{"$f":"SUBSTITUTE($B$2154,CHAR(10),\"\")","v":"Provisiones, otros gastos y pérdidas "},{"$f":"SUBSTITUTE($B$2184,CHAR(10),\"\")","v":"Otros gastos - Contribuciones a educación de los empleados "},"Gastos",{"$f":"(BC2186=OFFSET(BC2186,1,0))*1","v":0},30,{"$f":"(BD2186=Parametros[Segmento])*(BE2186>0)*(BF2186>0)","v":0}]
[null,"Pérdidas por mediciones a valor razonable - Activos biológicos",null,{"$f":"SUM(C2200:C2201)","v":0},{"$f":"SUM(E2200:E2201)","v":0},{"$f":"SUM(F2200:F2201)","v":0},null,{"$f":"SUM(G2200:G2201)","v":0},null,null,null,null,null,null,null,null,null,null,null,null,null,null,null,null,null,null,null,null,null,null,null,null,null,null,null,null,null,null,null,null,null,null,null,null,null,null,null,null,null,null,null,null,null,null,null,"Gastos",1,40.200000000000003,{"$f":"(BD2199=Parametros[Segmento])*(BE2199>0)*(BF2199>0)","v":0}]
[null,null,null,null,null,null,{"$f":"+C2203+E2203-F2203","v":0},null,null,null,null,null,null,null,null,null,null,null,null,null,null,null,null,null,null,null,null,null,null,null,null,null,null,null,null,null,null,null,null,null,null,null,null,null,null,null,null,null,null,null,null,null,null,{"$f":"SUBSTITUTE($B$2154,CHAR(10),\"\")","v":"Provisiones, otros gastos y pérdidas "},{"$f":"SUBSTITUTE($B$2202,CHAR(10),\"\")","v":"Pérdidas por mediciones a valor razonable - Propiedades de inversión"},"Gastos",{"$f":"(BC2203=OFFSET(BC2203,1,0))*1","v":1},30,{"$f":"(BD2203=Parametros[Segmento])*(BE2203>0)*(BF2203>0)","v":0}]
[null,null,null,null,null,null,{"$f":"+C2212+E2212-F2212","v":0},null,null,null,null,null,null,null,null,null,null,null,null,null,null,null,null,null,null,null,null,null,null,null,null,null,null,null,null,null,null,null,null,null,null,null,null,null,null,null,null,null,null,null,null,null,null,{"$f":"SUBSTITUTE($B$2154,CHAR(10),\"\")","v":"Provisiones, otros gastos y pérdidas "},{"$f":"SUBSTITUTE($B$2211,CHAR(10),\"\")","v":"Pérdidas por mediciones a valor razonable - Otras"},"Gastos",{"$f":"(BC2212=OFFSET(BC2212,1,0))*1","v":1},30,{"$f":"(BD2212=Parametros[Segmento])*(BE2212>0)*(BF2212>0)","v":0}]
[null,null,null,null,null,null,{"$f":"+C2219+E2219-F2219","v":0},null,null,null,null,null,null,null,null,null,null,null,null,null,null,null,null,null,null,null,null,null,null,null,null,null,null,null,null,null,null,null,null,null,null,null,null,null,null,null,null,null,null,null,null,null,null,{"$f":"SUBSTITUTE($B$2154,CHAR(10),\"\")","v":"Provisiones, otros gastos y pérdidas "},{"$f":"SUBSTITUTE($B$2217,CHAR(10),\"\")","v":"Pérdidas en la venta o enajenación de activos fijos - Propiedades de inversión"},"Gastos",{"$f":"(BC2219=OFFSET(BC2219,1,0))*1","v":0},30,{"$f":"(BD2219=Parametros[Segmento])*(BE2219>0)*(BF2219>0)","v":0}]
[null,"Pérdidas en la venta o enajenación de activos fijos - Activos intangibles",null,{"$f":"SUM(C2230:C2231)","v":0},{"$f":"SUM(E2230:E2231)","v":0},{"$f":"SUM(F2230:F2231)","v":0},null,{"$f":"SUM(G2230:G2231)","v":0},null,null,null,null,null,null,null,null,null,null,null,null,null,null,null,null,null,null,null,null,null,null,null,null,null,null,null,null,null,null,null,null,null,null,null,null,null,null,null,null,null,null,null,null,null,null,null,"Gastos",1,40.200000000000003,{"$f":"(BD2229=Parametros[Segmento])*(BE2229>0)*(BF2229>0)","v":0}]
[null,null,null,null,null,null,{"$f":"+C2236+E2236-F2236","v":0},null,null,null,null,null,null,null,null,null,null,null,null,null,null,null,null,null,null,null,null,null,null,null,null,null,null,null,null,null,null,null,null,null,null,null,null,null,null,null,null,null,null,null,null,null,null,{"$f":"SUBSTITUTE($B$2154,CHAR(10),\"\")","v":"Provisiones, otros gastos y pérdidas "},{"$f":"SUBSTITUTE($B$2235,CHAR(10),\"\")","v":"Pérdidas en la venta o enajenación de activos fijos - Inversiones en acciones y otras participaciones"},"Gastos",{"$f":"(BC2236=OFFSET(BC2236,1,0))*1","v":1},30,{"$f":"(BD2236=Parametros[Segmento])*(BE2236>0)*(BF2236>0)","v":0}]
[null,"Pérdidas en la venta o enajenación de activos fijos - Otros ",null,{"$f":"SUM(C2239:C2240)","v":0},{"$f":"SUM(E2239:E2240)","v":0},{"$f":"SUM(F2239:F2240)","v":0},null,{"$f":"SUM(G2239:G2240)","v":0},null,null,null,null,null,null,null,null,null,null,null,null,null,null,null,null,null,null,null,null,null,null,null,null,null,null,null,null,null,null,null,null,null,null,null,null,null,null,null,null,null,null,null,null,null,null,null,"Gastos",1,40.200000000000003,{"$f":"(BD2238=Parametros[Segmento])*(BE2238>0)*(BF2238>0)","v":0}]
[null,"Rentas exentas",null,null,null,null,null,null,null,null,null,null,null,null,null,null,null,null,null,null,null,null,null,null,null,null,null,null,null,null,null,null,null,null,null,null,null,null,null,null,null,null,null,null,null,null,null,null,null,null,null,null,null,null,null,"Rentas Exentas",1,30,{"$f":"(BD2250=Parametros[Segmento])*(BE2250>0)*(BF2250>0)","v":0}]
[null,"Por aplicación de tratados para evitar la doble imposición –CAN–",null,null,null,null,null,null,null,null,null,null,null,null,null,null,null,null,null,null,null,null,null,null,null,null,null,null,null,null,null,null,null,null,null,null,null,null,null,null,null,null,null,null,null,null,null,null,null,null,null,null,null,null,null,"Rentas Exentas",1,30,{"$f":"(BD2255=Parametros[Segmento])*(BE2255>0)*(BF2255>0)","v":0}]
[null,null,null,null,null,null,null,null,null,null,null,null,null,null,null,null,null,null,null,null,null,null,null,null,null,null,null,null,null,null,null,null,null,null,null,null,null,null,null,null,null,null,null,null,null,null,null,null,null,null,null,null,null,null,null,"Compensaciones",1,30,{"$f":"(BD2264=Parametros[Segmento])*(BE2264>0)*(BF2264>0)","v":0}]
[null,"Valor pendiente de compensación ",{"$f":"C2269-C2271","v":0},null,null,null,null,null,null,null,null,null,null,null,null,null,null,null,null,null,null,null,null,null,null,null,null,null,null,null,null,null,null,null,null,null,null,null,null,null,null,null,null,null,null,null,null,null,null,null,null,null,null,null,null,"Compensaciones",1,30,{"$f":"(BD2272=Parametros[Segmento])*(BE2272>0)*(BF2272>0)","v":0}]
[null,"Exceso de renta presuntiva, sin compensar",{"$f":"+' '!D262","v":0},null,null,null,null,null,null,null,null,null,null,null,null,null,null,null,null,null,null,null,null,null,null,null,null,null,null,null,null,null,null,null,null,null,null,null,null,null,null,null,null,null,null,null,null,null,null,null,null,null,null,null,null,"Compensaciones",1,30,{"$f":"(BD2278=Parametros[Segmento])*(BE2278>0)*(BF2278>0)","v":0}]
[null,"Pérdidas en inventarios ",null,{"$f":"SUM(C2290:C2291)","v":0},{"$f":"SUM(E2290:E2291)","v":0},{"$f":"SUM(F2290:F2291)","v":0},null,{"$f":"SUM(G2290:G2291)","v":0},null,null,null,null,null,null,null,null,null,null,null,null,null,null,null,null,null,null,null,null,null,null,null,null,null,null,null,null,null,null,null,null,null,null,null,null,null,null,null,null,null,null,null,null,null,null,null,"Renta recup. deducciones",1,30,{"$f":"(BD2289=Parametros[Segmento])*(BE2289>0)*(BF2289>0)","v":0}]
[null,"Pérdidas de activos fijos ",null,{"$f":"SUM(C2296:C2297)","v":0},{"$f":"SUM(E2296:E2297)","v":0},{"$f":"SUM(F2296:F2297)","v":0},null,{"$f":"SUM(G2296:G2297)","v":0},null,null,null,null,null,null,null,null,null,null,null,null,null,null,null,null,null,null,null,null,null,null,null,null,null,null,null,null,null,null,null,null,null,null,null,null,null,null,null,null,null,null,null,null,null,null,null,"Renta recup. deducciones",1,30,{"$f":"(BD2295=Parametros[Segmento])*(BE2295>0)*(BF2295>0)","v":0}]
[null,"Amortización de inventarios ",null,{"$f":"SUM(C2299:C2300)","v":0},{"$f":"SUM(E2299:E2300)","v":0},{"$f":"SUM(F2299:F2300)","v":0},null,{"$f":"SUM(G2299:G2300)","v":0},null,null,null,null,null,null,null,null,null,null,null,null,null,null,null,null,null,null,null,null,null,null,null,null,null,null,null,null,null,null,null,null,null,null,null,null,null,null,null,null,null,null,null,null,null,null,null,"Renta recup. deducciones",1,30,{"$f":"(BD2298=Parametros[Segmento])*(BE2298>0)*(BF2298>0)","v":0}]
[null,null,null,null,null,null,null,null,null,null,null,null,null,null,null,null,null,null,null,null,null,null,null,null,null,null,null,null,null,null,null,null,null,null,null,null,null,null,null,null,null,null,null,null,null,null,null,null,null,null,null,null,null,null,null,"Otras rentas líq. gravab.",1,30,{"$f":"(BD2309=Parametros[Segmento])*(BE2309>0)*(BF2309>0)","v":0}]
[null,"Activos omitidos ",null,{"$f":"SUM(C2316:C2317)","v":0},{"$f":"SUM(E2316:E2317)","v":0},{"$f":"SUM(F2316:F2317)","v":0},null,{"$f":"SUM(G2316:G2317)","v":0},null,null,null,null,null,null,null,null,null,null,null,null,null,null,null,null,null,null,null,null,null,null,null,null,null,null,null,null,null,null,null,null,null,null,null,null,null,null,null,null,null,null,null,null,null,null,null,"Otras rentas líq. gravab.",1,30,{"$f":"(BD2315=Parametros[Segmento])*(BE2315>0)*(BF2315>0)","v":0}]
[null,null,null,null,null,null,{"$f":"+C2323+E2323-F2323","v":0},null,null,null,null,null,null,null,null,null,null,null,null,null,null,null,null,null,null,null,null,null,null,null,null,null,null,null,null,null,null,null,null,null,null,null,null,null,null,null,null,null,null,null,null,null,null,{"$f":"SUBSTITUTE($B$2312,CHAR(10),\"\")","v":"Otras rentas líquidas gravables"},{"$f":"SUBSTITUTE($B$2321,CHAR(10),\"\")","v":"Pérdidas compensadas modificadas por Liquidación Oficial"},"Otras rentas líq. gravab.",{"$f":"(BC2323=OFFSET(BC2323,1,0))*1","v":0},30,{"$f":"(BD2323=Parametros[Segmento])*(BE2323>0)*(BF2323>0)","v":0}]
[null,"Otras rentas líquidas gravables ESAL",null,null,null,null,null,null,null,null,null,null,null,null,null,null,null,null,null,null,null,null,null,null,null,null,null,null,null,null,null,null,null,null,null,null,null,null,null,null,null,null,null,null,null,null,null,null,null,null,null,null,null,null,null,"OtrasRentasLiqGravaESAL",1,30,{"$f":"(BD2332=Parametros[Segmento])*(BE2332>0)*(BF2332>0)","v":0}]
[null,null,null,null,null,null,{"$f":"+C2337+E2337-F2337","v":0},null,null,null,null,null,null,null,null,null,null,null,null,null,null,null,null,null,null,null,null,null,null,null,null,null,null,null,null,null,null,null,null,null,null,null,null,null,null,null,null,null,null,null,null,null,null,{"$f":"SUBSTITUTE($B$2332,CHAR(10),\"\")","v":"Otras rentas líquidas gravables ESAL"},{"$f":"SUBSTITUTE($B$2335,CHAR(10),\"\")","v":"Excedentes no reinvertidos"},"OtrasRentasLiqGravaESAL",{"$f":"(BC2337=OFFSET(BC2337,1,0))*1","v":0},30,{"$f":"(BD2337=Parametros[Segmento])*(BE2337>0)*(BF2337>0)","v":0}]
[null,null,null,null,null,null,null,null,null,null,null,null,null,null,null,null,null,null,null,null,null,null,null,null,null,null,null,null,null,null,null,null,null,null,null,null,null,null,null,null,null,null,null,null,null,null,null,null,null,null,null,null,null,null,null,"Retenciones en la Fuente",1,30,{"$f":"(BD2349=Parametros[Segmento])*(BE2349>0)*(BF2349>0)","v":0}]
[null,null,null,null,null,null,null,null,null,null,null,null,null,null,null,null,null,null,null,null,null,null,null,null,null,null,null,null,null,null,null,null,null,null,null,null,null,null,null,null,null,null,null,null,null,null,null,null,null,null,null,null,null,{"$f":"SUBSTITUTE($B$2351,CHAR(10),\"\")","v":"Retenciones en la fuente por Ingresos Ordinarios"},{"$f":"SUBSTITUTE($B$2353,CHAR(10),\"\")","v":"Retenciones en la fuente por Ingresos brutos Actividad Industrial, Comercial y Servicios - Venta de bienes"},"Retenciones en la Fuente",{"$f":"(BC2354=OFFSET(BC2354,1,0))*1","v":1},30,{"$f":"(BD2354=Parametros[Segmento])*(BE2354>0)*(BF2354>0)","v":0}]
[null,null,null,null,null,null,null,null,null,null,null,null,null,null,null,null,null,null,null,null,null,null,null,null,null,null,null,null,null,null,null,null,null,null,null,null,null,null,null,null,null,null,null,null,null,null,null,null,null,null,null,null,null,{"$f":"SUBSTITUTE($B$2351,CHAR(10),\"\")","v":"Retenciones en la fuente por Ingresos Ordinarios"},{"$f":"SUBSTITUTE($B$2356,CHAR(10),\"\")","v":"Retenciones en la fuente por Ingresos brutos Actividad Industrial, Comercial y Servicios - Prestación de servicios (diferentes a honorarios profesionales)"},"Retenciones en la Fuente",{"$f":"(BC2358=OFFSET(BC2358,1,0))*1","v":0},30,{"$f":"(BD2358=Parametros[Segmento])*(BE2358>0)*(BF2358>0)","v":0}]
[null,"Retenciones en la fuente por Ingresos por reversión de deterioro del valor ",null,{"$f":"ROUND(SUM(C2369:C2370),-3)","v":0},null,null,null,null,null,null,null,null,null,null,null,null,null,null,null,null,null,null,null,null,null,null,null,null,null,null,null,null,null,null,null,null,null,null,null,null,null,null,null,null,null,null,null,null,null,null,null,null,null,null,null,"Retenciones en la Fuente",1,30,{"$f":"(BD2368=Parametros[Segmento])*(BE2368>0)*(BF2368>0)","v":0}]
[null,null,null,null,null,null,null,null,null,null,null,null,null,null,null,null,null,null,null,null,null,null,null,null,null,null,null,null,null,null,null,null,null,null,null,null,null,null,null,null,null,null,null,null,null,null,null,null,null,null,null,null,null,{"$f":"SUBSTITUTE($B$2351,CHAR(10),\"\")","v":"Retenciones en la fuente por Ingresos Ordinarios"},{"$f":"SUBSTITUTE($B$2374,CHAR(10),\"\")","v":"Retenciones en la fuente por Ingresos por reversión de provisiones (pasivos de monto o fecha inciertos)"},"Retenciones en la Fuente",{"$f":"(BC2375=OFFSET(BC2375,1,0))*1","v":1},30,{"$f":"(BD2375=Parametros[Segmento])*(BE2375>0)*(BF2375>0)","v":0}]
[null,null,null,null,null,null,null,null,null,null,null,null,null,null,null,null,null,null,null,null,null,null,null,null,null,null,null,null,null,null,null,null,null,null,null,null,null,null,null,null,null,null,null,null,null,null,null,null,null,null,null,null,null,{"$f":"SUBSTITUTE($B$2351,CHAR(10),\"\")","v":"Retenciones en la fuente por Ingresos Ordinarios"},{"$f":"SUBSTITUTE($B$2383,CHAR(10),\"\")","v":"Retenciones en la fuente por Venta de activos poseídos por menos de dos años"},"Retenciones en la Fuente",{"$f":"(BC2384=OFFSET(BC2384,1,0))*1","v":1},30,{"$f":"(BD2384=Parametros[Segmento])*(BE2384>0)*(BF2384>0)","v":0}]
[null,"Retenciones en la fuente por Ganancias Ocasionales",null,null,null,null,null,null,null,null,null,null,null,null,null,null,null,null,null,null,null,null,null,null,null,null,null,null,null,null,null,null,null,null,null,null,null,null,null,null,null,null,null,null,null,null,null,null,null,null,null,null,null,null,null,"Retenciones en la Fuente",1,30,{"$f":"(BD2391=Parametros[Segmento])*(BE2391>0)*(BF2391>0)","v":0}]
[null,null,null,null,null,null,null,null,null,null,null,null,null,null,null,null,null,null,null,null,null,null,null,null,null,null,null,null,null,null,null,null,null,null,null,null,null,null,null,null,null,null,null,null,null,null,null,null,null,null,null,null,null,{"$f":"SUBSTITUTE($B$2391,CHAR(10),\"\")","v":"Retenciones en la fuente por Ganancias Ocasionales"},{"$f":"SUBSTITUTE($B$2399,CHAR(10),\"\")","v":"Retenciones en la fuente por Premios obtenidos en juegos de suerte y azar "},"Retenciones en la Fuente",{"$f":"(BC2401=OFFSET(BC2401,1,0))*1","v":0},30,{"$f":"(BD2401=Parametros[Segmento])*(BE2401>0)*(BF2401>0)","v":0}]
[null,null,"Total retenciones en la fuente por Ganancias Ocasionales",{"$f":"SUM(D2393:D2404)","v":0},null,null,null,null,null,null,null,null,null,null,null,null,null,null,null,null,null,null,null,null,null,null,null,null,null,null,null,null,null,null,null,null,null,null,null,null,null,null,null,null,null,null,null,null,null,null,null,null,null,null,null,"Retenciones en la Fuente",1,40.200000000000003,{"$f":"(BD2405=Parametros[Segmento])*(BE2405>0)*(BF2405>0)","v":0}]
[null,"Autorretenciones por Ingresos Brutos Actividad Industrial, Comercial y Servicios - Otros ingresos ",null,{"$f":"ROUND(SUM(C2419:C2420),-3)","v":0},null,null,null,null,null,null,null,null,null,null,null,null,null,null,null,null,null,null,null,null,null,null,null,null,null,null,null,null,null,null,null,null,null,null,null,null,null,null,null,null,null,null,null,null,null,null,null,null,null,null,null,"Retenciones en la Fuente",1,30,{"$f":"(BD2418=Parametros[Segmento])*(BE2418>0)*(BF2418>0)","v":0}]
[null,null,null,null,null,null,null,null,null,null,null,null,null,null,null,null,null,null,null,null,null,null,null,null,null,null,null,null,null,null,null,null,null,null,null,null,null,null,null,null,null,null,null,null,null,null,null,null,null,null,null,null,null,{"$f":"SUBSTITUTE($B$2410,CHAR(10),\"\")","v":"Autorretenciones por Ingresos Ordinarios"},{"$f":"SUBSTITUTE($B$2418,CHAR(10),\"\")","v":"Autorretenciones por Ingresos Brutos Actividad Industrial, Comercial y Servicios - Otros ingresos "},"Retenciones en la Fuente",{"$f":"(BC2419=OFFSET(BC2419,1,0))*1","v":1},30,{"$f":"(BD2419=Parametros[Segmento])*(BE2419>0)*(BF2419>0)","v":0}]
[null,"Autorretenciones por Ingresos por reversión de deterioro del valor ",null,{"$f":"ROUND(SUM(C2428:C2429),-3)","v":0},null,null,null,null,null,null,null,null,null,null,null,null,null,null,null,null,null,null,null,null,null,null,null,null,null,null,null,null,null,null,null,null,null,null,null,null,null,null,null,null,null,null,null,null,null,null,null,null,null,null,null,"Retenciones en la Fuente",1,30,{"$f":"(BD2427=Parametros[Segmento])*(BE2427>0)*(BF2427>0)","v":0}]
[null,null,null,null,null,null,null,null,null,null,null,null,null,null,null,null,null,null,null,null,null,null,null,null,null,null,null,null,null,null,null,null,null,null,null,null,null,null,null,null,null,null,null,null,null,null,null,null,null,null,null,null,null,{"$f":"SUBSTITUTE($B$2410,CHAR(10),\"\")","v":"Autorretenciones por Ingresos Ordinarios"},{"$f":"SUBSTITUTE($B$2439,CHAR(10),\"\")","v":"Autorretenciones por Ingresos por mediciones a valor razonable"},"Retenciones en la Fuente",{"$f":"(BC2440=OFFSET(BC2440,1,0))*1","v":1},30,{"$f":"(BD2440=Parametros[Segmento])*(BE2440>0)*(BF2440>0)","v":0}]
[null,null,null,null,null,null,null,null,null,null,null,null,null,null,null,null,null,null,null,null,null,null,null,null,null,null,null,null,null,null,null,null,null,null,null,null,null,null,null,null,null,null,null,null,null,null,null,null,null,null,null,null,null,{"$f":"SUBSTITUTE($B$2410,CHAR(10),\"\")","v":"Autorretenciones por Ingresos Ordinarios"},{"$f":"SUBSTITUTE($B$2442,CHAR(10),\"\")","v":"Autorretenciones por Venta de activos poseídos por menos de dos años"},"Retenciones en la Fuente",{"$f":"(BC2444=OFFSET(BC2444,1,0))*1","v":0},30,{"$f":"(BD2444=Parametros[Segmento])*(BE2444>0)*(BF2444>0)","v":0}]
[null,"Autorretenciones por Ganancias Ocasionales",null,null,null,null,null,null,null,null,null,null,null,null,null,null,null,null,null,null,null,null,null,null,null,null,null,null,null,null,null,null,null,null,null,null,null,null,null,null,null,null,null,null,null,null,null,null,null,null,null,null,null,null,null,"Retenciones en la Fuente",1,30,{"$f":"(BD2450=Parametros[Segmento])*(BE2450>0)*(BF2450>0)","v":0}]
[null,"Autorretenciones por otras ganancias ocasionales ",null,{"$f":"+ROUND(SUM(C2462:C2463),-3)","v":0},null,null,null,null,null,null,null,null,null,null,null,null,null,null,null,null,null,null,null,null,null,null,null,null,null,null,null,null,null,null,null,null,null,null,null,null,null,null,null,null,null,null,null,null,null,null,null,null,null,null,null,"Retenciones en la Fuente",1,30,{"$f":"(BD2461=Parametros[Segmento])*(BE2461>0)*(BF2461>0)","v":0}]
[null,null,"Total Autorretenciones por Ganancias Ocasionales",{"$f":"SUM(D2452:D2463)","v":0},null,null,null,null,null,null,null,null,null,null,null,null,null,null,null,null,null,null,null,null,null,null,null,null,null,null,null,null,null,null,null,null,null,null,null,null,null,null,null,null,null,null,null,null,null,null,null,null,null,null,null,"Retenciones en la Fuente",1,30,{"$f":"(BD2464=Parametros[Segmento])*(BE2464>0)*(BF2464>0)","v":0}]
[null,"Gastos de nómina pagados en acciones (artículo 44 de la Ley 789 de 2002)",null,null,null,null,null,null,null,null,null,null,null,null,null,null,null,null,null,null,null,null,null,null,null,null,null,null,null,null,null,null,null,null,null,null,null,null,null,null,null,null,null,null,null,null,null,null,null,null,null,null,null,null,null,"Valor a Adicionar",1,30,{"$f":"(BD2478=Parametros[Segmento])*(BE2478>0)*(BF2478>0)","v":0}]
[null,"Información - Resumen ",null,null,null,null,null,null,null,null,null,null,null,null,null,null,null,null,null,null,null,null,null,null,null,null,null,null,null,null,null,null,null,null,null,null,null,null,null,null,null,null,null,null,null,null,null,null,null,null,null,null,null,null,null,"Valor a Adicionar",1,30,{"$f":"(BD2485=Parametros[Segmento])*(BE2485>0)*(BF2485>0)","v":0}]
[null,"Renta liquida ordinaria antes de depuración ",null,{"$f":"+Resumen!G32-Resumen!G33-Resumen!G42","v":0},-644000,null,null,null,null,null,null,null,null,null,null,null,null,null,null,null,null,null,null,null,null,null,null,null,null,null,null,null,null,null,null,null,null,null,null,null,null,null,null,null,null,null,null,null,null,null,null,null,null,null,null,"Valor a Adicionar",1,30,{"$f":"(BD2487=Parametros[Segmento])*(BE2487>0)*(BF2487>0)","v":0}]
[null,"Venta de bienes - Al territorio nacional",{"$f":"+' '!D980","v":0},null,null,null,null,null,null,null,null,null,null,null,null,null,null,null,null,null,null,null,null,null,null,null,null,null,null,null,null,null,null,null,null,null,null,null,null,null,null,null,null,null,null,null,null,null,null,null,null,null,null,null,null,"Tasa Mínima",1,30,{"$f":"(BD2499=Parametros[Segmento])*(BE2499>0)*(BF2499>0)","v":0}]
[null,"Venta de bienes - Vinculados Económicos Zona Franca y Exterior ",{"$f":"+' '!D995","v":0},null,null,null,null,null,null,null,null,null,null,null,null,null,null,null,null,null,null,null,null,null,null,null,null,null,null,null,null,null,null,null,null,null,null,null,null,null,null,null,null,null,null,null,null,null,null,null,null,null,null,null,null,"Tasa Mínima",1,40.200000000000003,{"$f":"(BD2504=Parametros[Segmento])*(BE2504>0)*(BF2504>0)","v":0}]
[null,"Prestación de servicios - Comercializadoras Internacionales",{"$f":"+' '!D1012","v":0},null,null,null,null,null,null,null,null,null,null,null,null,null,null,null,null,null,null,null,null,null,null,null,null,null,null,null,null,null,null,null,null,null,null,null,null,null,null,null,null,null,null,null,null,null,null,null,null,null,null,null,null,"Tasa Mínima",1,30,{"$f":"(BD2509=Parametros[Segmento])*(BE2509>0)*(BF2509>0)","v":0}]
[null,"Comisiones bancarias, costos de transacción, entre otros ",{"$f":"+' '!D1050","v":0},null,null,null,null,null,null,null,null,null,null,null,null,null,null,null,null,null,null,null,null,null,null,null,null,null,null,null,null,null,null,null,null,null,null,null,null,null,null,null,null,null,null,null,null,null,null,null,null,null,null,null,null,"Tasa Mínima",1,30,{"$f":"(BD2521=Parametros[Segmento])*(BE2521>0)*(BF2521>0)","v":0}]
[null,"Otros ingresos financieros ",{"$f":"+' '!D1104","v":0},null,null,null,null,null,null,null,null,null,null,null,null,null,null,null,null,null,null,null,null,null,null,null,null,null,null,null,null,null,null,null,null,null,null,null,null,null,null,null,null,null,null,null,null,null,null,null,null,null,null,null,null,"Tasa Mínima",1,30,{"$f":"(BD2530=Parametros[Segmento])*(BE2530>0)*(BF2530>0)","v":0}]
[null,"Dividendos y/o participaciones gravadas a tarifa general (EP y sociedades extranjeras - utilidades generadas a partir del año 2017)",{"$f":"+' '!D1141","v":0},null,null,null,null,null,null,null,null,null,null,null,null,null,null,null,null,null,null,null,null,null,null,null,null,null,null,null,null,null,null,null,null,null,null,null,null,null,null,null,null,null,null,null,null,null,null,null,null,null,null,null,null,"Tasa Mínima",1,40.200000000000003,{"$f":"(BD2538=Parametros[Segmento])*(BE2538>0)*(BF2538>0)","v":0}]
[null,"Propiedad, planta y equipo",{"$f":"+' '!D1172","v":0},null,null,null,null,null,null,null,null,null,null,null,null,null,null,null,null,null,null,null,null,null,null,null,null,null,null,null,null,null,null,null,null,null,null,null,null,null,null,null,null,null,null,null,null,null,null,null,null,null,null,null,null,"Tasa Mínima",1,30,{"$f":"(BD2544=Parametros[Segmento])*(BE2544>0)*(BF2544>0)","v":0}]
[null,"Propiedades de inversión medidas al modelo de costo ",{"$f":"+' '!D1181","v":0},null,null,null,null,null,null,null,null,null,null,null,null,null,null,null,null,null,null,null,null,null,null,null,null,null,null,null,null,null,null,null,null,null,null,null,null,null,null,null,null,null,null,null,null,null,null,null,null,null,null,null,null,"Tasa Mínima",1,30,{"$f":"(BD2547=Parametros[Segmento])*(BE2547>0)*(BF2547>0)","v":0}]
[null,"Beneficios de corto plazo",{"$f":"+' '!D1210","v":0},null,null,null,null,null,null,null,null,null,null,null,null,null,null,null,null,null,null,null,null,null,null,null,null,null,null,null,null,null,null,null,null,null,null,null,null,null,null,null,null,null,null,null,null,null,null,null,null,null,null,null,null,"Tasa Mínima",1,30,{"$f":"(BD2556=Parametros[Segmento])*(BE2556>0)*(BF2556>0)","v":0}]
[null,"Otros ",{"$f":"+' '!D1245","v":0},null,null,null,null,null,null,null,null,null,null,null,null,null,null,null,null,null,null,null,null,null,null,null,null,null,null,null,null,null,null,null,null,null,null,null,null,null,null,null,null,null,null,null,null,null,null,null,null,null,null,null,null,"Tasa Mínima",1,30,{"$f":"(BD2567=Parametros[Segmento])*(BE2567>0)*(BF2567>0)","v":0}]
[null,"Otras reversiones o recuperaciones ",{"$f":"+' '!D1276","v":0},null,null,null,null,null,null,null,null,null,null,null,null,null,null,null,null,null,null,null,null,null,null,null,null,null,null,null,null,null,null,null,null,null,null,null,null,null,null,null,null,null,null,null,null,null,null,null,null,null,null,null,null,"Tasa Mínima",1,30,{"$f":"(BD2573=Parametros[Segmento])*(BE2573>0)*(BF2573>0)","v":0}]
[null,"Otros ",{"$f":"+' '!D1316","v":0},null,null,null,null,null,null,null,null,null,null,null,null,null,null,null,null,null,null,null,null,null,null,null,null,null,null,null,null,null,null,null,null,null,null,null,null,null,null,null,null,null,null,null,null,null,null,null,null,null,null,null,null,"Tasa Mínima",1,30,{"$f":"(BD2581=Parametros[Segmento])*(BE2581>0)*(BF2581>0)","v":0}]
[null,"Venta de otros activos",{"$f":"+' '!D1356","v":0},null,null,null,null,null,null,null,null,null,null,null,null,null,null,null,null,null,null,null,null,null,null,null,null,null,null,null,null,null,null,null,null,null,null,null,null,null,null,null,null,null,null,null,null,null,null,null,null,null,null,null,null,"Tasa Mínima",1,30,{"$f":"(BD2590=Parametros[Segmento])*(BE2590>0)*(BF2590>0)","v":0}]
[null,"Total otras ganancias ocasionales ",{"$f":"+' '!D1502","v":0},null,null,null,null,null,null,null,null,null,null,null,null,null,null,null,null,null,null,null,null,null,null,null,null,null,null,null,null,null,null,null,null,null,null,null,null,null,null,null,null,null,null,null,null,null,null,null,null,null,null,null,null,"Tasa Mínima",1,30,{"$f":"(BD2595=Parametros[Segmento])*(BE2595>0)*(BF2595>0)","v":0}]
[null,"En venta de bienes",{"$f":"+' '!D1061","v":0},null,null,null,null,null,null,null,null,null,null,null,null,null,null,null,null,null,null,null,null,null,null,null,null,null,null,null,null,null,null,null,null,null,null,null,null,null,null,null,null,null,null,null,null,null,null,null,null,null,null,null,null,"Tasa Mínima",1,30,{"$f":"(BD2599=Parametros[Segmento])*(BE2599>0)*(BF2599>0)","v":0}]
[null,"De Administración - Mano de Obra",{"$f":"+' '!D1802","v":0},null,null,null,null,null,null,null,null,null,null,null,null,null,null,null,null,null,null,null,null,null,null,null,null,null,null,null,null,null,null,null,null,null,null,null,null,null,null,null,null,null,null,null,null,null,null,null,null,null,null,null,null,"Tasa Mínima",1,30,{"$f":"(BD2612=Parametros[Segmento])*(BE2612>0)*(BF2612>0)","v":0}]
[null,"Otros gastos de distribución y ventas",{"$f":"+' '!D2035","v":0},null,null,null,null,null,null,null,null,null,null,null,null,null,null,null,null,null,null,null,null,null,null,null,null,null,null,null,null,null,null,null,null,null,null,null,null,null,null,null,null,null,null,null,null,null,null,null,null,null,null,null,null,"Tasa Mínima",1,30,{"$f":"(BD2616=Parametros[Segmento])*(BE2616>0)*(BF2616>0)","v":0}]
[null,"Utilidad (o Pérdida) Contable antes de impuestos ",null,{"$f":"+C2622","v":0},null,{"$f":"+C2622","v":0},null,null,null,null,null,null,null,null,null,null,null,null,null,null,null,null,null,null,null,null,null,null,null,null,null,null,null,null,null,null,null,null,null,null,null,null,null,null,null,null,null,null,null,null,null,null,null,null,null,"Tasa Mínima",1,30,{"$f":"(BD2626=Parametros[Segmento])*(BE2626>0)*(BF2626>0)","v":0}]
[null,null,null,null,null,null,null,null,null,null,null,null,null,null,null,null,null,null,null,null,null,null,null,null,null,null,null,null,null,null,null,null,null,null,null,null,null,null,null,null,null,null,null,null,null,null,null,null,null,null,null,null,null,{"$f":"SUBSTITUTE($B$2493,CHAR(10),\"\")","v":"Retenciones en la fuente"},{"$f":"SUBSTITUTE($B$2627,CHAR(10),\"\")","v":"Menos Ingresos no constitutivos de renta "},"Tasa Mínima",{"$f":"(BC2633=OFFSET(BC2633,1,0))*1","v":0},30,{"$f":"(BD2633=Parametros[Segmento])*(BE2633>0)*(BF2633>0)","v":0}]
[null,null,null,null,null,null,null,null,null,null,null,null,null,null,null,null,null,null,null,null,null,null,null,null,null,null,null,null,null,null,null,null,null,null,null,null,null,null,null,null,null,null,null,null,null,null,null,null,null,null,null,null,null,{"$f":"SUBSTITUTE($B$2493,CHAR(10),\"\")","v":"Retenciones en la fuente"},{"$f":"SUBSTITUTE($B$2634,CHAR(10),\"\")","v":"Menos ingresos contables no fiscales "},"Tasa Mínima",{"$f":"(BC2640=OFFSET(BC2640,1,0))*1","v":1},30,{"$f":"(BD2640=Parametros[Segmento])*(BE2640>0)*(BF2640>0)","v":0}]
[null,null,null,null,null,null,null,null,null,null,null,null,null,null,null,null,null,null,null,null,null,null,null,null,null,null,null,null,null,null,null,null,null,null,null,null,null,null,null,null,null,null,null,null,null,null,null,null,null,null,null,null,null,{"$f":"SUBSTITUTE($B$2493,CHAR(10),\"\")","v":"Retenciones en la fuente"},{"$f":"SUBSTITUTE($B$2645,CHAR(10),\"\")","v":"Menos Ganancias Ocasionales "},"Tasa Mínima",{"$f":"(BC2650=OFFSET(BC2650,1,0))*1","v":1},30,{"$f":"(BD2650=Parametros[Segmento])*(BE2650>0)*(BF2650>0)","v":0}]
[null,"Mayor gasto por depreciación contable ",null,null,null,null,null,null,null,null,null,null,null,null,null,null,null,null,null,null,null,null,null,null,null,null,null,null,null,null,null,null,null,null,null,null,null,null,null,null,null,null,null,null,null,null,null,null,null,null,null,null,null,{"$f":"SUBSTITUTE($B$2493,CHAR(10),\"\")","v":"Retenciones en la fuente"},{"$f":"SUBSTITUTE($B$2652,CHAR(10),\"\")","v":"Más Gastos contables no deducibles "},"Tasa Mínima",{"$f":"(BC2654=OFFSET(BC2654,1,0))*1","v":1},30,{"$f":"(BD2654=Parametros[Segmento])*(BE2654>0)*(BF2654>0)","v":0}]
[null,"Gastos Diversos ",null,null,null,null,null,null,null,null,null,null,null,null,null,null,null,null,null,null,null,null,null,null,null,null,null,null,null,null,null,null,null,null,null,null,null,null,null,null,null,null,null,null,null,null,null,null,null,null,null,null,null,"Retenciones en la fuente","Más Gastos contables no deducibles ","Tasa Mínima",1,30,{"$f":"(BD2659=Parametros[Segmento])*(BE2659>0)*(BF2659>0)","v":0}]
[null,null,null,null,null,null,null,null,null,null,null,null,null,null,null,null,null,null,null,null,null,null,null,null,null,null,null,null,null,null,null,null,null,null,null,null,null,null,null,null,null,null,null,null,null,null,null,null,null,null,null,null,null,{"$f":"SUBSTITUTE($B$2493,CHAR(10),\"\")","v":"Retenciones en la fuente"},{"$f":"SUBSTITUTE($B$2666,CHAR(10),\"\")","v":"Más Pérdidas en venta de activos fijos poseídos por más de dos años "},"Tasa Mínima",{"$f":"(BC2668=OFFSET(BC2668,1,0))*1","v":0},30,{"$f":"(BD2668=Parametros[Segmento])*(BE2668>0)*(BF2668>0)","v":0}]
[null,"Menos Rentas Exentas ",null,{"$f":"SUM(C2677:C2681)","v":0},null,{"$f":"SUM(E2677:E2681)","v":0},null,null,null,null,null,null,null,null,null,null,null,null,null,null,null,null,null,null,null,null,null,null,null,null,null,null,null,null,null,null,null,null,null,null,null,null,null,null,null,null,null,null,null,null,null,null,null,null,null,"Tasa Mínima",1,30,{"$f":"(BD2676=Parametros[Segmento])*(BE2676>0)*(BF2676>0)","v":0}]
[null,"Otras rentas líquidas gravables ",{"$f":"+' '!H2327","v":0},null,null,null,null,null,null,null,null,null,null,null,null,null,null,null,null,null,null,null,null,null,null,null,null,null,null,null,null,null,null,null,null,null,null,null,null,null,null,null,null,null,null,null,null,null,null,null,null,null,null,null,null,"Tasa Mínima",1,30,{"$f":"(BD2685=Parametros[Segmento])*(BE2685>0)*(BF2685>0)","v":0}]
[null,"Enajenación o cesión de derechos ",{"$f":"+' '!H1376","v":0},null,null,null,null,null,null,null,null,null,null,null,null,null,null,null,null,null,null,null,null,null,null,null,null,null,null,null,null,null,null,null,null,null,null,null,null,null,null,null,null,null,null,null,null,null,null,null,null,null,null,null,null,"Tasa Mínima",1,30,{"$f":"(BD2693=Parametros[Segmento])*(BE2693>0)*(BF2693>0)","v":0}]
[null,"Renta líquida Gravable ",null,{"$f":"+IF(D2669>D2670,D2669-D2671-D2676+D2682+D2689,D2670-D2671-D2676+D2682+D2689)","v":0},null,{"$f":"+IF(F2669>F2670,F2669-F2676+F2682+F2689,F2670-F2671-F2676+F2682+F2689)","v":0},null,null,null,null,null,null,null,null,null,null,null,null,null,null,null,null,null,null,null,null,null,null,null,null,null,null,null,null,null,null,null,null,null,null,null,null,null,null,null,null,null,null,null,null,null,null,null,null,null,"Tasa Mínima",1,30,{"$f":"(BD2699=Parametros[Segmento])*(BE2699>0)*(BF2699>0)","v":0}]
[null,"Ganancia Ocasional ",null,{"$f":"+IF((D2701-D2708-D2709)>0,(D2701-D2708-D2709),0)","v":0},null,{"$f":"+IF((F2701-F2708-F2709)>0,(F2701-F2708-F2709),0)","v":0},null,null,null,null,null,null,null,null,null,null,null,null,null,null,null,null,null,null,null,null,null,null,null,null,null,null,null,null,null,null,null,null,null,null,null,null,null,null,null,null,null,null,null,null,null,null,null,null,null,"Tasa Mínima",1,30,{"$f":"(BD2710=Parametros[Segmento])*(BE2710>0)*(BF2710>0)","v":0}]
[null,"Impuesto de renta sobre renta líquida pasiva obtenida con ECE",null,{"$f":"+ROUND(IF(D2699>0,(D2700*$C$2495),0),-3)","v":0},null,{"$f":"+ROUND(IF(F2699>0,(F2700*$C$2495),0),-3)","v":0},null,null,null,null,null,null,null,null,null,null,null,null,null,null,null,null,null,null,null,null,null,null,null,null,null,null,null,null,null,null,null,null,null,null,null,null,null,null,null,null,null,null,null,null,null,null,null,null,null,"Tasa Mínima",1,30,{"$f":"(BD2713=Parametros[Segmento])*(BE2713>0)*(BF2713>0)","v":0}]
[null,"Descuentos tributarios sobre ganancias ocasionales ",{"$f":"+IF(Renta_por_comparacion_patrimonial>0,Resumen!I79,Resumen!G79)","v":0},null,null,null,null,null,null,null,null,null,null,null,null,null,null,null,null,null,null,null,null,null,null,null,null,null,null,null,null,null,null,null,null,null,null,null,null,null,null,null,null,null,null,null,null,null,null,null,null,null,null,null,null,"Tasa Mínima",1,30,{"$f":"(BD2719=Parametros[Segmento])*(BE2719>0)*(BF2719>0)","v":0}]
[0.88,99.67,23.56,0,0,4,null,null,null,null,null,null,null,null,null,null,null,null,null,null,null,null,null,null,null,null,null,null,null,null,null,null,null,null,null,null,null,null,null,null,null,null,null,null,null,null,null,null,null,null,null,null,null,null,null,"Cálculo impto",0,15,{"$f":"(BD2728=Parametros[Segmento])*(BE2728>0)*(BF2728>0)","v":0}]
[null,null,null,null,null,null,null,null,null,null,null,null,null,null,null,null,null,null,null,null,null,null,null,null,null,null,null,null,null,null,null,null,null,null,null,null,null,null,null,null,null,null,null,null,null,null,null,null,null,null,null,null,null,null,null,"Cálculo impto",1,30,{"$f":"(BD2736=Parametros[Segmento])*(BE2736>0)*(BF2736>0)","v":0}]
[null,"Impuesto de renta sobre las rentas líquidas gravables",{"$f":"+(C2743*35%)+(C2743*(65%*10%))","v":0},null,null,null,null,null,null,null,null,null,null,null,null,null,null,null,null,null,null,null,null,null,null,null,null,null,null,null,null,null,null,null,null,null,null,null,null,null,null,null,null,null,null,null,null,null,null,null,null,null,null,null,null,"Cálculo impto",1,30,{"$f":"(BD2745=Parametros[Segmento])*(BE2745>0)*(BF2745>0)","v":0}]
[null,"Impuesto de renta sobre las rentas líquidas gravables",{"$f":"IF(C2748>0,C2748*C2749,0)","v":0},null,null,null,null,null,null,null,null,null,null,null,null,null,null,null,null,null,null,null,null,null,null,null,null,null,null,null,null,null,null,null,null,null,null,null,null,null,null,null,null,null,null,null,null,null,null,null,null,null,null,null,null,"Cálculo impto",1,30,{"$f":"(BD2750=Parametros[Segmento])*(BE2750>0)*(BF2750>0)","v":0}]
[null,null,null,null,"SIN CONCILIACION","CON CONCILIACION",null,null,null,null,null,null,null,null,null,null,null,null,null,null,null,null,null,null,null,null,null,null,null,null,null,null,null,null,null,null,null,null,null,null,null,null,null,null,null,null,null,null,null,null,null,null,null,null,null,"Anticipo de renta",1,30,{"$f":"(BD2762=Parametros[Segmento])*(BE2762>0)*(BF2762>0)","v":0}]
[null,"Retenciones en la fuente que le practicaron al contribuyente durante el año gravable 2024",null,{"$f":"IF(Renta_por_comparacion_patrimonial>0,F2767,E2767)","v":0},{"$f":"Resumen!G89","v":0},{"$f":"Resumen!G89","v":0},null,null,null,null,null,null,null,null,null,null,null,null,null,null,null,null,null,null,null,null,null,null,null,null,null,null,null,null,null,null,null,null,null,null,null,null,null,null,null,null,null,null,null,null,null,null,null,null,null,"Anticipo de renta",1,30,{"$f":"(BD2767=Parametros[Segmento])*(BE2767>0)*(BF2767>0)","v":0}]
[null,"(-)","Retenciones en la fuente que le practicaron al contribuyente durante el año gravable 2024",{"$f":"IF(Renta_por_comparacion_patrimonial>0,F2779,E2779)","v":0},{"$f":"+IF(E2768=\"Esta es la primera vez\",E2767,0)","v":0},{"$f":"+IF(F2768=\"Esta es la primera vez\",F2767,0)","v":0},null,null,null,null,null,null,null,null,null,null,null,null,null,null,null,null,null,null,null,null,null,null,null,null,null,null,null,null,null,null,null,null,null,null,null,null,null,null,null,null,null,null,null,null,null,null,null,null,null,"Anticipo de renta",1,30,{"$f":"(BD2779=Parametros[Segmento])*(BE2779>0)*(BF2779>0)","v":0}]
[null,null,null,null,null,null,null,null,null,null,null,null,null,null,null,null,null,null,null,null,null,null,null,null,null,null,null,null,null,null,null,null,null,null,null,null,null,null,null,null,null,null,null,null,null,null,null,null,null,null,null,null,null,null,null,"Anticipo de renta",1,30,{"$f":"(BD2781=Parametros[Segmento])*(BE2781>0)*(BF2781>0)","v":0}]
[null,"(=)","Anticipo de renta para el año gravable siguiente ",{"$f":"IF(Renta_por_comparacion_patrimonial>0,F2788,E2788)","v":0},{"$f":"IF((E2786-E2787)>0,(E2786-E2787),0)","v":0},{"$f":"IF((F2786-F2787)>0,(F2786-F2787),0)","v":0},null,null,null,null,null,null,null,null,null,null,null,null,null,null,null,null,null,null,null,null,null,null,null,null,null,null,null,null,null,null,null,null,null,null,null,null,null,null,null,null,null,null,null,null,null,null,null,null,null,"Anticipo de renta",1,30,{"$f":"(BD2788=Parametros[Segmento])*(BE2788>0)*(BF2788>0)","v":0}]
[null,null,null,null,null,null,null,null,null,null,null,null,null,null,null,null,null,null,null,null,null,null,null,null,null,null,null,null,null,null,null,null,null,null,null,null,null,null,null,null,null,null,null,null,null,null,null,null,null,null,null,null,null,null,null,"Anticipo de renta",1,30,{"$f":"(BD2795=Parametros[Segmento])*(BE2795>0)*(BF2795>0)","v":0}]
[null,"(*)","Porcentaje de anticipo de renta ",{"$f":"IF(Renta_por_comparacion_patrimonial>0,F2805,E2805)","v":0},{"$f":"IF(E2768=\"Esta es la tercera vez o más\",75%,0)","v":0},{"$f":"IF(F2768=\"Esta es la tercera vez o más\",75%,0)","v":0},null,null,null,null,null,null,null,null,null,null,null,null,null,null,null,null,null,null,null,null,null,null,null,null,null,null,null,null,null,null,null,null,null,null,null,null,null,null,null,null,null,null,null,null,null,null,null,null,null,"Anticipo de renta",1,30,{"$f":"(BD2805=Parametros[Segmento])*(BE2805>0)*(BF2805>0)","v":0}]
[null,null,null,null,null,null,null,null,null,null,null,null,null,null,null,null,null,null,null,null,null,null,null,null,null,null,null,null,null,null,null,null,null,null,null,null,null,null,null,null,null,null,null,null,null,null,null,null,null,null,null,null,null,null,null,"Sanciones",1,30,{"$f":"(BD2816=Parametros[Segmento])*(BE2816>0)*(BF2816>0)","v":0}]
[null,null,null,"Sanción a pagar",{"$f":"IF(E2819>0,ROUND(E2819*E2820*E2821,-3),0)","v":0},null,null,null,null,null,null,null,null,null,null,null,null,null,null,null,null,null,null,null,null,null,null,null,null,null,null,null,null,null,null,null,null,null,null,null,null,null,null,null,null,null,null,null,null,null,null,null,null,null,null,"Sanciones",1,30,{"$f":"(BD2822=Parametros[Segmento])*(BE2822>0)*(BF2822>0)","v":0}]
[null,"Meses o fracción de meses de extemporaneidad ",null,null,{"$f":"IF(E2828>0,E2814,0)","v":0},null,null,null,null,null,null,null,null,null,null,null,null,null,null,null,null,null,null,null,null,null,null,null,null,null,null,null,null,null,null,null,null,null,null,null,null,null,null,null,null,null,null,null,null,null,null,null,null,null,null,"Sanciones",1,30,{"$f":"(BD2830=Parametros[Segmento])*(BE2830>0)*(BF2830>0)","v":0}]
[null,"Porcentaje sanción por cada mes o fracción de mes de extemporaneidad",null,null,0.01,null,null,null,null,null,null,null,null,null,null,null,null,null,null,null,null,null,null,null,null,null,null,null,null,null,null,null,null,null,null,null,null,null,null,null,null,null,null,null,null,null,null,null,null,null,null,null,null,null,null,"Sanciones",1,30,{"$f":"(BD2839=Parametros[Segmento])*(BE2839>0)*(BF2839>0)","v":0}]
[null,"Meses o fracción de meses de extemporaneidad ",null,null,{"$f":"IF(E2838>0,E2814,0)","v":0},null,null,null,null,null,null,null,null,null,null,null,null,null,null,null,null,null,null,null,null,null,null,null,null,null,null,null,null,null,null,null,null,null,null,null,null,null,null,null,null,null,null,null,null,null,null,null,null,null,null,"Sanciones",1,30,{"$f":"(BD2840=Parametros[Segmento])*(BE2840>0)*(BF2840>0)","v":0}]
[null,"Cálculo de la sanción por extemporaneidad después del emplazamiento por no declarar ",null,null,null,null,null,null,null,null,null,null,null,null,null,null,null,null,null,null,null,null,null,null,null,null,null,null,null,null,null,null,null,null,null,null,null,null,null,null,null,null,null,null,null,null,null,null,null,null,null,null,null,null,null,"Sanciones",1,30,{"$f":"(BD2848=Parametros[Segmento])*(BE2848>0)*(BF2848>0)","v":0}]
[null,"Meses o fracción de meses de extemporaneidad ",null,null,{"$f":"IF(E2859>0,E2814,0)","v":0},null,null,null,null,null,null,null,null,null,null,null,null,null,null,null,null,null,null,null,null,null,null,null,null,null,null,null,null,null,null,null,null,null,null,null,null,null,null,null,null,null,null,null,null,null,null,null,null,null,null,"Sanciones",1,30,{"$f":"(BD2861=Parametros[Segmento])*(BE2861>0)*(BF2861>0)","v":0}]
[null,"La sanción tampoco puede exceder el equivalente a cuatro veces saldo a favor, si lo hay, o el equivalente a 5.000 UVT, si no hay saldo a favor",null,null,{"$f":"IF(OR(E2850>0,E2869>0,E2819>0,E2828>0,E2838>0),0,IF(AND(E2859>0,(Resumen!G84+Resumen!G85+Resumen!G89-Resumen!G80-Resumen!G90)>0),((Resumen!G84+Resumen!G85+Resumen!G89-Resumen!G80-Resumen!G90)*4),(' '!F169*5000)))","v":248995000},null,null,null,null,null,null,null,null,null,null,null,null,null,null,null,null,null,null,null,null,null,null,null,null,null,null,null,null,null,null,null,null,null,null,null,null,null,null,null,null,null,null,null,null,null,null,null,null,null,null,"Sanciones",1,30,{"$f":"(BD2865=Parametros[Segmento])*(BE2865>0)*(BF2865>0)","v":0}]
[null,"La sanción tampoco puede exceder el equivalente a cuatro veces saldo a favor, si lo hay, o el equivalente a 5.000 UVT, si no hay saldo a favor",null,null,{"$f":"IF(OR(E2819>0,E2828>0,E2838>0,E2850>0,E2859>0),0,IF(AND(E2869>0,(Resumen!G84+Resumen!G85+Resumen!G89-Resumen!G80-Resumen!G90)>0),((Resumen!G84+Resumen!G85+Resumen!G89-Resumen!G80-Resumen!G90)*4),(5000*' '!F169)))","v":248995000},null,null,null,null,null,null,null,null,null,null,null,null,null,null,null,null,null,null,null,null,null,null,null,null,null,null,null,null,null,null,null,null,null,null,null,null,null,null,null,null,null,null,null,null,null,null,null,null,null,null,"Sanciones",1,30,{"$f":"(BD2875=Parametros[Segmento])*(BE2875>0)*(BF2875>0)","v":0}]
[null,"¿La sanción es liquidada por el contribuyente?",null,null,null,null,null,null,null,null,null,null,null,null,null,null,null,null,null,null,null,null,null,null,null,null,null,null,null,null,null,null,null,null,null,null,null,null,null,null,null,null,null,null,null,null,null,null,null,null,null,null,null,null,null,"Sanciones",1,30,{"$f":"(BD2882=Parametros[Segmento])*(BE2882>0)*(BF2882>0)","v":0}]
[null,"¿Aplica reducción de la sanción al 75%? ",null,null,{"$f":"+IF(E2888=\"Sí\",\"No aplica\",IF(AND(E2882=\"Sí\",E2884=\"No\",E2885=\"No\"),\"Sí\",\"No\"))","v":"No"},null,null,null,null,null,null,null,null,null,null,null,null,null,null,null,null,null,null,null,null,null,null,null,null,null,null,null,null,null,null,null,null,null,null,null,null,null,null,null,null,null,null,null,null,null,null,null,null,null,null,"Sanciones",{"$f":"($E$2882=Listas!$B$2)*1","v":0},30,{"$f":"(BD2889=Parametros[Segmento])*(BE2889>0)*(BF2889>0)","v":0}]
[null,"¿Aplica reducción de la sanción al 50%? ",null,null,{"$f":"+IF(AND(E2893=\"Sí\",E2894=\"No\",E2896=\"Sí\"),\"Sí\",\"No\")","v":"No"},null,null,null,null,null,null,null,null,null,null,null,null,null,null,null,null,null,null,null,null,null,null,null,null,null,null,null,null,null,null,null,null,null,null,null,null,null,null,null,null,null,null,null,null,null,null,null,null,null,null,"Sanciones",{"$f":"($E$2893=Listas!$B$2)*$BE$2893","v":0},30,{"$f":"(BD2899=Parametros[Segmento])*(BE2899>0)*(BF2899>0)","v":0}]
[null,"¿Aplica reducción de la sanción al 75%? ",null,null,{"$f":"+IF(E2899=\"Sí\",\"No aplica\",IF(AND(E2893=\"Sí\",E2895=\"No\",E2896=\"Sí\"),\"Sí\",\"No\"))","v":"No"},null,null,null,null,null,null,null,null,null,null,null,null,null,null,null,null,null,null,null,null,null,null,null,null,null,null,null,null,null,null,null,null,null,null,null,null,null,null,null,null,null,null,null,null,null,null,null,null,null,null,"Sanciones",{"$f":"($E$2893=Listas!$B$2)*$BE$2893","v":0},30,{"$f":"(BD2900=Parametros[Segmento])*(BE2900>0)*(BF2900>0)","v":0}]
[null,null,null,null,null,null,null,null,null,null,null,null,null,null,null,null,null,null,null,3,3,4,null,null,null,null,5,null,null,null,6,null,null,null,null,null,null,null,null,null,null,null,null,null,null,null,null,null,null,null,null,null,null,null,null,"Formulario 110",1,15.8,{"$f":"(BD2912=Parametros[Segmento])*(BE2912>0)*(BF2912>0)","v":0}]
[null,null,null,"Corrección:   ",null,null,null,"25. Cód.",null,null,null,null,null,null,"26. No. Formulario anterior",null,null,null,null,null,null,null,null,null,null,null,"30. Renuncio a pertenecer al Régimen Tributario especial",null,null,null,null,null,null,null,null,null,null,null,null,null,"31.Vinculado al pago de obras por impuestos",null,null,null,null,null,null,null,null,null,null,null,null,null,null,"Formulario 110",1,22.1,{"$f":"(BD2917=Parametros[Segmento])*(BE2917>0)*(BF2917>0)","v":0}]
[null,null,null,"Pasivos",null,null,null,null,null,null,null,null,null,null,null,null,null,null,null,null,null,45,{"$f":"+Resumen!G18","v":0},null,null,null,null,null,"De dividendos y/o participaciones gravadas a la tarifa del 10% año 2022 y al 20% año 2023 y siguientes (base casilla 54)",null,null,null,null,null,null,null,null,null,null,null,null,null,null,null,86,null,{"$f":"+Resumen!G67","v":0},null,null,null,null,null,null,null,null,"Formulario 110",1,30,{"$f":"(BD2929=Parametros[Segmento])*(BE2929>0)*(BF2929>0)","v":0}]
[null,null,null,"Dividendos y/o participaciones distribuidos por entidades no residentes en Colombia a una CHC y prima en colocación de acciones",null,null,null,null,null,null,null,null,null,null,null,null,null,null,null,null,null,50,{"$f":"+Resumen!G24","v":0},null,null,null,null,"Total impuesto sobre las rentas líquidas gravables ",null,null,null,null,null,null,null,null,null,null,null,null,null,null,null,null,91,null,{"$f":"IF(Renta_por_comparacion_patrimonial>0,Resumen!I72,Resumen!G72)","v":0},null,null,null,null,null,null,null,null,"Formulario 110",1,30,{"$f":"(BD2934=Parametros[Segmento])*(BE2934>0)*(BF2934>0)","v":0}]
[null,null,null,"Devoluciones, rebajas y descuentos en ventas",null,null,null,null,null,null,null,null,null,null,null,null,null,null,null,null,null,59,{"$f":"+Resumen!G33","v":0},null,null,null,null,"Valor inversión obras por impuestos hasta del 50% del valor de la casilla 99 (modalidad de pago 1)",null,null,null,null,null,null,null,null,null,null,null,null,null,null,null,null,100,null,{"$f":"+Resumen!G81","v":0},null,null,null,null,null,null,null,null,"Formulario 110",1,30,{"$f":"(BD2943=Parametros[Segmento])*(BE2943>0)*(BF2943>0)","v":0}]
[null,null,null,"Total costos y gastos deducibles",null,null,null,null,null,null,null,null,null,null,null,null,null,null,null,null,null,67,{"$f":"+Resumen!G42","v":0},null,null,null,null,"Anticipo renta para el año gravable siguiente",null,null,null,null,null,null,null,null,null,null,null,null,null,null,null,null,108,null,{"$f":"IF(Renta_por_comparacion_patrimonial>0,Resumen!I90,Resumen!H90)","v":0},null,null,null,null,null,null,null,null,"Formulario 110",1,30,{"$f":"(BD2951=Parametros[Segmento])*(BE2951>0)*(BF2951>0)","v":0}]
[null,null,null," Pérdida líquida del ejercicio",null,null,null,null,null,null,null,null,null,null,null,null,null,null,null,null,null,73,{"$f":"+Resumen!G50","v":0},null,null,null,null,"Total saldo a favor",null,null,null,null,null,null,null,null,null,null,null,null,null,null,null,null,114,null,{"$f":"+Resumen!G96","v":0},null,null,null,null,null,null,null,null,"Formulario 110",1,30,{"$f":"(BD2957=Parametros[Segmento])*(BE2957>0)*(BF2957>0)","v":0}]
[null,null,null,"Renta presuntiva",null,null,null,null,null,null,null,null,null,null,null,null,null,null,null,null,null,76,{"$f":"+Resumen!G53","v":0},null,null,null,"Aporte voluntario artículo 244-1 del ET",null,null,null,null,null,null,null,null,null,null,null,null,null,null,null,null,null,117,null,{"$f":"+Resumen!G99","v":0},null,null,null,null,null,null,null,null,"Formulario 110",1,30,{"$f":"(BD2960=Parametros[Segmento])*(BE2960>0)*(BF2960>0)","v":0}]
[2.56,4.22,104.89,31.56,4,null,null,null,null,null,null,null,null,null,null,null,null,null,null,null,null,null,null,null,null,null,null,null,null,null,null,null,null,null,null,null,null,null,null,null,null,null,null,null,null,null,null,null,null,null,null,null,null,null,null,"Conciliación Patrimonial",0,15,{"$f":"(BD2971=Parametros[Segmento])*(BE2971>0)*(BF2971>0)","v":0}]
[null,"Ganancias ocasionales",null,{"$f":"+Resumen!I62","v":0},null,null,null,null,null,null,null,null,null,null,null,null,null,null,null,null,null,null,null,null,null,null,null,null,null,null,null,null,null,null,null,null,null,null,null,null,null,null,null,null,null,null,null,null,null,null,null,null,null,null,null,"Conciliación Patrimonial",1,30,{"$f":"(BD2977=Parametros[Segmento])*(BE2977>0)*(BF2977>0)","v":0}]
[null,"Cálculos",null,null,null,null,null,null,null,null,null,null,null,null,null,null,null,null,null,null,null,null,null,null,null,null,null,null,null,null,null,null,null,null,null,null,null,null,null,null,null,null,null,null,null,null,null,null,null,null,null,null,null,null,null,"Conciliación Patrimonial",1,30,{"$f":"(BD2985=Parametros[Segmento])*(BE2985>0)*(BF2985>0)","v":0}]
[null,"(=)","Renta que puede justificar incrementos patrimoniales ",{"$f":"IF((D2989+D2990+D2991-D2992-D2993)>0,(D2989+D2990+D2991-D2992-D2993),0)","v":0},null,null,null,null,null,null,null,null,null,null,null,null,null,null,null,null,null,null,null,null,null,null,null,null,null,null,null,null,null,null,null,null,null,null,null,null,null,null,null,null,null,null,null,null,null,null,null,null,null,null,null,"Conciliación Patrimonial",1,30,{"$f":"(BD2994=Parametros[Segmento])*(BE2994>0)*(BF2994>0)","v":0}]
[null,"Impuestos pagados en el exterior ",null,{"$f":"+ROUND(SUM(C3003:C3004),-3)","v":0},null,null,null,null,null,null,null,null,null,null,null,null,null,null,null,null,null,null,null,null,null,null,null,null,null,null,null,null,null,null,null,null,null,null,null,null,null,null,null,null,null,null,null,null,null,null,null,null,null,null,null,"Descuentos Tributarios",1,30,{"$f":"(BD3002=Parametros[Segmento])*(BE3002>0)*(BF3002>0)","v":0}]
[null,null,null,null,null,null,null,null,null,null,null,null,null,null,null,null,null,null,null,null,null,null,null,null,null,null,null,null,null,null,null,null,null,null,null,null,null,null,null,null,null,null,null,null,null,null,null,null,null,null,null,null,null,{"$f":"SUBSTITUTE($B$2998,CHAR(10),\"\")","v":"Descuentos Tributarios "},{"$f":"SUBSTITUTE($B$3009,CHAR(10),\"\")","v":"Impuestos pagados en el exterior por Ganancias Ocasionales "},"Descuentos Tributarios",{"$f":"(BC3011=OFFSET(BC3011,1,0))*1","v":0},30,{"$f":"(BD3011=Parametros[Segmento])*(BE3011>0)*(BF3011>0)","v":0}]
[null,"Valor de la inversión ",null,null,null,null,null,null,null,null,null,null,null,null,null,null,null,null,null,null,null,null,null,null,null,null,null,null,null,null,null,null,null,null,null,null,null,null,null,null,null,null,null,null,null,null,null,null,null,null,null,null,null,null,null,"Descuentos Tributarios",1,30,{"$f":"(BD3016=Parametros[Segmento])*(BE3016>0)*(BF3016>0)","v":0}]
[null,"Valor permitido por este descuento ",null,{"$f":"+IF((D3016*D3017)>D3019,D3019,(D3016*D3017))","v":0},null,null,null,null,null,null,null,null,null,null,null,null,null,null,null,null,null,null,null,null,null,null,null,null,null,null,null,null,null,null,null,null,null,null,null,null,null,null,null,null,null,null,null,null,null,null,null,null,null,null,null,"Descuentos Tributarios",1,30,{"$f":"(BD3020=Parametros[Segmento])*(BE3020>0)*(BF3020>0)","v":0}]
[null,"Inversiones realizadas en control, conservación y mejoramiento del medio ambiente",null,null,"Ok",null,null,null,null,null,null,null,null,null,null,null,null,null,null,null,null,null,null,null,null,null,null,null,null,null,null,null,null,null,null,null,null,null,null,null,null,null,null,null,null,null,null,null,null,null,null,null,null,null,null,"Descuentos Tributarios",1,30,{"$f":"(BD3030=Parametros[Segmento])*(BE3030>0)*(BF3030>0)","v":0}]
[null,"Valor inicialmente permitido como descuento ",null,{"$f":"+D3035*D3036","v":0},null,null,null,null,null,null,null,null,null,null,null,null,null,null,null,null,null,null,null,null,null,null,null,null,null,null,null,null,null,null,null,null,null,null,null,null,null,null,null,null,null,null,null,null,null,null,null,null,null,null,null,"Descuentos Tributarios",1,30,{"$f":"(BD3037=Parametros[Segmento])*(BE3037>0)*(BF3037>0)","v":0}]
[null,"Límite individual (25% de la inversión)",null,0.25,null,null,null,null,null,null,null,null,null,null,null,null,null,null,null,null,null,null,null,null,null,null,null,null,null,null,null,null,null,null,null,null,null,null,null,null,null,null,null,null,null,null,null,null,null,null,null,null,null,null,null,"Descuentos Tributarios",1,30,{"$f":"(BD3044=Parametros[Segmento])*(BE3044>0)*(BF3044>0)","v":0}]
[null,"Donaciones realizadas a través del ICETEX para el financiamiento de educación de quienes ingresen a la Fuerza Publica",null,null,null,null,null,null,null,null,null,null,null,null,null,null,null,null,null,null,null,null,null,null,null,null,null,null,null,null,null,null,null,null,null,null,null,null,null,null,null,null,null,null,null,null,null,null,null,null,null,null,null,null,null,"Descuentos Tributarios",1,30,{"$f":"(BD3054=Parametros[Segmento])*(BE3054>0)*(BF3054>0)","v":0}]
[null,"Valor de la donación",null,null,null,null,null,null,null,null,null,null,null,null,null,null,null,null,null,null,null,null,null,null,null,null,null,null,null,null,null,null,null,null,null,null,null,null,null,null,null,null,null,null,null,null,null,null,null,null,null,null,null,null,null,"Descuentos Tributarios",1,30,{"$f":"(BD3063=Parametros[Segmento])*(BE3063>0)*(BF3063>0)","v":0}]
[null,"Valor de la donación",null,null,null,null,null,null,null,null,null,null,null,null,null,null,null,null,null,null,null,null,null,null,null,null,null,null,null,null,null,null,null,null,null,null,null,null,null,null,null,null,null,null,null,null,null,null,null,null,null,null,null,null,null,"Descuentos Tributarios",1,30,{"$f":"(BD3067=Parametros[Segmento])*(BE3067>0)*(BF3067>0)","v":0}]
[null,null,"Valor permitido a tomar como descuento por donaciones y/o inversiones",{"$f":"IF(Renta_por_comparacion_patrimonial>0,+ROUND(IF($D$3078<=F3079,$D$3078,F3079),-3),+ROUND(IF($D$3078<=E3079,$D$3078,E3079),-3))","v":0},{"$f":"+ROUND(IF($D$3078<=E3079,$D$3078,E3079),-3)","v":0},{"$f":"+ROUND(IF($D$3078<=F3079,$D$3078,F3079),-3)","v":0},null,null,null,null,null,null,null,null,null,null,null,null,null,null,null,null,null,null,null,null,null,null,null,null,null,null,null,null,null,null,null,null,null,null,null,null,null,null,null,null,null,null,null,null,null,null,null,null,null,"Descuentos Tributarios",1,30,{"$f":"(BD3080=Parametros[Segmento])*(BE3080>0)*(BF3080>0)","v":0}]
[null,null,null,null,null,null,{"$f":"+IF(AND(OR(D3039>0,D3043>0,D3047>0,D3051>0,D3055>0,D3059>0,D3063>0,D3067>0,D3071>0),D3075>0),(Resumen!G72*30%),(Resumen!G72*25%))","v":0},null,null,null,null,null,null,null,null,null,null,null,null,null,null,null,null,null,null,null,null,null,null,null,null,null,null,null,null,null,null,null,null,null,null,null,null,null,null,null,null,null,null,null,null,null,null,null,null,"Descuentos Tributarios",1,30,{"$f":"(BD3081=Parametros[Segmento])*(BE3081>0)*(BF3081>0)","v":0}]
[null,null,"Valor total descuentos tributarios",{"$f":"IF(Renta_por_comparacion_patrimonial>0,' '!F3089,' '!E3089)","v":0},{"$f":"+D3086+E3080+D3026+D3020+D3008","v":0},{"$f":"+D3086+F3080+D3026+D3020+D3008","v":0},null,null,null,null,null,null,null,null,null,null,null,null,null,null,null,null,null,null,null,null,null,null,null,null,null,null,null,null,null,null,null,null,null,null,null,null,null,null,null,null,null,null,null,null,null,null,null,null,null,"Descuentos Tributarios",1,30,{"$f":"(BD3089=Parametros[Segmento])*(BE3089>0)*(BF3089>0)","v":0}]
[null,null,null,null,null,null,null,null,null,null,null,null,null,null,null,null,null,null,"4. Número de Formulario",null,null,null,null,null,null,null,null,null,null,null,null,null,null,null,null,null,null,null,null,null,null,null,null,null,null,null,null,null,null,null,null,null,null,null,null,"H1 Carátula",1,15.8,{"$f":"(BD3098=Parametros[Segmento])*(BE3098>0)*(BF3098>0)","v":0}]
[null,null,"12.Cod. Dirección Seccional",null,null,null,{"$f":"IF(' '!$D$243=\"\",\"\",' '!$D$243)","v":""},null,null,null,null,null,null,null,null,null,null,"13. Actividad económica principal",null,{"$f":"IF(' '!$D$242=\"\",\"\",' '!$D$242)","v":""},null,null,null,null,null,null,null,null,null,null,null,null,null,null,null,null,null,null,null,null,null,null,null,null,null,null,null,null,null,null,null,null,null,null,null,"H1 Carátula",1,30,{"$f":"(BD3106=Parametros[Segmento])*(BE3106>0)*(BF3106>0)","v":0}]
[null,"32. Entidad Cooperativa (artículo 19-4 Estatuto Tributario)",null,null,null,null,null,null,null,null,null,null,null,null,null,null,null,null,null,null,null,null,null,"N",null,null,null,null,null,null,null,null,null,null,null,null,null,null,null,null,null,null,null,null,null,null,null,null,null,null,null,null,null,null,null,"H1 Carátula",1,15,{"$f":"(BD3112=Parametros[Segmento])*(BE3112>0)*(BF3112>0)","v":0}]
[null,"43. Moneda funcional diferente al peso colombiano",null,null,null,null,null,null,null,null,null,null,null,null,null,null,null,null,null,null,null,null,null,"N",null,null,null,null,null,null,null,null,null,null,null,null,null,null,null,null,null,null,null,null,null,null,null,null,null,null,null,null,null,null,null,"H1 Carátula",1,15,{"$f":"(BD3123=Parametros[Segmento])*(BE3123>0)*(BF3123>0)","v":0}]
[null,"46. Compañía Holding Colombiana",null,null,null,null,null,null,null,null,null,null,null,null,null,null,null,null,null,null,null,null,null,"N",null,null,null,null,null,null,null,null,null,null,null,null,null,null,null,null,null,null,null,null,null,null,null,null,null,null,null,null,null,null,null,"H1 Carátula",1,15,{"$f":"(BD3126=Parametros[Segmento])*(BE3126>0)*(BF3126>0)","v":0}]
[null,"Firma Contador o Revisor Fiscal     994. Con salvedades",null,null,null,null,null,null,null,null,null,null,null,null,null,null,null,null,null,null,null,null,null,null,null,null,null,null,null,null,null,null,null,null,null,null,null,null,null,null,null,null,null,null,null,null,null,null,null,null,null,null,null,null,null,"H1 Carátula",1,12,{"$f":"(BD3140=Parametros[Segmento])*(BE3140>0)*(BF3140>0)","v":0}]
[null,null,null,null,null,null,null,null,null,null,null,null,null,null,null,null,null,null,null,null,null,null,null,null,null,null,null,null,null,null,null,null,null,null,null,null,null,null,null,null,null,null,null,null,null,null,null,null,null,null,null,null,null,null,null,"H2 ESF Patrimonio",1,16.2,{"$f":"(BD3147=Parametros[Segmento])*(BE3147>0)*(BF3147>0)","v":0}]
[null,null,null,null,null,null,null,null,null,null,null,null,null,null,null,null,null,null,null,null,null,null,null,null,null,null,null,null,null,null,null,null,null,null,null,null,null,null,null,null,null,null,null,null,null,null,null,null,null,null,null,null,null,null,null,"H2 ESF Patrimonio",1,16.2,{"$f":"(BD3149=Parametros[Segmento])*(BE3149>0)*(BF3149>0)","v":0}]
[null,16,null,null,"Inversiones e instrumentos financieros derivados (valor bruto)",null,null,{"$f":"+SUM(H3158:H3170)","v":0},{"$f":"+SUM(I3158:I3170)","v":0},{"$f":"+SUM(J3158:J3170)","v":0},{"$f":"+SUM(K3158:K3170)","v":0},{"$f":"+SUM(L3158:L3170)","v":0},null,null,null,null,null,null,null,null,null,null,null,null,null,null,null,null,null,null,null,null,null,null,null,null,null,null,null,null,null,null,null,null,null,null,null,null,null,null,null,null,null,null,null,"H2 ESF Patrimonio",1,30,{"$f":"(BD3157=Parametros[Segmento])*(BE3157>0)*(BF3157>0)","v":0}]
[null,25,null,null,null,"Instrumentos de deuda o patrimonio al valor razonable con cambios en el ORI ",null,{"$f":"SUM(' '!C350:C351)","v":0},null,{"$f":"SUM(' '!F350:F351)","v":0},{"$f":"SUM(' '!E350:E351)","v":0},0,null,null,null,null,null,null,null,null,null,null,null,null,null,null,null,null,null,null,null,null,null,null,null,null,null,null,null,null,null,null,null,null,null,null,null,null,null,null,null,null,null,null,null,"H2 ESF Patrimonio",1,30,{"$f":"(BD3166=Parametros[Segmento])*(BE3166>0)*(BF3166>0)","v":0}]
[null,30,null,null,"Deterioro acumulado de inversiones",null,null,{"$f":"+SUM(H3172:H3178)","v":0},{"$f":"+SUM(I3172:I3178)","v":0},{"$f":"+SUM(J3172:J3178)","v":0},{"$f":"+SUM(K3172:K3178)","v":0},{"$f":"+SUM(L3172:L3178)","v":0},null,null,null,null,null,null,null,null,null,null,null,null,null,null,null,null,null,null,null,null,null,null,null,null,null,null,null,null,null,null,null,null,null,null,null,null,null,null,null,null,null,null,null,"H2 ESF Patrimonio",1,30,{"$f":"(BD3171=Parametros[Segmento])*(BE3171>0)*(BF3171>0)","v":0}]
[null,42,null,null,null,"Cuentas por cobrar en acuerdos de concesión (modelo del activo financiero)",null,{"$f":"SUM(' '!C380:C381)","v":0},null,{"$f":"SUM(' '!F380:F381)","v":0},{"$f":"SUM(' '!E380:E381)","v":0},0,null,null,null,null,null,null,null,null,null,null,null,null,null,null,null,null,null,null,null,null,null,null,null,null,null,null,null,null,null,null,null,null,null,null,null,null,null,null,null,null,null,null,null,"H2 ESF Patrimonio",1,30,{"$f":"(BD3183=Parametros[Segmento])*(BE3183>0)*(BF3183>0)","v":0}]
[null,51,null,null,null,"Otras cuentas y documentos por cobrar",null,{"$f":"SUM(' '!C412:C413)","v":0},null,{"$f":"SUM(' '!F412:F413)","v":0},{"$f":"SUM(' '!E412:E413)","v":0},0,null,null,null,null,null,null,null,null,null,null,null,null,null,null,null,null,null,null,null,null,null,null,null,null,null,null,null,null,null,null,null,null,null,null,null,null,null,null,null,null,null,null,null,"H2 ESF Patrimonio",1,30,{"$f":"(BD3192=Parametros[Segmento])*(BE3192>0)*(BF3192>0)","v":0}]
[null,59,null,null,null,"Cuentas por cobrar a otras partes relacionadas y asociadas",null,{"$f":"+' '!C398","v":0},null,{"$f":"+' '!F398","v":0},{"$f":"+' '!E398","v":0},0,null,null,null,null,null,null,null,null,null,null,null,null,null,null,null,null,null,null,null,null,null,null,null,null,null,null,null,null,null,null,null,null,null,null,null,null,null,null,null,null,null,null,null,"H2 ESF Patrimonio",1,30,{"$f":"(BD3200=Parametros[Segmento])*(BE3200>0)*(BF3200>0)","v":0}]
[null,65,null,null,"En proceso (diferentes de obras o inmuebles en construcción para la venta)",null,null,{"$f":"SUM(' '!C425:C426)","v":0},null,{"$f":"SUM(' '!F425:F426)","v":0},{"$f":"SUM(' '!E425:E426)","v":0},0,null,null,null,null,null,null,null,null,null,null,null,null,null,null,null,null,null,null,null,null,null,null,null,null,null,null,null,null,null,null,null,null,null,null,null,null,null,null,null,null,null,null,null,"H2 ESF Patrimonio",1,30,{"$f":"(BD3206=Parametros[Segmento])*(BE3206>0)*(BF3206>0)","v":0}]
[null,68,null,null,"Obras o inmuebles en construcción para la venta",null,null,{"$f":"SUM(' '!C437:C438)","v":0},null,{"$f":"SUM(' '!F437:F438)","v":0},{"$f":"SUM(' '!E437:E438)","v":0},0,null,null,null,null,null,null,null,null,null,null,null,null,null,null,null,null,null,null,null,null,null,null,null,null,null,null,null,null,null,null,null,null,null,null,null,null,null,null,null,null,null,null,null,"H2 ESF Patrimonio",1,30,{"$f":"(BD3209=Parametros[Segmento])*(BE3209>0)*(BF3209>0)","v":0}]
[null,75,null,null,"Primas de seguros",null,null,{"$f":"+' '!C632","v":0},null,{"$f":"+' '!F632","v":0},{"$f":"+' '!E632","v":0},{"$f":"+H3216+I3216-J3216+K3216","v":0},null,null,null,null,null,null,null,null,null,null,null,null,null,null,null,null,null,null,null,null,null,null,null,null,null,null,null,null,null,null,null,null,null,null,null,null,null,null,null,null,null,null,null,"H2 ESF Patrimonio",1,30,{"$f":"(BD3216=Parametros[Segmento])*(BE3216>0)*(BF3216>0)","v":0}]
[null,85,null,null,"Terrenos",null,null,{"$f":"+SUM(' '!C465:C466)","v":0},null,{"$f":"+SUM(' '!F465:F466)","v":0},{"$f":"+SUM(' '!E465:E466)","v":0},{"$f":"+H3226+I3226-J3226+K3226","v":0},null,null,null,null,null,null,null,null,null,null,null,null,null,null,null,null,null,null,null,null,null,null,null,null,null,null,null,null,null,null,null,null,null,null,null,null,null,null,null,null,null,null,null,"H2 ESF Patrimonio",1,30,{"$f":"(BD3226=Parametros[Segmento])*(BE3226>0)*(BF3226>0)","v":0}]
[null,94,null,"Activos intangibles   ",null,null,null,{"$f":"+H3236+H3247","v":0},{"$f":"+I3236+I3247","v":0},{"$f":"+J3236+J3247","v":0},{"$f":"+K3236+K3247","v":0},{"$f":"+L3236+L3247","v":0},null,null,null,null,null,null,null,null,null,null,null,null,null,null,null,null,null,null,null,null,null,null,null,null,null,null,null,null,null,null,null,null,null,null,null,null,null,null,null,null,null,null,null,"H2 ESF Patrimonio",1,30,{"$f":"(BD3235=Parametros[Segmento])*(BE3235>0)*(BF3235>0)","v":0}]
[null,102,null,null,null,"Otros activos intangibles","Costo  ",{"$f":"+' '!D518","v":0},null,{"$f":"SUM(' '!F519:F520)","v":0},{"$f":"SUM(' '!E519:E520)","v":0},0,null,null,null,null,null,null,null,null,null,null,null,null,null,null,null,null,null,null,null,null,null,null,null,null,null,null,null,null,null,null,null,null,null,null,null,null,null,null,null,null,null,null,null,"H2 ESF Patrimonio",1,30,{"$f":"(BD3243=Parametros[Segmento])*(BE3243>0)*(BF3243>0)","v":0}]
[null,111,null,null,null,"Amortización acumulada de la plusvalía o Good Will",null,{"$f":"+' '!D547","v":0},null,{"$f":"SUM(' '!F548:F549)","v":0},{"$f":"SUM(' '!E548:E549)","v":0},0,null,null,null,null,null,null,null,null,null,null,null,null,null,null,null,null,null,null,null,null,null,null,null,null,null,null,null,null,null,null,null,null,null,null,null,null,null,null,null,null,null,null,null,"H2 ESF Patrimonio",1,30,{"$f":"(BD3252=Parametros[Segmento])*(BE3252>0)*(BF3252>0)","v":0}]
[null,119,null,null,"Mantenidos para la venta",null,null,{"$f":"+SUM(' '!C615:C616)","v":0},null,{"$f":"+SUM(' '!F615:F616)","v":0},{"$f":"+SUM(' '!E615:E616)","v":0},{"$f":"+H3260+I3260-J3260+K3260","v":0},null,null,null,null,null,null,null,null,null,null,null,null,null,null,null,null,null,null,null,null,null,null,null,null,null,null,null,null,null,null,null,null,null,null,null,null,null,null,null,null,null,null,null,"H2 ESF Patrimonio",1,30,{"$f":"(BD3260=Parametros[Segmento])*(BE3260>0)*(BF3260>0)","v":0}]
[null,120,null,null,"Deterioro acumulado activos no corrientes mantenidos para la venta ",null,null,{"$f":"+' '!C617","v":0},null,{"$f":"+' '!F617","v":0},{"$f":"+' '!E617","v":0},{"$f":"+H3261+I3261-J3261+K3261","v":0},null,null,null,null,null,null,null,null,null,null,null,null,null,null,null,null,null,null,null,null,null,null,null,null,null,null,null,null,null,null,null,null,null,null,null,null,null,null,null,null,null,null,null,"H2 ESF Patrimonio",1,30,{"$f":"(BD3261=Parametros[Segmento])*(BE3261>0)*(BF3261>0)","v":0}]
[null,133,null,null,null,"Plantas productoras medidas al costo",null,{"$f":"+SUM(' '!C595:C596)","v":0},null,{"$f":"+SUM(' '!F595:F596)","v":0},{"$f":"+SUM(' '!E595:E596)","v":0},{"$f":"+H3274+I3274-J3274+K3274","v":0},null,null,null,null,null,null,null,null,null,null,null,null,null,null,null,null,null,null,null,null,null,null,null,null,null,null,null,null,null,null,null,null,null,null,null,null,null,null,null,null,null,null,null,"H2 ESF Patrimonio",1,30,{"$f":"(BD3274=Parametros[Segmento])*(BE3274>0)*(BF3274>0)","v":0}]
[null,137,null,null,null,"Cultivos consumibles medidos al costo",null,{"$f":"+SUM(' '!C603:C604)","v":0},null,{"$f":"+SUM(' '!F603:F604)","v":0},{"$f":"+SUM(' '!E603:E604)","v":0},0,null,null,null,null,null,null,null,null,null,null,null,null,null,null,null,null,null,null,null,null,null,null,null,null,null,null,null,null,null,null,null,null,null,null,null,null,null,null,null,null,null,null,null,"H2 ESF Patrimonio",1,30,{"$f":"(BD3278=Parametros[Segmento])*(BE3278>0)*(BF3278>0)","v":0}]
[null,147,null,null,"Obligaciones financieras en moneda local",null,null,{"$f":"+' '!D658","v":0},null,{"$f":"SUM(' '!F659:F660)","v":0},{"$f":"SUM(' '!E659:E660)","v":0},{"$f":"+H3288+I3288-J3288+K3288","v":0},null,null,null,null,null,null,null,null,null,null,null,null,null,null,null,null,null,null,null,null,null,null,null,null,null,null,null,null,null,null,null,null,null,null,null,null,null,null,null,null,null,null,null,"H2 ESF Patrimonio",1,30,{"$f":"(BD3288=Parametros[Segmento])*(BE3288>0)*(BF3288>0)","v":0}]
[null,154,null,null,"Cuentas y documentos por pagar a otras partes relacionadas y asociadas",null,null,{"$f":"+' '!D679","v":0},null,{"$f":"SUM(' '!F680:F681)","v":0},{"$f":"SUM(' '!E680:E681)","v":0},0,null,null,null,null,null,null,null,null,null,null,null,null,null,null,null,null,null,null,null,null,null,null,null,null,null,null,null,null,null,null,null,null,null,null,null,null,null,null,null,null,null,null,null,"H2 ESF Patrimonio",1,30,{"$f":"(BD3295=Parametros[Segmento])*(BE3295>0)*(BF3295>0)","v":0}]
[null,161,null,null,"Financiero o leasing - partes relacionadas",null,null,{"$f":"+' '!D702","v":0},null,{"$f":"SUM(' '!F703:F704)","v":0},{"$f":"SUM(' '!E703:E704)","v":0},{"$f":"+H3302+I3302-J3302+K3302","v":0},null,null,null,null,null,null,null,null,null,null,null,null,null,null,null,null,null,null,null,null,null,null,null,null,null,null,null,null,null,null,null,null,null,null,null,null,null,null,null,null,null,null,null,"H2 ESF Patrimonio",1,30,{"$f":"(BD3302=Parametros[Segmento])*(BE3302>0)*(BF3302>0)","v":0}]
[null,171,null,null,"Impuesto al valor agregado - IVA",null,null,{"$f":"+' '!D716","v":0},null,{"$f":"SUM(' '!F717:F718)","v":0},{"$f":"SUM(' '!E717:E718)","v":0},0,null,null,null,null,null,null,null,null,null,null,null,null,null,null,null,null,null,null,null,null,null,null,null,null,null,null,null,null,null,null,null,null,null,null,null,null,null,null,null,null,null,null,null,"H2 ESF Patrimonio",1,30,{"$f":"(BD3312=Parametros[Segmento])*(BE3312>0)*(BF3312>0)","v":0}]
[null,178,null,null,"Post empleo",null,null,{"$f":"+' '!D758","v":0},null,{"$f":"SUM(' '!F759:F760)","v":0},{"$f":"SUM(' '!E759:E760)","v":0},0,null,null,null,null,null,null,null,null,null,null,null,null,null,null,null,null,null,null,null,null,null,null,null,null,null,null,null,null,null,null,null,null,null,null,null,null,null,null,null,null,null,null,null,"H2 ESF Patrimonio",1,30,{"$f":"(BD3319=Parametros[Segmento])*(BE3319>0)*(BF3319>0)","v":0}]
[null,180,null,null,"Procesos legales (litigios y demandas)",null,null,{"$f":"+' '!D766","v":0},null,{"$f":"SUM(' '!F767:F768)","v":0},null,null,null,null,null,null,null,null,null,null,null,null,null,null,null,null,null,null,null,null,null,null,null,null,null,null,null,null,null,null,null,null,null,null,null,null,null,null,null,null,null,null,null,null,null,"H2 ESF Patrimonio",1,30,{"$f":"(BD3321=Parametros[Segmento])*(BE3321>0)*(BF3321>0)","v":0}]
[null,192,null,null,"Anticipos y avances recibidos de clientes",null,null,{"$f":"+' '!D804","v":0},null,{"$f":"SUM(' '!F805:F806)","v":0},{"$f":"SUM(' '!E805:E806)","v":0},{"$f":"+H3333+I3333-J3333+K3333","v":0},null,null,null,null,null,null,null,null,null,null,null,null,null,null,null,null,null,null,null,null,null,null,null,null,null,null,null,null,null,null,null,null,null,null,null,null,null,null,null,null,null,null,null,"H2 ESF Patrimonio",1,30,{"$f":"(BD3333=Parametros[Segmento])*(BE3333>0)*(BF3333>0)","v":0}]
[null,197,null,null,"Depósitos recibidos",null,null,{"$f":"+' '!D821","v":0},null,{"$f":"SUM(' '!F822:F823)","v":0},{"$f":"SUM(' '!E822:E823)","v":0},{"$f":"+H3338+I3338-J3338+K3338","v":0},null,null,null,null,null,null,null,null,null,null,null,null,null,null,null,null,null,null,null,null,null,null,null,null,null,null,null,null,null,null,null,null,null,null,null,null,null,null,null,null,null,null,null,"H2 ESF Patrimonio",1,30,{"$f":"(BD3338=Parametros[Segmento])*(BE3338>0)*(BF3338>0)","v":0}]
[null,206,"PATRIMONIO (ACTIVOS - PASIVOS)",null,null,null,null,{"$f":"+H3285-H3346","v":0},{"$f":"+I3285-I3346","v":0},{"$f":"+J3285-J3346","v":0},{"$f":"+K3285-K3346","v":0},{"$f":"+L3285-L3346","v":0},null,null,null,null,null,null,null,null,null,null,null,null,null,null,null,null,null,null,null,null,null,null,null,null,null,null,null,null,null,null,null,null,null,null,null,null,null,null,null,null,null,null,null,"H2 ESF Patrimonio",1,30,{"$f":"(BD3347=Parametros[Segmento])*(BE3347>0)*(BF3347>0)","v":0}]
[null,214,null,null,"Superávit de capital",null,null,{"$f":"+' '!D868","v":0},null,null,null,null,null,null,null,null,null,null,null,null,null,null,null,null,null,null,null,null,null,null,null,null,null,null,null,null,null,null,null,null,null,null,null,null,null,null,null,null,null,null,null,null,null,null,null,"H2 ESF Patrimonio",1,30,{"$f":"(BD3355=Parametros[Segmento])*(BE3355>0)*(BF3355>0)","v":0}]
[null,220,null,null,"Superávit por revaluaciones",null,null,{"$f":"+' '!D886","v":0},null,null,null,null,null,null,null,null,null,null,null,null,null,null,null,null,null,null,null,null,null,null,null,null,null,null,null,null,null,null,null,null,null,null,null,null,null,null,null,null,null,null,null,null,null,null,null,"H2 ESF Patrimonio",1,30,{"$f":"(BD3361=Parametros[Segmento])*(BE3361>0)*(BF3361>0)","v":0}]
[null,231,null,null,"Utilidades o excedentes acumulados susceptibles de distribución a titulo de no constitutivo de renta ni ganancia ocasional",null,null,{"$f":"+' '!D923","v":0},null,null,null,null,null,null,null,null,null,null,null,null,null,null,null,null,null,null,null,null,null,null,null,null,null,null,null,null,null,null,null,null,null,null,null,null,null,null,null,null,null,null,null,null,null,null,null,"H2 ESF Patrimonio",1,30,{"$f":"(BD3372=Parametros[Segmento])*(BE3372>0)*(BF3372>0)","v":0}]
[null,237,null,null,"Pérdidas  por ajustes por cambios en políticas contables ",null,null,{"$f":"+' '!D941","v":0},null,null,null,null,null,null,null,null,null,null,null,null,null,null,null,null,null,null,null,null,null,null,null,null,null,null,null,null,null,null,null,null,null,null,null,null,null,null,null,null,null,null,null,null,null,null,null,"H2 ESF Patrimonio",1,30,{"$f":"(BD3378=Parametros[Segmento])*(BE3378>0)*(BF3378>0)","v":0}]
[null,240,null,null,"Pérdidas acumuladas netas - adopción por primera vez",null,null,{"$f":"+' '!D952","v":0},null,null,null,null,null,null,null,null,null,null,null,null,null,null,null,null,null,null,null,null,null,null,null,null,null,null,null,null,null,null,null,null,null,null,null,null,null,null,null,null,null,null,null,null,null,null,null,"H2 ESF Patrimonio",1,30,{"$f":"(BD3381=Parametros[Segmento])*(BE3381>0)*(BF3381>0)","v":0}]
[null,251,null,null,null,"Inventarios en poder de terceros",null,null,null,null,null,null,null,null,null,null,null,null,null,null,null,null,null,null,null,null,null,null,null,null,null,null,null,null,null,null,null,null,null,null,null,null,null,null,null,null,null,null,null,null,null,null,null,null,null,"H2 ESF Patrimonio",1,30,{"$f":"(BD3392=Parametros[Segmento])*(BE3392>0)*(BF3392>0)","v":0}]
[null,257,null,null,null,"Dividendos o participaciones gravados efectivamente pagados o exigibles en el periodo",null,null,null,null,null,null,null,null,null,null,null,null,null,null,null,null,null,null,null,null,null,null,null,null,null,null,null,null,null,null,null,null,null,null,null,null,null,null,null,null,null,null,null,null,null,null,null,null,null,"H2 ESF Patrimonio",1,30,{"$f":"(BD3398=Parametros[Segmento])*(BE3398>0)*(BF3398>0)","v":0}]
[null,null,null,null,null,null,null,null,null,null,null,null,null,null,null,null,null,null,null,null,null,null,null,null,null,null,null,null,null,null,null,null,null,null,null,null,null,null,null,null,null,null,null,null,null,null,null,null,null,null,null,null,null,null,null,"H3 ERI Renta líquida",1,18,{"$f":"(BD3407=Parametros[Segmento])*(BE3407>0)*(BF3407>0)","v":0}]
[null,15,null,null,null,null,null,"Zona franca",{"$f":"+' '!D986","v":0},null,{"$f":"SUM(' '!F987:F988)","v":0},{"$f":"SUM(' '!E987:E988)","v":0},0,null,{"$f":"IF(M3415=\"\",\"\",IF(AND(' '!$D$246=9%,' '!$D$245<>\"Mega inversiones en servicios hoteleros \"),M3415,0))","v":0},{"$f":"IF(M3415=\"\",\"\",IF(' '!$D$246=15%,M3415,0))","v":0},{"$f":"IF(M3415=\"\",\"\",IF(' '!$D$246=20%,M3415,0))","v":0},{"$f":"IF(M3415=\"\",\"\",IF(' '!$D$245=\"Mega inversiones en servicios hoteleros \",M3415,0))","v":0},{"$f":"IF(M3415=\"\",\"\",IF(' '!$D$246=27%,M3415,0))","v":0},{"$f":"IF(M3415=\"\",\"\",IF(' '!$D$246=35%,M3415,0))","v":0},{"$f":"IF(M3415=\"\",\"\",IF(OR(' '!$D$246=2%,' '!$D$246=26.25%,' '!$D$246=8.75%,' '!$D$246=17.5%,' '!$D$246=0%),M3415,0))","v":0},null,null,null,null,null,null,null,null,null,null,null,null,null,null,null,null,null,null,null,null,null,null,null,null,null,null,null,null,null,null,null,null,null,null,"H3 ERI Renta líquida",1,18,{"$f":"(BD3415=Parametros[Segmento])*(BE3415>0)*(BF3415>0)","v":0}]
[null,24,null,null,null,null,null,"Vinculado Económicos zona Franca y exterior",{"$f":"+' '!D1018","v":0},null,{"$f":"SUM(' '!F1019:F1020)","v":0},{"$f":"SUM(' '!E1019:E1020)","v":0},0,null,{"$f":"IF(M3424=\"\",\"\",IF(AND(' '!$D$246=9%,' '!$D$245<>\"Mega inversiones en servicios hoteleros \"),M3424,0))","v":0},{"$f":"IF(M3424=\"\",\"\",IF(' '!$D$246=15%,M3424,0))","v":0},{"$f":"IF(M3424=\"\",\"\",IF(' '!$D$246=20%,M3424,0))","v":0},{"$f":"IF(M3424=\"\",\"\",IF(' '!$D$245=\"Mega inversiones en servicios hoteleros \",M3424,0))","v":0},{"$f":"IF(M3424=\"\",\"\",IF(' '!$D$246=27%,M3424,0))","v":0},{"$f":"IF(M3424=\"\",\"\",IF(' '!$D$246=35%,M3424,0))","v":0},{"$f":"IF(M3424=\"\",\"\",IF(OR(' '!$D$246=2%,' '!$D$246=26.25%,' '!$D$246=8.75%,' '!$D$246=17.5%,' '!$D$246=0%),M3424,0))","v":0},null,null,null,null,null,null,null,null,null,null,null,null,null,null,null,null,null,null,null,null,null,null,null,null,null,null,null,null,null,null,null,null,null,null,"H3 ERI Renta líquida",1,18,{"$f":"(BD3424=Parametros[Segmento])*(BE3424>0)*(BF3424>0)","v":0}]
[null,29,null,null,null,"Comisiones (relaciones de agencia)",null,null,{"$f":"+' '!D1038","v":0},null,{"$f":"SUM(' '!F1039:F1040)","v":0},{"$f":"SUM(' '!E1039:E1040)","v":0},0,null,{"$f":"IF(M3429=\"\",\"\",IF(AND(' '!$D$246=9%,' '!$D$245<>\"Mega inversiones en servicios hoteleros \"),M3429,0))","v":0},{"$f":"IF(M3429=\"\",\"\",IF(' '!$D$246=15%,M3429,0))","v":0},{"$f":"IF(M3429=\"\",\"\",IF(' '!$D$246=20%,M3429,0))","v":0},{"$f":"IF(M3429=\"\",\"\",IF(' '!$D$245=\"Mega inversiones en servicios hoteleros \",M3429,0))","v":0},{"$f":"IF(M3429=\"\",\"\",IF(' '!$D$246=27%,M3429,0))","v":0},{"$f":"IF(M3429=\"\",\"\",IF(' '!$D$246=35%,M3429,0))","v":0},{"$f":"IF(M3429=\"\",\"\",IF(OR(' '!$D$246=2%,' '!$D$246=26.25%,' '!$D$246=8.75%,' '!$D$246=17.5%,' '!$D$246=0%),M3429,0))","v":0},null,null,null,null,null,null,null,null,null,null,null,null,null,null,null,null,null,null,null,null,null,null,null,null,null,null,null,null,null,null,null,null,null,null,"H3 ERI Renta líquida",1,18,{"$f":"(BD3429=Parametros[Segmento])*(BE3429>0)*(BF3429>0)","v":0}]
[null,41,null,null,"Intereses - sector financiero",null,null,null,{"$f":"+' '!D1089","v":0},null,{"$f":"SUM(' '!F1090:F1091)","v":0},{"$f":"SUM(' '!E1090:E1091)","v":0},0,null,{"$f":"IF(M3441=\"\",\"\",IF(AND(' '!$D$246=9%,' '!$D$245<>\"Mega inversiones en servicios hoteleros \"),M3441,0))","v":0},{"$f":"IF(M3441=\"\",\"\",IF(' '!$D$246=15%,M3441,0))","v":0},{"$f":"IF(M3441=\"\",\"\",IF(' '!$D$246=20%,M3441,0))","v":0},{"$f":"IF(M3441=\"\",\"\",IF(' '!$D$245=\"Mega inversiones en servicios hoteleros \",M3441,0))","v":0},{"$f":"IF(M3441=\"\",\"\",IF(' '!$D$246=27%,M3441,0))","v":0},{"$f":"IF(M3441=\"\",\"\",IF(' '!$D$246=35%,M3441,0))","v":0},{"$f":"IF(M3441=\"\",\"\",IF(OR(' '!$D$246=2%,' '!$D$246=26.25%,' '!$D$246=8.75%,' '!$D$246=17.5%,' '!$D$246=0%),M3441,0))","v":0},null,null,null,null,null,null,null,null,null,null,null,null,null,null,null,null,null,null,null,null,null,null,null,null,null,null,null,null,null,null,null,null,null,null,"H3 ERI Renta líquida",1,18,{"$f":"(BD3441=Parametros[Segmento])*(BE3441>0)*(BF3441>0)","v":0}]
[null,43,null,null,"Por instrumentos financieros medidos a costo amortizado distinto a préstamos",null,null,null,{"$f":"+' '!D1095","v":0},null,{"$f":"SUM(' '!F1096:F1097)","v":0},{"$f":"SUM(' '!E1096:E1097)","v":0},0,null,{"$f":"IF(M3443=\"\",\"\",IF(AND(' '!$D$246=9%,' '!$D$245<>\"Mega inversiones en servicios hoteleros \"),M3443,0))","v":0},{"$f":"IF(M3443=\"\",\"\",IF(' '!$D$246=15%,M3443,0))","v":0},{"$f":"IF(M3443=\"\",\"\",IF(' '!$D$246=20%,M3443,0))","v":0},{"$f":"IF(M3443=\"\",\"\",IF(' '!$D$245=\"Mega inversiones en servicios hoteleros \",M3443,0))","v":0},{"$f":"IF(M3443=\"\",\"\",IF(' '!$D$246=27%,M3443,0))","v":0},{"$f":"IF(M3443=\"\",\"\",IF(' '!$D$246=35%,M3443,0))","v":0},{"$f":"IF(M3443=\"\",\"\",IF(OR(' '!$D$246=2%,' '!$D$246=26.25%,' '!$D$246=8.75%,' '!$D$246=17.5%,' '!$D$246=0%),M3443,0))","v":0},null,null,null,null,null,null,null,null,null,null,null,null,null,null,null,null,null,null,null,null,null,null,null,null,null,null,null,null,null,null,null,null,null,null,"H3 ERI Renta líquida",1,18,{"$f":"(BD3443=Parametros[Segmento])*(BE3443>0)*(BF3443>0)","v":0}]
[null,50,null,null,"Dividendos y/o participaciones NO constitutivos de renta ni ganancia ocasional (incluye capitalizaciones no gravadas)",null,null,null,{"$f":"+' '!D1123","v":0},null,{"$f":"SUM(' '!F1124:F1125)","v":0},{"$f":"SUM(' '!E1124:E1125)","v":0},{"$f":"+I3450+J3450-K3450+L3450","v":0},null,{"$f":"IF(M3450=\"\",\"\",IF(AND(' '!$D$246=9%,' '!$D$245<>\"Mega inversiones en servicios hoteleros \"),M3450,0))","v":0},{"$f":"IF(M3450=\"\",\"\",IF(' '!$D$246=15%,M3450,0))","v":0},{"$f":"IF(M3450=\"\",\"\",IF(' '!$D$246=20%,M3450,0))","v":0},{"$f":"IF(M3450=\"\",\"\",IF(' '!$D$245=\"Mega inversiones en servicios hoteleros \",M3450,0))","v":0},{"$f":"IF(M3450=\"\",\"\",IF(' '!$D$246=27%,M3450,0))","v":0},{"$f":"IF(M3450=\"\",\"\",IF(' '!$D$246=35%,M3450,0))","v":0},{"$f":"IF(M3450=\"\",\"\",IF(OR(' '!$D$246=2%,' '!$D$246=26.25%,' '!$D$246=8.75%,' '!$D$246=17.5%,' '!$D$246=0%),M3450,0))","v":0},null,null,null,null,null,null,null,null,null,null,null,null,null,null,null,null,null,null,null,null,null,null,null,null,null,null,null,null,null,null,null,null,null,null,"H3 ERI Renta líquida",1,28.2,{"$f":"(BD3450=Parametros[Segmento])*(BE3450>0)*(BF3450>0)","v":0}]
[null,57,null,null,"Dividendos y participaciones provenientes de proyectos calificados como\nmega inversión gravadas al 27% ",null,null,null,{"$f":"+' '!D1144","v":0},null,{"$f":"SUM(' '!F1145:F1146)","v":0},{"$f":"SUM(' '!E1145:E1146)","v":0},0,null,{"$f":"IF(M3457=\"\",\"\",IF(AND(' '!$D$246=9%,' '!$D$245<>\"Mega inversiones en servicios hoteleros \"),M3457,0))","v":0},{"$f":"IF(M3457=\"\",\"\",IF(' '!$D$246=15%,M3457,0))","v":0},{"$f":"IF(M3457=\"\",\"\",IF(' '!$D$246=20%,M3457,0))","v":0},{"$f":"IF(M3457=\"\",\"\",IF(' '!$D$245=\"Mega inversiones en servicios hoteleros \",M3457,0))","v":0},{"$f":"IF(M3457=\"\",\"\",IF(' '!$D$246=27%,M3457,0))","v":0},{"$f":"IF(M3457=\"\",\"\",IF(' '!$D$246=35%,M3457,0))","v":0},{"$f":"IF(M3457=\"\",\"\",IF(OR(' '!$D$246=2%,' '!$D$246=26.25%,' '!$D$246=8.75%,' '!$D$246=17.5%,' '!$D$246=0%),M3457,0))","v":0},null,null,null,null,null,null,null,null,null,null,null,null,null,null,null,null,null,null,null,null,null,null,null,null,null,null,null,null,null,null,null,null,null,null,"H3 ERI Renta líquida",1,28.2,{"$f":"(BD3457=Parametros[Segmento])*(BE3457>0)*(BF3457>0)","v":0}]
[null,67,null,null,"Activos biológicos (sin plantas productoras)",null,null,null,{"$f":"+' '!D1341","v":0},null,{"$f":"SUM(' '!F1342:F1343)","v":0},{"$f":"SUM(' '!E1342:E1343)","v":0},0,null,{"$f":"IF(M3467=\"\",\"\",IF(AND(' '!$D$246=9%,' '!$D$245<>\"Mega inversiones en servicios hoteleros \"),M3467,0))","v":0},{"$f":"IF(M3467=\"\",\"\",IF(' '!$D$246=15%,M3467,0))","v":0},{"$f":"IF(M3467=\"\",\"\",IF(' '!$D$246=20%,M3467,0))","v":0},{"$f":"IF(M3467=\"\",\"\",IF(' '!$D$245=\"Mega inversiones en servicios hoteleros \",M3467,0))","v":0},{"$f":"IF(M3467=\"\",\"\",IF(' '!$D$246=27%,M3467,0))","v":0},{"$f":"IF(M3467=\"\",\"\",IF(' '!$D$246=35%,M3467,0))","v":0},{"$f":"IF(M3467=\"\",\"\",IF(OR(' '!$D$246=2%,' '!$D$246=26.25%,' '!$D$246=8.75%,' '!$D$246=17.5%,' '!$D$246=0%),M3467,0))","v":0},null,null,null,null,null,null,null,null,null,null,null,null,null,null,null,null,null,null,null,null,null,null,null,null,null,null,null,null,null,null,null,null,null,null,"H3 ERI Renta líquida",1,18,{"$f":"(BD3467=Parametros[Segmento])*(BE3467>0)*(BF3467>0)","v":0}]
[null,74,null,null,"Propiedades, planta y equipo",null,null,null,{"$f":"+' '!D1407","v":0},null,{"$f":"+' '!F1407","v":0},{"$f":"+' '!E1407","v":0},0,null,{"$f":"IF(M3474=\"\",\"\",IF(AND(' '!$D$246=9%,' '!$D$245<>\"Mega inversiones en servicios hoteleros \"),M3474,0))","v":0},{"$f":"IF(M3474=\"\",\"\",IF(' '!$D$246=15%,M3474,0))","v":0},{"$f":"IF(M3474=\"\",\"\",IF(' '!$D$246=20%,M3474,0))","v":0},{"$f":"IF(M3474=\"\",\"\",IF(' '!$D$245=\"Mega inversiones en servicios hoteleros \",M3474,0))","v":0},{"$f":"IF(M3474=\"\",\"\",IF(' '!$D$246=27%,M3474,0))","v":0},{"$f":"IF(M3474=\"\",\"\",IF(' '!$D$246=35%,M3474,0))","v":0},{"$f":"IF(M3474=\"\",\"\",IF(OR(' '!$D$246=2%,' '!$D$246=26.25%,' '!$D$246=8.75%,' '!$D$246=17.5%,' '!$D$246=0%),M3474,0))","v":0},null,null,null,null,null,null,null,null,null,null,null,null,null,null,null,null,null,null,null,null,null,null,null,null,null,null,null,null,null,null,null,null,null,null,"H3 ERI Renta líquida",1,18,{"$f":"(BD3474=Parametros[Segmento])*(BE3474>0)*(BF3474>0)","v":0}]
[null,84,null,null,"Propiedades, planta y equipo",null,null,null,{"$f":"+' '!D1172","v":0},null,{"$f":"SUM(' '!F1173:F1174)","v":0},{"$f":"SUM(' '!E1173:E1174)","v":0},0,null,{"$f":"IF(M3484=\"\",\"\",IF(AND(' '!$D$246=9%,' '!$D$245<>\"Mega inversiones en servicios hoteleros \"),M3484,0))","v":0},{"$f":"IF(M3484=\"\",\"\",IF(' '!$D$246=15%,M3484,0))","v":0},{"$f":"IF(M3484=\"\",\"\",IF(' '!$D$246=20%,M3484,0))","v":0},{"$f":"IF(M3484=\"\",\"\",IF(' '!$D$245=\"Mega inversiones en servicios hoteleros \",M3484,0))","v":0},{"$f":"IF(M3484=\"\",\"\",IF(' '!$D$246=27%,M3484,0))","v":0},{"$f":"IF(M3484=\"\",\"\",IF(' '!$D$246=35%,M3484,0))","v":0},{"$f":"IF(M3484=\"\",\"\",IF(OR(' '!$D$246=2%,' '!$D$246=26.25%,' '!$D$246=8.75%,' '!$D$246=17.5%,' '!$D$246=0%),M3484,0))","v":0},null,null,null,null,null,null,null,null,null,null,null,null,null,null,null,null,null,null,null,null,null,null,null,null,null,null,null,null,null,null,null,null,null,null,"H3 ERI Renta líquida",1,18,{"$f":"(BD3484=Parametros[Segmento])*(BE3484>0)*(BF3484>0)","v":0}]
[null,88,null,null,"Activos no corrientes mantenidos para la venta / entregar a propietarios",null,null,null,{"$f":"+' '!D1184","v":0},null,{"$f":"SUM(' '!F1185:F1186)","v":0},{"$f":"SUM(' '!E1185:E1186)","v":0},0,null,{"$f":"IF(M3488=\"\",\"\",IF(AND(' '!$D$246=9%,' '!$D$245<>\"Mega inversiones en servicios hoteleros \"),M3488,0))","v":0},{"$f":"IF(M3488=\"\",\"\",IF(' '!$D$246=15%,M3488,0))","v":0},{"$f":"IF(M3488=\"\",\"\",IF(' '!$D$246=20%,M3488,0))","v":0},{"$f":"IF(M3488=\"\",\"\",IF(' '!$D$245=\"Mega inversiones en servicios hoteleros \",M3488,0))","v":0},{"$f":"IF(M3488=\"\",\"\",IF(' '!$D$246=27%,M3488,0))","v":0},{"$f":"IF(M3488=\"\",\"\",IF(' '!$D$246=35%,M3488,0))","v":0},{"$f":"IF(M3488=\"\",\"\",IF(OR(' '!$D$246=2%,' '!$D$246=26.25%,' '!$D$246=8.75%,' '!$D$246=17.5%,' '!$D$246=0%),M3488,0))","v":0},null,null,null,null,null,null,null,null,null,null,null,null,null,null,null,null,null,null,null,null,null,null,null,null,null,null,null,null,null,null,null,null,null,null,"H3 ERI Renta líquida",1,18,{"$f":"(BD3488=Parametros[Segmento])*(BE3488>0)*(BF3488>0)","v":0}]
[null,101,null,null,"Pasivos contingentes asumidos en una combinación de negocios",null,null,null,{"$f":"+' '!D1242","v":0},null,{"$f":"SUM(' '!F1243:F1244)","v":0},{"$f":"SUM(' '!E1243:E1244)","v":0},0,null,{"$f":"IF(M3501=\"\",\"\",IF(AND(' '!$D$246=9%,' '!$D$245<>\"Mega inversiones en servicios hoteleros \"),M3501,0))","v":0},{"$f":"IF(M3501=\"\",\"\",IF(' '!$D$246=15%,M3501,0))","v":0},{"$f":"IF(M3501=\"\",\"\",IF(' '!$D$246=20%,M3501,0))","v":0},{"$f":"IF(M3501=\"\",\"\",IF(' '!$D$245=\"Mega inversiones en servicios hoteleros \",M3501,0))","v":0},{"$f":"IF(M3501=\"\",\"\",IF(' '!$D$246=27%,M3501,0))","v":0},{"$f":"IF(M3501=\"\",\"\",IF(' '!$D$246=35%,M3501,0))","v":0},{"$f":"IF(M3501=\"\",\"\",IF(OR(' '!$D$246=2%,' '!$D$246=26.25%,' '!$D$246=8.75%,' '!$D$246=17.5%,' '!$D$246=0%),M3501,0))","v":0},null,null,null,null,null,null,null,null,null,null,null,null,null,null,null,null,null,null,null,null,null,null,null,null,null,null,null,null,null,null,null,null,null,null,"H3 ERI Renta líquida",1,18,{"$f":"(BD3501=Parametros[Segmento])*(BE3501>0)*(BF3501>0)","v":0}]
[null,102,null,null,"Otros",null,null,null,{"$f":"+' '!D1245","v":0},null,{"$f":"SUM(' '!F1246:F1247)","v":0},{"$f":"SUM(' '!E1246:E1247)","v":0},0,null,{"$f":"IF(M3502=\"\",\"\",IF(AND(' '!$D$246=9%,' '!$D$245<>\"Mega inversiones en servicios hoteleros \"),M3502,0))","v":0},{"$f":"IF(M3502=\"\",\"\",IF(' '!$D$246=15%,M3502,0))","v":0},{"$f":"IF(M3502=\"\",\"\",IF(' '!$D$246=20%,M3502,0))","v":0},{"$f":"IF(M3502=\"\",\"\",IF(' '!$D$245=\"Mega inversiones en servicios hoteleros \",M3502,0))","v":0},{"$f":"IF(M3502=\"\",\"\",IF(' '!$D$246=27%,M3502,0))","v":0},{"$f":"IF(M3502=\"\",\"\",IF(' '!$D$246=35%,M3502,0))","v":0},{"$f":"IF(M3502=\"\",\"\",IF(OR(' '!$D$246=2%,' '!$D$246=26.25%,' '!$D$246=8.75%,' '!$D$246=17.5%,' '!$D$246=0%),M3502,0))","v":0},null,null,null,null,null,null,null,null,null,null,null,null,null,null,null,null,null,null,null,null,null,null,null,null,null,null,null,null,null,null,null,null,null,null,"H3 ERI Renta líquida",1,18,{"$f":"(BD3502=Parametros[Segmento])*(BE3502>0)*(BF3502>0)","v":0}]
[null,110,null,null,"Donaciones, aportaciones y similares",null,null,null,{"$f":"+' '!D1267","v":0},null,{"$f":"SUM(' '!F1268:F1269)","v":0},{"$f":"SUM(' '!E1268:E1269)","v":0},0,null,{"$f":"IF(M3510=\"\",\"\",IF(AND(' '!$D$246=9%,' '!$D$245<>\"Mega inversiones en servicios hoteleros \"),M3510,0))","v":0},{"$f":"IF(M3510=\"\",\"\",IF(' '!$D$246=15%,M3510,0))","v":0},{"$f":"IF(M3510=\"\",\"\",IF(' '!$D$246=20%,M3510,0))","v":0},{"$f":"IF(M3510=\"\",\"\",IF(' '!$D$245=\"Mega inversiones en servicios hoteleros \",M3510,0))","v":0},{"$f":"IF(M3510=\"\",\"\",IF(' '!$D$246=27%,M3510,0))","v":0},{"$f":"IF(M3510=\"\",\"\",IF(' '!$D$246=35%,M3510,0))","v":0},{"$f":"IF(M3510=\"\",\"\",IF(OR(' '!$D$246=2%,' '!$D$246=26.25%,' '!$D$246=8.75%,' '!$D$246=17.5%,' '!$D$246=0%),M3510,0))","v":0},null,null,null,null,null,null,null,null,null,null,null,null,null,null,null,null,null,null,null,null,null,null,null,null,null,null,null,null,null,null,null,null,null,null,"H3 ERI Renta líquida",1,18,{"$f":"(BD3510=Parametros[Segmento])*(BE3510>0)*(BF3510>0)","v":0}]
[null,123,null,"TOTAL INGRESOS",null,null,null,null,{"$f":"I3411+I3439+I3447+I3458+I3464+I3473+I3482+I3495+I3503+I3508+I3515+I3516-I3522","v":0},{"$f":"J3411+J3439+J3447+J3458+J3464+J3473+J3482+J3495+J3503+J3508+J3515+J3516-J3522","v":0},{"$f":"K3411+K3439+K3447+K3458+K3464+K3482+K3495+K3503+K3508+K3515+K3516-K3522","v":0},{"$f":"L3411+L3439+L3447+L3458+L3464+L3482+L3495+L3503+L3508+L3515+L3516-L3522*-1","v":0},{"$f":"M3411+M3439+M3447+M3458+M3464+M3482+M3495+M3503+M3508+M3515+M3516-M3522","v":0},null,{"$f":"IF(M3523=\"\",\"\",IF(AND(' '!$D$246=9%,' '!$D$245<>\"Mega inversiones en servicios hoteleros \"),M3523,0))","v":0},{"$f":"IF(M3523=\"\",\"\",IF(' '!$D$246=15%,M3523,0))","v":0},{"$f":"IF(M3523=\"\",\"\",IF(' '!$D$246=20%,M3523,0))","v":0},{"$f":"IF(M3523=\"\",\"\",IF(' '!$D$245=\"Mega inversiones en servicios hoteleros \",M3523,0))","v":0},{"$f":"IF(M3523=\"\",\"\",IF(' '!$D$246=27%,M3523,0))","v":0},{"$f":"IF(M3523=\"\",\"\",IF(' '!$D$246=35%,M3523,0))","v":0},{"$f":"IF(M3523=\"\",\"\",IF(OR(' '!$D$246=2%,' '!$D$246=26.25%,' '!$D$246=8.75%,' '!$D$246=17.5%,' '!$D$246=0%),M3523,0))","v":0},null,null,null,null,null,null,null,null,null,null,null,null,null,null,null,null,null,null,null,null,null,null,null,null,null,null,null,null,null,null,null,null,null,null,"H3 ERI Renta líquida",1,18,{"$f":"(BD3523=Parametros[Segmento])*(BE3523>0)*(BF3523>0)","v":0}]
[null,127,null,null,"Materias primas (para procesos de producción)",null,null,"Inventario inicial",{"$f":"+' '!D1556","v":0},null,{"$f":"SUM(' '!F1557:F1558)","v":0},{"$f":"SUM(' '!E1557:E1558)","v":0},0,null,{"$f":"IF(M3527=\"\",\"\",IF(AND(' '!$D$246=9%,' '!$D$245<>\"Mega inversiones en servicios hoteleros \"),M3527,0))","v":0},{"$f":"IF(M3527=\"\",\"\",IF(' '!$D$246=15%,M3527,0))","v":0},{"$f":"IF(M3527=\"\",\"\",IF(' '!$D$246=20%,M3527,0))","v":0},{"$f":"IF(M3527=\"\",\"\",IF(' '!$D$245=\"Mega inversiones en servicios hoteleros \",M3527,0))","v":0},{"$f":"IF(M3527=\"\",\"\",IF(' '!$D$246=27%,M3527,0))","v":0},{"$f":"IF(M3527=\"\",\"\",IF(' '!$D$246=35%,M3527,0))","v":0},{"$f":"IF(M3527=\"\",\"\",IF(OR(' '!$D$246=2%,' '!$D$246=26.25%,' '!$D$246=8.75%,' '!$D$246=17.5%,' '!$D$246=0%),M3527,0))","v":0},null,null,null,null,null,null,null,null,null,null,null,null,null,null,null,null,null,null,null,null,null,null,null,null,null,null,null,null,null,null,null,null,null,null,"H3 ERI Renta líquida",1,18,{"$f":"(BD3527=Parametros[Segmento])*(BE3527>0)*(BF3527>0)","v":0}]
[null,133,null,null,null,null,null,"Importaciones",{"$f":"+' '!D1574","v":0},null,{"$f":"SUM(' '!F1575:F1576)","v":0},{"$f":"SUM(' '!E1575:E1576)","v":0},0,null,{"$f":"IF(M3533=\"\",\"\",IF(AND(' '!$D$246=9%,' '!$D$245<>\"Mega inversiones en servicios hoteleros \"),M3533,0))","v":0},{"$f":"IF(M3533=\"\",\"\",IF(' '!$D$246=15%,M3533,0))","v":0},{"$f":"IF(M3533=\"\",\"\",IF(' '!$D$246=20%,M3533,0))","v":0},{"$f":"IF(M3533=\"\",\"\",IF(' '!$D$245=\"Mega inversiones en servicios hoteleros \",M3533,0))","v":0},{"$f":"IF(M3533=\"\",\"\",IF(' '!$D$246=27%,M3533,0))","v":0},{"$f":"IF(M3533=\"\",\"\",IF(' '!$D$246=35%,M3533,0))","v":0},{"$f":"IF(M3533=\"\",\"\",IF(OR(' '!$D$246=2%,' '!$D$246=26.25%,' '!$D$246=8.75%,' '!$D$246=17.5%,' '!$D$246=0%),M3533,0))","v":0},null,null,null,null,null,null,null,null,null,null,null,null,null,null,null,null,null,null,null,null,null,null,null,null,null,null,null,null,null,null,null,null,null,null,"H3 ERI Renta líquida",1,18,{"$f":"(BD3533=Parametros[Segmento])*(BE3533>0)*(BF3533>0)","v":0}]
[null,144,null,null,null,null,null,"De largo plazo",{"$f":"+' '!D1609","v":0},null,{"$f":"SUM(' '!F1610:F1611)","v":0},{"$f":"SUM(' '!E1610:E1611)","v":0},{"$f":"+I3544+J3544-K3544+L3544","v":0},null,{"$f":"IF(M3544=\"\",\"\",IF(AND(' '!$D$246=9%,' '!$D$245<>\"Mega inversiones en servicios hoteleros \"),M3544,0))","v":0},{"$f":"IF(M3544=\"\",\"\",IF(' '!$D$246=15%,M3544,0))","v":0},{"$f":"IF(M3544=\"\",\"\",IF(' '!$D$246=20%,M3544,0))","v":0},{"$f":"IF(M3544=\"\",\"\",IF(' '!$D$245=\"Mega inversiones en servicios hoteleros \",M3544,0))","v":0},{"$f":"IF(M3544=\"\",\"\",IF(' '!$D$246=27%,M3544,0))","v":0},{"$f":"IF(M3544=\"\",\"\",IF(' '!$D$246=35%,M3544,0))","v":0},{"$f":"IF(M3544=\"\",\"\",IF(OR(' '!$D$246=2%,' '!$D$246=26.25%,' '!$D$246=8.75%,' '!$D$246=17.5%,' '!$D$246=0%),M3544,0))","v":0},null,null,null,null,null,null,null,null,null,null,null,null,null,null,null,null,null,null,null,null,null,null,null,null,null,null,null,null,null,null,null,null,null,null,"H3 ERI Renta líquida",1,18,{"$f":"(BD3544=Parametros[Segmento])*(BE3544>0)*(BF3544>0)","v":0}]
[null,147,null,"Depreciaciones, amortizaciones y deterioros",null,null,null,null,{"$f":"SUM(I3548:I3571)","v":0},{"$f":"SUM(J3548:J3571)","v":0},{"$f":"SUM(K3548:K3571)","v":0},{"$f":"SUM(L3548:L3571)","v":0},{"$f":"SUM(M3548:M3571)","v":0},null,{"$f":"IF(M3547=\"\",\"\",IF(AND(' '!$D$246=9%,' '!$D$245<>\"Mega inversiones en servicios hoteleros \"),M3547,0))","v":0},{"$f":"IF(M3547=\"\",\"\",IF(' '!$D$246=15%,M3547,0))","v":0},{"$f":"IF(M3547=\"\",\"\",IF(' '!$D$246=20%,M3547,0))","v":0},{"$f":"IF(M3547=\"\",\"\",IF(' '!$D$245=\"Mega inversiones en servicios hoteleros \",M3547,0))","v":0},{"$f":"IF(M3547=\"\",\"\",IF(' '!$D$246=27%,M3547,0))","v":0},{"$f":"IF(M3547=\"\",\"\",IF(' '!$D$246=35%,M3547,0))","v":0},{"$f":"IF(M3547=\"\",\"\",IF(OR(' '!$D$246=2%,' '!$D$246=26.25%,' '!$D$246=8.75%,' '!$D$246=17.5%,' '!$D$246=0%),M3547,0))","v":0},null,null,null,null,null,null,null,null,null,null,null,null,null,null,null,null,null,null,null,null,null,null,null,null,null,null,null,null,null,null,null,null,null,null,"H3 ERI Renta líquida",1,18,{"$f":"(BD3547=Parametros[Segmento])*(BE3547>0)*(BF3547>0)","v":0}]
[null,161,null,null,null,null,"Activos intangibles",null,{"$f":"+' '!D1662","v":0},null,{"$f":"SUM(' '!F1663:F1664)","v":0},{"$f":"SUM(' '!E1663:E1664)","v":0},0,null,{"$f":"IF(M3561=\"\",\"\",IF(AND(' '!$D$246=9%,' '!$D$245<>\"Mega inversiones en servicios hoteleros \"),M3561,0))","v":0},{"$f":"IF(M3561=\"\",\"\",IF(' '!$D$246=15%,M3561,0))","v":0},{"$f":"IF(M3561=\"\",\"\",IF(' '!$D$246=20%,M3561,0))","v":0},{"$f":"IF(M3561=\"\",\"\",IF(' '!$D$245=\"Mega inversiones en servicios hoteleros \",M3561,0))","v":0},{"$f":"IF(M3561=\"\",\"\",IF(' '!$D$246=27%,M3561,0))","v":0},{"$f":"IF(M3561=\"\",\"\",IF(' '!$D$246=35%,M3561,0))","v":0},{"$f":"IF(M3561=\"\",\"\",IF(OR(' '!$D$246=2%,' '!$D$246=26.25%,' '!$D$246=8.75%,' '!$D$246=17.5%,' '!$D$246=0%),M3561,0))","v":0},null,null,null,null,null,null,null,null,null,null,null,null,null,null,null,null,null,null,null,null,null,null,null,null,null,null,null,null,null,null,null,null,null,null,"H3 ERI Renta líquida",1,18,{"$f":"(BD3561=Parametros[Segmento])*(BE3561>0)*(BF3561>0)","v":0}]
[null,168,null,null,null,null,"Cartera de crédito y operaciones de leasing",null,{"$f":"+' '!D1683","v":0},null,{"$f":"SUM(' '!F1684:F1685)","v":0},{"$f":"SUM(' '!E1684:E1685)","v":0},0,null,{"$f":"IF(M3568=\"\",\"\",IF(AND(' '!$D$246=9%,' '!$D$245<>\"Mega inversiones en servicios hoteleros \"),M3568,0))","v":0},{"$f":"IF(M3568=\"\",\"\",IF(' '!$D$246=15%,M3568,0))","v":0},{"$f":"IF(M3568=\"\",\"\",IF(' '!$D$246=20%,M3568,0))","v":0},{"$f":"IF(M3568=\"\",\"\",IF(' '!$D$245=\"Mega inversiones en servicios hoteleros \",M3568,0))","v":0},{"$f":"IF(M3568=\"\",\"\",IF(' '!$D$246=27%,M3568,0))","v":0},{"$f":"IF(M3568=\"\",\"\",IF(' '!$D$246=35%,M3568,0))","v":0},{"$f":"IF(M3568=\"\",\"\",IF(OR(' '!$D$246=2%,' '!$D$246=26.25%,' '!$D$246=8.75%,' '!$D$246=17.5%,' '!$D$246=0%),M3568,0))","v":0},null,null,null,null,null,null,null,null,null,null,null,null,null,null,null,null,null,null,null,null,null,null,null,null,null,null,null,null,null,null,null,null,null,null,"H3 ERI Renta líquida",1,18,{"$f":"(BD3568=Parametros[Segmento])*(BE3568>0)*(BF3568>0)","v":0}]
[null,170,null,null,null,null,"Derechos de uso en arrendamientos operativos (NIIF 16)",null,{"$f":"+' '!D1689","v":0},null,{"$f":"SUM(' '!F1690:F1691)","v":0},{"$f":"SUM(' '!E1690:E1691)","v":0},0,null,{"$f":"IF(M3570=\"\",\"\",IF(AND(' '!$D$246=9%,' '!$D$245<>\"Mega inversiones en servicios hoteleros \"),M3570,0))","v":0},{"$f":"IF(M3570=\"\",\"\",IF(' '!$D$246=15%,M3570,0))","v":0},{"$f":"IF(M3570=\"\",\"\",IF(' '!$D$246=20%,M3570,0))","v":0},{"$f":"IF(M3570=\"\",\"\",IF(' '!$D$245=\"Mega inversiones en servicios hoteleros \",M3570,0))","v":0},{"$f":"IF(M3570=\"\",\"\",IF(' '!$D$246=27%,M3570,0))","v":0},{"$f":"IF(M3570=\"\",\"\",IF(' '!$D$246=35%,M3570,0))","v":0},{"$f":"IF(M3570=\"\",\"\",IF(OR(' '!$D$246=2%,' '!$D$246=26.25%,' '!$D$246=8.75%,' '!$D$246=17.5%,' '!$D$246=0%),M3570,0))","v":0},null,null,null,null,null,null,null,null,null,null,null,null,null,null,null,null,null,null,null,null,null,null,null,null,null,null,null,null,null,null,null,null,null,null,"H3 ERI Renta líquida",1,18,{"$f":"(BD3570=Parametros[Segmento])*(BE3570>0)*(BF3570>0)","v":0}]
[null,179,null,null,null,null,"No vinculados",null,{"$f":"+' '!D1718","v":0},null,{"$f":"SUM(' '!F1719:F1720)","v":0},{"$f":"SUM(' '!E1719:E1720)","v":0},0,null,{"$f":"IF(M3579=\"\",\"\",IF(AND(' '!$D$246=9%,' '!$D$245<>\"Mega inversiones en servicios hoteleros \"),M3579,0))","v":0},{"$f":"IF(M3579=\"\",\"\",IF(' '!$D$246=15%,M3579,0))","v":0},{"$f":"IF(M3579=\"\",\"\",IF(' '!$D$246=20%,M3579,0))","v":0},{"$f":"IF(M3579=\"\",\"\",IF(' '!$D$245=\"Mega inversiones en servicios hoteleros \",M3579,0))","v":0},{"$f":"IF(M3579=\"\",\"\",IF(' '!$D$246=27%,M3579,0))","v":0},{"$f":"IF(M3579=\"\",\"\",IF(' '!$D$246=35%,M3579,0))","v":0},{"$f":"IF(M3579=\"\",\"\",IF(OR(' '!$D$246=2%,' '!$D$246=26.25%,' '!$D$246=8.75%,' '!$D$246=17.5%,' '!$D$246=0%),M3579,0))","v":0},null,null,null,null,null,null,null,null,null,null,null,null,null,null,null,null,null,null,null,null,null,null,null,null,null,null,null,null,null,null,null,null,null,null,"H3 ERI Renta líquida",1,18,{"$f":"(BD3579=Parametros[Segmento])*(BE3579>0)*(BF3579>0)","v":0}]
[null,191,null,null,null,null,null,"De largo plazo",{"$f":"+' '!D1793","v":0},null,{"$f":"SUM(' '!F1794:F1795)","v":0},{"$f":"SUM(' '!E1794:E1795)","v":0},{"$f":"+I3591+J3591-K3591+L3591","v":0},null,{"$f":"IF(M3591=\"\",\"\",IF(AND(' '!$D$246=9%,' '!$D$245<>\"Mega inversiones en servicios hoteleros \"),M3591,0))","v":0},{"$f":"IF(M3591=\"\",\"\",IF(' '!$D$246=15%,M3591,0))","v":0},{"$f":"IF(M3591=\"\",\"\",IF(' '!$D$246=20%,M3591,0))","v":0},{"$f":"IF(M3591=\"\",\"\",IF(' '!$D$245=\"Mega inversiones en servicios hoteleros \",M3591,0))","v":0},{"$f":"IF(M3591=\"\",\"\",IF(' '!$D$246=27%,M3591,0))","v":0},{"$f":"IF(M3591=\"\",\"\",IF(' '!$D$246=35%,M3591,0))","v":0},{"$f":"IF(M3591=\"\",\"\",IF(OR(' '!$D$246=2%,' '!$D$246=26.25%,' '!$D$246=8.75%,' '!$D$246=17.5%,' '!$D$246=0%),M3591,0))","v":0},null,null,null,null,null,null,null,null,null,null,null,null,null,null,null,null,null,null,null,null,null,null,null,null,null,null,null,null,null,null,null,null,null,null,"H3 ERI Renta líquida",1,18,{"$f":"(BD3591=Parametros[Segmento])*(BE3591>0)*(BF3591>0)","v":0}]
[null,196,null,null,null,"Arrendamientos operativos",null,null,{"$f":"+' '!D1810","v":0},null,{"$f":"SUM(' '!F1811:F1812)","v":0},{"$f":"SUM(' '!E1811:E1812)","v":0},0,null,{"$f":"IF(M3596=\"\",\"\",IF(AND(' '!$D$246=9%,' '!$D$245<>\"Mega inversiones en servicios hoteleros \"),M3596,0))","v":0},{"$f":"IF(M3596=\"\",\"\",IF(' '!$D$246=15%,M3596,0))","v":0},{"$f":"IF(M3596=\"\",\"\",IF(' '!$D$246=20%,M3596,0))","v":0},{"$f":"IF(M3596=\"\",\"\",IF(' '!$D$245=\"Mega inversiones en servicios hoteleros \",M3596,0))","v":0},{"$f":"IF(M3596=\"\",\"\",IF(' '!$D$246=27%,M3596,0))","v":0},{"$f":"IF(M3596=\"\",\"\",IF(' '!$D$246=35%,M3596,0))","v":0},{"$f":"IF(M3596=\"\",\"\",IF(OR(' '!$D$246=2%,' '!$D$246=26.25%,' '!$D$246=8.75%,' '!$D$246=17.5%,' '!$D$246=0%),M3596,0))","v":0},null,null,null,null,null,null,null,null,null,null,null,null,null,null,null,null,null,null,null,null,null,null,null,null,null,null,null,null,null,null,null,null,null,null,"H3 ERI Renta líquida",1,18,{"$f":"(BD3596=Parametros[Segmento])*(BE3596>0)*(BF3596>0)","v":0}]
[null,205,null,null,null,null,null,"No vinculados",{"$f":"+' '!D1837","v":0},null,{"$f":"SUM(' '!F1838:F1839)","v":0},{"$f":"SUM(' '!E1838:E1839)","v":0},0,null,{"$f":"IF(M3605=\"\",\"\",IF(AND(' '!$D$246=9%,' '!$D$245<>\"Mega inversiones en servicios hoteleros \"),M3605,0))","v":0},{"$f":"IF(M3605=\"\",\"\",IF(' '!$D$246=15%,M3605,0))","v":0},{"$f":"IF(M3605=\"\",\"\",IF(' '!$D$246=20%,M3605,0))","v":0},{"$f":"IF(M3605=\"\",\"\",IF(' '!$D$245=\"Mega inversiones en servicios hoteleros \",M3605,0))","v":0},{"$f":"IF(M3605=\"\",\"\",IF(' '!$D$246=27%,M3605,0))","v":0},{"$f":"IF(M3605=\"\",\"\",IF(' '!$D$246=35%,M3605,0))","v":0},{"$f":"IF(M3605=\"\",\"\",IF(OR(' '!$D$246=2%,' '!$D$246=26.25%,' '!$D$246=8.75%,' '!$D$246=17.5%,' '!$D$246=0%),M3605,0))","v":0},null,null,null,null,null,null,null,null,null,null,null,null,null,null,null,null,null,null,null,null,null,null,null,null,null,null,null,null,null,null,null,null,null,null,"H3 ERI Renta líquida",1,18,{"$f":"(BD3605=Parametros[Segmento])*(BE3605>0)*(BF3605>0)","v":0}]
[null,213,null,null,null,"Transporte",null,null,{"$f":"+' '!D1861","v":0},null,{"$f":"SUM(' '!F1862:F1863)","v":0},{"$f":"SUM(' '!E1862:E1863)","v":0},0,null,{"$f":"IF(M3613=\"\",\"\",IF(AND(' '!$D$246=9%,' '!$D$245<>\"Mega inversiones en servicios hoteleros \"),M3613,0))","v":0},{"$f":"IF(M3613=\"\",\"\",IF(' '!$D$246=15%,M3613,0))","v":0},{"$f":"IF(M3613=\"\",\"\",IF(' '!$D$246=20%,M3613,0))","v":0},{"$f":"IF(M3613=\"\",\"\",IF(' '!$D$245=\"Mega inversiones en servicios hoteleros \",M3613,0))","v":0},{"$f":"IF(M3613=\"\",\"\",IF(' '!$D$246=27%,M3613,0))","v":0},{"$f":"IF(M3613=\"\",\"\",IF(' '!$D$246=35%,M3613,0))","v":0},{"$f":"IF(M3613=\"\",\"\",IF(OR(' '!$D$246=2%,' '!$D$246=26.25%,' '!$D$246=8.75%,' '!$D$246=17.5%,' '!$D$246=0%),M3613,0))","v":0},null,null,null,null,null,null,null,null,null,null,null,null,null,null,null,null,null,null,null,null,null,null,null,null,null,null,null,null,null,null,null,null,null,null,"H3 ERI Renta líquida",1,18,{"$f":"(BD3613=Parametros[Segmento])*(BE3613>0)*(BF3613>0)","v":0}]
[null,219,null,null,null,null,null,"Del ajuste acumulado por revaluaciones o reexpresiones",{"$f":"+' '!D1881","v":0},null,{"$f":"SUM(' '!F1882:F1883)","v":0},{"$f":"SUM(' '!E1882:E1883)","v":0},0,null,{"$f":"IF(M3619=\"\",\"\",IF(AND(' '!$D$246=9%,' '!$D$245<>\"Mega inversiones en servicios hoteleros \"),M3619,0))","v":0},{"$f":"IF(M3619=\"\",\"\",IF(' '!$D$246=15%,M3619,0))","v":0},{"$f":"IF(M3619=\"\",\"\",IF(' '!$D$246=20%,M3619,0))","v":0},{"$f":"IF(M3619=\"\",\"\",IF(' '!$D$245=\"Mega inversiones en servicios hoteleros \",M3619,0))","v":0},{"$f":"IF(M3619=\"\",\"\",IF(' '!$D$246=27%,M3619,0))","v":0},{"$f":"IF(M3619=\"\",\"\",IF(' '!$D$246=35%,M3619,0))","v":0},{"$f":"IF(M3619=\"\",\"\",IF(OR(' '!$D$246=2%,' '!$D$246=26.25%,' '!$D$246=8.75%,' '!$D$246=17.5%,' '!$D$246=0%),M3619,0))","v":0},null,null,null,null,null,null,null,null,null,null,null,null,null,null,null,null,null,null,null,null,null,null,null,null,null,null,null,null,null,null,null,null,null,null,"H3 ERI Renta líquida",1,31.2,{"$f":"(BD3619=Parametros[Segmento])*(BE3619>0)*(BF3619>0)","v":0}]
[null,222,null,null,null,null,null,"Del ajuste acumulado por revaluaciones o reexpresiones",{"$f":"+' '!D1890","v":0},null,{"$f":"SUM(' '!F1891:F1892)","v":0},{"$f":"SUM(' '!E1891:E1892)","v":0},0,null,{"$f":"IF(M3622=\"\",\"\",IF(AND(' '!$D$246=9%,' '!$D$245<>\"Mega inversiones en servicios hoteleros \"),M3622,0))","v":0},{"$f":"IF(M3622=\"\",\"\",IF(' '!$D$246=15%,M3622,0))","v":0},{"$f":"IF(M3622=\"\",\"\",IF(' '!$D$246=20%,M3622,0))","v":0},{"$f":"IF(M3622=\"\",\"\",IF(' '!$D$245=\"Mega inversiones en servicios hoteleros \",M3622,0))","v":0},{"$f":"IF(M3622=\"\",\"\",IF(' '!$D$246=27%,M3622,0))","v":0},{"$f":"IF(M3622=\"\",\"\",IF(' '!$D$246=35%,M3622,0))","v":0},{"$f":"IF(M3622=\"\",\"\",IF(OR(' '!$D$246=2%,' '!$D$246=26.25%,' '!$D$246=8.75%,' '!$D$246=17.5%,' '!$D$246=0%),M3622,0))","v":0},null,null,null,null,null,null,null,null,null,null,null,null,null,null,null,null,null,null,null,null,null,null,null,null,null,null,null,null,null,null,null,null,null,null,"H3 ERI Renta líquida",1,30,{"$f":"(BD3622=Parametros[Segmento])*(BE3622>0)*(BF3622>0)","v":0}]
[null,236,null,null,null,null,"Cartera de crédito y operaciones de leasing",null,{"$f":"+' '!D1932","v":0},null,{"$f":"SUM(' '!F1933:F1934)","v":0},{"$f":"SUM(' '!E1933:E1934)","v":0},0,null,{"$f":"IF(M3636=\"\",\"\",IF(AND(' '!$D$246=9%,' '!$D$245<>\"Mega inversiones en servicios hoteleros \"),M3636,0))","v":0},{"$f":"IF(M3636=\"\",\"\",IF(' '!$D$246=15%,M3636,0))","v":0},{"$f":"IF(M3636=\"\",\"\",IF(' '!$D$246=20%,M3636,0))","v":0},{"$f":"IF(M3636=\"\",\"\",IF(' '!$D$245=\"Mega inversiones en servicios hoteleros \",M3636,0))","v":0},{"$f":"IF(M3636=\"\",\"\",IF(' '!$D$246=27%,M3636,0))","v":0},{"$f":"IF(M3636=\"\",\"\",IF(' '!$D$246=35%,M3636,0))","v":0},{"$f":"IF(M3636=\"\",\"\",IF(OR(' '!$D$246=2%,' '!$D$246=26.25%,' '!$D$246=8.75%,' '!$D$246=17.5%,' '!$D$246=0%),M3636,0))","v":0},null,null,null,null,null,null,null,null,null,null,null,null,null,null,null,null,null,null,null,null,null,null,null,null,null,null,null,null,null,null,null,null,null,null,"H3 ERI Renta líquida",1,18,{"$f":"(BD3636=Parametros[Segmento])*(BE3636>0)*(BF3636>0)","v":0}]
[null,239,null,null,null,null,"Otros deterioros",null,{"$f":"+' '!D1941","v":0},null,{"$f":"SUM(' '!F1942:F1943)","v":0},{"$f":"SUM(' '!E1942:E1943)","v":0},0,null,{"$f":"IF(M3639=\"\",\"\",IF(AND(' '!$D$246=9%,' '!$D$245<>\"Mega inversiones en servicios hoteleros \"),M3639,0))","v":0},{"$f":"IF(M3639=\"\",\"\",IF(' '!$D$246=15%,M3639,0))","v":0},{"$f":"IF(M3639=\"\",\"\",IF(' '!$D$246=20%,M3639,0))","v":0},{"$f":"IF(M3639=\"\",\"\",IF(' '!$D$245=\"Mega inversiones en servicios hoteleros \",M3639,0))","v":0},{"$f":"IF(M3639=\"\",\"\",IF(' '!$D$246=27%,M3639,0))","v":0},{"$f":"IF(M3639=\"\",\"\",IF(' '!$D$246=35%,M3639,0))","v":0},{"$f":"IF(M3639=\"\",\"\",IF(OR(' '!$D$246=2%,' '!$D$246=26.25%,' '!$D$246=8.75%,' '!$D$246=17.5%,' '!$D$246=0%),M3639,0))","v":0},null,null,null,null,null,null,null,null,null,null,null,null,null,null,null,null,null,null,null,null,null,null,null,null,null,null,null,null,null,null,null,null,null,null,"H3 ERI Renta líquida",1,18,{"$f":"(BD3639=Parametros[Segmento])*(BE3639>0)*(BF3639>0)","v":0}]
[null,250,null,null,null,"Honorarios",null,null,{"$f":"+' '!D1975","v":0},null,{"$f":"SUM(' '!F1976:F1977)","v":0},{"$f":"SUM(' '!E1976:E1977)","v":0},0,null,{"$f":"IF(M3650=\"\",\"\",IF(AND(' '!$D$246=9%,' '!$D$245<>\"Mega inversiones en servicios hoteleros \"),M3650,0))","v":0},{"$f":"IF(M3650=\"\",\"\",IF(' '!$D$246=15%,M3650,0))","v":0},{"$f":"IF(M3650=\"\",\"\",IF(' '!$D$246=20%,M3650,0))","v":0},{"$f":"IF(M3650=\"\",\"\",IF(' '!$D$245=\"Mega inversiones en servicios hoteleros \",M3650,0))","v":0},{"$f":"IF(M3650=\"\",\"\",IF(' '!$D$246=27%,M3650,0))","v":0},{"$f":"IF(M3650=\"\",\"\",IF(' '!$D$246=35%,M3650,0))","v":0},{"$f":"IF(M3650=\"\",\"\",IF(OR(' '!$D$246=2%,' '!$D$246=26.25%,' '!$D$246=8.75%,' '!$D$246=17.5%,' '!$D$246=0%),M3650,0))","v":0},null,null,null,null,null,null,null,null,null,null,null,null,null,null,null,null,null,null,null,null,null,null,null,null,null,null,null,null,null,null,null,null,null,null,"H3 ERI Renta líquida",1,18,{"$f":"(BD3650=Parametros[Segmento])*(BE3650>0)*(BF3650>0)","v":0}]
[null,256,null,null,null,null,null,"Jurisdicciones no cooperantes, de baja o nula imposición y regímenes tributarios preferenciales",{"$f":"+' '!D1993","v":0},null,{"$f":"SUM(' '!F1994:F1995)","v":0},{"$f":"SUM(' '!E1994:E1995)","v":0},0,null,{"$f":"IF(M3656=\"\",\"\",IF(AND(' '!$D$246=9%,' '!$D$245<>\"Mega inversiones en servicios hoteleros \"),M3656,0))","v":0},{"$f":"IF(M3656=\"\",\"\",IF(' '!$D$246=15%,M3656,0))","v":0},{"$f":"IF(M3656=\"\",\"\",IF(' '!$D$246=20%,M3656,0))","v":0},{"$f":"IF(M3656=\"\",\"\",IF(' '!$D$245=\"Mega inversiones en servicios hoteleros \",M3656,0))","v":0},{"$f":"IF(M3656=\"\",\"\",IF(' '!$D$246=27%,M3656,0))","v":0},{"$f":"IF(M3656=\"\",\"\",IF(' '!$D$246=35%,M3656,0))","v":0},{"$f":"IF(M3656=\"\",\"\",IF(OR(' '!$D$246=2%,' '!$D$246=26.25%,' '!$D$246=8.75%,' '!$D$246=17.5%,' '!$D$246=0%),M3656,0))","v":0},null,null,null,null,null,null,null,null,null,null,null,null,null,null,null,null,null,null,null,null,null,null,null,null,null,null,null,null,null,null,null,null,null,null,"H3 ERI Renta líquida",1,30,{"$f":"(BD3656=Parametros[Segmento])*(BE3656>0)*(BF3656>0)","v":0}]
[null,264,null,null,null,"Reparación, mantenimiento, adecuación e instalaciones",null,null,{"$f":"+' '!D2017","v":0},null,{"$f":"SUM(' '!F2018:F2019)","v":0},{"$f":"SUM(' '!E2018:E2019)","v":0},0,null,{"$f":"IF(M3664=\"\",\"\",IF(AND(' '!$D$246=9%,' '!$D$245<>\"Mega inversiones en servicios hoteleros \"),M3664,0))","v":0},{"$f":"IF(M3664=\"\",\"\",IF(' '!$D$246=15%,M3664,0))","v":0},{"$f":"IF(M3664=\"\",\"\",IF(' '!$D$246=20%,M3664,0))","v":0},{"$f":"IF(M3664=\"\",\"\",IF(' '!$D$245=\"Mega inversiones en servicios hoteleros \",M3664,0))","v":0},{"$f":"IF(M3664=\"\",\"\",IF(' '!$D$246=27%,M3664,0))","v":0},{"$f":"IF(M3664=\"\",\"\",IF(' '!$D$246=35%,M3664,0))","v":0},{"$f":"IF(M3664=\"\",\"\",IF(OR(' '!$D$246=2%,' '!$D$246=26.25%,' '!$D$246=8.75%,' '!$D$246=17.5%,' '!$D$246=0%),M3664,0))","v":0},null,null,null,null,null,null,null,null,null,null,null,null,null,null,null,null,null,null,null,null,null,null,null,null,null,null,null,null,null,null,null,null,null,null,"H3 ERI Renta líquida",1,18,{"$f":"(BD3664=Parametros[Segmento])*(BE3664>0)*(BF3664>0)","v":0}]
[null,273,null,null,null,"Depreciación propiedades de inversión",null,"Del costo  ",{"$f":"+' '!D2046","v":0},null,{"$f":"SUM(' '!F2047:F2048)","v":0},{"$f":"SUM(' '!E2047:E2048)","v":0},{"$f":"+I3673+J3673-K3673+L3673","v":0},null,{"$f":"IF(M3673=\"\",\"\",IF(AND(' '!$D$246=9%,' '!$D$245<>\"Mega inversiones en servicios hoteleros \"),M3673,0))","v":0},{"$f":"IF(M3673=\"\",\"\",IF(' '!$D$246=15%,M3673,0))","v":0},{"$f":"IF(M3673=\"\",\"\",IF(' '!$D$246=20%,M3673,0))","v":0},{"$f":"IF(M3673=\"\",\"\",IF(' '!$D$245=\"Mega inversiones en servicios hoteleros \",M3673,0))","v":0},{"$f":"IF(M3673=\"\",\"\",IF(' '!$D$246=27%,M3673,0))","v":0},{"$f":"IF(M3673=\"\",\"\",IF(' '!$D$246=35%,M3673,0))","v":0},{"$f":"IF(M3673=\"\",\"\",IF(OR(' '!$D$246=2%,' '!$D$246=26.25%,' '!$D$246=8.75%,' '!$D$246=17.5%,' '!$D$246=0%),M3673,0))","v":0},null,null,null,null,null,null,null,null,null,null,null,null,null,null,null,null,null,null,null,null,null,null,null,null,null,null,null,null,null,null,null,null,null,null,"H3 ERI Renta líquida",1,18,{"$f":"(BD3673=Parametros[Segmento])*(BE3673>0)*(BF3673>0)","v":0}]
[null,278,null,null,null,null,null,"Del ajuste acumulado por revaluaciones o reexpresiones",{"$f":"+' '!D2061","v":0},null,{"$f":"SUM(' '!F2062:F2063)","v":0},{"$f":"SUM(' '!E2062:E2063)","v":0},0,null,{"$f":"IF(M3678=\"\",\"\",IF(AND(' '!$D$246=9%,' '!$D$245<>\"Mega inversiones en servicios hoteleros \"),M3678,0))","v":0},{"$f":"IF(M3678=\"\",\"\",IF(' '!$D$246=15%,M3678,0))","v":0},{"$f":"IF(M3678=\"\",\"\",IF(' '!$D$246=20%,M3678,0))","v":0},{"$f":"IF(M3678=\"\",\"\",IF(' '!$D$245=\"Mega inversiones en servicios hoteleros \",M3678,0))","v":0},{"$f":"IF(M3678=\"\",\"\",IF(' '!$D$246=27%,M3678,0))","v":0},{"$f":"IF(M3678=\"\",\"\",IF(' '!$D$246=35%,M3678,0))","v":0},{"$f":"IF(M3678=\"\",\"\",IF(OR(' '!$D$246=2%,' '!$D$246=26.25%,' '!$D$246=8.75%,' '!$D$246=17.5%,' '!$D$246=0%),M3678,0))","v":0},null,null,null,null,null,null,null,null,null,null,null,null,null,null,null,null,null,null,null,null,null,null,null,null,null,null,null,null,null,null,null,null,null,null,"H3 ERI Renta líquida",1,30,{"$f":"(BD3678=Parametros[Segmento])*(BE3678>0)*(BF3678>0)","v":0}]
[null,282,null,null,null,"Deterioro del valor de los activos","Inventarios",null,{"$f":"+' '!D2073","v":0},null,{"$f":"SUM(' '!F2074:F2075)","v":0},{"$f":"SUM(' '!E2074:E2075)","v":0},{"$f":"I3682+J3682-K3682+L3682","v":0},null,{"$f":"IF(M3682=\"\",\"\",IF(AND(' '!$D$246=9%,' '!$D$245<>\"Mega inversiones en servicios hoteleros \"),M3682,0))","v":0},{"$f":"IF(M3682=\"\",\"\",IF(' '!$D$246=15%,M3682,0))","v":0},{"$f":"IF(M3682=\"\",\"\",IF(' '!$D$246=20%,M3682,0))","v":0},{"$f":"IF(M3682=\"\",\"\",IF(' '!$D$245=\"Mega inversiones en servicios hoteleros \",M3682,0))","v":0},{"$f":"IF(M3682=\"\",\"\",IF(' '!$D$246=27%,M3682,0))","v":0},{"$f":"IF(M3682=\"\",\"\",IF(' '!$D$246=35%,M3682,0))","v":0},{"$f":"IF(M3682=\"\",\"\",IF(OR(' '!$D$246=2%,' '!$D$246=26.25%,' '!$D$246=8.75%,' '!$D$246=17.5%,' '!$D$246=0%),M3682,0))","v":0},null,null,null,null,null,null,null,null,null,null,null,null,null,null,null,null,null,null,null,null,null,null,null,null,null,null,null,null,null,null,null,null,null,null,"H3 ERI Renta líquida",1,18,{"$f":"(BD3682=Parametros[Segmento])*(BE3682>0)*(BF3682>0)","v":0}]
[null,295,null,"Gastos financieros ",null,null,null,null,{"$f":"SUM(I3696:I3706)","v":0},{"$f":"SUM(J3696:J3706)","v":0},{"$f":"SUM(K3696:K3706)","v":0},{"$f":"SUM(L3696:L3706)","v":0},{"$f":"SUM(M3696:M3706)","v":0},null,{"$f":"IF(M3695=\"\",\"\",IF(AND(' '!$D$246=9%,' '!$D$245<>\"Mega inversiones en servicios hoteleros \"),M3695,0))","v":0},{"$f":"IF(M3695=\"\",\"\",IF(' '!$D$246=15%,M3695,0))","v":0},{"$f":"IF(M3695=\"\",\"\",IF(' '!$D$246=20%,M3695,0))","v":0},{"$f":"IF(M3695=\"\",\"\",IF(' '!$D$245=\"Mega inversiones en servicios hoteleros \",M3695,0))","v":0},{"$f":"IF(M3695=\"\",\"\",IF(' '!$D$246=27%,M3695,0))","v":0},{"$f":"IF(M3695=\"\",\"\",IF(' '!$D$246=35%,M3695,0))","v":0},{"$f":"IF(M3695=\"\",\"\",IF(OR(' '!$D$246=2%,' '!$D$246=26.25%,' '!$D$246=8.75%,' '!$D$246=17.5%,' '!$D$246=0%),M3695,0))","v":0},null,null,null,null,null,null,null,null,null,null,null,null,null,null,null,null,null,null,null,null,null,null,null,null,null,null,null,null,null,null,null,null,null,null,"H3 ERI Renta líquida",1,18,{"$f":"(BD3695=Parametros[Segmento])*(BE3695>0)*(BF3695>0)","v":0}]
[null,299,null,null,"Intereses devengados por préstamos de terceros (distinto al sector financiero)",null,null,null,{"$f":"+' '!D2126","v":0},null,{"$f":"SUM(' '!F2127:F2128)","v":0},{"$f":"SUM(' '!E2127:E2128)","v":0},{"$f":"+I3699+J3699-K3699+L3699","v":0},null,{"$f":"IF(M3699=\"\",\"\",IF(AND(' '!$D$246=9%,' '!$D$245<>\"Mega inversiones en servicios hoteleros \"),M3699,0))","v":0},{"$f":"IF(M3699=\"\",\"\",IF(' '!$D$246=15%,M3699,0))","v":0},{"$f":"IF(M3699=\"\",\"\",IF(' '!$D$246=20%,M3699,0))","v":0},{"$f":"IF(M3699=\"\",\"\",IF(' '!$D$245=\"Mega inversiones en servicios hoteleros \",M3699,0))","v":0},{"$f":"IF(M3699=\"\",\"\",IF(' '!$D$246=27%,M3699,0))","v":0},{"$f":"IF(M3699=\"\",\"\",IF(' '!$D$246=35%,M3699,0))","v":0},{"$f":"IF(M3699=\"\",\"\",IF(OR(' '!$D$246=2%,' '!$D$246=26.25%,' '!$D$246=8.75%,' '!$D$246=17.5%,' '!$D$246=0%),M3699,0))","v":0},null,null,null,null,null,null,null,null,null,null,null,null,null,null,null,null,null,null,null,null,null,null,null,null,null,null,null,null,null,null,null,null,null,null,"H3 ERI Renta líquida",1,18,{"$f":"(BD3699=Parametros[Segmento])*(BE3699>0)*(BF3699>0)","v":0}]
[null,309,null,null,"Pérdidas por mediciones a valor razonable",null,null,null,{"$f":"+' '!D2196","v":0},null,{"$f":"+' '!F2196","v":0},null,null,null,{"$f":"IF(M3709=\"\",\"\",IF(AND(' '!$D$246=9%,' '!$D$245<>\"Mega inversiones en servicios hoteleros \"),M3709,0))","v":""},{"$f":"IF(M3709=\"\",\"\",IF(' '!$D$246=15%,M3709,0))","v":""},{"$f":"IF(M3709=\"\",\"\",IF(' '!$D$246=20%,M3709,0))","v":""},{"$f":"IF(M3709=\"\",\"\",IF(' '!$D$245=\"Mega inversiones en servicios hoteleros \",M3709,0))","v":""},{"$f":"IF(M3709=\"\",\"\",IF(' '!$D$246=27%,M3709,0))","v":""},{"$f":"IF(M3709=\"\",\"\",IF(' '!$D$246=35%,M3709,0))","v":""},{"$f":"IF(M3709=\"\",\"\",IF(OR(' '!$D$246=2%,' '!$D$246=26.25%,' '!$D$246=8.75%,' '!$D$246=17.5%,' '!$D$246=0%),M3709,0))","v":""},null,null,null,null,null,null,null,null,null,null,null,null,null,null,null,null,null,null,null,null,null,null,null,null,null,null,null,null,null,null,null,null,null,null,"H3 ERI Renta líquida",1,18,{"$f":"(BD3709=Parametros[Segmento])*(BE3709>0)*(BF3709>0)","v":0}]
[null,316,null,"Pérdida en la venta o enajenación de activos fijos",null,null,null,null,{"$f":"SUM(I3717:I3725)","v":0},{"$f":"SUM(J3717:J3725)","v":0},{"$f":"SUM(K3717:K3725)","v":0},{"$f":"SUM(L3717:L3725)","v":0},{"$f":"SUM(M3717:M3725)","v":0},null,{"$f":"IF(M3716=\"\",\"\",IF(AND(' '!$D$246=9%,' '!$D$245<>\"Mega inversiones en servicios hoteleros \"),M3716,0))","v":0},{"$f":"IF(M3716=\"\",\"\",IF(' '!$D$246=15%,M3716,0))","v":0},{"$f":"IF(M3716=\"\",\"\",IF(' '!$D$246=20%,M3716,0))","v":0},{"$f":"IF(M3716=\"\",\"\",IF(' '!$D$245=\"Mega inversiones en servicios hoteleros \",M3716,0))","v":0},{"$f":"IF(M3716=\"\",\"\",IF(' '!$D$246=27%,M3716,0))","v":0},{"$f":"IF(M3716=\"\",\"\",IF(' '!$D$246=35%,M3716,0))","v":0},{"$f":"IF(M3716=\"\",\"\",IF(OR(' '!$D$246=2%,' '!$D$246=26.25%,' '!$D$246=8.75%,' '!$D$246=17.5%,' '!$D$246=0%),M3716,0))","v":0},null,null,null,null,null,null,null,null,null,null,null,null,null,null,null,null,null,null,null,null,null,null,null,null,null,null,null,null,null,null,null,null,null,null,"H3 ERI Renta líquida",1,18,{"$f":"(BD3716=Parametros[Segmento])*(BE3716>0)*(BF3716>0)","v":0}]
[null,323,null,null,"Descuento en operaciones de factoring",null,null,null,{"$f":"+' '!D2232","v":0},null,{"$f":"SUM(' '!F2233:F2234)","v":0},{"$f":"SUM(' '!E2233:E2234)","v":0},0,null,{"$f":"IF(M3723=\"\",\"\",IF(AND(' '!$D$246=9%,' '!$D$245<>\"Mega inversiones en servicios hoteleros \"),M3723,0))","v":0},{"$f":"IF(M3723=\"\",\"\",IF(' '!$D$246=15%,M3723,0))","v":0},{"$f":"IF(M3723=\"\",\"\",IF(' '!$D$246=20%,M3723,0))","v":0},{"$f":"IF(M3723=\"\",\"\",IF(' '!$D$245=\"Mega inversiones en servicios hoteleros \",M3723,0))","v":0},{"$f":"IF(M3723=\"\",\"\",IF(' '!$D$246=27%,M3723,0))","v":0},{"$f":"IF(M3723=\"\",\"\",IF(' '!$D$246=35%,M3723,0))","v":0},{"$f":"IF(M3723=\"\",\"\",IF(OR(' '!$D$246=2%,' '!$D$246=26.25%,' '!$D$246=8.75%,' '!$D$246=17.5%,' '!$D$246=0%),M3723,0))","v":0},null,null,null,null,null,null,null,null,null,null,null,null,null,null,null,null,null,null,null,null,null,null,null,null,null,null,null,null,null,null,null,null,null,null,"H3 ERI Renta líquida",1,18,{"$f":"(BD3723=Parametros[Segmento])*(BE3723>0)*(BF3723>0)","v":0}]
[null,333,null,null,"Otros",null,null,null,{"$f":"+' '!D2175","v":0},null,{"$f":"SUM(' '!F2176:F2177)","v":0},{"$f":"SUM(' '!E2176:E2177)","v":0},0,null,{"$f":"IF(M3733=\"\",\"\",IF(AND(' '!$D$246=9%,' '!$D$245<>\"Mega inversiones en servicios hoteleros \"),M3733,0))","v":0},{"$f":"IF(M3733=\"\",\"\",IF(' '!$D$246=15%,M3733,0))","v":0},{"$f":"IF(M3733=\"\",\"\",IF(' '!$D$246=20%,M3733,0))","v":0},{"$f":"IF(M3733=\"\",\"\",IF(' '!$D$245=\"Mega inversiones en servicios hoteleros \",M3733,0))","v":0},{"$f":"IF(M3733=\"\",\"\",IF(' '!$D$246=27%,M3733,0))","v":0},{"$f":"IF(M3733=\"\",\"\",IF(' '!$D$246=35%,M3733,0))","v":0},{"$f":"IF(M3733=\"\",\"\",IF(OR(' '!$D$246=2%,' '!$D$246=26.25%,' '!$D$246=8.75%,' '!$D$246=17.5%,' '!$D$246=0%),M3733,0))","v":0},null,null,null,null,null,null,null,null,null,null,null,null,null,null,null,null,null,null,null,null,null,null,null,null,null,null,null,null,null,null,null,null,null,null,"H3 ERI Renta líquida",1,18,{"$f":"(BD3733=Parametros[Segmento])*(BE3733>0)*(BF3733>0)","v":0}]
[null,337,null,null,"Contribuciones a educación de los empleados",null,null,null,{"$f":"+' '!D2184","v":0},null,{"$f":"SUM(' '!F2185:F2186)","v":0},{"$f":"SUM(' '!E2185:E2186)","v":0},{"$f":"+I3737+J3737-K3737+L3737","v":0},null,{"$f":"IF(M3737=\"\",\"\",IF(AND(' '!$D$246=9%,' '!$D$245<>\"Mega inversiones en servicios hoteleros \"),M3737,0))","v":0},{"$f":"IF(M3737=\"\",\"\",IF(' '!$D$246=15%,M3737,0))","v":0},{"$f":"IF(M3737=\"\",\"\",IF(' '!$D$246=20%,M3737,0))","v":0},{"$f":"IF(M3737=\"\",\"\",IF(' '!$D$245=\"Mega inversiones en servicios hoteleros \",M3737,0))","v":0},{"$f":"IF(M3737=\"\",\"\",IF(' '!$D$246=27%,M3737,0))","v":0},{"$f":"IF(M3737=\"\",\"\",IF(' '!$D$246=35%,M3737,0))","v":0},{"$f":"IF(M3737=\"\",\"\",IF(OR(' '!$D$246=2%,' '!$D$246=26.25%,' '!$D$246=8.75%,' '!$D$246=17.5%,' '!$D$246=0%),M3737,0))","v":0},null,null,null,null,null,null,null,null,null,null,null,null,null,null,null,null,null,null,null,null,null,null,null,null,null,null,null,null,null,null,null,null,null,null,"H3 ERI Renta líquida",1,18,{"$f":"(BD3737=Parametros[Segmento])*(BE3737>0)*(BF3737>0)","v":0}]
[null,342,null,"TOTAL GASTOS",null,null,null,null,{"$f":"I3588+I3640+I3695+I3707+I3710+I3716+I3726+I3734+I3740","v":0},{"$f":"J3588+J3640+J3695+J3707+J3710+J3716+J3726+J3734+J3740","v":0},{"$f":"K3588+K3640+K3695+K3707+K3710+K3716+K3726+K3734+K3740","v":0},{"$f":"L3588+L3640+L3695+L3707+L3710+L3716+L3726+L3734+L3740-L3741","v":0},{"$f":"M3588+M3640+M3695+M3707+M3710+M3716+M3726+M3734+M3740-M3741","v":0},null,{"$f":"IF(M3742=\"\",\"\",IF(AND(' '!$D$246=9%,' '!$D$245<>\"Mega inversiones en servicios hoteleros \"),M3742,0))","v":0},{"$f":"IF(M3742=\"\",\"\",IF(' '!$D$246=15%,M3742,0))","v":0},{"$f":"IF(M3742=\"\",\"\",IF(' '!$D$246=20%,M3742,0))","v":0},{"$f":"IF(M3742=\"\",\"\",IF(' '!$D$245=\"Mega inversiones en servicios hoteleros \",M3742,0))","v":0},{"$f":"IF(M3742=\"\",\"\",IF(' '!$D$246=27%,M3742,0))","v":0},{"$f":"IF(M3742=\"\",\"\",IF(' '!$D$246=35%,M3742,0))","v":0},{"$f":"IF(M3742=\"\",\"\",IF(OR(' '!$D$246=2%,' '!$D$246=26.25%,' '!$D$246=8.75%,' '!$D$246=17.5%,' '!$D$246=0%),M3742,0))","v":0},null,null,null,null,null,null,null,null,null,null,null,null,null,null,null,null,null,null,null,null,null,null,null,null,null,null,null,null,null,null,null,null,null,null,"H3 ERI Renta líquida",1,18,{"$f":"(BD3742=Parametros[Segmento])*(BE3742>0)*(BF3742>0)","v":0}]
[null,351,null,null,"Otros beneficios fiscales",null,"Deducción especiales por inversiones o en adquisición de activos (contrato de estabilidad jurídica)",null,null,null,null,null,0,null,null,null,null,null,null,null,null,null,null,null,null,null,null,null,null,null,null,null,null,null,null,null,null,null,null,null,null,null,null,null,null,null,null,null,null,null,null,null,null,null,null,"H3 ERI Renta líquida",1,28.2,{"$f":"(BD3751=Parametros[Segmento])*(BE3751>0)*(BF3751>0)","v":0}]
[null,360,null,null,"Pérdidas y Gastos no deducibles",null,"Deducciones de impuestos (GMF, Patrimonio vehículos, entre otros)",null,null,null,null,null,{"$f":"+L3760","v":0},null,null,null,null,null,null,null,null,null,null,null,null,null,null,null,null,null,null,null,null,null,null,null,null,null,null,null,null,null,null,null,null,null,null,null,null,null,null,null,null,null,null,"H3 ERI Renta líquida",1,18,{"$f":"(BD3760=Parametros[Segmento])*(BE3760>0)*(BF3760>0)","v":0}]
[null,368,null,null,null,null,"Otros gastos financieros no deducibles",null,null,null,null,null,0,null,null,null,null,null,null,null,null,null,null,null,null,null,null,null,null,null,null,null,null,null,null,null,null,null,null,null,null,null,null,null,null,null,null,null,null,null,null,null,null,null,null,"H3 ERI Renta líquida",1,18,{"$f":"(BD3768=Parametros[Segmento])*(BE3768>0)*(BF3768>0)","v":0}]
[null,374,null,null,null,null,"Limitación de costos por compras a proveedores ficticios o insolventes",null,null,null,null,null,0,null,null,null,null,null,null,null,null,null,null,null,null,null,null,null,null,null,null,null,null,null,null,null,null,null,null,null,null,null,null,null,null,null,null,null,null,null,null,null,null,null,null,"H3 ERI Renta líquida",1,33.5,{"$f":"(BD3774=Parametros[Segmento])*(BE3774>0)*(BF3774>0)","v":0}]
[null,385,null,null,null,null,"Rentas liquidas por ventas de inversiones",null,null,null,null,null,0,null,null,null,null,null,null,null,null,null,null,null,null,null,null,null,null,null,null,null,null,null,null,null,null,null,null,null,null,null,null,null,null,null,null,null,null,null,null,null,null,null,null,"H3 ERI Renta líquida",1,18,{"$f":"(BD3785=Parametros[Segmento])*(BE3785>0)*(BF3785>0)","v":0}]
[null,391,null,"GANANCIA (O PÉRDIDA) CONTABLE  CON DIFERENCIAS PERMANENTES",null,null,null,null,null,null,null,null,{"$f":"+I3743-M3747+M3759","v":0},null,null,null,null,null,null,null,null,null,null,null,null,null,null,null,null,null,null,null,null,null,null,null,null,null,null,null,null,null,null,null,null,null,null,null,null,null,null,null,null,null,null,"H3 ERI Renta líquida",1,18,{"$f":"(BD3791=Parametros[Segmento])*(BE3791>0)*(BF3791>0)","v":0}]
[null,402,null,null,null,null,"Activos financieros (diferentes a cartera de crédito y operaciones de leasing)",null,null,null,{"$f":"+I3567+I3635+I3690","v":0},null,null,null,{"$f":"IF(M3802=\"\",\"\",IF(AND(' '!$D$246=9%,' '!$D$245<>\"Mega inversiones en servicios hoteleros \"),M3802,0))","v":""},{"$f":"IF(M3802=\"\",\"\",IF(' '!$D$246=15%,M3802,0))","v":""},{"$f":"IF(M3802=\"\",\"\",IF(' '!$D$246=27%,M3802,0))","v":""},{"$f":"IF(M3802=\"\",\"\",IF(' '!$D$245=\"Mega inversiones en servicios hoteleros \",M3802,0))","v":""},{"$f":"IF(M3802=\"\",\"\",IF(' '!$D$246=27%,M3802,0))","v":""},{"$f":"IF(M3802=\"\",\"\",IF(' '!$D$246=35%,M3802,0))","v":""},{"$f":"IF(M3802=\"\",\"\",IF(OR(' '!$D$246=2%,' '!$D$246=26.25%,' '!$D$246=8.75%,' '!$D$246=17.5%,' '!$D$246=0%),M3802,0))","v":""},null,null,null,null,null,null,null,null,null,null,null,null,null,null,null,null,null,null,null,null,null,null,null,null,null,null,null,null,null,null,null,null,null,null,"H3 ERI Renta líquida",1,28.2,{"$f":"(BD3802=Parametros[Segmento])*(BE3802>0)*(BF3802>0)","v":0}]
[null,405,null,null,null,null,"Otras pérdidas por deterioro",null,null,null,{"$f":"+I3570+I3571+I3638+I3639+I3693+I3694","v":0},null,null,null,{"$f":"IF(M3805=\"\",\"\",IF(AND(' '!$D$246=9%,' '!$D$245<>\"Mega inversiones en servicios hoteleros \"),M3805,0))","v":""},{"$f":"IF(M3805=\"\",\"\",IF(' '!$D$246=15%,M3805,0))","v":""},{"$f":"IF(M3805=\"\",\"\",IF(' '!$D$246=27%,M3805,0))","v":""},{"$f":"IF(M3805=\"\",\"\",IF(' '!$D$245=\"Mega inversiones en servicios hoteleros \",M3805,0))","v":""},{"$f":"IF(M3805=\"\",\"\",IF(' '!$D$246=27%,M3805,0))","v":""},{"$f":"IF(M3805=\"\",\"\",IF(' '!$D$246=35%,M3805,0))","v":""},{"$f":"IF(M3805=\"\",\"\",IF(OR(' '!$D$246=2%,' '!$D$246=26.25%,' '!$D$246=8.75%,' '!$D$246=17.5%,' '!$D$246=0%),M3805,0))","v":""},null,null,null,null,null,null,null,null,null,null,null,null,null,null,null,null,null,null,null,null,null,null,null,null,null,null,null,null,null,null,null,null,null,null,"H3 ERI Renta líquida",1,18,{"$f":"(BD3805=Parametros[Segmento])*(BE3805>0)*(BF3805>0)","v":0}]
[null,411,null,null,"Gastos por amortización que han excedido el límite máximo fiscal",null,null,null,null,null,null,null,null,null,{"$f":"IF(M3811=\"\",\"\",IF(AND(' '!$D$246=9%,' '!$D$245<>\"Mega inversiones en servicios hoteleros \"),M3811,0))","v":""},{"$f":"IF(M3811=\"\",\"\",IF(' '!$D$246=15%,M3811,0))","v":""},{"$f":"IF(M3811=\"\",\"\",IF(' '!$D$246=27%,M3811,0))","v":""},{"$f":"IF(M3811=\"\",\"\",IF(' '!$D$245=\"Mega inversiones en servicios hoteleros \",M3811,0))","v":""},{"$f":"IF(M3811=\"\",\"\",IF(' '!$D$246=27%,M3811,0))","v":""},{"$f":"IF(M3811=\"\",\"\",IF(' '!$D$246=35%,M3811,0))","v":""},{"$f":"IF(M3811=\"\",\"\",IF(OR(' '!$D$246=2%,' '!$D$246=26.25%,' '!$D$246=8.75%,' '!$D$246=17.5%,' '!$D$246=0%),M3811,0))","v":""},null,null,null,null,null,null,null,null,null,null,null,null,null,null,null,null,null,null,null,null,null,null,null,null,null,null,null,null,null,null,null,null,null,null,"H3 ERI Renta líquida",1,18,{"$f":"(BD3811=Parametros[Segmento])*(BE3811>0)*(BF3811>0)","v":0}]
[null,419,null,null,"Por beneficios a empleados",null,null,null,null,null,null,null,null,null,{"$f":"IF(M3819=\"\",\"\",IF(AND(' '!$D$246=9%,' '!$D$245<>\"Mega inversiones en servicios hoteleros \"),M3819,0))","v":""},{"$f":"IF(M3819=\"\",\"\",IF(' '!$D$246=15%,M3819,0))","v":""},{"$f":"IF(M3819=\"\",\"\",IF(' '!$D$246=27%,M3819,0))","v":""},{"$f":"IF(M3819=\"\",\"\",IF(' '!$D$245=\"Mega inversiones en servicios hoteleros \",M3819,0))","v":""},{"$f":"IF(M3819=\"\",\"\",IF(' '!$D$246=27%,M3819,0))","v":""},{"$f":"IF(M3819=\"\",\"\",IF(' '!$D$246=35%,M3819,0))","v":""},{"$f":"IF(M3819=\"\",\"\",IF(OR(' '!$D$246=2%,' '!$D$246=26.25%,' '!$D$246=8.75%,' '!$D$246=17.5%,' '!$D$246=0%),M3819,0))","v":""},null,null,null,null,null,null,null,null,null,null,null,null,null,null,null,null,null,null,null,null,null,null,null,null,null,null,null,null,null,null,null,null,null,null,"H3 ERI Renta líquida",1,18,{"$f":"(BD3819=Parametros[Segmento])*(BE3819>0)*(BF3819>0)","v":0}]
[null,428,null,null,"Rentas con derecho a cobro (causadas) que no cumplieron criterios para ser contabilizadas como ingresos del período gravable",null,null,null,null,null,null,null,null,null,{"$f":"IF(M3828=\"\",\"\",IF(AND(' '!$D$246=9%,' '!$D$245<>\"Mega inversiones en servicios hoteleros \"),M3828,0))","v":""},{"$f":"IF(M3828=\"\",\"\",IF(' '!$D$246=15%,M3828,0))","v":""},{"$f":"IF(M3828=\"\",\"\",IF(' '!$D$246=27%,M3828,0))","v":""},{"$f":"IF(M3828=\"\",\"\",IF(' '!$D$245=\"Mega inversiones en servicios hoteleros \",M3828,0))","v":""},{"$f":"IF(M3828=\"\",\"\",IF(' '!$D$246=27%,M3828,0))","v":""},{"$f":"IF(M3828=\"\",\"\",IF(' '!$D$246=35%,M3828,0))","v":""},{"$f":"IF(M3828=\"\",\"\",IF(OR(' '!$D$246=2%,' '!$D$246=26.25%,' '!$D$246=8.75%,' '!$D$246=17.5%,' '!$D$246=0%),M3828,0))","v":""},null,null,null,null,null,null,null,null,null,null,null,null,null,null,null,null,null,null,null,null,null,null,null,null,null,null,null,null,null,null,null,null,null,null,"H3 ERI Renta líquida",1,28.2,{"$f":"(BD3828=Parametros[Segmento])*(BE3828>0)*(BF3828>0)","v":0}]
[null,433,null,null,null,null,null,"Aplicación del modelo de revaluación",null,null,null,null,null,null,{"$f":"IF(M3833=\"\",\"\",IF(AND(' '!$D$246=9%,' '!$D$245<>\"Mega inversiones en servicios hoteleros \"),M3833,0))","v":""},{"$f":"IF(M3833=\"\",\"\",IF(' '!$D$246=15%,M3833,0))","v":""},{"$f":"IF(M3833=\"\",\"\",IF(' '!$D$246=27%,M3833,0))","v":""},{"$f":"IF(M3833=\"\",\"\",IF(' '!$D$245=\"Mega inversiones en servicios hoteleros \",M3833,0))","v":""},{"$f":"IF(M3833=\"\",\"\",IF(' '!$D$246=27%,M3833,0))","v":""},{"$f":"IF(M3833=\"\",\"\",IF(' '!$D$246=35%,M3833,0))","v":""},{"$f":"IF(M3833=\"\",\"\",IF(OR(' '!$D$246=2%,' '!$D$246=26.25%,' '!$D$246=8.75%,' '!$D$246=17.5%,' '!$D$246=0%),M3833,0))","v":""},null,null,null,null,null,null,null,null,null,null,null,null,null,null,null,null,null,null,null,null,null,null,null,null,null,null,null,null,null,null,null,null,null,null,"H3 ERI Renta líquida",1,18,{"$f":"(BD3833=Parametros[Segmento])*(BE3833>0)*(BF3833>0)","v":0}]
[null,445,null,null,"Intereses implícitos (compras o préstamos obtenidos)",null,null,null,null,null,{"$f":"+I3444","v":0},null,null,null,{"$f":"IF(M3845=\"\",\"\",IF(AND(' '!$D$246=9%,' '!$D$245<>\"Mega inversiones en servicios hoteleros \"),M3845,0))","v":""},{"$f":"IF(M3845=\"\",\"\",IF(' '!$D$246=15%,M3845,0))","v":""},{"$f":"IF(M3845=\"\",\"\",IF(' '!$D$246=27%,M3845,0))","v":""},{"$f":"IF(M3845=\"\",\"\",IF(' '!$D$245=\"Mega inversiones en servicios hoteleros \",M3845,0))","v":""},{"$f":"IF(M3845=\"\",\"\",IF(' '!$D$246=27%,M3845,0))","v":""},{"$f":"IF(M3845=\"\",\"\",IF(' '!$D$246=35%,M3845,0))","v":""},{"$f":"IF(M3845=\"\",\"\",IF(OR(' '!$D$246=2%,' '!$D$246=26.25%,' '!$D$246=8.75%,' '!$D$246=17.5%,' '!$D$246=0%),M3845,0))","v":""},null,null,null,null,null,null,null,null,null,null,null,null,null,null,null,null,null,null,null,null,null,null,null,null,null,null,null,null,null,null,null,null,null,null,"H3 ERI Renta líquida",1,18,{"$f":"(BD3845=Parametros[Segmento])*(BE3845>0)*(BF3845>0)","v":0}]
[null,450,null,null,null,null,null,null,"Deducible (+)",null,"Imponible (-)","Imponible (+)","Deducible (-)",null,null,null,null,null,null,null,null,null,null,null,null,null,null,null,null,null,null,null,null,null,null,null,null,null,null,null,null,null,null,null,null,null,null,null,null,null,null,null,null,null,null,"H3 ERI Renta líquida",1,18,{"$f":"(BD3850=Parametros[Segmento])*(BE3850>0)*(BF3850>0)","v":0}]
[null,462,"AJUSTES PARA LIQUIDACION",null,null,null,null,null,null,null,null,null,null,null,{"$f":"IF(M3862=\"\",\"\",IF(AND(' '!$D$246=9%,' '!$D$245<>\"Mega inversiones en servicios hoteleros \"),M3862,0))","v":""},{"$f":"IF(M3862=\"\",\"\",IF(' '!$D$246=15%,M3862,0))","v":""},{"$f":"IF(M3862=\"\",\"\",IF(' '!$D$246=27%,M3862,0))","v":""},{"$f":"IF(M3862=\"\",\"\",IF(' '!$D$245=\"Mega inversiones en servicios hoteleros \",M3862,0))","v":""},{"$f":"IF(M3862=\"\",\"\",IF(' '!$D$246=27%,M3862,0))","v":""},{"$f":"IF(M3862=\"\",\"\",IF(' '!$D$246=35%,M3862,0))","v":""},{"$f":"IF(M3862=\"\",\"\",IF(OR(' '!$D$246=2%,' '!$D$246=26.25%,' '!$D$246=8.75%,' '!$D$246=17.5%,' '!$D$246=0%),M3862,0))","v":""},null,null,null,null,null,null,null,null,null,null,null,null,null,null,null,null,null,null,null,null,null,null,null,null,null,null,null,null,null,null,null,null,null,null,"H3 ERI Renta líquida",1,18,{"$f":"(BD3862=Parametros[Segmento])*(BE3862>0)*(BF3862>0)","v":0}]
[null,464,null,null,null,"Más: valor inversiones liquidadas en el período",null,null,null,null,null,null,{"$f":"+Resumen!G45","v":0},null,{"$f":"IF(M3864=\"\",\"\",IF(AND(' '!$D$246=9%,' '!$D$245<>\"Mega inversiones en servicios hoteleros \"),M3864,0))","v":0},{"$f":"IF(M3864=\"\",\"\",IF(' '!$D$246=15%,M3864,0))","v":0},{"$f":"IF(M3864=\"\",\"\",IF(' '!$D$246=27%,M3864,0))","v":0},{"$f":"IF(M3864=\"\",\"\",IF(' '!$D$245=\"Mega inversiones en servicios hoteleros \",M3864,0))","v":0},{"$f":"IF(M3864=\"\",\"\",IF(' '!$D$246=27%,M3864,0))","v":0},{"$f":"IF(M3864=\"\",\"\",IF(' '!$D$246=35%,M3864,0))","v":0},{"$f":"IF(M3864=\"\",\"\",IF(OR(' '!$D$246=2%,' '!$D$246=26.25%,' '!$D$246=8.75%,' '!$D$246=17.5%,' '!$D$246=0%),M3864,0))","v":0},null,null,null,null,null,null,null,null,null,null,null,null,null,null,null,null,null,null,null,null,null,null,null,null,null,null,null,null,null,null,null,null,null,null,"H3 ERI Renta líquida",1,18,{"$f":"(BD3864=Parametros[Segmento])*(BE3864>0)*(BF3864>0)","v":0}]
[null,471,null,null,null,"Compra o venta de bienes corporales",null,null,{"$f":"+' '!D1382","v":0},null,{"$f":"SUM(' '!F1383:F1384)","v":0},{"$f":"SUM(' '!E1383:E1384)","v":0},0,null,{"$f":"IF(M3871=\"\",\"\",IF(AND(' '!$D$246=9%,' '!$D$245<>\"Mega inversiones en servicios hoteleros \"),M3871,0))","v":0},{"$f":"IF(M3871=\"\",\"\",IF(' '!$D$246=15%,M3871,0))","v":0},{"$f":"IF(M3871=\"\",\"\",IF(' '!$D$246=27%,M3871,0))","v":0},{"$f":"IF(M3871=\"\",\"\",IF(' '!$D$245=\"Mega inversiones en servicios hoteleros \",M3871,0))","v":0},{"$f":"IF(M3871=\"\",\"\",IF(' '!$D$246=27%,M3871,0))","v":0},{"$f":"IF(M3871=\"\",\"\",IF(' '!$D$246=35%,M3871,0))","v":0},{"$f":"IF(M3871=\"\",\"\",IF(OR(' '!$D$246=2%,' '!$D$246=26.25%,' '!$D$246=8.75%,' '!$D$246=17.5%,' '!$D$246=0%),M3871,0))","v":0},null,null,null,null,null,null,null,null,null,null,null,null,null,null,null,null,null,null,null,null,null,null,null,null,null,null,null,null,null,null,null,null,null,null,"H3 ERI Renta líquida",1,18,{"$f":"(BD3871=Parametros[Segmento])*(BE3871>0)*(BF3871>0)","v":0}]
[null,478,"RENTA LÍQUIDA ORDINARIA DEL EJERCICIO-EXEDENTE NETO ",null,null,null,null,null,null,null,null,null,{"$f":"IF(+M3860-M3863+M3864+M3876+M3877>0,+M3860-M3863+M3864+M3876+M3877,0)","v":0},null,{"$f":"IF(M3878=\"\",\"\",IF(AND(' '!$D$246=9%,' '!$D$245<>\"Mega inversiones en servicios hoteleros \"),M3878,0))","v":0},{"$f":"IF(M3878=\"\",\"\",IF(' '!$D$246=15%,M3878,0))","v":0},{"$f":"IF(M3878=\"\",\"\",IF(' '!$D$246=27%,M3878,0))","v":0},{"$f":"IF(M3878=\"\",\"\",IF(' '!$D$245=\"Mega inversiones en servicios hoteleros \",M3878,0))","v":0},{"$f":"IF(M3878=\"\",\"\",IF(' '!$D$246=27%,M3878,0))","v":0},{"$f":"IF(M3878=\"\",\"\",IF(' '!$D$246=35%,M3878,0))","v":0},{"$f":"IF(M3878=\"\",\"\",IF(OR(' '!$D$246=2%,' '!$D$246=26.25%,' '!$D$246=8.75%,' '!$D$246=17.5%,' '!$D$246=0%),M3878,0))","v":0},null,null,null,null,null,null,null,null,null,null,null,null,null,null,null,null,null,null,null,null,null,null,null,null,null,null,null,null,null,null,null,null,null,null,"H3 ERI Renta líquida",1,18,{"$f":"(BD3878=Parametros[Segmento])*(BE3878>0)*(BF3878>0)","v":0}]
[null,488,null,null,null,null,"Bienes vinculados a empresas en período improductivo",null,null,null,null,null,null,null,null,null,null,null,null,null,null,null,null,null,null,null,null,null,null,null,null,null,null,null,null,null,null,null,null,null,null,null,null,null,null,null,null,null,null,null,null,null,null,null,null,"H3 ERI Renta líquida",1,18,{"$f":"(BD3888=Parametros[Segmento])*(BE3888>0)*(BF3888>0)","v":0}]
[null,499,null,"Pasivos inexistentes",null,null,null,null,null,null,null,null,{"$f":"+' '!H2318","v":0},null,{"$f":"IF(M3899=\"\",\"\",IF(AND(' '!$D$246=9%,' '!$D$245<>\"Mega inversiones en servicios hoteleros \"),M3899,0))","v":0},{"$f":"IF(M3899=\"\",\"\",IF(' '!$D$246=15%,M3899,0))","v":0},{"$f":"IF(M3899=\"\",\"\",IF(' '!$D$246=27%,M3899,0))","v":0},{"$f":"IF(M3899=\"\",\"\",IF(' '!$D$245=\"Mega inversiones en servicios hoteleros \",M3899,0))","v":0},{"$f":"IF(M3899=\"\",\"\",IF(' '!$D$246=27%,M3899,0))","v":0},{"$f":"IF(M3899=\"\",\"\",IF(' '!$D$246=35%,M3899,0))","v":0},{"$f":"IF(M3899=\"\",\"\",IF(OR(' '!$D$246=2%,' '!$D$246=26.25%,' '!$D$246=8.75%,' '!$D$246=17.5%,' '!$D$246=0%),M3899,0))","v":0},null,null,null,null,null,null,null,null,null,null,null,null,null,null,null,null,null,null,null,null,null,null,null,null,null,null,null,null,null,null,null,null,null,null,"H3 ERI Renta líquida",1,18,{"$f":"(BD3899=Parametros[Segmento])*(BE3899>0)*(BF3899>0)","v":0}]
[null,505,"Rentas liquidas gravables ",null,null,null,null,null,null,null,null,null,{"$f":"IF(M3883>M3884,M3883-M3896+M3897,M3884-M3896+M3897)","v":0},null,{"$f":"IF(M3905=\"\",\"\",IF(AND(' '!$D$246=9%,' '!$D$245<>\"Mega inversiones en servicios hoteleros \"),M3905,0))","v":0},{"$f":"IF(M3905=\"\",\"\",IF(' '!$D$246=15%,M3905,0))","v":0},{"$f":"IF(M3905=\"\",\"\",IF(' '!$D$246=27%,M3905,0))","v":0},{"$f":"IF(M3905=\"\",\"\",IF(' '!$D$245=\"Mega inversiones en servicios hoteleros \",M3905,0))","v":0},{"$f":"IF(M3905=\"\",\"\",IF(' '!$D$246=27%,M3905,0))","v":0},{"$f":"IF(M3905=\"\",\"\",IF(' '!$D$246=35%,M3905,0))","v":0},{"$f":"IF(M3905=\"\",\"\",IF(OR(' '!$D$246=2%,' '!$D$246=26.25%,' '!$D$246=8.75%,' '!$D$246=17.5%,' '!$D$246=0%),M3905,0))","v":0},null,null,null,null,null,null,null,null,null,null,null,null,null,null,null,null,null,null,null,null,null,null,null,null,null,null,null,null,null,null,null,null,null,null,"H3 ERI Renta líquida",1,18,{"$f":"(BD3905=Parametros[Segmento])*(BE3905>0)*(BF3905>0)","v":0}]
[null,513,null,"Total costos por ganancias ocasionales",null,null,null,null,null,null,null,null,{"$f":"SUM(M3911:M3912)","v":0},null,null,null,null,null,null,null,null,null,null,null,null,null,null,null,null,null,null,null,null,null,null,null,null,null,null,null,null,null,null,null,null,null,null,null,null,null,null,null,null,null,null,"H3 ERI Renta líquida",1,18,{"$f":"(BD3913=Parametros[Segmento])*(BE3913>0)*(BF3913>0)","v":0}]
[null,522,"Descuento efectivo Inversión Obras por Impuestos (Modalidad de pago 2)",null,null,null,null,null,null,null,null,null,{"$f":"+Resumen!G82","v":0},null,null,null,null,null,null,null,null,null,null,null,null,null,null,null,null,null,null,null,null,null,null,null,null,null,null,null,null,null,null,null,null,null,null,null,null,null,null,null,null,null,null,"H3 ERI Renta líquida",1,18,{"$f":"(BD3922=Parametros[Segmento])*(BE3922>0)*(BF3922>0)","v":0}]
[null,523,"Anticipo renta liquidado año anterior",null,null,null,null,null,null,null,null,null,{"$f":"+Resumen!G84","v":0},null,null,null,null,null,null,null,null,null,null,null,null,null,null,null,null,null,null,null,null,null,null,null,null,null,null,null,null,null,null,null,null,null,null,null,null,null,null,null,null,null,null,"H3 ERI Renta líquida",1,18,{"$f":"(BD3923=Parametros[Segmento])*(BE3923>0)*(BF3923>0)","v":0}]
[null,536,null,null,null,null,"Otras retenciones",null,null,null,null,null,{"$f":"+' '!D2368+' '!D2371+' '!D2374+' '!D2377+' '!D2380+' '!D2386+' '!D2396+' '!D2399+' '!D2402","v":0},null,null,null,null,null,null,null,null,null,null,null,null,null,null,null,null,null,null,null,null,null,null,null,null,null,null,null,null,null,null,null,null,null,null,null,null,null,null,null,null,null,null,"H3 ERI Renta líquida",1,18,{"$f":"(BD3936=Parametros[Segmento])*(BE3936>0)*(BF3936>0)","v":0}]
[null,540,"Anticipo puntos adicionales año gravable anterior",null,null,null,null,null,null,null,null,null,{"$f":"+Resumen!G91","v":0},null,null,null,null,null,null,null,null,null,null,null,null,null,null,null,null,null,null,null,null,null,null,null,null,null,null,null,null,null,null,null,null,null,null,null,null,null,null,null,null,null,null,"H3 ERI Renta líquida",1,18,{"$f":"(BD3940=Parametros[Segmento])*(BE3940>0)*(BF3940>0)","v":0}]
[null,546,"Impuesto a Adicionar, límite a beneficios y estímulos tributarios",null,null,null,null,null,null,null,null,null,{"$f":"+Resumen!H76","v":0},null,null,null,null,null,null,null,null,null,null,null,null,null,null,null,null,null,null,null,null,null,null,null,null,null,null,null,null,null,null,null,null,null,null,null,null,null,null,null,null,null,null,"H3 ERI Renta líquida",1,18,{"$f":"(BD3946=Parametros[Segmento])*(BE3946>0)*(BF3946>0)","v":0}]
[null,557,null,null,null,"Activos financieros medidos al valor razonable con cambios en el ORI",null,null,null,null,null,null,null,null,null,null,null,null,null,null,null,null,null,null,null,null,null,null,null,null,null,null,null,null,null,null,null,null,null,null,null,null,null,null,null,null,null,null,null,null,null,null,null,null,null,"H3 ERI Renta líquida",1,18,{"$f":"(BD3957=Parametros[Segmento])*(BE3957>0)*(BF3957>0)","v":0}]
[null,567,null,null,null,null,"Impuestos asumidos del exterior-convenios o tratados",null,null,null,null,null,null,null,null,null,null,null,null,null,null,null,null,null,null,null,null,null,null,null,null,null,null,null,null,null,null,null,null,null,null,null,null,null,null,null,null,null,null,null,null,null,null,null,null,"H3 ERI Renta líquida",1,18,{"$f":"(BD3967=Parametros[Segmento])*(BE3967>0)*(BF3967>0)","v":0}]
[null,574,null,null,null,"Retiros para consumo y publicidad, propaganda y promoción",null,null,null,null,null,null,null,null,null,null,null,null,null,null,null,null,null,null,null,null,null,null,null,null,null,null,null,null,null,null,null,null,null,null,null,null,null,null,null,null,null,null,null,null,null,null,null,null,null,"H3 ERI Renta líquida",1,18,{"$f":"(BD3974=Parametros[Segmento])*(BE3974>0)*(BF3974>0)","v":0}]
[null,581,null,null,null,"Costos indirectos de producción no distribuidos como costo del inventario, reconocidos como costo o gasto en el estado de resultados del ejercicio",null,null,null,null,null,null,null,null,null,null,null,null,null,null,null,null,null,null,null,null,null,null,null,null,null,null,null,null,null,null,null,null,null,null,null,null,null,null,null,null,null,null,null,null,null,null,null,null,null,"H3 ERI Renta líquida",1,28.2,{"$f":"(BD3981=Parametros[Segmento])*(BE3981>0)*(BF3981>0)","v":0}]
[null,583,null,null,null,"Costos y gastos devengados de fideicomisos o encargos fiduciarios, calidad de fideicomitente o fiduciante",null,null,null,null,null,null,null,null,null,null,null,null,null,null,null,null,null,null,null,null,null,null,null,null,null,null,null,null,null,null,null,null,null,null,null,null,null,null,null,null,null,null,null,null,null,null,null,null,null,"H3 ERI Renta líquida",1,28.2,{"$f":"(BD3983=Parametros[Segmento])*(BE3983>0)*(BF3983>0)","v":0}]
[null,null,null,null,null,"Bases para calcular el límite a beneficios y estímulos tributarios ",null,"Deducción por contribución a educación de los empleados, Artículo 107-2 del ET ",null,null,null,null,null,null,null,null,null,null,null,null,null,null,null,null,null,null,null,null,null,null,null,null,null,null,null,null,null,null,null,null,null,null,null,null,null,null,null,null,null,null,null,null,null,null,null,"H3 ERI Renta líquida",1,36,{"$f":"(BD3995=Parametros[Segmento])*(BE3995>0)*(BF3995>0)","v":0}]
[null,null,null,null,null,null,null,"Estímulos para el proceso de capitalización, artículo 44 de la Ley 789 de 2002 ",null,null,null,null,null,null,null,null,null,null,null,null,null,null,null,null,null,null,null,null,null,null,null,null,null,null,null,null,null,null,null,null,null,null,null,null,null,null,null,null,null,null,null,null,null,null,null,"H3 ERI Renta líquida",1,36.6,{"$f":"(BD4000=Parametros[Segmento])*(BE4000>0)*(BF4000>0)","v":0}]
[null,null,null,null,null,null,null,null,null,null,null,null,null,null,null,null,null,null,null,null,null,null,null,null,null,null,null,null,null,null,null,null,null,null,null,null,null,null,null,null,null,null,null,null,null,null,null,null,null,null,null,null,null,null,null,"H4 Impuesto diferido",1,30,{"$f":"(BD4012=Parametros[Segmento])*(BE4012>0)*(BF4012>0)","v":0}]
[1,"Activo diferido (diferencias temporarias deducibles)",null,null,null,null,null,null,null,null,null,null,null,null,null,null,null,null,null,null,null,null,null,null,null,null,null,null,null,null,null,null,null,null,null,null,null,null,null,null,null,null,null,null,null,null,null,null,null,null,null,null,null,null,null,"H4 Impuesto diferido",1,30,{"$f":"(BD4017=Parametros[Segmento])*(BE4017>0)*(BF4017>0)","v":0}]
[21,null,"Activos no corrientes mantenidos para la venta / entregar a propietarios",{"$f":"+IF(' '!H622>' '!D622,' '!D622,0)","v":0},{"$f":"+IF(' '!H622>' '!D622,' '!H622,0)","v":0},"Temporaria",0,0,0,null,0,{"$f":"+IF($G$4013=\"No\",' '!$D$246,0)","v":0},null,null,null,null,null,null,null,null,null,null,null,null,null,null,null,null,null,null,null,null,null,null,null,null,null,null,null,null,null,null,null,null,null,null,null,null,null,null,null,null,null,null,null,"H4 Impuesto diferido",1,30,{"$f":"(BD4026=Parametros[Segmento])*(BE4026>0)*(BF4026>0)","v":0}]
[{"$f":"A4033+1","v":29},null,"Activos reconocidos solamente para fines fiscales",0,{"$f":"+IF(' '!H647>0,' '!H647,0)","v":0},"Temporaria",{"$f":"+IF(F4035=\"Temporaria\",IF((D4035>=E4035),0,(E4035-D4035)),0)","v":0},{"$f":"+IF(F4034=\"Permanente\",IF((D4034>=E4034),0,(E4034-D4034)),0)","v":0},0,null,0,{"$f":"+IF($G$4013=\"No\",' '!$D$246,0)","v":0},null,null,null,null,null,null,null,null,null,null,null,null,null,null,null,null,null,null,null,null,null,null,null,null,null,null,null,null,null,null,null,null,null,null,null,null,null,null,null,null,null,null,null,"H4 Impuesto diferido",1,30,{"$f":"(BD4034=Parametros[Segmento])*(BE4034>0)*(BF4034>0)","v":0}]
[35,null,"Cuentas por cobrar",{"$f":"+IF(' '!D415>' '!H415,' '!D415,0)","v":0},{"$f":"+IF(' '!D415>' '!H415,' '!H415,0)","v":0},"Temporaria",0,0,0,null,0,{"$f":"+IF($G$4013=\"No\",' '!$D$246,0)","v":0},null,null,null,null,null,null,null,null,null,null,null,null,null,null,null,null,null,null,null,null,null,null,null,null,null,null,null,null,null,null,null,null,null,null,null,null,null,null,null,null,null,null,null,"H4 Impuesto diferido",1,30,{"$f":"(BD4040=Parametros[Segmento])*(BE4040>0)*(BF4040>0)","v":0}]
[38,null,"Activos intangibles",{"$f":"+IF((' '!D530+' '!D553)>(' '!H530+' '!H553),(' '!D530+' '!D553),0)","v":0},{"$f":"+IF((' '!D530+' '!D553)>(' '!H530+' '!H553),(' '!H530+' '!H553),0)","v":0},"Temporaria",0,0,0,null,0,{"$f":"+IF($G$4013=\"No\",' '!$D$246,0)","v":0},null,null,null,null,null,null,null,null,null,null,null,null,null,null,null,null,null,null,null,null,null,null,null,null,null,null,null,null,null,null,null,null,null,null,null,null,null,null,null,null,null,null,null,"H4 Impuesto diferido",1,30,{"$f":"(BD4043=Parametros[Segmento])*(BE4043>0)*(BF4043>0)","v":0}]
[49,null,"Activos reconocidos solamente para fines fiscales",0,0,"Temporaria",{"$f":"+IF(F4054=\"Temporaria\",IF((E4054>=D4054),0,(D4054-E4054)),0)","v":0},{"$f":"+IF(F4054=\"Permanente\",IF((E4054>=D4054),0,(D4054-E4054)),0)","v":0},0,null,0,{"$f":"+IF($G$4013=\"No\",' '!$D$246,0)","v":0},null,null,null,null,null,null,null,null,null,null,null,null,null,null,null,null,null,null,null,null,null,null,null,null,null,null,null,null,null,null,null,null,null,null,null,null,null,null,null,null,null,null,null,"H4 Impuesto diferido",1,30,{"$f":"(BD4054=Parametros[Segmento])*(BE4054>0)*(BF4054>0)","v":0}]
["Num","Tipo de crédito tributario",null,"Saldo al 31-DIC vigencia actual","Saldo al 31-DIC vigencia anterior","Variación","Explicación de la variación",null,null,null,null,null,null,null,null,null,null,null,null,null,null,null,null,null,null,null,null,null,null,null,null,null,null,null,null,null,null,null,null,null,null,null,null,null,null,null,null,null,null,null,null,null,null,null,null,"H4 Impuesto diferido",1,17.399999999999999,{"$f":"(BD4060=Parametros[Segmento])*(BE4060>0)*(BF4060>0)","v":0}]
["Num","Año ",null,"Pérdida fiscal acumulada por compensar al inicio del periodo","Pérdida fiscal generada en el periodo (+)","Pérdida fiscal compensada en el periodo (-)","Valores no compensados por caducidad (-)","Ajustes por corrección de la declaración ",null,"Pérdida \nfiscal \nacumulada por compensar al final del periodo ","Saldo \nactivo \npor impuesto diferido al final del periodo",null,null,null,null,null,null,null,null,null,null,null,null,null,null,null,null,null,null,null,null,null,null,null,null,null,null,null,null,null,null,null,null,null,null,null,null,null,null,null,null,null,null,null,null,"H4 Impuesto diferido",1,45,{"$f":"(BD4068=Parametros[Segmento])*(BE4068>0)*(BF4068>0)","v":0}]
[76,2024,null,0,null,null,null,null,null,0,null,null,null,null,null,null,null,null,null,null,null,null,null,null,null,null,null,null,null,null,null,null,null,null,null,null,null,null,null,null,null,null,null,null,null,null,null,null,null,null,null,null,null,null,null,"H4 Impuesto diferido",1,30,{"$f":"(BD4077=Parametros[Segmento])*(BE4077>0)*(BF4077>0)","v":0}]
[null,null,null,null,null,null,null,null,null,null,null,null,null,null,null,null,null,null,null,null,null,null,null,null,null,null,null,null,null,null,null,null,null,null,null,null,null,null,null,null,null,null,null,null,null,null,null,null,null,null,null,null,null,null,null,"H4 Impuesto diferido",1,58.5,{"$f":"(BD4085=Parametros[Segmento])*(BE4085>0)*(BF4085>0)","v":0}]
[95,2023,null,0,null,null,null,null,null,0,null,null,null,null,null,null,null,null,null,null,null,null,null,null,null,null,null,null,null,null,null,null,null,null,null,null,null,null,null,null,null,null,null,null,null,null,null,null,null,null,null,null,null,null,null,"H4 Impuesto diferido",1,30,{"$f":"(BD4094=Parametros[Segmento])*(BE4094>0)*(BF4094>0)","v":0}]
[null,null,null,null,null,null,null,null,null,null,null,null,null,null,null,null,null,null,null,null,null,null,null,null,null,null,null,null,null,null,null,null,null,null,null,null,null,null,null,null,null,null,null,null,null,null,null,null,null,null,null,null,null,null,null,"H5 Ingresos y fact.",1,30,{"$f":"(BD4103=Parametros[Segmento])*(BE4103>0)*(BF4103>0)","v":0}]
[null,null,null,1,2,3,"4 = 1 - 2 + 3",5,6,7,8,"9= 5 + 6 + 7 + 8",10,11,"12 = 6 + 10 + 11",null,null,null,null,null,null,null,null,null,null,null,null,null,null,null,null,null,null,null,null,null,null,null,null,null,null,null,null,null,null,null,null,null,null,null,null,null,null,null,null,"H5 Ingresos y fact.",1,30,{"$f":"(BD4108=Parametros[Segmento])*(BE4108>0)*(BF4108>0)","v":0}]
[{"$f":"A4111+1","v":15},"Ingresos para terceros ","Cuentas por cobrar",null,null,null,{"$f":"+D4112-E4112+F4112","v":0},null,null,null,null,{"$f":"+H4112+I4112+J4112+K4112","v":0},null,null,{"$f":"+I4112+M4112+N4112","v":0},null,null,null,null,null,null,null,null,null,null,null,null,null,null,null,null,null,null,null,null,null,null,null,null,null,null,null,null,null,null,null,null,null,null,null,null,null,null,null,null,"H5 Ingresos y fact.",1,30,{"$f":"(BD4112=Parametros[Segmento])*(BE4112>0)*(BF4112>0)","v":0}]
[null,null,null,"Valor total, incluyendo arrendamiento financiero o leasing ",null,null,null,null,null,null,null,null,null,null,null,null,null,null,null,null,"Datos informativos ",null,null,"Valor total, incluyendo arrendamiento financiero o leasing financiero",null,null,null,null,null,null,"Datos Informativos:     Valor activos adquiridos mediante arrendamiento financiero            ",null,null,null,null,null,null,null,null,null,null,null,null,null,null,null,null,null,null,null,null,null,null,null,null,"H6 Activos Fijos",1,30,{"$f":"(BD4122=Parametros[Segmento])*(BE4122>0)*(BF4122>0)","v":0}]
[15,null,"Maquinaria ",null,null,null,null,null,null,null,null,null,null,null,0,0,null,null,null,null,null,null,null,null,null,null,0,null,0,null,null,null,0,null,null,null,null,null,null,null,null,null,null,null,null,null,null,null,null,null,null,null,null,null,null,"H6 Activos Fijos",1,30,{"$f":"(BD4129=Parametros[Segmento])*(BE4129>0)*(BF4129>0)","v":0}]
[22,null,"Infraestructura de red ",null,null,null,null,null,null,null,null,null,null,null,0,0,null,null,null,null,null,null,null,null,null,null,0,null,0,null,null,null,0,null,null,null,null,null,null,null,null,null,null,null,null,null,null,null,null,null,null,null,null,null,null,"H6 Activos Fijos",1,30,{"$f":"(BD4136=Parametros[Segmento])*(BE4136>0)*(BF4136>0)","v":0}]
[32,"Propiedades de inversión ",null,null,null,null,null,null,null,null,null,null,null,null,null,null,null,null,null,null,null,null,null,null,null,null,null,null,null,null,null,null,null,null,null,null,null,null,null,null,null,null,null,null,null,null,null,null,null,null,null,null,null,null,null,"H6 Activos Fijos",1,30,{"$f":"(BD4146=Parametros[Segmento])*(BE4146>0)*(BF4146>0)","v":0}]
[36,"ANCMV",null,null,null,null,null,null,null,null,null,null,null,null,{"$f":"+D4150+G4150-I4150-K4150-N4150","v":0},{"$f":"+F4150+H4150-J4150-M4150","v":0},null,null,null,null,null,null,null,null,null,null,{"$f":"+X4150+Y4150-Z4150","v":0},null,{"$f":"+AA4150-AB4150","v":0},null,null,null,{"$f":"+AE4150-AF4150","v":0},null,null,null,null,null,null,null,null,null,null,null,null,null,null,null,null,null,null,null,null,null,null,"H6 Activos Fijos",1,30,{"$f":"(BD4150=Parametros[Segmento])*(BE4150>0)*(BF4150>0)","v":0}]
[49,null,"Plusvalía ",null,null,null,null,null,null,null,null,null,null,null,0,0,null,null,null,null,null,null,null,null,null,null,0,null,0,null,null,null,0,null,null,null,null,null,null,null,null,null,null,null,null,null,null,null,null,null,null,null,null,null,null,"H6 Activos Fijos",1,30,{"$f":"(BD4163=Parametros[Segmento])*(BE4163>0)*(BF4163>0)","v":0}]
[50,null,"Mejoras de derechos de arrendamiento ",null,null,null,null,null,null,null,null,null,null,null,0,0,null,null,null,null,null,null,null,null,null,null,0,null,0,null,null,null,0,null,null,null,null,null,null,null,null,null,null,null,null,null,null,null,null,null,null,null,null,null,null,"H6 Activos Fijos",1,30,{"$f":"(BD4164=Parametros[Segmento])*(BE4164>0)*(BF4164>0)","v":0}]
[null,null,null,null,null,null,null,null,null,null,null,null,null,null,null,null,null,null,null,null,null,null,null,null,null,null,null,null,null,null,null,null,null,null,null,null,null,null,null,null,null,null,null,null,null,null,null,null,null,null,null,null,null,null,null,"H7 Resumen ESF ERI",1,30,{"$f":"(BD4172=Parametros[Segmento])*(BE4172>0)*(BF4172>0)","v":0}]
[14,null,null,"Inventarios ","Inventarios ",{"$f":"+' '!H3202","v":0},{"$f":"+' '!L3202","v":0},0,null,null,null,null,null,null,null,null,null,null,null,null,null,null,null,null,null,null,null,null,null,null,null,null,null,null,null,null,null,null,null,null,null,null,null,null,null,null,null,null,null,null,null,null,null,null,null,"H7 Resumen ESF ERI",1,30,{"$f":"(BD4181=Parametros[Segmento])*(BE4181>0)*(BF4181>0)","v":0}]
[22,null,null,"Activos biológicos ","Activos biológicos ",{"$f":"+' '!H3264","v":0},{"$f":"+' '!L3264","v":0},0,null,null,null,null,null,null,null,null,null,null,null,null,null,null,null,null,null,null,null,null,null,null,null,null,null,null,null,null,null,null,null,null,null,null,null,null,null,null,null,null,null,null,null,null,null,null,null,"H7 Resumen ESF ERI",1,30,{"$f":"(BD4189=Parametros[Segmento])*(BE4189>0)*(BF4189>0)","v":0}]
[28,null,null,"Otros pasivos financieros ","Otros pasivos financieros ",{"$f":"+' '!H3304","v":0},{"$f":"+' '!L3304","v":0},0,null,null,null,null,null,null,null,null,null,null,null,null,null,null,null,null,null,null,null,null,null,null,null,null,null,null,null,null,null,null,null,null,null,null,null,null,null,null,null,null,null,null,null,null,null,null,null,"H7 Resumen ESF ERI",1,30,{"$f":"(BD4195=Parametros[Segmento])*(BE4195>0)*(BF4195>0)","v":0}]
[39,null,null,"Resultados acumulados ","Resultados acumulados ",{"$f":"+' '!H3371","v":0},null,null,null,null,null,null,null,null,null,null,null,null,null,null,null,null,null,null,null,null,null,null,null,null,null,null,null,null,null,null,null,null,null,null,null,null,null,null,null,null,null,null,null,null,null,null,null,null,null,"H7 Resumen ESF ERI",1,30,{"$f":"(BD4206=Parametros[Segmento])*(BE4206>0)*(BF4206>0)","v":0}]
[42,null,null,null,"Total Patrimonio",{"$f":"+SUM(F4204:F4208)","v":0},{"$f":"+G4191-G4202","v":0},null,null,null,null,null,null,null,null,null,null,null,null,null,null,null,null,null,null,null,null,null,null,null,null,null,null,null,null,null,null,null,null,null,null,null,null,null,null,null,null,null,null,null,null,null,null,null,null,"H7 Resumen ESF ERI",1,30,{"$f":"(BD4209=Parametros[Segmento])*(BE4209>0)*(BF4209>0)","v":0}]
[56,null,null,"Ganancias netas en operaciones discontinuadas ",null,{"$f":"+' '!I3515","v":0},{"$f":"+' '!M3515","v":0},0,null,null,null,null,null,null,null,null,null,null,null,null,null,null,null,null,null,null,null,null,null,null,null,null,null,null,null,null,null,null,null,null,null,null,null,null,null,null,null,null,null,null,null,null,null,null,null,"H7 Resumen ESF ERI",1,30,{"$f":"(BD4223=Parametros[Segmento])*(BE4223>0)*(BF4223>0)","v":0}]
[63,null,null,"Depreciaciones, amortizaciones y deterioros ",null,{"$f":"+' '!I3547","v":0},{"$f":"+' '!M3547","v":0},0,null,null,null,null,null,null,null,null,null,null,null,null,null,null,null,null,null,null,null,null,null,null,null,null,null,null,null,null,null,null,null,null,null,null,null,null,null,null,null,null,null,null,null,null,null,null,null,"H7 Resumen ESF ERI",1,30,{"$f":"(BD4230=Parametros[Segmento])*(BE4230>0)*(BF4230>0)","v":0}]
[65,null,null,"Menos costo - ajuste Precios de Transferencia ",null,{"$f":"+' '!I3585","v":0},{"$f":"+' '!M3585","v":0},0,null,null,null,null,null,null,null,null,null,null,null,null,null,null,null,null,null,null,null,null,null,null,null,null,null,null,null,null,null,null,null,null,null,null,null,null,null,null,null,null,null,null,null,null,null,null,null,"H7 Resumen ESF ERI",1,30,{"$f":"(BD4232=Parametros[Segmento])*(BE4232>0)*(BF4232>0)","v":0}]
[73,null,null,"De Distribución y ventas",null,null,null,null,null,null,null,null,null,null,null,null,null,null,null,null,null,null,null,null,null,null,null,null,null,null,null,null,null,null,null,null,null,null,null,null,null,null,null,null,null,null,null,null,null,null,null,null,null,null,null,"H7 Resumen ESF ERI",1,30,{"$f":"(BD4240=Parametros[Segmento])*(BE4240>0)*(BF4240>0)","v":0}]
[82,null,null,"Gastos por provisiones (pasivos de monto o fecha inciertos)",null,{"$f":"+' '!I3726","v":0},{"$f":"+' '!M3726","v":0},0,null,null,null,null,null,null,null,null,null,null,null,null,null,null,null,null,null,null,null,null,null,null,null,null,null,null,null,null,null,null,null,null,null,null,null,null,null,null,null,null,null,null,null,null,null,null,null,"H7 Resumen ESF ERI",1,30,{"$f":"(BD4249=Parametros[Segmento])*(BE4249>0)*(BF4249>0)","v":0}]
[null,null,null,null,null,null,null,null,null,null,null,null,null,null,null,null,null,null,null,null,null,null,null,null,null,null,null,null,null,null,null,null,null,null,null,null,null,null,null,null,null,null,null,null,null,null,null,null,null,null,null,null,null,null,null,"Informes",1,30,{"$f":"(BD4258=Parametros[Segmento])*(BE4258>0)*(BF4258>0)","v":0}]
[null,null,{"$f":"+' '!B317","v":"Inversiones e Instrumentos Derivados"},{"$f":"+' '!D366","v":0},{"$f":"+' '!H366","v":0},null,null,null,null,null,null,null,null,null,null,null,null,null,null,null,null,null,null,null,null,null,null,null,null,null,null,null,null,null,null,null,null,null,null,null,null,null,null,null,null,null,null,null,null,null,null,null,null,null,null,"Informes",1,30,{"$f":"(BD4262=Parametros[Segmento])*(BE4262>0)*(BF4262>0)","v":0}]
[null,null,{"$f":"+' '!B368","v":"Cuentas por Cobrar"},{"$f":"+' '!D415","v":0},{"$f":"+' '!H415","v":0},null,null,null,null,null,null,null,null,null,null,null,null,null,null,null,null,null,null,null,null,null,null,null,null,null,null,null,null,null,null,null,null,null,null,null,null,null,null,null,null,null,null,null,null,null,null,null,null,null,null,"Informes",1,30,{"$f":"(BD4263=Parametros[Segmento])*(BE4263>0)*(BF4263>0)","v":0}]
[null,null,{"$f":"+' '!B417","v":"Inventarios"},{"$f":"+' '!D459","v":0},{"$f":"+' '!H459","v":0},null,null,null,null,null,null,null,null,null,null,null,null,null,null,null,null,null,null,null,null,null,null,null,null,null,null,null,null,null,null,null,null,null,null,null,null,null,null,null,null,null,null,null,null,null,null,null,null,null,null,"Informes",1,30,{"$f":"(BD4264=Parametros[Segmento])*(BE4264>0)*(BF4264>0)","v":0}]
[null,null,{"$f":"+' '!B461","v":"Propiedades, Planta y Equipo"},{"$f":"+' '!D495","v":0},{"$f":"+' '!H495","v":0},null,null,null,null,null,null,null,null,null,null,null,null,null,null,null,null,null,null,null,null,null,null,null,null,null,null,null,null,null,null,null,null,null,null,null,null,null,null,null,null,null,null,null,null,null,null,null,null,null,null,"Informes",1,30,{"$f":"(BD4265=Parametros[Segmento])*(BE4265>0)*(BF4265>0)","v":0}]
[null,null,{"$f":"+' '!B497","v":"Activos Intangibles - Distintos a la plusvalía"},{"$f":"+' '!D530","v":0},{"$f":"+' '!H530","v":0},null,null,null,null,null,null,null,null,null,null,null,null,null,null,null,null,null,null,null,null,null,null,null,null,null,null,null,null,null,null,null,null,null,null,null,null,null,null,null,null,null,null,null,null,null,null,null,null,null,null,"Informes",1,30,{"$f":"(BD4266=Parametros[Segmento])*(BE4266>0)*(BF4266>0)","v":0}]
[null,null,{"$f":"+' '!B532","v":"Activos Intangibles - Plusvalía o Good Will"},{"$f":"+' '!D553","v":0},{"$f":"+' '!H553","v":0},null,null,null,null,null,null,null,null,null,null,null,null,null,null,null,null,null,null,null,null,null,null,null,null,null,null,null,null,null,null,null,null,null,null,null,null,null,null,null,null,null,null,null,null,null,null,null,null,null,null,"Informes",1,30,{"$f":"(BD4267=Parametros[Segmento])*(BE4267>0)*(BF4267>0)","v":0}]
[null,null,{"$f":"+' '!B555","v":"Propiedades de Inversión"},{"$f":"+' '!D574","v":0},{"$f":"+' '!H574","v":0},null,null,null,null,null,null,null,null,null,null,null,null,null,null,null,null,null,null,null,null,null,null,null,null,null,null,null,null,null,null,null,null,null,null,null,null,null,null,null,null,null,null,null,null,null,null,null,null,null,null,"Informes",1,30,{"$f":"(BD4268=Parametros[Segmento])*(BE4268>0)*(BF4268>0)","v":0}]
[null,null,{"$f":"+' '!B576","v":"Activos Biológicos"},{"$f":"+' '!D609","v":0},{"$f":"+' '!H609","v":0},null,null,null,null,null,null,null,null,null,null,null,null,null,null,null,null,null,null,null,null,null,null,null,null,null,null,null,null,null,null,null,null,null,null,null,null,null,null,null,null,null,null,null,null,null,null,null,null,null,null,"Informes",1,30,{"$f":"(BD4269=Parametros[Segmento])*(BE4269>0)*(BF4269>0)","v":0}]
[null,null,{"$f":"+' '!B611","v":"Activos no corrientes mantenidos para la venta y/o para distribuir a propietarios "},{"$f":"+' '!D622","v":0},{"$f":"+' '!H622","v":0},null,null,null,null,null,null,null,null,null,null,null,null,null,null,null,null,null,null,null,null,null,null,null,null,null,null,null,null,null,null,null,null,null,null,null,null,null,null,null,null,null,null,null,null,null,null,null,null,null,null,"Informes",1,30,{"$f":"(BD4270=Parametros[Segmento])*(BE4270>0)*(BF4270>0)","v":0}]
[null,null,{"$f":"+' '!B624","v":"Otros Activos"},{"$f":"+' '!D650","v":0},{"$f":"+' '!H650","v":0},null,null,null,null,null,null,null,null,null,null,null,null,null,null,null,null,null,null,null,null,null,null,null,null,null,null,null,null,null,null,null,null,null,null,null,null,null,null,null,null,null,null,null,null,null,null,null,null,null,null,"Informes",1,30,{"$f":"(BD4271=Parametros[Segmento])*(BE4271>0)*(BF4271>0)","v":0}]
[null,null,"Total activos a 31 de diciembre de 2024 ",{"$f":"SUM(D4261:D4271)","v":0},{"$f":"SUM(E4261:E4271)","v":0},null,null,null,null,null,null,null,null,null,null,null,null,null,null,null,null,null,null,null,null,null,null,null,null,null,null,null,null,null,null,null,null,null,null,null,null,null,null,null,null,null,null,null,null,null,null,null,null,null,null,"Informes",1,30,{"$f":"(BD4272=Parametros[Segmento])*(BE4272>0)*(BF4272>0)","v":0}]
[null,null,"Pasivos",null,null,null,null,null,null,null,null,null,null,null,null,null,null,null,null,null,null,null,null,null,null,null,null,null,null,null,null,null,null,null,null,null,null,null,null,null,null,null,null,null,null,null,null,null,null,null,null,null,null,null,null,"Informes",1,30,{"$f":"(BD4273=Parametros[Segmento])*(BE4273>0)*(BF4273>0)","v":0}]
[null,null,"Concepto","Valores contables","Valores fiscales",null,null,null,null,null,null,null,null,null,null,null,null,null,null,null,null,null,null,null,null,null,null,null,null,null,null,null,null,null,null,null,null,null,null,null,null,null,null,null,null,null,null,null,null,null,null,null,null,null,null,"Informes",1,30,{"$f":"(BD4274=Parametros[Segmento])*(BE4274>0)*(BF4274>0)","v":0}]
[null,null,{"$f":"+' '!B655","v":"Pasivos Financieros y Cuentas por Pagar"},{"$f":"+' '!D694","v":0},{"$f":"+' '!H694","v":0},null,null,null,null,null,null,null,null,null,null,null,null,null,null,null,null,null,null,null,null,null,null,null,null,null,null,null,null,null,null,null,null,null,null,null,null,null,null,null,null,null,null,null,null,null,null,null,null,null,null,"Informes",1,30,{"$f":"(BD4275=Parametros[Segmento])*(BE4275>0)*(BF4275>0)","v":0}]
[null,null,{"$f":"+' '!B696","v":"Arrendamientos por pagar"},{"$f":"+' '!D708","v":0},{"$f":"+' '!H708","v":0},null,null,null,null,null,null,null,null,null,null,null,null,null,null,null,null,null,null,null,null,null,null,null,null,null,null,null,null,null,null,null,null,null,null,null,null,null,null,null,null,null,null,null,null,null,null,null,null,null,null,"Informes",1,30,{"$f":"(BD4276=Parametros[Segmento])*(BE4276>0)*(BF4276>0)","v":0}]
[null,null,{"$f":"+' '!B710","v":"Impuestos, Gravámenes y Tasas "},{"$f":"+' '!D724","v":0},{"$f":"+' '!H724","v":0},null,null,null,null,null,null,null,null,null,null,null,null,null,null,null,null,null,null,null,null,null,null,null,null,null,null,null,null,null,null,null,null,null,null,null,null,null,null,null,null,null,null,null,null,null,null,null,null,null,null,"Informes",1,30,{"$f":"(BD4277=Parametros[Segmento])*(BE4277>0)*(BF4277>0)","v":0}]
[null,null,{"$f":"+' '!B726","v":"Otros pasivos financieros"},{"$f":"+' '!D744","v":0},{"$f":"+' '!H744","v":0},null,null,null,null,null,null,null,null,null,null,null,null,null,null,null,null,null,null,null,null,null,null,null,null,null,null,null,null,null,null,null,null,null,null,null,null,null,null,null,null,null,null,null,null,null,null,null,null,null,null,"Informes",1,30,{"$f":"(BD4278=Parametros[Segmento])*(BE4278>0)*(BF4278>0)","v":0}]
[null,null,{"$f":"+' '!B746","v":"Beneficios a empleados"},{"$f":"+' '!D761","v":0},{"$f":"+' '!H761","v":0},null,null,null,null,null,null,null,null,null,null,null,null,null,null,null,null,null,null,null,null,null,null,null,null,null,null,null,null,null,null,null,null,null,null,null,null,null,null,null,null,null,null,null,null,null,null,null,null,null,null,"Informes",1,30,{"$f":"(BD4279=Parametros[Segmento])*(BE4279>0)*(BF4279>0)","v":0}]
[null,null,{"$f":"+' '!B763","v":"Provisiones"},{"$f":"+' '!D799","v":0},{"$f":"+' '!H799","v":0},null,null,null,null,null,null,null,null,null,null,null,null,null,null,null,null,null,null,null,null,null,null,null,null,null,null,null,null,null,null,null,null,null,null,null,null,null,null,null,null,null,null,null,null,null,null,null,null,null,null,"Informes",1,30,{"$f":"(BD4280=Parametros[Segmento])*(BE4280>0)*(BF4280>0)","v":0}]
[null,null,{"$f":"+' '!B801","v":"Pasivos por ingresos diferidos "},{"$f":"+' '!D816","v":0},{"$f":"+' '!H816","v":0},null,null,null,null,null,null,null,null,null,null,null,null,null,null,null,null,null,null,null,null,null,null,null,null,null,null,null,null,null,null,null,null,null,null,null,null,null,null,null,null,null,null,null,null,null,null,null,null,null,null,"Informes",1,30,{"$f":"(BD4281=Parametros[Segmento])*(BE4281>0)*(BF4281>0)","v":0}]
[null,null,{"$f":"+' '!B818","v":"Otros Pasivos"},{"$f":"+' '!D845","v":0},{"$f":"+' '!H845","v":0},null,null,null,null,null,null,null,null,null,null,null,null,null,null,null,null,null,null,null,null,null,null,null,null,null,null,null,null,null,null,null,null,null,null,null,null,null,null,null,null,null,null,null,null,null,null,null,null,null,null,"Informes",1,30,{"$f":"(BD4282=Parametros[Segmento])*(BE4282>0)*(BF4282>0)","v":0}]
[null,null,"Total pasivos a 31 de diciembre de 2024",{"$f":"SUM(D4275:D4282)","v":0},{"$f":"SUM(E4275:E4282)","v":0},null,null,null,null,null,null,null,null,null,null,null,null,null,null,null,null,null,null,null,null,null,null,null,null,null,null,null,null,null,null,null,null,null,null,null,null,null,null,null,null,null,null,null,null,null,null,null,null,null,null,"Informes",1,30,{"$f":"(BD4283=Parametros[Segmento])*(BE4283>0)*(BF4283>0)","v":0}]
[null,null,"Patrimonio líquido reportado en la declaración de renta AG 2024",null,{"$f":"+E4272-E4283","v":0},null,null,null,null,null,null,null,null,null,null,null,null,null,null,null,null,null,null,null,null,null,null,null,null,null,null,null,null,null,null,null,null,null,null,null,null,null,null,null,null,null,null,null,null,null,null,null,null,null,null,"Informes",1,30,{"$f":"(BD4284=Parametros[Segmento])*(BE4284>0)*(BF4284>0)","v":0}]
[null,null,null,null,null,null,null,null,null,null,null,null,null,null,null,null,null,null,null,null,null,null,null,null,null,null,null,null,null,null,null,null,null,null,null,null,null,null,null,null,null,null,null,null,null,null,null,null,null,null,null,null,null,null,null,"Informes",1,30,{"$f":"(BD4285=Parametros[Segmento])*(BE4285>0)*(BF4285>0)","v":0}]
[null,null,"Patrimonio Contable",null,null,null,null,null,null,null,null,null,null,null,null,null,null,null,null,null,null,null,null,null,null,null,null,null,null,null,null,null,null,null,null,null,null,null,null,null,null,null,null,null,null,null,null,null,null,null,null,null,null,null,null,"Informes",1,30,{"$f":"(BD4286=Parametros[Segmento])*(BE4286>0)*(BF4286>0)","v":0}]
[null,null,"Concepto","Valores contables","Valores fiscales",null,null,null,null,null,null,null,null,null,null,null,null,null,null,null,null,null,null,null,null,null,null,null,null,null,null,null,null,null,null,null,null,null,null,null,null,null,null,null,null,null,null,null,null,null,null,null,null,null,null,"Informes",1,30,{"$f":"(BD4287=Parametros[Segmento])*(BE4287>0)*(BF4287>0)","v":0}]
[null,null,{"$f":"+' '!B850","v":"Capital social y reservas"},{"$f":"+' '!D901","v":0},0,null,null,null,null,null,null,null,null,null,null,null,null,null,null,null,null,null,null,null,null,null,null,null,null,null,null,null,null,null,null,null,null,null,null,null,null,null,null,null,null,null,null,null,null,null,null,null,null,null,null,"Informes",1,30,{"$f":"(BD4288=Parametros[Segmento])*(BE4288>0)*(BF4288>0)","v":0}]
[null,null,{"$f":"+' '!B903","v":"Resultados del ejercicio"},{"$f":"+' '!D918","v":0},0,null,null,null,null,null,null,null,null,null,null,null,null,null,null,null,null,null,null,null,null,null,null,null,null,null,null,null,null,null,null,null,null,null,null,null,null,null,null,null,null,null,null,null,null,null,null,null,null,null,null,"Informes",1,30,{"$f":"(BD4289=Parametros[Segmento])*(BE4289>0)*(BF4289>0)","v":0}]
[null,null,{"$f":"+' '!B920","v":"Resultados acumulados"},{"$f":"+' '!D944","v":0},0,null,null,null,null,null,null,null,null,null,null,null,null,null,null,null,null,null,null,null,null,null,null,null,null,null,null,null,null,null,null,null,null,null,null,null,null,null,null,null,null,null,null,null,null,null,null,null,null,null,null,"Informes",1,30,{"$f":"(BD4290=Parametros[Segmento])*(BE4290>0)*(BF4290>0)","v":0}]
[null,null,{"$f":"+' '!B946","v":"Ganancias (pérdidas) acumuladas o retenidas por la adopción por primera vez"},{"$f":"+' '!D955","v":0},0,null,null,null,null,null,null,null,null,null,null,null,null,null,null,null,null,null,null,null,null,null,null,null,null,null,null,null,null,null,null,null,null,null,null,null,null,null,null,null,null,null,null,null,null,null,null,null,null,null,null,"Informes",1,30,{"$f":"(BD4291=Parametros[Segmento])*(BE4291>0)*(BF4291>0)","v":0}]
[null,null,{"$f":"+' '!B957","v":"Otro resultado integral acumulado"},{"$f":"+' '!D972","v":0},0,null,null,null,null,null,null,null,null,null,null,null,null,null,null,null,null,null,null,null,null,null,null,null,null,null,null,null,null,null,null,null,null,null,null,null,null,null,null,null,null,null,null,null,null,null,null,null,null,null,null,"Informes",1,30,{"$f":"(BD4292=Parametros[Segmento])*(BE4292>0)*(BF4292>0)","v":0}]
[null,null,"Total patrimonio contable a 31 de diciembre de 2024",{"$f":"SUM(D4288:D4292)","v":0},{"$f":"SUM(E4288:E4292)","v":0},null,null,null,null,null,null,null,null,null,null,null,null,null,null,null,null,null,null,null,null,null,null,null,null,null,null,null,null,null,null,null,null,null,null,null,null,null,null,null,null,null,null,null,null,null,null,null,null,null,null,"Informes",1,30,{"$f":"(BD4293=Parametros[Segmento])*(BE4293>0)*(BF4293>0)","v":0}]
[null,null,null,null,null,null,null,null,null,null,null,null,null,null,null,null,null,null,null,null,null,null,null,null,null,null,null,null,null,null,null,null,null,null,null,null,null,null,null,null,null,null,null,null,null,null,null,null,null,null,null,null,null,null,null,"Informes",1,30,{"$f":"(BD4294=Parametros[Segmento])*(BE4294>0)*(BF4294>0)","v":0}]
[null,null,"Ingresos ",null,null,null,null,null,null,null,null,null,null,null,null,null,null,null,null,null,null,null,null,null,null,null,null,null,null,null,null,null,null,null,null,null,null,null,null,null,null,null,null,null,null,null,null,null,null,null,null,null,null,null,null,"Informes",1,30,{"$f":"(BD4295=Parametros[Segmento])*(BE4295>0)*(BF4295>0)","v":0}]
[null,null,"Ingresos Ordinarios ",null,null,null,null,null,null,null,null,null,null,null,null,null,null,null,null,null,null,null,null,null,null,null,null,null,null,null,null,null,null,null,null,null,null,null,null,null,null,null,null,null,null,null,null,null,null,null,null,null,null,null,null,"Informes",1,30,{"$f":"(BD4296=Parametros[Segmento])*(BE4296>0)*(BF4296>0)","v":0}]
[null,null,"Concepto","Valores contables","Valores fiscales",null,null,null,null,null,null,null,null,null,null,null,null,null,null,null,null,null,null,null,null,null,null,null,null,null,null,null,null,null,null,null,null,null,null,null,null,null,null,null,null,null,null,null,null,null,null,null,null,null,null,"Informes",1,30,{"$f":"(BD4297=Parametros[Segmento])*(BE4297>0)*(BF4297>0)","v":0}]
[null,null,{"$f":"+' '!B977","v":"Ingresos brutos Actividad Industrial, Comercial y Servicios - Venta de bienes"},{"$f":"+' '!D998","v":0},{"$f":"+' '!H998","v":0},null,null,null,null,null,null,null,null,null,null,null,null,null,null,null,null,null,null,null,null,null,null,null,null,null,null,null,null,null,null,null,null,null,null,null,null,null,null,null,null,null,null,null,null,null,null,null,null,null,null,"Informes",1,30,{"$f":"(BD4298=Parametros[Segmento])*(BE4298>0)*(BF4298>0)","v":0}]
[null,null,{"$f":"+' '!B1000","v":"Ingresos brutos Actividad Industrial, Comercial y Servicios - Prestación de servicios (diferentes a honorarios profesionales)"},{"$f":"+' '!D1021","v":0},{"$f":"+' '!H1021","v":0},null,null,null,null,null,null,null,null,null,null,null,null,null,null,null,null,null,null,null,null,null,null,null,null,null,null,null,null,null,null,null,null,null,null,null,null,null,null,null,null,null,null,null,null,null,null,null,null,null,null,"Informes",1,40.200000000000003,{"$f":"(BD4299=Parametros[Segmento])*(BE4299>0)*(BF4299>0)","v":0}]
[null,null,{"$f":"+' '!B1023","v":"Ingresos Brutos Actividad Industrial, Comercial y Servicios - Otros ingresos "},{"$f":"+' '!D1056","v":0},{"$f":"+' '!H1056","v":0},null,null,null,null,null,null,null,null,null,null,null,null,null,null,null,null,null,null,null,null,null,null,null,null,null,null,null,null,null,null,null,null,null,null,null,null,null,null,null,null,null,null,null,null,null,null,null,null,null,null,"Informes",1,30,{"$f":"(BD4300=Parametros[Segmento])*(BE4300>0)*(BF4300>0)","v":0}]
[null,null,{"$f":"+' '!B1083","v":"Ingresos financieros"},{"$f":"+' '!D1107","v":0},{"$f":"+' '!H1107","v":0},null,null,null,null,null,null,null,null,null,null,null,null,null,null,null,null,null,null,null,null,null,null,null,null,null,null,null,null,null,null,null,null,null,null,null,null,null,null,null,null,null,null,null,null,null,null,null,null,null,null,"Informes",1,30,{"$f":"(BD4301=Parametros[Segmento])*(BE4301>0)*(BF4301>0)","v":0}]
[null,null,{"$f":"+' '!B1120","v":"Dividendos"},{"$f":"+' '!D1153","v":0},{"$f":"+' '!H1153","v":0},null,null,null,null,null,null,null,null,null,null,null,null,null,null,null,null,null,null,null,null,null,null,null,null,null,null,null,null,null,null,null,null,null,null,null,null,null,null,null,null,null,null,null,null,null,null,null,null,null,null,"Informes",1,30,{"$f":"(BD4302=Parametros[Segmento])*(BE4302>0)*(BF4302>0)","v":0}]
[null,null,{"$f":"+' '!B1332","v":"Venta de activos poseídos por menos de dos años"},{"$f":"+' '!D1359","v":0},{"$f":"+' '!H1359","v":0},null,null,null,null,null,null,null,null,null,null,null,null,null,null,null,null,null,null,null,null,null,null,null,null,null,null,null,null,null,null,null,null,null,null,null,null,null,null,null,null,null,null,null,null,null,null,null,null,null,null,"Informes",1,30,{"$f":"(BD4303=Parametros[Segmento])*(BE4303>0)*(BF4303>0)","v":0}]
[null,null,{"$f":"+' '!D1362","v":"Rentas Pasivas ECE"},{"$f":"+' '!D1388","v":0},{"$f":"+' '!H1388","v":0},null,null,null,null,null,null,null,null,null,null,null,null,null,null,null,null,null,null,null,null,null,null,null,null,null,null,null,null,null,null,null,null,null,null,null,null,null,null,null,null,null,null,null,null,null,null,null,null,null,null,"Informes",1,30,{"$f":"(BD4304=Parametros[Segmento])*(BE4304>0)*(BF4304>0)","v":0}]
[null,null,"Otros ingresos",{"$f":"+' '!D1205+' '!D1222+' '!D1248+' '!D1299+' '!D1319","v":0},{"$f":"+' '!H1205+' '!H1222+' '!H1248+' '!H1299+' '!H1319","v":0},null,null,null,null,null,null,null,null,null,null,null,null,null,null,null,null,null,null,null,null,null,null,null,null,null,null,null,null,null,null,null,null,null,null,null,null,null,null,null,null,null,null,null,null,null,null,null,null,null,null,"Informes",1,30,{"$f":"(BD4305=Parametros[Segmento])*(BE4305>0)*(BF4305>0)","v":0}]
[null,null,"Total ingresos ordinarios recibidos durante el 2024",{"$f":"SUM(D4298:D4305)","v":0},{"$f":"SUM(E4298:E4305)","v":0},null,null,null,null,null,null,null,null,null,null,null,null,null,null,null,null,null,null,null,null,null,null,null,null,null,null,null,null,null,null,null,null,null,null,null,null,null,null,null,null,null,null,null,null,null,null,null,null,null,null,"Informes",1,30,{"$f":"(BD4306=Parametros[Segmento])*(BE4306>0)*(BF4306>0)","v":0}]
[null,null,"Ingresos extraordinarios ",null,null,null,null,null,null,null,null,null,null,null,null,null,null,null,null,null,null,null,null,null,null,null,null,null,null,null,null,null,null,null,null,null,null,null,null,null,null,null,null,null,null,null,null,null,null,null,null,null,null,null,null,"Informes",1,30,{"$f":"(BD4307=Parametros[Segmento])*(BE4307>0)*(BF4307>0)","v":0}]
[null,null,"Concepto","Valores contables","Valores fiscales",null,null,null,null,null,null,null,null,null,null,null,null,null,null,null,null,null,null,null,null,null,null,null,null,null,null,null,null,null,null,null,null,null,null,null,null,null,null,null,null,null,null,null,null,null,null,null,null,null,null,"Informes",1,30,{"$f":"(BD4308=Parametros[Segmento])*(BE4308>0)*(BF4308>0)","v":0}]
[null,null,{"$f":"+' '!C1533","v":"Venta de bienes poseídos por dos años o más "},{"$f":"+' '!D1431","v":0},{"$f":"+' '!H1431","v":0},null,null,null,null,null,null,null,null,null,null,null,null,null,null,null,null,null,null,null,null,null,null,null,null,null,null,null,null,null,null,null,null,null,null,null,null,null,null,null,null,null,null,null,null,null,null,null,null,null,null,"Informes",1,30,{"$f":"(BD4309=Parametros[Segmento])*(BE4309>0)*(BF4309>0)","v":0}]
[null,null,{"$f":"+' '!C1534","v":"Donaciones"},{"$f":"+' '!D1465","v":0},{"$f":"+' '!H1465","v":0},null,null,null,null,null,null,null,null,null,null,null,null,null,null,null,null,null,null,null,null,null,null,null,null,null,null,null,null,null,null,null,null,null,null,null,null,null,null,null,null,null,null,null,null,null,null,null,null,null,null,"Informes",1,30,{"$f":"(BD4310=Parametros[Segmento])*(BE4310>0)*(BF4310>0)","v":0}]
[null,null,{"$f":"+' '!C1535","v":"Premios obtenidos en juegos de suerte y azar "},{"$f":"+' '!D1485","v":0},{"$f":"+' '!H1485","v":0},null,null,null,null,null,null,null,null,null,null,null,null,null,null,null,null,null,null,null,null,null,null,null,null,null,null,null,null,null,null,null,null,null,null,null,null,null,null,null,null,null,null,null,null,null,null,null,null,null,null,"Informes",1,30,{"$f":"(BD4311=Parametros[Segmento])*(BE4311>0)*(BF4311>0)","v":0}]
[null,null,{"$f":"+' '!C1536","v":"Otras ganancias ocasionales "},{"$f":"+' '!D1502","v":0},{"$f":"+' '!H1502","v":0},null,null,null,null,null,null,null,null,null,null,null,null,null,null,null,null,null,null,null,null,null,null,null,null,null,null,null,null,null,null,null,null,null,null,null,null,null,null,null,null,null,null,null,null,null,null,null,null,null,null,"Informes",1,30,{"$f":"(BD4312=Parametros[Segmento])*(BE4312>0)*(BF4312>0)","v":0}]
[null,null,"Total ingresos extraordinarios recibidos durante el 2024",{"$f":"SUM(D4309:D4312)","v":0},{"$f":"SUM(E4309:E4312)","v":0},null,null,null,null,null,null,null,null,null,null,null,null,null,null,null,null,null,null,null,null,null,null,null,null,null,null,null,null,null,null,null,null,null,null,null,null,null,null,null,null,null,null,null,null,null,null,null,null,null,null,"Informes",1,30,{"$f":"(BD4313=Parametros[Segmento])*(BE4313>0)*(BF4313>0)","v":0}]
[null,null,"Total ingreso ordinarios y extraordinarios recibidos durante el 2024",{"$f":"+D4306+D4313","v":0},{"$f":"+E4306+E4313","v":0},null,null,null,null,null,null,null,null,null,null,null,null,null,null,null,null,null,null,null,null,null,null,null,null,null,null,null,null,null,null,null,null,null,null,null,null,null,null,null,null,null,null,null,null,null,null,null,null,null,null,"Informes",1,30,{"$f":"(BD4314=Parametros[Segmento])*(BE4314>0)*(BF4314>0)","v":0}]
[null,null,null,null,null,null,null,null,null,null,null,null,null,null,null,null,null,null,null,null,null,null,null,null,null,null,null,null,null,null,null,null,null,null,null,null,null,null,null,null,null,null,null,null,null,null,null,null,null,null,null,null,null,null,null,"Informes",1,30,{"$f":"(BD4315=Parametros[Segmento])*(BE4315>0)*(BF4315>0)","v":0}]
[null,null,"Devoluciones, rebajas y descuentos",null,null,null,null,null,null,null,null,null,null,null,null,null,null,null,null,null,null,null,null,null,null,null,null,null,null,null,null,null,null,null,null,null,null,null,null,null,null,null,null,null,null,null,null,null,null,null,null,null,null,null,null,"Informes",1,30,{"$f":"(BD4316=Parametros[Segmento])*(BE4316>0)*(BF4316>0)","v":0}]
[null,null,"Concepto","Valores contables","Valores fiscales",null,null,null,null,null,null,null,null,null,null,null,null,null,null,null,null,null,null,null,null,null,null,null,null,null,null,null,null,null,null,null,null,null,null,null,null,null,null,null,null,null,null,null,null,null,null,null,null,null,null,"Informes",1,30,{"$f":"(BD4317=Parametros[Segmento])*(BE4317>0)*(BF4317>0)","v":0}]
[null,null,{"$f":"+' '!B1061","v":"En venta de bienes"},{"$f":"+' '!D1061","v":0},{"$f":"+' '!H1061","v":0},null,null,null,null,null,null,null,null,null,null,null,null,null,null,null,null,null,null,null,null,null,null,null,null,null,null,null,null,null,null,null,null,null,null,null,null,null,null,null,null,null,null,null,null,null,null,null,null,null,null,"Informes",1,30,{"$f":"(BD4318=Parametros[Segmento])*(BE4318>0)*(BF4318>0)","v":0}]
[null,null,{"$f":"+' '!B1064","v":"En prestación de servicios "},{"$f":"+' '!D1064","v":0},{"$f":"+' '!H1064","v":0},null,null,null,null,null,null,null,null,null,null,null,null,null,null,null,null,null,null,null,null,null,null,null,null,null,null,null,null,null,null,null,null,null,null,null,null,null,null,null,null,null,null,null,null,null,null,null,null,null,null,"Informes",1,30,{"$f":"(BD4319=Parametros[Segmento])*(BE4319>0)*(BF4319>0)","v":0}]
[null,null,{"$f":"+' '!B1067","v":"Otras devoluciones, rebajas y descuentos "},{"$f":"+' '!D1067","v":0},{"$f":"+' '!H1067","v":0},null,null,null,null,null,null,null,null,null,null,null,null,null,null,null,null,null,null,null,null,null,null,null,null,null,null,null,null,null,null,null,null,null,null,null,null,null,null,null,null,null,null,null,null,null,null,null,null,null,null,"Informes",1,30,{"$f":"(BD4320=Parametros[Segmento])*(BE4320>0)*(BF4320>0)","v":0}]
[null,null,"Total devoluciones rebajas y descuentos durante el 2024",{"$f":"SUM(D4318:D4320)","v":0},{"$f":"SUM(E4318:E4320)","v":0},null,null,null,null,null,null,null,null,null,null,null,null,null,null,null,null,null,null,null,null,null,null,null,null,null,null,null,null,null,null,null,null,null,null,null,null,null,null,null,null,null,null,null,null,null,null,null,null,null,null,"Informes",1,30,{"$f":"(BD4321=Parametros[Segmento])*(BE4321>0)*(BF4321>0)","v":0}]
[null,null,null,null,null,null,null,null,null,null,null,null,null,null,null,null,null,null,null,null,null,null,null,null,null,null,null,null,null,null,null,null,null,null,null,null,null,null,null,null,null,null,null,null,null,null,null,null,null,null,null,null,null,null,null,"Informes",1,30,{"$f":"(BD4322=Parametros[Segmento])*(BE4322>0)*(BF4322>0)","v":0}]
[null,null,"Costos",null,null,null,null,null,null,null,null,null,null,null,null,null,null,null,null,null,null,null,null,null,null,null,null,null,null,null,null,null,null,null,null,null,null,null,null,null,null,null,null,null,null,null,null,null,null,null,null,null,null,null,null,"Informes",1,30,{"$f":"(BD4323=Parametros[Segmento])*(BE4323>0)*(BF4323>0)","v":0}]
[null,null,"Concepto","Valores contables","Valores fiscales",null,null,null,null,null,null,null,null,null,null,null,null,null,null,null,null,null,null,null,null,null,null,null,null,null,null,null,null,null,null,null,null,null,null,null,null,null,null,null,null,null,null,null,null,null,null,null,null,null,null,"Informes",1,30,{"$f":"(BD4324=Parametros[Segmento])*(BE4324>0)*(BF4324>0)","v":0}]
[null,null,{"$f":"+' '!B1550","v":"Materias primas, reventa de bienes terminados y servicios "},{"$f":"+' '!D1601","v":0},{"$f":"+' '!H1601","v":0},null,null,null,null,null,null,null,null,null,null,null,null,null,null,null,null,null,null,null,null,null,null,null,null,null,null,null,null,null,null,null,null,null,null,null,null,null,null,null,null,null,null,null,null,null,null,null,null,null,null,"Informes",1,30,{"$f":"(BD4325=Parametros[Segmento])*(BE4325>0)*(BF4325>0)","v":0}]
[null,null,{"$f":"+' '!B1603","v":"Mano de Obra"},{"$f":"+' '!D1618","v":0},{"$f":"+' '!H1618","v":0},null,null,null,null,null,null,null,null,null,null,null,null,null,null,null,null,null,null,null,null,null,null,null,null,null,null,null,null,null,null,null,null,null,null,null,null,null,null,null,null,null,null,null,null,null,null,null,null,null,null,"Informes",1,30,{"$f":"(BD4326=Parametros[Segmento])*(BE4326>0)*(BF4326>0)","v":0}]
[null,null,{"$f":"+' '!B1620","v":"Depreciaciones, amortizaciones y deterioros"},{"$f":"+' '!D1695","v":0},{"$f":"+' '!H1695","v":0},null,null,null,null,null,null,null,null,null,null,null,null,null,null,null,null,null,null,null,null,null,null,null,null,null,null,null,null,null,null,null,null,null,null,null,null,null,null,null,null,null,null,null,null,null,null,null,null,null,null,"Informes",1,30,{"$f":"(BD4327=Parametros[Segmento])*(BE4327>0)*(BF4327>0)","v":0}]
[null,null,{"$f":"+' '!B1697","v":"Otros costos "},{"$f":"+' '!D1739","v":0},{"$f":"+' '!H1739","v":0},null,null,null,null,null,null,null,null,null,null,null,null,null,null,null,null,null,null,null,null,null,null,null,null,null,null,null,null,null,null,null,null,null,null,null,null,null,null,null,null,null,null,null,null,null,null,null,null,null,null,"Informes",1,30,{"$f":"(BD4328=Parametros[Segmento])*(BE4328>0)*(BF4328>0)","v":0}]
[null,null,{"$f":"+' '!B1741","v":"Costos por venta de activos poseídos por menos de dos años "},{"$f":"+' '!D1768","v":0},{"$f":"+' '!H1768","v":0},null,null,null,null,null,null,null,null,null,null,null,null,null,null,null,null,null,null,null,null,null,null,null,null,null,null,null,null,null,null,null,null,null,null,null,null,null,null,null,null,null,null,null,null,null,null,null,null,null,null,"Informes",1,30,{"$f":"(BD4329=Parametros[Segmento])*(BE4329>0)*(BF4329>0)","v":0}]
[null,null,"Costos rentas pasivas ECE ",{"$f":"+' '!D1399","v":0},{"$f":"+' '!H1399","v":0},null,null,null,null,null,null,null,null,null,null,null,null,null,null,null,null,null,null,null,null,null,null,null,null,null,null,null,null,null,null,null,null,null,null,null,null,null,null,null,null,null,null,null,null,null,null,null,null,null,null,"Informes",1,30,{"$f":"(BD4330=Parametros[Segmento])*(BE4330>0)*(BF4330>0)","v":0}]
[null,null,{"$f":"+' '!B1433","v":"Costos por Ganancias Ocasionales "},{"$f":"+' '!D1460","v":0},{"$f":"+' '!H1460","v":0},null,null,null,null,null,null,null,null,null,null,null,null,null,null,null,null,null,null,null,null,null,null,null,null,null,null,null,null,null,null,null,null,null,null,null,null,null,null,null,null,null,null,null,null,null,null,null,null,null,null,"Informes",1,30,{"$f":"(BD4331=Parametros[Segmento])*(BE4331>0)*(BF4331>0)","v":0}]
[null,null,"Costos en que se incurrió durante el 2024",{"$f":"SUM(D4325:D4331)","v":0},{"$f":"SUM(E4325:E4331)","v":0},null,null,null,null,null,null,null,null,null,null,null,null,null,null,null,null,null,null,null,null,null,null,null,null,null,null,null,null,null,null,null,null,null,null,null,null,null,null,null,null,null,null,null,null,null,null,null,null,null,null,"Informes",1,30,{"$f":"(BD4332=Parametros[Segmento])*(BE4332>0)*(BF4332>0)","v":0}]
[null,null,null,null,null,null,null,null,null,null,null,null,null,null,null,null,null,null,null,null,null,null,null,null,null,null,null,null,null,null,null,null,null,null,null,null,null,null,null,null,null,null,null,null,null,null,null,null,null,null,null,null,null,null,null,"Informes",1,30,{"$f":"(BD4333=Parametros[Segmento])*(BE4333>0)*(BF4333>0)","v":0}]
[null,null,"Gastos",null,null,null,null,null,null,null,null,null,null,null,null,null,null,null,null,null,null,null,null,null,null,null,null,null,null,null,null,null,null,null,null,null,null,null,null,null,null,null,null,null,null,null,null,null,null,null,null,null,null,null,null,"Informes",1,30,{"$f":"(BD4334=Parametros[Segmento])*(BE4334>0)*(BF4334>0)","v":0}]
[null,null,"Concepto","Valores contables","Valores fiscales",null,null,null,null,null,null,null,null,null,null,null,null,null,null,null,null,null,null,null,null,null,null,null,null,null,null,null,null,null,null,null,null,null,null,null,null,null,null,null,null,null,null,null,null,null,null,null,null,null,null,"Informes",1,30,{"$f":"(BD4335=Parametros[Segmento])*(BE4335>0)*(BF4335>0)","v":0}]
[null,null,{"$f":"+' '!B1787","v":"De Administración - Mano de Obra"},{"$f":"+' '!D1802","v":0},{"$f":"+' '!H1802","v":0},null,null,null,null,null,null,null,null,null,null,null,null,null,null,null,null,null,null,null,null,null,null,null,null,null,null,null,null,null,null,null,null,null,null,null,null,null,null,null,null,null,null,null,null,null,null,null,null,null,null,"Informes",1,30,{"$f":"(BD4336=Parametros[Segmento])*(BE4336>0)*(BF4336>0)","v":0}]
[null,null,{"$f":"+' '!B1804","v":"Otros gastos de administración"},{"$f":"+' '!D1867","v":0},{"$f":"+' '!H1867","v":0},null,null,null,null,null,null,null,null,null,null,null,null,null,null,null,null,null,null,null,null,null,null,null,null,null,null,null,null,null,null,null,null,null,null,null,null,null,null,null,null,null,null,null,null,null,null,null,null,null,null,"Informes",1,30,{"$f":"(BD4337=Parametros[Segmento])*(BE4337>0)*(BF4337>0)","v":0}]
[null,null,{"$f":"+' '!B1869","v":"De Administración - Depreciaciones, amortizaciones y deterioros"},{"$f":"+' '!D1944","v":0},{"$f":"+' '!H1944","v":0},null,null,null,null,null,null,null,null,null,null,null,null,null,null,null,null,null,null,null,null,null,null,null,null,null,null,null,null,null,null,null,null,null,null,null,null,null,null,null,null,null,null,null,null,null,null,null,null,null,null,"Informes",1,30,{"$f":"(BD4338=Parametros[Segmento])*(BE4338>0)*(BF4338>0)","v":0}]
[null,null,{"$f":"+' '!B1946","v":"De distribución y venta - Mano de Obra"},{"$f":"+' '!D1961","v":0},{"$f":"+' '!H1961","v":0},null,null,null,null,null,null,null,null,null,null,null,null,null,null,null,null,null,null,null,null,null,null,null,null,null,null,null,null,null,null,null,null,null,null,null,null,null,null,null,null,null,null,null,null,null,null,null,null,null,null,"Informes",1,30,{"$f":"(BD4339=Parametros[Segmento])*(BE4339>0)*(BF4339>0)","v":0}]
[null,null,{"$f":"+' '!B1963","v":"Otros gastos de distribución y ventas"},{"$f":"+' '!D2035","v":0},{"$f":"+' '!H2035","v":0},null,null,null,null,null,null,null,null,null,null,null,null,null,null,null,null,null,null,null,null,null,null,null,null,null,null,null,null,null,null,null,null,null,null,null,null,null,null,null,null,null,null,null,null,null,null,null,null,null,null,"Informes",1,30,{"$f":"(BD4340=Parametros[Segmento])*(BE4340>0)*(BF4340>0)","v":0}]
[null,null,{"$f":"+' '!B2037","v":"De Distribución y Ventas - Depreciaciones, amortizaciones y deterioros"},{"$f":"+' '!D2112","v":0},{"$f":"+' '!H2112","v":0},null,null,null,null,null,null,null,null,null,null,null,null,null,null,null,null,null,null,null,null,null,null,null,null,null,null,null,null,null,null,null,null,null,null,null,null,null,null,null,null,null,null,null,null,null,null,null,null,null,null,"Informes",1,30,{"$f":"(BD4341=Parametros[Segmento])*(BE4341>0)*(BF4341>0)","v":0}]
[null,null,{"$f":"+' '!B2114","v":"Financieros"},{"$f":"+' '!D2152","v":0},{"$f":"+' '!H2152","v":0},null,null,null,null,null,null,null,null,null,null,null,null,null,null,null,null,null,null,null,null,null,null,null,null,null,null,null,null,null,null,null,null,null,null,null,null,null,null,null,null,null,null,null,null,null,null,null,null,null,null,"Informes",1,30,{"$f":"(BD4342=Parametros[Segmento])*(BE4342>0)*(BF4342>0)","v":0}]
[null,null,{"$f":"+' '!B2154","v":"Provisiones, otros gastos y pérdidas "},{"$f":"+' '!D2247","v":0},{"$f":"+' '!H2247","v":0},null,null,null,null,null,null,null,null,null,null,null,null,null,null,null,null,null,null,null,null,null,null,null,null,null,null,null,null,null,null,null,null,null,null,null,null,null,null,null,null,null,null,null,null,null,null,null,null,null,null,"Informes",1,30,{"$f":"(BD4343=Parametros[Segmento])*(BE4343>0)*(BF4343>0)","v":0}]
[null,null,"Gastos en que se incurrió durante el 2024",{"$f":"SUM(D4336:D4343)","v":0},{"$f":"SUM(E4336:E4343)","v":0},null,null,null,null,null,null,null,null,null,null,null,null,null,null,null,null,null,null,null,null,null,null,null,null,null,null,null,null,null,null,null,null,null,null,null,null,null,null,null,null,null,null,null,null,null,null,null,null,null,null,"Informes",1,30,{"$f":"(BD4344=Parametros[Segmento])*(BE4344>0)*(BF4344>0)","v":0}]
[null,null,null,null,null,null,null,null,null,null,null,null,null,null,null,null,null,null,null,null,null,null,null,null,null,null,null,null,null,null,null,null,null,null,null,null,null,null,null,null,null,null,null,null,null,null,null,null,null,null,null,null,null,null,null,"Informes",1,30,{"$f":"(BD4345=Parametros[Segmento])*(BE4345>0)*(BF4345>0)","v":0}]
[null,null,"INCRNGO, rentas exentas y descuentos tributarios",null,null,null,null,null,null,null,null,null,null,null,null,null,null,null,null,null,null,null,null,null,null,null,null,null,null,null,null,null,null,null,null,null,null,null,null,null,null,null,null,null,null,null,null,null,null,null,null,null,null,null,null,"Informes",1,30,{"$f":"(BD4346=Parametros[Segmento])*(BE4346>0)*(BF4346>0)","v":0}]
[null,null,"Concepto","Valores ",null,null,null,null,null,null,null,null,null,null,null,null,null,null,null,null,null,null,null,null,null,null,null,null,null,null,null,null,null,null,null,null,null,null,null,null,null,null,null,null,null,null,null,null,null,null,null,null,null,null,null,"Informes",1,30,{"$f":"(BD4347=Parametros[Segmento])*(BE4347>0)*(BF4347>0)","v":0}]
[null,null,{"$f":"+' '!B1072","v":"Ingresos no constitutivos de renta ni ganancia ocasional "},{"$f":"+Resumen!G34+Resumen!G61","v":0},null,null,null,null,null,null,null,null,null,null,null,null,null,null,null,null,null,null,null,null,null,null,null,null,null,null,null,null,null,null,null,null,null,null,null,null,null,null,null,null,null,null,null,null,null,null,null,null,null,null,null,"Informes",1,30,{"$f":"(BD4348=Parametros[Segmento])*(BE4348>0)*(BF4348>0)","v":0}]
[null,null,"Rentas exentas ",{"$f":"+Resumen!G54","v":0},null,null,null,null,null,null,null,null,null,null,null,null,null,null,null,null,null,null,null,null,null,null,null,null,null,null,null,null,null,null,null,null,null,null,null,null,null,null,null,null,null,null,null,null,null,null,null,null,null,null,null,"Informes",1,30,{"$f":"(BD4349=Parametros[Segmento])*(BE4349>0)*(BF4349>0)","v":0}]
[null,null,"Descuentos tributarios",{"$f":"IF(Renta_por_comparacion_patrimonial>0,Resumen!I74,Resumen!G74)+Resumen!G79","v":0},null,null,null,null,null,null,null,null,null,null,null,null,null,null,null,null,null,null,null,null,null,null,null,null,null,null,null,null,null,null,null,null,null,null,null,null,null,null,null,null,null,null,null,null,null,null,null,null,null,null,null,"Informes",1,30,{"$f":"(BD4350=Parametros[Segmento])*(BE4350>0)*(BF4350>0)","v":0}]
[null,null,"Total INCRNGO",{"$f":"SUM(D4348:D4350)","v":0},null,null,null,null,null,null,null,null,null,null,null,null,null,null,null,null,null,null,null,null,null,null,null,null,null,null,null,null,null,null,null,null,null,null,null,null,null,null,null,null,null,null,null,null,null,null,null,null,null,null,null,"Informes",1,30,{"$f":"(BD4351=Parametros[Segmento])*(BE4351>0)*(BF4351>0)","v":0}]
[null,null,null,null,null,null,null,null,null,null,null,null,null,null,null,null,null,null,null,null,null,null,null,null,null,null,null,null,null,null,null,null,null,null,null,null,null,null,null,null,null,null,null,null,null,null,null,null,null,null,null,null,null,null,null,"Informes",1,30,{"$f":"(BD4352=Parametros[Segmento])*(BE4352>0)*(BF4352>0)","v":0}]
[null,null,"Rentas líquidas gravables",null,null,null,null,null,null,null,null,null,null,null,null,null,null,null,null,null,null,null,null,null,null,null,null,null,null,null,null,null,null,null,null,null,null,null,null,null,null,null,null,null,null,null,null,null,null,null,null,null,null,null,null,"Informes",1,30,{"$f":"(BD4353=Parametros[Segmento])*(BE4353>0)*(BF4353>0)","v":0}]
[null,null,"Concepto","Valores ",null,null,null,null,null,null,null,null,null,null,null,null,null,null,null,null,null,null,null,null,null,null,null,null,null,null,null,null,null,null,null,null,null,null,null,null,null,null,null,null,null,null,null,null,null,null,null,null,null,null,null,"Informes",1,30,{"$f":"(BD4354=Parametros[Segmento])*(BE4354>0)*(BF4354>0)","v":0}]
[null,null,{"$f":"+Resumen!D47","v":"Renta por recuperación de deducciones "},{"$f":"+' '!H2307","v":0},null,null,null,null,null,null,null,null,null,null,null,null,null,null,null,null,null,null,null,null,null,null,null,null,null,null,null,null,null,null,null,null,null,null,null,null,null,null,null,null,null,null,null,null,null,null,null,null,null,null,null,"Informes",1,30,{"$f":"(BD4355=Parametros[Segmento])*(BE4355>0)*(BF4355>0)","v":0}]
[null,null,"Renta por comparación patrimonial",{"$f":"+Renta_por_comparacion_patrimonial","v":0},null,null,null,null,null,null,null,null,null,null,null,null,null,null,null,null,null,null,null,null,null,null,null,null,null,null,null,null,null,null,null,null,null,null,null,null,null,null,null,null,null,null,null,null,null,null,null,null,null,null,null,"Informes",1,30,{"$f":"(BD4356=Parametros[Segmento])*(BE4356>0)*(BF4356>0)","v":0}]
[null,null,"Otras rentas líquidas gravables",{"$f":"+' '!D2327+' '!D2347","v":0},null,null,null,null,null,null,null,null,null,null,null,null,null,null,null,null,null,null,null,null,null,null,null,null,null,null,null,null,null,null,null,null,null,null,null,null,null,null,null,null,null,null,null,null,null,null,null,null,null,null,null,"Informes",1,30,{"$f":"(BD4357=Parametros[Segmento])*(BE4357>0)*(BF4357>0)","v":0}]
[null,null,"Total rentas líquidas gravables",{"$f":"SUM(D4355:D4357)","v":0},null,null,null,null,null,null,null,null,null,null,null,null,null,null,null,null,null,null,null,null,null,null,null,null,null,null,null,null,null,null,null,null,null,null,null,null,null,null,null,null,null,null,null,null,null,null,null,null,null,null,null,"Informes",1,30,{"$f":"(BD4358=Parametros[Segmento])*(BE4358>0)*(BF4358>0)","v":0}]
[null,null,null,null,null,null,null,null,null,null,null,null,null,null,null,null,null,null,null,null,null,null,null,null,null,null,null,null,null,null,null,null,null,null,null,null,null,null,null,null,null,null,null,null,null,null,null,null,null,null,null,null,null,null,null,"Informes",1,30,{"$f":"(BD4359=Parametros[Segmento])*(BE4359>0)*(BF4359>0)","v":0}]
[null,null,"Retenciones en la fuente y Tasas ",null,null,null,null,null,null,null,null,null,null,null,null,null,null,null,null,null,null,null,null,null,null,null,null,null,null,null,null,null,null,null,null,null,null,null,null,null,null,null,null,null,null,null,null,null,null,null,null,null,null,null,null,"Informes",1,30,{"$f":"(BD4360=Parametros[Segmento])*(BE4360>0)*(BF4360>0)","v":0}]
[null,null,null,"Valores",null,null,null,null,null,null,null,null,null,null,null,null,null,null,null,null,null,null,null,null,null,null,null,null,null,null,null,null,null,null,null,null,null,null,null,null,null,null,null,null,null,null,null,null,null,null,null,null,null,null,null,"Informes",1,30,{"$f":"(BD4361=Parametros[Segmento])*(BE4361>0)*(BF4361>0)","v":0}]
[null,null,"Retenciones en la fuente ",{"$f":"+Resumen!G88","v":0},null,null,null,null,null,null,null,null,null,null,null,null,null,null,null,null,null,null,null,null,null,null,null,null,null,null,null,null,null,null,null,null,null,null,null,null,null,null,null,null,null,null,null,null,null,null,null,null,null,null,null,"Informes",1,30,{"$f":"(BD4362=Parametros[Segmento])*(BE4362>0)*(BF4362>0)","v":0}]
[null,null,"Autorretenciones ",{"$f":"+Resumen!G87","v":0},null,null,null,null,null,null,null,null,null,null,null,null,null,null,null,null,null,null,null,null,null,null,null,null,null,null,null,null,null,null,null,null,null,null,null,null,null,null,null,null,null,null,null,null,null,null,null,null,null,null,null,"Informes",1,30,{"$f":"(BD4363=Parametros[Segmento])*(BE4363>0)*(BF4363>0)","v":0}]
[null,null,{"$f":"+Resumen!C90","v":"Anticipo renta para el año gravable siguiente "},{"$f":"IF(Renta_por_comparacion_patrimonial>0,Resumen!I90,Resumen!H90)","v":0},null,null,null,null,null,null,null,null,null,null,null,null,null,null,null,null,null,null,null,null,null,null,null,null,null,null,null,null,null,null,null,null,null,null,null,null,null,null,null,null,null,null,null,null,null,null,null,null,null,null,null,"Informes",1,30,{"$f":"(BD4364=Parametros[Segmento])*(BE4364>0)*(BF4364>0)","v":0}]
[null,null,{"$f":"Resumen!D66","v":"Sobretasa (puntos adicionales a la tarifa del impuesto de renta)"},{"$f":"IF(Renta_por_comparacion_patrimonial>0,Resumen!I66,Resumen!G66)","v":0},null,null,null,null,null,null,null,null,null,null,null,null,null,null,null,null,null,null,null,null,null,null,null,null,null,null,null,null,null,null,null,null,null,null,null,null,null,null,null,null,null,null,null,null,null,null,null,null,null,null,null,"Informes",1,30,{"$f":"(BD4365=Parametros[Segmento])*(BE4365>0)*(BF4365>0)","v":0}]
[null,null,{"$f":"Resumen!C92","v":"Anticipo puntos adicionales año gravable siguiente"},{"$f":"IF(Renta_por_comparacion_patrimonial>0,Resumen!I92,Resumen!G92)","v":0},null,null,null,null,null,null,null,null,null,null,null,null,null,null,null,null,null,null,null,null,null,null,null,null,null,null,null,null,null,null,null,null,null,null,null,null,null,null,null,null,null,null,null,null,null,null,null,null,null,null,null,"Informes",1,30,{"$f":"(BD4366=Parametros[Segmento])*(BE4366>0)*(BF4366>0)","v":0}]
[null,null,"Valor a adicionar ",{"$f":"+Resumen!H73","v":0},null,null,null,null,null,null,null,null,null,null,null,null,null,null,null,null,null,null,null,null,null,null,null,null,null,null,null,null,null,null,null,null,null,null,null,null,null,null,null,null,null,null,null,null,null,null,null,null,null,null,null,"Informes",1,30,{"$f":"(BD4367=Parametros[Segmento])*(BE4367>0)*(BF4367>0)","v":0}]
[null,null,"Impuesto a adicionar ",{"$f":"+Resumen!H76","v":0},null,null,null,null,null,null,null,null,null,null,null,null,null,null,null,null,null,null,null,null,null,null,null,null,null,null,null,null,null,null,null,null,null,null,null,null,null,null,null,null,null,null,null,null,null,null,null,null,null,null,null,"Informes",1,30,{"$f":"(BD4368=Parametros[Segmento])*(BE4368>0)*(BF4368>0)","v":0}]
[null,null,{"$f":"+Resumen!C95","v":"Total saldo a pagar "},{"$f":"+' '!AU2954+' '!AU2955","v":0},null,null,null,null,null,null,null,null,null,null,null,null,null,null,null,null,null,null,null,null,null,null,null,null,null,null,null,null,null,null,null,null,null,null,null,null,null,null,null,null,null,null,null,null,null,null,null,null,null,null,null,"Informes",1,30,{"$f":"(BD4369=Parametros[Segmento])*(BE4369>0)*(BF4369>0)","v":0}]
[null,null,{"$f":"+Resumen!C96","v":"Total saldo a favor "},{"$f":"IF(Renta_por_comparacion_patrimonial>0,Resumen!I96,Resumen!H96)","v":0},null,null,null,null,null,null,null,null,null,null,null,null,null,null,null,null,null,null,null,null,null,null,null,null,null,null,null,null,null,null,null,null,null,null,null,null,null,null,null,null,null,null,null,null,null,null,null,null,null,null,null,"Informes",1,30,{"$f":"(BD4370=Parametros[Segmento])*(BE4370>0)*(BF4370>0)","v":0}]
[4.5599999999999996,129.66999999999999,19.22,4,null,null,null,null,null,null,null,null,null,null,null,null,null,null,null,null,null,null,null,null,null,null,null,null,null,null,null,null,null,null,null,null,null,null,null,null,null,null,null,null,null,null,null,null,null,null,null,null,null,null,null,"Beneficios de Auditoría",0,15,{"$f":"(BD4371=Parametros[Segmento])*(BE4371>0)*(BF4371>0)","v":0}]
[null,null,null,null,null,null,null,null,null,null,null,null,null,null,null,null,null,null,null,null,null,null,null,null,null,null,null,null,null,null,null,null,null,null,null,null,null,null,null,null,null,null,null,null,null,null,null,null,null,null,null,null,null,null,null,"Beneficios de Auditoría",1,30,{"$f":"(BD4372=Parametros[Segmento])*(BE4372>0)*(BF4372>0)","v":0}]
[null,"Aplicación del Beneficio de Auditoría",null,null,null,null,null,null,null,null,null,null,null,null,null,null,null,null,null,null,null,null,null,null,null,null,null,null,null,null,null,null,null,null,null,null,null,null,null,null,null,null,null,null,null,null,null,null,null,null,null,null,null,null,null,"Beneficios de Auditoría",1,30,{"$f":"(BD4373=Parametros[Segmento])*(BE4373>0)*(BF4373>0)","v":0}]
[null,null,null,null,null,null,null,null,null,null,null,null,null,null,null,null,null,null,null,null,null,null,null,null,null,null,null,null,null,null,null,null,null,null,null,null,null,null,null,null,null,null,null,null,null,null,null,null,null,null,null,null,null,null,null,"Beneficios de Auditoría",1,30,{"$f":"(BD4374=Parametros[Segmento])*(BE4374>0)*(BF4374>0)","v":0}]
[null,"Descripción",null,null,null,null,null,null,null,null,null,null,null,null,null,null,null,null,null,null,null,null,null,null,null,null,null,null,null,null,null,null,null,null,null,null,null,null,null,null,null,null,null,null,null,null,null,null,null,null,null,null,null,null,null,"Beneficios de Auditoría",1,30,{"$f":"(BD4375=Parametros[Segmento])*(BE4375>0)*(BF4375>0)","v":0}]
[null,"Impuesto neto de renta año gravable 2024",{"$f":"+Resumen!G75","v":0},null,null,null,null,null,null,null,null,null,null,null,null,null,null,null,null,null,null,null,null,null,null,null,null,null,null,null,null,null,null,null,null,null,null,null,null,null,null,null,null,null,null,null,null,null,null,null,null,null,null,null,null,"Beneficios de Auditoría",1,30,{"$f":"(BD4376=Parametros[Segmento])*(BE4376>0)*(BF4376>0)","v":0}]
[null,"Impuesto neto de renta año gravable 2023",{"$f":"+' '!D254","v":0},null,null,null,null,null,null,null,null,null,null,null,null,null,null,null,null,null,null,null,null,null,null,null,null,null,null,null,null,null,null,null,null,null,null,null,null,null,null,null,null,null,null,null,null,null,null,null,null,null,null,null,null,"Beneficios de Auditoría",1,30,{"$f":"(BD4377=Parametros[Segmento])*(BE4377>0)*(BF4377>0)","v":0}]
[null,"Requisitos",null,null,null,null,null,null,null,null,null,null,null,null,null,null,null,null,null,null,null,null,null,null,null,null,null,null,null,null,null,null,null,null,null,null,null,null,null,null,null,null,null,null,null,null,null,null,null,null,null,null,null,null,null,"Beneficios de Auditoría",1,30,{"$f":"(BD4378=Parametros[Segmento])*(BE4378>0)*(BF4378>0)","v":0}]
[null,"Incremento del impuesto neto de renta del año gravable 2024 con respecto al impuesto neto de renta del año gravable 2023",{"$f":"IFERROR(((C4376-C4377)/C4377),\"\")","v":""},null,null,null,null,null,null,null,null,null,null,null,null,null,null,null,null,null,null,null,null,null,null,null,null,null,null,null,null,null,null,null,null,null,null,null,null,null,null,null,null,null,null,null,null,null,null,null,null,null,null,null,null,"Beneficios de Auditoría",1,30,{"$f":"(BD4379=Parametros[Segmento])*(BE4379>0)*(BF4379>0)","v":0}]
[null,"¿El impuesto neto de renta del año gravable 2023 es igual o superior al equivalente de 71 UVT?",{"$f":"+IF(C4377>=(71*' '!D169),\"Sí\",\"No\")","v":"No"},null,null,null,null,null,null,null,null,null,null,null,null,null,null,null,null,null,null,null,null,null,null,null,null,null,null,null,null,null,null,null,null,null,null,null,null,null,null,null,null,null,null,null,null,null,null,null,null,null,null,null,null,"Beneficios de Auditoría",1,30,{"$f":"(BD4380=Parametros[Segmento])*(BE4380>0)*(BF4380>0)","v":0}]
[null,"¿La declaración de renta del año gravable 2024 se presentó de forma oportuna, es decir, dentro del plazo establecido en la norma?",null,null,null,null,null,null,null,null,null,null,null,null,null,null,null,null,null,null,null,null,null,null,null,null,null,null,null,null,null,null,null,null,null,null,null,null,null,null,null,null,null,null,null,null,null,null,null,null,null,null,null,null,null,"Beneficios de Auditoría",1,30,{"$f":"(BD4381=Parametros[Segmento])*(BE4381>0)*(BF4381>0)","v":0}]
[null,"¿El impuesto de renta del año gravable 2024 se pagó de forma oportuna, es decir, dentro de los plazos establecidos en la norma?",null,null,null,null,null,null,null,null,null,null,null,null,null,null,null,null,null,null,null,null,null,null,null,null,null,null,null,null,null,null,null,null,null,null,null,null,null,null,null,null,null,null,null,null,null,null,null,null,null,null,null,null,null,"Beneficios de Auditoría",1,30,{"$f":"(BD4382=Parametros[Segmento])*(BE4382>0)*(BF4382>0)","v":0}]
[null,"Firmeza",null,null,null,null,null,null,null,null,null,null,null,null,null,null,null,null,null,null,null,null,null,null,null,null,null,null,null,null,null,null,null,null,null,null,null,null,null,null,null,null,null,null,null,null,null,null,null,null,null,null,null,null,null,"Beneficios de Auditoría",1,30,{"$f":"(BD4383=Parametros[Segmento])*(BE4383>0)*(BF4383>0)","v":0}]
[null,"¿La declaración de renta del año gravable del 2024 puede quedar en firme dentro de los 6 meses siguientes a su presentación?",{"$f":"+IF(AND(C4380=\"Sí\",C4381=\"Sí\",C4382=\"Sí\"),IF((C4379>=35%),\"Sí\",\"No\"),\"No\")","v":"No"},null,null,null,null,null,null,null,null,null,null,null,null,null,null,null,null,null,null,null,null,null,null,null,null,null,null,null,null,null,null,null,null,null,null,null,null,null,null,null,null,null,null,null,null,null,null,null,null,null,null,null,null,"Beneficios de Auditoría",1,30,{"$f":"(BD4384=Parametros[Segmento])*(BE4384>0)*(BF4384>0)","v":0}]
[null,"¿La declaración de renta del año gravable del 2024 puede quedar en firme dentro de los 12 meses siguientes a su presentación?",{"$f":"+IF(AND(C4380=\"Sí\",C4381=\"Sí\",C4382=\"Sí\"),IF(AND(C4379>=25%,C4379<30%),\"Sí\",\"No\"),\"No\")","v":"No"},null,null,null,null,null,null,null,null,null,null,null,null,null,null,null,null,null,null,null,null,null,null,null,null,null,null,null,null,null,null,null,null,null,null,null,null,null,null,null,null,null,null,null,null,null,null,null,null,null,null,null,null,"Beneficios de Auditoría",1,30,{"$f":"(BD4385=Parametros[Segmento])*(BE4385>0)*(BF4385>0)","v":0}]
[null,{"$f":"+IF(OR(C4384=\"Sí\",C4385=\"Sí\"),\"SI Aplica Beneficio de Auditoría\",\"NO Aplica Beneficio de Auditoría\")","v":"NO Aplica Beneficio de Auditoría"},null,null,null,null,null,null,null,null,null,null,null,null,null,null,null,null,null,null,null,null,null,null,null,null,null,null,null,null,null,null,null,null,null,null,null,null,null,null,null,null,null,null,null,null,null,null,null,null,null,null,null,null,null,"Beneficios de Auditoría",1,30,{"$f":"(BD4386=Parametros[Segmento])*(BE4386>0)*(BF4386>0)","v":0}]